{"text_format":"3","workbook":"xlsx","n_sheets":18,"sheets":["Results","Instructions","Round Draws","Armees","Module1","Module2","Module3","Module4","Module5","Round 1","Round 2","Round 3","Round 4","Round 5","Round 6","Round 7","Round 8","Sheet1"],"not_rendered":{"images":8,"macros":1,"defined_names":8},"unopened":[{"sheet":"Module1","index":4,"reason":"part_missing"},{"sheet":"Module2","index":5,"reason":"part_missing"},{"sheet":"Module3","index":6,"reason":"part_missing"},{"sheet":"Module4","index":7,"reason":"part_missing"},{"sheet":"Module5","index":8,"reason":"part_missing"}],"read":"whole","date_system":"1900"}

{"sheet":"Results","index":0,"n_rows":117,"n_cols":68,"rows_kept":117,"merged":[[1,64,1,67],[2,1,2,2],[2,4,2,5],[3,1,3,2],[3,4,3,5]]}
["V2.1",null,null,"L'Art de la Guerre - Result Sheet"]
[{"$nulls":64},"Umpire Zone"]
["Tournament",null,null,"Date",null,null,"# Players (8 - 52)"]
["Theme","Open Theme",null,"Country","UK",null,"# Rounds (3 - 8)"]
[]
[{"$nulls":11},"Rnd 1",{"$nulls":6},"Rnd 2",{"$nulls":6},"Rnd 3",{"$nulls":6},"Rnd 4",{"$nulls":6},"Rnd 5",{"$nulls":6},"Rnd 6",{"$nulls":6},"Rnd 7",{"$nulls":6},"Rnd 8",{"$nulls":3},"Team Total","Opponents","Ex-Aequo","Ajustment"]
["ID","Player/team","Name","Club","Points","N°","Army","Units","ID ","Adversaire",null,"Result",null,"Losses","Points","ID ","Adversaire",null,"Result",null,"Losses","Points","ID ","Adversaire",null,"Result",null,"Losses","Points","ID ","Adversaire",null,"Result",null,"Losses","Points","ID ","Adversaire",null,"Result",null,"Losses","Points","ID ","Adversaire",null,"Result",null,"Losses","Points","ID ","Adversaire",null,"Result",null,"Losses","Points","ID ","Adversaire",null,"Result",null,"Losses","Points","Points","Scores",null,"Points"]
[1,"Team 1 A",null,null,{"$f":"O8+V8+AC8+AJ8+AQ8+BP8+AX8+BE8+BL8","v":0},null,{"$f":"IF($F8<>\"\",VLOOKUP(F8,Armees!$A$1:$B$283,2,FALSE),\"\")","v":""},null,null,{"$f":"IF(I8<>\"\",VLOOKUP(I8,$A$8:$C$48,2,FALSE),\"\")","v":""},{"$f":"IF(I8<>\"\",IF(I8=$A8,\"ERR\",IF(OR(I8=$P8,I8=$W8,I8=$AD8,I8=$AK8,I8=$AR8,I8=$AY8,I8=$BF8),\"DUP\",IF(ISNA(VLOOKUP(I8,$A$8:$A$60,1,FALSE)),\"ERR\",IF(COUNTIF($I$8:$I$60,I8)>1,\"ERR\",IF($D8=VLOOKUP(I8,$A$8:$D$60,4,FALSE),\"CLUB\",\"OK\"))))),\"\")","v":""},null,{"$f":"IF(L8<>\"\",IF(L8=\"Victoire\",IF(VLOOKUP(I8,$A$8:$L$60,12,FALSE)=\"Défaite\",\"OK\",\"ERR\"),IF(L8=\"Défaite\",IF(VLOOKUP(I8,$A$8:$L$60,12,FALSE)=\"Victoire\",\"OK\",\"ERR\"),IF(L8=\"Nul\",IF(VLOOKUP(I8,$A$8:$L$60,12,FALSE)=\"Nul\",\"OK\",\"ERR\")))),\"\")","v":""},null,{"$f":"IF(L8=\"Victoire\",100-ROUNDDOWN(20*N8/$H8,0),\nIF(L8=\"Défaite\",10+ROUNDDOWN(20*VLOOKUP(I8,$A$8:$N$48,14,FALSE)/VLOOKUP(I8,$A$8:$H$48,8,FALSE),0),\nIF(AND(L8=\"Nul\",$N8<>$H8),40+(2*ROUNDDOWN(10*VLOOKUP(I8,$A$8:$N$48,14,FALSE)/VLOOKUP(I8,$A$8:$H$48,8,FALSE),0)-ROUNDDOWN(10*N8/$H8,0)),IF(AND(L8=\"Nul\",$N8=$H8),58,0))))","v":0},null,{"$f":"IF(P8<>\"\",VLOOKUP(P8,$A$8:$C$48,2,FALSE),\"\")","v":""},{"$f":"IF(P8<>\"\",IF(P8=$A8,\"ERR\",IF(OR(P8=$I8,P8=$W8,P8=$AD8,P8=$AK8,P8=$AR8,P8=$AY8,P8=$BF8),\"DUP\",IF(ISNA(VLOOKUP(P8,$A$8:$A$60,1,FALSE)),\"ERR\",IF(COUNTIF($I$8:$I$60,P8)>1,\"ERR\",IF($D8=VLOOKUP(P8,$A$8:$D$60,4,FALSE),\"CLUB\",\"OK\"))))),\"\")","v":""},null,{"$f":"IF(S8<>\"\",IF(S8=\"Victoire\",IF(VLOOKUP(P8,$A$8:$L$60,12,FALSE)=\"Défaite\",\"OK\",\"ERR\"),IF(S8=\"Défaite\",IF(VLOOKUP(P8,$A$8:$L$60,12,FALSE)=\"Victoire\",\"OK\",\"ERR\"),IF(S8=\"Nul\",IF(VLOOKUP(P8,$A$8:$L$60,12,FALSE)=\"Nul\",\"OK\",\"ERR\")))),\"\")","v":""},null,{"$f":"IF(S8=\"Victoire\",100-ROUNDDOWN(20*U8/$H8,0),\nIF(S8=\"Défaite\",10+ROUNDDOWN(20*VLOOKUP(P8,$A$8:$AO$48,21,FALSE)/VLOOKUP(P8,$A$8:$H$48,8,FALSE),0),\nIF(AND(S8=\"Nul\",$U8<>$H8),40+(2*ROUNDDOWN(10*VLOOKUP(P8,$A$8:$AO$48,21,FALSE)/VLOOKUP(P8,$A$8:$H$48,8,FALSE),0)-ROUNDDOWN(10*U8/$H8,0)),IF(AND(S8=\"Nul\",$U8=$H8),58,0))))","v":0},null,{"$f":"IF(W8<>\"\",VLOOKUP(W8,$A$8:$C$48,2,FALSE),\"\")","v":""},{"$f":"IF(W8<>\"\",IF(W8=$A8,\"ERR\",IF(OR(W8=$P8,W8=$I8,W8=$AD8,W8=$AK8,W8=$AR8,W8=$AY8,W8=$BF8),\"DUP\",IF(ISNA(VLOOKUP(W8,$A$8:$A$60,1,FALSE)),\"ERR\",IF(COUNTIF($I$8:$I$60,W8)>1,\"ERR\",IF($D8=VLOOKUP(W8,$A$8:$D$60,4,FALSE),\"CLUB\",\"OK\"))))),\"\")","v":""},null,{"$f":"IF(Z8<>\"\",IF(Z8=\"Victoire\",IF(VLOOKUP(W8,$A$8:$L$60,12,FALSE)=\"Défaite\",\"OK\",\"ERR\"),IF(Z8=\"Défaite\",IF(VLOOKUP(W8,$A$8:$L$60,12,FALSE)=\"Victoire\",\"OK\",\"ERR\"),IF(Z8=\"Nul\",IF(VLOOKUP(W8,$A$8:$L$60,12,FALSE)=\"Nul\",\"OK\",\"ERR\")))),\"\")","v":""},null,{"$f":"IF(Z8=\"Victoire\",100-ROUNDDOWN(20*AB8/$H8,0),\nIF(Z8=\"Défaite\",10+ROUNDDOWN(20*VLOOKUP(W8,$A$8:$AO$48,28,FALSE)/VLOOKUP(W8,$A$8:$H$48,8,FALSE),0),\nIF(AND(Z8=\"Nul\",$AB8<>$H8),40+(2*ROUNDDOWN(10*VLOOKUP(W8,$A$8:$AO$48,28,FALSE)/VLOOKUP(W8,$A$8:$H$48,8,FALSE),0)-ROUNDDOWN(10*AB8/$H8,0)),IF(AND(Z8=\"Nul\",$AB8=$H8),58,0))))","v":0},null,{"$f":"IF(AD8<>\"\",VLOOKUP(AD8,$A$8:$C$48,2,FALSE),\"\")","v":""},{"$f":"IF(AD8<>\"\",IF(AD8=$A8,\"ERR\",IF(OR(AD8=$P8,AD8=$W8,AD8=$I8,AD8=$AK8, AD8=$AR8,AD8=$AY8,AD8=$BF8),\"DUP\",IF(ISNA(VLOOKUP(AD8,$A$8:$A$60,1,FALSE)),\"ERR\",IF(COUNTIF($I$8:$I$60,AD8)>1,\"ERR\",IF($D8=VLOOKUP(AD8,$A$8:$D$60,4,FALSE),\"CLUB\",\"OK\"))))),\"\")","v":""},null,{"$f":"IF(AG8<>\"\",IF(AG8=\"Victoire\",IF(VLOOKUP(AD8,$A$8:$L$60,12,FALSE)=\"Défaite\",\"OK\",\"ERR\"),IF(AG8=\"Défaite\",IF(VLOOKUP(AD8,$A$8:$L$60,12,FALSE)=\"Victoire\",\"OK\",\"ERR\"),IF(AG8=\"Nul\",IF(VLOOKUP(AD8,$A$8:$L$60,12,FALSE)=\"Nul\",\"OK\",\"ERR\")))),\"\")","v":""},null,{"$f":"IF(AG8=\"Victoire\",100-ROUNDDOWN(20*AI8/$H8,0),\nIF(AG8=\"Défaite\",10+ROUNDDOWN(20*VLOOKUP(AD8,$A$8:$AO$48,35,FALSE)/VLOOKUP(AD8,$A$8:$H$48,8,FALSE),0),\nIF(AND(AG8=\"Nul\",$AI8<>$H8),40+(2*ROUNDDOWN(10*VLOOKUP(AD8,$A$8:$AO$48,35,FALSE)/VLOOKUP(AD8,$A$8:$H$48,8,FALSE),0)-ROUNDDOWN(10*AI8/$H8,0)),IF(AND(AG8=\"Nul\",$AI8=$H8),58,0))))","v":0},null,{"$f":"IF(AK8<>\"\",VLOOKUP(AK8,$A$8:$C$48,2,FALSE),\"\")","v":""},{"$f":"IF(AK8<>\"\",IF(AK8=$A8,\"ERR\",IF(OR(AK8=$P8,AK8=$W8,AK8=$AD8,AK8=$I8, AK8=$AR8,AK8=$AY8,AK8=$BF8),\"DUP\",IF(ISNA(VLOOKUP(AK8,$A$8:$A$48,1,FALSE)),\"ERR\",IF(COUNTIF($I$8:$I$48,AK8)>1,\"ERR\",IF($D8=VLOOKUP(AK8,$A$8:$D$48,4,FALSE),\"CLUB\",\"OK\"))))),\"\")","v":""},null,{"$f":"IF(AN8<>\"\",IF(AN8=\"Victoire\",IF(VLOOKUP(AK8,$A$8:$BL$60,40,FALSE)=\"Défaite\",\"OK\",\"ERR\"),IF(AN8=\"Défaite\",IF(VLOOKUP(AK8,$A$8:$BL$60,40,FALSE)=\"Victoire\",\"OK\",\"ERR\"),IF(AN8=\"Nul\",IF(VLOOKUP(AK8,$A$8:$BL$60,40,FALSE)=\"Nul\",\"OK\",\"ERR\")))),\"\")","v":""},null,{"$f":"IF(AN8=\"Victoire\",100-ROUNDDOWN(20*AP8/$H8,0),\nIF(AN8=\"Défaite\",10+ROUNDDOWN(20*VLOOKUP(AK8,$A$8:$BU$48,42,FALSE)/VLOOKUP(AK8,$A$8:$H$48,8,FALSE),0),\nIF(AND(AN8=\"Nul\",$AP8<>$H8),40+(2*ROUNDDOWN(10*VLOOKUP(AK8,$A$8:$BU$48,42,FALSE)/VLOOKUP(AK8,$A$8:$H$48,8,FALSE),0)-ROUNDDOWN(10*AP8/$H8,0)),IF(AND(AN8=\"Nul\",$AP8=$H8),58,0))))","v":0},null,{"$f":"IF(AR8<>\"\",VLOOKUP(AR8,$A$8:$C$48,2,FALSE),\"\")","v":""},{"$f":"IF(AR8<>\"\",IF(AR8=$A8,\"ERR\",IF(OR(AR8=$P8,AR8=$W8,AR8=$AD8,AR8=$AK8,AR8=$AY8,AR8=$BF8),\"DUP\",IF(ISNA(VLOOKUP(AR8,$A$8:$A$48,1,FALSE)),\"ERR\",IF(COUNTIF($I$8:$I$48,AR8)>1,\"ERR\",IF($D8=VLOOKUP(AR8,$A$8:$D$48,4,FALSE),\"CLUB\",\"OK\"))))),\"\")","v":""},null,{"$f":"IF(AU8<>\"\",IF(AU8=\"Victoire\",IF(VLOOKUP(AR8,$A$8:$BL$60,47,FALSE)=\"Défaite\",\"OK\",\"ERR\"),IF(AU8=\"Défaite\",IF(VLOOKUP(AR8,$A$8:$BL$60,47,FALSE)=\"Victoire\",\"OK\",\"ERR\"),IF(AU8=\"Nul\",IF(VLOOKUP(AR8,$A$8:$BL$60,47,FALSE)=\"Nul\",\"OK\",\"ERR\")))),\"\")","v":""},null,{"$f":"IF(AU8=\"Victoire\",100-ROUNDDOWN(20*AW8/$H8,0),\nIF(AU8=\"Défaite\",10+ROUNDDOWN(20*VLOOKUP(AR8,$A$8:$BU$48,42,FALSE)/VLOOKUP(AR8,$A$8:$H$48,8,FALSE),0),\nIF(AND(AU8=\"Nul\",$AP8<>$H8),40+(2*ROUNDDOWN(10*VLOOKUP(AR8,$A$8:$BU$48,42,FALSE)/VLOOKUP(AR8,$A$8:$H$48,8,FALSE),0)-ROUNDDOWN(10*AW8/$H8,0)),IF(AND(AU8=\"Nul\",$AP8=$H8),58,0))))","v":0},null,{"$f":"IF(AY8<>\"\",VLOOKUP(AY8,$A$8:$C$48,2,FALSE),\"\")","v":""},{"$f":"IF(AY8<>\"\",IF(AY8=$A8,\"ERR\",IF(OR(AY8=$P8,AY8=$W8,AY8=$AD8,AY8=$AK8,AY8=$AR8,AY8=$BG8,AY8=$BF8),\"DUP\",IF(ISNA(VLOOKUP(AY8,$A$8:$A$48,1,FALSE)),\"ERR\",IF(COUNTIF($I$8:$I$48,AY8)>1,\"ERR\",IF($D8=VLOOKUP(AY8,$A$8:$D$48,4,FALSE),\"CLUB\",\"OK\"))))),\"\")","v":""},null,{"$f":"IF(BB8<>\"\",IF(BB8=\"Victoire\",IF(VLOOKUP(AY8,$A$8:$BL$60,54,FALSE)=\"Défaite\",\"OK\",\"ERR\"),IF(BB8=\"Défaite\",IF(VLOOKUP(AY8,$A$8:$BL$60,54,FALSE)=\"Victoire\",\"OK\",\"ERR\"),IF(BB8=\"Nul\",IF(VLOOKUP(AY8,$A$8:$BL$54,54,FALSE)=\"Nul\",\"OK\",\"ERR\")))),\"\")","v":""},0,{"$f":"IF(BB8=\"Victoire\",100-ROUNDDOWN(20*BD8/$H8,0),\nIF(BB8=\"Défaite\",10+ROUNDDOWN(20*VLOOKUP(AY8,$A$8:$BU$48,42,FALSE)/VLOOKUP(AY8,$A$8:$H$48,8,FALSE),0),\nIF(AND(BB8=\"Nul\",$AP8<>$H8),40+(2*ROUNDDOWN(10*VLOOKUP(AY8,$A$8:$BU$48,42,FALSE)/VLOOKUP(AY8,$A$8:$H$48,8,FALSE),0)-ROUNDDOWN(10*BD8/$H8,0)),IF(AND(BB8=\"Nul\",$AP8=$H8),58,0))))","v":0},null,{"$f":"IF(BF8<>\"\",VLOOKUP(BF8,$A$8:$C$48,2,FALSE),\"\")","v":""},{"$f":"IF(BF8<>\"\",IF(BF8=$A8,\"ERR\",IF(OR(BF8=$P8,BF8=$W8,BF8=$AD8,BF8=$AK8,BF8=$AR8,BF8=$AY8,BF8=$BG8),\"DUP\",IF(ISNA(VLOOKUP(BF8,$A$8:$A$48,1,FALSE)),\"ERR\",IF(COUNTIF($I$8:$I$48,BF8)>1,\"ERR\",IF($D8=VLOOKUP(BF8,$A$8:$D$48,4,FALSE),\"CLUB\",\"OK\"))))),\"\")","v":""},null,{"$f":"IF(BI8<>\"\",IF(BI8=\"Victoire\",IF(VLOOKUP(BF8,$A$8:$BL$60,61,FALSE)=\"Défaite\",\"OK\",\"ERR\"),IF(BI8=\"Défaite\",IF(VLOOKUP(BF8,$A$8:$BL$60,61,FALSE)=\"Victoire\",\"OK\",\"ERR\"),IF(BI8=\"Nul\",IF(VLOOKUP(BF8,$A$8:$BL$60,61,FALSE)=\"Nul\",\"OK\",\"ERR\")))),\"\")","v":""},null,{"$f":"IF(BI8=\"Victoire\",100-ROUNDDOWN(20*BK8/$H8,0),\nIF(BI8=\"Défaite\",10+ROUNDDOWN(20*VLOOKUP(BF8,$A$8:$BU$48,42,FALSE)/VLOOKUP(BF8,$A$8:$H$48,8,FALSE),0),\nIF(AND(BI8=\"Nul\",$AP8<>$H8),40+(2*ROUNDDOWN(10*VLOOKUP(BF8,$A$8:$BU$48,42,FALSE)/VLOOKUP(BF8,$A$8:$H$48,8,FALSE),0)-ROUNDDOWN(10*BK8/$H8,0)),IF(AND(BI8=\"Nul\",$AP8=$H8),58,0))))","v":0},{"$f":"E8+E9+E10","v":0},{"$f":"IF($I8<>\"\",VLOOKUP($I8,$A$8:$H$60,5,FALSE),0)+IF($P8<>\"\",VLOOKUP($P8,$A$8:$H$60,5,FALSE),0)+IF($W8<>\"\",VLOOKUP($W8,$A$8:$H$60,5,FALSE),0)+IF($AD8<>\"\",VLOOKUP($AD8,$A$8:$H$60,5,FALSE),0)+IF($AK8<>\"\",VLOOKUP($AK8,$A$8:$H$60,5,FALSE),0)+IF($AY8<>\"\",VLOOKUP($AY8,$A$8:$H$60,5,FALSE),0)+IF($BF8<>\"\",VLOOKUP($BF8,$A$8:$H$60,5,FALSE),0)+IF($AR8<>\"\",VLOOKUP($AR8,$A$8:$H$60,5,FALSE),0)","v":0}]
[2,"Team 1 B",null,null,0,null,{"$f":"IF($F9<>\"\",VLOOKUP(F9,Armees!$A$1:$B$283,2,FALSE),\"\")","v":""},null,null,"","",null,"",null,0,null,"","",null,"",null,0,null,"","",null,{"$f":"IF(Z9<>\"\",IF(Z9=\"Victoire\",IF(VLOOKUP(W9,$A$8:$L$60,12,FALSE)=\"Défaite\",\"OK\",\"ERR\"),IF(Z9=\"Défaite\",IF(VLOOKUP(W9,$A$8:$L$60,12,FALSE)=\"Victoire\",\"OK\",\"ERR\"),IF(Z9=\"Nul\",IF(VLOOKUP(W9,$A$8:$L$60,12,FALSE)=\"Nul\",\"OK\",\"ERR\")))),\"\")","v":""},null,0,null,"","",null,"",null,0,null,"","",null,"",null,0,null,"","",null,"",null,0,null,"","",null,"",0,0,null,"",{"$f":"IF(BF9<>\"\",IF(BF9=$A9,\"ERR\",IF(OR(BF9=$P9,BF9=$W9,BF9=$AD9,BF9=$AK9,BF9=$AR9,BF9=$AY9),\"DUP\",IF(ISNA(VLOOKUP(BF9,$A$8:$A$48,1,FALSE)),\"ERR\",IF(COUNTIF($I$8:$I$48,BF9)>1,\"ERR\",IF($D9=VLOOKUP(BF9,$A$8:$D$48,4,FALSE),\"CLUB\",\"OK\"))))),\"\")","v":""},null,"",null,0,{"$f":"BM8","v":0},0]
[3,"Team 1 C",null,null,0,null,{"$f":"IF($F10<>\"\",VLOOKUP(F10,Armees!$A$1:$B$283,2,FALSE),\"\")","v":""},null,null,"","",null,"",null,0,null,"","",null,"",null,0,null,"","",null,{"$f":"IF(Z10<>\"\",IF(Z10=\"Victoire\",IF(VLOOKUP(W10,$A$8:$L$60,12,FALSE)=\"Défaite\",\"OK\",\"ERR\"),IF(Z10=\"Défaite\",IF(VLOOKUP(W10,$A$8:$L$60,12,FALSE)=\"Victoire\",\"OK\",\"ERR\"),IF(Z10=\"Nul\",IF(VLOOKUP(W10,$A$8:$L$60,12,FALSE)=\"Nul\",\"OK\",\"ERR\")))),\"\")","v":""},null,0,null,"","",null,"",null,0,null,"","",null,"",null,0,null,"","",null,"",null,0,null,"","",null,"",0,0,null,"",{"$f":"IF(BF10<>\"\",IF(BF10=$A10,\"ERR\",IF(OR(BF10=$P10,BF10=$W10,BF10=$AD10,BF10=$AK10,BF10=$AR10,BF10=$AY10,BF10=$BG10),\"DUP\",IF(ISNA(VLOOKUP(BF10,$A$8:$A$48,1,FALSE)),\"ERR\",IF(COUNTIF($I$8:$I$48,BF10)>1,\"ERR\",IF($D10=VLOOKUP(BF10,$A$8:$D$48,4,FALSE),\"CLUB\",\"OK\"))))),\"\")","v":""},null,"",null,0,{"$f":"BM8","v":0},0]
[4,"Team 2 A",null,null,0,null,{"$f":"IF($F11<>\"\",VLOOKUP(F11,Armees!$A$1:$B$283,2,FALSE),\"\")","v":""},null,null,"","",null,"",null,0,null,"","",null,"",null,0,null,"","",null,{"$f":"IF(Z11<>\"\",IF(Z11=\"Victoire\",IF(VLOOKUP(W11,$A$8:$BJ$60,26,FALSE)=\"Défaite\",\"OK\",\"ERR\"),IF(Z11=\"Défaite\",IF(VLOOKUP(W11,$A$8:$BJ$60,26,FALSE)=\"Victoire\",\"OK\",\"ERR\"),IF(Z11=\"Nul\",IF(VLOOKUP(W11,$A$8:$BJ$60,26,FALSE)=\"Nul\",\"OK\",\"ERR\")))),\"\")","v":""},null,0,null,"","",null,"",null,0,null,"","",null,"",null,0,null,"","",null,"",null,0,null,"","",null,"",null,0,null,"","",null,"",null,0,{"$f":"E11+E12+E13","v":0},0]
[5,"Team 2 B",null,null,0,null,{"$f":"IF($F12<>\"\",VLOOKUP(F12,Armees!$A$1:$B$283,2,FALSE),\"\")","v":""},null,null,"","",null,"",null,0,null,"","",null,"",null,0,null,"","",null,{"$f":"IF(Z12<>\"\",IF(Z12=\"Victoire\",IF(VLOOKUP(W12,$A$8:$BJ$60,26,FALSE)=\"Défaite\",\"OK\",\"ERR\"),IF(Z12=\"Défaite\",IF(VLOOKUP(W12,$A$8:$BJ$60,26,FALSE)=\"Victoire\",\"OK\",\"ERR\"),IF(Z12=\"Nul\",IF(VLOOKUP(W12,$A$8:$BJ$60,26,FALSE)=\"Nul\",\"OK\",\"ERR\")))),\"\")","v":""},null,0,null,"","",null,"",null,0,null,"","",null,"",null,0,null,"","",null,"",null,0,null,"","",null,"",null,0,null,"","",null,"",null,0,{"$f":"E11+E12+E13","v":0},0]
[6,"Team 2 C",null,null,0,null,{"$f":"IF($F13<>\"\",VLOOKUP(F13,Armees!$A$1:$B$283,2,FALSE),\"\")","v":""},null,null,"","",null,"",null,0,null,"","",null,"",null,0,null,"","",null,{"$f":"IF(Z13<>\"\",IF(Z13=\"Victoire\",IF(VLOOKUP(W13,$A$8:$BJ$60,26,FALSE)=\"Défaite\",\"OK\",\"ERR\"),IF(Z13=\"Défaite\",IF(VLOOKUP(W13,$A$8:$BJ$60,26,FALSE)=\"Victoire\",\"OK\",\"ERR\"),IF(Z13=\"Nul\",IF(VLOOKUP(W13,$A$8:$BJ$60,26,FALSE)=\"Nul\",\"OK\",\"ERR\")))),\"\")","v":""},null,0,null,"","",null,"",null,0,null,"","",null,"",null,0,null,"","",null,"",null,0,null,"","",null,"",null,0,null,"","",null,"",null,0,{"$f":"E11+E12+E13","v":0},0]
[7,"Team 3 A",null,null,0,null,{"$f":"IF($F14<>\"\",VLOOKUP(F14,Armees!$A$1:$B$283,2,FALSE),\"\")","v":""},null,null,"","",null,"",null,0,null,"","",null,"",null,0,null,"","",null,{"$f":"IF(Z14<>\"\",IF(Z14=\"Victoire\",IF(VLOOKUP(W14,$A$8:$L$60,12,FALSE)=\"Défaite\",\"OK\",\"ERR\"),IF(Z14=\"Défaite\",IF(VLOOKUP(W14,$A$8:$L$60,12,FALSE)=\"Victoire\",\"OK\",\"ERR\"),IF(Z14=\"Nul\",IF(VLOOKUP(W14,$A$8:$L$60,12,FALSE)=\"Nul\",\"OK\",\"ERR\")))),\"\")","v":""},null,0,null,"","",null,"",null,0,null,"","",null,"",null,0,null,"","",null,"",null,0,null,"","",null,"",null,0,null,"","",null,"",null,0,{"$f":"E14+E15+E16","v":0},0]
[8,"Team 3 B",null,null,0,null,{"$f":"IF($F15<>\"\",VLOOKUP(F15,Armees!$A$1:$B$283,2,FALSE),\"\")","v":""},null,null,"","",null,"",null,0,null,"","",null,"",null,0,null,"","",null,{"$f":"IF(Z15<>\"\",IF(Z15=\"Victoire\",IF(VLOOKUP(W15,$A$8:$L$60,12,FALSE)=\"Défaite\",\"OK\",\"ERR\"),IF(Z15=\"Défaite\",IF(VLOOKUP(W15,$A$8:$L$60,12,FALSE)=\"Victoire\",\"OK\",\"ERR\"),IF(Z15=\"Nul\",IF(VLOOKUP(W15,$A$8:$L$60,12,FALSE)=\"Nul\",\"OK\",\"ERR\")))),\"\")","v":""},null,0,null,"","",null,"",null,0,null,"","",null,"",null,0,null,"","",null,"",null,0,null,"","",null,"",null,0,null,"","",null,"",null,0,{"$f":"E14+E15+E16","v":0},0]
[9,"Team 3 C",null,null,0,null,{"$f":"IF($F16<>\"\",VLOOKUP(F16,Armees!$A$1:$B$283,2,FALSE),\"\")","v":""},null,null,"","",null,"",null,0,null,"","",null,"",null,0,null,"","",null,{"$f":"IF(Z16<>\"\",IF(Z16=\"Victoire\",IF(VLOOKUP(W16,$A$8:$L$60,12,FALSE)=\"Défaite\",\"OK\",\"ERR\"),IF(Z16=\"Défaite\",IF(VLOOKUP(W16,$A$8:$L$60,12,FALSE)=\"Victoire\",\"OK\",\"ERR\"),IF(Z16=\"Nul\",IF(VLOOKUP(W16,$A$8:$L$60,12,FALSE)=\"Nul\",\"OK\",\"ERR\")))),\"\")","v":""},null,0,null,"","",null,"",null,0,null,"","",null,"",null,0,null,"","",null,"",null,0,null,"","",null,"",null,0,null,"","",null,"",null,0,{"$f":"E14+E15+E16","v":0},0]
[10,"Team 4 A",null,null,0,null,{"$f":"IF($F17<>\"\",VLOOKUP(F17,Armees!$A$1:$B$283,2,FALSE),\"\")","v":""},null,null,"","",null,"",null,0,null,"","",null,"",null,0,null,"","",null,{"$f":"IF(Z17<>\"\",IF(Z17=\"Victoire\",IF(VLOOKUP(W17,$A$8:$BJ$60,26,FALSE)=\"Défaite\",\"OK\",\"ERR\"),IF(Z17=\"Défaite\",IF(VLOOKUP(W17,$A$8:$BJ$60,26,FALSE)=\"Victoire\",\"OK\",\"ERR\"),IF(Z17=\"Nul\",IF(VLOOKUP(W17,$A$8:$BJ$60,26,FALSE)=\"Nul\",\"OK\",\"ERR\")))),\"\")","v":""},null,0,null,"","",null,"",null,0,null,"","",null,"",null,0,null,"","",null,"",null,0,null,"","",null,"",null,0,null,"","",null,"",null,0,{"$f":"E17+E18+E19","v":0},0]
[11,"Team 4 B",null,null,0,null,{"$f":"IF($F18<>\"\",VLOOKUP(F18,Armees!$A$1:$B$283,2,FALSE),\"\")","v":""},null,null,"","",null,"",null,0,null,"","",null,"",null,0,null,"","",null,"",null,0,null,"","",null,"",null,0,null,"","",null,"",null,0,null,"","",null,"",null,0,null,"","",null,"",null,0,null,"","",null,"",null,0,{"$f":"E17+E18+E19","v":0},0]
[12,"Team 4 C",null,null,0,null,{"$f":"IF($F19<>\"\",VLOOKUP(F19,Armees!$A$1:$B$283,2,FALSE),\"\")","v":""},null,null,"","",null,"",null,0,null,"","",null,"",null,0,null,"","",null,"",null,0,null,"","",null,"",null,0,null,"","",null,"",null,0,null,"","",null,"",null,0,null,"","",null,"",null,0,null,"","",null,"",null,0,{"$f":"E17+E18+E19","v":0},0]
[13,"Team 5 A",null,null,0,null,{"$f":"IF($F20<>\"\",VLOOKUP(F20,Armees!$A$1:$B$283,2,FALSE),\"\")","v":""},null,null,"","",null,"",null,0,null,"","",null,"",null,0,null,"","",null,"",null,0,null,"","",null,"",null,0,null,"","",null,"",null,0,null,"","",null,"",null,0,null,"","",null,"",null,0,null,"","",null,"",null,0,{"$f":"E20+E21+E22","v":0},0]
[14,"Team 5 B",null,null,0,null,{"$f":"IF($F21<>\"\",VLOOKUP(F21,Armees!$A$1:$B$283,2,FALSE),\"\")","v":""},null,null,"","",null,"",null,0,null,"","",null,"",null,0,null,"","",null,"",null,0,null,"","",null,"",null,0,null,"","",null,"",null,0,null,"","",null,"",null,0,null,"","",null,"",null,0,null,"","",null,"",null,0,{"$f":"E20+E21+E22","v":0},0]
[15,"Team 5 C",null,null,0,null,{"$f":"IF($F22<>\"\",VLOOKUP(F22,Armees!$A$1:$B$283,2,FALSE),\"\")","v":""},null,null,"","",null,"",null,0,null,"","",null,"",null,0,null,"","",null,"",null,0,null,"","",null,"",null,0,null,"","",null,"",null,0,null,"","",null,"",null,0,null,"","",null,"",null,0,null,"","",null,"",null,0,{"$f":"E20+E21+E22","v":0},0]
[16,"Team 6 A",null,null,0,null,{"$f":"IF($F23<>\"\",VLOOKUP(F23,Armees!$A$1:$B$283,2,FALSE),\"\")","v":""},null,null,"","",null,"",null,0,null,"","",null,"",null,0,null,"","",null,{"$f":"IF(Z23<>\"\",IF(Z23=\"Victoire\",IF(VLOOKUP(W23,$A$8:$L$60,12,FALSE)=\"Défaite\",\"OK\",\"ERR\"),IF(Z23=\"Défaite\",IF(VLOOKUP(W23,$A$8:$L$60,12,FALSE)=\"Victoire\",\"OK\",\"ERR\"),IF(Z23=\"Nul\",IF(VLOOKUP(W23,$A$8:$L$60,12,FALSE)=\"Nul\",\"OK\",\"ERR\")))),\"\")","v":""},null,0,null,"","",null,"",null,0,null,"","",null,"",null,0,null,"","",null,"",null,0,null,"","",null,"",null,0,null,"","",null,"",null,0,{"$f":"E23+E24+E25","v":0},0]
[17,"Team 6 B",null,null,0,null,{"$f":"IF($F24<>\"\",VLOOKUP(F24,Armees!$A$1:$B$283,2,FALSE),\"\")","v":""},null,null,"","",null,"",null,0,null,"","",null,"",null,0,null,"","",null,{"$f":"IF(Z24<>\"\",IF(Z24=\"Victoire\",IF(VLOOKUP(W24,$A$8:$L$60,12,FALSE)=\"Défaite\",\"OK\",\"ERR\"),IF(Z24=\"Défaite\",IF(VLOOKUP(W24,$A$8:$L$60,12,FALSE)=\"Victoire\",\"OK\",\"ERR\"),IF(Z24=\"Nul\",IF(VLOOKUP(W24,$A$8:$L$60,12,FALSE)=\"Nul\",\"OK\",\"ERR\")))),\"\")","v":""},null,0,null,"","",null,"",null,0,null,"","",null,"",null,0,null,"","",null,"",null,0,null,"","",null,"",null,0,null,"","",null,"",null,0,{"$f":"E23+E24+E25","v":0},0]
[18,"Team 6 C",null,null,0,null,{"$f":"IF($F25<>\"\",VLOOKUP(F25,Armees!$A$1:$B$283,2,FALSE),\"\")","v":""},null,null,"","",null,"",null,0,null,"","",null,"",null,0,null,"","",null,{"$f":"IF(Z25<>\"\",IF(Z25=\"Victoire\",IF(VLOOKUP(W25,$A$8:$L$60,12,FALSE)=\"Défaite\",\"OK\",\"ERR\"),IF(Z25=\"Défaite\",IF(VLOOKUP(W25,$A$8:$L$60,12,FALSE)=\"Victoire\",\"OK\",\"ERR\"),IF(Z25=\"Nul\",IF(VLOOKUP(W25,$A$8:$L$60,12,FALSE)=\"Nul\",\"OK\",\"ERR\")))),\"\")","v":""},null,0,null,"","",null,"",null,0,null,"","",null,"",null,0,null,"","",null,"",null,0,null,"","",null,"",null,0,null,"","",null,"",null,0,{"$f":"E23+E24+E25","v":0},0]
[{"$nulls":4},0,null,{"$f":"IF($F26<>\"\",VLOOKUP(F26,Armees!$A$1:$B$283,2,FALSE),\"\")","v":""},null,null,"","",null,"",null,0,null,"","",null,{"$f":"IF(S26<>\"\",IF(S26=\"Victoire\",IF(VLOOKUP(P26,$A$8:$BL$60,19,FALSE)=\"Défaite\",\"OK\",\"ERR\"),IF(S26=\"Défaite\",IF(VLOOKUP(P26,$A$8:$BL$60,19,FALSE)=\"Victoire\",\"OK\",\"ERR\"),IF(S26=\"Nul\",IF(VLOOKUP(P26,$A$8:$BL$60,19,FALSE)=\"Nul\",\"OK\",\"ERR\")))),\"\")","v":""},null,0,null,"","",null,{"$f":"IF(Z26<>\"\",IF(Z26=\"Victoire\",IF(VLOOKUP(W26,$A$8:$BJ$60,26,FALSE)=\"Défaite\",\"OK\",\"ERR\"),IF(Z26=\"Défaite\",IF(VLOOKUP(W26,$A$8:$BJ$60,26,FALSE)=\"Victoire\",\"OK\",\"ERR\"),IF(Z26=\"Nul\",IF(VLOOKUP(W26,$A$8:$BJ$60,26,FALSE)=\"Nul\",\"OK\",\"ERR\")))),\"\")","v":""},null,0,null,"","",null,{"$f":"IF(AG26<>\"\",IF(AG26=\"Victoire\",IF(VLOOKUP(AD26,$A$8:$BJ$60,33,FALSE)=\"Défaite\",\"OK\",\"ERR\"),IF(AG26=\"Défaite\",IF(VLOOKUP(AD26,$A$8:$BJ$60,33,FALSE)=\"Victoire\",\"OK\",\"ERR\"),IF(AG26=\"Nul\",IF(VLOOKUP(AD26,$A$8:$BJ$60,33,FALSE)=\"Nul\",\"OK\",\"ERR\")))),\"\")","v":""},null,0,null,"","",null,"",null,0,null,"","",null,"",null,0,null,"","",null,"",null,0,null,"","",null,"",null,0,{"$f":"E26+E27+E28","v":0},0]
[{"$nulls":4},{"$f":"O27+V27+AC27+AJ27+AQ27+BP27","v":0},null,{"$f":"IF($F27<>\"\",VLOOKUP(F27,Armees!$A$1:$B$283,2,FALSE),\"\")","v":""},null,null,"","",null,"",null,0,null,"","",null,{"$f":"IF(S27<>\"\",IF(S27=\"Victoire\",IF(VLOOKUP(P27,$A$8:$BL$60,19,FALSE)=\"Défaite\",\"OK\",\"ERR\"),IF(S27=\"Défaite\",IF(VLOOKUP(P27,$A$8:$BL$60,19,FALSE)=\"Victoire\",\"OK\",\"ERR\"),IF(S27=\"Nul\",IF(VLOOKUP(P27,$A$8:$BL$60,19,FALSE)=\"Nul\",\"OK\",\"ERR\")))),\"\")","v":""},null,0,null,"","",null,{"$f":"IF(Z27<>\"\",IF(Z27=\"Victoire\",IF(VLOOKUP(W27,$A$8:$BJ$60,26,FALSE)=\"Défaite\",\"OK\",\"ERR\"),IF(Z27=\"Défaite\",IF(VLOOKUP(W27,$A$8:$BJ$60,26,FALSE)=\"Victoire\",\"OK\",\"ERR\"),IF(Z27=\"Nul\",IF(VLOOKUP(W27,$A$8:$BJ$60,26,FALSE)=\"Nul\",\"OK\",\"ERR\")))),\"\")","v":""},null,0,null,"","",null,{"$f":"IF(AG27<>\"\",IF(AG27=\"Victoire\",IF(VLOOKUP(AD27,$A$8:$BJ$60,33,FALSE)=\"Défaite\",\"OK\",\"ERR\"),IF(AG27=\"Défaite\",IF(VLOOKUP(AD27,$A$8:$BJ$60,33,FALSE)=\"Victoire\",\"OK\",\"ERR\"),IF(AG27=\"Nul\",IF(VLOOKUP(AD27,$A$8:$BJ$60,33,FALSE)=\"Nul\",\"OK\",\"ERR\")))),\"\")","v":""},null,0,null,"","",null,"",null,0,null,"","",null,"",null,0,null,"","",null,"",null,0,null,"","",null,"",null,0,{"$f":"E26+E27+E28","v":0},0]
[{"$nulls":4},{"$f":"O28+V28+AC28+AJ28+AQ28+BP28","v":0},null,{"$f":"IF($F28<>\"\",VLOOKUP(F28,Armees!$A$1:$B$283,2,FALSE),\"\")","v":""},null,null,"","",null,"",null,0,null,"","",null,{"$f":"IF(S28<>\"\",IF(S28=\"Victoire\",IF(VLOOKUP(P28,$A$8:$BL$60,19,FALSE)=\"Défaite\",\"OK\",\"ERR\"),IF(S28=\"Défaite\",IF(VLOOKUP(P28,$A$8:$BL$60,19,FALSE)=\"Victoire\",\"OK\",\"ERR\"),IF(S28=\"Nul\",IF(VLOOKUP(P28,$A$8:$BL$60,19,FALSE)=\"Nul\",\"OK\",\"ERR\")))),\"\")","v":""},null,0,null,"","",null,{"$f":"IF(Z28<>\"\",IF(Z28=\"Victoire\",IF(VLOOKUP(W28,$A$8:$BJ$60,26,FALSE)=\"Défaite\",\"OK\",\"ERR\"),IF(Z28=\"Défaite\",IF(VLOOKUP(W28,$A$8:$BJ$60,26,FALSE)=\"Victoire\",\"OK\",\"ERR\"),IF(Z28=\"Nul\",IF(VLOOKUP(W28,$A$8:$BJ$60,26,FALSE)=\"Nul\",\"OK\",\"ERR\")))),\"\")","v":""},null,0,null,"","",null,{"$f":"IF(AG28<>\"\",IF(AG28=\"Victoire\",IF(VLOOKUP(AD28,$A$8:$BJ$60,33,FALSE)=\"Défaite\",\"OK\",\"ERR\"),IF(AG28=\"Défaite\",IF(VLOOKUP(AD28,$A$8:$BJ$60,33,FALSE)=\"Victoire\",\"OK\",\"ERR\"),IF(AG28=\"Nul\",IF(VLOOKUP(AD28,$A$8:$BJ$60,33,FALSE)=\"Nul\",\"OK\",\"ERR\")))),\"\")","v":""},null,0,null,"","",null,"",null,0,null,"","",null,"",null,0,null,"","",null,"",null,0,null,"","",null,"",null,0,{"$f":"E26+E27+E28","v":0},0]
[{"$nulls":4},{"$f":"O29+V29+AC29+AJ29+AQ29+BP29+AX29+BE29+BL29","v":0},null,{"$f":"IF($F29<>\"\",VLOOKUP(F29,Armees!$A$1:$B$283,2,FALSE),\"\")","v":""},null,null,"","",null,"",null,0,null,"","",null,{"$f":"IF(S29<>\"\",IF(S29=\"Victoire\",IF(VLOOKUP(P29,$A$8:$L$60,12,FALSE)=\"Défaite\",\"OK\",\"ERR\"),IF(S29=\"Défaite\",IF(VLOOKUP(P29,$A$8:$L$60,12,FALSE)=\"Victoire\",\"OK\",\"ERR\"),IF(S29=\"Nul\",IF(VLOOKUP(P29,$A$8:$L$60,12,FALSE)=\"Nul\",\"OK\",\"ERR\")))),\"\")","v":""},null,0,null,"","",null,{"$f":"IF(Z29<>\"\",IF(Z29=\"Victoire\",IF(VLOOKUP(W29,$A$8:$L$60,12,FALSE)=\"Défaite\",\"OK\",\"ERR\"),IF(Z29=\"Défaite\",IF(VLOOKUP(W29,$A$8:$L$60,12,FALSE)=\"Victoire\",\"OK\",\"ERR\"),IF(Z29=\"Nul\",IF(VLOOKUP(W29,$A$8:$L$60,12,FALSE)=\"Nul\",\"OK\",\"ERR\")))),\"\")","v":""},null,0,null,"","",null,{"$f":"IF(AG29<>\"\",IF(AG29=\"Victoire\",IF(VLOOKUP(AD29,$A$8:$L$60,12,FALSE)=\"Défaite\",\"OK\",\"ERR\"),IF(AG29=\"Défaite\",IF(VLOOKUP(AD29,$A$8:$L$60,12,FALSE)=\"Victoire\",\"OK\",\"ERR\"),IF(AG29=\"Nul\",IF(VLOOKUP(AD29,$A$8:$L$60,12,FALSE)=\"Nul\",\"OK\",\"ERR\")))),\"\")","v":""},null,0,null,"","",null,"",null,0,null,"","",null,"",null,0,null,"","",null,"",null,0,null,"","",null,"",null,0,{"$f":"E29+E30+E31","v":0},0]
[{"$nulls":4},0,null,{"$f":"IF($F30<>\"\",VLOOKUP(F30,Armees!$A$1:$B$283,2,FALSE),\"\")","v":""},null,null,"","",null,"",null,0,null,"","",null,"",null,0,null,"","",null,{"$f":"IF(Z30<>\"\",IF(Z30=\"Victoire\",IF(VLOOKUP(W30,$A$8:$L$60,12,FALSE)=\"Défaite\",\"OK\",\"ERR\"),IF(Z30=\"Défaite\",IF(VLOOKUP(W30,$A$8:$L$60,12,FALSE)=\"Victoire\",\"OK\",\"ERR\"),IF(Z30=\"Nul\",IF(VLOOKUP(W30,$A$8:$L$60,12,FALSE)=\"Nul\",\"OK\",\"ERR\")))),\"\")","v":""},null,0,null,"","",null,"",null,0,null,"","",null,"",null,0,null,"","",null,"",null,0,null,"","",null,"",null,0,null,"","",null,"",null,0,{"$f":"E29+E30+E31","v":0},0]
[{"$nulls":4},0,null,{"$f":"IF($F31<>\"\",VLOOKUP(F31,Armees!$A$1:$B$283,2,FALSE),\"\")","v":""},null,null,"","",null,"",null,0,null,"","",null,"",null,0,null,"","",null,{"$f":"IF(Z31<>\"\",IF(Z31=\"Victoire\",IF(VLOOKUP(W31,$A$8:$L$60,12,FALSE)=\"Défaite\",\"OK\",\"ERR\"),IF(Z31=\"Défaite\",IF(VLOOKUP(W31,$A$8:$L$60,12,FALSE)=\"Victoire\",\"OK\",\"ERR\"),IF(Z31=\"Nul\",IF(VLOOKUP(W31,$A$8:$L$60,12,FALSE)=\"Nul\",\"OK\",\"ERR\")))),\"\")","v":""},null,0,null,"","",null,"",null,0,null,"","",null,"",null,0,null,"","",null,"",null,0,null,"","",null,"",null,0,null,"","",null,"",null,0,{"$f":"E29+E30+E31","v":0},0]
[{"$nulls":4},0,null,{"$f":"IF($F32<>\"\",VLOOKUP(F32,Armees!$A$1:$B$283,2,FALSE),\"\")","v":""},null,null,"","",null,"",null,0,null,"","",null,"",null,0,null,"","",null,{"$f":"IF(Z32<>\"\",IF(Z32=\"Victoire\",IF(VLOOKUP(W32,$A$8:$BJ$60,26,FALSE)=\"Défaite\",\"OK\",\"ERR\"),IF(Z32=\"Défaite\",IF(VLOOKUP(W32,$A$8:$BJ$60,26,FALSE)=\"Victoire\",\"OK\",\"ERR\"),IF(Z32=\"Nul\",IF(VLOOKUP(W32,$A$8:$BJ$60,26,FALSE)=\"Nul\",\"OK\",\"ERR\")))),\"\")","v":""},null,0,null,"","",null,"",null,0,null,"","",null,"",null,0,null,"","",null,"",null,0,null,"","",null,"",null,0,null,"","",null,"",null,0,{"$f":"E32+E33+E34","v":0},0]
[{"$nulls":4},0,null,{"$f":"IF($F33<>\"\",VLOOKUP(F33,Armees!$A$1:$B$283,2,FALSE),\"\")","v":""},null,null,"","",null,"",null,0,null,"","",null,"",null,0,null,"","",null,"",null,0,null,"","",null,"",null,0,null,"","",null,"",null,0,null,"","",null,"",null,0,null,"","",null,"",null,0,null,"","",null,"",null,0,{"$f":"E32+E33+E34","v":0},0]
[{"$nulls":4},0,null,{"$f":"IF($F34<>\"\",VLOOKUP(F34,Armees!$A$1:$B$283,2,FALSE),\"\")","v":""},null,null,"","",null,"",null,0,null,"","",null,"",null,0,null,"","",null,"",null,0,null,"","",null,"",null,0,null,"","",null,"",null,0,null,"","",null,"",null,0,null,"","",null,"",null,0,null,"","",null,"",null,0,{"$f":"E32+E33+E34","v":0},0]
[{"$nulls":4},0,null,{"$f":"IF($F35<>\"\",VLOOKUP(F35,Armees!$A$1:$B$283,2,FALSE),\"\")","v":""},null,null,"","",null,"",null,0,null,"","",null,{"$f":"IF(S35<>\"\",IF(S35=\"Victoire\",IF(VLOOKUP(P35,$A$8:$BL$60,19,FALSE)=\"Défaite\",\"OK\",\"ERR\"),IF(S35=\"Défaite\",IF(VLOOKUP(P35,$A$8:$BL$60,19,FALSE)=\"Victoire\",\"OK\",\"ERR\"),IF(S35=\"Nul\",IF(VLOOKUP(P35,$A$8:$BL$60,19,FALSE)=\"Nul\",\"OK\",\"ERR\")))),\"\")","v":""},null,0,null,"","",null,"",null,0,null,"","",null,{"$f":"IF(AG35<>\"\",IF(AG35=\"Victoire\",IF(VLOOKUP(AD35,$A$8:$BJ$60,33,FALSE)=\"Défaite\",\"OK\",\"ERR\"),IF(AG35=\"Défaite\",IF(VLOOKUP(AD35,$A$8:$BJ$60,33,FALSE)=\"Victoire\",\"OK\",\"ERR\"),IF(AG35=\"Nul\",IF(VLOOKUP(AD35,$A$8:$BJ$60,33,FALSE)=\"Nul\",\"OK\",\"ERR\")))),\"\")","v":""},null,0,null,"","",null,"",null,0,null,"","",null,"",null,0,null,"","",null,"",null,0,null,"","",null,"",null,0,{"$f":"E35+E36+E37","v":0},0]
[{"$nulls":4},0,null,{"$f":"IF($F36<>\"\",VLOOKUP(F36,Armees!$A$1:$B$283,2,FALSE),\"\")","v":""},null,null,"","",null,"",null,0,null,"","",null,"",null,0,null,"","",null,"",null,0,null,"","",null,"",null,0,null,"","",null,"",null,0,null,"","",null,"",null,0,null,"","",null,"",null,0,null,"","",null,"",null,0,{"$f":"E35+E36+E37","v":0},0]
[{"$nulls":4},0,null,{"$f":"IF($F37<>\"\",VLOOKUP(F37,Armees!$A$1:$B$283,2,FALSE),\"\")","v":""},null,null,"","",null,"",null,0,null,"","",null,"",null,0,null,"","",null,"",null,0,null,"","",null,"",null,0,null,"","",null,"",null,0,null,"","",null,"",null,0,null,"","",null,"",null,0,null,"","",null,"",null,0,{"$f":"E35+E36+E37","v":0},0]
[{"$nulls":4},0,null,{"$f":"IF($F38<>\"\",VLOOKUP(F38,Armees!$A$1:$B$283,2,FALSE),\"\")","v":""},null,null,"","",null,"",null,0,null,"","",null,"",null,0,null,"","",null,"",null,0,null,"","",null,"",null,0,null,"","",null,"",null,0,null,"","",null,"",null,0,null,"","",null,"",null,0,null,"","",null,"",null,0,{"$f":"E38+E39+E40","v":0},0]
[{"$nulls":4},0,null,{"$f":"IF($F39<>\"\",VLOOKUP(F39,Armees!$A$1:$B$283,2,FALSE),\"\")","v":""},null,null,"","",null,"",null,0,null,"","",null,"",null,0,null,"","",null,"",null,0,null,"","",null,"",null,0,null,"","",null,"",null,0,null,"","",null,"",null,0,null,"","",null,"",null,0,null,"","",null,"",null,0,{"$f":"E38+E39+E40","v":0},0]
[{"$nulls":4},0,null,{"$f":"IF($F40<>\"\",VLOOKUP(F40,Armees!$A$1:$B$283,2,FALSE),\"\")","v":""},null,null,{"$f":"IF(I40<>\"\",VLOOKUP(I40,$A$8:$C$48,2,FALSE),\"\")","v":""},{"$f":"IF(I40<>\"\",IF(I40=$A40,\"ERR\",IF(OR(I40=$P40,I40=$W40,I40=$AD40,I40=$AK40,I40=$AR40,I40=$AY40,I40=$BF40),\"DUP\",IF(ISNA(VLOOKUP(I40,$A$8:$A$60,1,FALSE)),\"ERR\",IF(COUNTIF($I$8:$I$60,I40)>1,\"ERR\",IF($D40=VLOOKUP(I40,$A$8:$D$60,4,FALSE),\"CLUB\",\"OK\"))))),\"\")","v":""},null,{"$f":"IF(L40<>\"\",IF(L40=\"Victoire\",IF(VLOOKUP(I40,$A$8:$L$60,12,FALSE)=\"Défaite\",\"OK\",\"ERR\"),IF(L40=\"Défaite\",IF(VLOOKUP(I40,$A$8:$L$60,12,FALSE)=\"Victoire\",\"OK\",\"ERR\"),IF(L40=\"Nul\",IF(VLOOKUP(I40,$A$8:$L$60,12,FALSE)=\"Nul\",\"OK\",\"ERR\")))),\"\")","v":""},null,{"$f":"IF(L40=\"Victoire\",100-ROUNDDOWN(20*N40/$H40,0),\nIF(L40=\"Défaite\",10+ROUNDDOWN(20*VLOOKUP(I40,$A$8:$N$48,14,FALSE)/VLOOKUP(I40,$A$8:$H$48,8,FALSE),0),\nIF(AND(L40=\"Nul\",$N40<>$H40),40+(2*ROUNDDOWN(10*VLOOKUP(I40,$A$8:$N$48,14,FALSE)/VLOOKUP(I40,$A$8:$H$48,8,FALSE),0)-ROUNDDOWN(10*N40/$H40,0)),IF(AND(L40=\"Nul\",$N40=$H40),58,0))))","v":0},null,{"$f":"IF(P40<>\"\",VLOOKUP(P40,$A$8:$C$48,2,FALSE),\"\")","v":""},{"$f":"IF(P40<>\"\",IF(P40=$A40,\"ERR\",IF(OR(P40=$I40,P40=$W40,P40=$AD40,P40=$AK40,P40=$AR40,P40=$AY40,P40=$BF40),\"DUP\",IF(ISNA(VLOOKUP(P40,$A$8:$A$60,1,FALSE)),\"ERR\",IF(COUNTIF($I$8:$I$60,P40)>1,\"ERR\",IF($D40=VLOOKUP(P40,$A$8:$D$60,4,FALSE),\"CLUB\",\"OK\"))))),\"\")","v":""},null,"",null,{"$f":"IF(S40=\"Victoire\",100-ROUNDDOWN(20*U40/$H40,0),\nIF(S40=\"Défaite\",10+ROUNDDOWN(20*VLOOKUP(P40,$A$8:$AO$48,21,FALSE)/VLOOKUP(P40,$A$8:$H$48,8,FALSE),0),\nIF(AND(S40=\"Nul\",$U40<>$H40),40+(2*ROUNDDOWN(10*VLOOKUP(P40,$A$8:$AO$48,21,FALSE)/VLOOKUP(P40,$A$8:$H$48,8,FALSE),0)-ROUNDDOWN(10*U40/$H40,0)),IF(AND(S40=\"Nul\",$U40=$H40),58,0))))","v":0},null,{"$f":"IF(W40<>\"\",VLOOKUP(W40,$A$8:$C$48,2,FALSE),\"\")","v":""},{"$f":"IF(W40<>\"\",IF(W40=$A40,\"ERR\",IF(OR(W40=$P40,W40=$I40,W40=$AD40,W40=$AK40,W40=$AR40,W40=$AY40,W40=$BF40),\"DUP\",IF(ISNA(VLOOKUP(W40,$A$8:$A$60,1,FALSE)),\"ERR\",IF(COUNTIF($I$8:$I$60,W40)>1,\"ERR\",IF($D40=VLOOKUP(W40,$A$8:$D$60,4,FALSE),\"CLUB\",\"OK\"))))),\"\")","v":""},null,"",null,{"$f":"IF(Z40=\"Victoire\",100-ROUNDDOWN(20*AB40/$H40,0),\nIF(Z40=\"Défaite\",10+ROUNDDOWN(20*VLOOKUP(W40,$A$8:$AO$48,28,FALSE)/VLOOKUP(W40,$A$8:$H$48,8,FALSE),0),\nIF(AND(Z40=\"Nul\",$AB40<>$H40),40+(2*ROUNDDOWN(10*VLOOKUP(W40,$A$8:$AO$48,28,FALSE)/VLOOKUP(W40,$A$8:$H$48,8,FALSE),0)-ROUNDDOWN(10*AB40/$H40,0)),IF(AND(Z40=\"Nul\",$AB40=$H40),58,0))))","v":0},null,{"$f":"IF(AD40<>\"\",VLOOKUP(AD40,$A$8:$C$48,2,FALSE),\"\")","v":""},{"$f":"IF(AD40<>\"\",IF(AD40=$A40,\"ERR\",IF(OR(AD40=$P40,AD40=$W40,AD40=$I40,AD40=$AK40, AD40=$AR40,AD40=$AY40,AD40=$BF40),\"DUP\",IF(ISNA(VLOOKUP(AD40,$A$8:$A$60,1,FALSE)),\"ERR\",IF(COUNTIF($I$8:$I$60,AD40)>1,\"ERR\",IF($D40=VLOOKUP(AD40,$A$8:$D$60,4,FALSE),\"CLUB\",\"OK\"))))),\"\")","v":""},null,"",null,{"$f":"IF(AG40=\"Victoire\",100-ROUNDDOWN(20*AI40/$H40,0),\nIF(AG40=\"Défaite\",10+ROUNDDOWN(20*VLOOKUP(AD40,$A$8:$AO$48,35,FALSE)/VLOOKUP(AD40,$A$8:$H$48,8,FALSE),0),\nIF(AND(AG40=\"Nul\",$AI40<>$H40),40+(2*ROUNDDOWN(10*VLOOKUP(AD40,$A$8:$AO$48,35,FALSE)/VLOOKUP(AD40,$A$8:$H$48,8,FALSE),0)-ROUNDDOWN(10*AI40/$H40,0)),IF(AND(AG40=\"Nul\",$AI40=$H40),58,0))))","v":0},null,{"$f":"IF(AK40<>\"\",VLOOKUP(AK40,$A$8:$C$48,2,FALSE),\"\")","v":""},{"$f":"IF(AK40<>\"\",IF(AK40=$A40,\"ERR\",IF(OR(AK40=$P40,AK40=$W40,AK40=$AD40,AK40=$I40, AK40=$AR40,AK40=$AY40,AK40=$BF40),\"DUP\",IF(ISNA(VLOOKUP(AK40,$A$8:$A$48,1,FALSE)),\"ERR\",IF(COUNTIF($I$8:$I$48,AK40)>1,\"ERR\",IF($D40=VLOOKUP(AK40,$A$8:$D$48,4,FALSE),\"CLUB\",\"OK\"))))),\"\")","v":""},null,{"$f":"IF(AN40<>\"\",IF(AN40=\"Victoire\",IF(VLOOKUP(AK40,$A$8:$BL$60,40,FALSE)=\"Défaite\",\"OK\",\"ERR\"),IF(AN40=\"Défaite\",IF(VLOOKUP(AK40,$A$8:$BL$60,40,FALSE)=\"Victoire\",\"OK\",\"ERR\"),IF(AN40=\"Nul\",IF(VLOOKUP(AK40,$A$8:$BL$60,40,FALSE)=\"Nul\",\"OK\",\"ERR\")))),\"\")","v":""},null,{"$f":"IF(AN40=\"Victoire\",100-ROUNDDOWN(20*AP40/$H40,0),\nIF(AN40=\"Défaite\",10+ROUNDDOWN(20*VLOOKUP(AK40,$A$8:$BU$48,42,FALSE)/VLOOKUP(AK40,$A$8:$H$48,8,FALSE),0),\nIF(AND(AN40=\"Nul\",$AP40<>$H40),40+(2*ROUNDDOWN(10*VLOOKUP(AK40,$A$8:$BU$48,42,FALSE)/VLOOKUP(AK40,$A$8:$H$48,8,FALSE),0)-ROUNDDOWN(10*AP40/$H40,0)),IF(AND(AN40=\"Nul\",$AP40=$H40),58,0))))","v":0},null,{"$f":"IF(AR40<>\"\",VLOOKUP(AR40,$A$8:$C$48,2,FALSE),\"\")","v":""},{"$f":"IF(AR40<>\"\",IF(AR40=$A40,\"ERR\",IF(OR(AR40=$P40,AR40=$W40,AR40=$AD40,AR40=$AK40,AR40=$AY40,AR40=$BF40),\"DUP\",IF(ISNA(VLOOKUP(AR40,$A$8:$A$48,1,FALSE)),\"ERR\",IF(COUNTIF($I$8:$I$48,AR40)>1,\"ERR\",IF($D40=VLOOKUP(AR40,$A$8:$D$48,4,FALSE),\"CLUB\",\"OK\"))))),\"\")","v":""},null,{"$f":"IF(AU40<>\"\",IF(AU40=\"Victoire\",IF(VLOOKUP(AR40,$A$8:$BL$60,47,FALSE)=\"Défaite\",\"OK\",\"ERR\"),IF(AU40=\"Défaite\",IF(VLOOKUP(AR40,$A$8:$BL$60,47,FALSE)=\"Victoire\",\"OK\",\"ERR\"),IF(AU40=\"Nul\",IF(VLOOKUP(AR40,$A$8:$BL$60,47,FALSE)=\"Nul\",\"OK\",\"ERR\")))),\"\")","v":""},null,{"$f":"IF(AU40=\"Victoire\",100-ROUNDDOWN(20*AW40/$H40,0),\nIF(AU40=\"Défaite\",10+ROUNDDOWN(20*VLOOKUP(AR40,$A$8:$BU$48,42,FALSE)/VLOOKUP(AR40,$A$8:$H$48,8,FALSE),0),\nIF(AND(AU40=\"Nul\",$AP40<>$H40),40+(2*ROUNDDOWN(10*VLOOKUP(AR40,$A$8:$BU$48,42,FALSE)/VLOOKUP(AR40,$A$8:$H$48,8,FALSE),0)-ROUNDDOWN(10*AW40/$H40,0)),IF(AND(AU40=\"Nul\",$AP40=$H40),58,0))))","v":0},null,{"$f":"IF(AY40<>\"\",VLOOKUP(AY40,$A$8:$C$48,2,FALSE),\"\")","v":""},{"$f":"IF(AY40<>\"\",IF(AY40=$A40,\"ERR\",IF(OR(AY40=$P40,AY40=$W40,AY40=$AD40,AY40=$AK40,AY40=$AR40,AY40=$BG40,AY40=$BF40),\"DUP\",IF(ISNA(VLOOKUP(AY40,$A$8:$A$48,1,FALSE)),\"ERR\",IF(COUNTIF($I$8:$I$48,AY40)>1,\"ERR\",IF($D40=VLOOKUP(AY40,$A$8:$D$48,4,FALSE),\"CLUB\",\"OK\"))))),\"\")","v":""},null,{"$f":"IF(BB40<>\"\",IF(BB40=\"Victoire\",IF(VLOOKUP(AY40,$A$8:$BL$60,54,FALSE)=\"Défaite\",\"OK\",\"ERR\"),IF(BB40=\"Défaite\",IF(VLOOKUP(AY40,$A$8:$BL$60,54,FALSE)=\"Victoire\",\"OK\",\"ERR\"),IF(BB40=\"Nul\",IF(VLOOKUP(AY40,$A$8:$BL$54,54,FALSE)=\"Nul\",\"OK\",\"ERR\")))),\"\")","v":""},null,{"$f":"IF(BB40=\"Victoire\",100-ROUNDDOWN(20*BD40/$H40,0),\nIF(BB40=\"Défaite\",10+ROUNDDOWN(20*VLOOKUP(AY40,$A$8:$BU$48,42,FALSE)/VLOOKUP(AY40,$A$8:$H$48,8,FALSE),0),\nIF(AND(BB40=\"Nul\",$AP40<>$H40),40+(2*ROUNDDOWN(10*VLOOKUP(AY40,$A$8:$BU$48,42,FALSE)/VLOOKUP(AY40,$A$8:$H$48,8,FALSE),0)-ROUNDDOWN(10*BD40/$H40,0)),IF(AND(BB40=\"Nul\",$AP40=$H40),58,0))))","v":0},null,{"$f":"IF(BF40<>\"\",VLOOKUP(BF40,$A$8:$C$48,2,FALSE),\"\")","v":""},"",null,{"$f":"IF(BI40<>\"\",IF(BI40=\"Victoire\",IF(VLOOKUP(BF40,$A$8:$BL$60,61,FALSE)=\"Défaite\",\"OK\",\"ERR\"),IF(BI40=\"Défaite\",IF(VLOOKUP(BF40,$A$8:$BL$60,61,FALSE)=\"Victoire\",\"OK\",\"ERR\"),IF(BI40=\"Nul\",IF(VLOOKUP(BF40,$A$8:$BL$60,61,FALSE)=\"Nul\",\"OK\",\"ERR\")))),\"\")","v":""},null,{"$f":"IF(BI40=\"Victoire\",100-ROUNDDOWN(20*BK40/$H40,0),\nIF(BI40=\"Défaite\",10+ROUNDDOWN(20*VLOOKUP(BF40,$A$8:$BU$48,42,FALSE)/VLOOKUP(BF40,$A$8:$H$48,8,FALSE),0),\nIF(AND(BI40=\"Nul\",$AP40<>$H40),40+(2*ROUNDDOWN(10*VLOOKUP(BF40,$A$8:$BU$48,42,FALSE)/VLOOKUP(BF40,$A$8:$H$48,8,FALSE),0)-ROUNDDOWN(10*BK40/$H40,0)),IF(AND(BI40=\"Nul\",$AP40=$H40),58,0))))","v":0},{"$f":"E38+E39+E40","v":0},{"$f":"IF($I40<>\"\",VLOOKUP($I40,$A$8:$H$60,5,FALSE),0)+IF($P40<>\"\",VLOOKUP($P40,$A$8:$H$60,5,FALSE),0)+IF($W40<>\"\",VLOOKUP($W40,$A$8:$H$60,5,FALSE),0)+IF($AD40<>\"\",VLOOKUP($AD40,$A$8:$H$60,5,FALSE),0)+IF($AK40<>\"\",VLOOKUP($AK40,$A$8:$H$60,5,FALSE),0)+IF($AY40<>\"\",VLOOKUP($AY40,$A$8:$H$60,5,FALSE),0)+IF($BF40<>\"\",VLOOKUP($BF40,$A$8:$H$60,5,FALSE),0)+IF($AR40<>\"\",VLOOKUP($AR40,$A$8:$H$60,5,FALSE),0)","v":0}]
[{"$nulls":4},0,null,{"$f":"IF($F41<>\"\",VLOOKUP(F41,Armees!$A$1:$B$283,2,FALSE),\"\")","v":""},null,null,"","",null,"",null,0,null,"","",null,"",null,0,null,"","",null,"",null,0,null,"","",null,"",null,0,null,"","",null,"",null,0,null,"","",null,"",null,0,null,"","",null,"",null,0,null,"","",null,"",null,0,{"$f":"E41+E42+E43","v":0},0]
[{"$nulls":4},0,null,{"$f":"IF($F42<>\"\",VLOOKUP(F42,Armees!$A$1:$B$283,2,FALSE),\"\")","v":""},null,null,"","",null,"",null,0,null,"","",null,"",null,0,null,"","",null,"",null,0,null,"","",null,"",null,0,null,"","",null,"",null,0,null,"","",null,"",null,0,null,"","",null,"",null,0,null,"",{"$f":"IF(BF42<>\"\",IF(BF42=$A42,\"ERR\",IF(OR(BF42=$P42,BF42=$W42,BF42=$AD42,BF42=$AK42,BF42=$AR42,BF42=$AY42,BF42=$BG42),\"DUP\",IF(ISNA(VLOOKUP(BF42,$A$8:$A$48,1,FALSE)),\"ERR\",IF(COUNTIF($I$8:$I$48,BF42)>1,\"ERR\",IF($D42=VLOOKUP(BF42,$A$8:$D$48,4,FALSE),\"CLUB\",\"OK\"))))),\"\")","v":""},null,"",null,0,{"$f":"E41+E42+E43","v":0},0]
[{"$nulls":4},0,null,{"$f":"IF($F43<>\"\",VLOOKUP(F43,Armees!$A$1:$B$283,2,FALSE),\"\")","v":""},null,null,"","",null,"",null,0,null,"","",null,"",null,0,null,"","",null,"",null,0,null,"","",null,"",null,0,null,"","",null,"",null,0,null,"","",null,"",null,0,null,"","",null,"",null,0,null,"","",null,"",null,0,{"$f":"E41+E42+E43","v":0},0]
[{"$nulls":4},0,null,{"$f":"IF($F44<>\"\",VLOOKUP(F44,Armees!$A$1:$B$283,2,FALSE),\"\")","v":""},null,null,"","",null,"",null,0,null,"","",null,"",null,0,null,"","",null,"",null,0,null,"","",null,"",null,0,null,"","",null,"",null,0,null,"","",null,"",null,0,null,"","",null,"",null,0,null,"","",null,"",null,0,{"$f":"E44+E45+E46","v":0},0]
[{"$nulls":4},0,null,{"$f":"IF($F45<>\"\",VLOOKUP(F45,Armees!$A$1:$B$283,2,FALSE),\"\")","v":""},null,null,"","",null,"",null,0,null,"","",null,"",null,0,null,"","",null,"",null,0,null,"","",null,"",null,0,null,"","",null,"",null,0,null,"","",null,"",null,0,null,"","",null,"",null,0,null,"","",null,"",null,0,{"$f":"E44+E45+E46","v":0},0]
[{"$nulls":4},0,null,{"$f":"IF($F46<>\"\",VLOOKUP(F46,Armees!$A$1:$B$283,2,FALSE),\"\")","v":""},null,null,"","",null,"",null,0,null,"","",null,"",null,0,null,"","",null,"",null,0,null,"","",null,"",null,0,null,"","",null,"",null,0,null,"","",null,"",null,0,null,"","",null,"",null,0,null,"","",null,"",null,0,{"$f":"E44+E45+E46","v":0},0]
[{"$nulls":4},0,null,{"$f":"IF($F47<>\"\",VLOOKUP(F47,Armees!$A$1:$B$283,2,FALSE),\"\")","v":""},null,null,"","",null,"",null,0,null,"","",null,"",null,0,null,"","",null,"",null,0,null,"","",null,"",null,0,null,"","",null,"",null,0,null,"","",null,"",null,0,null,"","",null,"",null,0,null,"","",null,"",null,0,{"$f":"E47+E48+E49","v":0},0]
[{"$nulls":4},0,null,{"$f":"IF($F48<>\"\",VLOOKUP(F48,Armees!$A$1:$B$283,2,FALSE),\"\")","v":""},null,null,"","",null,"",null,0,null,"","",null,"",null,0,null,"","",null,"",null,0,null,"","",null,"",null,0,null,"","",null,"",null,0,null,"","",null,"",null,0,null,"","",null,"",null,0,null,"","",null,"",null,0,{"$f":"E47+E48+E49","v":0},0]
[{"$nulls":4},0,null,{"$f":"IF($F49<>\"\",VLOOKUP(F49,Armees!$A$1:$B$283,2,FALSE),\"\")","v":""},null,null,"","",null,"",null,0,null,"","",null,"",null,0,null,"","",null,"",null,0,null,"","",null,"",null,0,null,"","",null,"",null,0,null,"","",null,"",null,0,null,"","",null,"",null,0,null,"","",null,"",null,0,{"$f":"E47+E48+E49","v":0},0]
[{"$nulls":4},0,null,{"$f":"IF($F50<>\"\",VLOOKUP(F50,Armees!$A$1:$B$283,2,FALSE),\"\")","v":""},null,null,"","",null,"",null,0,null,"","",null,"",null,0,null,"","",null,"",null,0,null,"","",null,"",null,0,null,"","",null,"",null,0,null,"","",null,"",null,0,null,"","",null,"",null,0,null,"","",null,"",null,0,{"$f":"E50+E51+E52","v":0},0]
[{"$nulls":4},0,null,{"$f":"IF($F51<>\"\",VLOOKUP(F51,Armees!$A$1:$B$283,2,FALSE),\"\")","v":""},null,null,"","",null,"",null,0,null,"","",null,"",null,0,null,"","",null,"",null,0,null,"","",null,"",null,0,null,"","",null,"",null,0,null,"","",null,"",null,0,null,"","",null,"",null,0,null,"","",null,"",null,0,{"$f":"E50+E51+E52","v":0},0]
[{"$nulls":4},0,null,{"$f":"IF($F52<>\"\",VLOOKUP(F52,Armees!$A$1:$B$283,2,FALSE),\"\")","v":""},null,null,"","",null,"",null,0,null,"","",null,"",null,0,null,"","",null,"",null,0,null,"","",null,"",null,0,null,"","",null,"",null,0,null,"","",null,"",null,0,null,"","",null,"",null,0,null,"","",null,"",null,0,{"$f":"E50+E51+E52","v":0},0]
[{"$nulls":4},0,null,{"$f":"IF($F53<>\"\",VLOOKUP(F53,Armees!$A$1:$B$283,2,FALSE),\"\")","v":""},null,null,"","",null,"",null,0,null,"","",null,"",null,0,null,"","",null,"",null,0,null,"","",null,"",null,0,null,"","",null,"",null,0,null,"","",null,"",null,0,null,"","",null,"",null,0,null,"","",null,"",null,0,{"$f":"E53+E54+E55","v":0},0]
[{"$nulls":4},0,null,{"$f":"IF($F54<>\"\",VLOOKUP(F54,Armees!$A$1:$B$283,2,FALSE),\"\")","v":""},null,null,"","",null,"",null,0,null,"","",null,"",null,0,null,"","",null,"",null,0,null,"","",null,"",null,0,null,"","",null,"",null,0,null,"","",null,"",null,0,null,"","",null,"",null,0,null,"","",null,"",null,0,{"$f":"E53+E54+E55","v":0},0]
[{"$nulls":4},0,null,{"$f":"IF($F55<>\"\",VLOOKUP(F55,Armees!$A$1:$B$283,2,FALSE),\"\")","v":""},null,null,"","",null,"",null,0,null,"","",null,"",null,0,null,"","",null,"",null,0,null,"","",null,"",null,0,null,"","",null,"",null,0,null,"","",null,"",null,0,null,"","",null,"",null,0,null,"","",null,"",null,0,{"$f":"E53+E54+E55","v":0},0]
[{"$nulls":4},0,null,{"$f":"IF($F56<>\"\",VLOOKUP(F56,Armees!$A$1:$B$283,2,FALSE),\"\")","v":""},null,null,"","",null,"",null,0,null,"","",null,"",null,0,null,"","",null,"",null,0,null,"","",null,"",null,0,null,"","",null,"",null,0,null,"","",null,"",null,0,null,"","",null,"",null,0,null,"","",null,"",null,0,{"$f":"E56+E57+E58","v":0},0]
[{"$nulls":4},0,null,{"$f":"IF($F57<>\"\",VLOOKUP(F57,Armees!$A$1:$B$283,2,FALSE),\"\")","v":""},null,null,"","",null,"",null,0,null,"","",null,"",null,0,null,"","",null,"",null,0,null,"","",null,"",null,0,null,"","",null,"",null,0,null,"","",null,"",null,0,null,"","",null,"",null,0,null,"","",null,"",null,0,{"$f":"E56+E57+E58","v":0},0]
[{"$nulls":4},0,null,{"$f":"IF($F58<>\"\",VLOOKUP(F58,Armees!$A$1:$B$283,2,FALSE),\"\")","v":""},null,null,"","",null,"",null,0,null,"","",null,"",null,0,null,"","",null,"",null,0,null,"","",null,"",null,0,null,"","",null,"",null,0,null,"","",null,"",null,0,null,"","",null,"",null,0,null,"","",null,"",null,0,{"$f":"E56+E57+E58","v":0},0]
[{"$nulls":4},0,null,{"$f":"IF($F59<>\"\",VLOOKUP(F59,Armees!$A$1:$B$283,2,FALSE),\"\")","v":""},null,null,"","",null,"",null,0,null,"","",null,"",null,0,null,"","",null,"",null,0,null,"","",null,"",null,0,null,"","",null,"",null,0,null,"","",null,"",null,0,null,"","",null,"",null,0,null,"","",null,"",null,0,{"$f":"E59+E60+E61","v":0},0]
[{"$nulls":4},0,null,{"$f":"IF($F60<>\"\",VLOOKUP(F60,Armees!$A$1:$B$283,2,FALSE),\"\")","v":""},null,null,"","",null,"",null,0,null,"","",null,"",null,0,null,"","",null,"",null,0,null,"","",null,"",null,0,null,"","",null,"",null,0,null,"","",null,"",null,0,null,"","",null,"",null,0,null,"","",null,"",null,0,{"$f":"E59+E60+E61","v":0},0]
[{"$nulls":4},{"$f":"O61+V61+AC61+AJ61+AQ61+BP61+AX61+BE61+BL61","v":0},null,{"$f":"IF($F61<>\"\",VLOOKUP(F61,Armees!$A$1:$B$283,2,FALSE),\"\")","v":""},null,null,{"$f":"IF(I61<>\"\",VLOOKUP(I61,$A$8:$C$48,2,FALSE),\"\")","v":""},{"$f":"IF(I61<>\"\",IF(I61=$A61,\"ERR\",IF(OR(I61=$P61,I61=$W61,I61=$AD61,I61=$AK61,I61=$AR61,I61=$AY61,I61=$BF61),\"DUP\",IF(ISNA(VLOOKUP(I61,$A$8:$A$60,1,FALSE)),\"ERR\",IF(COUNTIF($I$8:$I$60,I61)>1,\"ERR\",IF($D61=VLOOKUP(I61,$A$8:$D$60,4,FALSE),\"CLUB\",\"OK\"))))),\"\")","v":""},null,{"$f":"IF(L61<>\"\",IF(L61=\"Victoire\",IF(VLOOKUP(I61,$A$8:$L$60,12,FALSE)=\"Défaite\",\"OK\",\"ERR\"),IF(L61=\"Défaite\",IF(VLOOKUP(I61,$A$8:$L$60,12,FALSE)=\"Victoire\",\"OK\",\"ERR\"),IF(L61=\"Nul\",IF(VLOOKUP(I61,$A$8:$L$60,12,FALSE)=\"Nul\",\"OK\",\"ERR\")))),\"\")","v":""},null,{"$f":"IF(L61=\"Victoire\",100-ROUNDDOWN(20*N61/$H61,0),\nIF(L61=\"Défaite\",10+ROUNDDOWN(20*VLOOKUP(I61,$A$8:$N$48,14,FALSE)/VLOOKUP(I61,$A$8:$H$48,8,FALSE),0),\nIF(AND(L61=\"Nul\",$N61<>$H61),40+(2*ROUNDDOWN(10*VLOOKUP(I61,$A$8:$N$48,14,FALSE)/VLOOKUP(I61,$A$8:$H$48,8,FALSE),0)-ROUNDDOWN(10*N61/$H61,0)),IF(AND(L61=\"Nul\",$N61=$H61),58,0))))","v":0},null,{"$f":"IF(P61<>\"\",VLOOKUP(P61,$A$8:$C$48,2,FALSE),\"\")","v":""},{"$f":"IF(P61<>\"\",IF(P61=$A61,\"ERR\",IF(OR(P61=$I61,P61=$W61,P61=$AD61,P61=$AK61,P61=$AR61,P61=$AY61,P61=$BF61),\"DUP\",IF(ISNA(VLOOKUP(P61,$A$8:$A$60,1,FALSE)),\"ERR\",IF(COUNTIF($I$8:$I$60,P61)>1,\"ERR\",IF($D61=VLOOKUP(P61,$A$8:$D$60,4,FALSE),\"CLUB\",\"OK\"))))),\"\")","v":""},null,{"$f":"IF(S61<>\"\",IF(S61=\"Victoire\",IF(VLOOKUP(P61,$A$8:$BL$60,19,FALSE)=\"Défaite\",\"OK\",\"ERR\"),IF(S61=\"Défaite\",IF(VLOOKUP(P61,$A$8:$BL$60,19,FALSE)=\"Victoire\",\"OK\",\"ERR\"),IF(S61=\"Nul\",IF(VLOOKUP(P61,$A$8:$BL$60,19,FALSE)=\"Nul\",\"OK\",\"ERR\")))),\"\")","v":""},null,{"$f":"IF(S61=\"Victoire\",100-ROUNDDOWN(20*U61/$H61,0),\nIF(S61=\"Défaite\",10+ROUNDDOWN(20*VLOOKUP(P61,$A$8:$AO$48,21,FALSE)/VLOOKUP(P61,$A$8:$H$48,8,FALSE),0),\nIF(AND(S61=\"Nul\",$U61<>$H61),40+(2*ROUNDDOWN(10*VLOOKUP(P61,$A$8:$AO$48,21,FALSE)/VLOOKUP(P61,$A$8:$H$48,8,FALSE),0)-ROUNDDOWN(10*U61/$H61,0)),IF(AND(S61=\"Nul\",$U61=$H61),58,0))))","v":0},null,{"$f":"IF(W61<>\"\",VLOOKUP(W61,$A$8:$C$48,2,FALSE),\"\")","v":""},{"$f":"IF(W61<>\"\",IF(W61=$A61,\"ERR\",IF(OR(W61=$P61,W61=$I61,W61=$AD61,W61=$AK61,W61=$AR61,W61=$AY61,W61=$BF61),\"DUP\",IF(ISNA(VLOOKUP(W61,$A$8:$A$60,1,FALSE)),\"ERR\",IF(COUNTIF($I$8:$I$60,W61)>1,\"ERR\",IF($D61=VLOOKUP(W61,$A$8:$D$60,4,FALSE),\"CLUB\",\"OK\"))))),\"\")","v":""},null,{"$f":"IF(Z61<>\"\",IF(Z61=\"Victoire\",IF(VLOOKUP(W61,$A$8:$BJ$60,26,FALSE)=\"Défaite\",\"OK\",\"ERR\"),IF(Z61=\"Défaite\",IF(VLOOKUP(W61,$A$8:$BJ$60,26,FALSE)=\"Victoire\",\"OK\",\"ERR\"),IF(Z61=\"Nul\",IF(VLOOKUP(W61,$A$8:$BJ$60,26,FALSE)=\"Nul\",\"OK\",\"ERR\")))),\"\")","v":""},null,{"$f":"IF(Z61=\"Victoire\",100-ROUNDDOWN(20*AB61/$H61,0),\nIF(Z61=\"Défaite\",10+ROUNDDOWN(20*VLOOKUP(W61,$A$8:$AO$48,28,FALSE)/VLOOKUP(W61,$A$8:$H$48,8,FALSE),0),\nIF(AND(Z61=\"Nul\",$AB61<>$H61),40+(2*ROUNDDOWN(10*VLOOKUP(W61,$A$8:$AO$48,28,FALSE)/VLOOKUP(W61,$A$8:$H$48,8,FALSE),0)-ROUNDDOWN(10*AB61/$H61,0)),IF(AND(Z61=\"Nul\",$AB61=$H61),58,0))))","v":0},null,{"$f":"IF(AD61<>\"\",VLOOKUP(AD61,$A$8:$C$48,2,FALSE),\"\")","v":""},{"$f":"IF(AD61<>\"\",IF(AD61=$A61,\"ERR\",IF(OR(AD61=$P61,AD61=$W61,AD61=$I61,AD61=$AK61, AD61=$AR61,AD61=$AY61,AD61=$BF61),\"DUP\",IF(ISNA(VLOOKUP(AD61,$A$8:$A$60,1,FALSE)),\"ERR\",IF(COUNTIF($I$8:$I$60,AD61)>1,\"ERR\",IF($D61=VLOOKUP(AD61,$A$8:$D$60,4,FALSE),\"CLUB\",\"OK\"))))),\"\")","v":""},null,{"$f":"IF(AG61<>\"\",IF(AG61=\"Victoire\",IF(VLOOKUP(AD61,$A$8:$BJ$60,33,FALSE)=\"Défaite\",\"OK\",\"ERR\"),IF(AG61=\"Défaite\",IF(VLOOKUP(AD61,$A$8:$BJ$60,33,FALSE)=\"Victoire\",\"OK\",\"ERR\"),IF(AG61=\"Nul\",IF(VLOOKUP(AD61,$A$8:$BJ$60,33,FALSE)=\"Nul\",\"OK\",\"ERR\")))),\"\")","v":""},null,{"$f":"IF(AG61=\"Victoire\",100-ROUNDDOWN(20*AI61/$H61,0),\nIF(AG61=\"Défaite\",10+ROUNDDOWN(20*VLOOKUP(AD61,$A$8:$AO$48,35,FALSE)/VLOOKUP(AD61,$A$8:$H$48,8,FALSE),0),\nIF(AND(AG61=\"Nul\",$AI61<>$H61),40+(2*ROUNDDOWN(10*VLOOKUP(AD61,$A$8:$AO$48,35,FALSE)/VLOOKUP(AD61,$A$8:$H$48,8,FALSE),0)-ROUNDDOWN(10*AI61/$H61,0)),IF(AND(AG61=\"Nul\",$AI61=$H61),58,0))))","v":0},null,{"$f":"IF(AK61<>\"\",VLOOKUP(AK61,$A$8:$C$48,2,FALSE),\"\")","v":""},{"$f":"IF(AK61<>\"\",IF(AK61=$A61,\"ERR\",IF(OR(AK61=$P61,AK61=$W61,AK61=$AD61,AK61=$I61, AK61=$AR61,AK61=$AY61,AK61=$BF61),\"DUP\",IF(ISNA(VLOOKUP(AK61,$A$8:$A$48,1,FALSE)),\"ERR\",IF(COUNTIF($I$8:$I$48,AK61)>1,\"ERR\",IF($D61=VLOOKUP(AK61,$A$8:$D$48,4,FALSE),\"CLUB\",\"OK\"))))),\"\")","v":""},null,{"$f":"IF(AN61<>\"\",IF(AN61=\"Victoire\",IF(VLOOKUP(AK61,$A$8:$BL$60,40,FALSE)=\"Défaite\",\"OK\",\"ERR\"),IF(AN61=\"Défaite\",IF(VLOOKUP(AK61,$A$8:$BL$60,40,FALSE)=\"Victoire\",\"OK\",\"ERR\"),IF(AN61=\"Nul\",IF(VLOOKUP(AK61,$A$8:$BL$60,40,FALSE)=\"Nul\",\"OK\",\"ERR\")))),\"\")","v":""},null,{"$f":"IF(AN61=\"Victoire\",100-ROUNDDOWN(20*AP61/$H61,0),\nIF(AN61=\"Défaite\",10+ROUNDDOWN(20*VLOOKUP(AK61,$A$8:$BU$48,42,FALSE)/VLOOKUP(AK61,$A$8:$H$48,8,FALSE),0),\nIF(AND(AN61=\"Nul\",$AP61<>$H61),40+(2*ROUNDDOWN(10*VLOOKUP(AK61,$A$8:$BU$48,42,FALSE)/VLOOKUP(AK61,$A$8:$H$48,8,FALSE),0)-ROUNDDOWN(10*AP61/$H61,0)),IF(AND(AN61=\"Nul\",$AP61=$H61),58,0))))","v":0},null,{"$f":"IF(AR61<>\"\",VLOOKUP(AR61,$A$8:$C$48,2,FALSE),\"\")","v":""},{"$f":"IF(AR61<>\"\",IF(AR61=$A61,\"ERR\",IF(OR(AR61=$P61,AR61=$W61,AR61=$AD61,AR61=$AK61,AR61=$AY61,AR61=$BF61),\"DUP\",IF(ISNA(VLOOKUP(AR61,$A$8:$A$48,1,FALSE)),\"ERR\",IF(COUNTIF($I$8:$I$48,AR61)>1,\"ERR\",IF($D61=VLOOKUP(AR61,$A$8:$D$48,4,FALSE),\"CLUB\",\"OK\"))))),\"\")","v":""},null,{"$f":"IF(AU61<>\"\",IF(AU61=\"Victoire\",IF(VLOOKUP(AR61,$A$8:$BL$60,47,FALSE)=\"Défaite\",\"OK\",\"ERR\"),IF(AU61=\"Défaite\",IF(VLOOKUP(AR61,$A$8:$BL$60,47,FALSE)=\"Victoire\",\"OK\",\"ERR\"),IF(AU61=\"Nul\",IF(VLOOKUP(AR61,$A$8:$BL$60,47,FALSE)=\"Nul\",\"OK\",\"ERR\")))),\"\")","v":""},null,{"$f":"IF(AU61=\"Victoire\",100-ROUNDDOWN(20*AW61/$H61,0),\nIF(AU61=\"Défaite\",10+ROUNDDOWN(20*VLOOKUP(AR61,$A$8:$BU$48,42,FALSE)/VLOOKUP(AR61,$A$8:$H$48,8,FALSE),0),\nIF(AND(AU61=\"Nul\",$AP61<>$H61),40+(2*ROUNDDOWN(10*VLOOKUP(AR61,$A$8:$BU$48,42,FALSE)/VLOOKUP(AR61,$A$8:$H$48,8,FALSE),0)-ROUNDDOWN(10*AW61/$H61,0)),IF(AND(AU61=\"Nul\",$AP61=$H61),58,0))))","v":0},null,{"$f":"IF(AY61<>\"\",VLOOKUP(AY61,$A$8:$C$48,2,FALSE),\"\")","v":""},{"$f":"IF(AY61<>\"\",IF(AY61=$A61,\"ERR\",IF(OR(AY61=$P61,AY61=$W61,AY61=$AD61,AY61=$AK61,AY61=$AR61,AY61=$BG61,AY61=$BF61),\"DUP\",IF(ISNA(VLOOKUP(AY61,$A$8:$A$48,1,FALSE)),\"ERR\",IF(COUNTIF($I$8:$I$48,AY61)>1,\"ERR\",IF($D61=VLOOKUP(AY61,$A$8:$D$48,4,FALSE),\"CLUB\",\"OK\"))))),\"\")","v":""},null,{"$f":"IF(BB61<>\"\",IF(BB61=\"Victoire\",IF(VLOOKUP(AY61,$A$8:$BL$60,54,FALSE)=\"Défaite\",\"OK\",\"ERR\"),IF(BB61=\"Défaite\",IF(VLOOKUP(AY61,$A$8:$BL$60,54,FALSE)=\"Victoire\",\"OK\",\"ERR\"),IF(BB61=\"Nul\",IF(VLOOKUP(AY61,$A$8:$BL$54,54,FALSE)=\"Nul\",\"OK\",\"ERR\")))),\"\")","v":""},null,{"$f":"IF(BB61=\"Victoire\",100-ROUNDDOWN(20*BD61/$H61,0),\nIF(BB61=\"Défaite\",10+ROUNDDOWN(20*VLOOKUP(AY61,$A$8:$BU$48,42,FALSE)/VLOOKUP(AY61,$A$8:$H$48,8,FALSE),0),\nIF(AND(BB61=\"Nul\",$AP61<>$H61),40+(2*ROUNDDOWN(10*VLOOKUP(AY61,$A$8:$BU$48,42,FALSE)/VLOOKUP(AY61,$A$8:$H$48,8,FALSE),0)-ROUNDDOWN(10*BD61/$H61,0)),IF(AND(BB61=\"Nul\",$AP61=$H61),58,0))))","v":0},null,{"$f":"IF(BF61<>\"\",VLOOKUP(BF61,$A$8:$C$48,2,FALSE),\"\")","v":""},{"$f":"IF(BF61<>\"\",IF(BF61=$A61,\"ERR\",IF(OR(BF61=$P61,BF61=$W61,BF61=$AD61,BF61=$AK61,BF61=$AR61,BF61=$AY61,BF61=$BG61),\"DUP\",IF(ISNA(VLOOKUP(BF61,$A$8:$A$48,1,FALSE)),\"ERR\",IF(COUNTIF($I$8:$I$48,BF61)>1,\"ERR\",IF($D61=VLOOKUP(BF61,$A$8:$D$48,4,FALSE),\"CLUB\",\"OK\"))))),\"\")","v":""},null,{"$f":"IF(BI61<>\"\",IF(BI61=\"Victoire\",IF(VLOOKUP(BF61,$A$8:$BL$60,61,FALSE)=\"Défaite\",\"OK\",\"ERR\"),IF(BI61=\"Défaite\",IF(VLOOKUP(BF61,$A$8:$BL$60,61,FALSE)=\"Victoire\",\"OK\",\"ERR\"),IF(BI61=\"Nul\",IF(VLOOKUP(BF61,$A$8:$BL$60,61,FALSE)=\"Nul\",\"OK\",\"ERR\")))),\"\")","v":""},null,{"$f":"IF(BI61=\"Victoire\",100-ROUNDDOWN(20*BK61/$H61,0),\nIF(BI61=\"Défaite\",10+ROUNDDOWN(20*VLOOKUP(BF61,$A$8:$BU$48,42,FALSE)/VLOOKUP(BF61,$A$8:$H$48,8,FALSE),0),\nIF(AND(BI61=\"Nul\",$AP61<>$H61),40+(2*ROUNDDOWN(10*VLOOKUP(BF61,$A$8:$BU$48,42,FALSE)/VLOOKUP(BF61,$A$8:$H$48,8,FALSE),0)-ROUNDDOWN(10*BK61/$H61,0)),IF(AND(BI61=\"Nul\",$AP61=$H61),58,0))))","v":0},{"$f":"E59+E60+E61","v":0},{"$f":"IF($I61<>\"\",VLOOKUP($I61,$A$8:$H$60,5,FALSE),0)+IF($P61<>\"\",VLOOKUP($P61,$A$8:$H$60,5,FALSE),0)+IF($W61<>\"\",VLOOKUP($W61,$A$8:$H$60,5,FALSE),0)+IF($AD61<>\"\",VLOOKUP($AD61,$A$8:$H$60,5,FALSE),0)+IF($AK61<>\"\",VLOOKUP($AK61,$A$8:$H$60,5,FALSE),0)+IF($AY61<>\"\",VLOOKUP($AY61,$A$8:$H$60,5,FALSE),0)+IF($BF61<>\"\",VLOOKUP($BF61,$A$8:$H$60,5,FALSE),0)+IF($AR61<>\"\",VLOOKUP($AR61,$A$8:$H$60,5,FALSE),0)","v":0}]
{"$rows_empty":36}
[null,"Data"]
[]
[null,"FRA"]
[null,"BEL","Victoire"]
[null,"SUI","Nul"]
[null,"ITA","Défaite"]
[null,"ESP"]
[null,"UK"]
[null,"US"]
[null,"DE"]
[null,"Open Theme"]
[null,"Biblical"]
[null,"Medieval"]
[null,"Ancient"]
[null,"Classical"]
[null,"Roman"]
[null,"Dark Ages"]
[null,"Feudal"]
[null,"Late Middle Ages"]
[null,"Other Themes"]

{"sheet":"Instructions","index":1,"n_rows":26,"n_cols":1,"rows_kept":26}
["L'Art de la Guerre"]
["The results excel file"]
[]
["The excel file is used to help to pair up and to record Tournament results for L'Art de la Guerre. "]
["Using this spreadsheet allows the Tournament Organiser to submit the results for automatic inclusion in the global tournament database. This generates ELO rankings for players across the world."]
[]
["Instructions"]
["1 - Enter the tournament’s data: tournament name, theme, date, country where it takes place, number of players and number of rounds (3 to 5). Theses pieces of information will be saved in the database."]
["2 - Copy the list of players by filling the following columns: ID, Surname, First Name, Club, army list nbr and its nbr of units. Each ID is linked to only one player. If a player has already played in a tournament, he has an ID nbr, that can be found on the ADLG website. For the new players, the umpires can obtain their ID by calling the championship master. Otherwise take ID nbr as N101 to N150."]
["3 - For each round, pairings arecalculated manually by the umpire. You can show or hide the details of each round by clicking on buttons.  Entering the ID of each players opponent in the draw will generate an automatic check for mistakes: a red highlighted cell means that an incorrect player number has been entered, a purple cell means that the players have already played together and an amber cell means that the players come from the same club. The opponent’s name is automatically generated from the ID number. A summary of the pairings for that turn is generated when the (\"Rnd\") button is clicked. "]
["4 - A the end of each game players only need to submit the result (victory, a defeat or a draw) and also the number of of losses (not required for broken armies). Both players results need to be entered, and if their results are incompatible (ie both are listed as winning outright) the cell will be highlighted in red. The points accruing to each player are calculated automatically (based on the army sizes entered earlier) and added in the Points columns in green."]
["5 - At the end of the round, you can get the overall ranking by clicking the (sort out) button “Team Sort”. This will be sorted by increasing points. Then click \"make draw\" for printing of the matches. Click again \"Team Sort\" before entering the results. Players equally placed are sorted by the amount of points earned by all of their opponents. If some ties are left, the umpire can manually add a player ranking in the “ex-aequo” column. This could be based on ELO rank, the result of the match they played together, or any other random criteria decided by the Umpire."]
["6 - The column “Ajustment Points” allows the umpire to manually add or subtract points from the player’s total. It could be used to implement penalties or bonuses such as:\n-10pts to a player for a late list;\n-100pts for a player that changes or provides his list at the beginning of the tournament;\n-30pts for unsporting behaviour."]
["7 - When the tournament is over, please send this results file to the AGLG Tournament admin. The results will be recorded in the tournament database."]
[]
[]
[]
[]
[]
["Versions"]
["1.0 : Initial version"]
["1.1 : Minor corrections"]
["1.2 : Corrections to draw matches’ rounds"]
["1.3 : Addition of the army list in version 2"]
["1.4 : Modifications for the draw matches (base 35pts instead of 40)"]
["2.0 : Modifications due to new organisation charter for tournaments, counting for the championship"]

{"sheet":"Round Draws","index":2,"n_rows":2,"n_cols":2,"rows_kept":2,"hidden":true}
[]
[null,"Appariements du tour 4"]

{"sheet":"Armees","index":3,"n_rows":300,"n_cols":2,"rows_kept":300}
[1,"Sumer and Akkad"]
[2,"Sumerian Successor"]
[3,"Amorite Highlanders"]
[4,"Elamite"]
[5,"Old Assyrian and Babylonian"]
[6,"Kassite Babylonian"]
[7,"Assyrian"]
[8,"Neo-Babylonian"]
[9,"Assyrian Empire and Sargonid"]
[10,"Old and Middle Kingdom Egyptian"]
[11,"Nubian"]
[12,"Libyan"]
[13,"Hyksos"]
[14,"New Kingdom Egyptian"]
[15,"Libyan Egyptian"]
[16,"Kushite Egyptian"]
[17,"Ancient Bedouin"]
[18,"Syrian City States"]
[19,"Oman and Gulf States"]
[20,"Hittite"]
[21,"Hurri-Mitanni"]
[22,"Syria, Canaan and Ugarit"]
[23,"Ancient Hebrew"]
[24,"Sea Peoples"]
[25,"Philistine"]
[26,"Aramaean and Neo-Hittite"]
[27,"Urartu"]
[28,"Medes"]
[29,"Phrygian"]
[30,"Mycenaean"]
[31,"Geometric Greek"]
[32,"Phoenicians of Cyprus"]
[33,"Celts"]
[34,"Indus Valley"]
[35,"Vedic Indian"]
[36,"Erlitou Shang Chinese"]
[37,"Zhou, Spring & Autumn Chinese"]
[38,"Early Macedonian"]
[39,"Alexandrian Macedonian"]
[40,"Alexander the Great"]
[41,"Early Successors"]
[42,"Seleucid"]
[43,"Ptolemaic"]
[44,"Pyrrhic"]
[45,"Later Macedonian"]
[46,"Graeco-Bactrian/Graeco-Indian"]
[47,"Italic Tribes"]
[48,"Etruscan"]
[49,"Tullian Roman"]
[50,"Syracusan"]
[51,"C/pnnian, Lucian, Apulian & B/tian"]
[52,"Camillan Roman"]
[53,"Republican Roman"]
[54,"Early Carthaginian"]
[55,"Carthaginian"]
[56,"Numidian"]
[57,"Saitic Egyptian"]
[58,"Kyrenean Greek"]
[59,"Meroitic Kushite"]
[60,"Classical Greek"]
[61,"Hellenistic Greek"]
[62,"Illyrian"]
[63,"Thracian"]
[64,"Achaemenid Persian"]
[65,"Lydian"]
[66,"Lycian"]
[67,"Bithynian"]
[68,"Later Achaemenid Persian"]
[69,"Cappadocian"]
[70,"Bosporan Kingdom"]
[71,"Armenian"]
[72,"Galatian"]
[73,"Pergamon"]
[74,"Aramaean"]
[75,"Early Arab"]
[76,"Scythian"]
[77,"Sarmatian"]
[78,"Vietnamese"]
[79,"Classical Indian"]
[80,"Warring States"]
[81,"Qiang Di"]
[82,"Yayoi Japanese"]
[83,"Triumvirate Roman"]
[84,"Slave revolts"]
[85,"Early Imperial Roman"]
[86,"Middle Imperial Roman"]
[87,"Late Imperial Roman"]
[88,"Patrician Roman"]
[89,"Gallic"]
[90,"Ancient Spanish"]
[91,"German"]
[92,"Dacian and Carpi"]
[93,"Visigoth"]
[94,"Vandal"]
[95,"Ostrogoth"]
[96,"Gepid, Herul, Taifali and Sciri"]
[97,"Franks, Alemanni, Burgundi, Suevi"]
[98,"Ancient British"]
[99,"Caledonian, Scots-Irish, Pictish"]
[100,"Saxon,Anglo-Saxon,Frisian,Jute"]
[101,"Britto-Roman"]
[102,"Parthian"]
[103,"Judaean Jewish"]
[104,"Commagene"]
[105,"Mithridatic"]
[106,"Palmyran"]
[107,"Kushan"]
[108,"Alan"]
[109,"Sassanid Persian"]
[110,"Huns"]
[111,"Hephthalite Huns"]
[112,"Blemmyes and Nobatae"]
[113,"Moors"]
[114,"Kingdom of Axum"]
[115,"Xiongnu"]
[116,"Han Chinese"]
[117,"Xianbei"]
[118,"Three Kingdoms Chinese"]
[119,"Chinese N & S Dynasties"]
[120,"Tamil Indian"]
[121,"Three Kingdoms Korean"]
[122,"Kofun-Nara Japanese"]
[123,"Emishi"]
[124,"Justinian Byzantine"]
[125,"Maurikian Byzantine"]
[126,"Thematic Byzantine"]
[127,"Nikephorian Byzantine"]
[128,"Armenian Principality"]
[129,"Bagratid Armenian"]
[130,"Arab Conquest"]
[131,"Umayyad Arab"]
[132,"North African Arab"]
[133,"Andalusian Arab"]
[134,"Abbasid Arab"]
[135,"Arab Indian"]
[136,"Khurasanian"]
[137,"Tulunid and Iqshidid Egyptian"]
[138,"Bedouin Dynasties"]
[139,"Sogdian and C'tal Asia Cities"]
[140,"Central Asian Turkish"]
[141,"Visigoth in Spain"]
[142,"African Vandal"]
[143,"Lombard"]
[144,"Italian Ostrogoth"]
[145,"Later Scots-Irish"]
[146,"Post Roman British"]
[147,"Later Pictish"]
[148,"Merovingian Frankish"]
[149,"Armourican Breton"]
[150,"Welsh"]
[151,"Anglo-Saxon"]
[152,"Astur-Leónese and Navarrese"]
[153,"Carolingian Frankish"]
[154,"Later Franks"]
[155,"Viking and Leidang"]
[156,"Irish"]
[157,"Scots"]
[158,"Slav"]
[159,"Avar"]
[160,"Bulgar"]
[161,"Khazar"]
[162,"Serbo-Croatian"]
[163,"Magyar"]
[164,"Pecheneg"]
[165,"Rus"]
[166,"Christian Nubian"]
[167,"Beja"]
[168,"Burmese"]
[169,"Rebel Vietnam"]
[170,"Hindu Indian"]
[171,"Sui and Tang Chinese"]
[172,"Tibetan"]
[173,"Khmer Empire and Cham"]
[174,"Nanzhao and Dali"]
[175,"Tang and 5 Dynasties Chinese"]
[176,"Heian Japanese"]
[177,"Shatuo Turkish"]
[178,"Tribal Mongol"]
[179,"Norman"]
[180,"Anglo-Danish"]
[181,"Anglo-Norman"]
[182,"Feudal French"]
[183,"Feudal English"]
[184,"Feudal Scots"]
[185,"Feudal Welsh"]
[186,"Feudal Anglo-Irish"]
[187,"Scots Isles and Highlanders"]
[188,"Kingdom of Sicily "]
[189,"Communal Italian"]
[190,"Feudal Spanish"]
[191,"Feudal German"]
[192,"Konstantinan Byzantine"]
[193,"Komnenan Byzantine"]
[194,"Cilician Armenian"]
[195,"Crusader"]
[196,"Later Crusader"]
[197,"Frankish Cyprus"]
[198,"Eastern Latin Empire"]
[199,"Dailami Dynasties"]
[200,"Kurdish Dynasties"]
[201,"Ghaznavid"]
[202,"Fatimid Egyptian"]
[203,"Seljuk Turks"]
[204,"Taifa Kingdoms"]
[205,"Syrian"]
[206,"Ghurid"]
[207,"Ayyubid Egyptian"]
[208,"Khwarazmian"]
[209,"Sahelian Empire"]
[210,"Tuareg"]
[211,"Berber"]
[212,"African kingdoms"]
[213,"Feudal Polish"]
[214,"Feudal Hungarian"]
[215,"Georgian"]
[216,"Feudal Russian"]
[217,"Cuman"]
[218,"Feudal Scandinavian"]
[219,"Prussian and Estonian"]
[220,"Teutonic Knights"]
[221,"Samurai"]
[222,"Khitan-Liao"]
[223,"Goryeo Korean"]
[224,"Medieval Vietnamese"]
[225,"Song Chinese"]
[226,"Xi Xia"]
[227,"Jurchen-Jin"]
[228,"Qara-Khitan"]
[229,"Mongol Empire"]
[230,"Granadine"]
[231,"Swiss"]
[232,"Medieval Scots"]
[233,"Medieval Irish"]
[234,"Medieval Anglo-Irish"]
[235,"Condottieri"]
[236,"Hundred Years War English"]
[237,"Hundred Years War French"]
[238,"Medieval German"]
[239,"Medieval Spanish"]
[240,"Kingdom of Navarre"]
[241,"Free Company"]
[242,"Burgundian"]
[243,"Low Countries"]
[244,"Medieval Welsh"]
[245,"French Ordonnance"]
[246,"Burgundian Ordonnance"]
[247,"Wars of the Roses"]
[248,"Lithuanian"]
[249,"Medieval Hungarian"]
[250,"Muscovite Russian"]
[251,"Medieval Scandinavian"]
[252,"Golden Horde"]
[253,"Medieval Teutonic"]
[254,"Medieval Polish"]
[255,"Hussite"]
[256,"Serbian Empire"]
[257,"Second Bulgarian Empire"]
[258,"Later Byzantine"]
[259,"Mamluk"]
[260,"Turkoman"]
[261,"Ottoman Turkish"]
[262,"Catalan Company"]
[263,"Order of St John"]
[264,"Medieval Cyprus"]
[265,"Vlach and Moldavian"]
[266,"Albanian"]
[267,"Ottoman Empire"]
[268,"Besieged Byzantine"]
[269,"Islamic Persian"]
[270,"Ilkhanid Mongol"]
[271,"Steppe Mongol"]
[272,"Jalayirid"]
[273,"Timurid"]
[274,"B/Sheep & W/Sheep Turkoman"]
[275,"Delhi Sultanate"]
[276,"Vijayanagar Kingdom"]
[277,"Indonesian and Malay"]
[278,"Siam"]
[279,"Yuan Chinese"]
[280,"Later Samurai"]
[281,"Ming Chinese"]
[282,"Yi Korean"]
[283,"Olmec"]
[284,"Maya"]
[285,"Zapotec and Mixtec"]
[286,"Toltec"]
[287,"Chinantec"]
[288,"Tarascan"]
[289,"Aztec"]
[290,"Texcala"]
[291,"Inca"]
[292,"Chanca"]
[293,"Mochica and Chimu"]
[294,"Tupi"]
[295,"Mapuche"]
[296,"Chichimec"]
[297,"Pueblos"]
[298,"North American tribes"]
[299,"Mound Builder tribes"]
[300,"Polynesian and Melanesian"]

{"sheet":"Round 1","index":9,"n_rows":63,"n_cols":13,"rows_kept":63}
[null,null,"First Name","Surname","Club",{"$nulls":3},"First Name","Surname","Club"]
["Round 1 Draw",null,{"$f":"Results!B3","v":0}]
[null,null,{"$f":"Results!B4","v":"Open Theme"}]
[{"$nulls":12},"VALID?"]
[null,{"$f":"Results!A8","v":1},{"$f":"Results!C8","v":0},{"$f":"Results!B8","v":"Team 1 A"},{"$f":"Results!D8","v":0},{"$f":"Results!G8","v":""},"- vs -",{"$f":"VLOOKUP(B5,Results!$A$8:AG60,9,)","v":0},{"$f":"VLOOKUP(H5,Results!A$8:G60,3,FALSE)","v":{"$error":"#N/A"}},{"$f":"VLOOKUP(H5,Results!$A$8:G60,2,FALSE)","v":{"$error":"#N/A"}},{"$f":"VLOOKUP(H5,Results!$A$8:G60,4,FALSE)","v":{"$error":"#N/A"}},{"$f":"VLOOKUP(H5,Results!$A$8:G60,7,FALSE)","v":{"$error":"#N/A"}},{"$f":"VLOOKUP(H5,$B$4:B5,1,FALSE)","v":{"$error":"#N/A"}}]
[null,{"$f":"Results!A9","v":2},{"$f":"Results!C9","v":0},{"$f":"Results!B9","v":"Team 1 B"},{"$f":"Results!D9","v":0},{"$f":"Results!G9","v":""},"- vs -",{"$f":"VLOOKUP(B6,Results!$A$8:AG61,9,)","v":0},{"$f":"VLOOKUP(H6,Results!A$8:G61,3,)","v":{"$error":"#N/A"}},{"$f":"VLOOKUP(H6,Results!$A$8:G61,2,FALSE)","v":{"$error":"#N/A"}},{"$f":"VLOOKUP(H6,Results!$A$8:G61,4,FALSE)","v":{"$error":"#N/A"}},{"$f":"VLOOKUP(H6,Results!$A$8:G61,7,FALSE)","v":{"$error":"#N/A"}},{"$f":"VLOOKUP(H6,$B$4:B6,1,FALSE)","v":{"$error":"#N/A"}}]
[null,{"$f":"Results!A10","v":3},{"$f":"Results!C10","v":0},{"$f":"Results!B10","v":"Team 1 C"},{"$f":"Results!D10","v":0},{"$f":"Results!G10","v":""},"- vs -",{"$f":"VLOOKUP(B7,Results!$A$8:AG62,9,)","v":0},{"$f":"VLOOKUP(H7,Results!A$8:G62,3,)","v":{"$error":"#N/A"}},{"$f":"VLOOKUP(H7,Results!$A$8:G62,2,FALSE)","v":{"$error":"#N/A"}},{"$f":"VLOOKUP(H7,Results!$A$8:G62,4,FALSE)","v":{"$error":"#N/A"}},{"$f":"VLOOKUP(H7,Results!$A$8:G62,7,FALSE)","v":{"$error":"#N/A"}},{"$f":"VLOOKUP(H7,$B$4:B7,1,FALSE)","v":{"$error":"#N/A"}}]
[null,{"$f":"Results!A11","v":4},{"$f":"Results!C11","v":0},{"$f":"Results!B11","v":"Team 2 A"},{"$f":"Results!D11","v":0},{"$f":"Results!G11","v":""},"- vs -",{"$f":"VLOOKUP(B8,Results!$A$8:AG63,9,)","v":0},{"$f":"VLOOKUP(H8,Results!A$8:G63,3,)","v":{"$error":"#N/A"}},{"$f":"VLOOKUP(H8,Results!$A$8:G63,2,FALSE)","v":{"$error":"#N/A"}},{"$f":"VLOOKUP(H8,Results!$A$8:G63,4,FALSE)","v":{"$error":"#N/A"}},{"$f":"VLOOKUP(H8,Results!$A$8:G63,7,FALSE)","v":{"$error":"#N/A"}},{"$f":"VLOOKUP(H8,$B$4:B8,1,FALSE)","v":{"$error":"#N/A"}}]
[null,{"$f":"Results!A12","v":5},{"$f":"Results!C12","v":0},{"$f":"Results!B12","v":"Team 2 B"},{"$f":"Results!D12","v":0},{"$f":"Results!G12","v":""},"- vs -",{"$f":"VLOOKUP(B9,Results!$A$8:AG64,9,)","v":0},{"$f":"VLOOKUP(H9,Results!A$8:G64,3,)","v":{"$error":"#N/A"}},{"$f":"VLOOKUP(H9,Results!$A$8:G64,2,FALSE)","v":{"$error":"#N/A"}},{"$f":"VLOOKUP(H9,Results!$A$8:G64,4,FALSE)","v":{"$error":"#N/A"}},{"$f":"VLOOKUP(H9,Results!$A$8:G64,7,FALSE)","v":{"$error":"#N/A"}},{"$f":"VLOOKUP(H9,$B$4:B9,1,FALSE)","v":{"$error":"#N/A"}}]
[null,{"$f":"Results!A13","v":6},{"$f":"Results!C13","v":0},{"$f":"Results!B13","v":"Team 2 C"},{"$f":"Results!D13","v":0},{"$f":"Results!G13","v":""},"- vs -",{"$f":"VLOOKUP(B10,Results!$A$8:AG65,9,)","v":0},{"$f":"VLOOKUP(H10,Results!A$8:G65,3,)","v":{"$error":"#N/A"}},{"$f":"VLOOKUP(H10,Results!$A$8:G65,2,FALSE)","v":{"$error":"#N/A"}},{"$f":"VLOOKUP(H10,Results!$A$8:G65,4,FALSE)","v":{"$error":"#N/A"}},{"$f":"VLOOKUP(H10,Results!$A$8:G65,7,FALSE)","v":{"$error":"#N/A"}},{"$f":"VLOOKUP(H10,$B$4:B10,1,FALSE)","v":{"$error":"#N/A"}}]
[null,{"$f":"Results!A14","v":7},{"$f":"Results!C14","v":0},{"$f":"Results!B14","v":"Team 3 A"},{"$f":"Results!D14","v":0},{"$f":"Results!G14","v":""},"- vs -",{"$f":"VLOOKUP(B11,Results!$A$8:AG66,9,)","v":0},{"$f":"VLOOKUP(H11,Results!A$8:G66,3,)","v":{"$error":"#N/A"}},{"$f":"VLOOKUP(H11,Results!$A$8:G66,2,FALSE)","v":{"$error":"#N/A"}},{"$f":"VLOOKUP(H11,Results!$A$8:G66,4,FALSE)","v":{"$error":"#N/A"}},{"$f":"VLOOKUP(H11,Results!$A$8:G66,7,FALSE)","v":{"$error":"#N/A"}},{"$f":"VLOOKUP(H11,$B$4:B11,1,FALSE)","v":{"$error":"#N/A"}}]
[null,{"$f":"Results!A15","v":8},{"$f":"Results!C15","v":0},{"$f":"Results!B15","v":"Team 3 B"},{"$f":"Results!D15","v":0},{"$f":"Results!G15","v":""},"- vs -",{"$f":"VLOOKUP(B12,Results!$A$8:AG67,9,)","v":0},{"$f":"VLOOKUP(H12,Results!A$8:G67,3,)","v":{"$error":"#N/A"}},{"$f":"VLOOKUP(H12,Results!$A$8:G67,2,FALSE)","v":{"$error":"#N/A"}},{"$f":"VLOOKUP(H12,Results!$A$8:G67,4,FALSE)","v":{"$error":"#N/A"}},{"$f":"VLOOKUP(H12,Results!$A$8:G67,7,FALSE)","v":{"$error":"#N/A"}},{"$f":"VLOOKUP(H12,$B$4:B12,1,FALSE)","v":{"$error":"#N/A"}}]
[null,{"$f":"Results!A16","v":9},{"$f":"Results!C16","v":0},{"$f":"Results!B16","v":"Team 3 C"},{"$f":"Results!D16","v":0},{"$f":"Results!G16","v":""},"- vs -",{"$f":"VLOOKUP(B13,Results!$A$8:AG68,9,)","v":0},{"$f":"VLOOKUP(H13,Results!A$8:G68,3,)","v":{"$error":"#N/A"}},{"$f":"VLOOKUP(H13,Results!$A$8:G68,2,FALSE)","v":{"$error":"#N/A"}},{"$f":"VLOOKUP(H13,Results!$A$8:G68,4,FALSE)","v":{"$error":"#N/A"}},{"$f":"VLOOKUP(H13,Results!$A$8:G68,7,FALSE)","v":{"$error":"#N/A"}},{"$f":"VLOOKUP(H13,$B$4:B13,1,FALSE)","v":{"$error":"#N/A"}}]
[null,{"$f":"Results!A17","v":10},{"$f":"Results!C17","v":0},{"$f":"Results!B17","v":"Team 4 A"},{"$f":"Results!D17","v":0},{"$f":"Results!G17","v":""},"- vs -",{"$f":"VLOOKUP(B14,Results!$A$8:AG69,9,)","v":0},{"$f":"VLOOKUP(H14,Results!A$8:G69,3,)","v":{"$error":"#N/A"}},{"$f":"VLOOKUP(H14,Results!$A$8:G69,2,FALSE)","v":{"$error":"#N/A"}},{"$f":"VLOOKUP(H14,Results!$A$8:G69,4,FALSE)","v":{"$error":"#N/A"}},{"$f":"VLOOKUP(H14,Results!$A$8:G69,7,FALSE)","v":{"$error":"#N/A"}},{"$f":"VLOOKUP(H14,$B$4:B14,1,FALSE)","v":{"$error":"#N/A"}}]
[null,{"$f":"Results!A18","v":11},{"$f":"Results!C18","v":0},{"$f":"Results!B18","v":"Team 4 B"},{"$f":"Results!D18","v":0},{"$f":"Results!G18","v":""},"- vs -",{"$f":"VLOOKUP(B15,Results!$A$8:AG70,9,)","v":0},{"$f":"VLOOKUP(H15,Results!A$8:G70,3,)","v":{"$error":"#N/A"}},{"$f":"VLOOKUP(H15,Results!$A$8:G70,2,FALSE)","v":{"$error":"#N/A"}},{"$f":"VLOOKUP(H15,Results!$A$8:G70,4,FALSE)","v":{"$error":"#N/A"}},{"$f":"VLOOKUP(H15,Results!$A$8:G70,7,FALSE)","v":{"$error":"#N/A"}},{"$f":"VLOOKUP(H15,$B$4:B15,1,FALSE)","v":{"$error":"#N/A"}}]
[null,{"$f":"Results!A19","v":12},{"$f":"Results!C19","v":0},{"$f":"Results!B19","v":"Team 4 C"},{"$f":"Results!D19","v":0},{"$f":"Results!G19","v":""},"- vs -",{"$f":"VLOOKUP(B16,Results!$A$8:AG71,9,)","v":0},{"$f":"VLOOKUP(H16,Results!A$8:G71,3,)","v":{"$error":"#N/A"}},{"$f":"VLOOKUP(H16,Results!$A$8:G71,2,FALSE)","v":{"$error":"#N/A"}},{"$f":"VLOOKUP(H16,Results!$A$8:G71,4,FALSE)","v":{"$error":"#N/A"}},{"$f":"VLOOKUP(H16,Results!$A$8:G71,7,FALSE)","v":{"$error":"#N/A"}},{"$f":"VLOOKUP(H16,$B$4:B16,1,FALSE)","v":{"$error":"#N/A"}}]
[null,{"$f":"Results!A20","v":13},{"$f":"Results!C20","v":0},{"$f":"Results!B20","v":"Team 5 A"},{"$f":"Results!D20","v":0},{"$f":"Results!G20","v":""},"- vs -",{"$f":"VLOOKUP(B17,Results!$A$8:AG72,9,)","v":0},{"$f":"VLOOKUP(H17,Results!A$8:G72,3,)","v":{"$error":"#N/A"}},{"$f":"VLOOKUP(H17,Results!$A$8:G72,2,FALSE)","v":{"$error":"#N/A"}},{"$f":"VLOOKUP(H17,Results!$A$8:G72,4,FALSE)","v":{"$error":"#N/A"}},{"$f":"VLOOKUP(H17,Results!$A$8:G72,7,FALSE)","v":{"$error":"#N/A"}},{"$f":"VLOOKUP(H17,$B$4:B17,1,FALSE)","v":{"$error":"#N/A"}}]
[null,{"$f":"Results!A21","v":14},{"$f":"Results!C21","v":0},{"$f":"Results!B21","v":"Team 5 B"},{"$f":"Results!D21","v":0},{"$f":"Results!G21","v":""},"- vs -",{"$f":"VLOOKUP(B18,Results!$A$8:AG73,9,)","v":0},{"$f":"VLOOKUP(H18,Results!A$8:G73,3,)","v":{"$error":"#N/A"}},{"$f":"VLOOKUP(H18,Results!$A$8:G73,2,FALSE)","v":{"$error":"#N/A"}},{"$f":"VLOOKUP(H18,Results!$A$8:G73,4,FALSE)","v":{"$error":"#N/A"}},{"$f":"VLOOKUP(H18,Results!$A$8:G73,7,FALSE)","v":{"$error":"#N/A"}},{"$f":"VLOOKUP(H18,$B$4:B18,1,FALSE)","v":{"$error":"#N/A"}}]
[null,{"$f":"Results!A22","v":15},{"$f":"Results!C22","v":0},{"$f":"Results!B22","v":"Team 5 C"},{"$f":"Results!D22","v":0},{"$f":"Results!G22","v":""},"- vs -",{"$f":"VLOOKUP(B19,Results!$A$8:AG74,9,)","v":0},{"$f":"VLOOKUP(H19,Results!A$8:G74,3,)","v":{"$error":"#N/A"}},{"$f":"VLOOKUP(H19,Results!$A$8:G74,2,FALSE)","v":{"$error":"#N/A"}},{"$f":"VLOOKUP(H19,Results!$A$8:G74,4,FALSE)","v":{"$error":"#N/A"}},{"$f":"VLOOKUP(H19,Results!$A$8:G74,7,FALSE)","v":{"$error":"#N/A"}},{"$f":"VLOOKUP(H19,$B$4:B19,1,FALSE)","v":{"$error":"#N/A"}}]
[null,{"$f":"Results!A23","v":16},{"$f":"Results!C23","v":0},{"$f":"Results!B23","v":"Team 6 A"},{"$f":"Results!D23","v":0},{"$f":"Results!G23","v":""},"- vs -",{"$f":"VLOOKUP(B20,Results!$A$8:AG75,9,)","v":0},{"$f":"VLOOKUP(H20,Results!A$8:G75,3,)","v":{"$error":"#N/A"}},{"$f":"VLOOKUP(H20,Results!$A$8:G75,2,FALSE)","v":{"$error":"#N/A"}},{"$f":"VLOOKUP(H20,Results!$A$8:G75,4,FALSE)","v":{"$error":"#N/A"}},{"$f":"VLOOKUP(H20,Results!$A$8:G75,7,FALSE)","v":{"$error":"#N/A"}},{"$f":"VLOOKUP(H20,$B$4:B20,1,FALSE)","v":{"$error":"#N/A"}}]
[null,{"$f":"Results!A24","v":17},{"$f":"Results!C24","v":0},{"$f":"Results!B24","v":"Team 6 B"},{"$f":"Results!D24","v":0},{"$f":"Results!G24","v":""},"- vs -",{"$f":"VLOOKUP(B21,Results!$A$8:AG76,9,)","v":0},{"$f":"VLOOKUP(H21,Results!A$8:G76,3,)","v":{"$error":"#N/A"}},{"$f":"VLOOKUP(H21,Results!$A$8:G76,2,FALSE)","v":{"$error":"#N/A"}},{"$f":"VLOOKUP(H21,Results!$A$8:G76,4,FALSE)","v":{"$error":"#N/A"}},{"$f":"VLOOKUP(H21,Results!$A$8:G76,7,FALSE)","v":{"$error":"#N/A"}},{"$f":"VLOOKUP(H21,$B$4:B21,1,FALSE)","v":{"$error":"#N/A"}}]
[null,{"$f":"Results!A25","v":18},{"$f":"Results!C25","v":0},{"$f":"Results!B25","v":"Team 6 C"},{"$f":"Results!D25","v":0},{"$f":"Results!G25","v":""},"- vs -",{"$f":"VLOOKUP(B22,Results!$A$8:AG77,9,)","v":0},{"$f":"VLOOKUP(H22,Results!A$8:G77,3,)","v":{"$error":"#N/A"}},{"$f":"VLOOKUP(H22,Results!$A$8:G77,2,FALSE)","v":{"$error":"#N/A"}},{"$f":"VLOOKUP(H22,Results!$A$8:G77,4,FALSE)","v":{"$error":"#N/A"}},{"$f":"VLOOKUP(H22,Results!$A$8:G77,7,FALSE)","v":{"$error":"#N/A"}},{"$f":"VLOOKUP(H22,$B$4:B22,1,FALSE)","v":{"$error":"#N/A"}}]
[null,{"$f":"Results!A26","v":0},{"$f":"Results!C26","v":0},{"$f":"Results!B26","v":0},{"$f":"Results!D26","v":0},{"$f":"Results!G26","v":""},"- vs -",{"$f":"VLOOKUP(B23,Results!$A$8:AG78,9,)","v":{"$error":"#N/A"}},{"$f":"VLOOKUP(H23,Results!A$8:G78,3,)","v":{"$error":"#N/A"}},{"$f":"VLOOKUP(H23,Results!$A$8:G78,2,FALSE)","v":{"$error":"#N/A"}},{"$f":"VLOOKUP(H23,Results!$A$8:G78,4,FALSE)","v":{"$error":"#N/A"}},{"$f":"VLOOKUP(H23,Results!$A$8:G78,7,FALSE)","v":{"$error":"#N/A"}},{"$f":"VLOOKUP(H23,$B$4:B23,1,FALSE)","v":{"$error":"#N/A"}}]
[null,{"$f":"Results!A27","v":0},{"$f":"Results!C27","v":0},{"$f":"Results!B27","v":0},{"$f":"Results!D27","v":0},{"$f":"Results!G27","v":""},"- vs -",{"$f":"VLOOKUP(B24,Results!$A$8:AG79,9,)","v":{"$error":"#N/A"}},{"$f":"VLOOKUP(H24,Results!A$8:G79,3,)","v":{"$error":"#N/A"}},{"$f":"VLOOKUP(H24,Results!$A$8:G79,2,FALSE)","v":{"$error":"#N/A"}},{"$f":"VLOOKUP(H24,Results!$A$8:G79,4,FALSE)","v":{"$error":"#N/A"}},{"$f":"VLOOKUP(H24,Results!$A$8:G79,7,FALSE)","v":{"$error":"#N/A"}},{"$f":"VLOOKUP(H24,$B$4:B24,1,FALSE)","v":{"$error":"#N/A"}}]
[null,{"$f":"Results!A28","v":0},{"$f":"Results!C28","v":0},{"$f":"Results!B28","v":0},{"$f":"Results!D28","v":0},{"$f":"Results!G28","v":""},"- vs -",{"$f":"VLOOKUP(B25,Results!$A$8:AG80,9,)","v":{"$error":"#N/A"}},{"$f":"VLOOKUP(H25,Results!A$8:G80,3,)","v":{"$error":"#N/A"}},{"$f":"VLOOKUP(H25,Results!$A$8:G80,2,FALSE)","v":{"$error":"#N/A"}},{"$f":"VLOOKUP(H25,Results!$A$8:G80,4,FALSE)","v":{"$error":"#N/A"}},{"$f":"VLOOKUP(H25,Results!$A$8:G80,7,FALSE)","v":{"$error":"#N/A"}},{"$f":"VLOOKUP(H25,$B$4:B25,1,FALSE)","v":{"$error":"#N/A"}}]
[null,{"$f":"Results!A29","v":0},{"$f":"Results!C29","v":0},{"$f":"Results!B29","v":0},{"$f":"Results!D29","v":0},{"$f":"Results!G29","v":""},"- vs -",{"$f":"VLOOKUP(B26,Results!$A$8:AG81,9,)","v":{"$error":"#N/A"}},{"$f":"VLOOKUP(H26,Results!A$8:G81,3,)","v":{"$error":"#N/A"}},{"$f":"VLOOKUP(H26,Results!$A$8:G81,2,FALSE)","v":{"$error":"#N/A"}},{"$f":"VLOOKUP(H26,Results!$A$8:G81,4,FALSE)","v":{"$error":"#N/A"}},{"$f":"VLOOKUP(H26,Results!$A$8:G81,7,FALSE)","v":{"$error":"#N/A"}},{"$f":"VLOOKUP(H26,$B$4:B26,1,FALSE)","v":{"$error":"#N/A"}}]
[null,{"$f":"Results!A30","v":0},{"$f":"Results!C30","v":0},{"$f":"Results!B30","v":0},{"$f":"Results!D30","v":0},{"$f":"Results!G30","v":""},"- vs -",{"$f":"VLOOKUP(B27,Results!$A$8:AG82,9,)","v":{"$error":"#N/A"}},{"$f":"VLOOKUP(H27,Results!A$8:G82,3,)","v":{"$error":"#N/A"}},{"$f":"VLOOKUP(H27,Results!$A$8:G82,2,FALSE)","v":{"$error":"#N/A"}},{"$f":"VLOOKUP(H27,Results!$A$8:G82,4,FALSE)","v":{"$error":"#N/A"}},{"$f":"VLOOKUP(H27,Results!$A$8:G82,7,FALSE)","v":{"$error":"#N/A"}},{"$f":"VLOOKUP(H27,$B$4:B27,1,FALSE)","v":{"$error":"#N/A"}}]
[null,{"$f":"Results!A31","v":0},{"$f":"Results!C31","v":0},{"$f":"Results!B31","v":0},{"$f":"Results!D31","v":0},{"$f":"Results!G31","v":""},"- vs -",{"$f":"VLOOKUP(B28,Results!$A$8:AG83,9,)","v":{"$error":"#N/A"}},{"$f":"VLOOKUP(H28,Results!A$8:G83,3,)","v":{"$error":"#N/A"}},{"$f":"VLOOKUP(H28,Results!$A$8:G83,2,FALSE)","v":{"$error":"#N/A"}},{"$f":"VLOOKUP(H28,Results!$A$8:G83,4,FALSE)","v":{"$error":"#N/A"}},{"$f":"VLOOKUP(H28,Results!$A$8:G83,7,FALSE)","v":{"$error":"#N/A"}},{"$f":"VLOOKUP(H28,$B$4:B28,1,FALSE)","v":{"$error":"#N/A"}}]
[null,{"$f":"Results!A32","v":0},{"$f":"Results!C32","v":0},{"$f":"Results!B32","v":0},{"$f":"Results!D32","v":0},{"$f":"Results!G32","v":""},"- vs -",{"$f":"VLOOKUP(B29,Results!$A$8:AG84,9,)","v":{"$error":"#N/A"}},{"$f":"VLOOKUP(H29,Results!A$8:G84,3,)","v":{"$error":"#N/A"}},{"$f":"VLOOKUP(H29,Results!$A$8:G84,2,FALSE)","v":{"$error":"#N/A"}},{"$f":"VLOOKUP(H29,Results!$A$8:G84,4,FALSE)","v":{"$error":"#N/A"}},{"$f":"VLOOKUP(H29,Results!$A$8:G84,7,FALSE)","v":{"$error":"#N/A"}},{"$f":"VLOOKUP(H29,$B$4:B29,1,FALSE)","v":{"$error":"#N/A"}}]
[null,{"$f":"Results!A33","v":0},{"$f":"Results!C33","v":0},{"$f":"Results!B33","v":0},{"$f":"Results!D33","v":0},{"$f":"Results!G33","v":""},"- vs -",{"$f":"VLOOKUP(B30,Results!$A$8:AG85,9,)","v":{"$error":"#N/A"}},{"$f":"VLOOKUP(H30,Results!A$8:G85,3,)","v":{"$error":"#N/A"}},{"$f":"VLOOKUP(H30,Results!$A$8:G85,2,FALSE)","v":{"$error":"#N/A"}},{"$f":"VLOOKUP(H30,Results!$A$8:G85,4,FALSE)","v":{"$error":"#N/A"}},{"$f":"VLOOKUP(H30,Results!$A$8:G85,7,FALSE)","v":{"$error":"#N/A"}},{"$f":"VLOOKUP(H30,$B$4:B30,1,FALSE)","v":{"$error":"#N/A"}}]
[null,{"$f":"Results!A34","v":0},{"$f":"Results!C34","v":0},{"$f":"Results!B34","v":0},{"$f":"Results!D34","v":0},{"$f":"Results!G34","v":""},"- vs -",{"$f":"VLOOKUP(B31,Results!$A$8:AG86,9,)","v":{"$error":"#N/A"}},{"$f":"VLOOKUP(H31,Results!A$8:G86,3,)","v":{"$error":"#N/A"}},{"$f":"VLOOKUP(H31,Results!$A$8:G86,2,FALSE)","v":{"$error":"#N/A"}},{"$f":"VLOOKUP(H31,Results!$A$8:G86,4,FALSE)","v":{"$error":"#N/A"}},{"$f":"VLOOKUP(H31,Results!$A$8:G86,7,FALSE)","v":{"$error":"#N/A"}},{"$f":"VLOOKUP(H31,$B$4:B31,1,FALSE)","v":{"$error":"#N/A"}}]
[null,{"$f":"Results!A35","v":0},{"$f":"Results!C35","v":0},{"$f":"Results!B35","v":0},{"$f":"Results!D35","v":0},{"$f":"Results!G35","v":""},"- vs -",{"$f":"VLOOKUP(B32,Results!$A$8:AG87,9,)","v":{"$error":"#N/A"}},{"$f":"VLOOKUP(H32,Results!A$8:G87,3,)","v":{"$error":"#N/A"}},{"$f":"VLOOKUP(H32,Results!$A$8:G87,2,FALSE)","v":{"$error":"#N/A"}},{"$f":"VLOOKUP(H32,Results!$A$8:G87,4,FALSE)","v":{"$error":"#N/A"}},{"$f":"VLOOKUP(H32,Results!$A$8:G87,7,FALSE)","v":{"$error":"#N/A"}},{"$f":"VLOOKUP(H32,$B$4:B32,1,FALSE)","v":{"$error":"#N/A"}}]
[null,{"$f":"Results!A36","v":0},{"$f":"Results!C36","v":0},{"$f":"Results!B36","v":0},{"$f":"Results!D36","v":0},{"$f":"Results!G36","v":""},"- vs -",{"$f":"VLOOKUP(B33,Results!$A$8:AG88,9,)","v":{"$error":"#N/A"}},{"$f":"VLOOKUP(H33,Results!A$8:G88,3,)","v":{"$error":"#N/A"}},{"$f":"VLOOKUP(H33,Results!$A$8:G88,2,FALSE)","v":{"$error":"#N/A"}},{"$f":"VLOOKUP(H33,Results!$A$8:G88,4,FALSE)","v":{"$error":"#N/A"}},{"$f":"VLOOKUP(H33,Results!$A$8:G88,7,FALSE)","v":{"$error":"#N/A"}},{"$f":"VLOOKUP(H33,$B$4:B33,1,FALSE)","v":{"$error":"#N/A"}}]
[null,{"$f":"Results!A37","v":0},{"$f":"Results!C37","v":0},{"$f":"Results!B37","v":0},{"$f":"Results!D37","v":0},{"$f":"Results!G37","v":""},"- vs -",{"$f":"VLOOKUP(B34,Results!$A$8:AG89,9,)","v":{"$error":"#N/A"}},{"$f":"VLOOKUP(H34,Results!A$8:G89,3,)","v":{"$error":"#N/A"}},{"$f":"VLOOKUP(H34,Results!$A$8:G89,2,FALSE)","v":{"$error":"#N/A"}},{"$f":"VLOOKUP(H34,Results!$A$8:G89,4,FALSE)","v":{"$error":"#N/A"}},{"$f":"VLOOKUP(H34,Results!$A$8:G89,7,FALSE)","v":{"$error":"#N/A"}},{"$f":"VLOOKUP(H34,$B$4:B34,1,FALSE)","v":{"$error":"#N/A"}}]
[null,{"$f":"Results!A38","v":0},{"$f":"Results!C38","v":0},{"$f":"Results!B38","v":0},{"$f":"Results!D38","v":0},{"$f":"Results!G38","v":""},"- vs -",{"$f":"VLOOKUP(B35,Results!$A$8:AG90,9,)","v":{"$error":"#N/A"}},{"$f":"VLOOKUP(H35,Results!A$8:G90,3,)","v":{"$error":"#N/A"}},{"$f":"VLOOKUP(H35,Results!$A$8:G90,2,FALSE)","v":{"$error":"#N/A"}},{"$f":"VLOOKUP(H35,Results!$A$8:G90,4,FALSE)","v":{"$error":"#N/A"}},{"$f":"VLOOKUP(H35,Results!$A$8:G90,7,FALSE)","v":{"$error":"#N/A"}},{"$f":"VLOOKUP(H35,$B$4:B35,1,FALSE)","v":{"$error":"#N/A"}}]
[null,{"$f":"Results!A39","v":0},{"$f":"Results!C39","v":0},{"$f":"Results!B39","v":0},{"$f":"Results!D39","v":0},{"$f":"Results!G39","v":""},"- vs -",{"$f":"VLOOKUP(B36,Results!$A$8:AG91,9,)","v":{"$error":"#N/A"}},{"$f":"VLOOKUP(H36,Results!A$8:G91,3,)","v":{"$error":"#N/A"}},{"$f":"VLOOKUP(H36,Results!$A$8:G91,2,FALSE)","v":{"$error":"#N/A"}},{"$f":"VLOOKUP(H36,Results!$A$8:G91,4,FALSE)","v":{"$error":"#N/A"}},{"$f":"VLOOKUP(H36,Results!$A$8:G91,7,FALSE)","v":{"$error":"#N/A"}},{"$f":"VLOOKUP(H36,$B$4:B36,1,FALSE)","v":{"$error":"#N/A"}}]
[null,{"$f":"Results!A40","v":0},{"$f":"Results!C40","v":0},{"$f":"Results!B40","v":0},{"$f":"Results!D40","v":0},{"$f":"Results!G40","v":""},"- vs -",{"$f":"VLOOKUP(B37,Results!$A$8:AG92,9,)","v":{"$error":"#N/A"}},{"$f":"VLOOKUP(H37,Results!A$8:G92,3,)","v":{"$error":"#N/A"}},{"$f":"VLOOKUP(H37,Results!$A$8:G92,2,FALSE)","v":{"$error":"#N/A"}},{"$f":"VLOOKUP(H37,Results!$A$8:G92,4,FALSE)","v":{"$error":"#N/A"}},{"$f":"VLOOKUP(H37,Results!$A$8:G92,7,FALSE)","v":{"$error":"#N/A"}},{"$f":"VLOOKUP(H37,$B$4:B37,1,FALSE)","v":{"$error":"#N/A"}}]
[null,{"$f":"Results!A41","v":0},{"$f":"Results!C41","v":0},{"$f":"Results!B41","v":0},{"$f":"Results!D41","v":0},{"$f":"Results!G41","v":""},"- vs -",{"$f":"VLOOKUP(B38,Results!$A$8:AG93,9,)","v":{"$error":"#N/A"}},{"$f":"VLOOKUP(H38,Results!A$8:G93,3,)","v":{"$error":"#N/A"}},{"$f":"VLOOKUP(H38,Results!$A$8:G93,2,FALSE)","v":{"$error":"#N/A"}},{"$f":"VLOOKUP(H38,Results!$A$8:G93,4,FALSE)","v":{"$error":"#N/A"}},{"$f":"VLOOKUP(H38,Results!$A$8:G93,7,FALSE)","v":{"$error":"#N/A"}},{"$f":"VLOOKUP(H38,$B$4:B38,1,FALSE)","v":{"$error":"#N/A"}}]
[null,{"$f":"Results!A42","v":0},{"$f":"Results!C42","v":0},{"$f":"Results!B42","v":0},{"$f":"Results!D42","v":0},{"$f":"Results!G42","v":""},"- vs -",{"$f":"VLOOKUP(B39,Results!$A$8:AG94,9,)","v":{"$error":"#N/A"}},{"$f":"VLOOKUP(H39,Results!A$8:G94,3,)","v":{"$error":"#N/A"}},{"$f":"VLOOKUP(H39,Results!$A$8:G94,2,FALSE)","v":{"$error":"#N/A"}},{"$f":"VLOOKUP(H39,Results!$A$8:G94,4,FALSE)","v":{"$error":"#N/A"}},{"$f":"VLOOKUP(H39,Results!$A$8:G94,7,FALSE)","v":{"$error":"#N/A"}},{"$f":"VLOOKUP(H39,$B$4:B39,1,FALSE)","v":{"$error":"#N/A"}}]
[null,{"$f":"Results!A43","v":0},{"$f":"Results!C43","v":0},{"$f":"Results!B43","v":0},{"$f":"Results!D43","v":0},{"$f":"Results!G43","v":""},"- vs -",{"$f":"VLOOKUP(B40,Results!$A$8:AG95,9,)","v":{"$error":"#N/A"}},{"$f":"VLOOKUP(H40,Results!A$8:G95,3,)","v":{"$error":"#N/A"}},{"$f":"VLOOKUP(H40,Results!$A$8:G95,2,FALSE)","v":{"$error":"#N/A"}},{"$f":"VLOOKUP(H40,Results!$A$8:G95,4,FALSE)","v":{"$error":"#N/A"}},{"$f":"VLOOKUP(H40,Results!$A$8:G95,7,FALSE)","v":{"$error":"#N/A"}},{"$f":"VLOOKUP(H40,$B$4:B40,1,FALSE)","v":{"$error":"#N/A"}}]
[null,{"$f":"Results!A44","v":0},{"$f":"Results!C44","v":0},{"$f":"Results!B44","v":0},{"$f":"Results!D44","v":0},{"$f":"Results!G44","v":""},"- vs -",{"$f":"VLOOKUP(B41,Results!$A$8:AG96,9,)","v":{"$error":"#N/A"}},{"$f":"VLOOKUP(H41,Results!A$8:G96,3,)","v":{"$error":"#N/A"}},{"$f":"VLOOKUP(H41,Results!$A$8:G96,2,FALSE)","v":{"$error":"#N/A"}},{"$f":"VLOOKUP(H41,Results!$A$8:G96,4,FALSE)","v":{"$error":"#N/A"}},{"$f":"VLOOKUP(H41,Results!$A$8:G96,7,FALSE)","v":{"$error":"#N/A"}},{"$f":"VLOOKUP(H41,$B$4:B41,1,FALSE)","v":{"$error":"#N/A"}}]
[null,{"$f":"Results!A45","v":0},{"$f":"Results!C45","v":0},{"$f":"Results!B45","v":0},{"$f":"Results!D45","v":0},{"$f":"Results!G45","v":""},"- vs -",{"$f":"VLOOKUP(B42,Results!$A$8:AG97,9,)","v":{"$error":"#N/A"}},{"$f":"VLOOKUP(H42,Results!A$8:G97,3,)","v":{"$error":"#N/A"}},{"$f":"VLOOKUP(H42,Results!$A$8:G97,2,FALSE)","v":{"$error":"#N/A"}},{"$f":"VLOOKUP(H42,Results!$A$8:G97,4,FALSE)","v":{"$error":"#N/A"}},{"$f":"VLOOKUP(H42,Results!$A$8:G97,7,FALSE)","v":{"$error":"#N/A"}},{"$f":"VLOOKUP(H42,$B$4:B42,1,FALSE)","v":{"$error":"#N/A"}}]
[null,{"$f":"Results!A46","v":0},{"$f":"Results!C46","v":0},{"$f":"Results!B46","v":0},{"$f":"Results!D46","v":0},{"$f":"Results!G46","v":""},"- vs -",{"$f":"VLOOKUP(B43,Results!$A$8:AG98,9,)","v":{"$error":"#N/A"}},{"$f":"VLOOKUP(H43,Results!A$8:G98,3,)","v":{"$error":"#N/A"}},{"$f":"VLOOKUP(H43,Results!$A$8:G98,2,FALSE)","v":{"$error":"#N/A"}},{"$f":"VLOOKUP(H43,Results!$A$8:G98,4,FALSE)","v":{"$error":"#N/A"}},{"$f":"VLOOKUP(H43,Results!$A$8:G98,7,FALSE)","v":{"$error":"#N/A"}},{"$f":"VLOOKUP(H43,$B$4:B43,1,FALSE)","v":{"$error":"#N/A"}}]
[null,{"$f":"Results!A47","v":0},{"$f":"Results!C47","v":0},{"$f":"Results!B47","v":0},{"$f":"Results!D47","v":0},{"$f":"Results!G47","v":""},"- vs -",{"$f":"VLOOKUP(B44,Results!$A$8:AG99,9,)","v":{"$error":"#N/A"}},{"$f":"VLOOKUP(H44,Results!A$8:G99,3,)","v":{"$error":"#N/A"}},{"$f":"VLOOKUP(H44,Results!$A$8:G99,2,FALSE)","v":{"$error":"#N/A"}},{"$f":"VLOOKUP(H44,Results!$A$8:G99,4,FALSE)","v":{"$error":"#N/A"}},{"$f":"VLOOKUP(H44,Results!$A$8:G99,7,FALSE)","v":{"$error":"#N/A"}},{"$f":"VLOOKUP(H44,$B$4:B44,1,FALSE)","v":{"$error":"#N/A"}}]
[null,{"$f":"Results!A48","v":0},{"$f":"Results!C48","v":0},{"$f":"Results!B48","v":0},{"$f":"Results!D48","v":0},{"$f":"Results!G48","v":""},"- vs -",{"$f":"VLOOKUP(B45,Results!$A$8:AG100,9,)","v":{"$error":"#N/A"}},{"$f":"VLOOKUP(H45,Results!A$8:G100,3,)","v":{"$error":"#N/A"}},{"$f":"VLOOKUP(H45,Results!$A$8:G100,2,FALSE)","v":{"$error":"#N/A"}},{"$f":"VLOOKUP(H45,Results!$A$8:G100,4,FALSE)","v":{"$error":"#N/A"}},{"$f":"VLOOKUP(H45,Results!$A$8:G100,7,FALSE)","v":{"$error":"#N/A"}},{"$f":"VLOOKUP(H45,$B$4:B45,1,FALSE)","v":{"$error":"#N/A"}}]
[null,{"$f":"Results!A49","v":0},{"$f":"Results!C49","v":0},{"$f":"Results!B49","v":0},{"$f":"Results!D49","v":0},{"$f":"Results!G49","v":""},"- vs -",{"$f":"VLOOKUP(B46,Results!$A$8:AG101,9,)","v":{"$error":"#N/A"}},{"$f":"VLOOKUP(H46,Results!A$8:G101,3,)","v":{"$error":"#N/A"}},{"$f":"VLOOKUP(H46,Results!$A$8:G101,2,FALSE)","v":{"$error":"#N/A"}},{"$f":"VLOOKUP(H46,Results!$A$8:G101,4,FALSE)","v":{"$error":"#N/A"}},{"$f":"VLOOKUP(H46,Results!$A$8:G101,7,FALSE)","v":{"$error":"#N/A"}},{"$f":"VLOOKUP(H46,$B$4:B46,1,FALSE)","v":{"$error":"#N/A"}}]
[null,{"$f":"Results!A50","v":0},{"$f":"Results!C50","v":0},{"$f":"Results!B50","v":0},{"$f":"Results!D50","v":0},{"$f":"Results!G50","v":""},"- vs -",{"$f":"VLOOKUP(B47,Results!$A$8:AG102,9,)","v":{"$error":"#N/A"}},{"$f":"VLOOKUP(H47,Results!A$8:G102,3,)","v":{"$error":"#N/A"}},{"$f":"VLOOKUP(H47,Results!$A$8:G102,2,FALSE)","v":{"$error":"#N/A"}},{"$f":"VLOOKUP(H47,Results!$A$8:G102,4,FALSE)","v":{"$error":"#N/A"}},{"$f":"VLOOKUP(H47,Results!$A$8:G102,7,FALSE)","v":{"$error":"#N/A"}},{"$f":"VLOOKUP(H47,$B$4:B47,1,FALSE)","v":{"$error":"#N/A"}}]
[null,{"$f":"Results!A51","v":0},{"$f":"Results!C51","v":0},{"$f":"Results!B51","v":0},{"$f":"Results!D51","v":0},{"$f":"Results!G51","v":""},"- vs -",{"$f":"VLOOKUP(B48,Results!$A$8:AG103,9,)","v":{"$error":"#N/A"}},{"$f":"VLOOKUP(H48,Results!A$8:G103,3,)","v":{"$error":"#N/A"}},{"$f":"VLOOKUP(H48,Results!$A$8:G103,2,FALSE)","v":{"$error":"#N/A"}},{"$f":"VLOOKUP(H48,Results!$A$8:G103,4,FALSE)","v":{"$error":"#N/A"}},{"$f":"VLOOKUP(H48,Results!$A$8:G103,7,FALSE)","v":{"$error":"#N/A"}},{"$f":"VLOOKUP(H48,$B$4:B48,1,FALSE)","v":{"$error":"#N/A"}}]
[null,{"$f":"Results!A52","v":0},{"$f":"Results!C52","v":0},{"$f":"Results!B52","v":0},{"$f":"Results!D52","v":0},{"$f":"Results!G52","v":""},"- vs -",{"$f":"VLOOKUP(B49,Results!$A$8:AG104,9,)","v":{"$error":"#N/A"}},{"$f":"VLOOKUP(H49,Results!A$8:G104,3,)","v":{"$error":"#N/A"}},{"$f":"VLOOKUP(H49,Results!$A$8:G104,2,FALSE)","v":{"$error":"#N/A"}},{"$f":"VLOOKUP(H49,Results!$A$8:G104,4,FALSE)","v":{"$error":"#N/A"}},{"$f":"VLOOKUP(H49,Results!$A$8:G104,7,FALSE)","v":{"$error":"#N/A"}},{"$f":"VLOOKUP(H49,$B$4:B49,1,FALSE)","v":{"$error":"#N/A"}}]
[null,{"$f":"Results!A53","v":0},{"$f":"Results!C53","v":0},{"$f":"Results!B53","v":0},{"$f":"Results!D53","v":0},{"$f":"Results!G53","v":""},"- vs -",{"$f":"VLOOKUP(B50,Results!$A$8:AG105,9,)","v":{"$error":"#N/A"}},{"$f":"VLOOKUP(H50,Results!A$8:G105,3,)","v":{"$error":"#N/A"}},{"$f":"VLOOKUP(H50,Results!$A$8:G105,2,FALSE)","v":{"$error":"#N/A"}},{"$f":"VLOOKUP(H50,Results!$A$8:G105,4,FALSE)","v":{"$error":"#N/A"}},{"$f":"VLOOKUP(H50,Results!$A$8:G105,7,FALSE)","v":{"$error":"#N/A"}},{"$f":"VLOOKUP(H50,$B$4:B50,1,FALSE)","v":{"$error":"#N/A"}}]
[null,{"$f":"Results!A54","v":0},{"$f":"Results!C54","v":0},{"$f":"Results!B54","v":0},{"$f":"Results!D54","v":0},{"$f":"Results!G54","v":""},"- vs -",{"$f":"VLOOKUP(B51,Results!$A$8:AG106,9,)","v":{"$error":"#N/A"}},{"$f":"VLOOKUP(H51,Results!A$8:G106,3,)","v":{"$error":"#N/A"}},{"$f":"VLOOKUP(H51,Results!$A$8:G106,2,FALSE)","v":{"$error":"#N/A"}},{"$f":"VLOOKUP(H51,Results!$A$8:G106,4,FALSE)","v":{"$error":"#N/A"}},{"$f":"VLOOKUP(H51,Results!$A$8:G106,7,FALSE)","v":{"$error":"#N/A"}},{"$f":"VLOOKUP(H51,$B$4:B51,1,FALSE)","v":{"$error":"#N/A"}}]
[null,{"$f":"Results!A55","v":0},{"$f":"Results!C55","v":0},{"$f":"Results!B55","v":0},{"$f":"Results!D55","v":0},{"$f":"Results!G55","v":""},"- vs -",{"$f":"VLOOKUP(B52,Results!$A$8:AG108,9,)","v":{"$error":"#N/A"}},{"$f":"VLOOKUP(H52,Results!A$8:G108,3,)","v":{"$error":"#N/A"}},{"$f":"VLOOKUP(H52,Results!$A$8:G108,2,FALSE)","v":{"$error":"#N/A"}},{"$f":"VLOOKUP(H52,Results!$A$8:G108,4,FALSE)","v":{"$error":"#N/A"}},{"$f":"VLOOKUP(H52,Results!$A$8:G108,7,FALSE)","v":{"$error":"#N/A"}},{"$f":"VLOOKUP(H52,$B$4:B52,1,FALSE)","v":{"$error":"#N/A"}}]
[null,{"$f":"Results!A56","v":0},{"$f":"Results!C56","v":0},{"$f":"Results!B56","v":0},{"$f":"Results!D56","v":0},{"$f":"Results!G56","v":""},"- vs -",{"$f":"VLOOKUP(B53,Results!$A$8:AG109,9,)","v":{"$error":"#N/A"}},{"$f":"VLOOKUP(H53,Results!A$8:G109,3,)","v":{"$error":"#N/A"}},{"$f":"VLOOKUP(H53,Results!$A$8:G109,2,FALSE)","v":{"$error":"#N/A"}},{"$f":"VLOOKUP(H53,Results!$A$8:G109,4,FALSE)","v":{"$error":"#N/A"}},{"$f":"VLOOKUP(H53,Results!$A$8:G109,7,FALSE)","v":{"$error":"#N/A"}},{"$f":"VLOOKUP(H53,$B$4:B53,1,FALSE)","v":{"$error":"#N/A"}}]
[null,{"$f":"Results!A57","v":0},{"$f":"Results!C57","v":0},{"$f":"Results!B57","v":0},{"$f":"Results!D57","v":0},{"$f":"Results!G57","v":""},"- vs -",{"$f":"VLOOKUP(B54,Results!$A$8:AG110,9,)","v":{"$error":"#N/A"}},{"$f":"VLOOKUP(H54,Results!A$8:G110,3,)","v":{"$error":"#N/A"}},{"$f":"VLOOKUP(H54,Results!$A$8:G110,2,FALSE)","v":{"$error":"#N/A"}},{"$f":"VLOOKUP(H54,Results!$A$8:G110,4,FALSE)","v":{"$error":"#N/A"}},{"$f":"VLOOKUP(H54,Results!$A$8:G110,7,FALSE)","v":{"$error":"#N/A"}},{"$f":"VLOOKUP(H54,$B$4:B54,1,FALSE)","v":{"$error":"#N/A"}}]
[null,{"$f":"Results!A58","v":0},{"$f":"Results!C58","v":0},{"$f":"Results!B58","v":0},{"$f":"Results!D58","v":0},{"$f":"Results!G58","v":""},"- vs -",{"$f":"VLOOKUP(B55,Results!$A$8:AG111,9,)","v":{"$error":"#N/A"}},{"$f":"VLOOKUP(H55,Results!A$8:G111,3,)","v":{"$error":"#N/A"}},{"$f":"VLOOKUP(H55,Results!$A$8:G111,2,FALSE)","v":{"$error":"#N/A"}},{"$f":"VLOOKUP(H55,Results!$A$8:G111,4,FALSE)","v":{"$error":"#N/A"}},{"$f":"VLOOKUP(H55,Results!$A$8:G111,7,FALSE)","v":{"$error":"#N/A"}},{"$f":"VLOOKUP(H55,$B$4:B55,1,FALSE)","v":{"$error":"#N/A"}}]
[null,{"$f":"Results!A59","v":0},{"$f":"Results!C59","v":0},{"$f":"Results!B59","v":0},{"$f":"Results!D59","v":0},{"$f":"Results!G59","v":""},"- vs -",{"$f":"VLOOKUP(B56,Results!$A$8:AG112,9,)","v":{"$error":"#N/A"}},{"$f":"VLOOKUP(H56,Results!A$8:G112,3,)","v":{"$error":"#N/A"}},{"$f":"VLOOKUP(H56,Results!$A$8:G112,2,FALSE)","v":{"$error":"#N/A"}},{"$f":"VLOOKUP(H56,Results!$A$8:G112,4,FALSE)","v":{"$error":"#N/A"}},{"$f":"VLOOKUP(H56,Results!$A$8:G112,7,FALSE)","v":{"$error":"#N/A"}},{"$f":"VLOOKUP(H56,$B$4:B56,1,FALSE)","v":{"$error":"#N/A"}}]
[null,{"$f":"Results!A60","v":0},{"$f":"Results!C60","v":0},{"$f":"Results!B60","v":0},{"$f":"Results!D60","v":0},{"$f":"Results!G60","v":""},"- vs -",{"$f":"VLOOKUP(B57,Results!$A$8:AG113,9,)","v":{"$error":"#N/A"}},{"$f":"VLOOKUP(H57,Results!A$8:G113,3,)","v":{"$error":"#N/A"}},{"$f":"VLOOKUP(H57,Results!$A$8:G113,2,FALSE)","v":{"$error":"#N/A"}},{"$f":"VLOOKUP(H57,Results!$A$8:G113,4,FALSE)","v":{"$error":"#N/A"}},{"$f":"VLOOKUP(H57,Results!$A$8:G113,7,FALSE)","v":{"$error":"#N/A"}},{"$f":"VLOOKUP(H57,$B$4:B57,1,FALSE)","v":{"$error":"#N/A"}}]
[null,{"$f":"Results!A61","v":0},{"$f":"Results!C61","v":0},{"$f":"Results!B61","v":0},{"$f":"Results!D61","v":0},{"$f":"Results!G61","v":""},"- vs -",{"$f":"VLOOKUP(B58,Results!$A$8:AG114,9,)","v":{"$error":"#N/A"}},{"$f":"VLOOKUP(H58,Results!A$8:G114,3,)","v":{"$error":"#N/A"}},{"$f":"VLOOKUP(H58,Results!$A$8:G114,2,FALSE)","v":{"$error":"#N/A"}},{"$f":"VLOOKUP(H58,Results!$A$8:G114,4,FALSE)","v":{"$error":"#N/A"}},{"$f":"VLOOKUP(H58,Results!$A$8:G114,7,FALSE)","v":{"$error":"#N/A"}},{"$f":"VLOOKUP(H58,$B$4:B58,1,FALSE)","v":{"$error":"#N/A"}}]
[null,{"$f":"Results!A62","v":0},{"$f":"Results!C62","v":0},{"$f":"Results!B62","v":0},{"$f":"Results!D62","v":0},{"$f":"Results!G62","v":0},"- vs -",{"$f":"VLOOKUP(B59,Results!$A$8:AG115,9,)","v":{"$error":"#N/A"}},{"$f":"VLOOKUP(H59,Results!A$8:G115,3,)","v":{"$error":"#N/A"}},{"$f":"VLOOKUP(H59,Results!$A$8:G115,2,FALSE)","v":{"$error":"#N/A"}},{"$f":"VLOOKUP(H59,Results!$A$8:G115,4,FALSE)","v":{"$error":"#N/A"}},{"$f":"VLOOKUP(H59,Results!$A$8:G115,7,FALSE)","v":{"$error":"#N/A"}},{"$f":"VLOOKUP(H59,$B$4:B59,1,FALSE)","v":{"$error":"#N/A"}}]
[null,{"$f":"Results!A63","v":0},{"$f":"Results!C63","v":0},{"$f":"Results!B63","v":0},{"$f":"Results!D63","v":0},{"$f":"Results!G63","v":0},"- vs -",{"$f":"VLOOKUP(B60,Results!$A$8:AG116,9,)","v":{"$error":"#N/A"}},{"$f":"VLOOKUP(H60,Results!A$8:G116,3,)","v":{"$error":"#N/A"}},{"$f":"VLOOKUP(H60,Results!$A$8:G116,2,FALSE)","v":{"$error":"#N/A"}},{"$f":"VLOOKUP(H60,Results!$A$8:G116,4,FALSE)","v":{"$error":"#N/A"}},{"$f":"VLOOKUP(H60,Results!$A$8:G116,7,FALSE)","v":{"$error":"#N/A"}},{"$f":"VLOOKUP(H60,$B$4:B60,1,FALSE)","v":{"$error":"#N/A"}}]
[null,{"$f":"Results!A64","v":0},{"$f":"Results!C64","v":0},{"$f":"Results!B64","v":0},{"$f":"Results!D64","v":0},{"$f":"Results!G64","v":0},"- vs -",{"$f":"VLOOKUP(B61,Results!$A$8:AG117,9,)","v":{"$error":"#N/A"}},{"$f":"VLOOKUP(H61,Results!A$8:G117,3,)","v":{"$error":"#N/A"}},{"$f":"VLOOKUP(H61,Results!$A$8:G117,2,FALSE)","v":{"$error":"#N/A"}},{"$f":"VLOOKUP(H61,Results!$A$8:G117,4,FALSE)","v":{"$error":"#N/A"}},{"$f":"VLOOKUP(H61,Results!$A$8:G117,7,FALSE)","v":{"$error":"#N/A"}},{"$f":"VLOOKUP(H61,$B$4:B61,1,FALSE)","v":{"$error":"#N/A"}}]
[null,{"$f":"Results!A65","v":0},{"$f":"Results!C65","v":0},{"$f":"Results!B65","v":0},{"$f":"Results!D65","v":0},{"$f":"Results!G65","v":0},"- vs -",{"$f":"VLOOKUP(B62,Results!$A$8:AG118,9,)","v":{"$error":"#N/A"}},{"$f":"VLOOKUP(H62,Results!A$8:G118,3,)","v":{"$error":"#N/A"}},{"$f":"VLOOKUP(H62,Results!$A$8:G118,2,FALSE)","v":{"$error":"#N/A"}},{"$f":"VLOOKUP(H62,Results!$A$8:G118,4,FALSE)","v":{"$error":"#N/A"}},{"$f":"VLOOKUP(H62,Results!$A$8:G118,7,FALSE)","v":{"$error":"#N/A"}},{"$f":"VLOOKUP(H62,$B$4:B62,1,FALSE)","v":{"$error":"#N/A"}}]
[null,{"$f":"Results!A66","v":0},{"$f":"Results!C66","v":0},{"$f":"Results!B66","v":0},{"$f":"Results!D66","v":0},{"$f":"Results!G66","v":0},"- vs -",{"$f":"VLOOKUP(B63,Results!$A$8:AG119,9,)","v":{"$error":"#N/A"}},{"$f":"VLOOKUP(H63,Results!A$8:G119,3,)","v":{"$error":"#N/A"}},{"$f":"VLOOKUP(H63,Results!$A$8:G119,2,FALSE)","v":{"$error":"#N/A"}},{"$f":"VLOOKUP(H63,Results!$A$8:G119,4,FALSE)","v":{"$error":"#N/A"}},{"$f":"VLOOKUP(H63,Results!$A$8:G119,7,FALSE)","v":{"$error":"#N/A"}},{"$f":"VLOOKUP(H63,$B$4:B63,1,FALSE)","v":{"$error":"#N/A"}}]

{"sheet":"Round 2","index":10,"n_rows":63,"n_cols":13,"rows_kept":63}
[null,null,"First Name","Surname","Club",{"$nulls":3},"First Name","Surname","Club"]
["Round 2 Draw",null,{"$f":"Results!B3","v":0}]
[null,null,{"$f":"Results!B4","v":"Open Theme"}]
[{"$nulls":12},"VALID?"]
[null,{"$f":"Results!A8","v":1},{"$f":"Results!C8","v":0},{"$f":"Results!B8","v":"Team 1 A"},{"$f":"Results!D8","v":0},{"$f":"Results!G8","v":""},"- vs -",{"$f":"VLOOKUP(B5,Results!$A$8:$AG$60,16,FALSE)","v":0},{"$f":"VLOOKUP(H5,Results!A$8:$G$60,3,FALSE)","v":{"$error":"#N/A"}},{"$f":"VLOOKUP(H5,Results!$A$8:$G$60,2,FALSE)","v":{"$error":"#N/A"}},{"$f":"VLOOKUP(H5,Results!$A$8:$G$60,4,FALSE)","v":{"$error":"#N/A"}},{"$f":"VLOOKUP(H5,Results!$A$8:$G$60,7,FALSE)","v":{"$error":"#N/A"}},{"$f":"VLOOKUP(H5,$B$4:B5,1,FALSE)","v":{"$error":"#N/A"}}]
[null,{"$f":"Results!A9","v":2},{"$f":"Results!C9","v":0},{"$f":"Results!B9","v":"Team 1 B"},{"$f":"Results!D9","v":0},{"$f":"Results!G9","v":""},"- vs -",{"$f":"VLOOKUP(B6,Results!$A$8:$AG$60,16,FALSE)","v":0},{"$f":"VLOOKUP(H6,Results!A$8:$G$60,3,FALSE)","v":{"$error":"#N/A"}},{"$f":"VLOOKUP(H6,Results!$A$8:$G$60,2,FALSE)","v":{"$error":"#N/A"}},{"$f":"VLOOKUP(H6,Results!$A$8:$G$60,4,FALSE)","v":{"$error":"#N/A"}},{"$f":"VLOOKUP(H6,Results!$A$8:$G$60,7,FALSE)","v":{"$error":"#N/A"}},{"$f":"VLOOKUP(H6,$B$4:B6,1,FALSE)","v":{"$error":"#N/A"}}]
[null,{"$f":"Results!A10","v":3},{"$f":"Results!C10","v":0},{"$f":"Results!B10","v":"Team 1 C"},{"$f":"Results!D10","v":0},{"$f":"Results!G8","v":""},"- vs -",{"$f":"VLOOKUP(B7,Results!$A$8:$AG$60,16,FALSE)","v":0},{"$f":"VLOOKUP(H7,Results!A$8:$G$60,3,FALSE)","v":{"$error":"#N/A"}},{"$f":"VLOOKUP(H7,Results!$A$8:$G$60,2,FALSE)","v":{"$error":"#N/A"}},{"$f":"VLOOKUP(H7,Results!$A$8:$G$60,4,FALSE)","v":{"$error":"#N/A"}},{"$f":"VLOOKUP(H7,Results!$A$8:$G$60,7,FALSE)","v":{"$error":"#N/A"}},{"$f":"VLOOKUP(H7,$B$4:B7,1,FALSE)","v":{"$error":"#N/A"}}]
[null,{"$f":"Results!A11","v":4},{"$f":"Results!C11","v":0},{"$f":"Results!B11","v":"Team 2 A"},{"$f":"Results!D11","v":0},{"$f":"Results!G11","v":""},"- vs -",{"$f":"VLOOKUP(B8,Results!$A$8:$AG$60,16,FALSE)","v":0},{"$f":"VLOOKUP(H8,Results!A$8:$G$60,3,FALSE)","v":{"$error":"#N/A"}},{"$f":"VLOOKUP(H8,Results!$A$8:$G$60,2,FALSE)","v":{"$error":"#N/A"}},{"$f":"VLOOKUP(H8,Results!$A$8:$G$60,4,FALSE)","v":{"$error":"#N/A"}},{"$f":"VLOOKUP(H8,Results!$A$8:$G$60,7,FALSE)","v":{"$error":"#N/A"}},{"$f":"VLOOKUP(H8,$B$4:B8,1,FALSE)","v":{"$error":"#N/A"}}]
[null,{"$f":"Results!A12","v":5},{"$f":"Results!C12","v":0},{"$f":"Results!B12","v":"Team 2 B"},{"$f":"Results!D12","v":0},{"$f":"Results!G12","v":""},"- vs -",{"$f":"VLOOKUP(B9,Results!$A$8:$AG$60,16,FALSE)","v":0},{"$f":"VLOOKUP(H9,Results!A$8:$G$60,3,FALSE)","v":{"$error":"#N/A"}},{"$f":"VLOOKUP(H9,Results!$A$8:$G$60,2,FALSE)","v":{"$error":"#N/A"}},{"$f":"VLOOKUP(H9,Results!$A$8:$G$60,4,FALSE)","v":{"$error":"#N/A"}},{"$f":"VLOOKUP(H9,Results!$A$8:$G$60,7,FALSE)","v":{"$error":"#N/A"}},{"$f":"VLOOKUP(H9,$B$4:B9,1,FALSE)","v":{"$error":"#N/A"}}]
[null,{"$f":"Results!A13","v":6},{"$f":"Results!C13","v":0},{"$f":"Results!B13","v":"Team 2 C"},{"$f":"Results!D13","v":0},{"$f":"Results!G13","v":""},"- vs -",{"$f":"VLOOKUP(B10,Results!$A$8:$AG$60,16,FALSE)","v":0},{"$f":"VLOOKUP(H10,Results!A$8:$G$60,3,FALSE)","v":{"$error":"#N/A"}},{"$f":"VLOOKUP(H10,Results!$A$8:$G$60,2,FALSE)","v":{"$error":"#N/A"}},{"$f":"VLOOKUP(H10,Results!$A$8:$G$60,4,FALSE)","v":{"$error":"#N/A"}},{"$f":"VLOOKUP(H10,Results!$A$8:$G$60,7,FALSE)","v":{"$error":"#N/A"}},{"$f":"VLOOKUP(H10,$B$4:B10,1,FALSE)","v":{"$error":"#N/A"}}]
[null,{"$f":"Results!A14","v":7},{"$f":"Results!C14","v":0},{"$f":"Results!B14","v":"Team 3 A"},{"$f":"Results!D14","v":0},{"$f":"Results!G14","v":""},"- vs -",{"$f":"VLOOKUP(B11,Results!$A$8:$AG$60,16,FALSE)","v":0},{"$f":"VLOOKUP(H11,Results!A$8:$G$60,3,FALSE)","v":{"$error":"#N/A"}},{"$f":"VLOOKUP(H11,Results!$A$8:$G$60,2,FALSE)","v":{"$error":"#N/A"}},{"$f":"VLOOKUP(H11,Results!$A$8:$G$60,4,FALSE)","v":{"$error":"#N/A"}},{"$f":"VLOOKUP(H11,Results!$A$8:$G$60,7,FALSE)","v":{"$error":"#N/A"}},{"$f":"VLOOKUP(H11,$B$4:B11,1,FALSE)","v":{"$error":"#N/A"}}]
[null,{"$f":"Results!A15","v":8},{"$f":"Results!C15","v":0},{"$f":"Results!B15","v":"Team 3 B"},{"$f":"Results!D15","v":0},{"$f":"Results!G15","v":""},"- vs -",{"$f":"VLOOKUP(B12,Results!$A$8:$AG$60,16,FALSE)","v":0},{"$f":"VLOOKUP(H12,Results!A$8:$G$60,3,FALSE)","v":{"$error":"#N/A"}},{"$f":"VLOOKUP(H12,Results!$A$8:$G$60,2,FALSE)","v":{"$error":"#N/A"}},{"$f":"VLOOKUP(H12,Results!$A$8:$G$60,4,FALSE)","v":{"$error":"#N/A"}},{"$f":"VLOOKUP(H12,Results!$A$8:$G$60,7,FALSE)","v":{"$error":"#N/A"}},{"$f":"VLOOKUP(H12,$B$4:B12,1,FALSE)","v":{"$error":"#N/A"}}]
[null,{"$f":"Results!A16","v":9},{"$f":"Results!C16","v":0},{"$f":"Results!B16","v":"Team 3 C"},{"$f":"Results!D16","v":0},{"$f":"Results!G16","v":""},"- vs -",{"$f":"VLOOKUP(B13,Results!$A$8:$AG$60,16,FALSE)","v":0},{"$f":"VLOOKUP(H13,Results!A$8:$G$60,3,FALSE)","v":{"$error":"#N/A"}},{"$f":"VLOOKUP(H13,Results!$A$8:$G$60,2,FALSE)","v":{"$error":"#N/A"}},{"$f":"VLOOKUP(H13,Results!$A$8:$G$60,4,FALSE)","v":{"$error":"#N/A"}},{"$f":"VLOOKUP(H13,Results!$A$8:$G$60,7,FALSE)","v":{"$error":"#N/A"}},{"$f":"VLOOKUP(H13,$B$4:B13,1,FALSE)","v":{"$error":"#N/A"}}]
[null,{"$f":"Results!A17","v":10},{"$f":"Results!C17","v":0},{"$f":"Results!B17","v":"Team 4 A"},{"$f":"Results!D17","v":0},{"$f":"Results!G17","v":""},"- vs -",{"$f":"VLOOKUP(B14,Results!$A$8:$AG$60,16,FALSE)","v":0},{"$f":"VLOOKUP(H14,Results!A$8:$G$60,3,FALSE)","v":{"$error":"#N/A"}},{"$f":"VLOOKUP(H14,Results!$A$8:$G$60,2,FALSE)","v":{"$error":"#N/A"}},{"$f":"VLOOKUP(H14,Results!$A$8:$G$60,4,FALSE)","v":{"$error":"#N/A"}},{"$f":"VLOOKUP(H14,Results!$A$8:$G$60,7,FALSE)","v":{"$error":"#N/A"}},{"$f":"VLOOKUP(H14,$B$4:B14,1,FALSE)","v":{"$error":"#N/A"}}]
[null,{"$f":"Results!A18","v":11},{"$f":"Results!C18","v":0},{"$f":"Results!B18","v":"Team 4 B"},{"$f":"Results!D18","v":0},{"$f":"Results!G18","v":""},"- vs -",{"$f":"VLOOKUP(B15,Results!$A$8:$AG$60,16,FALSE)","v":0},{"$f":"VLOOKUP(H15,Results!A$8:$G$60,3,FALSE)","v":{"$error":"#N/A"}},{"$f":"VLOOKUP(H15,Results!$A$8:$G$60,2,FALSE)","v":{"$error":"#N/A"}},{"$f":"VLOOKUP(H15,Results!$A$8:$G$60,4,FALSE)","v":{"$error":"#N/A"}},{"$f":"VLOOKUP(H15,Results!$A$8:$G$60,7,FALSE)","v":{"$error":"#N/A"}},{"$f":"VLOOKUP(H15,$B$4:B15,1,FALSE)","v":{"$error":"#N/A"}}]
[null,{"$f":"Results!A19","v":12},{"$f":"Results!C19","v":0},{"$f":"Results!B19","v":"Team 4 C"},{"$f":"Results!D19","v":0},{"$f":"Results!G19","v":""},"- vs -",{"$f":"VLOOKUP(B16,Results!$A$8:$AG$60,16,FALSE)","v":0},{"$f":"VLOOKUP(H16,Results!A$8:$G$60,3,FALSE)","v":{"$error":"#N/A"}},{"$f":"VLOOKUP(H16,Results!$A$8:$G$60,2,FALSE)","v":{"$error":"#N/A"}},{"$f":"VLOOKUP(H16,Results!$A$8:$G$60,4,FALSE)","v":{"$error":"#N/A"}},{"$f":"VLOOKUP(H16,Results!$A$8:$G$60,7,FALSE)","v":{"$error":"#N/A"}},{"$f":"VLOOKUP(H16,$B$4:B16,1,FALSE)","v":{"$error":"#N/A"}}]
[null,{"$f":"Results!A20","v":13},{"$f":"Results!C20","v":0},{"$f":"Results!B20","v":"Team 5 A"},{"$f":"Results!D20","v":0},{"$f":"Results!G20","v":""},"- vs -",{"$f":"VLOOKUP(B17,Results!$A$8:$AG$60,16,FALSE)","v":0},{"$f":"VLOOKUP(H17,Results!A$8:$G$60,3,FALSE)","v":{"$error":"#N/A"}},{"$f":"VLOOKUP(H17,Results!$A$8:$G$60,2,FALSE)","v":{"$error":"#N/A"}},{"$f":"VLOOKUP(H17,Results!$A$8:$G$60,4,FALSE)","v":{"$error":"#N/A"}},{"$f":"VLOOKUP(H17,Results!$A$8:$G$60,7,FALSE)","v":{"$error":"#N/A"}},{"$f":"VLOOKUP(H17,$B$4:B17,1,FALSE)","v":{"$error":"#N/A"}}]
[null,{"$f":"Results!A21","v":14},{"$f":"Results!C21","v":0},{"$f":"Results!B21","v":"Team 5 B"},{"$f":"Results!D21","v":0},{"$f":"Results!G21","v":""},"- vs -",{"$f":"VLOOKUP(B18,Results!$A$8:$AG$60,16,FALSE)","v":0},{"$f":"VLOOKUP(H18,Results!A$8:$G$60,3,FALSE)","v":{"$error":"#N/A"}},{"$f":"VLOOKUP(H18,Results!$A$8:$G$60,2,FALSE)","v":{"$error":"#N/A"}},{"$f":"VLOOKUP(H18,Results!$A$8:$G$60,4,FALSE)","v":{"$error":"#N/A"}},{"$f":"VLOOKUP(H18,Results!$A$8:$G$60,7,FALSE)","v":{"$error":"#N/A"}},{"$f":"VLOOKUP(H18,$B$4:B18,1,FALSE)","v":{"$error":"#N/A"}}]
[null,{"$f":"Results!A22","v":15},{"$f":"Results!C22","v":0},{"$f":"Results!B22","v":"Team 5 C"},{"$f":"Results!D22","v":0},{"$f":"Results!G22","v":""},"- vs -",{"$f":"VLOOKUP(B19,Results!$A$8:$AG$60,16,FALSE)","v":0},{"$f":"VLOOKUP(H19,Results!A$8:$G$60,3,FALSE)","v":{"$error":"#N/A"}},{"$f":"VLOOKUP(H19,Results!$A$8:$G$60,2,FALSE)","v":{"$error":"#N/A"}},{"$f":"VLOOKUP(H19,Results!$A$8:$G$60,4,FALSE)","v":{"$error":"#N/A"}},{"$f":"VLOOKUP(H19,Results!$A$8:$G$60,7,FALSE)","v":{"$error":"#N/A"}},{"$f":"VLOOKUP(H19,$B$4:B19,1,FALSE)","v":{"$error":"#N/A"}}]
[null,{"$f":"Results!A23","v":16},{"$f":"Results!C23","v":0},{"$f":"Results!B23","v":"Team 6 A"},{"$f":"Results!D23","v":0},{"$f":"Results!G23","v":""},"- vs -",{"$f":"VLOOKUP(B20,Results!$A$8:$AG$60,16,FALSE)","v":0},{"$f":"VLOOKUP(H20,Results!A$8:$G$60,3,FALSE)","v":{"$error":"#N/A"}},{"$f":"VLOOKUP(H20,Results!$A$8:$G$60,2,FALSE)","v":{"$error":"#N/A"}},{"$f":"VLOOKUP(H20,Results!$A$8:$G$60,4,FALSE)","v":{"$error":"#N/A"}},{"$f":"VLOOKUP(H20,Results!$A$8:$G$60,7,FALSE)","v":{"$error":"#N/A"}},{"$f":"VLOOKUP(H20,$B$4:B20,1,FALSE)","v":{"$error":"#N/A"}}]
[null,{"$f":"Results!A24","v":17},{"$f":"Results!C24","v":0},{"$f":"Results!B24","v":"Team 6 B"},{"$f":"Results!D24","v":0},{"$f":"Results!G24","v":""},"- vs -",{"$f":"VLOOKUP(B21,Results!$A$8:$AG$60,16,FALSE)","v":0},{"$f":"VLOOKUP(H21,Results!A$8:$G$60,3,FALSE)","v":{"$error":"#N/A"}},{"$f":"VLOOKUP(H21,Results!$A$8:$G$60,2,FALSE)","v":{"$error":"#N/A"}},{"$f":"VLOOKUP(H21,Results!$A$8:$G$60,4,FALSE)","v":{"$error":"#N/A"}},{"$f":"VLOOKUP(H21,Results!$A$8:$G$60,7,FALSE)","v":{"$error":"#N/A"}},{"$f":"VLOOKUP(H21,$B$4:B21,1,FALSE)","v":{"$error":"#N/A"}}]
[null,{"$f":"Results!A25","v":18},{"$f":"Results!C25","v":0},{"$f":"Results!B25","v":"Team 6 C"},{"$f":"Results!D25","v":0},{"$f":"Results!G25","v":""},"- vs -",{"$f":"VLOOKUP(B22,Results!$A$8:$AG$60,16,FALSE)","v":0},{"$f":"VLOOKUP(H22,Results!A$8:$G$60,3,FALSE)","v":{"$error":"#N/A"}},{"$f":"VLOOKUP(H22,Results!$A$8:$G$60,2,FALSE)","v":{"$error":"#N/A"}},{"$f":"VLOOKUP(H22,Results!$A$8:$G$60,4,FALSE)","v":{"$error":"#N/A"}},{"$f":"VLOOKUP(H22,Results!$A$8:$G$60,7,FALSE)","v":{"$error":"#N/A"}},{"$f":"VLOOKUP(H22,$B$4:B22,1,FALSE)","v":{"$error":"#N/A"}}]
[null,{"$f":"Results!A26","v":0},{"$f":"Results!C26","v":0},{"$f":"Results!B26","v":0},{"$f":"Results!D26","v":0},{"$f":"Results!G26","v":""},"- vs -",{"$f":"VLOOKUP(B23,Results!$A$8:$AG$60,16,FALSE)","v":{"$error":"#N/A"}},{"$f":"VLOOKUP(H23,Results!A$8:$G$60,3,FALSE)","v":{"$error":"#N/A"}},{"$f":"VLOOKUP(H23,Results!$A$8:$G$60,2,FALSE)","v":{"$error":"#N/A"}},{"$f":"VLOOKUP(H23,Results!$A$8:$G$60,4,FALSE)","v":{"$error":"#N/A"}},{"$f":"VLOOKUP(H23,Results!$A$8:$G$60,7,FALSE)","v":{"$error":"#N/A"}},{"$f":"VLOOKUP(H23,$B$4:B23,1,FALSE)","v":{"$error":"#N/A"}}]
[null,{"$f":"Results!A27","v":0},{"$f":"Results!C27","v":0},{"$f":"Results!B27","v":0},{"$f":"Results!D27","v":0},{"$f":"Results!G27","v":""},"- vs -",{"$f":"VLOOKUP(B24,Results!$A$8:$AG$60,16,FALSE)","v":{"$error":"#N/A"}},{"$f":"VLOOKUP(H24,Results!A$8:$G$60,3,FALSE)","v":{"$error":"#N/A"}},{"$f":"VLOOKUP(H24,Results!$A$8:$G$60,2,FALSE)","v":{"$error":"#N/A"}},{"$f":"VLOOKUP(H24,Results!$A$8:$G$60,4,FALSE)","v":{"$error":"#N/A"}},{"$f":"VLOOKUP(H24,Results!$A$8:$G$60,7,FALSE)","v":{"$error":"#N/A"}},{"$f":"VLOOKUP(H24,$B$4:B24,1,FALSE)","v":{"$error":"#N/A"}}]
[null,{"$f":"Results!A28","v":0},{"$f":"Results!C28","v":0},{"$f":"Results!B28","v":0},{"$f":"Results!D28","v":0},{"$f":"Results!G28","v":""},"- vs -",{"$f":"VLOOKUP(B25,Results!$A$8:$AG$60,16,FALSE)","v":{"$error":"#N/A"}},{"$f":"VLOOKUP(H25,Results!A$8:$G$60,3,FALSE)","v":{"$error":"#N/A"}},{"$f":"VLOOKUP(H25,Results!$A$8:$G$60,2,FALSE)","v":{"$error":"#N/A"}},{"$f":"VLOOKUP(H25,Results!$A$8:$G$60,4,FALSE)","v":{"$error":"#N/A"}},{"$f":"VLOOKUP(H25,Results!$A$8:$G$60,7,FALSE)","v":{"$error":"#N/A"}},{"$f":"VLOOKUP(H25,$B$4:B25,1,FALSE)","v":{"$error":"#N/A"}}]
[null,{"$f":"Results!A29","v":0},{"$f":"Results!C29","v":0},{"$f":"Results!B29","v":0},{"$f":"Results!D29","v":0},{"$f":"Results!G29","v":""},"- vs -",{"$f":"VLOOKUP(B26,Results!$A$8:$AG$60,16,FALSE)","v":{"$error":"#N/A"}},{"$f":"VLOOKUP(H26,Results!A$8:$G$60,3,FALSE)","v":{"$error":"#N/A"}},{"$f":"VLOOKUP(H26,Results!$A$8:$G$60,2,FALSE)","v":{"$error":"#N/A"}},{"$f":"VLOOKUP(H26,Results!$A$8:$G$60,4,FALSE)","v":{"$error":"#N/A"}},{"$f":"VLOOKUP(H26,Results!$A$8:$G$60,7,FALSE)","v":{"$error":"#N/A"}},{"$f":"VLOOKUP(H26,$B$4:B26,1,FALSE)","v":{"$error":"#N/A"}}]
[null,{"$f":"Results!A30","v":0},{"$f":"Results!C30","v":0},{"$f":"Results!B30","v":0},{"$f":"Results!D30","v":0},{"$f":"Results!G30","v":""},"- vs -",{"$f":"VLOOKUP(B27,Results!$A$8:$AG$60,16,FALSE)","v":{"$error":"#N/A"}},{"$f":"VLOOKUP(H27,Results!A$8:$G$60,3,FALSE)","v":{"$error":"#N/A"}},{"$f":"VLOOKUP(H27,Results!$A$8:$G$60,2,FALSE)","v":{"$error":"#N/A"}},{"$f":"VLOOKUP(H27,Results!$A$8:$G$60,4,FALSE)","v":{"$error":"#N/A"}},{"$f":"VLOOKUP(H27,Results!$A$8:$G$60,7,FALSE)","v":{"$error":"#N/A"}},{"$f":"VLOOKUP(H27,$B$4:B27,1,FALSE)","v":{"$error":"#N/A"}}]
[null,{"$f":"Results!A31","v":0},{"$f":"Results!C31","v":0},{"$f":"Results!B31","v":0},{"$f":"Results!D31","v":0},{"$f":"Results!G31","v":""},"- vs -",{"$f":"VLOOKUP(B28,Results!$A$8:$AG$60,16,FALSE)","v":{"$error":"#N/A"}},{"$f":"VLOOKUP(H28,Results!A$8:$G$60,3,FALSE)","v":{"$error":"#N/A"}},{"$f":"VLOOKUP(H28,Results!$A$8:$G$60,2,FALSE)","v":{"$error":"#N/A"}},{"$f":"VLOOKUP(H28,Results!$A$8:$G$60,4,FALSE)","v":{"$error":"#N/A"}},{"$f":"VLOOKUP(H28,Results!$A$8:$G$60,7,FALSE)","v":{"$error":"#N/A"}},{"$f":"VLOOKUP(H28,$B$4:B28,1,FALSE)","v":{"$error":"#N/A"}}]
[null,{"$f":"Results!A32","v":0},{"$f":"Results!C32","v":0},{"$f":"Results!B32","v":0},{"$f":"Results!D32","v":0},{"$f":"Results!G32","v":""},"- vs -",{"$f":"VLOOKUP(B29,Results!$A$8:$AG$60,16,FALSE)","v":{"$error":"#N/A"}},{"$f":"VLOOKUP(H29,Results!A$8:$G$60,3,FALSE)","v":{"$error":"#N/A"}},{"$f":"VLOOKUP(H29,Results!$A$8:$G$60,2,FALSE)","v":{"$error":"#N/A"}},{"$f":"VLOOKUP(H29,Results!$A$8:$G$60,4,FALSE)","v":{"$error":"#N/A"}},{"$f":"VLOOKUP(H29,Results!$A$8:$G$60,7,FALSE)","v":{"$error":"#N/A"}},{"$f":"VLOOKUP(H29,$B$4:B29,1,FALSE)","v":{"$error":"#N/A"}}]
[null,{"$f":"Results!A33","v":0},{"$f":"Results!C33","v":0},{"$f":"Results!B33","v":0},{"$f":"Results!D33","v":0},{"$f":"Results!G33","v":""},"- vs -",{"$f":"VLOOKUP(B30,Results!$A$8:$AG$60,16,FALSE)","v":{"$error":"#N/A"}},{"$f":"VLOOKUP(H30,Results!A$8:$G$60,3,FALSE)","v":{"$error":"#N/A"}},{"$f":"VLOOKUP(H30,Results!$A$8:$G$60,2,FALSE)","v":{"$error":"#N/A"}},{"$f":"VLOOKUP(H30,Results!$A$8:$G$60,4,FALSE)","v":{"$error":"#N/A"}},{"$f":"VLOOKUP(H30,Results!$A$8:$G$60,7,FALSE)","v":{"$error":"#N/A"}},{"$f":"VLOOKUP(H30,$B$4:B30,1,FALSE)","v":{"$error":"#N/A"}}]
[null,{"$f":"Results!A34","v":0},{"$f":"Results!C34","v":0},{"$f":"Results!B34","v":0},{"$f":"Results!D34","v":0},{"$f":"Results!G34","v":""},"- vs -",{"$f":"VLOOKUP(B31,Results!$A$8:$AG$60,16,FALSE)","v":{"$error":"#N/A"}},{"$f":"VLOOKUP(H31,Results!A$8:$G$60,3,FALSE)","v":{"$error":"#N/A"}},{"$f":"VLOOKUP(H31,Results!$A$8:$G$60,2,FALSE)","v":{"$error":"#N/A"}},{"$f":"VLOOKUP(H31,Results!$A$8:$G$60,4,FALSE)","v":{"$error":"#N/A"}},{"$f":"VLOOKUP(H31,Results!$A$8:$G$60,7,FALSE)","v":{"$error":"#N/A"}},{"$f":"VLOOKUP(H31,$B$4:B31,1,FALSE)","v":{"$error":"#N/A"}}]
[null,{"$f":"Results!A35","v":0},{"$f":"Results!C35","v":0},{"$f":"Results!B35","v":0},{"$f":"Results!D35","v":0},{"$f":"Results!G35","v":""},"- vs -",{"$f":"VLOOKUP(B32,Results!$A$8:$AG$60,16,FALSE)","v":{"$error":"#N/A"}},{"$f":"VLOOKUP(H32,Results!A$8:$G$60,3,FALSE)","v":{"$error":"#N/A"}},{"$f":"VLOOKUP(H32,Results!$A$8:$G$60,2,FALSE)","v":{"$error":"#N/A"}},{"$f":"VLOOKUP(H32,Results!$A$8:$G$60,4,FALSE)","v":{"$error":"#N/A"}},{"$f":"VLOOKUP(H32,Results!$A$8:$G$60,7,FALSE)","v":{"$error":"#N/A"}},{"$f":"VLOOKUP(H32,$B$4:B32,1,FALSE)","v":{"$error":"#N/A"}}]
[null,{"$f":"Results!A36","v":0},{"$f":"Results!C36","v":0},{"$f":"Results!B36","v":0},{"$f":"Results!D36","v":0},{"$f":"Results!G36","v":""},"- vs -",{"$f":"VLOOKUP(B33,Results!$A$8:$AG$60,16,FALSE)","v":{"$error":"#N/A"}},{"$f":"VLOOKUP(H33,Results!A$8:$G$60,3,FALSE)","v":{"$error":"#N/A"}},{"$f":"VLOOKUP(H33,Results!$A$8:$G$60,2,FALSE)","v":{"$error":"#N/A"}},{"$f":"VLOOKUP(H33,Results!$A$8:$G$60,4,FALSE)","v":{"$error":"#N/A"}},{"$f":"VLOOKUP(H33,Results!$A$8:$G$60,7,FALSE)","v":{"$error":"#N/A"}},{"$f":"VLOOKUP(H33,$B$4:B33,1,FALSE)","v":{"$error":"#N/A"}}]
[null,{"$f":"Results!A37","v":0},{"$f":"Results!C37","v":0},{"$f":"Results!B37","v":0},{"$f":"Results!D37","v":0},{"$f":"Results!G37","v":""},"- vs -",{"$f":"VLOOKUP(B34,Results!$A$8:$AG$60,16,FALSE)","v":{"$error":"#N/A"}},{"$f":"VLOOKUP(H34,Results!A$8:$G$60,3,FALSE)","v":{"$error":"#N/A"}},{"$f":"VLOOKUP(H34,Results!$A$8:$G$60,2,FALSE)","v":{"$error":"#N/A"}},{"$f":"VLOOKUP(H34,Results!$A$8:$G$60,4,FALSE)","v":{"$error":"#N/A"}},{"$f":"VLOOKUP(H34,Results!$A$8:$G$60,7,FALSE)","v":{"$error":"#N/A"}},{"$f":"VLOOKUP(H34,$B$4:B34,1,FALSE)","v":{"$error":"#N/A"}}]
[null,{"$f":"Results!A38","v":0},{"$f":"Results!C38","v":0},{"$f":"Results!B38","v":0},{"$f":"Results!D38","v":0},{"$f":"Results!G38","v":""},"- vs -",{"$f":"VLOOKUP(B35,Results!$A$8:$AG$60,16,FALSE)","v":{"$error":"#N/A"}},{"$f":"VLOOKUP(H35,Results!A$8:$G$60,3,FALSE)","v":{"$error":"#N/A"}},{"$f":"VLOOKUP(H35,Results!$A$8:$G$60,2,FALSE)","v":{"$error":"#N/A"}},{"$f":"VLOOKUP(H35,Results!$A$8:$G$60,4,FALSE)","v":{"$error":"#N/A"}},{"$f":"VLOOKUP(H35,Results!$A$8:$G$60,7,FALSE)","v":{"$error":"#N/A"}},{"$f":"VLOOKUP(H35,$B$4:B35,1,FALSE)","v":{"$error":"#N/A"}}]
[null,{"$f":"Results!A39","v":0},{"$f":"Results!C39","v":0},{"$f":"Results!B39","v":0},{"$f":"Results!D39","v":0},{"$f":"Results!G39","v":""},"- vs -",{"$f":"VLOOKUP(B36,Results!$A$8:$AG$60,16,FALSE)","v":{"$error":"#N/A"}},{"$f":"VLOOKUP(H36,Results!A$8:$G$60,3,FALSE)","v":{"$error":"#N/A"}},{"$f":"VLOOKUP(H36,Results!$A$8:$G$60,2,FALSE)","v":{"$error":"#N/A"}},{"$f":"VLOOKUP(H36,Results!$A$8:$G$60,4,FALSE)","v":{"$error":"#N/A"}},{"$f":"VLOOKUP(H36,Results!$A$8:$G$60,7,FALSE)","v":{"$error":"#N/A"}},{"$f":"VLOOKUP(H36,$B$4:B36,1,FALSE)","v":{"$error":"#N/A"}}]
[null,{"$f":"Results!A40","v":0},{"$f":"Results!C40","v":0},{"$f":"Results!B40","v":0},{"$f":"Results!D40","v":0},{"$f":"Results!G40","v":""},"- vs -",{"$f":"VLOOKUP(B37,Results!$A$8:$AG$60,16,FALSE)","v":{"$error":"#N/A"}},{"$f":"VLOOKUP(H37,Results!A$8:$G$60,3,FALSE)","v":{"$error":"#N/A"}},{"$f":"VLOOKUP(H37,Results!$A$8:$G$60,2,FALSE)","v":{"$error":"#N/A"}},{"$f":"VLOOKUP(H37,Results!$A$8:$G$60,4,FALSE)","v":{"$error":"#N/A"}},{"$f":"VLOOKUP(H37,Results!$A$8:$G$60,7,FALSE)","v":{"$error":"#N/A"}},{"$f":"VLOOKUP(H37,$B$4:B37,1,FALSE)","v":{"$error":"#N/A"}}]
[null,{"$f":"Results!A41","v":0},{"$f":"Results!C41","v":0},{"$f":"Results!B41","v":0},{"$f":"Results!D41","v":0},{"$f":"Results!G41","v":""},"- vs -",{"$f":"VLOOKUP(B38,Results!$A$8:$AG$60,16,FALSE)","v":{"$error":"#N/A"}},{"$f":"VLOOKUP(H38,Results!A$8:$G$60,3,FALSE)","v":{"$error":"#N/A"}},{"$f":"VLOOKUP(H38,Results!$A$8:$G$60,2,FALSE)","v":{"$error":"#N/A"}},{"$f":"VLOOKUP(H38,Results!$A$8:$G$60,4,FALSE)","v":{"$error":"#N/A"}},{"$f":"VLOOKUP(H38,Results!$A$8:$G$60,7,FALSE)","v":{"$error":"#N/A"}},{"$f":"VLOOKUP(H38,$B$4:B38,1,FALSE)","v":{"$error":"#N/A"}}]
[null,{"$f":"Results!A42","v":0},{"$f":"Results!C42","v":0},{"$f":"Results!B42","v":0},{"$f":"Results!D42","v":0},{"$f":"Results!G42","v":""},"- vs -",{"$f":"VLOOKUP(B39,Results!$A$8:$AG$60,16,FALSE)","v":{"$error":"#N/A"}},{"$f":"VLOOKUP(H39,Results!A$8:$G$60,3,FALSE)","v":{"$error":"#N/A"}},{"$f":"VLOOKUP(H39,Results!$A$8:$G$60,2,FALSE)","v":{"$error":"#N/A"}},{"$f":"VLOOKUP(H39,Results!$A$8:$G$60,4,FALSE)","v":{"$error":"#N/A"}},{"$f":"VLOOKUP(H39,Results!$A$8:$G$60,7,FALSE)","v":{"$error":"#N/A"}},{"$f":"VLOOKUP(H39,$B$4:B39,1,FALSE)","v":{"$error":"#N/A"}}]
[null,{"$f":"Results!A43","v":0},{"$f":"Results!C43","v":0},{"$f":"Results!B43","v":0},{"$f":"Results!D43","v":0},{"$f":"Results!G43","v":""},"- vs -",{"$f":"VLOOKUP(B40,Results!$A$8:$AG$60,16,FALSE)","v":{"$error":"#N/A"}},{"$f":"VLOOKUP(H40,Results!A$8:$G$60,3,FALSE)","v":{"$error":"#N/A"}},{"$f":"VLOOKUP(H40,Results!$A$8:$G$60,2,FALSE)","v":{"$error":"#N/A"}},{"$f":"VLOOKUP(H40,Results!$A$8:$G$60,4,FALSE)","v":{"$error":"#N/A"}},{"$f":"VLOOKUP(H40,Results!$A$8:$G$60,7,FALSE)","v":{"$error":"#N/A"}},{"$f":"VLOOKUP(H40,$B$4:B40,1,FALSE)","v":{"$error":"#N/A"}}]
[null,{"$f":"Results!A44","v":0},{"$f":"Results!C44","v":0},{"$f":"Results!B44","v":0},{"$f":"Results!D44","v":0},{"$f":"Results!G44","v":""},"- vs -",{"$f":"VLOOKUP(B41,Results!$A$8:$AG$60,16,FALSE)","v":{"$error":"#N/A"}},{"$f":"VLOOKUP(H41,Results!A$8:$G$60,3,FALSE)","v":{"$error":"#N/A"}},{"$f":"VLOOKUP(H41,Results!$A$8:$G$60,2,FALSE)","v":{"$error":"#N/A"}},{"$f":"VLOOKUP(H41,Results!$A$8:$G$60,4,FALSE)","v":{"$error":"#N/A"}},{"$f":"VLOOKUP(H41,Results!$A$8:$G$60,7,FALSE)","v":{"$error":"#N/A"}},{"$f":"VLOOKUP(H41,$B$4:B41,1,FALSE)","v":{"$error":"#N/A"}}]
[null,{"$f":"Results!A45","v":0},{"$f":"Results!C45","v":0},{"$f":"Results!B45","v":0},{"$f":"Results!D45","v":0},{"$f":"Results!G45","v":""},"- vs -",{"$f":"VLOOKUP(B42,Results!$A$8:$AG$60,16,FALSE)","v":{"$error":"#N/A"}},{"$f":"VLOOKUP(H42,Results!A$8:$G$60,3,FALSE)","v":{"$error":"#N/A"}},{"$f":"VLOOKUP(H42,Results!$A$8:$G$60,2,FALSE)","v":{"$error":"#N/A"}},{"$f":"VLOOKUP(H42,Results!$A$8:$G$60,4,FALSE)","v":{"$error":"#N/A"}},{"$f":"VLOOKUP(H42,Results!$A$8:$G$60,7,FALSE)","v":{"$error":"#N/A"}},{"$f":"VLOOKUP(H42,$B$4:B42,1,FALSE)","v":{"$error":"#N/A"}}]
[null,{"$f":"Results!A46","v":0},{"$f":"Results!C46","v":0},{"$f":"Results!B46","v":0},{"$f":"Results!D46","v":0},{"$f":"Results!G46","v":""},"- vs -",{"$f":"VLOOKUP(B43,Results!$A$8:$AG$60,16,FALSE)","v":{"$error":"#N/A"}},{"$f":"VLOOKUP(H43,Results!A$8:$G$60,3,FALSE)","v":{"$error":"#N/A"}},{"$f":"VLOOKUP(H43,Results!$A$8:$G$60,2,FALSE)","v":{"$error":"#N/A"}},{"$f":"VLOOKUP(H43,Results!$A$8:$G$60,4,FALSE)","v":{"$error":"#N/A"}},{"$f":"VLOOKUP(H43,Results!$A$8:$G$60,7,FALSE)","v":{"$error":"#N/A"}},{"$f":"VLOOKUP(H43,$B$4:B43,1,FALSE)","v":{"$error":"#N/A"}}]
[null,{"$f":"Results!A47","v":0},{"$f":"Results!C47","v":0},{"$f":"Results!B47","v":0},{"$f":"Results!D47","v":0},{"$f":"Results!G47","v":""},"- vs -",{"$f":"VLOOKUP(B44,Results!$A$8:$AG$60,16,FALSE)","v":{"$error":"#N/A"}},{"$f":"VLOOKUP(H44,Results!A$8:$G$60,3,FALSE)","v":{"$error":"#N/A"}},{"$f":"VLOOKUP(H44,Results!$A$8:$G$60,2,FALSE)","v":{"$error":"#N/A"}},{"$f":"VLOOKUP(H44,Results!$A$8:$G$60,4,FALSE)","v":{"$error":"#N/A"}},{"$f":"VLOOKUP(H44,Results!$A$8:$G$60,7,FALSE)","v":{"$error":"#N/A"}},{"$f":"VLOOKUP(H44,$B$4:B44,1,FALSE)","v":{"$error":"#N/A"}}]
[null,{"$f":"Results!A48","v":0},{"$f":"Results!C48","v":0},{"$f":"Results!B48","v":0},{"$f":"Results!D48","v":0},{"$f":"Results!G48","v":""},"- vs -",{"$f":"VLOOKUP(B45,Results!$A$8:$AG$60,16,FALSE)","v":{"$error":"#N/A"}},{"$f":"VLOOKUP(H45,Results!A$8:$G$60,3,FALSE)","v":{"$error":"#N/A"}},{"$f":"VLOOKUP(H45,Results!$A$8:$G$60,2,FALSE)","v":{"$error":"#N/A"}},{"$f":"VLOOKUP(H45,Results!$A$8:$G$60,4,FALSE)","v":{"$error":"#N/A"}},{"$f":"VLOOKUP(H45,Results!$A$8:$G$60,7,FALSE)","v":{"$error":"#N/A"}},{"$f":"VLOOKUP(H45,$B$4:B45,1,FALSE)","v":{"$error":"#N/A"}}]
[null,{"$f":"Results!A49","v":0},{"$f":"Results!C49","v":0},{"$f":"Results!B49","v":0},{"$f":"Results!D49","v":0},{"$f":"Results!G49","v":""},"- vs -",{"$f":"VLOOKUP(B46,Results!$A$8:$AG$60,16,FALSE)","v":{"$error":"#N/A"}},{"$f":"VLOOKUP(H46,Results!A$8:$G$60,3,FALSE)","v":{"$error":"#N/A"}},{"$f":"VLOOKUP(H46,Results!$A$8:$G$60,2,FALSE)","v":{"$error":"#N/A"}},{"$f":"VLOOKUP(H46,Results!$A$8:$G$60,4,FALSE)","v":{"$error":"#N/A"}},{"$f":"VLOOKUP(H46,Results!$A$8:$G$60,7,FALSE)","v":{"$error":"#N/A"}},{"$f":"VLOOKUP(H46,$B$4:B46,1,FALSE)","v":{"$error":"#N/A"}}]
[null,{"$f":"Results!A50","v":0},{"$f":"Results!C50","v":0},{"$f":"Results!B50","v":0},{"$f":"Results!D50","v":0},{"$f":"Results!G50","v":""},"- vs -",{"$f":"VLOOKUP(B47,Results!$A$8:$AG$60,16,FALSE)","v":{"$error":"#N/A"}},{"$f":"VLOOKUP(H47,Results!A$8:$G$60,3,FALSE)","v":{"$error":"#N/A"}},{"$f":"VLOOKUP(H47,Results!$A$8:$G$60,2,FALSE)","v":{"$error":"#N/A"}},{"$f":"VLOOKUP(H47,Results!$A$8:$G$60,4,FALSE)","v":{"$error":"#N/A"}},{"$f":"VLOOKUP(H47,Results!$A$8:$G$60,7,FALSE)","v":{"$error":"#N/A"}},{"$f":"VLOOKUP(H47,$B$4:B47,1,FALSE)","v":{"$error":"#N/A"}}]
[null,{"$f":"Results!A51","v":0},{"$f":"Results!C51","v":0},{"$f":"Results!B51","v":0},{"$f":"Results!D51","v":0},{"$f":"Results!G51","v":""},"- vs -",{"$f":"VLOOKUP(B48,Results!$A$8:$AG$60,16,FALSE)","v":{"$error":"#N/A"}},{"$f":"VLOOKUP(H48,Results!A$8:$G$60,3,FALSE)","v":{"$error":"#N/A"}},{"$f":"VLOOKUP(H48,Results!$A$8:$G$60,2,FALSE)","v":{"$error":"#N/A"}},{"$f":"VLOOKUP(H48,Results!$A$8:$G$60,4,FALSE)","v":{"$error":"#N/A"}},{"$f":"VLOOKUP(H48,Results!$A$8:$G$60,7,FALSE)","v":{"$error":"#N/A"}},{"$f":"VLOOKUP(H48,$B$4:B48,1,FALSE)","v":{"$error":"#N/A"}}]
[null,{"$f":"Results!A52","v":0},{"$f":"Results!C52","v":0},{"$f":"Results!B52","v":0},{"$f":"Results!D52","v":0},{"$f":"Results!G52","v":""},"- vs -",{"$f":"VLOOKUP(B49,Results!$A$8:$AG$60,16,FALSE)","v":{"$error":"#N/A"}},{"$f":"VLOOKUP(H49,Results!A$8:$G$60,3,FALSE)","v":{"$error":"#N/A"}},{"$f":"VLOOKUP(H49,Results!$A$8:$G$60,2,FALSE)","v":{"$error":"#N/A"}},{"$f":"VLOOKUP(H49,Results!$A$8:$G$60,4,FALSE)","v":{"$error":"#N/A"}},{"$f":"VLOOKUP(H49,Results!$A$8:$G$60,7,FALSE)","v":{"$error":"#N/A"}},{"$f":"VLOOKUP(H49,$B$4:B49,1,FALSE)","v":{"$error":"#N/A"}}]
[null,{"$f":"Results!A53","v":0},{"$f":"Results!C53","v":0},{"$f":"Results!B53","v":0},{"$f":"Results!D53","v":0},{"$f":"Results!G53","v":""},"- vs -",{"$f":"VLOOKUP(B50,Results!$A$8:$AG$60,16,FALSE)","v":{"$error":"#N/A"}},{"$f":"VLOOKUP(H50,Results!A$8:$G$60,3,FALSE)","v":{"$error":"#N/A"}},{"$f":"VLOOKUP(H50,Results!$A$8:$G$60,2,FALSE)","v":{"$error":"#N/A"}},{"$f":"VLOOKUP(H50,Results!$A$8:$G$60,4,FALSE)","v":{"$error":"#N/A"}},{"$f":"VLOOKUP(H50,Results!$A$8:$G$60,7,FALSE)","v":{"$error":"#N/A"}},{"$f":"VLOOKUP(H50,$B$4:B50,1,FALSE)","v":{"$error":"#N/A"}}]
[null,{"$f":"Results!A54","v":0},{"$f":"Results!C54","v":0},{"$f":"Results!B54","v":0},{"$f":"Results!D54","v":0},{"$f":"Results!G54","v":""},"- vs -",{"$f":"VLOOKUP(B51,Results!$A$8:$AG$60,16,FALSE)","v":{"$error":"#N/A"}},{"$f":"VLOOKUP(H51,Results!A$8:$G$60,3,FALSE)","v":{"$error":"#N/A"}},{"$f":"VLOOKUP(H51,Results!$A$8:$G$60,2,FALSE)","v":{"$error":"#N/A"}},{"$f":"VLOOKUP(H51,Results!$A$8:$G$60,4,FALSE)","v":{"$error":"#N/A"}},{"$f":"VLOOKUP(H51,Results!$A$8:$G$60,7,FALSE)","v":{"$error":"#N/A"}},{"$f":"VLOOKUP(H51,$B$4:B51,1,FALSE)","v":{"$error":"#N/A"}}]
[null,{"$f":"Results!A55","v":0},{"$f":"Results!C55","v":0},{"$f":"Results!B55","v":0},{"$f":"Results!D55","v":0},{"$f":"Results!G55","v":""},"- vs -",{"$f":"VLOOKUP(B52,Results!$A$8:$AG$60,16,FALSE)","v":{"$error":"#N/A"}},{"$f":"VLOOKUP(H52,Results!A$8:$G$60,3,FALSE)","v":{"$error":"#N/A"}},{"$f":"VLOOKUP(H52,Results!$A$8:$G$60,2,FALSE)","v":{"$error":"#N/A"}},{"$f":"VLOOKUP(H52,Results!$A$8:$G$60,4,FALSE)","v":{"$error":"#N/A"}},{"$f":"VLOOKUP(H52,Results!$A$8:$G$60,7,FALSE)","v":{"$error":"#N/A"}},{"$f":"VLOOKUP(H52,$B$4:B52,1,FALSE)","v":{"$error":"#N/A"}}]
[null,{"$f":"Results!A56","v":0},{"$f":"Results!C56","v":0},{"$f":"Results!B56","v":0},{"$f":"Results!D56","v":0},{"$f":"Results!G56","v":""},"- vs -",{"$f":"VLOOKUP(B53,Results!$A$8:$AG$60,16,FALSE)","v":{"$error":"#N/A"}},{"$f":"VLOOKUP(H53,Results!A$8:$G$60,3,FALSE)","v":{"$error":"#N/A"}},{"$f":"VLOOKUP(H53,Results!$A$8:$G$60,2,FALSE)","v":{"$error":"#N/A"}},{"$f":"VLOOKUP(H53,Results!$A$8:$G$60,4,FALSE)","v":{"$error":"#N/A"}},{"$f":"VLOOKUP(H53,Results!$A$8:$G$60,7,FALSE)","v":{"$error":"#N/A"}},{"$f":"VLOOKUP(H53,$B$4:B53,1,FALSE)","v":{"$error":"#N/A"}}]
[null,{"$f":"Results!A57","v":0},{"$f":"Results!C57","v":0},{"$f":"Results!B57","v":0},{"$f":"Results!D57","v":0},{"$f":"Results!G57","v":""},"- vs -",{"$f":"VLOOKUP(B54,Results!$A$8:$AG$60,16,FALSE)","v":{"$error":"#N/A"}},{"$f":"VLOOKUP(H54,Results!A$8:$G$60,3,FALSE)","v":{"$error":"#N/A"}},{"$f":"VLOOKUP(H54,Results!$A$8:$G$60,2,FALSE)","v":{"$error":"#N/A"}},{"$f":"VLOOKUP(H54,Results!$A$8:$G$60,4,FALSE)","v":{"$error":"#N/A"}},{"$f":"VLOOKUP(H54,Results!$A$8:$G$60,7,FALSE)","v":{"$error":"#N/A"}},{"$f":"VLOOKUP(H54,$B$4:B54,1,FALSE)","v":{"$error":"#N/A"}}]
[null,{"$f":"Results!A58","v":0},{"$f":"Results!C58","v":0},{"$f":"Results!B58","v":0},{"$f":"Results!D58","v":0},{"$f":"Results!G58","v":""},"- vs -",{"$f":"VLOOKUP(B55,Results!$A$8:$AG$60,16,FALSE)","v":{"$error":"#N/A"}},{"$f":"VLOOKUP(H55,Results!A$8:$G$60,3,FALSE)","v":{"$error":"#N/A"}},{"$f":"VLOOKUP(H55,Results!$A$8:$G$60,2,FALSE)","v":{"$error":"#N/A"}},{"$f":"VLOOKUP(H55,Results!$A$8:$G$60,4,FALSE)","v":{"$error":"#N/A"}},{"$f":"VLOOKUP(H55,Results!$A$8:$G$60,7,FALSE)","v":{"$error":"#N/A"}},{"$f":"VLOOKUP(H55,$B$4:B55,1,FALSE)","v":{"$error":"#N/A"}}]
[null,{"$f":"Results!A59","v":0},{"$f":"Results!C59","v":0},{"$f":"Results!B59","v":0},{"$f":"Results!D59","v":0},{"$f":"Results!G59","v":""},"- vs -",{"$f":"VLOOKUP(B56,Results!$A$8:$AG$60,16,FALSE)","v":{"$error":"#N/A"}},{"$f":"VLOOKUP(H56,Results!A$8:$G$60,3,FALSE)","v":{"$error":"#N/A"}},{"$f":"VLOOKUP(H56,Results!$A$8:$G$60,2,FALSE)","v":{"$error":"#N/A"}},{"$f":"VLOOKUP(H56,Results!$A$8:$G$60,4,FALSE)","v":{"$error":"#N/A"}},{"$f":"VLOOKUP(H56,Results!$A$8:$G$60,7,FALSE)","v":{"$error":"#N/A"}},{"$f":"VLOOKUP(H56,$B$4:B56,1,FALSE)","v":{"$error":"#N/A"}}]
[null,{"$f":"Results!A60","v":0},{"$f":"Results!C60","v":0},{"$f":"Results!B60","v":0},{"$f":"Results!D60","v":0},{"$f":"Results!G60","v":""},"- vs -",{"$f":"VLOOKUP(B57,Results!$A$8:$AG$60,16,FALSE)","v":{"$error":"#N/A"}},{"$f":"VLOOKUP(H57,Results!A$8:$G$60,3,FALSE)","v":{"$error":"#N/A"}},{"$f":"VLOOKUP(H57,Results!$A$8:$G$60,2,FALSE)","v":{"$error":"#N/A"}},{"$f":"VLOOKUP(H57,Results!$A$8:$G$60,4,FALSE)","v":{"$error":"#N/A"}},{"$f":"VLOOKUP(H57,Results!$A$8:$G$60,7,FALSE)","v":{"$error":"#N/A"}},{"$f":"VLOOKUP(H57,$B$4:B57,1,FALSE)","v":{"$error":"#N/A"}}]
[null,{"$f":"Results!A61","v":0},{"$f":"Results!C61","v":0},{"$f":"Results!B61","v":0},{"$f":"Results!D61","v":0},{"$f":"Results!G61","v":""},"- vs -",{"$f":"VLOOKUP(B58,Results!$A$8:$AG$60,16,FALSE)","v":{"$error":"#N/A"}},{"$f":"VLOOKUP(H58,Results!A$8:$G$60,3,FALSE)","v":{"$error":"#N/A"}},{"$f":"VLOOKUP(H58,Results!$A$8:$G$60,2,FALSE)","v":{"$error":"#N/A"}},{"$f":"VLOOKUP(H58,Results!$A$8:$G$60,4,FALSE)","v":{"$error":"#N/A"}},{"$f":"VLOOKUP(H58,Results!$A$8:$G$60,7,FALSE)","v":{"$error":"#N/A"}},{"$f":"VLOOKUP(H58,$B$4:B58,1,FALSE)","v":{"$error":"#N/A"}}]
[null,{"$f":"Results!A62","v":0},{"$f":"Results!C62","v":0},{"$f":"Results!B62","v":0},{"$f":"Results!D62","v":0},{"$f":"Results!G62","v":0},"- vs -",{"$f":"VLOOKUP(B59,Results!$A$8:$AG$60,16,FALSE)","v":{"$error":"#N/A"}},{"$f":"VLOOKUP(H59,Results!A$8:$G$60,3,FALSE)","v":{"$error":"#N/A"}},{"$f":"VLOOKUP(H59,Results!$A$8:$G$60,2,FALSE)","v":{"$error":"#N/A"}},{"$f":"VLOOKUP(H59,Results!$A$8:$G$60,4,FALSE)","v":{"$error":"#N/A"}},{"$f":"VLOOKUP(H59,Results!$A$8:$G$60,7,FALSE)","v":{"$error":"#N/A"}},{"$f":"VLOOKUP(H59,$B$4:B59,1,FALSE)","v":{"$error":"#N/A"}}]
[null,{"$f":"Results!A63","v":0},{"$f":"Results!C63","v":0},{"$f":"Results!B63","v":0},{"$f":"Results!D63","v":0},{"$f":"Results!G63","v":0},"- vs -",{"$f":"VLOOKUP(B60,Results!$A$8:$AG$60,16,FALSE)","v":{"$error":"#N/A"}},{"$f":"VLOOKUP(H60,Results!A$8:$G$60,3,FALSE)","v":{"$error":"#N/A"}},{"$f":"VLOOKUP(H60,Results!$A$8:$G$60,2,FALSE)","v":{"$error":"#N/A"}},{"$f":"VLOOKUP(H60,Results!$A$8:$G$60,4,FALSE)","v":{"$error":"#N/A"}},{"$f":"VLOOKUP(H60,Results!$A$8:$G$60,7,FALSE)","v":{"$error":"#N/A"}},{"$f":"VLOOKUP(H60,$B$4:B60,1,FALSE)","v":{"$error":"#N/A"}}]
[null,{"$f":"Results!A64","v":0},{"$f":"Results!C64","v":0},{"$f":"Results!B64","v":0},{"$f":"Results!D64","v":0},{"$f":"Results!G64","v":0},"- vs -",{"$f":"VLOOKUP(B61,Results!$A$8:$AG$60,16,FALSE)","v":{"$error":"#N/A"}},{"$f":"VLOOKUP(H61,Results!A$8:$G$60,3,FALSE)","v":{"$error":"#N/A"}},{"$f":"VLOOKUP(H61,Results!$A$8:$G$60,2,FALSE)","v":{"$error":"#N/A"}},{"$f":"VLOOKUP(H61,Results!$A$8:$G$60,4,FALSE)","v":{"$error":"#N/A"}},{"$f":"VLOOKUP(H61,Results!$A$8:$G$60,7,FALSE)","v":{"$error":"#N/A"}},{"$f":"VLOOKUP(H61,$B$4:B61,1,FALSE)","v":{"$error":"#N/A"}}]
[null,{"$f":"Results!A65","v":0},{"$f":"Results!C65","v":0},{"$f":"Results!B65","v":0},{"$f":"Results!D65","v":0},{"$f":"Results!G65","v":0},"- vs -",{"$f":"VLOOKUP(B62,Results!$A$8:$AG$60,16,FALSE)","v":{"$error":"#N/A"}},{"$f":"VLOOKUP(H62,Results!A$8:$G$60,3,FALSE)","v":{"$error":"#N/A"}},{"$f":"VLOOKUP(H62,Results!$A$8:$G$60,2,FALSE)","v":{"$error":"#N/A"}},{"$f":"VLOOKUP(H62,Results!$A$8:$G$60,4,FALSE)","v":{"$error":"#N/A"}},{"$f":"VLOOKUP(H62,Results!$A$8:$G$60,7,FALSE)","v":{"$error":"#N/A"}},{"$f":"VLOOKUP(H62,$B$4:B62,1,FALSE)","v":{"$error":"#N/A"}}]
[null,{"$f":"Results!A66","v":0},{"$f":"Results!C66","v":0},{"$f":"Results!B66","v":0},{"$f":"Results!D66","v":0},{"$f":"Results!G66","v":0},"- vs -",{"$f":"VLOOKUP(B63,Results!$A$8:$AG$60,16,FALSE)","v":{"$error":"#N/A"}},{"$f":"VLOOKUP(H63,Results!A$8:$G$60,3,FALSE)","v":{"$error":"#N/A"}},{"$f":"VLOOKUP(H63,Results!$A$8:$G$60,2,FALSE)","v":{"$error":"#N/A"}},{"$f":"VLOOKUP(H63,Results!$A$8:$G$60,4,FALSE)","v":{"$error":"#N/A"}},{"$f":"VLOOKUP(H63,Results!$A$8:$G$60,7,FALSE)","v":{"$error":"#N/A"}},{"$f":"VLOOKUP(H63,$B$4:B63,1,FALSE)","v":{"$error":"#N/A"}}]

{"sheet":"Round 3","index":11,"n_rows":63,"n_cols":13,"rows_kept":63}
[null,null,"First Name","Surname","Club",{"$nulls":3},"First Name","Surname","Club"]
["Round 3 Draw",null,{"$f":"Results!B3","v":0}]
[null,null,{"$f":"Results!B4","v":"Open Theme"}]
[{"$nulls":12},"VALID?"]
[null,{"$f":"Results!A8","v":1},{"$f":"Results!C8","v":0},{"$f":"Results!B8","v":"Team 1 A"},{"$f":"Results!D8","v":0},{"$f":"Results!G8","v":""},"- vs -",{"$f":"VLOOKUP(B5,Results!$A$8:$AG$60,23,FALSE)","v":0},{"$f":"VLOOKUP(H5,Results!A$8:$G$60,3,FALSE)","v":{"$error":"#N/A"}},{"$f":"VLOOKUP(H5,Results!$A$8:$G$60,2,FALSE)","v":{"$error":"#N/A"}},{"$f":"VLOOKUP(H5,Results!$A$8:$G$60,4,FALSE)","v":{"$error":"#N/A"}},{"$f":"VLOOKUP(H5,Results!$A$8:$G$60,7,FALSE)","v":{"$error":"#N/A"}},{"$f":"VLOOKUP(H5,$B$4:B5,1,FALSE)","v":{"$error":"#N/A"}}]
[null,{"$f":"Results!A9","v":2},{"$f":"Results!C9","v":0},{"$f":"Results!B9","v":"Team 1 B"},{"$f":"Results!D9","v":0},{"$f":"Results!G9","v":""},"- vs -",{"$f":"VLOOKUP(B6,Results!$A$8:$AG$60,23,FALSE)","v":0},{"$f":"VLOOKUP(H6,Results!A$8:$G$60,3,FALSE)","v":{"$error":"#N/A"}},{"$f":"VLOOKUP(H6,Results!$A$8:$G$60,2,FALSE)","v":{"$error":"#N/A"}},{"$f":"VLOOKUP(H6,Results!$A$8:$G$60,4,FALSE)","v":{"$error":"#N/A"}},{"$f":"VLOOKUP(H6,Results!$A$8:$G$60,7,FALSE)","v":{"$error":"#N/A"}},{"$f":"VLOOKUP(H6,$B$4:B6,1,FALSE)","v":{"$error":"#N/A"}}]
[null,{"$f":"Results!A10","v":3},{"$f":"Results!C10","v":0},{"$f":"Results!B10","v":"Team 1 C"},{"$f":"Results!D10","v":0},{"$f":"Results!G10","v":""},"- vs -",{"$f":"VLOOKUP(B7,Results!$A$8:$AG$60,23,FALSE)","v":0},{"$f":"VLOOKUP(H7,Results!A$8:$G$60,3,FALSE)","v":{"$error":"#N/A"}},{"$f":"VLOOKUP(H7,Results!$A$8:$G$60,2,FALSE)","v":{"$error":"#N/A"}},{"$f":"VLOOKUP(H7,Results!$A$8:$G$60,4,FALSE)","v":{"$error":"#N/A"}},{"$f":"VLOOKUP(H7,Results!$A$8:$G$60,7,FALSE)","v":{"$error":"#N/A"}},{"$f":"VLOOKUP(H7,$B$4:B7,1,FALSE)","v":{"$error":"#N/A"}}]
[null,{"$f":"Results!A11","v":4},{"$f":"Results!C11","v":0},{"$f":"Results!B11","v":"Team 2 A"},{"$f":"Results!D11","v":0},{"$f":"Results!G11","v":""},"- vs -",{"$f":"VLOOKUP(B8,Results!$A$8:$AG$60,23,FALSE)","v":0},{"$f":"VLOOKUP(H8,Results!A$8:$G$60,3,FALSE)","v":{"$error":"#N/A"}},{"$f":"VLOOKUP(H8,Results!$A$8:$G$60,2,FALSE)","v":{"$error":"#N/A"}},{"$f":"VLOOKUP(H8,Results!$A$8:$G$60,4,FALSE)","v":{"$error":"#N/A"}},{"$f":"VLOOKUP(H8,Results!$A$8:$G$60,7,FALSE)","v":{"$error":"#N/A"}},{"$f":"VLOOKUP(H8,$B$4:B8,1,FALSE)","v":{"$error":"#N/A"}}]
[null,{"$f":"Results!A12","v":5},{"$f":"Results!C12","v":0},{"$f":"Results!B12","v":"Team 2 B"},{"$f":"Results!D12","v":0},{"$f":"Results!G12","v":""},"- vs -",{"$f":"VLOOKUP(B9,Results!$A$8:$AG$60,23,FALSE)","v":0},{"$f":"VLOOKUP(H9,Results!A$8:$G$60,3,FALSE)","v":{"$error":"#N/A"}},{"$f":"VLOOKUP(H9,Results!$A$8:$G$60,2,FALSE)","v":{"$error":"#N/A"}},{"$f":"VLOOKUP(H9,Results!$A$8:$G$60,4,FALSE)","v":{"$error":"#N/A"}},{"$f":"VLOOKUP(H9,Results!$A$8:$G$60,7,FALSE)","v":{"$error":"#N/A"}},{"$f":"VLOOKUP(H9,$B$4:B9,1,FALSE)","v":{"$error":"#N/A"}}]
[null,{"$f":"Results!A13","v":6},{"$f":"Results!C13","v":0},{"$f":"Results!B13","v":"Team 2 C"},{"$f":"Results!D13","v":0},{"$f":"Results!G13","v":""},"- vs -",{"$f":"VLOOKUP(B10,Results!$A$8:$AG$60,23,FALSE)","v":0},{"$f":"VLOOKUP(H10,Results!A$8:$G$60,3,FALSE)","v":{"$error":"#N/A"}},{"$f":"VLOOKUP(H10,Results!$A$8:$G$60,2,FALSE)","v":{"$error":"#N/A"}},{"$f":"VLOOKUP(H10,Results!$A$8:$G$60,4,FALSE)","v":{"$error":"#N/A"}},{"$f":"VLOOKUP(H10,Results!$A$8:$G$60,7,FALSE)","v":{"$error":"#N/A"}},{"$f":"VLOOKUP(H10,$B$4:B10,1,FALSE)","v":{"$error":"#N/A"}}]
[null,{"$f":"Results!A14","v":7},{"$f":"Results!C14","v":0},{"$f":"Results!B14","v":"Team 3 A"},{"$f":"Results!D14","v":0},{"$f":"Results!G14","v":""},"- vs -",{"$f":"VLOOKUP(B11,Results!$A$8:$AG$60,23,FALSE)","v":0},{"$f":"VLOOKUP(H11,Results!A$8:$G$60,3,FALSE)","v":{"$error":"#N/A"}},{"$f":"VLOOKUP(H11,Results!$A$8:$G$60,2,FALSE)","v":{"$error":"#N/A"}},{"$f":"VLOOKUP(H11,Results!$A$8:$G$60,4,FALSE)","v":{"$error":"#N/A"}},{"$f":"VLOOKUP(H11,Results!$A$8:$G$60,7,FALSE)","v":{"$error":"#N/A"}},{"$f":"VLOOKUP(H11,$B$4:B11,1,FALSE)","v":{"$error":"#N/A"}}]
[null,{"$f":"Results!A15","v":8},{"$f":"Results!C15","v":0},{"$f":"Results!B15","v":"Team 3 B"},{"$f":"Results!D15","v":0},{"$f":"Results!G15","v":""},"- vs -",{"$f":"VLOOKUP(B12,Results!$A$8:$AG$60,23,FALSE)","v":0},{"$f":"VLOOKUP(H12,Results!A$8:$G$60,3,FALSE)","v":{"$error":"#N/A"}},{"$f":"VLOOKUP(H12,Results!$A$8:$G$60,2,FALSE)","v":{"$error":"#N/A"}},{"$f":"VLOOKUP(H12,Results!$A$8:$G$60,4,FALSE)","v":{"$error":"#N/A"}},{"$f":"VLOOKUP(H12,Results!$A$8:$G$60,7,FALSE)","v":{"$error":"#N/A"}},{"$f":"VLOOKUP(H12,$B$4:B12,1,FALSE)","v":{"$error":"#N/A"}}]
[null,{"$f":"Results!A16","v":9},{"$f":"Results!C16","v":0},{"$f":"Results!B16","v":"Team 3 C"},{"$f":"Results!D16","v":0},{"$f":"Results!G16","v":""},"- vs -",{"$f":"VLOOKUP(B13,Results!$A$8:$AG$60,23,FALSE)","v":0},{"$f":"VLOOKUP(H13,Results!A$8:$G$60,3,FALSE)","v":{"$error":"#N/A"}},{"$f":"VLOOKUP(H13,Results!$A$8:$G$60,2,FALSE)","v":{"$error":"#N/A"}},{"$f":"VLOOKUP(H13,Results!$A$8:$G$60,4,FALSE)","v":{"$error":"#N/A"}},{"$f":"VLOOKUP(H13,Results!$A$8:$G$60,7,FALSE)","v":{"$error":"#N/A"}},{"$f":"VLOOKUP(H13,$B$4:B13,1,FALSE)","v":{"$error":"#N/A"}}]
[null,{"$f":"Results!A17","v":10},{"$f":"Results!C17","v":0},{"$f":"Results!B17","v":"Team 4 A"},{"$f":"Results!D17","v":0},{"$f":"Results!G17","v":""},"- vs -",{"$f":"VLOOKUP(B14,Results!$A$8:$AG$60,23,FALSE)","v":0},{"$f":"VLOOKUP(H14,Results!A$8:$G$60,3,FALSE)","v":{"$error":"#N/A"}},{"$f":"VLOOKUP(H14,Results!$A$8:$G$60,2,FALSE)","v":{"$error":"#N/A"}},{"$f":"VLOOKUP(H14,Results!$A$8:$G$60,4,FALSE)","v":{"$error":"#N/A"}},{"$f":"VLOOKUP(H14,Results!$A$8:$G$60,7,FALSE)","v":{"$error":"#N/A"}},{"$f":"VLOOKUP(H14,$B$4:B14,1,FALSE)","v":{"$error":"#N/A"}}]
[null,{"$f":"Results!A18","v":11},{"$f":"Results!C18","v":0},{"$f":"Results!B18","v":"Team 4 B"},{"$f":"Results!D18","v":0},{"$f":"Results!G18","v":""},"- vs -",{"$f":"VLOOKUP(B15,Results!$A$8:$AG$60,23,FALSE)","v":0},{"$f":"VLOOKUP(H15,Results!A$8:$G$60,3,FALSE)","v":{"$error":"#N/A"}},{"$f":"VLOOKUP(H15,Results!$A$8:$G$60,2,FALSE)","v":{"$error":"#N/A"}},{"$f":"VLOOKUP(H15,Results!$A$8:$G$60,4,FALSE)","v":{"$error":"#N/A"}},{"$f":"VLOOKUP(H15,Results!$A$8:$G$60,7,FALSE)","v":{"$error":"#N/A"}},{"$f":"VLOOKUP(H15,$B$4:B15,1,FALSE)","v":{"$error":"#N/A"}}]
[null,{"$f":"Results!A19","v":12},{"$f":"Results!C19","v":0},{"$f":"Results!B19","v":"Team 4 C"},{"$f":"Results!D19","v":0},{"$f":"Results!G19","v":""},"- vs -",{"$f":"VLOOKUP(B16,Results!$A$8:$AG$60,23,FALSE)","v":0},{"$f":"VLOOKUP(H16,Results!A$8:$G$60,3,FALSE)","v":{"$error":"#N/A"}},{"$f":"VLOOKUP(H16,Results!$A$8:$G$60,2,FALSE)","v":{"$error":"#N/A"}},{"$f":"VLOOKUP(H16,Results!$A$8:$G$60,4,FALSE)","v":{"$error":"#N/A"}},{"$f":"VLOOKUP(H16,Results!$A$8:$G$60,7,FALSE)","v":{"$error":"#N/A"}},{"$f":"VLOOKUP(H16,$B$4:B16,1,FALSE)","v":{"$error":"#N/A"}}]
[null,{"$f":"Results!A20","v":13},{"$f":"Results!C20","v":0},{"$f":"Results!B20","v":"Team 5 A"},{"$f":"Results!D20","v":0},{"$f":"Results!G20","v":""},"- vs -",{"$f":"VLOOKUP(B17,Results!$A$8:$AG$60,23,FALSE)","v":0},{"$f":"VLOOKUP(H17,Results!A$8:$G$60,3,FALSE)","v":{"$error":"#N/A"}},{"$f":"VLOOKUP(H17,Results!$A$8:$G$60,2,FALSE)","v":{"$error":"#N/A"}},{"$f":"VLOOKUP(H17,Results!$A$8:$G$60,4,FALSE)","v":{"$error":"#N/A"}},{"$f":"VLOOKUP(H17,Results!$A$8:$G$60,7,FALSE)","v":{"$error":"#N/A"}},{"$f":"VLOOKUP(H17,$B$4:B17,1,FALSE)","v":{"$error":"#N/A"}}]
[null,{"$f":"Results!A21","v":14},{"$f":"Results!C21","v":0},{"$f":"Results!B21","v":"Team 5 B"},{"$f":"Results!D21","v":0},{"$f":"Results!G21","v":""},"- vs -",{"$f":"VLOOKUP(B18,Results!$A$8:$AG$60,23,FALSE)","v":0},{"$f":"VLOOKUP(H18,Results!A$8:$G$60,3,FALSE)","v":{"$error":"#N/A"}},{"$f":"VLOOKUP(H18,Results!$A$8:$G$60,2,FALSE)","v":{"$error":"#N/A"}},{"$f":"VLOOKUP(H18,Results!$A$8:$G$60,4,FALSE)","v":{"$error":"#N/A"}},{"$f":"VLOOKUP(H18,Results!$A$8:$G$60,7,FALSE)","v":{"$error":"#N/A"}},{"$f":"VLOOKUP(H18,$B$4:B18,1,FALSE)","v":{"$error":"#N/A"}}]
[null,{"$f":"Results!A22","v":15},{"$f":"Results!C22","v":0},{"$f":"Results!B22","v":"Team 5 C"},{"$f":"Results!D22","v":0},{"$f":"Results!G22","v":""},"- vs -",{"$f":"VLOOKUP(B19,Results!$A$8:$AG$60,23,FALSE)","v":0},{"$f":"VLOOKUP(H19,Results!A$8:$G$60,3,FALSE)","v":{"$error":"#N/A"}},{"$f":"VLOOKUP(H19,Results!$A$8:$G$60,2,FALSE)","v":{"$error":"#N/A"}},{"$f":"VLOOKUP(H19,Results!$A$8:$G$60,4,FALSE)","v":{"$error":"#N/A"}},{"$f":"VLOOKUP(H19,Results!$A$8:$G$60,7,FALSE)","v":{"$error":"#N/A"}},{"$f":"VLOOKUP(H19,$B$4:B19,1,FALSE)","v":{"$error":"#N/A"}}]
[null,{"$f":"Results!A23","v":16},{"$f":"Results!C23","v":0},{"$f":"Results!B23","v":"Team 6 A"},{"$f":"Results!D23","v":0},{"$f":"Results!G23","v":""},"- vs -",{"$f":"VLOOKUP(B20,Results!$A$8:$AG$60,23,FALSE)","v":0},{"$f":"VLOOKUP(H20,Results!A$8:$G$60,3,FALSE)","v":{"$error":"#N/A"}},{"$f":"VLOOKUP(H20,Results!$A$8:$G$60,2,FALSE)","v":{"$error":"#N/A"}},{"$f":"VLOOKUP(H20,Results!$A$8:$G$60,4,FALSE)","v":{"$error":"#N/A"}},{"$f":"VLOOKUP(H20,Results!$A$8:$G$60,7,FALSE)","v":{"$error":"#N/A"}},{"$f":"VLOOKUP(H20,$B$4:B20,1,FALSE)","v":{"$error":"#N/A"}}]
[null,{"$f":"Results!A24","v":17},{"$f":"Results!C24","v":0},{"$f":"Results!B24","v":"Team 6 B"},{"$f":"Results!D24","v":0},{"$f":"Results!G24","v":""},"- vs -",{"$f":"VLOOKUP(B21,Results!$A$8:$AG$60,23,FALSE)","v":0},{"$f":"VLOOKUP(H21,Results!A$8:$G$60,3,FALSE)","v":{"$error":"#N/A"}},{"$f":"VLOOKUP(H21,Results!$A$8:$G$60,2,FALSE)","v":{"$error":"#N/A"}},{"$f":"VLOOKUP(H21,Results!$A$8:$G$60,4,FALSE)","v":{"$error":"#N/A"}},{"$f":"VLOOKUP(H21,Results!$A$8:$G$60,7,FALSE)","v":{"$error":"#N/A"}},{"$f":"VLOOKUP(H21,$B$4:B21,1,FALSE)","v":{"$error":"#N/A"}}]
[null,{"$f":"Results!A25","v":18},{"$f":"Results!C25","v":0},{"$f":"Results!B25","v":"Team 6 C"},{"$f":"Results!D25","v":0},{"$f":"Results!G25","v":""},"- vs -",{"$f":"VLOOKUP(B22,Results!$A$8:$AG$60,23,FALSE)","v":0},{"$f":"VLOOKUP(H22,Results!A$8:$G$60,3,FALSE)","v":{"$error":"#N/A"}},{"$f":"VLOOKUP(H22,Results!$A$8:$G$60,2,FALSE)","v":{"$error":"#N/A"}},{"$f":"VLOOKUP(H22,Results!$A$8:$G$60,4,FALSE)","v":{"$error":"#N/A"}},{"$f":"VLOOKUP(H22,Results!$A$8:$G$60,7,FALSE)","v":{"$error":"#N/A"}},{"$f":"VLOOKUP(H22,$B$4:B22,1,FALSE)","v":{"$error":"#N/A"}}]
[null,{"$f":"Results!A26","v":0},{"$f":"Results!C26","v":0},{"$f":"Results!B26","v":0},{"$f":"Results!D26","v":0},{"$f":"Results!G26","v":""},"- vs -",{"$f":"VLOOKUP(B23,Results!$A$8:$AG$60,23,FALSE)","v":{"$error":"#N/A"}},{"$f":"VLOOKUP(H23,Results!A$8:$G$60,3,FALSE)","v":{"$error":"#N/A"}},{"$f":"VLOOKUP(H23,Results!$A$8:$G$60,2,FALSE)","v":{"$error":"#N/A"}},{"$f":"VLOOKUP(H23,Results!$A$8:$G$60,4,FALSE)","v":{"$error":"#N/A"}},{"$f":"VLOOKUP(H23,Results!$A$8:$G$60,7,FALSE)","v":{"$error":"#N/A"}},{"$f":"VLOOKUP(H23,$B$4:B23,1,FALSE)","v":{"$error":"#N/A"}}]
[null,{"$f":"Results!A27","v":0},{"$f":"Results!C27","v":0},{"$f":"Results!B27","v":0},{"$f":"Results!D27","v":0},{"$f":"Results!G27","v":""},"- vs -",{"$f":"VLOOKUP(B24,Results!$A$8:$AG$60,23,FALSE)","v":{"$error":"#N/A"}},{"$f":"VLOOKUP(H24,Results!A$8:$G$60,3,FALSE)","v":{"$error":"#N/A"}},{"$f":"VLOOKUP(H24,Results!$A$8:$G$60,2,FALSE)","v":{"$error":"#N/A"}},{"$f":"VLOOKUP(H24,Results!$A$8:$G$60,4,FALSE)","v":{"$error":"#N/A"}},{"$f":"VLOOKUP(H24,Results!$A$8:$G$60,7,FALSE)","v":{"$error":"#N/A"}},{"$f":"VLOOKUP(H24,$B$4:B24,1,FALSE)","v":{"$error":"#N/A"}}]
[null,{"$f":"Results!A28","v":0},{"$f":"Results!C28","v":0},{"$f":"Results!B28","v":0},{"$f":"Results!D28","v":0},{"$f":"Results!G28","v":""},"- vs -",{"$f":"VLOOKUP(B25,Results!$A$8:$AG$60,23,FALSE)","v":{"$error":"#N/A"}},{"$f":"VLOOKUP(H25,Results!A$8:$G$60,3,FALSE)","v":{"$error":"#N/A"}},{"$f":"VLOOKUP(H25,Results!$A$8:$G$60,2,FALSE)","v":{"$error":"#N/A"}},{"$f":"VLOOKUP(H25,Results!$A$8:$G$60,4,FALSE)","v":{"$error":"#N/A"}},{"$f":"VLOOKUP(H25,Results!$A$8:$G$60,7,FALSE)","v":{"$error":"#N/A"}},{"$f":"VLOOKUP(H25,$B$4:B25,1,FALSE)","v":{"$error":"#N/A"}}]
[null,{"$f":"Results!A29","v":0},{"$f":"Results!C29","v":0},{"$f":"Results!B29","v":0},{"$f":"Results!D29","v":0},{"$f":"Results!G29","v":""},"- vs -",{"$f":"VLOOKUP(B26,Results!$A$8:$AG$60,23,FALSE)","v":{"$error":"#N/A"}},{"$f":"VLOOKUP(H26,Results!A$8:$G$60,3,FALSE)","v":{"$error":"#N/A"}},{"$f":"VLOOKUP(H26,Results!$A$8:$G$60,2,FALSE)","v":{"$error":"#N/A"}},{"$f":"VLOOKUP(H26,Results!$A$8:$G$60,4,FALSE)","v":{"$error":"#N/A"}},{"$f":"VLOOKUP(H26,Results!$A$8:$G$60,7,FALSE)","v":{"$error":"#N/A"}},{"$f":"VLOOKUP(H26,$B$4:B26,1,FALSE)","v":{"$error":"#N/A"}}]
[null,{"$f":"Results!A30","v":0},{"$f":"Results!C30","v":0},{"$f":"Results!B30","v":0},{"$f":"Results!D30","v":0},{"$f":"Results!G30","v":""},"- vs -",{"$f":"VLOOKUP(B27,Results!$A$8:$AG$60,23,FALSE)","v":{"$error":"#N/A"}},{"$f":"VLOOKUP(H27,Results!A$8:$G$60,3,FALSE)","v":{"$error":"#N/A"}},{"$f":"VLOOKUP(H27,Results!$A$8:$G$60,2,FALSE)","v":{"$error":"#N/A"}},{"$f":"VLOOKUP(H27,Results!$A$8:$G$60,4,FALSE)","v":{"$error":"#N/A"}},{"$f":"VLOOKUP(H27,Results!$A$8:$G$60,7,FALSE)","v":{"$error":"#N/A"}},{"$f":"VLOOKUP(H27,$B$4:B27,1,FALSE)","v":{"$error":"#N/A"}}]
[null,{"$f":"Results!A31","v":0},{"$f":"Results!C31","v":0},{"$f":"Results!B31","v":0},{"$f":"Results!D31","v":0},{"$f":"Results!G31","v":""},"- vs -",{"$f":"VLOOKUP(B28,Results!$A$8:$AG$60,23,FALSE)","v":{"$error":"#N/A"}},{"$f":"VLOOKUP(H28,Results!A$8:$G$60,3,FALSE)","v":{"$error":"#N/A"}},{"$f":"VLOOKUP(H28,Results!$A$8:$G$60,2,FALSE)","v":{"$error":"#N/A"}},{"$f":"VLOOKUP(H28,Results!$A$8:$G$60,4,FALSE)","v":{"$error":"#N/A"}},{"$f":"VLOOKUP(H28,Results!$A$8:$G$60,7,FALSE)","v":{"$error":"#N/A"}},{"$f":"VLOOKUP(H28,$B$4:B28,1,FALSE)","v":{"$error":"#N/A"}}]
[null,{"$f":"Results!A32","v":0},{"$f":"Results!C32","v":0},{"$f":"Results!B32","v":0},{"$f":"Results!D32","v":0},{"$f":"Results!G32","v":""},"- vs -",{"$f":"VLOOKUP(B29,Results!$A$8:$AG$60,23,FALSE)","v":{"$error":"#N/A"}},{"$f":"VLOOKUP(H29,Results!A$8:$G$60,3,FALSE)","v":{"$error":"#N/A"}},{"$f":"VLOOKUP(H29,Results!$A$8:$G$60,2,FALSE)","v":{"$error":"#N/A"}},{"$f":"VLOOKUP(H29,Results!$A$8:$G$60,4,FALSE)","v":{"$error":"#N/A"}},{"$f":"VLOOKUP(H29,Results!$A$8:$G$60,7,FALSE)","v":{"$error":"#N/A"}},{"$f":"VLOOKUP(H29,$B$4:B29,1,FALSE)","v":{"$error":"#N/A"}}]
[null,{"$f":"Results!A33","v":0},{"$f":"Results!C33","v":0},{"$f":"Results!B33","v":0},{"$f":"Results!D33","v":0},{"$f":"Results!G33","v":""},"- vs -",{"$f":"VLOOKUP(B30,Results!$A$8:$AG$60,23,FALSE)","v":{"$error":"#N/A"}},{"$f":"VLOOKUP(H30,Results!A$8:$G$60,3,FALSE)","v":{"$error":"#N/A"}},{"$f":"VLOOKUP(H30,Results!$A$8:$G$60,2,FALSE)","v":{"$error":"#N/A"}},{"$f":"VLOOKUP(H30,Results!$A$8:$G$60,4,FALSE)","v":{"$error":"#N/A"}},{"$f":"VLOOKUP(H30,Results!$A$8:$G$60,7,FALSE)","v":{"$error":"#N/A"}},{"$f":"VLOOKUP(H30,$B$4:B30,1,FALSE)","v":{"$error":"#N/A"}}]
[null,{"$f":"Results!A34","v":0},{"$f":"Results!C34","v":0},{"$f":"Results!B34","v":0},{"$f":"Results!D34","v":0},{"$f":"Results!G34","v":""},"- vs -",{"$f":"VLOOKUP(B31,Results!$A$8:$AG$60,23,FALSE)","v":{"$error":"#N/A"}},{"$f":"VLOOKUP(H31,Results!A$8:$G$60,3,FALSE)","v":{"$error":"#N/A"}},{"$f":"VLOOKUP(H31,Results!$A$8:$G$60,2,FALSE)","v":{"$error":"#N/A"}},{"$f":"VLOOKUP(H31,Results!$A$8:$G$60,4,FALSE)","v":{"$error":"#N/A"}},{"$f":"VLOOKUP(H31,Results!$A$8:$G$60,7,FALSE)","v":{"$error":"#N/A"}},{"$f":"VLOOKUP(H31,$B$4:B31,1,FALSE)","v":{"$error":"#N/A"}}]
[null,{"$f":"Results!A35","v":0},{"$f":"Results!C35","v":0},{"$f":"Results!B35","v":0},{"$f":"Results!D35","v":0},{"$f":"Results!G35","v":""},"- vs -",{"$f":"VLOOKUP(B32,Results!$A$8:$AG$60,23,FALSE)","v":{"$error":"#N/A"}},{"$f":"VLOOKUP(H32,Results!A$8:$G$60,3,FALSE)","v":{"$error":"#N/A"}},{"$f":"VLOOKUP(H32,Results!$A$8:$G$60,2,FALSE)","v":{"$error":"#N/A"}},{"$f":"VLOOKUP(H32,Results!$A$8:$G$60,4,FALSE)","v":{"$error":"#N/A"}},{"$f":"VLOOKUP(H32,Results!$A$8:$G$60,7,FALSE)","v":{"$error":"#N/A"}},{"$f":"VLOOKUP(H32,$B$4:B32,1,FALSE)","v":{"$error":"#N/A"}}]
[null,{"$f":"Results!A36","v":0},{"$f":"Results!C36","v":0},{"$f":"Results!B36","v":0},{"$f":"Results!D36","v":0},{"$f":"Results!G36","v":""},"- vs -",{"$f":"VLOOKUP(B33,Results!$A$8:$AG$60,23,FALSE)","v":{"$error":"#N/A"}},{"$f":"VLOOKUP(H33,Results!A$8:$G$60,3,FALSE)","v":{"$error":"#N/A"}},{"$f":"VLOOKUP(H33,Results!$A$8:$G$60,2,FALSE)","v":{"$error":"#N/A"}},{"$f":"VLOOKUP(H33,Results!$A$8:$G$60,4,FALSE)","v":{"$error":"#N/A"}},{"$f":"VLOOKUP(H33,Results!$A$8:$G$60,7,FALSE)","v":{"$error":"#N/A"}},{"$f":"VLOOKUP(H33,$B$4:B33,1,FALSE)","v":{"$error":"#N/A"}}]
[null,{"$f":"Results!A37","v":0},{"$f":"Results!C37","v":0},{"$f":"Results!B37","v":0},{"$f":"Results!D37","v":0},{"$f":"Results!G37","v":""},"- vs -",{"$f":"VLOOKUP(B34,Results!$A$8:$AG$60,23,FALSE)","v":{"$error":"#N/A"}},{"$f":"VLOOKUP(H34,Results!A$8:$G$60,3,FALSE)","v":{"$error":"#N/A"}},{"$f":"VLOOKUP(H34,Results!$A$8:$G$60,2,FALSE)","v":{"$error":"#N/A"}},{"$f":"VLOOKUP(H34,Results!$A$8:$G$60,4,FALSE)","v":{"$error":"#N/A"}},{"$f":"VLOOKUP(H34,Results!$A$8:$G$60,7,FALSE)","v":{"$error":"#N/A"}},{"$f":"VLOOKUP(H34,$B$4:B34,1,FALSE)","v":{"$error":"#N/A"}}]
[null,{"$f":"Results!A38","v":0},{"$f":"Results!C38","v":0},{"$f":"Results!B38","v":0},{"$f":"Results!D38","v":0},{"$f":"Results!G38","v":""},"- vs -",{"$f":"VLOOKUP(B35,Results!$A$8:$AG$60,23,FALSE)","v":{"$error":"#N/A"}},{"$f":"VLOOKUP(H35,Results!A$8:$G$60,3,FALSE)","v":{"$error":"#N/A"}},{"$f":"VLOOKUP(H35,Results!$A$8:$G$60,2,FALSE)","v":{"$error":"#N/A"}},{"$f":"VLOOKUP(H35,Results!$A$8:$G$60,4,FALSE)","v":{"$error":"#N/A"}},{"$f":"VLOOKUP(H35,Results!$A$8:$G$60,7,FALSE)","v":{"$error":"#N/A"}},{"$f":"VLOOKUP(H35,$B$4:B35,1,FALSE)","v":{"$error":"#N/A"}}]
[null,{"$f":"Results!A39","v":0},{"$f":"Results!C39","v":0},{"$f":"Results!B39","v":0},{"$f":"Results!D39","v":0},{"$f":"Results!G39","v":""},"- vs -",{"$f":"VLOOKUP(B36,Results!$A$8:$AG$60,23,FALSE)","v":{"$error":"#N/A"}},{"$f":"VLOOKUP(H36,Results!A$8:$G$60,3,FALSE)","v":{"$error":"#N/A"}},{"$f":"VLOOKUP(H36,Results!$A$8:$G$60,2,FALSE)","v":{"$error":"#N/A"}},{"$f":"VLOOKUP(H36,Results!$A$8:$G$60,4,FALSE)","v":{"$error":"#N/A"}},{"$f":"VLOOKUP(H36,Results!$A$8:$G$60,7,FALSE)","v":{"$error":"#N/A"}},{"$f":"VLOOKUP(H36,$B$4:B36,1,FALSE)","v":{"$error":"#N/A"}}]
[null,{"$f":"Results!A40","v":0},{"$f":"Results!C40","v":0},{"$f":"Results!B40","v":0},{"$f":"Results!D40","v":0},{"$f":"Results!G40","v":""},"- vs -",{"$f":"VLOOKUP(B37,Results!$A$8:$AG$60,23,FALSE)","v":{"$error":"#N/A"}},{"$f":"VLOOKUP(H37,Results!A$8:$G$60,3,FALSE)","v":{"$error":"#N/A"}},{"$f":"VLOOKUP(H37,Results!$A$8:$G$60,2,FALSE)","v":{"$error":"#N/A"}},{"$f":"VLOOKUP(H37,Results!$A$8:$G$60,4,FALSE)","v":{"$error":"#N/A"}},{"$f":"VLOOKUP(H37,Results!$A$8:$G$60,7,FALSE)","v":{"$error":"#N/A"}},{"$f":"VLOOKUP(H37,$B$4:B37,1,FALSE)","v":{"$error":"#N/A"}}]
[null,{"$f":"Results!A41","v":0},{"$f":"Results!C41","v":0},{"$f":"Results!B41","v":0},{"$f":"Results!D41","v":0},{"$f":"Results!G41","v":""},"- vs -",{"$f":"VLOOKUP(B38,Results!$A$8:$AG$60,23,FALSE)","v":{"$error":"#N/A"}},{"$f":"VLOOKUP(H38,Results!A$8:$G$60,3,FALSE)","v":{"$error":"#N/A"}},{"$f":"VLOOKUP(H38,Results!$A$8:$G$60,2,FALSE)","v":{"$error":"#N/A"}},{"$f":"VLOOKUP(H38,Results!$A$8:$G$60,4,FALSE)","v":{"$error":"#N/A"}},{"$f":"VLOOKUP(H38,Results!$A$8:$G$60,7,FALSE)","v":{"$error":"#N/A"}},{"$f":"VLOOKUP(H38,$B$4:B38,1,FALSE)","v":{"$error":"#N/A"}}]
[null,{"$f":"Results!A42","v":0},{"$f":"Results!C42","v":0},{"$f":"Results!B42","v":0},{"$f":"Results!D42","v":0},{"$f":"Results!G42","v":""},"- vs -",{"$f":"VLOOKUP(B39,Results!$A$8:$AG$60,23,FALSE)","v":{"$error":"#N/A"}},{"$f":"VLOOKUP(H39,Results!A$8:$G$60,3,FALSE)","v":{"$error":"#N/A"}},{"$f":"VLOOKUP(H39,Results!$A$8:$G$60,2,FALSE)","v":{"$error":"#N/A"}},{"$f":"VLOOKUP(H39,Results!$A$8:$G$60,4,FALSE)","v":{"$error":"#N/A"}},{"$f":"VLOOKUP(H39,Results!$A$8:$G$60,7,FALSE)","v":{"$error":"#N/A"}},{"$f":"VLOOKUP(H39,$B$4:B39,1,FALSE)","v":{"$error":"#N/A"}}]
[null,{"$f":"Results!A43","v":0},{"$f":"Results!C43","v":0},{"$f":"Results!B43","v":0},{"$f":"Results!D43","v":0},{"$f":"Results!G43","v":""},"- vs -",{"$f":"VLOOKUP(B40,Results!$A$8:$AG$60,23,FALSE)","v":{"$error":"#N/A"}},{"$f":"VLOOKUP(H40,Results!A$8:$G$60,3,FALSE)","v":{"$error":"#N/A"}},{"$f":"VLOOKUP(H40,Results!$A$8:$G$60,2,FALSE)","v":{"$error":"#N/A"}},{"$f":"VLOOKUP(H40,Results!$A$8:$G$60,4,FALSE)","v":{"$error":"#N/A"}},{"$f":"VLOOKUP(H40,Results!$A$8:$G$60,7,FALSE)","v":{"$error":"#N/A"}},{"$f":"VLOOKUP(H40,$B$4:B40,1,FALSE)","v":{"$error":"#N/A"}}]
[null,{"$f":"Results!A44","v":0},{"$f":"Results!C44","v":0},{"$f":"Results!B44","v":0},{"$f":"Results!D44","v":0},{"$f":"Results!G44","v":""},"- vs -",{"$f":"VLOOKUP(B41,Results!$A$8:$AG$60,23,FALSE)","v":{"$error":"#N/A"}},{"$f":"VLOOKUP(H41,Results!A$8:$G$60,3,FALSE)","v":{"$error":"#N/A"}},{"$f":"VLOOKUP(H41,Results!$A$8:$G$60,2,FALSE)","v":{"$error":"#N/A"}},{"$f":"VLOOKUP(H41,Results!$A$8:$G$60,4,FALSE)","v":{"$error":"#N/A"}},{"$f":"VLOOKUP(H41,Results!$A$8:$G$60,7,FALSE)","v":{"$error":"#N/A"}},{"$f":"VLOOKUP(H41,$B$4:B41,1,FALSE)","v":{"$error":"#N/A"}}]
[null,{"$f":"Results!A45","v":0},{"$f":"Results!C45","v":0},{"$f":"Results!B45","v":0},{"$f":"Results!D45","v":0},{"$f":"Results!G45","v":""},"- vs -",{"$f":"VLOOKUP(B42,Results!$A$8:$AG$60,23,FALSE)","v":{"$error":"#N/A"}},{"$f":"VLOOKUP(H42,Results!A$8:$G$60,3,FALSE)","v":{"$error":"#N/A"}},{"$f":"VLOOKUP(H42,Results!$A$8:$G$60,2,FALSE)","v":{"$error":"#N/A"}},{"$f":"VLOOKUP(H42,Results!$A$8:$G$60,4,FALSE)","v":{"$error":"#N/A"}},{"$f":"VLOOKUP(H42,Results!$A$8:$G$60,7,FALSE)","v":{"$error":"#N/A"}},{"$f":"VLOOKUP(H42,$B$4:B42,1,FALSE)","v":{"$error":"#N/A"}}]
[null,{"$f":"Results!A46","v":0},{"$f":"Results!C46","v":0},{"$f":"Results!B46","v":0},{"$f":"Results!D46","v":0},{"$f":"Results!G46","v":""},"- vs -",{"$f":"VLOOKUP(B43,Results!$A$8:$AG$60,23,FALSE)","v":{"$error":"#N/A"}},{"$f":"VLOOKUP(H43,Results!A$8:$G$60,3,FALSE)","v":{"$error":"#N/A"}},{"$f":"VLOOKUP(H43,Results!$A$8:$G$60,2,FALSE)","v":{"$error":"#N/A"}},{"$f":"VLOOKUP(H43,Results!$A$8:$G$60,4,FALSE)","v":{"$error":"#N/A"}},{"$f":"VLOOKUP(H43,Results!$A$8:$G$60,7,FALSE)","v":{"$error":"#N/A"}},{"$f":"VLOOKUP(H43,$B$4:B43,1,FALSE)","v":{"$error":"#N/A"}}]
[null,{"$f":"Results!A47","v":0},{"$f":"Results!C47","v":0},{"$f":"Results!B47","v":0},{"$f":"Results!D47","v":0},{"$f":"Results!G47","v":""},"- vs -",{"$f":"VLOOKUP(B44,Results!$A$8:$AG$60,23,FALSE)","v":{"$error":"#N/A"}},{"$f":"VLOOKUP(H44,Results!A$8:$G$60,3,FALSE)","v":{"$error":"#N/A"}},{"$f":"VLOOKUP(H44,Results!$A$8:$G$60,2,FALSE)","v":{"$error":"#N/A"}},{"$f":"VLOOKUP(H44,Results!$A$8:$G$60,4,FALSE)","v":{"$error":"#N/A"}},{"$f":"VLOOKUP(H44,Results!$A$8:$G$60,7,FALSE)","v":{"$error":"#N/A"}},{"$f":"VLOOKUP(H44,$B$4:B44,1,FALSE)","v":{"$error":"#N/A"}}]
[null,{"$f":"Results!A48","v":0},{"$f":"Results!C48","v":0},{"$f":"Results!B48","v":0},{"$f":"Results!D48","v":0},{"$f":"Results!G48","v":""},"- vs -",{"$f":"VLOOKUP(B45,Results!$A$8:$AG$60,23,FALSE)","v":{"$error":"#N/A"}},{"$f":"VLOOKUP(H45,Results!A$8:$G$60,3,FALSE)","v":{"$error":"#N/A"}},{"$f":"VLOOKUP(H45,Results!$A$8:$G$60,2,FALSE)","v":{"$error":"#N/A"}},{"$f":"VLOOKUP(H45,Results!$A$8:$G$60,4,FALSE)","v":{"$error":"#N/A"}},{"$f":"VLOOKUP(H45,Results!$A$8:$G$60,7,FALSE)","v":{"$error":"#N/A"}},{"$f":"VLOOKUP(H45,$B$4:B45,1,FALSE)","v":{"$error":"#N/A"}}]
[null,{"$f":"Results!A49","v":0},{"$f":"Results!C49","v":0},{"$f":"Results!B49","v":0},{"$f":"Results!D49","v":0},{"$f":"Results!G49","v":""},"- vs -",{"$f":"VLOOKUP(B46,Results!$A$8:$AG$60,23,FALSE)","v":{"$error":"#N/A"}},{"$f":"VLOOKUP(H46,Results!A$8:$G$60,3,FALSE)","v":{"$error":"#N/A"}},{"$f":"VLOOKUP(H46,Results!$A$8:$G$60,2,FALSE)","v":{"$error":"#N/A"}},{"$f":"VLOOKUP(H46,Results!$A$8:$G$60,4,FALSE)","v":{"$error":"#N/A"}},{"$f":"VLOOKUP(H46,Results!$A$8:$G$60,7,FALSE)","v":{"$error":"#N/A"}},{"$f":"VLOOKUP(H46,$B$4:B46,1,FALSE)","v":{"$error":"#N/A"}}]
[null,{"$f":"Results!A50","v":0},{"$f":"Results!C50","v":0},{"$f":"Results!B50","v":0},{"$f":"Results!D50","v":0},{"$f":"Results!G50","v":""},"- vs -",{"$f":"VLOOKUP(B47,Results!$A$8:$AG$60,23,FALSE)","v":{"$error":"#N/A"}},{"$f":"VLOOKUP(H47,Results!A$8:$G$60,3,FALSE)","v":{"$error":"#N/A"}},{"$f":"VLOOKUP(H47,Results!$A$8:$G$60,2,FALSE)","v":{"$error":"#N/A"}},{"$f":"VLOOKUP(H47,Results!$A$8:$G$60,4,FALSE)","v":{"$error":"#N/A"}},{"$f":"VLOOKUP(H47,Results!$A$8:$G$60,7,FALSE)","v":{"$error":"#N/A"}},{"$f":"VLOOKUP(H47,$B$4:B47,1,FALSE)","v":{"$error":"#N/A"}}]
[null,{"$f":"Results!A51","v":0},{"$f":"Results!C51","v":0},{"$f":"Results!B51","v":0},{"$f":"Results!D51","v":0},{"$f":"Results!G51","v":""},"- vs -",{"$f":"VLOOKUP(B48,Results!$A$8:$AG$60,23,FALSE)","v":{"$error":"#N/A"}},{"$f":"VLOOKUP(H48,Results!A$8:$G$60,3,FALSE)","v":{"$error":"#N/A"}},{"$f":"VLOOKUP(H48,Results!$A$8:$G$60,2,FALSE)","v":{"$error":"#N/A"}},{"$f":"VLOOKUP(H48,Results!$A$8:$G$60,4,FALSE)","v":{"$error":"#N/A"}},{"$f":"VLOOKUP(H48,Results!$A$8:$G$60,7,FALSE)","v":{"$error":"#N/A"}},{"$f":"VLOOKUP(H48,$B$4:B48,1,FALSE)","v":{"$error":"#N/A"}}]
[null,{"$f":"Results!A52","v":0},{"$f":"Results!C52","v":0},{"$f":"Results!B52","v":0},{"$f":"Results!D52","v":0},{"$f":"Results!G52","v":""},"- vs -",{"$f":"VLOOKUP(B49,Results!$A$8:$AG$60,23,FALSE)","v":{"$error":"#N/A"}},{"$f":"VLOOKUP(H49,Results!A$8:$G$60,3,FALSE)","v":{"$error":"#N/A"}},{"$f":"VLOOKUP(H49,Results!$A$8:$G$60,2,FALSE)","v":{"$error":"#N/A"}},{"$f":"VLOOKUP(H49,Results!$A$8:$G$60,4,FALSE)","v":{"$error":"#N/A"}},{"$f":"VLOOKUP(H49,Results!$A$8:$G$60,7,FALSE)","v":{"$error":"#N/A"}},{"$f":"VLOOKUP(H49,$B$4:B49,1,FALSE)","v":{"$error":"#N/A"}}]
[null,{"$f":"Results!A53","v":0},{"$f":"Results!C53","v":0},{"$f":"Results!B53","v":0},{"$f":"Results!D53","v":0},{"$f":"Results!G53","v":""},"- vs -",{"$f":"VLOOKUP(B50,Results!$A$8:$AG$60,23,FALSE)","v":{"$error":"#N/A"}},{"$f":"VLOOKUP(H50,Results!A$8:$G$60,3,FALSE)","v":{"$error":"#N/A"}},{"$f":"VLOOKUP(H50,Results!$A$8:$G$60,2,FALSE)","v":{"$error":"#N/A"}},{"$f":"VLOOKUP(H50,Results!$A$8:$G$60,4,FALSE)","v":{"$error":"#N/A"}},{"$f":"VLOOKUP(H50,Results!$A$8:$G$60,7,FALSE)","v":{"$error":"#N/A"}},{"$f":"VLOOKUP(H50,$B$4:B50,1,FALSE)","v":{"$error":"#N/A"}}]
[null,{"$f":"Results!A54","v":0},{"$f":"Results!C54","v":0},{"$f":"Results!B54","v":0},{"$f":"Results!D54","v":0},{"$f":"Results!G54","v":""},"- vs -",{"$f":"VLOOKUP(B51,Results!$A$8:$AG$60,23,FALSE)","v":{"$error":"#N/A"}},{"$f":"VLOOKUP(H51,Results!A$8:$G$60,3,FALSE)","v":{"$error":"#N/A"}},{"$f":"VLOOKUP(H51,Results!$A$8:$G$60,2,FALSE)","v":{"$error":"#N/A"}},{"$f":"VLOOKUP(H51,Results!$A$8:$G$60,4,FALSE)","v":{"$error":"#N/A"}},{"$f":"VLOOKUP(H51,Results!$A$8:$G$60,7,FALSE)","v":{"$error":"#N/A"}},{"$f":"VLOOKUP(H51,$B$4:B51,1,FALSE)","v":{"$error":"#N/A"}}]
[null,{"$f":"Results!A55","v":0},{"$f":"Results!C55","v":0},{"$f":"Results!B55","v":0},{"$f":"Results!D55","v":0},{"$f":"Results!G55","v":""},"- vs -",{"$f":"VLOOKUP(B52,Results!$A$8:$AG$60,23,FALSE)","v":{"$error":"#N/A"}},{"$f":"VLOOKUP(H52,Results!A$8:$G$60,3,FALSE)","v":{"$error":"#N/A"}},{"$f":"VLOOKUP(H52,Results!$A$8:$G$60,2,FALSE)","v":{"$error":"#N/A"}},{"$f":"VLOOKUP(H52,Results!$A$8:$G$60,4,FALSE)","v":{"$error":"#N/A"}},{"$f":"VLOOKUP(H52,Results!$A$8:$G$60,7,FALSE)","v":{"$error":"#N/A"}},{"$f":"VLOOKUP(H52,$B$4:B52,1,FALSE)","v":{"$error":"#N/A"}}]
[null,{"$f":"Results!A56","v":0},{"$f":"Results!C56","v":0},{"$f":"Results!B56","v":0},{"$f":"Results!D56","v":0},{"$f":"Results!G56","v":""},"- vs -",{"$f":"VLOOKUP(B53,Results!$A$8:$AG$60,23,FALSE)","v":{"$error":"#N/A"}},{"$f":"VLOOKUP(H53,Results!A$8:$G$60,3,FALSE)","v":{"$error":"#N/A"}},{"$f":"VLOOKUP(H53,Results!$A$8:$G$60,2,FALSE)","v":{"$error":"#N/A"}},{"$f":"VLOOKUP(H53,Results!$A$8:$G$60,4,FALSE)","v":{"$error":"#N/A"}},{"$f":"VLOOKUP(H53,Results!$A$8:$G$60,7,FALSE)","v":{"$error":"#N/A"}},{"$f":"VLOOKUP(H53,$B$4:B53,1,FALSE)","v":{"$error":"#N/A"}}]
[null,{"$f":"Results!A57","v":0},{"$f":"Results!C57","v":0},{"$f":"Results!B57","v":0},{"$f":"Results!D57","v":0},{"$f":"Results!G57","v":""},"- vs -",{"$f":"VLOOKUP(B54,Results!$A$8:$AG$60,23,FALSE)","v":{"$error":"#N/A"}},{"$f":"VLOOKUP(H54,Results!A$8:$G$60,3,FALSE)","v":{"$error":"#N/A"}},{"$f":"VLOOKUP(H54,Results!$A$8:$G$60,2,FALSE)","v":{"$error":"#N/A"}},{"$f":"VLOOKUP(H54,Results!$A$8:$G$60,4,FALSE)","v":{"$error":"#N/A"}},{"$f":"VLOOKUP(H54,Results!$A$8:$G$60,7,FALSE)","v":{"$error":"#N/A"}},{"$f":"VLOOKUP(H54,$B$4:B54,1,FALSE)","v":{"$error":"#N/A"}}]
[null,{"$f":"Results!A58","v":0},{"$f":"Results!C58","v":0},{"$f":"Results!B58","v":0},{"$f":"Results!D58","v":0},{"$f":"Results!G58","v":""},"- vs -",{"$f":"VLOOKUP(B55,Results!$A$8:$AG$60,23,FALSE)","v":{"$error":"#N/A"}},{"$f":"VLOOKUP(H55,Results!A$8:$G$60,3,FALSE)","v":{"$error":"#N/A"}},{"$f":"VLOOKUP(H55,Results!$A$8:$G$60,2,FALSE)","v":{"$error":"#N/A"}},{"$f":"VLOOKUP(H55,Results!$A$8:$G$60,4,FALSE)","v":{"$error":"#N/A"}},{"$f":"VLOOKUP(H55,Results!$A$8:$G$60,7,FALSE)","v":{"$error":"#N/A"}},{"$f":"VLOOKUP(H55,$B$4:B55,1,FALSE)","v":{"$error":"#N/A"}}]
[null,{"$f":"Results!A59","v":0},{"$f":"Results!C59","v":0},{"$f":"Results!B59","v":0},{"$f":"Results!D59","v":0},{"$f":"Results!G59","v":""},"- vs -",{"$f":"VLOOKUP(B56,Results!$A$8:$AG$60,23,FALSE)","v":{"$error":"#N/A"}},{"$f":"VLOOKUP(H56,Results!A$8:$G$60,3,FALSE)","v":{"$error":"#N/A"}},{"$f":"VLOOKUP(H56,Results!$A$8:$G$60,2,FALSE)","v":{"$error":"#N/A"}},{"$f":"VLOOKUP(H56,Results!$A$8:$G$60,4,FALSE)","v":{"$error":"#N/A"}},{"$f":"VLOOKUP(H56,Results!$A$8:$G$60,7,FALSE)","v":{"$error":"#N/A"}},{"$f":"VLOOKUP(H56,$B$4:B56,1,FALSE)","v":{"$error":"#N/A"}}]
[null,{"$f":"Results!A60","v":0},{"$f":"Results!C60","v":0},{"$f":"Results!B60","v":0},{"$f":"Results!D60","v":0},{"$f":"Results!G60","v":""},"- vs -",{"$f":"VLOOKUP(B57,Results!$A$8:$AG$60,23,FALSE)","v":{"$error":"#N/A"}},{"$f":"VLOOKUP(H57,Results!A$8:$G$60,3,FALSE)","v":{"$error":"#N/A"}},{"$f":"VLOOKUP(H57,Results!$A$8:$G$60,2,FALSE)","v":{"$error":"#N/A"}},{"$f":"VLOOKUP(H57,Results!$A$8:$G$60,4,FALSE)","v":{"$error":"#N/A"}},{"$f":"VLOOKUP(H57,Results!$A$8:$G$60,7,FALSE)","v":{"$error":"#N/A"}},{"$f":"VLOOKUP(H57,$B$4:B57,1,FALSE)","v":{"$error":"#N/A"}}]
[null,{"$f":"Results!A61","v":0},{"$f":"Results!C61","v":0},{"$f":"Results!B61","v":0},{"$f":"Results!D61","v":0},{"$f":"Results!G61","v":""},"- vs -",{"$f":"VLOOKUP(B58,Results!$A$8:$AG$60,23,FALSE)","v":{"$error":"#N/A"}},{"$f":"VLOOKUP(H58,Results!A$8:$G$60,3,FALSE)","v":{"$error":"#N/A"}},{"$f":"VLOOKUP(H58,Results!$A$8:$G$60,2,FALSE)","v":{"$error":"#N/A"}},{"$f":"VLOOKUP(H58,Results!$A$8:$G$60,4,FALSE)","v":{"$error":"#N/A"}},{"$f":"VLOOKUP(H58,Results!$A$8:$G$60,7,FALSE)","v":{"$error":"#N/A"}},{"$f":"VLOOKUP(H58,$B$4:B58,1,FALSE)","v":{"$error":"#N/A"}}]
[null,{"$f":"Results!A62","v":0},{"$f":"Results!C62","v":0},{"$f":"Results!B62","v":0},{"$f":"Results!D62","v":0},{"$f":"Results!G62","v":0},"- vs -",{"$f":"VLOOKUP(B59,Results!$A$8:$AG$60,23,FALSE)","v":{"$error":"#N/A"}},{"$f":"VLOOKUP(H59,Results!A$8:$G$60,3,FALSE)","v":{"$error":"#N/A"}},{"$f":"VLOOKUP(H59,Results!$A$8:$G$60,2,FALSE)","v":{"$error":"#N/A"}},{"$f":"VLOOKUP(H59,Results!$A$8:$G$60,4,FALSE)","v":{"$error":"#N/A"}},{"$f":"VLOOKUP(H59,Results!$A$8:$G$60,7,FALSE)","v":{"$error":"#N/A"}},{"$f":"VLOOKUP(H59,$B$4:B59,1,FALSE)","v":{"$error":"#N/A"}}]
[null,{"$f":"Results!A63","v":0},{"$f":"Results!C63","v":0},{"$f":"Results!B63","v":0},{"$f":"Results!D63","v":0},{"$f":"Results!G63","v":0},"- vs -",{"$f":"VLOOKUP(B60,Results!$A$8:$AG$60,23,FALSE)","v":{"$error":"#N/A"}},{"$f":"VLOOKUP(H60,Results!A$8:$G$60,3,FALSE)","v":{"$error":"#N/A"}},{"$f":"VLOOKUP(H60,Results!$A$8:$G$60,2,FALSE)","v":{"$error":"#N/A"}},{"$f":"VLOOKUP(H60,Results!$A$8:$G$60,4,FALSE)","v":{"$error":"#N/A"}},{"$f":"VLOOKUP(H60,Results!$A$8:$G$60,7,FALSE)","v":{"$error":"#N/A"}},{"$f":"VLOOKUP(H60,$B$4:B60,1,FALSE)","v":{"$error":"#N/A"}}]
[null,{"$f":"Results!A64","v":0},{"$f":"Results!C64","v":0},{"$f":"Results!B64","v":0},{"$f":"Results!D64","v":0},{"$f":"Results!G64","v":0},"- vs -",{"$f":"VLOOKUP(B61,Results!$A$8:$AG$60,23,FALSE)","v":{"$error":"#N/A"}},{"$f":"VLOOKUP(H61,Results!A$8:$G$60,3,FALSE)","v":{"$error":"#N/A"}},{"$f":"VLOOKUP(H61,Results!$A$8:$G$60,2,FALSE)","v":{"$error":"#N/A"}},{"$f":"VLOOKUP(H61,Results!$A$8:$G$60,4,FALSE)","v":{"$error":"#N/A"}},{"$f":"VLOOKUP(H61,Results!$A$8:$G$60,7,FALSE)","v":{"$error":"#N/A"}},{"$f":"VLOOKUP(H61,$B$4:B61,1,FALSE)","v":{"$error":"#N/A"}}]
[null,{"$f":"Results!A65","v":0},{"$f":"Results!C65","v":0},{"$f":"Results!B65","v":0},{"$f":"Results!D65","v":0},{"$f":"Results!G65","v":0},"- vs -",{"$f":"VLOOKUP(B62,Results!$A$8:$AG$60,23,FALSE)","v":{"$error":"#N/A"}},{"$f":"VLOOKUP(H62,Results!A$8:$G$60,3,FALSE)","v":{"$error":"#N/A"}},{"$f":"VLOOKUP(H62,Results!$A$8:$G$60,2,FALSE)","v":{"$error":"#N/A"}},{"$f":"VLOOKUP(H62,Results!$A$8:$G$60,4,FALSE)","v":{"$error":"#N/A"}},{"$f":"VLOOKUP(H62,Results!$A$8:$G$60,7,FALSE)","v":{"$error":"#N/A"}},{"$f":"VLOOKUP(H62,$B$4:B62,1,FALSE)","v":{"$error":"#N/A"}}]
[null,{"$f":"Results!A66","v":0},{"$f":"Results!C66","v":0},{"$f":"Results!B66","v":0},{"$f":"Results!D66","v":0},{"$f":"Results!G66","v":0},"- vs -",{"$f":"VLOOKUP(B63,Results!$A$8:$AG$60,23,FALSE)","v":{"$error":"#N/A"}},{"$f":"VLOOKUP(H63,Results!A$8:$G$60,3,FALSE)","v":{"$error":"#N/A"}},{"$f":"VLOOKUP(H63,Results!$A$8:$G$60,2,FALSE)","v":{"$error":"#N/A"}},{"$f":"VLOOKUP(H63,Results!$A$8:$G$60,4,FALSE)","v":{"$error":"#N/A"}},{"$f":"VLOOKUP(H63,Results!$A$8:$G$60,7,FALSE)","v":{"$error":"#N/A"}},{"$f":"VLOOKUP(H63,$B$4:B63,1,FALSE)","v":{"$error":"#N/A"}}]

{"sheet":"Round 4","index":12,"n_rows":63,"n_cols":13,"rows_kept":63}
[null,null,"First Name","Surname","Club",{"$nulls":3},"First Name","Surname","Club"]
["Round 4 Draw",null,{"$f":"Results!B3","v":0}]
[null,null,{"$f":"Results!B4","v":"Open Theme"}]
[{"$nulls":12},"VALID?"]
[null,{"$f":"Results!A8","v":1},{"$f":"Results!C8","v":0},{"$f":"Results!B8","v":"Team 1 A"},{"$f":"Results!D8","v":0},{"$f":"Results!G8","v":""},"- vs -",{"$f":"VLOOKUP(B5,Results!$A$8:$AG$60,30,FALSE)","v":0},{"$f":"VLOOKUP(H5,Results!A$8:$G$60,3,FALSE)","v":{"$error":"#N/A"}},{"$f":"VLOOKUP(H5,Results!$A$8:$G$60,2,FALSE)","v":{"$error":"#N/A"}},{"$f":"VLOOKUP(H5,Results!$A$8:$G$60,4,FALSE)","v":{"$error":"#N/A"}},{"$f":"VLOOKUP(H5,Results!$A$8:$G$60,7,FALSE)","v":{"$error":"#N/A"}},{"$f":"VLOOKUP(H5,$B$4:B5,1,FALSE)","v":{"$error":"#N/A"}}]
[null,{"$f":"Results!A9","v":2},{"$f":"Results!C9","v":0},{"$f":"Results!B9","v":"Team 1 B"},{"$f":"Results!D9","v":0},{"$f":"Results!G9","v":""},"- vs -",{"$f":"VLOOKUP(B6,Results!$A$8:$AG$60,30,FALSE)","v":0},{"$f":"VLOOKUP(H6,Results!A$8:$G$60,3,FALSE)","v":{"$error":"#N/A"}},{"$f":"VLOOKUP(H6,Results!$A$8:$G$60,2,FALSE)","v":{"$error":"#N/A"}},{"$f":"VLOOKUP(H6,Results!$A$8:$G$60,4,FALSE)","v":{"$error":"#N/A"}},{"$f":"VLOOKUP(H6,Results!$A$8:$G$60,7,FALSE)","v":{"$error":"#N/A"}},{"$f":"VLOOKUP(H6,$B$4:B6,1,FALSE)","v":{"$error":"#N/A"}}]
[null,{"$f":"Results!A10","v":3},{"$f":"Results!C10","v":0},{"$f":"Results!B10","v":"Team 1 C"},{"$f":"Results!D10","v":0},{"$f":"Results!G10","v":""},"- vs -",{"$f":"VLOOKUP(B7,Results!$A$8:$AG$60,30,FALSE)","v":0},{"$f":"VLOOKUP(H7,Results!A$8:$G$60,3,FALSE)","v":{"$error":"#N/A"}},{"$f":"VLOOKUP(H7,Results!$A$8:$G$60,2,FALSE)","v":{"$error":"#N/A"}},{"$f":"VLOOKUP(H7,Results!$A$8:$G$60,4,FALSE)","v":{"$error":"#N/A"}},{"$f":"VLOOKUP(H7,Results!$A$8:$G$60,7,FALSE)","v":{"$error":"#N/A"}},{"$f":"VLOOKUP(H7,$B$4:B7,1,FALSE)","v":{"$error":"#N/A"}}]
[null,{"$f":"Results!A11","v":4},{"$f":"Results!C11","v":0},{"$f":"Results!B11","v":"Team 2 A"},{"$f":"Results!D11","v":0},{"$f":"Results!G11","v":""},"- vs -",{"$f":"VLOOKUP(B8,Results!$A$8:$AG$60,30,FALSE)","v":0},{"$f":"VLOOKUP(H8,Results!A$8:$G$60,3,FALSE)","v":{"$error":"#N/A"}},{"$f":"VLOOKUP(H8,Results!$A$8:$G$60,2,FALSE)","v":{"$error":"#N/A"}},{"$f":"VLOOKUP(H8,Results!$A$8:$G$60,4,FALSE)","v":{"$error":"#N/A"}},{"$f":"VLOOKUP(H8,Results!$A$8:$G$60,7,FALSE)","v":{"$error":"#N/A"}},{"$f":"VLOOKUP(H8,$B$4:B8,1,FALSE)","v":{"$error":"#N/A"}}]
[null,{"$f":"Results!A12","v":5},{"$f":"Results!C12","v":0},{"$f":"Results!B12","v":"Team 2 B"},{"$f":"Results!D12","v":0},{"$f":"Results!G12","v":""},"- vs -",{"$f":"VLOOKUP(B9,Results!$A$8:$AG$60,30,FALSE)","v":0},{"$f":"VLOOKUP(H9,Results!A$8:$G$60,3,FALSE)","v":{"$error":"#N/A"}},{"$f":"VLOOKUP(H9,Results!$A$8:$G$60,2,FALSE)","v":{"$error":"#N/A"}},{"$f":"VLOOKUP(H9,Results!$A$8:$G$60,4,FALSE)","v":{"$error":"#N/A"}},{"$f":"VLOOKUP(H9,Results!$A$8:$G$60,7,FALSE)","v":{"$error":"#N/A"}},{"$f":"VLOOKUP(H9,$B$4:B9,1,FALSE)","v":{"$error":"#N/A"}}]
[null,{"$f":"Results!A13","v":6},{"$f":"Results!C13","v":0},{"$f":"Results!B13","v":"Team 2 C"},{"$f":"Results!D13","v":0},{"$f":"Results!G13","v":""},"- vs -",{"$f":"VLOOKUP(B10,Results!$A$8:$AG$60,30,FALSE)","v":0},{"$f":"VLOOKUP(H10,Results!A$8:$G$60,3,FALSE)","v":{"$error":"#N/A"}},{"$f":"VLOOKUP(H10,Results!$A$8:$G$60,2,FALSE)","v":{"$error":"#N/A"}},{"$f":"VLOOKUP(H10,Results!$A$8:$G$60,4,FALSE)","v":{"$error":"#N/A"}},{"$f":"VLOOKUP(H10,Results!$A$8:$G$60,7,FALSE)","v":{"$error":"#N/A"}},{"$f":"VLOOKUP(H10,$B$4:B10,1,FALSE)","v":{"$error":"#N/A"}}]
[null,{"$f":"Results!A14","v":7},{"$f":"Results!C14","v":0},{"$f":"Results!B14","v":"Team 3 A"},{"$f":"Results!D14","v":0},{"$f":"Results!G14","v":""},"- vs -",{"$f":"VLOOKUP(B11,Results!$A$8:$AG$60,30,FALSE)","v":0},{"$f":"VLOOKUP(H11,Results!A$8:$G$60,3,FALSE)","v":{"$error":"#N/A"}},{"$f":"VLOOKUP(H11,Results!$A$8:$G$60,2,FALSE)","v":{"$error":"#N/A"}},{"$f":"VLOOKUP(H11,Results!$A$8:$G$60,4,FALSE)","v":{"$error":"#N/A"}},{"$f":"VLOOKUP(H11,Results!$A$8:$G$60,7,FALSE)","v":{"$error":"#N/A"}},{"$f":"VLOOKUP(H11,$B$4:B11,1,FALSE)","v":{"$error":"#N/A"}}]
[null,{"$f":"Results!A15","v":8},{"$f":"Results!C15","v":0},{"$f":"Results!B15","v":"Team 3 B"},{"$f":"Results!D15","v":0},{"$f":"Results!G15","v":""},"- vs -",{"$f":"VLOOKUP(B12,Results!$A$8:$AG$60,30,FALSE)","v":0},{"$f":"VLOOKUP(H12,Results!A$8:$G$60,3,FALSE)","v":{"$error":"#N/A"}},{"$f":"VLOOKUP(H12,Results!$A$8:$G$60,2,FALSE)","v":{"$error":"#N/A"}},{"$f":"VLOOKUP(H12,Results!$A$8:$G$60,4,FALSE)","v":{"$error":"#N/A"}},{"$f":"VLOOKUP(H12,Results!$A$8:$G$60,7,FALSE)","v":{"$error":"#N/A"}},{"$f":"VLOOKUP(H12,$B$4:B12,1,FALSE)","v":{"$error":"#N/A"}}]
[null,{"$f":"Results!A16","v":9},{"$f":"Results!C16","v":0},{"$f":"Results!B16","v":"Team 3 C"},{"$f":"Results!D16","v":0},{"$f":"Results!G16","v":""},"- vs -",{"$f":"VLOOKUP(B13,Results!$A$8:$AG$60,30,FALSE)","v":0},{"$f":"VLOOKUP(H13,Results!A$8:$G$60,3,FALSE)","v":{"$error":"#N/A"}},{"$f":"VLOOKUP(H13,Results!$A$8:$G$60,2,FALSE)","v":{"$error":"#N/A"}},{"$f":"VLOOKUP(H13,Results!$A$8:$G$60,4,FALSE)","v":{"$error":"#N/A"}},{"$f":"VLOOKUP(H13,Results!$A$8:$G$60,7,FALSE)","v":{"$error":"#N/A"}},{"$f":"VLOOKUP(H13,$B$4:B13,1,FALSE)","v":{"$error":"#N/A"}}]
[null,{"$f":"Results!A17","v":10},{"$f":"Results!C17","v":0},{"$f":"Results!B17","v":"Team 4 A"},{"$f":"Results!D17","v":0},{"$f":"Results!G17","v":""},"- vs -",{"$f":"VLOOKUP(B14,Results!$A$8:$AG$60,30,FALSE)","v":0},{"$f":"VLOOKUP(H14,Results!A$8:$G$60,3,FALSE)","v":{"$error":"#N/A"}},{"$f":"VLOOKUP(H14,Results!$A$8:$G$60,2,FALSE)","v":{"$error":"#N/A"}},{"$f":"VLOOKUP(H14,Results!$A$8:$G$60,4,FALSE)","v":{"$error":"#N/A"}},{"$f":"VLOOKUP(H14,Results!$A$8:$G$60,7,FALSE)","v":{"$error":"#N/A"}},{"$f":"VLOOKUP(H14,$B$4:B14,1,FALSE)","v":{"$error":"#N/A"}}]
[null,{"$f":"Results!A18","v":11},{"$f":"Results!C18","v":0},{"$f":"Results!B18","v":"Team 4 B"},{"$f":"Results!D18","v":0},{"$f":"Results!G18","v":""},"- vs -",{"$f":"VLOOKUP(B15,Results!$A$8:$AG$60,30,FALSE)","v":0},{"$f":"VLOOKUP(H15,Results!A$8:$G$60,3,FALSE)","v":{"$error":"#N/A"}},{"$f":"VLOOKUP(H15,Results!$A$8:$G$60,2,FALSE)","v":{"$error":"#N/A"}},{"$f":"VLOOKUP(H15,Results!$A$8:$G$60,4,FALSE)","v":{"$error":"#N/A"}},{"$f":"VLOOKUP(H15,Results!$A$8:$G$60,7,FALSE)","v":{"$error":"#N/A"}},{"$f":"VLOOKUP(H15,$B$4:B15,1,FALSE)","v":{"$error":"#N/A"}}]
[null,{"$f":"Results!A19","v":12},{"$f":"Results!C19","v":0},{"$f":"Results!B19","v":"Team 4 C"},{"$f":"Results!D19","v":0},{"$f":"Results!G19","v":""},"- vs -",{"$f":"VLOOKUP(B16,Results!$A$8:$AG$60,30,FALSE)","v":0},{"$f":"VLOOKUP(H16,Results!A$8:$G$60,3,FALSE)","v":{"$error":"#N/A"}},{"$f":"VLOOKUP(H16,Results!$A$8:$G$60,2,FALSE)","v":{"$error":"#N/A"}},{"$f":"VLOOKUP(H16,Results!$A$8:$G$60,4,FALSE)","v":{"$error":"#N/A"}},{"$f":"VLOOKUP(H16,Results!$A$8:$G$60,7,FALSE)","v":{"$error":"#N/A"}},{"$f":"VLOOKUP(H16,$B$4:B16,1,FALSE)","v":{"$error":"#N/A"}}]
[null,{"$f":"Results!A20","v":13},{"$f":"Results!C20","v":0},{"$f":"Results!B20","v":"Team 5 A"},{"$f":"Results!D20","v":0},{"$f":"Results!G20","v":""},"- vs -",{"$f":"VLOOKUP(B17,Results!$A$8:$AG$60,30,FALSE)","v":0},{"$f":"VLOOKUP(H17,Results!A$8:$G$60,3,FALSE)","v":{"$error":"#N/A"}},{"$f":"VLOOKUP(H17,Results!$A$8:$G$60,2,FALSE)","v":{"$error":"#N/A"}},{"$f":"VLOOKUP(H17,Results!$A$8:$G$60,4,FALSE)","v":{"$error":"#N/A"}},{"$f":"VLOOKUP(H17,Results!$A$8:$G$60,7,FALSE)","v":{"$error":"#N/A"}},{"$f":"VLOOKUP(H17,$B$4:B17,1,FALSE)","v":{"$error":"#N/A"}}]
[null,{"$f":"Results!A21","v":14},{"$f":"Results!C21","v":0},{"$f":"Results!B21","v":"Team 5 B"},{"$f":"Results!D21","v":0},{"$f":"Results!G21","v":""},"- vs -",{"$f":"VLOOKUP(B18,Results!$A$8:$AG$60,30,FALSE)","v":0},{"$f":"VLOOKUP(H18,Results!A$8:$G$60,3,FALSE)","v":{"$error":"#N/A"}},{"$f":"VLOOKUP(H18,Results!$A$8:$G$60,2,FALSE)","v":{"$error":"#N/A"}},{"$f":"VLOOKUP(H18,Results!$A$8:$G$60,4,FALSE)","v":{"$error":"#N/A"}},{"$f":"VLOOKUP(H18,Results!$A$8:$G$60,7,FALSE)","v":{"$error":"#N/A"}},{"$f":"VLOOKUP(H18,$B$4:B18,1,FALSE)","v":{"$error":"#N/A"}}]
[null,{"$f":"Results!A22","v":15},{"$f":"Results!C22","v":0},{"$f":"Results!B22","v":"Team 5 C"},{"$f":"Results!D22","v":0},{"$f":"Results!G22","v":""},"- vs -",{"$f":"VLOOKUP(B19,Results!$A$8:$AG$60,30,FALSE)","v":0},{"$f":"VLOOKUP(H19,Results!A$8:$G$60,3,FALSE)","v":{"$error":"#N/A"}},{"$f":"VLOOKUP(H19,Results!$A$8:$G$60,2,FALSE)","v":{"$error":"#N/A"}},{"$f":"VLOOKUP(H19,Results!$A$8:$G$60,4,FALSE)","v":{"$error":"#N/A"}},{"$f":"VLOOKUP(H19,Results!$A$8:$G$60,7,FALSE)","v":{"$error":"#N/A"}},{"$f":"VLOOKUP(H19,$B$4:B19,1,FALSE)","v":{"$error":"#N/A"}}]
[null,{"$f":"Results!A23","v":16},{"$f":"Results!C23","v":0},{"$f":"Results!B23","v":"Team 6 A"},{"$f":"Results!D23","v":0},{"$f":"Results!G23","v":""},"- vs -",{"$f":"VLOOKUP(B20,Results!$A$8:$AG$60,30,FALSE)","v":0},{"$f":"VLOOKUP(H20,Results!A$8:$G$60,3,FALSE)","v":{"$error":"#N/A"}},{"$f":"VLOOKUP(H20,Results!$A$8:$G$60,2,FALSE)","v":{"$error":"#N/A"}},{"$f":"VLOOKUP(H20,Results!$A$8:$G$60,4,FALSE)","v":{"$error":"#N/A"}},{"$f":"VLOOKUP(H20,Results!$A$8:$G$60,7,FALSE)","v":{"$error":"#N/A"}},{"$f":"VLOOKUP(H20,$B$4:B20,1,FALSE)","v":{"$error":"#N/A"}}]
[null,{"$f":"Results!A24","v":17},{"$f":"Results!C24","v":0},{"$f":"Results!B24","v":"Team 6 B"},{"$f":"Results!D24","v":0},{"$f":"Results!G24","v":""},"- vs -",{"$f":"VLOOKUP(B21,Results!$A$8:$AG$60,30,FALSE)","v":0},{"$f":"VLOOKUP(H21,Results!A$8:$G$60,3,FALSE)","v":{"$error":"#N/A"}},{"$f":"VLOOKUP(H21,Results!$A$8:$G$60,2,FALSE)","v":{"$error":"#N/A"}},{"$f":"VLOOKUP(H21,Results!$A$8:$G$60,4,FALSE)","v":{"$error":"#N/A"}},{"$f":"VLOOKUP(H21,Results!$A$8:$G$60,7,FALSE)","v":{"$error":"#N/A"}},{"$f":"VLOOKUP(H21,$B$4:B21,1,FALSE)","v":{"$error":"#N/A"}}]
[null,{"$f":"Results!A25","v":18},{"$f":"Results!C25","v":0},{"$f":"Results!B25","v":"Team 6 C"},{"$f":"Results!D25","v":0},{"$f":"Results!G25","v":""},"- vs -",{"$f":"VLOOKUP(B22,Results!$A$8:$AG$60,30,FALSE)","v":0},{"$f":"VLOOKUP(H22,Results!A$8:$G$60,3,FALSE)","v":{"$error":"#N/A"}},{"$f":"VLOOKUP(H22,Results!$A$8:$G$60,2,FALSE)","v":{"$error":"#N/A"}},{"$f":"VLOOKUP(H22,Results!$A$8:$G$60,4,FALSE)","v":{"$error":"#N/A"}},{"$f":"VLOOKUP(H22,Results!$A$8:$G$60,7,FALSE)","v":{"$error":"#N/A"}},{"$f":"VLOOKUP(H22,$B$4:B22,1,FALSE)","v":{"$error":"#N/A"}}]
[null,{"$f":"Results!A26","v":0},{"$f":"Results!C26","v":0},{"$f":"Results!B26","v":0},{"$f":"Results!D26","v":0},{"$f":"Results!G26","v":""},"- vs -",{"$f":"VLOOKUP(B23,Results!$A$8:$AG$60,30,FALSE)","v":{"$error":"#N/A"}},{"$f":"VLOOKUP(H23,Results!A$8:$G$60,3,FALSE)","v":{"$error":"#N/A"}},{"$f":"VLOOKUP(H23,Results!$A$8:$G$60,2,FALSE)","v":{"$error":"#N/A"}},{"$f":"VLOOKUP(H23,Results!$A$8:$G$60,4,FALSE)","v":{"$error":"#N/A"}},{"$f":"VLOOKUP(H23,Results!$A$8:$G$60,7,FALSE)","v":{"$error":"#N/A"}},{"$f":"VLOOKUP(H23,$B$4:B23,1,FALSE)","v":{"$error":"#N/A"}}]
[null,{"$f":"Results!A27","v":0},{"$f":"Results!C27","v":0},{"$f":"Results!B27","v":0},{"$f":"Results!D27","v":0},{"$f":"Results!G27","v":""},"- vs -",{"$f":"VLOOKUP(B24,Results!$A$8:$AG$60,30,FALSE)","v":{"$error":"#N/A"}},{"$f":"VLOOKUP(H24,Results!A$8:$G$60,3,FALSE)","v":{"$error":"#N/A"}},{"$f":"VLOOKUP(H24,Results!$A$8:$G$60,2,FALSE)","v":{"$error":"#N/A"}},{"$f":"VLOOKUP(H24,Results!$A$8:$G$60,4,FALSE)","v":{"$error":"#N/A"}},{"$f":"VLOOKUP(H24,Results!$A$8:$G$60,7,FALSE)","v":{"$error":"#N/A"}},{"$f":"VLOOKUP(H24,$B$4:B24,1,FALSE)","v":{"$error":"#N/A"}}]
[null,{"$f":"Results!A28","v":0},{"$f":"Results!C28","v":0},{"$f":"Results!B28","v":0},{"$f":"Results!D28","v":0},{"$f":"Results!G28","v":""},"- vs -",{"$f":"VLOOKUP(B25,Results!$A$8:$AG$60,30,FALSE)","v":{"$error":"#N/A"}},{"$f":"VLOOKUP(H25,Results!A$8:$G$60,3,FALSE)","v":{"$error":"#N/A"}},{"$f":"VLOOKUP(H25,Results!$A$8:$G$60,2,FALSE)","v":{"$error":"#N/A"}},{"$f":"VLOOKUP(H25,Results!$A$8:$G$60,4,FALSE)","v":{"$error":"#N/A"}},{"$f":"VLOOKUP(H25,Results!$A$8:$G$60,7,FALSE)","v":{"$error":"#N/A"}},{"$f":"VLOOKUP(H25,$B$4:B25,1,FALSE)","v":{"$error":"#N/A"}}]
[null,{"$f":"Results!A29","v":0},{"$f":"Results!C29","v":0},{"$f":"Results!B29","v":0},{"$f":"Results!D29","v":0},{"$f":"Results!G29","v":""},"- vs -",{"$f":"VLOOKUP(B26,Results!$A$8:$AG$60,30,FALSE)","v":{"$error":"#N/A"}},{"$f":"VLOOKUP(H26,Results!A$8:$G$60,3,FALSE)","v":{"$error":"#N/A"}},{"$f":"VLOOKUP(H26,Results!$A$8:$G$60,2,FALSE)","v":{"$error":"#N/A"}},{"$f":"VLOOKUP(H26,Results!$A$8:$G$60,4,FALSE)","v":{"$error":"#N/A"}},{"$f":"VLOOKUP(H26,Results!$A$8:$G$60,7,FALSE)","v":{"$error":"#N/A"}},{"$f":"VLOOKUP(H26,$B$4:B26,1,FALSE)","v":{"$error":"#N/A"}}]
[null,{"$f":"Results!A30","v":0},{"$f":"Results!C30","v":0},{"$f":"Results!B30","v":0},{"$f":"Results!D30","v":0},{"$f":"Results!G30","v":""},"- vs -",{"$f":"VLOOKUP(B27,Results!$A$8:$AG$60,30,FALSE)","v":{"$error":"#N/A"}},{"$f":"VLOOKUP(H27,Results!A$8:$G$60,3,FALSE)","v":{"$error":"#N/A"}},{"$f":"VLOOKUP(H27,Results!$A$8:$G$60,2,FALSE)","v":{"$error":"#N/A"}},{"$f":"VLOOKUP(H27,Results!$A$8:$G$60,4,FALSE)","v":{"$error":"#N/A"}},{"$f":"VLOOKUP(H27,Results!$A$8:$G$60,7,FALSE)","v":{"$error":"#N/A"}},{"$f":"VLOOKUP(H27,$B$4:B27,1,FALSE)","v":{"$error":"#N/A"}}]
[null,{"$f":"Results!A31","v":0},{"$f":"Results!C31","v":0},{"$f":"Results!B31","v":0},{"$f":"Results!D31","v":0},{"$f":"Results!G31","v":""},"- vs -",{"$f":"VLOOKUP(B28,Results!$A$8:$AG$60,30,FALSE)","v":{"$error":"#N/A"}},{"$f":"VLOOKUP(H28,Results!A$8:$G$60,3,FALSE)","v":{"$error":"#N/A"}},{"$f":"VLOOKUP(H28,Results!$A$8:$G$60,2,FALSE)","v":{"$error":"#N/A"}},{"$f":"VLOOKUP(H28,Results!$A$8:$G$60,4,FALSE)","v":{"$error":"#N/A"}},{"$f":"VLOOKUP(H28,Results!$A$8:$G$60,7,FALSE)","v":{"$error":"#N/A"}},{"$f":"VLOOKUP(H28,$B$4:B28,1,FALSE)","v":{"$error":"#N/A"}}]
[null,{"$f":"Results!A32","v":0},{"$f":"Results!C32","v":0},{"$f":"Results!B32","v":0},{"$f":"Results!D32","v":0},{"$f":"Results!G32","v":""},"- vs -",{"$f":"VLOOKUP(B29,Results!$A$8:$AG$60,30,FALSE)","v":{"$error":"#N/A"}},{"$f":"VLOOKUP(H29,Results!A$8:$G$60,3,FALSE)","v":{"$error":"#N/A"}},{"$f":"VLOOKUP(H29,Results!$A$8:$G$60,2,FALSE)","v":{"$error":"#N/A"}},{"$f":"VLOOKUP(H29,Results!$A$8:$G$60,4,FALSE)","v":{"$error":"#N/A"}},{"$f":"VLOOKUP(H29,Results!$A$8:$G$60,7,FALSE)","v":{"$error":"#N/A"}},{"$f":"VLOOKUP(H29,$B$4:B29,1,FALSE)","v":{"$error":"#N/A"}}]
[null,{"$f":"Results!A33","v":0},{"$f":"Results!C33","v":0},{"$f":"Results!B33","v":0},{"$f":"Results!D33","v":0},{"$f":"Results!G33","v":""},"- vs -",{"$f":"VLOOKUP(B30,Results!$A$8:$AG$60,30,FALSE)","v":{"$error":"#N/A"}},{"$f":"VLOOKUP(H30,Results!A$8:$G$60,3,FALSE)","v":{"$error":"#N/A"}},{"$f":"VLOOKUP(H30,Results!$A$8:$G$60,2,FALSE)","v":{"$error":"#N/A"}},{"$f":"VLOOKUP(H30,Results!$A$8:$G$60,4,FALSE)","v":{"$error":"#N/A"}},{"$f":"VLOOKUP(H30,Results!$A$8:$G$60,7,FALSE)","v":{"$error":"#N/A"}},{"$f":"VLOOKUP(H30,$B$4:B30,1,FALSE)","v":{"$error":"#N/A"}}]
[null,{"$f":"Results!A34","v":0},{"$f":"Results!C34","v":0},{"$f":"Results!B34","v":0},{"$f":"Results!D34","v":0},{"$f":"Results!G34","v":""},"- vs -",{"$f":"VLOOKUP(B31,Results!$A$8:$AG$60,30,FALSE)","v":{"$error":"#N/A"}},{"$f":"VLOOKUP(H31,Results!A$8:$G$60,3,FALSE)","v":{"$error":"#N/A"}},{"$f":"VLOOKUP(H31,Results!$A$8:$G$60,2,FALSE)","v":{"$error":"#N/A"}},{"$f":"VLOOKUP(H31,Results!$A$8:$G$60,4,FALSE)","v":{"$error":"#N/A"}},{"$f":"VLOOKUP(H31,Results!$A$8:$G$60,7,FALSE)","v":{"$error":"#N/A"}},{"$f":"VLOOKUP(H31,$B$4:B31,1,FALSE)","v":{"$error":"#N/A"}}]
[null,{"$f":"Results!A35","v":0},{"$f":"Results!C35","v":0},{"$f":"Results!B35","v":0},{"$f":"Results!D35","v":0},{"$f":"Results!G35","v":""},"- vs -",{"$f":"VLOOKUP(B32,Results!$A$8:$AG$60,30,FALSE)","v":{"$error":"#N/A"}},{"$f":"VLOOKUP(H32,Results!A$8:$G$60,3,FALSE)","v":{"$error":"#N/A"}},{"$f":"VLOOKUP(H32,Results!$A$8:$G$60,2,FALSE)","v":{"$error":"#N/A"}},{"$f":"VLOOKUP(H32,Results!$A$8:$G$60,4,FALSE)","v":{"$error":"#N/A"}},{"$f":"VLOOKUP(H32,Results!$A$8:$G$60,7,FALSE)","v":{"$error":"#N/A"}},{"$f":"VLOOKUP(H32,$B$4:B32,1,FALSE)","v":{"$error":"#N/A"}}]
[null,{"$f":"Results!A36","v":0},{"$f":"Results!C36","v":0},{"$f":"Results!B36","v":0},{"$f":"Results!D36","v":0},{"$f":"Results!G36","v":""},"- vs -",{"$f":"VLOOKUP(B33,Results!$A$8:$AG$60,30,FALSE)","v":{"$error":"#N/A"}},{"$f":"VLOOKUP(H33,Results!A$8:$G$60,3,FALSE)","v":{"$error":"#N/A"}},{"$f":"VLOOKUP(H33,Results!$A$8:$G$60,2,FALSE)","v":{"$error":"#N/A"}},{"$f":"VLOOKUP(H33,Results!$A$8:$G$60,4,FALSE)","v":{"$error":"#N/A"}},{"$f":"VLOOKUP(H33,Results!$A$8:$G$60,7,FALSE)","v":{"$error":"#N/A"}},{"$f":"VLOOKUP(H33,$B$4:B33,1,FALSE)","v":{"$error":"#N/A"}}]
[null,{"$f":"Results!A37","v":0},{"$f":"Results!C37","v":0},{"$f":"Results!B37","v":0},{"$f":"Results!D37","v":0},{"$f":"Results!G37","v":""},"- vs -",{"$f":"VLOOKUP(B34,Results!$A$8:$AG$60,30,FALSE)","v":{"$error":"#N/A"}},{"$f":"VLOOKUP(H34,Results!A$8:$G$60,3,FALSE)","v":{"$error":"#N/A"}},{"$f":"VLOOKUP(H34,Results!$A$8:$G$60,2,FALSE)","v":{"$error":"#N/A"}},{"$f":"VLOOKUP(H34,Results!$A$8:$G$60,4,FALSE)","v":{"$error":"#N/A"}},{"$f":"VLOOKUP(H34,Results!$A$8:$G$60,7,FALSE)","v":{"$error":"#N/A"}},{"$f":"VLOOKUP(H34,$B$4:B34,1,FALSE)","v":{"$error":"#N/A"}}]
[null,{"$f":"Results!A38","v":0},{"$f":"Results!C38","v":0},{"$f":"Results!B38","v":0},{"$f":"Results!D38","v":0},{"$f":"Results!G38","v":""},"- vs -",{"$f":"VLOOKUP(B35,Results!$A$8:$AG$60,30,FALSE)","v":{"$error":"#N/A"}},{"$f":"VLOOKUP(H35,Results!A$8:$G$60,3,FALSE)","v":{"$error":"#N/A"}},{"$f":"VLOOKUP(H35,Results!$A$8:$G$60,2,FALSE)","v":{"$error":"#N/A"}},{"$f":"VLOOKUP(H35,Results!$A$8:$G$60,4,FALSE)","v":{"$error":"#N/A"}},{"$f":"VLOOKUP(H35,Results!$A$8:$G$60,7,FALSE)","v":{"$error":"#N/A"}},{"$f":"VLOOKUP(H35,$B$4:B35,1,FALSE)","v":{"$error":"#N/A"}}]
[null,{"$f":"Results!A39","v":0},{"$f":"Results!C39","v":0},{"$f":"Results!B39","v":0},{"$f":"Results!D39","v":0},{"$f":"Results!G39","v":""},"- vs -",{"$f":"VLOOKUP(B36,Results!$A$8:$AG$60,30,FALSE)","v":{"$error":"#N/A"}},{"$f":"VLOOKUP(H36,Results!A$8:$G$60,3,FALSE)","v":{"$error":"#N/A"}},{"$f":"VLOOKUP(H36,Results!$A$8:$G$60,2,FALSE)","v":{"$error":"#N/A"}},{"$f":"VLOOKUP(H36,Results!$A$8:$G$60,4,FALSE)","v":{"$error":"#N/A"}},{"$f":"VLOOKUP(H36,Results!$A$8:$G$60,7,FALSE)","v":{"$error":"#N/A"}},{"$f":"VLOOKUP(H36,$B$4:B36,1,FALSE)","v":{"$error":"#N/A"}}]
[null,{"$f":"Results!A40","v":0},{"$f":"Results!C40","v":0},{"$f":"Results!B40","v":0},{"$f":"Results!D40","v":0},{"$f":"Results!G40","v":""},"- vs -",{"$f":"VLOOKUP(B37,Results!$A$8:$AG$60,30,FALSE)","v":{"$error":"#N/A"}},{"$f":"VLOOKUP(H37,Results!A$8:$G$60,3,FALSE)","v":{"$error":"#N/A"}},{"$f":"VLOOKUP(H37,Results!$A$8:$G$60,2,FALSE)","v":{"$error":"#N/A"}},{"$f":"VLOOKUP(H37,Results!$A$8:$G$60,4,FALSE)","v":{"$error":"#N/A"}},{"$f":"VLOOKUP(H37,Results!$A$8:$G$60,7,FALSE)","v":{"$error":"#N/A"}},{"$f":"VLOOKUP(H37,$B$4:B37,1,FALSE)","v":{"$error":"#N/A"}}]
[null,{"$f":"Results!A41","v":0},{"$f":"Results!C41","v":0},{"$f":"Results!B41","v":0},{"$f":"Results!D41","v":0},{"$f":"Results!G41","v":""},"- vs -",{"$f":"VLOOKUP(B38,Results!$A$8:$AG$60,30,FALSE)","v":{"$error":"#N/A"}},{"$f":"VLOOKUP(H38,Results!A$8:$G$60,3,FALSE)","v":{"$error":"#N/A"}},{"$f":"VLOOKUP(H38,Results!$A$8:$G$60,2,FALSE)","v":{"$error":"#N/A"}},{"$f":"VLOOKUP(H38,Results!$A$8:$G$60,4,FALSE)","v":{"$error":"#N/A"}},{"$f":"VLOOKUP(H38,Results!$A$8:$G$60,7,FALSE)","v":{"$error":"#N/A"}},{"$f":"VLOOKUP(H38,$B$4:B38,1,FALSE)","v":{"$error":"#N/A"}}]
[null,{"$f":"Results!A42","v":0},{"$f":"Results!C42","v":0},{"$f":"Results!B42","v":0},{"$f":"Results!D42","v":0},{"$f":"Results!G42","v":""},"- vs -",{"$f":"VLOOKUP(B39,Results!$A$8:$AG$60,30,FALSE)","v":{"$error":"#N/A"}},{"$f":"VLOOKUP(H39,Results!A$8:$G$60,3,FALSE)","v":{"$error":"#N/A"}},{"$f":"VLOOKUP(H39,Results!$A$8:$G$60,2,FALSE)","v":{"$error":"#N/A"}},{"$f":"VLOOKUP(H39,Results!$A$8:$G$60,4,FALSE)","v":{"$error":"#N/A"}},{"$f":"VLOOKUP(H39,Results!$A$8:$G$60,7,FALSE)","v":{"$error":"#N/A"}},{"$f":"VLOOKUP(H39,$B$4:B39,1,FALSE)","v":{"$error":"#N/A"}}]
[null,{"$f":"Results!A43","v":0},{"$f":"Results!C43","v":0},{"$f":"Results!B43","v":0},{"$f":"Results!D43","v":0},{"$f":"Results!G43","v":""},"- vs -",{"$f":"VLOOKUP(B40,Results!$A$8:$AG$60,30,FALSE)","v":{"$error":"#N/A"}},{"$f":"VLOOKUP(H40,Results!A$8:$G$60,3,FALSE)","v":{"$error":"#N/A"}},{"$f":"VLOOKUP(H40,Results!$A$8:$G$60,2,FALSE)","v":{"$error":"#N/A"}},{"$f":"VLOOKUP(H40,Results!$A$8:$G$60,4,FALSE)","v":{"$error":"#N/A"}},{"$f":"VLOOKUP(H40,Results!$A$8:$G$60,7,FALSE)","v":{"$error":"#N/A"}},{"$f":"VLOOKUP(H40,$B$4:B40,1,FALSE)","v":{"$error":"#N/A"}}]
[null,{"$f":"Results!A44","v":0},{"$f":"Results!C44","v":0},{"$f":"Results!B44","v":0},{"$f":"Results!D44","v":0},{"$f":"Results!G44","v":""},"- vs -",{"$f":"VLOOKUP(B41,Results!$A$8:$AG$60,30,FALSE)","v":{"$error":"#N/A"}},{"$f":"VLOOKUP(H41,Results!A$8:$G$60,3,FALSE)","v":{"$error":"#N/A"}},{"$f":"VLOOKUP(H41,Results!$A$8:$G$60,2,FALSE)","v":{"$error":"#N/A"}},{"$f":"VLOOKUP(H41,Results!$A$8:$G$60,4,FALSE)","v":{"$error":"#N/A"}},{"$f":"VLOOKUP(H41,Results!$A$8:$G$60,7,FALSE)","v":{"$error":"#N/A"}},{"$f":"VLOOKUP(H41,$B$4:B41,1,FALSE)","v":{"$error":"#N/A"}}]
[null,{"$f":"Results!A45","v":0},{"$f":"Results!C45","v":0},{"$f":"Results!B45","v":0},{"$f":"Results!D45","v":0},{"$f":"Results!G45","v":""},"- vs -",{"$f":"VLOOKUP(B42,Results!$A$8:$AG$60,30,FALSE)","v":{"$error":"#N/A"}},{"$f":"VLOOKUP(H42,Results!A$8:$G$60,3,FALSE)","v":{"$error":"#N/A"}},{"$f":"VLOOKUP(H42,Results!$A$8:$G$60,2,FALSE)","v":{"$error":"#N/A"}},{"$f":"VLOOKUP(H42,Results!$A$8:$G$60,4,FALSE)","v":{"$error":"#N/A"}},{"$f":"VLOOKUP(H42,Results!$A$8:$G$60,7,FALSE)","v":{"$error":"#N/A"}},{"$f":"VLOOKUP(H42,$B$4:B42,1,FALSE)","v":{"$error":"#N/A"}}]
[null,{"$f":"Results!A46","v":0},{"$f":"Results!C46","v":0},{"$f":"Results!B46","v":0},{"$f":"Results!D46","v":0},{"$f":"Results!G46","v":""},"- vs -",{"$f":"VLOOKUP(B43,Results!$A$8:$AG$60,30,FALSE)","v":{"$error":"#N/A"}},{"$f":"VLOOKUP(H43,Results!A$8:$G$60,3,FALSE)","v":{"$error":"#N/A"}},{"$f":"VLOOKUP(H43,Results!$A$8:$G$60,2,FALSE)","v":{"$error":"#N/A"}},{"$f":"VLOOKUP(H43,Results!$A$8:$G$60,4,FALSE)","v":{"$error":"#N/A"}},{"$f":"VLOOKUP(H43,Results!$A$8:$G$60,7,FALSE)","v":{"$error":"#N/A"}},{"$f":"VLOOKUP(H43,$B$4:B43,1,FALSE)","v":{"$error":"#N/A"}}]
[null,{"$f":"Results!A47","v":0},{"$f":"Results!C47","v":0},{"$f":"Results!B47","v":0},{"$f":"Results!D47","v":0},{"$f":"Results!G47","v":""},"- vs -",{"$f":"VLOOKUP(B44,Results!$A$8:$AG$60,30,FALSE)","v":{"$error":"#N/A"}},{"$f":"VLOOKUP(H44,Results!A$8:$G$60,3,FALSE)","v":{"$error":"#N/A"}},{"$f":"VLOOKUP(H44,Results!$A$8:$G$60,2,FALSE)","v":{"$error":"#N/A"}},{"$f":"VLOOKUP(H44,Results!$A$8:$G$60,4,FALSE)","v":{"$error":"#N/A"}},{"$f":"VLOOKUP(H44,Results!$A$8:$G$60,7,FALSE)","v":{"$error":"#N/A"}},{"$f":"VLOOKUP(H44,$B$4:B44,1,FALSE)","v":{"$error":"#N/A"}}]
[null,{"$f":"Results!A48","v":0},{"$f":"Results!C48","v":0},{"$f":"Results!B48","v":0},{"$f":"Results!D48","v":0},{"$f":"Results!G48","v":""},"- vs -",{"$f":"VLOOKUP(B45,Results!$A$8:$AG$60,30,FALSE)","v":{"$error":"#N/A"}},{"$f":"VLOOKUP(H45,Results!A$8:$G$60,3,FALSE)","v":{"$error":"#N/A"}},{"$f":"VLOOKUP(H45,Results!$A$8:$G$60,2,FALSE)","v":{"$error":"#N/A"}},{"$f":"VLOOKUP(H45,Results!$A$8:$G$60,4,FALSE)","v":{"$error":"#N/A"}},{"$f":"VLOOKUP(H45,Results!$A$8:$G$60,7,FALSE)","v":{"$error":"#N/A"}},{"$f":"VLOOKUP(H45,$B$4:B45,1,FALSE)","v":{"$error":"#N/A"}}]
[null,{"$f":"Results!A49","v":0},{"$f":"Results!C49","v":0},{"$f":"Results!B49","v":0},{"$f":"Results!D49","v":0},{"$f":"Results!G49","v":""},"- vs -",{"$f":"VLOOKUP(B46,Results!$A$8:$AG$60,30,FALSE)","v":{"$error":"#N/A"}},{"$f":"VLOOKUP(H46,Results!A$8:$G$60,3,FALSE)","v":{"$error":"#N/A"}},{"$f":"VLOOKUP(H46,Results!$A$8:$G$60,2,FALSE)","v":{"$error":"#N/A"}},{"$f":"VLOOKUP(H46,Results!$A$8:$G$60,4,FALSE)","v":{"$error":"#N/A"}},{"$f":"VLOOKUP(H46,Results!$A$8:$G$60,7,FALSE)","v":{"$error":"#N/A"}},{"$f":"VLOOKUP(H46,$B$4:B46,1,FALSE)","v":{"$error":"#N/A"}}]
[null,{"$f":"Results!A50","v":0},{"$f":"Results!C50","v":0},{"$f":"Results!B50","v":0},{"$f":"Results!D50","v":0},{"$f":"Results!G50","v":""},"- vs -",{"$f":"VLOOKUP(B47,Results!$A$8:$AG$60,30,FALSE)","v":{"$error":"#N/A"}},{"$f":"VLOOKUP(H47,Results!A$8:$G$60,3,FALSE)","v":{"$error":"#N/A"}},{"$f":"VLOOKUP(H47,Results!$A$8:$G$60,2,FALSE)","v":{"$error":"#N/A"}},{"$f":"VLOOKUP(H47,Results!$A$8:$G$60,4,FALSE)","v":{"$error":"#N/A"}},{"$f":"VLOOKUP(H47,Results!$A$8:$G$60,7,FALSE)","v":{"$error":"#N/A"}},{"$f":"VLOOKUP(H47,$B$4:B47,1,FALSE)","v":{"$error":"#N/A"}}]
[null,{"$f":"Results!A51","v":0},{"$f":"Results!C51","v":0},{"$f":"Results!B51","v":0},{"$f":"Results!D51","v":0},{"$f":"Results!G51","v":""},"- vs -",{"$f":"VLOOKUP(B48,Results!$A$8:$AG$60,30,FALSE)","v":{"$error":"#N/A"}},{"$f":"VLOOKUP(H48,Results!A$8:$G$60,3,FALSE)","v":{"$error":"#N/A"}},{"$f":"VLOOKUP(H48,Results!$A$8:$G$60,2,FALSE)","v":{"$error":"#N/A"}},{"$f":"VLOOKUP(H48,Results!$A$8:$G$60,4,FALSE)","v":{"$error":"#N/A"}},{"$f":"VLOOKUP(H48,Results!$A$8:$G$60,7,FALSE)","v":{"$error":"#N/A"}},{"$f":"VLOOKUP(H48,$B$4:B48,1,FALSE)","v":{"$error":"#N/A"}}]
[null,{"$f":"Results!A52","v":0},{"$f":"Results!C52","v":0},{"$f":"Results!B52","v":0},{"$f":"Results!D52","v":0},{"$f":"Results!G52","v":""},"- vs -",{"$f":"VLOOKUP(B49,Results!$A$8:$AG$60,30,FALSE)","v":{"$error":"#N/A"}},{"$f":"VLOOKUP(H49,Results!A$8:$G$60,3,FALSE)","v":{"$error":"#N/A"}},{"$f":"VLOOKUP(H49,Results!$A$8:$G$60,2,FALSE)","v":{"$error":"#N/A"}},{"$f":"VLOOKUP(H49,Results!$A$8:$G$60,4,FALSE)","v":{"$error":"#N/A"}},{"$f":"VLOOKUP(H49,Results!$A$8:$G$60,7,FALSE)","v":{"$error":"#N/A"}},{"$f":"VLOOKUP(H49,$B$4:B49,1,FALSE)","v":{"$error":"#N/A"}}]
[null,{"$f":"Results!A53","v":0},{"$f":"Results!C53","v":0},{"$f":"Results!B53","v":0},{"$f":"Results!D53","v":0},{"$f":"Results!G53","v":""},"- vs -",{"$f":"VLOOKUP(B50,Results!$A$8:$AG$60,30,FALSE)","v":{"$error":"#N/A"}},{"$f":"VLOOKUP(H50,Results!A$8:$G$60,3,FALSE)","v":{"$error":"#N/A"}},{"$f":"VLOOKUP(H50,Results!$A$8:$G$60,2,FALSE)","v":{"$error":"#N/A"}},{"$f":"VLOOKUP(H50,Results!$A$8:$G$60,4,FALSE)","v":{"$error":"#N/A"}},{"$f":"VLOOKUP(H50,Results!$A$8:$G$60,7,FALSE)","v":{"$error":"#N/A"}},{"$f":"VLOOKUP(H50,$B$4:B50,1,FALSE)","v":{"$error":"#N/A"}}]
[null,{"$f":"Results!A54","v":0},{"$f":"Results!C54","v":0},{"$f":"Results!B54","v":0},{"$f":"Results!D54","v":0},{"$f":"Results!G54","v":""},"- vs -",{"$f":"VLOOKUP(B51,Results!$A$8:$AG$60,30,FALSE)","v":{"$error":"#N/A"}},{"$f":"VLOOKUP(H51,Results!A$8:$G$60,3,FALSE)","v":{"$error":"#N/A"}},{"$f":"VLOOKUP(H51,Results!$A$8:$G$60,2,FALSE)","v":{"$error":"#N/A"}},{"$f":"VLOOKUP(H51,Results!$A$8:$G$60,4,FALSE)","v":{"$error":"#N/A"}},{"$f":"VLOOKUP(H51,Results!$A$8:$G$60,7,FALSE)","v":{"$error":"#N/A"}},{"$f":"VLOOKUP(H51,$B$4:B51,1,FALSE)","v":{"$error":"#N/A"}}]
[null,{"$f":"Results!A55","v":0},{"$f":"Results!C55","v":0},{"$f":"Results!B55","v":0},{"$f":"Results!D55","v":0},{"$f":"Results!G55","v":""},"- vs -",{"$f":"VLOOKUP(B52,Results!$A$8:$AG$60,30,FALSE)","v":{"$error":"#N/A"}},{"$f":"VLOOKUP(H52,Results!A$8:$G$60,3,FALSE)","v":{"$error":"#N/A"}},{"$f":"VLOOKUP(H52,Results!$A$8:$G$60,2,FALSE)","v":{"$error":"#N/A"}},{"$f":"VLOOKUP(H52,Results!$A$8:$G$60,4,FALSE)","v":{"$error":"#N/A"}},{"$f":"VLOOKUP(H52,Results!$A$8:$G$60,7,FALSE)","v":{"$error":"#N/A"}},{"$f":"VLOOKUP(H52,$B$4:B52,1,FALSE)","v":{"$error":"#N/A"}}]
[null,{"$f":"Results!A56","v":0},{"$f":"Results!C56","v":0},{"$f":"Results!B56","v":0},{"$f":"Results!D56","v":0},{"$f":"Results!G56","v":""},"- vs -",{"$f":"VLOOKUP(B53,Results!$A$8:$AG$60,30,FALSE)","v":{"$error":"#N/A"}},{"$f":"VLOOKUP(H53,Results!A$8:$G$60,3,FALSE)","v":{"$error":"#N/A"}},{"$f":"VLOOKUP(H53,Results!$A$8:$G$60,2,FALSE)","v":{"$error":"#N/A"}},{"$f":"VLOOKUP(H53,Results!$A$8:$G$60,4,FALSE)","v":{"$error":"#N/A"}},{"$f":"VLOOKUP(H53,Results!$A$8:$G$60,7,FALSE)","v":{"$error":"#N/A"}},{"$f":"VLOOKUP(H53,$B$4:B53,1,FALSE)","v":{"$error":"#N/A"}}]
[null,{"$f":"Results!A57","v":0},{"$f":"Results!C57","v":0},{"$f":"Results!B57","v":0},{"$f":"Results!D57","v":0},{"$f":"Results!G57","v":""},"- vs -",{"$f":"VLOOKUP(B54,Results!$A$8:$AG$60,30,FALSE)","v":{"$error":"#N/A"}},{"$f":"VLOOKUP(H54,Results!A$8:$G$60,3,FALSE)","v":{"$error":"#N/A"}},{"$f":"VLOOKUP(H54,Results!$A$8:$G$60,2,FALSE)","v":{"$error":"#N/A"}},{"$f":"VLOOKUP(H54,Results!$A$8:$G$60,4,FALSE)","v":{"$error":"#N/A"}},{"$f":"VLOOKUP(H54,Results!$A$8:$G$60,7,FALSE)","v":{"$error":"#N/A"}},{"$f":"VLOOKUP(H54,$B$4:B54,1,FALSE)","v":{"$error":"#N/A"}}]
[null,{"$f":"Results!A58","v":0},{"$f":"Results!C58","v":0},{"$f":"Results!B58","v":0},{"$f":"Results!D58","v":0},{"$f":"Results!G58","v":""},"- vs -",{"$f":"VLOOKUP(B55,Results!$A$8:$AG$60,30,FALSE)","v":{"$error":"#N/A"}},{"$f":"VLOOKUP(H55,Results!A$8:$G$60,3,FALSE)","v":{"$error":"#N/A"}},{"$f":"VLOOKUP(H55,Results!$A$8:$G$60,2,FALSE)","v":{"$error":"#N/A"}},{"$f":"VLOOKUP(H55,Results!$A$8:$G$60,4,FALSE)","v":{"$error":"#N/A"}},{"$f":"VLOOKUP(H55,Results!$A$8:$G$60,7,FALSE)","v":{"$error":"#N/A"}},{"$f":"VLOOKUP(H55,$B$4:B55,1,FALSE)","v":{"$error":"#N/A"}}]
[null,{"$f":"Results!A59","v":0},{"$f":"Results!C59","v":0},{"$f":"Results!B59","v":0},{"$f":"Results!D59","v":0},{"$f":"Results!G59","v":""},"- vs -",{"$f":"VLOOKUP(B56,Results!$A$8:$AG$60,30,FALSE)","v":{"$error":"#N/A"}},{"$f":"VLOOKUP(H56,Results!A$8:$G$60,3,FALSE)","v":{"$error":"#N/A"}},{"$f":"VLOOKUP(H56,Results!$A$8:$G$60,2,FALSE)","v":{"$error":"#N/A"}},{"$f":"VLOOKUP(H56,Results!$A$8:$G$60,4,FALSE)","v":{"$error":"#N/A"}},{"$f":"VLOOKUP(H56,Results!$A$8:$G$60,7,FALSE)","v":{"$error":"#N/A"}},{"$f":"VLOOKUP(H56,$B$4:B56,1,FALSE)","v":{"$error":"#N/A"}}]
[null,{"$f":"Results!A60","v":0},{"$f":"Results!C60","v":0},{"$f":"Results!B60","v":0},{"$f":"Results!D60","v":0},{"$f":"Results!G60","v":""},"- vs -",{"$f":"VLOOKUP(B57,Results!$A$8:$AG$60,30,FALSE)","v":{"$error":"#N/A"}},{"$f":"VLOOKUP(H57,Results!A$8:$G$60,3,FALSE)","v":{"$error":"#N/A"}},{"$f":"VLOOKUP(H57,Results!$A$8:$G$60,2,FALSE)","v":{"$error":"#N/A"}},{"$f":"VLOOKUP(H57,Results!$A$8:$G$60,4,FALSE)","v":{"$error":"#N/A"}},{"$f":"VLOOKUP(H57,Results!$A$8:$G$60,7,FALSE)","v":{"$error":"#N/A"}},{"$f":"VLOOKUP(H57,$B$4:B57,1,FALSE)","v":{"$error":"#N/A"}}]
[null,{"$f":"Results!A61","v":0},{"$f":"Results!C61","v":0},{"$f":"Results!B61","v":0},{"$f":"Results!D61","v":0},{"$f":"Results!G61","v":""},"- vs -",{"$f":"VLOOKUP(B58,Results!$A$8:$AG$60,30,FALSE)","v":{"$error":"#N/A"}},{"$f":"VLOOKUP(H58,Results!A$8:$G$60,3,FALSE)","v":{"$error":"#N/A"}},{"$f":"VLOOKUP(H58,Results!$A$8:$G$60,2,FALSE)","v":{"$error":"#N/A"}},{"$f":"VLOOKUP(H58,Results!$A$8:$G$60,4,FALSE)","v":{"$error":"#N/A"}},{"$f":"VLOOKUP(H58,Results!$A$8:$G$60,7,FALSE)","v":{"$error":"#N/A"}},{"$f":"VLOOKUP(H58,$B$4:B58,1,FALSE)","v":{"$error":"#N/A"}}]
[null,{"$f":"Results!A62","v":0},{"$f":"Results!C62","v":0},{"$f":"Results!B62","v":0},{"$f":"Results!D62","v":0},{"$f":"Results!G62","v":0},"- vs -",{"$f":"VLOOKUP(B59,Results!$A$8:$AG$60,30,FALSE)","v":{"$error":"#N/A"}},{"$f":"VLOOKUP(H59,Results!A$8:$G$60,3,FALSE)","v":{"$error":"#N/A"}},{"$f":"VLOOKUP(H59,Results!$A$8:$G$60,2,FALSE)","v":{"$error":"#N/A"}},{"$f":"VLOOKUP(H59,Results!$A$8:$G$60,4,FALSE)","v":{"$error":"#N/A"}},{"$f":"VLOOKUP(H59,Results!$A$8:$G$60,7,FALSE)","v":{"$error":"#N/A"}},{"$f":"VLOOKUP(H59,$B$4:B59,1,FALSE)","v":{"$error":"#N/A"}}]
[null,{"$f":"Results!A63","v":0},{"$f":"Results!C63","v":0},{"$f":"Results!B63","v":0},{"$f":"Results!D63","v":0},{"$f":"Results!G63","v":0},"- vs -",{"$f":"VLOOKUP(B60,Results!$A$8:$AG$60,30,FALSE)","v":{"$error":"#N/A"}},{"$f":"VLOOKUP(H60,Results!A$8:$G$60,3,FALSE)","v":{"$error":"#N/A"}},{"$f":"VLOOKUP(H60,Results!$A$8:$G$60,2,FALSE)","v":{"$error":"#N/A"}},{"$f":"VLOOKUP(H60,Results!$A$8:$G$60,4,FALSE)","v":{"$error":"#N/A"}},{"$f":"VLOOKUP(H60,Results!$A$8:$G$60,7,FALSE)","v":{"$error":"#N/A"}},{"$f":"VLOOKUP(H60,$B$4:B60,1,FALSE)","v":{"$error":"#N/A"}}]
[null,{"$f":"Results!A64","v":0},{"$f":"Results!C64","v":0},{"$f":"Results!B64","v":0},{"$f":"Results!D64","v":0},{"$f":"Results!G64","v":0},"- vs -",{"$f":"VLOOKUP(B61,Results!$A$8:$AG$60,30,FALSE)","v":{"$error":"#N/A"}},{"$f":"VLOOKUP(H61,Results!A$8:$G$60,3,FALSE)","v":{"$error":"#N/A"}},{"$f":"VLOOKUP(H61,Results!$A$8:$G$60,2,FALSE)","v":{"$error":"#N/A"}},{"$f":"VLOOKUP(H61,Results!$A$8:$G$60,4,FALSE)","v":{"$error":"#N/A"}},{"$f":"VLOOKUP(H61,Results!$A$8:$G$60,7,FALSE)","v":{"$error":"#N/A"}},{"$f":"VLOOKUP(H61,$B$4:B61,1,FALSE)","v":{"$error":"#N/A"}}]
[null,{"$f":"Results!A65","v":0},{"$f":"Results!C65","v":0},{"$f":"Results!B65","v":0},{"$f":"Results!D65","v":0},{"$f":"Results!G65","v":0},"- vs -",{"$f":"VLOOKUP(B62,Results!$A$8:$AG$60,30,FALSE)","v":{"$error":"#N/A"}},{"$f":"VLOOKUP(H62,Results!A$8:$G$60,3,FALSE)","v":{"$error":"#N/A"}},{"$f":"VLOOKUP(H62,Results!$A$8:$G$60,2,FALSE)","v":{"$error":"#N/A"}},{"$f":"VLOOKUP(H62,Results!$A$8:$G$60,4,FALSE)","v":{"$error":"#N/A"}},{"$f":"VLOOKUP(H62,Results!$A$8:$G$60,7,FALSE)","v":{"$error":"#N/A"}},{"$f":"VLOOKUP(H62,$B$4:B62,1,FALSE)","v":{"$error":"#N/A"}}]
[null,{"$f":"Results!A66","v":0},{"$f":"Results!C66","v":0},{"$f":"Results!B66","v":0},{"$f":"Results!D66","v":0},{"$f":"Results!G66","v":0},"- vs -",{"$f":"VLOOKUP(B63,Results!$A$8:$AG$60,30,FALSE)","v":{"$error":"#N/A"}},{"$f":"VLOOKUP(H63,Results!A$8:$G$60,3,FALSE)","v":{"$error":"#N/A"}},{"$f":"VLOOKUP(H63,Results!$A$8:$G$60,2,FALSE)","v":{"$error":"#N/A"}},{"$f":"VLOOKUP(H63,Results!$A$8:$G$60,4,FALSE)","v":{"$error":"#N/A"}},{"$f":"VLOOKUP(H63,Results!$A$8:$G$60,7,FALSE)","v":{"$error":"#N/A"}},{"$f":"VLOOKUP(H63,$B$4:B63,1,FALSE)","v":{"$error":"#N/A"}}]

{"sheet":"Round 5","index":13,"n_rows":63,"n_cols":13,"rows_kept":63}
[null,null,"First Name","Surname","Club",{"$nulls":3},"First Name","Surname","Club"]
["Round 5 Draw",null,{"$f":"Results!B3","v":0}]
[null,null,{"$f":"Results!B4","v":"Open Theme"}]
[{"$nulls":12},"VALID?"]
[null,{"$f":"Results!A8","v":1},{"$f":"Results!C8","v":0},{"$f":"Results!B8","v":"Team 1 A"},{"$f":"Results!D8","v":0},{"$f":"Results!G8","v":""},"- vs -",{"$f":"VLOOKUP(B5,Results!$A$8:AK59,37,FALSE)","v":0},{"$f":"VLOOKUP(H5,Results!A$8:G60,3,FALSE)","v":{"$error":"#N/A"}},{"$f":"VLOOKUP(H5,Results!$A$8:G60,2,FALSE)","v":{"$error":"#N/A"}},{"$f":"VLOOKUP(H5,Results!$A$8:G60,4,FALSE)","v":{"$error":"#N/A"}},{"$f":"VLOOKUP(H5,Results!$A$8:G60,7,FALSE)","v":{"$error":"#N/A"}},{"$f":"VLOOKUP(H5,$B$4:B5,1,FALSE)","v":{"$error":"#N/A"}}]
[null,{"$f":"Results!A9","v":2},{"$f":"Results!C9","v":0},{"$f":"Results!B9","v":"Team 1 B"},{"$f":"Results!D9","v":0},{"$f":"Results!G9","v":""},"- vs -",{"$f":"VLOOKUP(B6,Results!$A$8:AK60,37,FALSE)","v":0},{"$f":"VLOOKUP(H6,Results!A$8:G61,3,FALSE)","v":{"$error":"#N/A"}},{"$f":"VLOOKUP(H6,Results!$A$8:G61,2,FALSE)","v":{"$error":"#N/A"}},{"$f":"VLOOKUP(H6,Results!$A$8:G61,4,FALSE)","v":{"$error":"#N/A"}},{"$f":"VLOOKUP(H6,Results!$A$8:G61,7,FALSE)","v":{"$error":"#N/A"}},{"$f":"VLOOKUP(H6,$B$4:B6,1,FALSE)","v":{"$error":"#N/A"}}]
[null,{"$f":"Results!A10","v":3},{"$f":"Results!C10","v":0},{"$f":"Results!B10","v":"Team 1 C"},{"$f":"Results!D10","v":0},{"$f":"Results!G10","v":""},"- vs -",{"$f":"VLOOKUP(B7,Results!$A$8:AK61,37,FALSE)","v":0},{"$f":"VLOOKUP(H7,Results!A$8:G62,3,FALSE)","v":{"$error":"#N/A"}},{"$f":"VLOOKUP(H7,Results!$A$8:G62,2,FALSE)","v":{"$error":"#N/A"}},{"$f":"VLOOKUP(H7,Results!$A$8:G62,4,FALSE)","v":{"$error":"#N/A"}},{"$f":"VLOOKUP(H7,Results!$A$8:G62,7,FALSE)","v":{"$error":"#N/A"}},{"$f":"VLOOKUP(H7,$B$4:B7,1,FALSE)","v":{"$error":"#N/A"}}]
[null,{"$f":"Results!A11","v":4},{"$f":"Results!C11","v":0},{"$f":"Results!B11","v":"Team 2 A"},{"$f":"Results!D11","v":0},{"$f":"Results!G11","v":""},"- vs -",{"$f":"VLOOKUP(B8,Results!$A$8:AK62,37,FALSE)","v":0},{"$f":"VLOOKUP(H8,Results!A$8:G63,3,FALSE)","v":{"$error":"#N/A"}},{"$f":"VLOOKUP(H8,Results!$A$8:G63,2,FALSE)","v":{"$error":"#N/A"}},{"$f":"VLOOKUP(H8,Results!$A$8:G63,4,FALSE)","v":{"$error":"#N/A"}},{"$f":"VLOOKUP(H8,Results!$A$8:G63,7,FALSE)","v":{"$error":"#N/A"}},{"$f":"VLOOKUP(H8,$B$4:B8,1,FALSE)","v":{"$error":"#N/A"}}]
[null,{"$f":"Results!A12","v":5},{"$f":"Results!C12","v":0},{"$f":"Results!B12","v":"Team 2 B"},{"$f":"Results!D12","v":0},{"$f":"Results!G12","v":""},"- vs -",{"$f":"VLOOKUP(B9,Results!$A$8:AK63,37,FALSE)","v":0},{"$f":"VLOOKUP(H9,Results!A$8:G64,3,FALSE)","v":{"$error":"#N/A"}},{"$f":"VLOOKUP(H9,Results!$A$8:G64,2,FALSE)","v":{"$error":"#N/A"}},{"$f":"VLOOKUP(H9,Results!$A$8:G64,4,FALSE)","v":{"$error":"#N/A"}},{"$f":"VLOOKUP(H9,Results!$A$8:G64,7,FALSE)","v":{"$error":"#N/A"}},{"$f":"VLOOKUP(H9,$B$4:B9,1,FALSE)","v":{"$error":"#N/A"}}]
[null,{"$f":"Results!A13","v":6},{"$f":"Results!C13","v":0},{"$f":"Results!B13","v":"Team 2 C"},{"$f":"Results!D13","v":0},{"$f":"Results!G13","v":""},"- vs -",{"$f":"VLOOKUP(B10,Results!$A$8:AK64,37,FALSE)","v":0},{"$f":"VLOOKUP(H10,Results!A$8:G65,3,FALSE)","v":{"$error":"#N/A"}},{"$f":"VLOOKUP(H10,Results!$A$8:G65,2,FALSE)","v":{"$error":"#N/A"}},{"$f":"VLOOKUP(H10,Results!$A$8:G65,4,FALSE)","v":{"$error":"#N/A"}},{"$f":"VLOOKUP(H10,Results!$A$8:G65,7,FALSE)","v":{"$error":"#N/A"}},{"$f":"VLOOKUP(H10,$B$4:B10,1,FALSE)","v":{"$error":"#N/A"}}]
[null,{"$f":"Results!A14","v":7},{"$f":"Results!C14","v":0},{"$f":"Results!B14","v":"Team 3 A"},{"$f":"Results!D14","v":0},{"$f":"Results!G14","v":""},"- vs -",{"$f":"VLOOKUP(B11,Results!$A$8:AK65,37,FALSE)","v":0},{"$f":"VLOOKUP(H11,Results!A$8:G66,3,FALSE)","v":{"$error":"#N/A"}},{"$f":"VLOOKUP(H11,Results!$A$8:G66,2,FALSE)","v":{"$error":"#N/A"}},{"$f":"VLOOKUP(H11,Results!$A$8:G66,4,FALSE)","v":{"$error":"#N/A"}},{"$f":"VLOOKUP(H11,Results!$A$8:G66,7,FALSE)","v":{"$error":"#N/A"}},{"$f":"VLOOKUP(H11,$B$4:B11,1,FALSE)","v":{"$error":"#N/A"}}]
[null,{"$f":"Results!A15","v":8},{"$f":"Results!C15","v":0},{"$f":"Results!B15","v":"Team 3 B"},{"$f":"Results!D15","v":0},{"$f":"Results!G15","v":""},"- vs -",{"$f":"VLOOKUP(B12,Results!$A$8:AK66,37,FALSE)","v":0},{"$f":"VLOOKUP(H12,Results!A$8:G67,3,FALSE)","v":{"$error":"#N/A"}},{"$f":"VLOOKUP(H12,Results!$A$8:G67,2,FALSE)","v":{"$error":"#N/A"}},{"$f":"VLOOKUP(H12,Results!$A$8:G67,4,FALSE)","v":{"$error":"#N/A"}},{"$f":"VLOOKUP(H12,Results!$A$8:G67,7,FALSE)","v":{"$error":"#N/A"}},{"$f":"VLOOKUP(H12,$B$4:B12,1,FALSE)","v":{"$error":"#N/A"}}]
[null,{"$f":"Results!A16","v":9},{"$f":"Results!C16","v":0},{"$f":"Results!B16","v":"Team 3 C"},{"$f":"Results!D16","v":0},{"$f":"Results!G16","v":""},"- vs -",{"$f":"VLOOKUP(B13,Results!$A$8:AK67,37,FALSE)","v":0},{"$f":"VLOOKUP(H13,Results!A$8:G68,3,FALSE)","v":{"$error":"#N/A"}},{"$f":"VLOOKUP(H13,Results!$A$8:G68,2,FALSE)","v":{"$error":"#N/A"}},{"$f":"VLOOKUP(H13,Results!$A$8:G68,4,FALSE)","v":{"$error":"#N/A"}},{"$f":"VLOOKUP(H13,Results!$A$8:G68,7,FALSE)","v":{"$error":"#N/A"}},{"$f":"VLOOKUP(H13,$B$4:B13,1,FALSE)","v":{"$error":"#N/A"}}]
[null,{"$f":"Results!A17","v":10},{"$f":"Results!C17","v":0},{"$f":"Results!B17","v":"Team 4 A"},{"$f":"Results!D17","v":0},{"$f":"Results!G17","v":""},"- vs -",{"$f":"VLOOKUP(B14,Results!$A$8:AK68,37,FALSE)","v":0},{"$f":"VLOOKUP(H14,Results!A$8:G69,3,FALSE)","v":{"$error":"#N/A"}},{"$f":"VLOOKUP(H14,Results!$A$8:G69,2,FALSE)","v":{"$error":"#N/A"}},{"$f":"VLOOKUP(H14,Results!$A$8:G69,4,FALSE)","v":{"$error":"#N/A"}},{"$f":"VLOOKUP(H14,Results!$A$8:G69,7,FALSE)","v":{"$error":"#N/A"}},{"$f":"VLOOKUP(H14,$B$4:B14,1,FALSE)","v":{"$error":"#N/A"}}]
[null,{"$f":"Results!A18","v":11},{"$f":"Results!C18","v":0},{"$f":"Results!B18","v":"Team 4 B"},{"$f":"Results!D18","v":0},{"$f":"Results!G18","v":""},"- vs -",{"$f":"VLOOKUP(B15,Results!$A$8:AK69,37,FALSE)","v":0},{"$f":"VLOOKUP(H15,Results!A$8:G70,3,FALSE)","v":{"$error":"#N/A"}},{"$f":"VLOOKUP(H15,Results!$A$8:G70,2,FALSE)","v":{"$error":"#N/A"}},{"$f":"VLOOKUP(H15,Results!$A$8:G70,4,FALSE)","v":{"$error":"#N/A"}},{"$f":"VLOOKUP(H15,Results!$A$8:G70,7,FALSE)","v":{"$error":"#N/A"}},{"$f":"VLOOKUP(H15,$B$4:B15,1,FALSE)","v":{"$error":"#N/A"}}]
[null,{"$f":"Results!A19","v":12},{"$f":"Results!C19","v":0},{"$f":"Results!B19","v":"Team 4 C"},{"$f":"Results!D19","v":0},{"$f":"Results!G19","v":""},"- vs -",{"$f":"VLOOKUP(B16,Results!$A$8:AK70,37,FALSE)","v":0},{"$f":"VLOOKUP(H16,Results!A$8:G71,3,FALSE)","v":{"$error":"#N/A"}},{"$f":"VLOOKUP(H16,Results!$A$8:G71,2,FALSE)","v":{"$error":"#N/A"}},{"$f":"VLOOKUP(H16,Results!$A$8:G71,4,FALSE)","v":{"$error":"#N/A"}},{"$f":"VLOOKUP(H16,Results!$A$8:G71,7,FALSE)","v":{"$error":"#N/A"}},{"$f":"VLOOKUP(H16,$B$4:B16,1,FALSE)","v":{"$error":"#N/A"}}]
[null,{"$f":"Results!A20","v":13},{"$f":"Results!C20","v":0},{"$f":"Results!B20","v":"Team 5 A"},{"$f":"Results!D20","v":0},{"$f":"Results!G20","v":""},"- vs -",{"$f":"VLOOKUP(B17,Results!$A$8:AK71,37,FALSE)","v":0},{"$f":"VLOOKUP(H17,Results!A$8:G72,3,FALSE)","v":{"$error":"#N/A"}},{"$f":"VLOOKUP(H17,Results!$A$8:G72,2,FALSE)","v":{"$error":"#N/A"}},{"$f":"VLOOKUP(H17,Results!$A$8:G72,4,FALSE)","v":{"$error":"#N/A"}},{"$f":"VLOOKUP(H17,Results!$A$8:G72,7,FALSE)","v":{"$error":"#N/A"}},{"$f":"VLOOKUP(H17,$B$4:B17,1,FALSE)","v":{"$error":"#N/A"}}]
[null,{"$f":"Results!A21","v":14},{"$f":"Results!C21","v":0},{"$f":"Results!B21","v":"Team 5 B"},{"$f":"Results!D21","v":0},{"$f":"Results!G21","v":""},"- vs -",{"$f":"VLOOKUP(B18,Results!$A$8:AK72,37,FALSE)","v":0},{"$f":"VLOOKUP(H18,Results!A$8:G73,3,FALSE)","v":{"$error":"#N/A"}},{"$f":"VLOOKUP(H18,Results!$A$8:G73,2,FALSE)","v":{"$error":"#N/A"}},{"$f":"VLOOKUP(H18,Results!$A$8:G73,4,FALSE)","v":{"$error":"#N/A"}},{"$f":"VLOOKUP(H18,Results!$A$8:G73,7,FALSE)","v":{"$error":"#N/A"}},{"$f":"VLOOKUP(H18,$B$4:B18,1,FALSE)","v":{"$error":"#N/A"}}]
[null,{"$f":"Results!A22","v":15},{"$f":"Results!C22","v":0},{"$f":"Results!B22","v":"Team 5 C"},{"$f":"Results!D22","v":0},{"$f":"Results!G22","v":""},"- vs -",{"$f":"VLOOKUP(B19,Results!$A$8:AK73,37,FALSE)","v":0},{"$f":"VLOOKUP(H19,Results!A$8:G74,3,FALSE)","v":{"$error":"#N/A"}},{"$f":"VLOOKUP(H19,Results!$A$8:G74,2,FALSE)","v":{"$error":"#N/A"}},{"$f":"VLOOKUP(H19,Results!$A$8:G74,4,FALSE)","v":{"$error":"#N/A"}},{"$f":"VLOOKUP(H19,Results!$A$8:G74,7,FALSE)","v":{"$error":"#N/A"}},{"$f":"VLOOKUP(H19,$B$4:B19,1,FALSE)","v":{"$error":"#N/A"}}]
[null,{"$f":"Results!A23","v":16},{"$f":"Results!C23","v":0},{"$f":"Results!B23","v":"Team 6 A"},{"$f":"Results!D23","v":0},{"$f":"Results!G23","v":""},"- vs -",{"$f":"VLOOKUP(B20,Results!$A$8:AK74,37,FALSE)","v":0},{"$f":"VLOOKUP(H20,Results!A$8:G75,3,FALSE)","v":{"$error":"#N/A"}},{"$f":"VLOOKUP(H20,Results!$A$8:G75,2,FALSE)","v":{"$error":"#N/A"}},{"$f":"VLOOKUP(H20,Results!$A$8:G75,4,FALSE)","v":{"$error":"#N/A"}},{"$f":"VLOOKUP(H20,Results!$A$8:G75,7,FALSE)","v":{"$error":"#N/A"}},{"$f":"VLOOKUP(H20,$B$4:B20,1,FALSE)","v":{"$error":"#N/A"}}]
[null,{"$f":"Results!A24","v":17},{"$f":"Results!C24","v":0},{"$f":"Results!B24","v":"Team 6 B"},{"$f":"Results!D24","v":0},{"$f":"Results!G24","v":""},"- vs -",{"$f":"VLOOKUP(B21,Results!$A$8:AK75,37,FALSE)","v":0},{"$f":"VLOOKUP(H21,Results!A$8:G76,3,FALSE)","v":{"$error":"#N/A"}},{"$f":"VLOOKUP(H21,Results!$A$8:G76,2,FALSE)","v":{"$error":"#N/A"}},{"$f":"VLOOKUP(H21,Results!$A$8:G76,4,FALSE)","v":{"$error":"#N/A"}},{"$f":"VLOOKUP(H21,Results!$A$8:G76,7,FALSE)","v":{"$error":"#N/A"}},{"$f":"VLOOKUP(H21,$B$4:B21,1,FALSE)","v":{"$error":"#N/A"}}]
[null,{"$f":"Results!A25","v":18},{"$f":"Results!C25","v":0},{"$f":"Results!B25","v":"Team 6 C"},{"$f":"Results!D25","v":0},{"$f":"Results!G25","v":""},"- vs -",{"$f":"VLOOKUP(B22,Results!$A$8:AK76,37,FALSE)","v":0},{"$f":"VLOOKUP(H22,Results!A$8:G77,3,FALSE)","v":{"$error":"#N/A"}},{"$f":"VLOOKUP(H22,Results!$A$8:G77,2,FALSE)","v":{"$error":"#N/A"}},{"$f":"VLOOKUP(H22,Results!$A$8:G77,4,FALSE)","v":{"$error":"#N/A"}},{"$f":"VLOOKUP(H22,Results!$A$8:G77,7,FALSE)","v":{"$error":"#N/A"}},{"$f":"VLOOKUP(H22,$B$4:B22,1,FALSE)","v":{"$error":"#N/A"}}]
[null,{"$f":"Results!A26","v":0},{"$f":"Results!C26","v":0},{"$f":"Results!B26","v":0},{"$f":"Results!D26","v":0},{"$f":"Results!G26","v":""},"- vs -",{"$f":"VLOOKUP(B23,Results!$A$8:AK77,37,FALSE)","v":{"$error":"#N/A"}},{"$f":"VLOOKUP(H23,Results!A$8:G78,3,FALSE)","v":{"$error":"#N/A"}},{"$f":"VLOOKUP(H23,Results!$A$8:G78,2,FALSE)","v":{"$error":"#N/A"}},{"$f":"VLOOKUP(H23,Results!$A$8:G78,4,FALSE)","v":{"$error":"#N/A"}},{"$f":"VLOOKUP(H23,Results!$A$8:G78,7,FALSE)","v":{"$error":"#N/A"}},{"$f":"VLOOKUP(H23,$B$4:B23,1,FALSE)","v":{"$error":"#N/A"}}]
[null,{"$f":"Results!A27","v":0},{"$f":"Results!C27","v":0},{"$f":"Results!B27","v":0},{"$f":"Results!D27","v":0},{"$f":"Results!G27","v":""},"- vs -",{"$f":"VLOOKUP(B24,Results!$A$8:AK78,37,FALSE)","v":{"$error":"#N/A"}},{"$f":"VLOOKUP(H24,Results!A$8:G79,3,FALSE)","v":{"$error":"#N/A"}},{"$f":"VLOOKUP(H24,Results!$A$8:G79,2,FALSE)","v":{"$error":"#N/A"}},{"$f":"VLOOKUP(H24,Results!$A$8:G79,4,FALSE)","v":{"$error":"#N/A"}},{"$f":"VLOOKUP(H24,Results!$A$8:G79,7,FALSE)","v":{"$error":"#N/A"}},{"$f":"VLOOKUP(H24,$B$4:B24,1,FALSE)","v":{"$error":"#N/A"}}]
[null,{"$f":"Results!A28","v":0},{"$f":"Results!C28","v":0},{"$f":"Results!B28","v":0},{"$f":"Results!D28","v":0},{"$f":"Results!G28","v":""},"- vs -",{"$f":"VLOOKUP(B25,Results!$A$8:AK79,37,FALSE)","v":{"$error":"#N/A"}},{"$f":"VLOOKUP(H25,Results!A$8:G80,3,FALSE)","v":{"$error":"#N/A"}},{"$f":"VLOOKUP(H25,Results!$A$8:G80,2,FALSE)","v":{"$error":"#N/A"}},{"$f":"VLOOKUP(H25,Results!$A$8:G80,4,FALSE)","v":{"$error":"#N/A"}},{"$f":"VLOOKUP(H25,Results!$A$8:G80,7,FALSE)","v":{"$error":"#N/A"}},{"$f":"VLOOKUP(H25,$B$4:B25,1,FALSE)","v":{"$error":"#N/A"}}]
[null,{"$f":"Results!A29","v":0},{"$f":"Results!C29","v":0},{"$f":"Results!B29","v":0},{"$f":"Results!D29","v":0},{"$f":"Results!G29","v":""},"- vs -",{"$f":"VLOOKUP(B26,Results!$A$8:AK80,37,FALSE)","v":{"$error":"#N/A"}},{"$f":"VLOOKUP(H26,Results!A$8:G81,3,FALSE)","v":{"$error":"#N/A"}},{"$f":"VLOOKUP(H26,Results!$A$8:G81,2,FALSE)","v":{"$error":"#N/A"}},{"$f":"VLOOKUP(H26,Results!$A$8:G81,4,FALSE)","v":{"$error":"#N/A"}},{"$f":"VLOOKUP(H26,Results!$A$8:G81,7,FALSE)","v":{"$error":"#N/A"}},{"$f":"VLOOKUP(H26,$B$4:B26,1,FALSE)","v":{"$error":"#N/A"}}]
[null,{"$f":"Results!A30","v":0},{"$f":"Results!C30","v":0},{"$f":"Results!B30","v":0},{"$f":"Results!D30","v":0},{"$f":"Results!G30","v":""},"- vs -",{"$f":"VLOOKUP(B27,Results!$A$8:AK81,37,FALSE)","v":{"$error":"#N/A"}},{"$f":"VLOOKUP(H27,Results!A$8:G82,3,FALSE)","v":{"$error":"#N/A"}},{"$f":"VLOOKUP(H27,Results!$A$8:G82,2,FALSE)","v":{"$error":"#N/A"}},{"$f":"VLOOKUP(H27,Results!$A$8:G82,4,FALSE)","v":{"$error":"#N/A"}},{"$f":"VLOOKUP(H27,Results!$A$8:G82,7,FALSE)","v":{"$error":"#N/A"}},{"$f":"VLOOKUP(H27,$B$4:B27,1,FALSE)","v":{"$error":"#N/A"}}]
[null,{"$f":"Results!A31","v":0},{"$f":"Results!C31","v":0},{"$f":"Results!B31","v":0},{"$f":"Results!D31","v":0},{"$f":"Results!G31","v":""},"- vs -",{"$f":"VLOOKUP(B28,Results!$A$8:AK82,37,FALSE)","v":{"$error":"#N/A"}},{"$f":"VLOOKUP(H28,Results!A$8:G83,3,FALSE)","v":{"$error":"#N/A"}},{"$f":"VLOOKUP(H28,Results!$A$8:G83,2,FALSE)","v":{"$error":"#N/A"}},{"$f":"VLOOKUP(H28,Results!$A$8:G83,4,FALSE)","v":{"$error":"#N/A"}},{"$f":"VLOOKUP(H28,Results!$A$8:G83,7,FALSE)","v":{"$error":"#N/A"}},{"$f":"VLOOKUP(H28,$B$4:B28,1,FALSE)","v":{"$error":"#N/A"}}]
[null,{"$f":"Results!A32","v":0},{"$f":"Results!C32","v":0},{"$f":"Results!B32","v":0},{"$f":"Results!D32","v":0},{"$f":"Results!G32","v":""},"- vs -",{"$f":"VLOOKUP(B29,Results!$A$8:AK83,37,FALSE)","v":{"$error":"#N/A"}},{"$f":"VLOOKUP(H29,Results!A$8:G84,3,FALSE)","v":{"$error":"#N/A"}},{"$f":"VLOOKUP(H29,Results!$A$8:G84,2,FALSE)","v":{"$error":"#N/A"}},{"$f":"VLOOKUP(H29,Results!$A$8:G84,4,FALSE)","v":{"$error":"#N/A"}},{"$f":"VLOOKUP(H29,Results!$A$8:G84,7,FALSE)","v":{"$error":"#N/A"}},{"$f":"VLOOKUP(H29,$B$4:B29,1,FALSE)","v":{"$error":"#N/A"}}]
[null,{"$f":"Results!A33","v":0},{"$f":"Results!C33","v":0},{"$f":"Results!B33","v":0},{"$f":"Results!D33","v":0},{"$f":"Results!G33","v":""},"- vs -",{"$f":"VLOOKUP(B30,Results!$A$8:AK84,37,FALSE)","v":{"$error":"#N/A"}},{"$f":"VLOOKUP(H30,Results!A$8:G85,3,FALSE)","v":{"$error":"#N/A"}},{"$f":"VLOOKUP(H30,Results!$A$8:G85,2,FALSE)","v":{"$error":"#N/A"}},{"$f":"VLOOKUP(H30,Results!$A$8:G85,4,FALSE)","v":{"$error":"#N/A"}},{"$f":"VLOOKUP(H30,Results!$A$8:G85,7,FALSE)","v":{"$error":"#N/A"}},{"$f":"VLOOKUP(H30,$B$4:B30,1,FALSE)","v":{"$error":"#N/A"}}]
[null,{"$f":"Results!A34","v":0},{"$f":"Results!C34","v":0},{"$f":"Results!B34","v":0},{"$f":"Results!D34","v":0},{"$f":"Results!G34","v":""},"- vs -",{"$f":"VLOOKUP(B31,Results!$A$8:AK85,37,FALSE)","v":{"$error":"#N/A"}},{"$f":"VLOOKUP(H31,Results!A$8:G86,3,FALSE)","v":{"$error":"#N/A"}},{"$f":"VLOOKUP(H31,Results!$A$8:G86,2,FALSE)","v":{"$error":"#N/A"}},{"$f":"VLOOKUP(H31,Results!$A$8:G86,4,FALSE)","v":{"$error":"#N/A"}},{"$f":"VLOOKUP(H31,Results!$A$8:G86,7,FALSE)","v":{"$error":"#N/A"}},{"$f":"VLOOKUP(H31,$B$4:B31,1,FALSE)","v":{"$error":"#N/A"}}]
[null,{"$f":"Results!A35","v":0},{"$f":"Results!C35","v":0},{"$f":"Results!B35","v":0},{"$f":"Results!D35","v":0},{"$f":"Results!G35","v":""},"- vs -",{"$f":"VLOOKUP(B32,Results!$A$8:AK86,37,FALSE)","v":{"$error":"#N/A"}},{"$f":"VLOOKUP(H32,Results!A$8:G87,3,FALSE)","v":{"$error":"#N/A"}},{"$f":"VLOOKUP(H32,Results!$A$8:G87,2,FALSE)","v":{"$error":"#N/A"}},{"$f":"VLOOKUP(H32,Results!$A$8:G87,4,FALSE)","v":{"$error":"#N/A"}},{"$f":"VLOOKUP(H32,Results!$A$8:G87,7,FALSE)","v":{"$error":"#N/A"}},{"$f":"VLOOKUP(H32,$B$4:B32,1,FALSE)","v":{"$error":"#N/A"}}]
[null,{"$f":"Results!A36","v":0},{"$f":"Results!C36","v":0},{"$f":"Results!B36","v":0},{"$f":"Results!D36","v":0},{"$f":"Results!G36","v":""},"- vs -",{"$f":"VLOOKUP(B33,Results!$A$8:AK87,37,FALSE)","v":{"$error":"#N/A"}},{"$f":"VLOOKUP(H33,Results!A$8:G88,3,FALSE)","v":{"$error":"#N/A"}},{"$f":"VLOOKUP(H33,Results!$A$8:G88,2,FALSE)","v":{"$error":"#N/A"}},{"$f":"VLOOKUP(H33,Results!$A$8:G88,4,FALSE)","v":{"$error":"#N/A"}},{"$f":"VLOOKUP(H33,Results!$A$8:G88,7,FALSE)","v":{"$error":"#N/A"}},{"$f":"VLOOKUP(H33,$B$4:B33,1,FALSE)","v":{"$error":"#N/A"}}]
[null,{"$f":"Results!A37","v":0},{"$f":"Results!C37","v":0},{"$f":"Results!B37","v":0},{"$f":"Results!D37","v":0},{"$f":"Results!G37","v":""},"- vs -",{"$f":"VLOOKUP(B34,Results!$A$8:AK88,37,FALSE)","v":{"$error":"#N/A"}},{"$f":"VLOOKUP(H34,Results!A$8:G89,3,FALSE)","v":{"$error":"#N/A"}},{"$f":"VLOOKUP(H34,Results!$A$8:G89,2,FALSE)","v":{"$error":"#N/A"}},{"$f":"VLOOKUP(H34,Results!$A$8:G89,4,FALSE)","v":{"$error":"#N/A"}},{"$f":"VLOOKUP(H34,Results!$A$8:G89,7,FALSE)","v":{"$error":"#N/A"}},{"$f":"VLOOKUP(H34,$B$4:B34,1,FALSE)","v":{"$error":"#N/A"}}]
[null,{"$f":"Results!A38","v":0},{"$f":"Results!C38","v":0},{"$f":"Results!B38","v":0},{"$f":"Results!D38","v":0},{"$f":"Results!G38","v":""},"- vs -",{"$f":"VLOOKUP(B35,Results!$A$8:AK89,37,FALSE)","v":{"$error":"#N/A"}},{"$f":"VLOOKUP(H35,Results!A$8:G90,3,FALSE)","v":{"$error":"#N/A"}},{"$f":"VLOOKUP(H35,Results!$A$8:G90,2,FALSE)","v":{"$error":"#N/A"}},{"$f":"VLOOKUP(H35,Results!$A$8:G90,4,FALSE)","v":{"$error":"#N/A"}},{"$f":"VLOOKUP(H35,Results!$A$8:G90,7,FALSE)","v":{"$error":"#N/A"}},{"$f":"VLOOKUP(H35,$B$4:B35,1,FALSE)","v":{"$error":"#N/A"}}]
[null,{"$f":"Results!A39","v":0},{"$f":"Results!C39","v":0},{"$f":"Results!B39","v":0},{"$f":"Results!D39","v":0},{"$f":"Results!G39","v":""},"- vs -",{"$f":"VLOOKUP(B36,Results!$A$8:AK90,37,FALSE)","v":{"$error":"#N/A"}},{"$f":"VLOOKUP(H36,Results!A$8:G91,3,FALSE)","v":{"$error":"#N/A"}},{"$f":"VLOOKUP(H36,Results!$A$8:G91,2,FALSE)","v":{"$error":"#N/A"}},{"$f":"VLOOKUP(H36,Results!$A$8:G91,4,FALSE)","v":{"$error":"#N/A"}},{"$f":"VLOOKUP(H36,Results!$A$8:G91,7,FALSE)","v":{"$error":"#N/A"}},{"$f":"VLOOKUP(H36,$B$4:B36,1,FALSE)","v":{"$error":"#N/A"}}]
[null,{"$f":"Results!A40","v":0},{"$f":"Results!C40","v":0},{"$f":"Results!B40","v":0},{"$f":"Results!D40","v":0},{"$f":"Results!G40","v":""},"- vs -",{"$f":"VLOOKUP(B37,Results!$A$8:AK91,37,FALSE)","v":{"$error":"#N/A"}},{"$f":"VLOOKUP(H37,Results!A$8:G92,3,FALSE)","v":{"$error":"#N/A"}},{"$f":"VLOOKUP(H37,Results!$A$8:G92,2,FALSE)","v":{"$error":"#N/A"}},{"$f":"VLOOKUP(H37,Results!$A$8:G92,4,FALSE)","v":{"$error":"#N/A"}},{"$f":"VLOOKUP(H37,Results!$A$8:G92,7,FALSE)","v":{"$error":"#N/A"}},{"$f":"VLOOKUP(H37,$B$4:B37,1,FALSE)","v":{"$error":"#N/A"}}]
[null,{"$f":"Results!A41","v":0},{"$f":"Results!C41","v":0},{"$f":"Results!B41","v":0},{"$f":"Results!D41","v":0},{"$f":"Results!G41","v":""},"- vs -",{"$f":"VLOOKUP(B38,Results!$A$8:AK92,37,FALSE)","v":{"$error":"#N/A"}},{"$f":"VLOOKUP(H38,Results!A$8:G93,3,FALSE)","v":{"$error":"#N/A"}},{"$f":"VLOOKUP(H38,Results!$A$8:G93,2,FALSE)","v":{"$error":"#N/A"}},{"$f":"VLOOKUP(H38,Results!$A$8:G93,4,FALSE)","v":{"$error":"#N/A"}},{"$f":"VLOOKUP(H38,Results!$A$8:G93,7,FALSE)","v":{"$error":"#N/A"}},{"$f":"VLOOKUP(H38,$B$4:B38,1,FALSE)","v":{"$error":"#N/A"}}]
[null,{"$f":"Results!A42","v":0},{"$f":"Results!C42","v":0},{"$f":"Results!B42","v":0},{"$f":"Results!D42","v":0},{"$f":"Results!G42","v":""},"- vs -",{"$f":"VLOOKUP(B39,Results!$A$8:AK93,37,FALSE)","v":{"$error":"#N/A"}},{"$f":"VLOOKUP(H39,Results!A$8:G94,3,FALSE)","v":{"$error":"#N/A"}},{"$f":"VLOOKUP(H39,Results!$A$8:G94,2,FALSE)","v":{"$error":"#N/A"}},{"$f":"VLOOKUP(H39,Results!$A$8:G94,4,FALSE)","v":{"$error":"#N/A"}},{"$f":"VLOOKUP(H39,Results!$A$8:G94,7,FALSE)","v":{"$error":"#N/A"}},{"$f":"VLOOKUP(H39,$B$4:B39,1,FALSE)","v":{"$error":"#N/A"}}]
[null,{"$f":"Results!A43","v":0},{"$f":"Results!C43","v":0},{"$f":"Results!B43","v":0},{"$f":"Results!D43","v":0},{"$f":"Results!G43","v":""},"- vs -",{"$f":"VLOOKUP(B40,Results!$A$8:AK94,37,FALSE)","v":{"$error":"#N/A"}},{"$f":"VLOOKUP(H40,Results!A$8:G95,3,FALSE)","v":{"$error":"#N/A"}},{"$f":"VLOOKUP(H40,Results!$A$8:G95,2,FALSE)","v":{"$error":"#N/A"}},{"$f":"VLOOKUP(H40,Results!$A$8:G95,4,FALSE)","v":{"$error":"#N/A"}},{"$f":"VLOOKUP(H40,Results!$A$8:G95,7,FALSE)","v":{"$error":"#N/A"}},{"$f":"VLOOKUP(H40,$B$4:B40,1,FALSE)","v":{"$error":"#N/A"}}]
[null,{"$f":"Results!A44","v":0},{"$f":"Results!C44","v":0},{"$f":"Results!B44","v":0},{"$f":"Results!D44","v":0},{"$f":"Results!G44","v":""},"- vs -",{"$f":"VLOOKUP(B41,Results!$A$8:AK95,37,FALSE)","v":{"$error":"#N/A"}},{"$f":"VLOOKUP(H41,Results!A$8:G96,3,FALSE)","v":{"$error":"#N/A"}},{"$f":"VLOOKUP(H41,Results!$A$8:G96,2,FALSE)","v":{"$error":"#N/A"}},{"$f":"VLOOKUP(H41,Results!$A$8:G96,4,FALSE)","v":{"$error":"#N/A"}},{"$f":"VLOOKUP(H41,Results!$A$8:G96,7,FALSE)","v":{"$error":"#N/A"}},{"$f":"VLOOKUP(H41,$B$4:B41,1,FALSE)","v":{"$error":"#N/A"}}]
[null,{"$f":"Results!A45","v":0},{"$f":"Results!C45","v":0},{"$f":"Results!B45","v":0},{"$f":"Results!D45","v":0},{"$f":"Results!G45","v":""},"- vs -",{"$f":"VLOOKUP(B42,Results!$A$8:AK96,37,FALSE)","v":{"$error":"#N/A"}},{"$f":"VLOOKUP(H42,Results!A$8:G97,3,FALSE)","v":{"$error":"#N/A"}},{"$f":"VLOOKUP(H42,Results!$A$8:G97,2,FALSE)","v":{"$error":"#N/A"}},{"$f":"VLOOKUP(H42,Results!$A$8:G97,4,FALSE)","v":{"$error":"#N/A"}},{"$f":"VLOOKUP(H42,Results!$A$8:G97,7,FALSE)","v":{"$error":"#N/A"}},{"$f":"VLOOKUP(H42,$B$4:B42,1,FALSE)","v":{"$error":"#N/A"}}]
[null,{"$f":"Results!A46","v":0},{"$f":"Results!C46","v":0},{"$f":"Results!B46","v":0},{"$f":"Results!D46","v":0},{"$f":"Results!G46","v":""},"- vs -",{"$f":"VLOOKUP(B43,Results!$A$8:AK97,37,FALSE)","v":{"$error":"#N/A"}},{"$f":"VLOOKUP(H43,Results!A$8:G98,3,FALSE)","v":{"$error":"#N/A"}},{"$f":"VLOOKUP(H43,Results!$A$8:G98,2,FALSE)","v":{"$error":"#N/A"}},{"$f":"VLOOKUP(H43,Results!$A$8:G98,4,FALSE)","v":{"$error":"#N/A"}},{"$f":"VLOOKUP(H43,Results!$A$8:G98,7,FALSE)","v":{"$error":"#N/A"}},{"$f":"VLOOKUP(H43,$B$4:B43,1,FALSE)","v":{"$error":"#N/A"}}]
[null,{"$f":"Results!A47","v":0},{"$f":"Results!C47","v":0},{"$f":"Results!B47","v":0},{"$f":"Results!D47","v":0},{"$f":"Results!G47","v":""},"- vs -",{"$f":"VLOOKUP(B44,Results!$A$8:AK98,37,FALSE)","v":{"$error":"#N/A"}},{"$f":"VLOOKUP(H44,Results!A$8:G99,3,FALSE)","v":{"$error":"#N/A"}},{"$f":"VLOOKUP(H44,Results!$A$8:G99,2,FALSE)","v":{"$error":"#N/A"}},{"$f":"VLOOKUP(H44,Results!$A$8:G99,4,FALSE)","v":{"$error":"#N/A"}},{"$f":"VLOOKUP(H44,Results!$A$8:G99,7,FALSE)","v":{"$error":"#N/A"}},{"$f":"VLOOKUP(H44,$B$4:B44,1,FALSE)","v":{"$error":"#N/A"}}]
[null,{"$f":"Results!A48","v":0},{"$f":"Results!C48","v":0},{"$f":"Results!B48","v":0},{"$f":"Results!D48","v":0},{"$f":"Results!G48","v":""},"- vs -",{"$f":"VLOOKUP(B45,Results!$A$8:AK99,37,FALSE)","v":{"$error":"#N/A"}},{"$f":"VLOOKUP(H45,Results!A$8:G100,3,FALSE)","v":{"$error":"#N/A"}},{"$f":"VLOOKUP(H45,Results!$A$8:G100,2,FALSE)","v":{"$error":"#N/A"}},{"$f":"VLOOKUP(H45,Results!$A$8:G100,4,FALSE)","v":{"$error":"#N/A"}},{"$f":"VLOOKUP(H45,Results!$A$8:G100,7,FALSE)","v":{"$error":"#N/A"}},{"$f":"VLOOKUP(H45,$B$4:B45,1,FALSE)","v":{"$error":"#N/A"}}]
[null,{"$f":"Results!A49","v":0},{"$f":"Results!C49","v":0},{"$f":"Results!B49","v":0},{"$f":"Results!D49","v":0},{"$f":"Results!G49","v":""},"- vs -",{"$f":"VLOOKUP(B46,Results!$A$8:AK100,37,FALSE)","v":{"$error":"#N/A"}},{"$f":"VLOOKUP(H46,Results!A$8:G101,3,FALSE)","v":{"$error":"#N/A"}},{"$f":"VLOOKUP(H46,Results!$A$8:G101,2,FALSE)","v":{"$error":"#N/A"}},{"$f":"VLOOKUP(H46,Results!$A$8:G101,4,FALSE)","v":{"$error":"#N/A"}},{"$f":"VLOOKUP(H46,Results!$A$8:G101,7,FALSE)","v":{"$error":"#N/A"}},{"$f":"VLOOKUP(H46,$B$4:B46,1,FALSE)","v":{"$error":"#N/A"}}]
[null,{"$f":"Results!A50","v":0},{"$f":"Results!C50","v":0},{"$f":"Results!B50","v":0},{"$f":"Results!D50","v":0},{"$f":"Results!G50","v":""},"- vs -",{"$f":"VLOOKUP(B47,Results!$A$8:AK101,37,FALSE)","v":{"$error":"#N/A"}},{"$f":"VLOOKUP(H47,Results!A$8:G102,3,FALSE)","v":{"$error":"#N/A"}},{"$f":"VLOOKUP(H47,Results!$A$8:G102,2,FALSE)","v":{"$error":"#N/A"}},{"$f":"VLOOKUP(H47,Results!$A$8:G102,4,FALSE)","v":{"$error":"#N/A"}},{"$f":"VLOOKUP(H47,Results!$A$8:G102,7,FALSE)","v":{"$error":"#N/A"}},{"$f":"VLOOKUP(H47,$B$4:B47,1,FALSE)","v":{"$error":"#N/A"}}]
[null,{"$f":"Results!A51","v":0},{"$f":"Results!C51","v":0},{"$f":"Results!B51","v":0},{"$f":"Results!D51","v":0},{"$f":"Results!G51","v":""},"- vs -",{"$f":"VLOOKUP(B48,Results!$A$8:AK102,37,FALSE)","v":{"$error":"#N/A"}},{"$f":"VLOOKUP(H48,Results!A$8:G103,3,FALSE)","v":{"$error":"#N/A"}},{"$f":"VLOOKUP(H48,Results!$A$8:G103,2,FALSE)","v":{"$error":"#N/A"}},{"$f":"VLOOKUP(H48,Results!$A$8:G103,4,FALSE)","v":{"$error":"#N/A"}},{"$f":"VLOOKUP(H48,Results!$A$8:G103,7,FALSE)","v":{"$error":"#N/A"}},{"$f":"VLOOKUP(H48,$B$4:B48,1,FALSE)","v":{"$error":"#N/A"}}]
[null,{"$f":"Results!A52","v":0},{"$f":"Results!C52","v":0},{"$f":"Results!B52","v":0},{"$f":"Results!D52","v":0},{"$f":"Results!G52","v":""},"- vs -",{"$f":"VLOOKUP(B49,Results!$A$8:AK103,37,FALSE)","v":{"$error":"#N/A"}},{"$f":"VLOOKUP(H49,Results!A$8:G104,3,FALSE)","v":{"$error":"#N/A"}},{"$f":"VLOOKUP(H49,Results!$A$8:G104,2,FALSE)","v":{"$error":"#N/A"}},{"$f":"VLOOKUP(H49,Results!$A$8:G104,4,FALSE)","v":{"$error":"#N/A"}},{"$f":"VLOOKUP(H49,Results!$A$8:G104,7,FALSE)","v":{"$error":"#N/A"}},{"$f":"VLOOKUP(H49,$B$4:B49,1,FALSE)","v":{"$error":"#N/A"}}]
[null,{"$f":"Results!A53","v":0},{"$f":"Results!C53","v":0},{"$f":"Results!B53","v":0},{"$f":"Results!D53","v":0},{"$f":"Results!G53","v":""},"- vs -",{"$f":"VLOOKUP(B50,Results!$A$8:AK104,37,FALSE)","v":{"$error":"#N/A"}},{"$f":"VLOOKUP(H50,Results!A$8:G105,3,FALSE)","v":{"$error":"#N/A"}},{"$f":"VLOOKUP(H50,Results!$A$8:G105,2,FALSE)","v":{"$error":"#N/A"}},{"$f":"VLOOKUP(H50,Results!$A$8:G105,4,FALSE)","v":{"$error":"#N/A"}},{"$f":"VLOOKUP(H50,Results!$A$8:G105,7,FALSE)","v":{"$error":"#N/A"}},{"$f":"VLOOKUP(H50,$B$4:B50,1,FALSE)","v":{"$error":"#N/A"}}]
[null,{"$f":"Results!A54","v":0},{"$f":"Results!C54","v":0},{"$f":"Results!B54","v":0},{"$f":"Results!D54","v":0},{"$f":"Results!G54","v":""},"- vs -",{"$f":"VLOOKUP(B51,Results!$A$8:AK105,37,FALSE)","v":{"$error":"#N/A"}},{"$f":"VLOOKUP(H51,Results!A$8:G106,3,FALSE)","v":{"$error":"#N/A"}},{"$f":"VLOOKUP(H51,Results!$A$8:G106,2,FALSE)","v":{"$error":"#N/A"}},{"$f":"VLOOKUP(H51,Results!$A$8:G106,4,FALSE)","v":{"$error":"#N/A"}},{"$f":"VLOOKUP(H51,Results!$A$8:G106,7,FALSE)","v":{"$error":"#N/A"}},{"$f":"VLOOKUP(H51,$B$4:B51,1,FALSE)","v":{"$error":"#N/A"}}]
[null,{"$f":"Results!A55","v":0},{"$f":"Results!C55","v":0},{"$f":"Results!B55","v":0},{"$f":"Results!D55","v":0},{"$f":"Results!G55","v":""},"- vs -",{"$f":"VLOOKUP(B52,Results!$A$8:AK106,37,FALSE)","v":{"$error":"#N/A"}},{"$f":"VLOOKUP(H52,Results!A$8:G108,3,FALSE)","v":{"$error":"#N/A"}},{"$f":"VLOOKUP(H52,Results!$A$8:G108,2,FALSE)","v":{"$error":"#N/A"}},{"$f":"VLOOKUP(H52,Results!$A$8:G108,4,FALSE)","v":{"$error":"#N/A"}},{"$f":"VLOOKUP(H52,Results!$A$8:G108,7,FALSE)","v":{"$error":"#N/A"}},{"$f":"VLOOKUP(H52,$B$4:B52,1,FALSE)","v":{"$error":"#N/A"}}]
[null,{"$f":"Results!A56","v":0},{"$f":"Results!C56","v":0},{"$f":"Results!B56","v":0},{"$f":"Results!D56","v":0},{"$f":"Results!G56","v":""},"- vs -",{"$f":"VLOOKUP(B53,Results!$A$8:AK108,37,FALSE)","v":{"$error":"#N/A"}},{"$f":"VLOOKUP(H53,Results!A$8:G109,3,FALSE)","v":{"$error":"#N/A"}},{"$f":"VLOOKUP(H53,Results!$A$8:G109,2,FALSE)","v":{"$error":"#N/A"}},{"$f":"VLOOKUP(H53,Results!$A$8:G109,4,FALSE)","v":{"$error":"#N/A"}},{"$f":"VLOOKUP(H53,Results!$A$8:G109,7,FALSE)","v":{"$error":"#N/A"}},{"$f":"VLOOKUP(H53,$B$4:B53,1,FALSE)","v":{"$error":"#N/A"}}]
[null,{"$f":"Results!A57","v":0},{"$f":"Results!C57","v":0},{"$f":"Results!B57","v":0},{"$f":"Results!D57","v":0},{"$f":"Results!G57","v":""},"- vs -",{"$f":"VLOOKUP(B54,Results!$A$8:AK109,37,FALSE)","v":{"$error":"#N/A"}},{"$f":"VLOOKUP(H54,Results!A$8:G110,3,FALSE)","v":{"$error":"#N/A"}},{"$f":"VLOOKUP(H54,Results!$A$8:G110,2,FALSE)","v":{"$error":"#N/A"}},{"$f":"VLOOKUP(H54,Results!$A$8:G110,4,FALSE)","v":{"$error":"#N/A"}},{"$f":"VLOOKUP(H54,Results!$A$8:G110,7,FALSE)","v":{"$error":"#N/A"}},{"$f":"VLOOKUP(H54,$B$4:B54,1,FALSE)","v":{"$error":"#N/A"}}]
[null,{"$f":"Results!A58","v":0},{"$f":"Results!C58","v":0},{"$f":"Results!B58","v":0},{"$f":"Results!D58","v":0},{"$f":"Results!G58","v":""},"- vs -",{"$f":"VLOOKUP(B55,Results!$A$8:AK110,37,FALSE)","v":{"$error":"#N/A"}},{"$f":"VLOOKUP(H55,Results!A$8:G111,3,FALSE)","v":{"$error":"#N/A"}},{"$f":"VLOOKUP(H55,Results!$A$8:G111,2,FALSE)","v":{"$error":"#N/A"}},{"$f":"VLOOKUP(H55,Results!$A$8:G111,4,FALSE)","v":{"$error":"#N/A"}},{"$f":"VLOOKUP(H55,Results!$A$8:G111,7,FALSE)","v":{"$error":"#N/A"}},{"$f":"VLOOKUP(H55,$B$4:B55,1,FALSE)","v":{"$error":"#N/A"}}]
[null,{"$f":"Results!A59","v":0},{"$f":"Results!C59","v":0},{"$f":"Results!B59","v":0},{"$f":"Results!D59","v":0},{"$f":"Results!G59","v":""},"- vs -",{"$f":"VLOOKUP(B56,Results!$A$8:AK111,37,FALSE)","v":{"$error":"#N/A"}},{"$f":"VLOOKUP(H56,Results!A$8:G112,3,FALSE)","v":{"$error":"#N/A"}},{"$f":"VLOOKUP(H56,Results!$A$8:G112,2,FALSE)","v":{"$error":"#N/A"}},{"$f":"VLOOKUP(H56,Results!$A$8:G112,4,FALSE)","v":{"$error":"#N/A"}},{"$f":"VLOOKUP(H56,Results!$A$8:G112,7,FALSE)","v":{"$error":"#N/A"}},{"$f":"VLOOKUP(H56,$B$4:B56,1,FALSE)","v":{"$error":"#N/A"}}]
[null,{"$f":"Results!A60","v":0},{"$f":"Results!C60","v":0},{"$f":"Results!B60","v":0},{"$f":"Results!D60","v":0},{"$f":"Results!G60","v":""},"- vs -",{"$f":"VLOOKUP(B57,Results!$A$8:AK112,37,FALSE)","v":{"$error":"#N/A"}},{"$f":"VLOOKUP(H57,Results!A$8:G113,3,FALSE)","v":{"$error":"#N/A"}},{"$f":"VLOOKUP(H57,Results!$A$8:G113,2,FALSE)","v":{"$error":"#N/A"}},{"$f":"VLOOKUP(H57,Results!$A$8:G113,4,FALSE)","v":{"$error":"#N/A"}},{"$f":"VLOOKUP(H57,Results!$A$8:G113,7,FALSE)","v":{"$error":"#N/A"}},{"$f":"VLOOKUP(H57,$B$4:B57,1,FALSE)","v":{"$error":"#N/A"}}]
[null,{"$f":"Results!A61","v":0},{"$f":"Results!C61","v":0},{"$f":"Results!B61","v":0},{"$f":"Results!D61","v":0},{"$f":"Results!G61","v":""},"- vs -",{"$f":"VLOOKUP(B58,Results!$A$8:AK113,37,FALSE)","v":{"$error":"#N/A"}},{"$f":"VLOOKUP(H58,Results!A$8:G114,3,FALSE)","v":{"$error":"#N/A"}},{"$f":"VLOOKUP(H58,Results!$A$8:G114,2,FALSE)","v":{"$error":"#N/A"}},{"$f":"VLOOKUP(H58,Results!$A$8:G114,4,FALSE)","v":{"$error":"#N/A"}},{"$f":"VLOOKUP(H58,Results!$A$8:G114,7,FALSE)","v":{"$error":"#N/A"}},{"$f":"VLOOKUP(H58,$B$4:B58,1,FALSE)","v":{"$error":"#N/A"}}]
[null,{"$f":"Results!A62","v":0},{"$f":"Results!C62","v":0},{"$f":"Results!B62","v":0},{"$f":"Results!D62","v":0},{"$f":"Results!G62","v":0},"- vs -",{"$f":"VLOOKUP(B59,Results!$A$8:AK114,37,FALSE)","v":{"$error":"#N/A"}},{"$f":"VLOOKUP(H59,Results!A$8:G115,3,FALSE)","v":{"$error":"#N/A"}},{"$f":"VLOOKUP(H59,Results!$A$8:G115,2,FALSE)","v":{"$error":"#N/A"}},{"$f":"VLOOKUP(H59,Results!$A$8:G115,4,FALSE)","v":{"$error":"#N/A"}},{"$f":"VLOOKUP(H59,Results!$A$8:G115,7,FALSE)","v":{"$error":"#N/A"}},{"$f":"VLOOKUP(H59,$B$4:B59,1,FALSE)","v":{"$error":"#N/A"}}]
[null,{"$f":"Results!A63","v":0},{"$f":"Results!C63","v":0},{"$f":"Results!B63","v":0},{"$f":"Results!D63","v":0},{"$f":"Results!G63","v":0},"- vs -",{"$f":"VLOOKUP(B60,Results!$A$8:AK115,37,FALSE)","v":{"$error":"#N/A"}},{"$f":"VLOOKUP(H60,Results!A$8:G116,3,FALSE)","v":{"$error":"#N/A"}},{"$f":"VLOOKUP(H60,Results!$A$8:G116,2,FALSE)","v":{"$error":"#N/A"}},{"$f":"VLOOKUP(H60,Results!$A$8:G116,4,FALSE)","v":{"$error":"#N/A"}},{"$f":"VLOOKUP(H60,Results!$A$8:G116,7,FALSE)","v":{"$error":"#N/A"}},{"$f":"VLOOKUP(H60,$B$4:B60,1,FALSE)","v":{"$error":"#N/A"}}]
[null,{"$f":"Results!A64","v":0},{"$f":"Results!C64","v":0},{"$f":"Results!B64","v":0},{"$f":"Results!D64","v":0},{"$f":"Results!G64","v":0},"- vs -",{"$f":"VLOOKUP(B61,Results!$A$8:AK116,37,FALSE)","v":{"$error":"#N/A"}},{"$f":"VLOOKUP(H61,Results!A$8:G117,3,FALSE)","v":{"$error":"#N/A"}},{"$f":"VLOOKUP(H61,Results!$A$8:G117,2,FALSE)","v":{"$error":"#N/A"}},{"$f":"VLOOKUP(H61,Results!$A$8:G117,4,FALSE)","v":{"$error":"#N/A"}},{"$f":"VLOOKUP(H61,Results!$A$8:G117,7,FALSE)","v":{"$error":"#N/A"}},{"$f":"VLOOKUP(H61,$B$4:B61,1,FALSE)","v":{"$error":"#N/A"}}]
[null,{"$f":"Results!A65","v":0},{"$f":"Results!C65","v":0},{"$f":"Results!B65","v":0},{"$f":"Results!D65","v":0},{"$f":"Results!G65","v":0},"- vs -",{"$f":"VLOOKUP(B62,Results!$A$8:AK117,37,FALSE)","v":{"$error":"#N/A"}},{"$f":"VLOOKUP(H62,Results!A$8:G118,3,FALSE)","v":{"$error":"#N/A"}},{"$f":"VLOOKUP(H62,Results!$A$8:G118,2,FALSE)","v":{"$error":"#N/A"}},{"$f":"VLOOKUP(H62,Results!$A$8:G118,4,FALSE)","v":{"$error":"#N/A"}},{"$f":"VLOOKUP(H62,Results!$A$8:G118,7,FALSE)","v":{"$error":"#N/A"}},{"$f":"VLOOKUP(H62,$B$4:B62,1,FALSE)","v":{"$error":"#N/A"}}]
[null,{"$f":"Results!A66","v":0},{"$f":"Results!C66","v":0},{"$f":"Results!B66","v":0},{"$f":"Results!D66","v":0},{"$f":"Results!G66","v":0},"- vs -",{"$f":"VLOOKUP(B63,Results!$A$8:AK118,37,FALSE)","v":{"$error":"#N/A"}},{"$f":"VLOOKUP(H63,Results!A$8:G119,3,FALSE)","v":{"$error":"#N/A"}},{"$f":"VLOOKUP(H63,Results!$A$8:G119,2,FALSE)","v":{"$error":"#N/A"}},{"$f":"VLOOKUP(H63,Results!$A$8:G119,4,FALSE)","v":{"$error":"#N/A"}},{"$f":"VLOOKUP(H63,Results!$A$8:G119,7,FALSE)","v":{"$error":"#N/A"}},{"$f":"VLOOKUP(H63,$B$4:B63,1,FALSE)","v":{"$error":"#N/A"}}]

{"sheet":"Round 6","index":14,"n_rows":63,"n_cols":13,"rows_kept":63}
[null,null,"First Name","Surname","Club",{"$nulls":3},"First Name","Surname","Club"]
["Round 5 Draw",null,{"$f":"Results!B3","v":0}]
[null,null,{"$f":"Results!B4","v":"Open Theme"}]
[{"$nulls":12},"VALID?"]
[null,{"$f":"Results!A8","v":1},{"$f":"Results!C8","v":0},{"$f":"Results!B8","v":"Team 1 A"},{"$f":"Results!D8","v":0},{"$f":"Results!G8","v":""},"- vs -",{"$f":"VLOOKUP(B5,Results!$A$8:AR59,44,FALSE)","v":0},{"$f":"VLOOKUP(H5,Results!A$8:G60,3,FALSE)","v":{"$error":"#N/A"}},{"$f":"VLOOKUP(H5,Results!$A$8:G60,2,FALSE)","v":{"$error":"#N/A"}},{"$f":"VLOOKUP(H5,Results!$A$8:G60,4,FALSE)","v":{"$error":"#N/A"}},{"$f":"VLOOKUP(H5,Results!$A$8:G60,7,FALSE)","v":{"$error":"#N/A"}},{"$f":"VLOOKUP(H5,$B$4:B5,1,FALSE)","v":{"$error":"#N/A"}}]
[null,{"$f":"Results!A9","v":2},{"$f":"Results!C9","v":0},{"$f":"Results!B9","v":"Team 1 B"},{"$f":"Results!D9","v":0},{"$f":"Results!G9","v":""},"- vs -",{"$f":"VLOOKUP(B6,Results!$A$8:AR60,44,FALSE)","v":0},{"$f":"VLOOKUP(H6,Results!A$8:G61,3,FALSE)","v":{"$error":"#N/A"}},{"$f":"VLOOKUP(H6,Results!$A$8:G61,2,FALSE)","v":{"$error":"#N/A"}},{"$f":"VLOOKUP(H6,Results!$A$8:G61,4,FALSE)","v":{"$error":"#N/A"}},{"$f":"VLOOKUP(H6,Results!$A$8:G61,7,FALSE)","v":{"$error":"#N/A"}},{"$f":"VLOOKUP(H6,$B$4:B6,1,FALSE)","v":{"$error":"#N/A"}}]
[null,{"$f":"Results!A10","v":3},{"$f":"Results!C10","v":0},{"$f":"Results!B10","v":"Team 1 C"},{"$f":"Results!D10","v":0},{"$f":"Results!G10","v":""},"- vs -",{"$f":"VLOOKUP(B7,Results!$A$8:AR61,44,FALSE)","v":0},{"$f":"VLOOKUP(H7,Results!A$8:G62,3,FALSE)","v":{"$error":"#N/A"}},{"$f":"VLOOKUP(H7,Results!$A$8:G62,2,FALSE)","v":{"$error":"#N/A"}},{"$f":"VLOOKUP(H7,Results!$A$8:G62,4,FALSE)","v":{"$error":"#N/A"}},{"$f":"VLOOKUP(H7,Results!$A$8:G62,7,FALSE)","v":{"$error":"#N/A"}},{"$f":"VLOOKUP(H7,$B$4:B7,1,FALSE)","v":{"$error":"#N/A"}}]
[null,{"$f":"Results!A11","v":4},{"$f":"Results!C11","v":0},{"$f":"Results!B11","v":"Team 2 A"},{"$f":"Results!D11","v":0},{"$f":"Results!G11","v":""},"- vs -",{"$f":"VLOOKUP(B8,Results!$A$8:AR62,44,FALSE)","v":0},{"$f":"VLOOKUP(H8,Results!A$8:G63,3,FALSE)","v":{"$error":"#N/A"}},{"$f":"VLOOKUP(H8,Results!$A$8:G63,2,FALSE)","v":{"$error":"#N/A"}},{"$f":"VLOOKUP(H8,Results!$A$8:G63,4,FALSE)","v":{"$error":"#N/A"}},{"$f":"VLOOKUP(H8,Results!$A$8:G63,7,FALSE)","v":{"$error":"#N/A"}},{"$f":"VLOOKUP(H8,$B$4:B8,1,FALSE)","v":{"$error":"#N/A"}}]
[null,{"$f":"Results!A12","v":5},{"$f":"Results!C12","v":0},{"$f":"Results!B12","v":"Team 2 B"},{"$f":"Results!D12","v":0},{"$f":"Results!G12","v":""},"- vs -",{"$f":"VLOOKUP(B9,Results!$A$8:AR63,44,FALSE)","v":0},{"$f":"VLOOKUP(H9,Results!A$8:G64,3,FALSE)","v":{"$error":"#N/A"}},{"$f":"VLOOKUP(H9,Results!$A$8:G64,2,FALSE)","v":{"$error":"#N/A"}},{"$f":"VLOOKUP(H9,Results!$A$8:G64,4,FALSE)","v":{"$error":"#N/A"}},{"$f":"VLOOKUP(H9,Results!$A$8:G64,7,FALSE)","v":{"$error":"#N/A"}},{"$f":"VLOOKUP(H9,$B$4:B9,1,FALSE)","v":{"$error":"#N/A"}}]
[null,{"$f":"Results!A13","v":6},{"$f":"Results!C13","v":0},{"$f":"Results!B13","v":"Team 2 C"},{"$f":"Results!D13","v":0},{"$f":"Results!G13","v":""},"- vs -",{"$f":"VLOOKUP(B10,Results!$A$8:AR64,44,FALSE)","v":0},{"$f":"VLOOKUP(H10,Results!A$8:G65,3,FALSE)","v":{"$error":"#N/A"}},{"$f":"VLOOKUP(H10,Results!$A$8:G65,2,FALSE)","v":{"$error":"#N/A"}},{"$f":"VLOOKUP(H10,Results!$A$8:G65,4,FALSE)","v":{"$error":"#N/A"}},{"$f":"VLOOKUP(H10,Results!$A$8:G65,7,FALSE)","v":{"$error":"#N/A"}},{"$f":"VLOOKUP(H10,$B$4:B10,1,FALSE)","v":{"$error":"#N/A"}}]
[null,{"$f":"Results!A14","v":7},{"$f":"Results!C14","v":0},{"$f":"Results!B14","v":"Team 3 A"},{"$f":"Results!D14","v":0},{"$f":"Results!G14","v":""},"- vs -",{"$f":"VLOOKUP(B11,Results!$A$8:AR65,44,FALSE)","v":0},{"$f":"VLOOKUP(H11,Results!A$8:G66,3,FALSE)","v":{"$error":"#N/A"}},{"$f":"VLOOKUP(H11,Results!$A$8:G66,2,FALSE)","v":{"$error":"#N/A"}},{"$f":"VLOOKUP(H11,Results!$A$8:G66,4,FALSE)","v":{"$error":"#N/A"}},{"$f":"VLOOKUP(H11,Results!$A$8:G66,7,FALSE)","v":{"$error":"#N/A"}},{"$f":"VLOOKUP(H11,$B$4:B11,1,FALSE)","v":{"$error":"#N/A"}}]
[null,{"$f":"Results!A15","v":8},{"$f":"Results!C15","v":0},{"$f":"Results!B15","v":"Team 3 B"},{"$f":"Results!D15","v":0},{"$f":"Results!G15","v":""},"- vs -",{"$f":"VLOOKUP(B12,Results!$A$8:AR66,44,FALSE)","v":0},{"$f":"VLOOKUP(H12,Results!A$8:G67,3,FALSE)","v":{"$error":"#N/A"}},{"$f":"VLOOKUP(H12,Results!$A$8:G67,2,FALSE)","v":{"$error":"#N/A"}},{"$f":"VLOOKUP(H12,Results!$A$8:G67,4,FALSE)","v":{"$error":"#N/A"}},{"$f":"VLOOKUP(H12,Results!$A$8:G67,7,FALSE)","v":{"$error":"#N/A"}},{"$f":"VLOOKUP(H12,$B$4:B12,1,FALSE)","v":{"$error":"#N/A"}}]
[null,{"$f":"Results!A16","v":9},{"$f":"Results!C16","v":0},{"$f":"Results!B16","v":"Team 3 C"},{"$f":"Results!D16","v":0},{"$f":"Results!G16","v":""},"- vs -",{"$f":"VLOOKUP(B13,Results!$A$8:AR67,44,FALSE)","v":0},{"$f":"VLOOKUP(H13,Results!A$8:G68,3,FALSE)","v":{"$error":"#N/A"}},{"$f":"VLOOKUP(H13,Results!$A$8:G68,2,FALSE)","v":{"$error":"#N/A"}},{"$f":"VLOOKUP(H13,Results!$A$8:G68,4,FALSE)","v":{"$error":"#N/A"}},{"$f":"VLOOKUP(H13,Results!$A$8:G68,7,FALSE)","v":{"$error":"#N/A"}},{"$f":"VLOOKUP(H13,$B$4:B13,1,FALSE)","v":{"$error":"#N/A"}}]
[null,{"$f":"Results!A17","v":10},{"$f":"Results!C17","v":0},{"$f":"Results!B17","v":"Team 4 A"},{"$f":"Results!D17","v":0},{"$f":"Results!G17","v":""},"- vs -",{"$f":"VLOOKUP(B14,Results!$A$8:AR68,44,FALSE)","v":0},{"$f":"VLOOKUP(H14,Results!A$8:G69,3,FALSE)","v":{"$error":"#N/A"}},{"$f":"VLOOKUP(H14,Results!$A$8:G69,2,FALSE)","v":{"$error":"#N/A"}},{"$f":"VLOOKUP(H14,Results!$A$8:G69,4,FALSE)","v":{"$error":"#N/A"}},{"$f":"VLOOKUP(H14,Results!$A$8:G69,7,FALSE)","v":{"$error":"#N/A"}},{"$f":"VLOOKUP(H14,$B$4:B14,1,FALSE)","v":{"$error":"#N/A"}}]
[null,{"$f":"Results!A18","v":11},{"$f":"Results!C18","v":0},{"$f":"Results!B18","v":"Team 4 B"},{"$f":"Results!D18","v":0},{"$f":"Results!G18","v":""},"- vs -",{"$f":"VLOOKUP(B15,Results!$A$8:AR69,44,FALSE)","v":0},{"$f":"VLOOKUP(H15,Results!A$8:G70,3,FALSE)","v":{"$error":"#N/A"}},{"$f":"VLOOKUP(H15,Results!$A$8:G70,2,FALSE)","v":{"$error":"#N/A"}},{"$f":"VLOOKUP(H15,Results!$A$8:G70,4,FALSE)","v":{"$error":"#N/A"}},{"$f":"VLOOKUP(H15,Results!$A$8:G70,7,FALSE)","v":{"$error":"#N/A"}},{"$f":"VLOOKUP(H15,$B$4:B15,1,FALSE)","v":{"$error":"#N/A"}}]
[null,{"$f":"Results!A19","v":12},{"$f":"Results!C19","v":0},{"$f":"Results!B19","v":"Team 4 C"},{"$f":"Results!D19","v":0},{"$f":"Results!G19","v":""},"- vs -",{"$f":"VLOOKUP(B16,Results!$A$8:AR70,44,FALSE)","v":0},{"$f":"VLOOKUP(H16,Results!A$8:G71,3,FALSE)","v":{"$error":"#N/A"}},{"$f":"VLOOKUP(H16,Results!$A$8:G71,2,FALSE)","v":{"$error":"#N/A"}},{"$f":"VLOOKUP(H16,Results!$A$8:G71,4,FALSE)","v":{"$error":"#N/A"}},{"$f":"VLOOKUP(H16,Results!$A$8:G71,7,FALSE)","v":{"$error":"#N/A"}},{"$f":"VLOOKUP(H16,$B$4:B16,1,FALSE)","v":{"$error":"#N/A"}}]
[null,{"$f":"Results!A20","v":13},{"$f":"Results!C20","v":0},{"$f":"Results!B20","v":"Team 5 A"},{"$f":"Results!D20","v":0},{"$f":"Results!G20","v":""},"- vs -",{"$f":"VLOOKUP(B17,Results!$A$8:AR71,44,FALSE)","v":0},{"$f":"VLOOKUP(H17,Results!A$8:G72,3,FALSE)","v":{"$error":"#N/A"}},{"$f":"VLOOKUP(H17,Results!$A$8:G72,2,FALSE)","v":{"$error":"#N/A"}},{"$f":"VLOOKUP(H17,Results!$A$8:G72,4,FALSE)","v":{"$error":"#N/A"}},{"$f":"VLOOKUP(H17,Results!$A$8:G72,7,FALSE)","v":{"$error":"#N/A"}},{"$f":"VLOOKUP(H17,$B$4:B17,1,FALSE)","v":{"$error":"#N/A"}}]
[null,{"$f":"Results!A21","v":14},{"$f":"Results!C21","v":0},{"$f":"Results!B21","v":"Team 5 B"},{"$f":"Results!D21","v":0},{"$f":"Results!G21","v":""},"- vs -",{"$f":"VLOOKUP(B18,Results!$A$8:AR72,44,FALSE)","v":0},{"$f":"VLOOKUP(H18,Results!A$8:G73,3,FALSE)","v":{"$error":"#N/A"}},{"$f":"VLOOKUP(H18,Results!$A$8:G73,2,FALSE)","v":{"$error":"#N/A"}},{"$f":"VLOOKUP(H18,Results!$A$8:G73,4,FALSE)","v":{"$error":"#N/A"}},{"$f":"VLOOKUP(H18,Results!$A$8:G73,7,FALSE)","v":{"$error":"#N/A"}},{"$f":"VLOOKUP(H18,$B$4:B18,1,FALSE)","v":{"$error":"#N/A"}}]
[null,{"$f":"Results!A22","v":15},{"$f":"Results!C22","v":0},{"$f":"Results!B22","v":"Team 5 C"},{"$f":"Results!D22","v":0},{"$f":"Results!G22","v":""},"- vs -",{"$f":"VLOOKUP(B19,Results!$A$8:AR73,44,FALSE)","v":0},{"$f":"VLOOKUP(H19,Results!A$8:G74,3,FALSE)","v":{"$error":"#N/A"}},{"$f":"VLOOKUP(H19,Results!$A$8:G74,2,FALSE)","v":{"$error":"#N/A"}},{"$f":"VLOOKUP(H19,Results!$A$8:G74,4,FALSE)","v":{"$error":"#N/A"}},{"$f":"VLOOKUP(H19,Results!$A$8:G74,7,FALSE)","v":{"$error":"#N/A"}},{"$f":"VLOOKUP(H19,$B$4:B19,1,FALSE)","v":{"$error":"#N/A"}}]
[null,{"$f":"Results!A23","v":16},{"$f":"Results!C23","v":0},{"$f":"Results!B23","v":"Team 6 A"},{"$f":"Results!D23","v":0},{"$f":"Results!G23","v":""},"- vs -",{"$f":"VLOOKUP(B20,Results!$A$8:AR74,44,FALSE)","v":0},{"$f":"VLOOKUP(H20,Results!A$8:G75,3,FALSE)","v":{"$error":"#N/A"}},{"$f":"VLOOKUP(H20,Results!$A$8:G75,2,FALSE)","v":{"$error":"#N/A"}},{"$f":"VLOOKUP(H20,Results!$A$8:G75,4,FALSE)","v":{"$error":"#N/A"}},{"$f":"VLOOKUP(H20,Results!$A$8:G75,7,FALSE)","v":{"$error":"#N/A"}},{"$f":"VLOOKUP(H20,$B$4:B20,1,FALSE)","v":{"$error":"#N/A"}}]
[null,{"$f":"Results!A24","v":17},{"$f":"Results!C24","v":0},{"$f":"Results!B24","v":"Team 6 B"},{"$f":"Results!D24","v":0},{"$f":"Results!G24","v":""},"- vs -",{"$f":"VLOOKUP(B21,Results!$A$8:AR75,44,FALSE)","v":0},{"$f":"VLOOKUP(H21,Results!A$8:G76,3,FALSE)","v":{"$error":"#N/A"}},{"$f":"VLOOKUP(H21,Results!$A$8:G76,2,FALSE)","v":{"$error":"#N/A"}},{"$f":"VLOOKUP(H21,Results!$A$8:G76,4,FALSE)","v":{"$error":"#N/A"}},{"$f":"VLOOKUP(H21,Results!$A$8:G76,7,FALSE)","v":{"$error":"#N/A"}},{"$f":"VLOOKUP(H21,$B$4:B21,1,FALSE)","v":{"$error":"#N/A"}}]
[null,{"$f":"Results!A25","v":18},{"$f":"Results!C25","v":0},{"$f":"Results!B25","v":"Team 6 C"},{"$f":"Results!D25","v":0},{"$f":"Results!G25","v":""},"- vs -",{"$f":"VLOOKUP(B22,Results!$A$8:AR76,44,FALSE)","v":0},{"$f":"VLOOKUP(H22,Results!A$8:G77,3,FALSE)","v":{"$error":"#N/A"}},{"$f":"VLOOKUP(H22,Results!$A$8:G77,2,FALSE)","v":{"$error":"#N/A"}},{"$f":"VLOOKUP(H22,Results!$A$8:G77,4,FALSE)","v":{"$error":"#N/A"}},{"$f":"VLOOKUP(H22,Results!$A$8:G77,7,FALSE)","v":{"$error":"#N/A"}},{"$f":"VLOOKUP(H22,$B$4:B22,1,FALSE)","v":{"$error":"#N/A"}}]
[null,{"$f":"Results!A26","v":0},{"$f":"Results!C26","v":0},{"$f":"Results!B26","v":0},{"$f":"Results!D26","v":0},{"$f":"Results!G26","v":""},"- vs -",{"$f":"VLOOKUP(B23,Results!$A$8:AR77,44,FALSE)","v":{"$error":"#N/A"}},{"$f":"VLOOKUP(H23,Results!A$8:G78,3,FALSE)","v":{"$error":"#N/A"}},{"$f":"VLOOKUP(H23,Results!$A$8:G78,2,FALSE)","v":{"$error":"#N/A"}},{"$f":"VLOOKUP(H23,Results!$A$8:G78,4,FALSE)","v":{"$error":"#N/A"}},{"$f":"VLOOKUP(H23,Results!$A$8:G78,7,FALSE)","v":{"$error":"#N/A"}},{"$f":"VLOOKUP(H23,$B$4:B23,1,FALSE)","v":{"$error":"#N/A"}}]
[null,{"$f":"Results!A27","v":0},{"$f":"Results!C27","v":0},{"$f":"Results!B27","v":0},{"$f":"Results!D27","v":0},{"$f":"Results!G27","v":""},"- vs -",{"$f":"VLOOKUP(B24,Results!$A$8:AR78,44,FALSE)","v":{"$error":"#N/A"}},{"$f":"VLOOKUP(H24,Results!A$8:G79,3,FALSE)","v":{"$error":"#N/A"}},{"$f":"VLOOKUP(H24,Results!$A$8:G79,2,FALSE)","v":{"$error":"#N/A"}},{"$f":"VLOOKUP(H24,Results!$A$8:G79,4,FALSE)","v":{"$error":"#N/A"}},{"$f":"VLOOKUP(H24,Results!$A$8:G79,7,FALSE)","v":{"$error":"#N/A"}},{"$f":"VLOOKUP(H24,$B$4:B24,1,FALSE)","v":{"$error":"#N/A"}}]
[null,{"$f":"Results!A28","v":0},{"$f":"Results!C28","v":0},{"$f":"Results!B28","v":0},{"$f":"Results!D28","v":0},{"$f":"Results!G28","v":""},"- vs -",{"$f":"VLOOKUP(B25,Results!$A$8:AR79,44,FALSE)","v":{"$error":"#N/A"}},{"$f":"VLOOKUP(H25,Results!A$8:G80,3,FALSE)","v":{"$error":"#N/A"}},{"$f":"VLOOKUP(H25,Results!$A$8:G80,2,FALSE)","v":{"$error":"#N/A"}},{"$f":"VLOOKUP(H25,Results!$A$8:G80,4,FALSE)","v":{"$error":"#N/A"}},{"$f":"VLOOKUP(H25,Results!$A$8:G80,7,FALSE)","v":{"$error":"#N/A"}},{"$f":"VLOOKUP(H25,$B$4:B25,1,FALSE)","v":{"$error":"#N/A"}}]
[null,{"$f":"Results!A29","v":0},{"$f":"Results!C29","v":0},{"$f":"Results!B29","v":0},{"$f":"Results!D29","v":0},{"$f":"Results!G29","v":""},"- vs -",{"$f":"VLOOKUP(B26,Results!$A$8:AR80,44,FALSE)","v":{"$error":"#N/A"}},{"$f":"VLOOKUP(H26,Results!A$8:G81,3,FALSE)","v":{"$error":"#N/A"}},{"$f":"VLOOKUP(H26,Results!$A$8:G81,2,FALSE)","v":{"$error":"#N/A"}},{"$f":"VLOOKUP(H26,Results!$A$8:G81,4,FALSE)","v":{"$error":"#N/A"}},{"$f":"VLOOKUP(H26,Results!$A$8:G81,7,FALSE)","v":{"$error":"#N/A"}},{"$f":"VLOOKUP(H26,$B$4:B26,1,FALSE)","v":{"$error":"#N/A"}}]
[null,{"$f":"Results!A30","v":0},{"$f":"Results!C30","v":0},{"$f":"Results!B30","v":0},{"$f":"Results!D30","v":0},{"$f":"Results!G30","v":""},"- vs -",{"$f":"VLOOKUP(B27,Results!$A$8:AR81,44,FALSE)","v":{"$error":"#N/A"}},{"$f":"VLOOKUP(H27,Results!A$8:G82,3,FALSE)","v":{"$error":"#N/A"}},{"$f":"VLOOKUP(H27,Results!$A$8:G82,2,FALSE)","v":{"$error":"#N/A"}},{"$f":"VLOOKUP(H27,Results!$A$8:G82,4,FALSE)","v":{"$error":"#N/A"}},{"$f":"VLOOKUP(H27,Results!$A$8:G82,7,FALSE)","v":{"$error":"#N/A"}},{"$f":"VLOOKUP(H27,$B$4:B27,1,FALSE)","v":{"$error":"#N/A"}}]
[null,{"$f":"Results!A31","v":0},{"$f":"Results!C31","v":0},{"$f":"Results!B31","v":0},{"$f":"Results!D31","v":0},{"$f":"Results!G31","v":""},"- vs -",{"$f":"VLOOKUP(B28,Results!$A$8:AR82,44,FALSE)","v":{"$error":"#N/A"}},{"$f":"VLOOKUP(H28,Results!A$8:G83,3,FALSE)","v":{"$error":"#N/A"}},{"$f":"VLOOKUP(H28,Results!$A$8:G83,2,FALSE)","v":{"$error":"#N/A"}},{"$f":"VLOOKUP(H28,Results!$A$8:G83,4,FALSE)","v":{"$error":"#N/A"}},{"$f":"VLOOKUP(H28,Results!$A$8:G83,7,FALSE)","v":{"$error":"#N/A"}},{"$f":"VLOOKUP(H28,$B$4:B28,1,FALSE)","v":{"$error":"#N/A"}}]
[null,{"$f":"Results!A32","v":0},{"$f":"Results!C32","v":0},{"$f":"Results!B32","v":0},{"$f":"Results!D32","v":0},{"$f":"Results!G32","v":""},"- vs -",{"$f":"VLOOKUP(B29,Results!$A$8:AR83,44,FALSE)","v":{"$error":"#N/A"}},{"$f":"VLOOKUP(H29,Results!A$8:G84,3,FALSE)","v":{"$error":"#N/A"}},{"$f":"VLOOKUP(H29,Results!$A$8:G84,2,FALSE)","v":{"$error":"#N/A"}},{"$f":"VLOOKUP(H29,Results!$A$8:G84,4,FALSE)","v":{"$error":"#N/A"}},{"$f":"VLOOKUP(H29,Results!$A$8:G84,7,FALSE)","v":{"$error":"#N/A"}},{"$f":"VLOOKUP(H29,$B$4:B29,1,FALSE)","v":{"$error":"#N/A"}}]
[null,{"$f":"Results!A33","v":0},{"$f":"Results!C33","v":0},{"$f":"Results!B33","v":0},{"$f":"Results!D33","v":0},{"$f":"Results!G33","v":""},"- vs -",{"$f":"VLOOKUP(B30,Results!$A$8:AR84,44,FALSE)","v":{"$error":"#N/A"}},{"$f":"VLOOKUP(H30,Results!A$8:G85,3,FALSE)","v":{"$error":"#N/A"}},{"$f":"VLOOKUP(H30,Results!$A$8:G85,2,FALSE)","v":{"$error":"#N/A"}},{"$f":"VLOOKUP(H30,Results!$A$8:G85,4,FALSE)","v":{"$error":"#N/A"}},{"$f":"VLOOKUP(H30,Results!$A$8:G85,7,FALSE)","v":{"$error":"#N/A"}},{"$f":"VLOOKUP(H30,$B$4:B30,1,FALSE)","v":{"$error":"#N/A"}}]
[null,{"$f":"Results!A34","v":0},{"$f":"Results!C34","v":0},{"$f":"Results!B34","v":0},{"$f":"Results!D34","v":0},{"$f":"Results!G34","v":""},"- vs -",{"$f":"VLOOKUP(B31,Results!$A$8:AR85,44,FALSE)","v":{"$error":"#N/A"}},{"$f":"VLOOKUP(H31,Results!A$8:G86,3,FALSE)","v":{"$error":"#N/A"}},{"$f":"VLOOKUP(H31,Results!$A$8:G86,2,FALSE)","v":{"$error":"#N/A"}},{"$f":"VLOOKUP(H31,Results!$A$8:G86,4,FALSE)","v":{"$error":"#N/A"}},{"$f":"VLOOKUP(H31,Results!$A$8:G86,7,FALSE)","v":{"$error":"#N/A"}},{"$f":"VLOOKUP(H31,$B$4:B31,1,FALSE)","v":{"$error":"#N/A"}}]
[null,{"$f":"Results!A35","v":0},{"$f":"Results!C35","v":0},{"$f":"Results!B35","v":0},{"$f":"Results!D35","v":0},{"$f":"Results!G35","v":""},"- vs -",{"$f":"VLOOKUP(B32,Results!$A$8:AR86,44,FALSE)","v":{"$error":"#N/A"}},{"$f":"VLOOKUP(H32,Results!A$8:G87,3,FALSE)","v":{"$error":"#N/A"}},{"$f":"VLOOKUP(H32,Results!$A$8:G87,2,FALSE)","v":{"$error":"#N/A"}},{"$f":"VLOOKUP(H32,Results!$A$8:G87,4,FALSE)","v":{"$error":"#N/A"}},{"$f":"VLOOKUP(H32,Results!$A$8:G87,7,FALSE)","v":{"$error":"#N/A"}},{"$f":"VLOOKUP(H32,$B$4:B32,1,FALSE)","v":{"$error":"#N/A"}}]
[null,{"$f":"Results!A36","v":0},{"$f":"Results!C36","v":0},{"$f":"Results!B36","v":0},{"$f":"Results!D36","v":0},{"$f":"Results!G36","v":""},"- vs -",{"$f":"VLOOKUP(B33,Results!$A$8:AR87,44,FALSE)","v":{"$error":"#N/A"}},{"$f":"VLOOKUP(H33,Results!A$8:G88,3,FALSE)","v":{"$error":"#N/A"}},{"$f":"VLOOKUP(H33,Results!$A$8:G88,2,FALSE)","v":{"$error":"#N/A"}},{"$f":"VLOOKUP(H33,Results!$A$8:G88,4,FALSE)","v":{"$error":"#N/A"}},{"$f":"VLOOKUP(H33,Results!$A$8:G88,7,FALSE)","v":{"$error":"#N/A"}},{"$f":"VLOOKUP(H33,$B$4:B33,1,FALSE)","v":{"$error":"#N/A"}}]
[null,{"$f":"Results!A37","v":0},{"$f":"Results!C37","v":0},{"$f":"Results!B37","v":0},{"$f":"Results!D37","v":0},{"$f":"Results!G37","v":""},"- vs -",{"$f":"VLOOKUP(B34,Results!$A$8:AR88,44,FALSE)","v":{"$error":"#N/A"}},{"$f":"VLOOKUP(H34,Results!A$8:G89,3,FALSE)","v":{"$error":"#N/A"}},{"$f":"VLOOKUP(H34,Results!$A$8:G89,2,FALSE)","v":{"$error":"#N/A"}},{"$f":"VLOOKUP(H34,Results!$A$8:G89,4,FALSE)","v":{"$error":"#N/A"}},{"$f":"VLOOKUP(H34,Results!$A$8:G89,7,FALSE)","v":{"$error":"#N/A"}},{"$f":"VLOOKUP(H34,$B$4:B34,1,FALSE)","v":{"$error":"#N/A"}}]
[null,{"$f":"Results!A38","v":0},{"$f":"Results!C38","v":0},{"$f":"Results!B38","v":0},{"$f":"Results!D38","v":0},{"$f":"Results!G38","v":""},"- vs -",{"$f":"VLOOKUP(B35,Results!$A$8:AR89,44,FALSE)","v":{"$error":"#N/A"}},{"$f":"VLOOKUP(H35,Results!A$8:G90,3,FALSE)","v":{"$error":"#N/A"}},{"$f":"VLOOKUP(H35,Results!$A$8:G90,2,FALSE)","v":{"$error":"#N/A"}},{"$f":"VLOOKUP(H35,Results!$A$8:G90,4,FALSE)","v":{"$error":"#N/A"}},{"$f":"VLOOKUP(H35,Results!$A$8:G90,7,FALSE)","v":{"$error":"#N/A"}},{"$f":"VLOOKUP(H35,$B$4:B35,1,FALSE)","v":{"$error":"#N/A"}}]
[null,{"$f":"Results!A39","v":0},{"$f":"Results!C39","v":0},{"$f":"Results!B39","v":0},{"$f":"Results!D39","v":0},{"$f":"Results!G39","v":""},"- vs -",{"$f":"VLOOKUP(B36,Results!$A$8:AR90,44,FALSE)","v":{"$error":"#N/A"}},{"$f":"VLOOKUP(H36,Results!A$8:G91,3,FALSE)","v":{"$error":"#N/A"}},{"$f":"VLOOKUP(H36,Results!$A$8:G91,2,FALSE)","v":{"$error":"#N/A"}},{"$f":"VLOOKUP(H36,Results!$A$8:G91,4,FALSE)","v":{"$error":"#N/A"}},{"$f":"VLOOKUP(H36,Results!$A$8:G91,7,FALSE)","v":{"$error":"#N/A"}},{"$f":"VLOOKUP(H36,$B$4:B36,1,FALSE)","v":{"$error":"#N/A"}}]
[null,{"$f":"Results!A40","v":0},{"$f":"Results!C40","v":0},{"$f":"Results!B40","v":0},{"$f":"Results!D40","v":0},{"$f":"Results!G40","v":""},"- vs -",{"$f":"VLOOKUP(B37,Results!$A$8:AR91,44,FALSE)","v":{"$error":"#N/A"}},{"$f":"VLOOKUP(H37,Results!A$8:G92,3,FALSE)","v":{"$error":"#N/A"}},{"$f":"VLOOKUP(H37,Results!$A$8:G92,2,FALSE)","v":{"$error":"#N/A"}},{"$f":"VLOOKUP(H37,Results!$A$8:G92,4,FALSE)","v":{"$error":"#N/A"}},{"$f":"VLOOKUP(H37,Results!$A$8:G92,7,FALSE)","v":{"$error":"#N/A"}},{"$f":"VLOOKUP(H37,$B$4:B37,1,FALSE)","v":{"$error":"#N/A"}}]
[null,{"$f":"Results!A41","v":0},{"$f":"Results!C41","v":0},{"$f":"Results!B41","v":0},{"$f":"Results!D41","v":0},{"$f":"Results!G41","v":""},"- vs -",{"$f":"VLOOKUP(B38,Results!$A$8:AR92,44,FALSE)","v":{"$error":"#N/A"}},{"$f":"VLOOKUP(H38,Results!A$8:G93,3,FALSE)","v":{"$error":"#N/A"}},{"$f":"VLOOKUP(H38,Results!$A$8:G93,2,FALSE)","v":{"$error":"#N/A"}},{"$f":"VLOOKUP(H38,Results!$A$8:G93,4,FALSE)","v":{"$error":"#N/A"}},{"$f":"VLOOKUP(H38,Results!$A$8:G93,7,FALSE)","v":{"$error":"#N/A"}},{"$f":"VLOOKUP(H38,$B$4:B38,1,FALSE)","v":{"$error":"#N/A"}}]
[null,{"$f":"Results!A42","v":0},{"$f":"Results!C42","v":0},{"$f":"Results!B42","v":0},{"$f":"Results!D42","v":0},{"$f":"Results!G42","v":""},"- vs -",{"$f":"VLOOKUP(B39,Results!$A$8:AR93,44,FALSE)","v":{"$error":"#N/A"}},{"$f":"VLOOKUP(H39,Results!A$8:G94,3,FALSE)","v":{"$error":"#N/A"}},{"$f":"VLOOKUP(H39,Results!$A$8:G94,2,FALSE)","v":{"$error":"#N/A"}},{"$f":"VLOOKUP(H39,Results!$A$8:G94,4,FALSE)","v":{"$error":"#N/A"}},{"$f":"VLOOKUP(H39,Results!$A$8:G94,7,FALSE)","v":{"$error":"#N/A"}},{"$f":"VLOOKUP(H39,$B$4:B39,1,FALSE)","v":{"$error":"#N/A"}}]
[null,{"$f":"Results!A43","v":0},{"$f":"Results!C43","v":0},{"$f":"Results!B43","v":0},{"$f":"Results!D43","v":0},{"$f":"Results!G43","v":""},"- vs -",{"$f":"VLOOKUP(B40,Results!$A$8:AR94,44,FALSE)","v":{"$error":"#N/A"}},{"$f":"VLOOKUP(H40,Results!A$8:G95,3,FALSE)","v":{"$error":"#N/A"}},{"$f":"VLOOKUP(H40,Results!$A$8:G95,2,FALSE)","v":{"$error":"#N/A"}},{"$f":"VLOOKUP(H40,Results!$A$8:G95,4,FALSE)","v":{"$error":"#N/A"}},{"$f":"VLOOKUP(H40,Results!$A$8:G95,7,FALSE)","v":{"$error":"#N/A"}},{"$f":"VLOOKUP(H40,$B$4:B40,1,FALSE)","v":{"$error":"#N/A"}}]
[null,{"$f":"Results!A44","v":0},{"$f":"Results!C44","v":0},{"$f":"Results!B44","v":0},{"$f":"Results!D44","v":0},{"$f":"Results!G44","v":""},"- vs -",{"$f":"VLOOKUP(B41,Results!$A$8:AR95,44,FALSE)","v":{"$error":"#N/A"}},{"$f":"VLOOKUP(H41,Results!A$8:G96,3,FALSE)","v":{"$error":"#N/A"}},{"$f":"VLOOKUP(H41,Results!$A$8:G96,2,FALSE)","v":{"$error":"#N/A"}},{"$f":"VLOOKUP(H41,Results!$A$8:G96,4,FALSE)","v":{"$error":"#N/A"}},{"$f":"VLOOKUP(H41,Results!$A$8:G96,7,FALSE)","v":{"$error":"#N/A"}},{"$f":"VLOOKUP(H41,$B$4:B41,1,FALSE)","v":{"$error":"#N/A"}}]
[null,{"$f":"Results!A45","v":0},{"$f":"Results!C45","v":0},{"$f":"Results!B45","v":0},{"$f":"Results!D45","v":0},{"$f":"Results!G45","v":""},"- vs -",{"$f":"VLOOKUP(B42,Results!$A$8:AR96,44,FALSE)","v":{"$error":"#N/A"}},{"$f":"VLOOKUP(H42,Results!A$8:G97,3,FALSE)","v":{"$error":"#N/A"}},{"$f":"VLOOKUP(H42,Results!$A$8:G97,2,FALSE)","v":{"$error":"#N/A"}},{"$f":"VLOOKUP(H42,Results!$A$8:G97,4,FALSE)","v":{"$error":"#N/A"}},{"$f":"VLOOKUP(H42,Results!$A$8:G97,7,FALSE)","v":{"$error":"#N/A"}},{"$f":"VLOOKUP(H42,$B$4:B42,1,FALSE)","v":{"$error":"#N/A"}}]
[null,{"$f":"Results!A46","v":0},{"$f":"Results!C46","v":0},{"$f":"Results!B46","v":0},{"$f":"Results!D46","v":0},{"$f":"Results!G46","v":""},"- vs -",{"$f":"VLOOKUP(B43,Results!$A$8:AR97,44,FALSE)","v":{"$error":"#N/A"}},{"$f":"VLOOKUP(H43,Results!A$8:G98,3,FALSE)","v":{"$error":"#N/A"}},{"$f":"VLOOKUP(H43,Results!$A$8:G98,2,FALSE)","v":{"$error":"#N/A"}},{"$f":"VLOOKUP(H43,Results!$A$8:G98,4,FALSE)","v":{"$error":"#N/A"}},{"$f":"VLOOKUP(H43,Results!$A$8:G98,7,FALSE)","v":{"$error":"#N/A"}},{"$f":"VLOOKUP(H43,$B$4:B43,1,FALSE)","v":{"$error":"#N/A"}}]
[null,{"$f":"Results!A47","v":0},{"$f":"Results!C47","v":0},{"$f":"Results!B47","v":0},{"$f":"Results!D47","v":0},{"$f":"Results!G47","v":""},"- vs -",{"$f":"VLOOKUP(B44,Results!$A$8:AR98,44,FALSE)","v":{"$error":"#N/A"}},{"$f":"VLOOKUP(H44,Results!A$8:G99,3,FALSE)","v":{"$error":"#N/A"}},{"$f":"VLOOKUP(H44,Results!$A$8:G99,2,FALSE)","v":{"$error":"#N/A"}},{"$f":"VLOOKUP(H44,Results!$A$8:G99,4,FALSE)","v":{"$error":"#N/A"}},{"$f":"VLOOKUP(H44,Results!$A$8:G99,7,FALSE)","v":{"$error":"#N/A"}},{"$f":"VLOOKUP(H44,$B$4:B44,1,FALSE)","v":{"$error":"#N/A"}}]
[null,{"$f":"Results!A48","v":0},{"$f":"Results!C48","v":0},{"$f":"Results!B48","v":0},{"$f":"Results!D48","v":0},{"$f":"Results!G48","v":""},"- vs -",{"$f":"VLOOKUP(B45,Results!$A$8:AR99,44,FALSE)","v":{"$error":"#N/A"}},{"$f":"VLOOKUP(H45,Results!A$8:G100,3,FALSE)","v":{"$error":"#N/A"}},{"$f":"VLOOKUP(H45,Results!$A$8:G100,2,FALSE)","v":{"$error":"#N/A"}},{"$f":"VLOOKUP(H45,Results!$A$8:G100,4,FALSE)","v":{"$error":"#N/A"}},{"$f":"VLOOKUP(H45,Results!$A$8:G100,7,FALSE)","v":{"$error":"#N/A"}},{"$f":"VLOOKUP(H45,$B$4:B45,1,FALSE)","v":{"$error":"#N/A"}}]
[null,{"$f":"Results!A49","v":0},{"$f":"Results!C49","v":0},{"$f":"Results!B49","v":0},{"$f":"Results!D49","v":0},{"$f":"Results!G49","v":""},"- vs -",{"$f":"VLOOKUP(B46,Results!$A$8:AR100,44,FALSE)","v":{"$error":"#N/A"}},{"$f":"VLOOKUP(H46,Results!A$8:G101,3,FALSE)","v":{"$error":"#N/A"}},{"$f":"VLOOKUP(H46,Results!$A$8:G101,2,FALSE)","v":{"$error":"#N/A"}},{"$f":"VLOOKUP(H46,Results!$A$8:G101,4,FALSE)","v":{"$error":"#N/A"}},{"$f":"VLOOKUP(H46,Results!$A$8:G101,7,FALSE)","v":{"$error":"#N/A"}},{"$f":"VLOOKUP(H46,$B$4:B46,1,FALSE)","v":{"$error":"#N/A"}}]
[null,{"$f":"Results!A50","v":0},{"$f":"Results!C50","v":0},{"$f":"Results!B50","v":0},{"$f":"Results!D50","v":0},{"$f":"Results!G50","v":""},"- vs -",{"$f":"VLOOKUP(B47,Results!$A$8:AR101,44,FALSE)","v":{"$error":"#N/A"}},{"$f":"VLOOKUP(H47,Results!A$8:G102,3,FALSE)","v":{"$error":"#N/A"}},{"$f":"VLOOKUP(H47,Results!$A$8:G102,2,FALSE)","v":{"$error":"#N/A"}},{"$f":"VLOOKUP(H47,Results!$A$8:G102,4,FALSE)","v":{"$error":"#N/A"}},{"$f":"VLOOKUP(H47,Results!$A$8:G102,7,FALSE)","v":{"$error":"#N/A"}},{"$f":"VLOOKUP(H47,$B$4:B47,1,FALSE)","v":{"$error":"#N/A"}}]
[null,{"$f":"Results!A51","v":0},{"$f":"Results!C51","v":0},{"$f":"Results!B51","v":0},{"$f":"Results!D51","v":0},{"$f":"Results!G51","v":""},"- vs -",{"$f":"VLOOKUP(B48,Results!$A$8:AR102,44,FALSE)","v":{"$error":"#N/A"}},{"$f":"VLOOKUP(H48,Results!A$8:G103,3,FALSE)","v":{"$error":"#N/A"}},{"$f":"VLOOKUP(H48,Results!$A$8:G103,2,FALSE)","v":{"$error":"#N/A"}},{"$f":"VLOOKUP(H48,Results!$A$8:G103,4,FALSE)","v":{"$error":"#N/A"}},{"$f":"VLOOKUP(H48,Results!$A$8:G103,7,FALSE)","v":{"$error":"#N/A"}},{"$f":"VLOOKUP(H48,$B$4:B48,1,FALSE)","v":{"$error":"#N/A"}}]
[null,{"$f":"Results!A52","v":0},{"$f":"Results!C52","v":0},{"$f":"Results!B52","v":0},{"$f":"Results!D52","v":0},{"$f":"Results!G52","v":""},"- vs -",{"$f":"VLOOKUP(B49,Results!$A$8:AR103,44,FALSE)","v":{"$error":"#N/A"}},{"$f":"VLOOKUP(H49,Results!A$8:G104,3,FALSE)","v":{"$error":"#N/A"}},{"$f":"VLOOKUP(H49,Results!$A$8:G104,2,FALSE)","v":{"$error":"#N/A"}},{"$f":"VLOOKUP(H49,Results!$A$8:G104,4,FALSE)","v":{"$error":"#N/A"}},{"$f":"VLOOKUP(H49,Results!$A$8:G104,7,FALSE)","v":{"$error":"#N/A"}},{"$f":"VLOOKUP(H49,$B$4:B49,1,FALSE)","v":{"$error":"#N/A"}}]
[null,{"$f":"Results!A53","v":0},{"$f":"Results!C53","v":0},{"$f":"Results!B53","v":0},{"$f":"Results!D53","v":0},{"$f":"Results!G53","v":""},"- vs -",{"$f":"VLOOKUP(B50,Results!$A$8:AR104,44,FALSE)","v":{"$error":"#N/A"}},{"$f":"VLOOKUP(H50,Results!A$8:G105,3,FALSE)","v":{"$error":"#N/A"}},{"$f":"VLOOKUP(H50,Results!$A$8:G105,2,FALSE)","v":{"$error":"#N/A"}},{"$f":"VLOOKUP(H50,Results!$A$8:G105,4,FALSE)","v":{"$error":"#N/A"}},{"$f":"VLOOKUP(H50,Results!$A$8:G105,7,FALSE)","v":{"$error":"#N/A"}},{"$f":"VLOOKUP(H50,$B$4:B50,1,FALSE)","v":{"$error":"#N/A"}}]
[null,{"$f":"Results!A54","v":0},{"$f":"Results!C54","v":0},{"$f":"Results!B54","v":0},{"$f":"Results!D54","v":0},{"$f":"Results!G54","v":""},"- vs -",{"$f":"VLOOKUP(B51,Results!$A$8:AR105,44,FALSE)","v":{"$error":"#N/A"}},{"$f":"VLOOKUP(H51,Results!A$8:G106,3,FALSE)","v":{"$error":"#N/A"}},{"$f":"VLOOKUP(H51,Results!$A$8:G106,2,FALSE)","v":{"$error":"#N/A"}},{"$f":"VLOOKUP(H51,Results!$A$8:G106,4,FALSE)","v":{"$error":"#N/A"}},{"$f":"VLOOKUP(H51,Results!$A$8:G106,7,FALSE)","v":{"$error":"#N/A"}},{"$f":"VLOOKUP(H51,$B$4:B51,1,FALSE)","v":{"$error":"#N/A"}}]
[null,{"$f":"Results!A55","v":0},{"$f":"Results!C55","v":0},{"$f":"Results!B55","v":0},{"$f":"Results!D55","v":0},{"$f":"Results!G55","v":""},"- vs -",{"$f":"VLOOKUP(B52,Results!$A$8:AR106,44,FALSE)","v":{"$error":"#N/A"}},{"$f":"VLOOKUP(H52,Results!A$8:G108,3,FALSE)","v":{"$error":"#N/A"}},{"$f":"VLOOKUP(H52,Results!$A$8:G108,2,FALSE)","v":{"$error":"#N/A"}},{"$f":"VLOOKUP(H52,Results!$A$8:G108,4,FALSE)","v":{"$error":"#N/A"}},{"$f":"VLOOKUP(H52,Results!$A$8:G108,7,FALSE)","v":{"$error":"#N/A"}},{"$f":"VLOOKUP(H52,$B$4:B52,1,FALSE)","v":{"$error":"#N/A"}}]
[null,{"$f":"Results!A56","v":0},{"$f":"Results!C56","v":0},{"$f":"Results!B56","v":0},{"$f":"Results!D56","v":0},{"$f":"Results!G56","v":""},"- vs -",{"$f":"VLOOKUP(B53,Results!$A$8:AR108,44,FALSE)","v":{"$error":"#N/A"}},{"$f":"VLOOKUP(H53,Results!A$8:G109,3,FALSE)","v":{"$error":"#N/A"}},{"$f":"VLOOKUP(H53,Results!$A$8:G109,2,FALSE)","v":{"$error":"#N/A"}},{"$f":"VLOOKUP(H53,Results!$A$8:G109,4,FALSE)","v":{"$error":"#N/A"}},{"$f":"VLOOKUP(H53,Results!$A$8:G109,7,FALSE)","v":{"$error":"#N/A"}},{"$f":"VLOOKUP(H53,$B$4:B53,1,FALSE)","v":{"$error":"#N/A"}}]
[null,{"$f":"Results!A57","v":0},{"$f":"Results!C57","v":0},{"$f":"Results!B57","v":0},{"$f":"Results!D57","v":0},{"$f":"Results!G57","v":""},"- vs -",{"$f":"VLOOKUP(B54,Results!$A$8:AR109,44,FALSE)","v":{"$error":"#N/A"}},{"$f":"VLOOKUP(H54,Results!A$8:G110,3,FALSE)","v":{"$error":"#N/A"}},{"$f":"VLOOKUP(H54,Results!$A$8:G110,2,FALSE)","v":{"$error":"#N/A"}},{"$f":"VLOOKUP(H54,Results!$A$8:G110,4,FALSE)","v":{"$error":"#N/A"}},{"$f":"VLOOKUP(H54,Results!$A$8:G110,7,FALSE)","v":{"$error":"#N/A"}},{"$f":"VLOOKUP(H54,$B$4:B54,1,FALSE)","v":{"$error":"#N/A"}}]
[null,{"$f":"Results!A58","v":0},{"$f":"Results!C58","v":0},{"$f":"Results!B58","v":0},{"$f":"Results!D58","v":0},{"$f":"Results!G58","v":""},"- vs -",{"$f":"VLOOKUP(B55,Results!$A$8:AR110,44,FALSE)","v":{"$error":"#N/A"}},{"$f":"VLOOKUP(H55,Results!A$8:G111,3,FALSE)","v":{"$error":"#N/A"}},{"$f":"VLOOKUP(H55,Results!$A$8:G111,2,FALSE)","v":{"$error":"#N/A"}},{"$f":"VLOOKUP(H55,Results!$A$8:G111,4,FALSE)","v":{"$error":"#N/A"}},{"$f":"VLOOKUP(H55,Results!$A$8:G111,7,FALSE)","v":{"$error":"#N/A"}},{"$f":"VLOOKUP(H55,$B$4:B55,1,FALSE)","v":{"$error":"#N/A"}}]
[null,{"$f":"Results!A59","v":0},{"$f":"Results!C59","v":0},{"$f":"Results!B59","v":0},{"$f":"Results!D59","v":0},{"$f":"Results!G59","v":""},"- vs -",{"$f":"VLOOKUP(B56,Results!$A$8:AR111,44,FALSE)","v":{"$error":"#N/A"}},{"$f":"VLOOKUP(H56,Results!A$8:G112,3,FALSE)","v":{"$error":"#N/A"}},{"$f":"VLOOKUP(H56,Results!$A$8:G112,2,FALSE)","v":{"$error":"#N/A"}},{"$f":"VLOOKUP(H56,Results!$A$8:G112,4,FALSE)","v":{"$error":"#N/A"}},{"$f":"VLOOKUP(H56,Results!$A$8:G112,7,FALSE)","v":{"$error":"#N/A"}},{"$f":"VLOOKUP(H56,$B$4:B56,1,FALSE)","v":{"$error":"#N/A"}}]
[null,{"$f":"Results!A60","v":0},{"$f":"Results!C60","v":0},{"$f":"Results!B60","v":0},{"$f":"Results!D60","v":0},{"$f":"Results!G60","v":""},"- vs -",{"$f":"VLOOKUP(B57,Results!$A$8:AR112,44,FALSE)","v":{"$error":"#N/A"}},{"$f":"VLOOKUP(H57,Results!A$8:G113,3,FALSE)","v":{"$error":"#N/A"}},{"$f":"VLOOKUP(H57,Results!$A$8:G113,2,FALSE)","v":{"$error":"#N/A"}},{"$f":"VLOOKUP(H57,Results!$A$8:G113,4,FALSE)","v":{"$error":"#N/A"}},{"$f":"VLOOKUP(H57,Results!$A$8:G113,7,FALSE)","v":{"$error":"#N/A"}},{"$f":"VLOOKUP(H57,$B$4:B57,1,FALSE)","v":{"$error":"#N/A"}}]
[null,{"$f":"Results!A61","v":0},{"$f":"Results!C61","v":0},{"$f":"Results!B61","v":0},{"$f":"Results!D61","v":0},{"$f":"Results!G61","v":""},"- vs -",{"$f":"VLOOKUP(B58,Results!$A$8:AR113,44,FALSE)","v":{"$error":"#N/A"}},{"$f":"VLOOKUP(H58,Results!A$8:G114,3,FALSE)","v":{"$error":"#N/A"}},{"$f":"VLOOKUP(H58,Results!$A$8:G114,2,FALSE)","v":{"$error":"#N/A"}},{"$f":"VLOOKUP(H58,Results!$A$8:G114,4,FALSE)","v":{"$error":"#N/A"}},{"$f":"VLOOKUP(H58,Results!$A$8:G114,7,FALSE)","v":{"$error":"#N/A"}},{"$f":"VLOOKUP(H58,$B$4:B58,1,FALSE)","v":{"$error":"#N/A"}}]
[null,{"$f":"Results!A62","v":0},{"$f":"Results!C62","v":0},{"$f":"Results!B62","v":0},{"$f":"Results!D62","v":0},{"$f":"Results!G62","v":0},"- vs -",{"$f":"VLOOKUP(B59,Results!$A$8:AR114,44,FALSE)","v":{"$error":"#N/A"}},{"$f":"VLOOKUP(H59,Results!A$8:G115,3,FALSE)","v":{"$error":"#N/A"}},{"$f":"VLOOKUP(H59,Results!$A$8:G115,2,FALSE)","v":{"$error":"#N/A"}},{"$f":"VLOOKUP(H59,Results!$A$8:G115,4,FALSE)","v":{"$error":"#N/A"}},{"$f":"VLOOKUP(H59,Results!$A$8:G115,7,FALSE)","v":{"$error":"#N/A"}},{"$f":"VLOOKUP(H59,$B$4:B59,1,FALSE)","v":{"$error":"#N/A"}}]
[null,{"$f":"Results!A63","v":0},{"$f":"Results!C63","v":0},{"$f":"Results!B63","v":0},{"$f":"Results!D63","v":0},{"$f":"Results!G63","v":0},"- vs -",{"$f":"VLOOKUP(B60,Results!$A$8:AR115,44,FALSE)","v":{"$error":"#N/A"}},{"$f":"VLOOKUP(H60,Results!A$8:G116,3,FALSE)","v":{"$error":"#N/A"}},{"$f":"VLOOKUP(H60,Results!$A$8:G116,2,FALSE)","v":{"$error":"#N/A"}},{"$f":"VLOOKUP(H60,Results!$A$8:G116,4,FALSE)","v":{"$error":"#N/A"}},{"$f":"VLOOKUP(H60,Results!$A$8:G116,7,FALSE)","v":{"$error":"#N/A"}},{"$f":"VLOOKUP(H60,$B$4:B60,1,FALSE)","v":{"$error":"#N/A"}}]
[null,{"$f":"Results!A64","v":0},{"$f":"Results!C64","v":0},{"$f":"Results!B64","v":0},{"$f":"Results!D64","v":0},{"$f":"Results!G64","v":0},"- vs -",{"$f":"VLOOKUP(B61,Results!$A$8:AR116,44,FALSE)","v":{"$error":"#N/A"}},{"$f":"VLOOKUP(H61,Results!A$8:G117,3,FALSE)","v":{"$error":"#N/A"}},{"$f":"VLOOKUP(H61,Results!$A$8:G117,2,FALSE)","v":{"$error":"#N/A"}},{"$f":"VLOOKUP(H61,Results!$A$8:G117,4,FALSE)","v":{"$error":"#N/A"}},{"$f":"VLOOKUP(H61,Results!$A$8:G117,7,FALSE)","v":{"$error":"#N/A"}},{"$f":"VLOOKUP(H61,$B$4:B61,1,FALSE)","v":{"$error":"#N/A"}}]
[null,{"$f":"Results!A65","v":0},{"$f":"Results!C65","v":0},{"$f":"Results!B65","v":0},{"$f":"Results!D65","v":0},{"$f":"Results!G65","v":0},"- vs -",{"$f":"VLOOKUP(B62,Results!$A$8:AR117,44,FALSE)","v":{"$error":"#N/A"}},{"$f":"VLOOKUP(H62,Results!A$8:G118,3,FALSE)","v":{"$error":"#N/A"}},{"$f":"VLOOKUP(H62,Results!$A$8:G118,2,FALSE)","v":{"$error":"#N/A"}},{"$f":"VLOOKUP(H62,Results!$A$8:G118,4,FALSE)","v":{"$error":"#N/A"}},{"$f":"VLOOKUP(H62,Results!$A$8:G118,7,FALSE)","v":{"$error":"#N/A"}},{"$f":"VLOOKUP(H62,$B$4:B62,1,FALSE)","v":{"$error":"#N/A"}}]
[null,{"$f":"Results!A66","v":0},{"$f":"Results!C66","v":0},{"$f":"Results!B66","v":0},{"$f":"Results!D66","v":0},{"$f":"Results!G66","v":0},"- vs -",{"$f":"VLOOKUP(B63,Results!$A$8:AR118,44,FALSE)","v":{"$error":"#N/A"}},{"$f":"VLOOKUP(H63,Results!A$8:G119,3,FALSE)","v":{"$error":"#N/A"}},{"$f":"VLOOKUP(H63,Results!$A$8:G119,2,FALSE)","v":{"$error":"#N/A"}},{"$f":"VLOOKUP(H63,Results!$A$8:G119,4,FALSE)","v":{"$error":"#N/A"}},{"$f":"VLOOKUP(H63,Results!$A$8:G119,7,FALSE)","v":{"$error":"#N/A"}},{"$f":"VLOOKUP(H63,$B$4:B63,1,FALSE)","v":{"$error":"#N/A"}}]

{"sheet":"Round 7","index":15,"n_rows":63,"n_cols":13,"rows_kept":63}
[null,null,"First Name","Surname","Club",{"$nulls":3},"First Name","Surname","Club"]
["Round 5 Draw",null,{"$f":"Results!B3","v":0}]
[null,null,{"$f":"Results!B4","v":"Open Theme"},{"$nulls":5},"`"]
[{"$nulls":12},"VALID?"]
[null,{"$f":"Results!A8","v":1},{"$f":"Results!C8","v":0},{"$f":"Results!B8","v":"Team 1 A"},{"$f":"Results!D8","v":0},{"$f":"Results!G8","v":""},"- vs -",{"$f":"VLOOKUP(B5,Results!$A$8:AY59,51,FALSE)","v":0},{"$f":"VLOOKUP(H5,Results!A$8:G60,3,FALSE)","v":{"$error":"#N/A"}},{"$f":"VLOOKUP(H5,Results!$A$8:G60,2,FALSE)","v":{"$error":"#N/A"}},{"$f":"VLOOKUP(H5,Results!$A$8:G60,4,FALSE)","v":{"$error":"#N/A"}},{"$f":"VLOOKUP(H5,Results!$A$8:G60,7,FALSE)","v":{"$error":"#N/A"}},{"$f":"VLOOKUP(H5,$B$4:B5,1,FALSE)","v":{"$error":"#N/A"}}]
[null,{"$f":"Results!A9","v":2},{"$f":"Results!C9","v":0},{"$f":"Results!B9","v":"Team 1 B"},{"$f":"Results!D9","v":0},{"$f":"Results!G9","v":""},"- vs -",{"$f":"VLOOKUP(B6,Results!$A$8:AY60,51,FALSE)","v":0},{"$f":"VLOOKUP(H6,Results!A$8:G61,3,FALSE)","v":{"$error":"#N/A"}},{"$f":"VLOOKUP(H6,Results!$A$8:G61,2,FALSE)","v":{"$error":"#N/A"}},{"$f":"VLOOKUP(H6,Results!$A$8:G61,4,FALSE)","v":{"$error":"#N/A"}},{"$f":"VLOOKUP(H6,Results!$A$8:G61,7,FALSE)","v":{"$error":"#N/A"}},{"$f":"VLOOKUP(H6,$B$4:B6,1,FALSE)","v":{"$error":"#N/A"}}]
[null,{"$f":"Results!A10","v":3},{"$f":"Results!C10","v":0},{"$f":"Results!B10","v":"Team 1 C"},{"$f":"Results!D10","v":0},{"$f":"Results!G10","v":""},"- vs -",{"$f":"VLOOKUP(B7,Results!$A$8:AY61,51,FALSE)","v":0},{"$f":"VLOOKUP(H7,Results!A$8:G62,3,FALSE)","v":{"$error":"#N/A"}},{"$f":"VLOOKUP(H7,Results!$A$8:G62,2,FALSE)","v":{"$error":"#N/A"}},{"$f":"VLOOKUP(H7,Results!$A$8:G62,4,FALSE)","v":{"$error":"#N/A"}},{"$f":"VLOOKUP(H7,Results!$A$8:G62,7,FALSE)","v":{"$error":"#N/A"}},{"$f":"VLOOKUP(H7,$B$4:B7,1,FALSE)","v":{"$error":"#N/A"}}]
[null,{"$f":"Results!A11","v":4},{"$f":"Results!C11","v":0},{"$f":"Results!B11","v":"Team 2 A"},{"$f":"Results!D11","v":0},{"$f":"Results!G11","v":""},"- vs -",{"$f":"VLOOKUP(B8,Results!$A$8:AY62,51,FALSE)","v":0},{"$f":"VLOOKUP(H8,Results!A$8:G63,3,FALSE)","v":{"$error":"#N/A"}},{"$f":"VLOOKUP(H8,Results!$A$8:G63,2,FALSE)","v":{"$error":"#N/A"}},{"$f":"VLOOKUP(H8,Results!$A$8:G63,4,FALSE)","v":{"$error":"#N/A"}},{"$f":"VLOOKUP(H8,Results!$A$8:G63,7,FALSE)","v":{"$error":"#N/A"}},{"$f":"VLOOKUP(H8,$B$4:B8,1,FALSE)","v":{"$error":"#N/A"}}]
[null,{"$f":"Results!A12","v":5},{"$f":"Results!C12","v":0},{"$f":"Results!B12","v":"Team 2 B"},{"$f":"Results!D12","v":0},{"$f":"Results!G12","v":""},"- vs -",{"$f":"VLOOKUP(B9,Results!$A$8:AY63,51,FALSE)","v":0},{"$f":"VLOOKUP(H9,Results!A$8:G64,3,FALSE)","v":{"$error":"#N/A"}},{"$f":"VLOOKUP(H9,Results!$A$8:G64,2,FALSE)","v":{"$error":"#N/A"}},{"$f":"VLOOKUP(H9,Results!$A$8:G64,4,FALSE)","v":{"$error":"#N/A"}},{"$f":"VLOOKUP(H9,Results!$A$8:G64,7,FALSE)","v":{"$error":"#N/A"}},{"$f":"VLOOKUP(H9,$B$4:B9,1,FALSE)","v":{"$error":"#N/A"}}]
[null,{"$f":"Results!A13","v":6},{"$f":"Results!C13","v":0},{"$f":"Results!B13","v":"Team 2 C"},{"$f":"Results!D13","v":0},{"$f":"Results!G13","v":""},"- vs -",{"$f":"VLOOKUP(B10,Results!$A$8:AY64,51,FALSE)","v":0},{"$f":"VLOOKUP(H10,Results!A$8:G65,3,FALSE)","v":{"$error":"#N/A"}},{"$f":"VLOOKUP(H10,Results!$A$8:G65,2,FALSE)","v":{"$error":"#N/A"}},{"$f":"VLOOKUP(H10,Results!$A$8:G65,4,FALSE)","v":{"$error":"#N/A"}},{"$f":"VLOOKUP(H10,Results!$A$8:G65,7,FALSE)","v":{"$error":"#N/A"}},{"$f":"VLOOKUP(H10,$B$4:B10,1,FALSE)","v":{"$error":"#N/A"}}]
[null,{"$f":"Results!A14","v":7},{"$f":"Results!C14","v":0},{"$f":"Results!B14","v":"Team 3 A"},{"$f":"Results!D14","v":0},{"$f":"Results!G14","v":""},"- vs -",{"$f":"VLOOKUP(B11,Results!$A$8:AY65,51,FALSE)","v":0},{"$f":"VLOOKUP(H11,Results!A$8:G66,3,FALSE)","v":{"$error":"#N/A"}},{"$f":"VLOOKUP(H11,Results!$A$8:G66,2,FALSE)","v":{"$error":"#N/A"}},{"$f":"VLOOKUP(H11,Results!$A$8:G66,4,FALSE)","v":{"$error":"#N/A"}},{"$f":"VLOOKUP(H11,Results!$A$8:G66,7,FALSE)","v":{"$error":"#N/A"}},{"$f":"VLOOKUP(H11,$B$4:B11,1,FALSE)","v":{"$error":"#N/A"}}]
[null,{"$f":"Results!A15","v":8},{"$f":"Results!C15","v":0},{"$f":"Results!B15","v":"Team 3 B"},{"$f":"Results!D15","v":0},{"$f":"Results!G15","v":""},"- vs -",{"$f":"VLOOKUP(B12,Results!$A$8:AY66,51,FALSE)","v":0},{"$f":"VLOOKUP(H12,Results!A$8:G67,3,FALSE)","v":{"$error":"#N/A"}},{"$f":"VLOOKUP(H12,Results!$A$8:G67,2,FALSE)","v":{"$error":"#N/A"}},{"$f":"VLOOKUP(H12,Results!$A$8:G67,4,FALSE)","v":{"$error":"#N/A"}},{"$f":"VLOOKUP(H12,Results!$A$8:G67,7,FALSE)","v":{"$error":"#N/A"}},{"$f":"VLOOKUP(H12,$B$4:B12,1,FALSE)","v":{"$error":"#N/A"}}]
[null,{"$f":"Results!A16","v":9},{"$f":"Results!C16","v":0},{"$f":"Results!B16","v":"Team 3 C"},{"$f":"Results!D16","v":0},{"$f":"Results!G16","v":""},"- vs -",{"$f":"VLOOKUP(B13,Results!$A$8:AY67,51,FALSE)","v":0},{"$f":"VLOOKUP(H13,Results!A$8:G68,3,FALSE)","v":{"$error":"#N/A"}},{"$f":"VLOOKUP(H13,Results!$A$8:G68,2,FALSE)","v":{"$error":"#N/A"}},{"$f":"VLOOKUP(H13,Results!$A$8:G68,4,FALSE)","v":{"$error":"#N/A"}},{"$f":"VLOOKUP(H13,Results!$A$8:G68,7,FALSE)","v":{"$error":"#N/A"}},{"$f":"VLOOKUP(H13,$B$4:B13,1,FALSE)","v":{"$error":"#N/A"}}]
[null,{"$f":"Results!A17","v":10},{"$f":"Results!C17","v":0},{"$f":"Results!B17","v":"Team 4 A"},{"$f":"Results!D17","v":0},{"$f":"Results!G17","v":""},"- vs -",{"$f":"VLOOKUP(B14,Results!$A$8:AY68,51,FALSE)","v":0},{"$f":"VLOOKUP(H14,Results!A$8:G69,3,FALSE)","v":{"$error":"#N/A"}},{"$f":"VLOOKUP(H14,Results!$A$8:G69,2,FALSE)","v":{"$error":"#N/A"}},{"$f":"VLOOKUP(H14,Results!$A$8:G69,4,FALSE)","v":{"$error":"#N/A"}},{"$f":"VLOOKUP(H14,Results!$A$8:G69,7,FALSE)","v":{"$error":"#N/A"}},{"$f":"VLOOKUP(H14,$B$4:B14,1,FALSE)","v":{"$error":"#N/A"}}]
[null,{"$f":"Results!A18","v":11},{"$f":"Results!C18","v":0},{"$f":"Results!B18","v":"Team 4 B"},{"$f":"Results!D18","v":0},{"$f":"Results!G18","v":""},"- vs -",{"$f":"VLOOKUP(B15,Results!$A$8:AY69,51,FALSE)","v":0},{"$f":"VLOOKUP(H15,Results!A$8:G70,3,FALSE)","v":{"$error":"#N/A"}},{"$f":"VLOOKUP(H15,Results!$A$8:G70,2,FALSE)","v":{"$error":"#N/A"}},{"$f":"VLOOKUP(H15,Results!$A$8:G70,4,FALSE)","v":{"$error":"#N/A"}},{"$f":"VLOOKUP(H15,Results!$A$8:G70,7,FALSE)","v":{"$error":"#N/A"}},{"$f":"VLOOKUP(H15,$B$4:B15,1,FALSE)","v":{"$error":"#N/A"}}]
[null,{"$f":"Results!A19","v":12},{"$f":"Results!C19","v":0},{"$f":"Results!B19","v":"Team 4 C"},{"$f":"Results!D19","v":0},{"$f":"Results!G19","v":""},"- vs -",{"$f":"VLOOKUP(B16,Results!$A$8:AY70,51,FALSE)","v":0},{"$f":"VLOOKUP(H16,Results!A$8:G71,3,FALSE)","v":{"$error":"#N/A"}},{"$f":"VLOOKUP(H16,Results!$A$8:G71,2,FALSE)","v":{"$error":"#N/A"}},{"$f":"VLOOKUP(H16,Results!$A$8:G71,4,FALSE)","v":{"$error":"#N/A"}},{"$f":"VLOOKUP(H16,Results!$A$8:G71,7,FALSE)","v":{"$error":"#N/A"}},{"$f":"VLOOKUP(H16,$B$4:B16,1,FALSE)","v":{"$error":"#N/A"}}]
[null,{"$f":"Results!A20","v":13},{"$f":"Results!C20","v":0},{"$f":"Results!B20","v":"Team 5 A"},{"$f":"Results!D20","v":0},{"$f":"Results!G20","v":""},"- vs -",{"$f":"VLOOKUP(B17,Results!$A$8:AY71,51,FALSE)","v":0},{"$f":"VLOOKUP(H17,Results!A$8:G72,3,FALSE)","v":{"$error":"#N/A"}},{"$f":"VLOOKUP(H17,Results!$A$8:G72,2,FALSE)","v":{"$error":"#N/A"}},{"$f":"VLOOKUP(H17,Results!$A$8:G72,4,FALSE)","v":{"$error":"#N/A"}},{"$f":"VLOOKUP(H17,Results!$A$8:G72,7,FALSE)","v":{"$error":"#N/A"}},{"$f":"VLOOKUP(H17,$B$4:B17,1,FALSE)","v":{"$error":"#N/A"}}]
[null,{"$f":"Results!A21","v":14},{"$f":"Results!C21","v":0},{"$f":"Results!B21","v":"Team 5 B"},{"$f":"Results!D21","v":0},{"$f":"Results!G21","v":""},"- vs -",{"$f":"VLOOKUP(B18,Results!$A$8:AY72,51,FALSE)","v":0},{"$f":"VLOOKUP(H18,Results!A$8:G73,3,FALSE)","v":{"$error":"#N/A"}},{"$f":"VLOOKUP(H18,Results!$A$8:G73,2,FALSE)","v":{"$error":"#N/A"}},{"$f":"VLOOKUP(H18,Results!$A$8:G73,4,FALSE)","v":{"$error":"#N/A"}},{"$f":"VLOOKUP(H18,Results!$A$8:G73,7,FALSE)","v":{"$error":"#N/A"}},{"$f":"VLOOKUP(H18,$B$4:B18,1,FALSE)","v":{"$error":"#N/A"}}]
[null,{"$f":"Results!A22","v":15},{"$f":"Results!C22","v":0},{"$f":"Results!B22","v":"Team 5 C"},{"$f":"Results!D22","v":0},{"$f":"Results!G22","v":""},"- vs -",{"$f":"VLOOKUP(B19,Results!$A$8:AY73,51,FALSE)","v":0},{"$f":"VLOOKUP(H19,Results!A$8:G74,3,FALSE)","v":{"$error":"#N/A"}},{"$f":"VLOOKUP(H19,Results!$A$8:G74,2,FALSE)","v":{"$error":"#N/A"}},{"$f":"VLOOKUP(H19,Results!$A$8:G74,4,FALSE)","v":{"$error":"#N/A"}},{"$f":"VLOOKUP(H19,Results!$A$8:G74,7,FALSE)","v":{"$error":"#N/A"}},{"$f":"VLOOKUP(H19,$B$4:B19,1,FALSE)","v":{"$error":"#N/A"}}]
[null,{"$f":"Results!A23","v":16},{"$f":"Results!C23","v":0},{"$f":"Results!B23","v":"Team 6 A"},{"$f":"Results!D23","v":0},{"$f":"Results!G23","v":""},"- vs -",{"$f":"VLOOKUP(B20,Results!$A$8:AY74,51,FALSE)","v":0},{"$f":"VLOOKUP(H20,Results!A$8:G75,3,FALSE)","v":{"$error":"#N/A"}},{"$f":"VLOOKUP(H20,Results!$A$8:G75,2,FALSE)","v":{"$error":"#N/A"}},{"$f":"VLOOKUP(H20,Results!$A$8:G75,4,FALSE)","v":{"$error":"#N/A"}},{"$f":"VLOOKUP(H20,Results!$A$8:G75,7,FALSE)","v":{"$error":"#N/A"}},{"$f":"VLOOKUP(H20,$B$4:B20,1,FALSE)","v":{"$error":"#N/A"}}]
[null,{"$f":"Results!A24","v":17},{"$f":"Results!C24","v":0},{"$f":"Results!B24","v":"Team 6 B"},{"$f":"Results!D24","v":0},{"$f":"Results!G24","v":""},"- vs -",{"$f":"VLOOKUP(B21,Results!$A$8:AY75,51,FALSE)","v":0},{"$f":"VLOOKUP(H21,Results!A$8:G76,3,FALSE)","v":{"$error":"#N/A"}},{"$f":"VLOOKUP(H21,Results!$A$8:G76,2,FALSE)","v":{"$error":"#N/A"}},{"$f":"VLOOKUP(H21,Results!$A$8:G76,4,FALSE)","v":{"$error":"#N/A"}},{"$f":"VLOOKUP(H21,Results!$A$8:G76,7,FALSE)","v":{"$error":"#N/A"}},{"$f":"VLOOKUP(H21,$B$4:B21,1,FALSE)","v":{"$error":"#N/A"}}]
[null,{"$f":"Results!A25","v":18},{"$f":"Results!C25","v":0},{"$f":"Results!B25","v":"Team 6 C"},{"$f":"Results!D25","v":0},{"$f":"Results!G25","v":""},"- vs -",{"$f":"VLOOKUP(B22,Results!$A$8:AY76,51,FALSE)","v":0},{"$f":"VLOOKUP(H22,Results!A$8:G77,3,FALSE)","v":{"$error":"#N/A"}},{"$f":"VLOOKUP(H22,Results!$A$8:G77,2,FALSE)","v":{"$error":"#N/A"}},{"$f":"VLOOKUP(H22,Results!$A$8:G77,4,FALSE)","v":{"$error":"#N/A"}},{"$f":"VLOOKUP(H22,Results!$A$8:G77,7,FALSE)","v":{"$error":"#N/A"}},{"$f":"VLOOKUP(H22,$B$4:B22,1,FALSE)","v":{"$error":"#N/A"}}]
[null,{"$f":"Results!A26","v":0},{"$f":"Results!C26","v":0},{"$f":"Results!B26","v":0},{"$f":"Results!D26","v":0},{"$f":"Results!G26","v":""},"- vs -",{"$f":"VLOOKUP(B23,Results!$A$8:AY77,51,FALSE)","v":{"$error":"#N/A"}},{"$f":"VLOOKUP(H23,Results!A$8:G78,3,FALSE)","v":{"$error":"#N/A"}},{"$f":"VLOOKUP(H23,Results!$A$8:G78,2,FALSE)","v":{"$error":"#N/A"}},{"$f":"VLOOKUP(H23,Results!$A$8:G78,4,FALSE)","v":{"$error":"#N/A"}},{"$f":"VLOOKUP(H23,Results!$A$8:G78,7,FALSE)","v":{"$error":"#N/A"}},{"$f":"VLOOKUP(H23,$B$4:B23,1,FALSE)","v":{"$error":"#N/A"}}]
[null,{"$f":"Results!A27","v":0},{"$f":"Results!C27","v":0},{"$f":"Results!B27","v":0},{"$f":"Results!D27","v":0},{"$f":"Results!G27","v":""},"- vs -",{"$f":"VLOOKUP(B24,Results!$A$8:AY78,51,FALSE)","v":{"$error":"#N/A"}},{"$f":"VLOOKUP(H24,Results!A$8:G79,3,FALSE)","v":{"$error":"#N/A"}},{"$f":"VLOOKUP(H24,Results!$A$8:G79,2,FALSE)","v":{"$error":"#N/A"}},{"$f":"VLOOKUP(H24,Results!$A$8:G79,4,FALSE)","v":{"$error":"#N/A"}},{"$f":"VLOOKUP(H24,Results!$A$8:G79,7,FALSE)","v":{"$error":"#N/A"}},{"$f":"VLOOKUP(H24,$B$4:B24,1,FALSE)","v":{"$error":"#N/A"}}]
[null,{"$f":"Results!A28","v":0},{"$f":"Results!C28","v":0},{"$f":"Results!B28","v":0},{"$f":"Results!D28","v":0},{"$f":"Results!G28","v":""},"- vs -",{"$f":"VLOOKUP(B25,Results!$A$8:AY79,51,FALSE)","v":{"$error":"#N/A"}},{"$f":"VLOOKUP(H25,Results!A$8:G80,3,FALSE)","v":{"$error":"#N/A"}},{"$f":"VLOOKUP(H25,Results!$A$8:G80,2,FALSE)","v":{"$error":"#N/A"}},{"$f":"VLOOKUP(H25,Results!$A$8:G80,4,FALSE)","v":{"$error":"#N/A"}},{"$f":"VLOOKUP(H25,Results!$A$8:G80,7,FALSE)","v":{"$error":"#N/A"}},{"$f":"VLOOKUP(H25,$B$4:B25,1,FALSE)","v":{"$error":"#N/A"}}]
[null,{"$f":"Results!A29","v":0},{"$f":"Results!C29","v":0},{"$f":"Results!B29","v":0},{"$f":"Results!D29","v":0},{"$f":"Results!G29","v":""},"- vs -",{"$f":"VLOOKUP(B26,Results!$A$8:AY80,51,FALSE)","v":{"$error":"#N/A"}},{"$f":"VLOOKUP(H26,Results!A$8:G81,3,FALSE)","v":{"$error":"#N/A"}},{"$f":"VLOOKUP(H26,Results!$A$8:G81,2,FALSE)","v":{"$error":"#N/A"}},{"$f":"VLOOKUP(H26,Results!$A$8:G81,4,FALSE)","v":{"$error":"#N/A"}},{"$f":"VLOOKUP(H26,Results!$A$8:G81,7,FALSE)","v":{"$error":"#N/A"}},{"$f":"VLOOKUP(H26,$B$4:B26,1,FALSE)","v":{"$error":"#N/A"}}]
[null,{"$f":"Results!A30","v":0},{"$f":"Results!C30","v":0},{"$f":"Results!B30","v":0},{"$f":"Results!D30","v":0},{"$f":"Results!G30","v":""},"- vs -",{"$f":"VLOOKUP(B27,Results!$A$8:AY81,51,FALSE)","v":{"$error":"#N/A"}},{"$f":"VLOOKUP(H27,Results!A$8:G82,3,FALSE)","v":{"$error":"#N/A"}},{"$f":"VLOOKUP(H27,Results!$A$8:G82,2,FALSE)","v":{"$error":"#N/A"}},{"$f":"VLOOKUP(H27,Results!$A$8:G82,4,FALSE)","v":{"$error":"#N/A"}},{"$f":"VLOOKUP(H27,Results!$A$8:G82,7,FALSE)","v":{"$error":"#N/A"}},{"$f":"VLOOKUP(H27,$B$4:B27,1,FALSE)","v":{"$error":"#N/A"}}]
[null,{"$f":"Results!A31","v":0},{"$f":"Results!C31","v":0},{"$f":"Results!B31","v":0},{"$f":"Results!D31","v":0},{"$f":"Results!G31","v":""},"- vs -",{"$f":"VLOOKUP(B28,Results!$A$8:AY82,51,FALSE)","v":{"$error":"#N/A"}},{"$f":"VLOOKUP(H28,Results!A$8:G83,3,FALSE)","v":{"$error":"#N/A"}},{"$f":"VLOOKUP(H28,Results!$A$8:G83,2,FALSE)","v":{"$error":"#N/A"}},{"$f":"VLOOKUP(H28,Results!$A$8:G83,4,FALSE)","v":{"$error":"#N/A"}},{"$f":"VLOOKUP(H28,Results!$A$8:G83,7,FALSE)","v":{"$error":"#N/A"}},{"$f":"VLOOKUP(H28,$B$4:B28,1,FALSE)","v":{"$error":"#N/A"}}]
[null,{"$f":"Results!A32","v":0},{"$f":"Results!C32","v":0},{"$f":"Results!B32","v":0},{"$f":"Results!D32","v":0},{"$f":"Results!G32","v":""},"- vs -",{"$f":"VLOOKUP(B29,Results!$A$8:AY83,51,FALSE)","v":{"$error":"#N/A"}},{"$f":"VLOOKUP(H29,Results!A$8:G84,3,FALSE)","v":{"$error":"#N/A"}},{"$f":"VLOOKUP(H29,Results!$A$8:G84,2,FALSE)","v":{"$error":"#N/A"}},{"$f":"VLOOKUP(H29,Results!$A$8:G84,4,FALSE)","v":{"$error":"#N/A"}},{"$f":"VLOOKUP(H29,Results!$A$8:G84,7,FALSE)","v":{"$error":"#N/A"}},{"$f":"VLOOKUP(H29,$B$4:B29,1,FALSE)","v":{"$error":"#N/A"}}]
[null,{"$f":"Results!A33","v":0},{"$f":"Results!C33","v":0},{"$f":"Results!B33","v":0},{"$f":"Results!D33","v":0},{"$f":"Results!G33","v":""},"- vs -",{"$f":"VLOOKUP(B30,Results!$A$8:AY84,51,FALSE)","v":{"$error":"#N/A"}},{"$f":"VLOOKUP(H30,Results!A$8:G85,3,FALSE)","v":{"$error":"#N/A"}},{"$f":"VLOOKUP(H30,Results!$A$8:G85,2,FALSE)","v":{"$error":"#N/A"}},{"$f":"VLOOKUP(H30,Results!$A$8:G85,4,FALSE)","v":{"$error":"#N/A"}},{"$f":"VLOOKUP(H30,Results!$A$8:G85,7,FALSE)","v":{"$error":"#N/A"}},{"$f":"VLOOKUP(H30,$B$4:B30,1,FALSE)","v":{"$error":"#N/A"}}]
[null,{"$f":"Results!A34","v":0},{"$f":"Results!C34","v":0},{"$f":"Results!B34","v":0},{"$f":"Results!D34","v":0},{"$f":"Results!G34","v":""},"- vs -",{"$f":"VLOOKUP(B31,Results!$A$8:AY85,51,FALSE)","v":{"$error":"#N/A"}},{"$f":"VLOOKUP(H31,Results!A$8:G86,3,FALSE)","v":{"$error":"#N/A"}},{"$f":"VLOOKUP(H31,Results!$A$8:G86,2,FALSE)","v":{"$error":"#N/A"}},{"$f":"VLOOKUP(H31,Results!$A$8:G86,4,FALSE)","v":{"$error":"#N/A"}},{"$f":"VLOOKUP(H31,Results!$A$8:G86,7,FALSE)","v":{"$error":"#N/A"}},{"$f":"VLOOKUP(H31,$B$4:B31,1,FALSE)","v":{"$error":"#N/A"}}]
[null,{"$f":"Results!A35","v":0},{"$f":"Results!C35","v":0},{"$f":"Results!B35","v":0},{"$f":"Results!D35","v":0},{"$f":"Results!G35","v":""},"- vs -",{"$f":"VLOOKUP(B32,Results!$A$8:AY86,51,FALSE)","v":{"$error":"#N/A"}},{"$f":"VLOOKUP(H32,Results!A$8:G87,3,FALSE)","v":{"$error":"#N/A"}},{"$f":"VLOOKUP(H32,Results!$A$8:G87,2,FALSE)","v":{"$error":"#N/A"}},{"$f":"VLOOKUP(H32,Results!$A$8:G87,4,FALSE)","v":{"$error":"#N/A"}},{"$f":"VLOOKUP(H32,Results!$A$8:G87,7,FALSE)","v":{"$error":"#N/A"}},{"$f":"VLOOKUP(H32,$B$4:B32,1,FALSE)","v":{"$error":"#N/A"}}]
[null,{"$f":"Results!A36","v":0},{"$f":"Results!C36","v":0},{"$f":"Results!B36","v":0},{"$f":"Results!D36","v":0},{"$f":"Results!G36","v":""},"- vs -",{"$f":"VLOOKUP(B33,Results!$A$8:AY87,51,FALSE)","v":{"$error":"#N/A"}},{"$f":"VLOOKUP(H33,Results!A$8:G88,3,FALSE)","v":{"$error":"#N/A"}},{"$f":"VLOOKUP(H33,Results!$A$8:G88,2,FALSE)","v":{"$error":"#N/A"}},{"$f":"VLOOKUP(H33,Results!$A$8:G88,4,FALSE)","v":{"$error":"#N/A"}},{"$f":"VLOOKUP(H33,Results!$A$8:G88,7,FALSE)","v":{"$error":"#N/A"}},{"$f":"VLOOKUP(H33,$B$4:B33,1,FALSE)","v":{"$error":"#N/A"}}]
[null,{"$f":"Results!A37","v":0},{"$f":"Results!C37","v":0},{"$f":"Results!B37","v":0},{"$f":"Results!D37","v":0},{"$f":"Results!G37","v":""},"- vs -",{"$f":"VLOOKUP(B34,Results!$A$8:AY88,51,FALSE)","v":{"$error":"#N/A"}},{"$f":"VLOOKUP(H34,Results!A$8:G89,3,FALSE)","v":{"$error":"#N/A"}},{"$f":"VLOOKUP(H34,Results!$A$8:G89,2,FALSE)","v":{"$error":"#N/A"}},{"$f":"VLOOKUP(H34,Results!$A$8:G89,4,FALSE)","v":{"$error":"#N/A"}},{"$f":"VLOOKUP(H34,Results!$A$8:G89,7,FALSE)","v":{"$error":"#N/A"}},{"$f":"VLOOKUP(H34,$B$4:B34,1,FALSE)","v":{"$error":"#N/A"}}]
[null,{"$f":"Results!A38","v":0},{"$f":"Results!C38","v":0},{"$f":"Results!B38","v":0},{"$f":"Results!D38","v":0},{"$f":"Results!G38","v":""},"- vs -",{"$f":"VLOOKUP(B35,Results!$A$8:AY89,51,FALSE)","v":{"$error":"#N/A"}},{"$f":"VLOOKUP(H35,Results!A$8:G90,3,FALSE)","v":{"$error":"#N/A"}},{"$f":"VLOOKUP(H35,Results!$A$8:G90,2,FALSE)","v":{"$error":"#N/A"}},{"$f":"VLOOKUP(H35,Results!$A$8:G90,4,FALSE)","v":{"$error":"#N/A"}},{"$f":"VLOOKUP(H35,Results!$A$8:G90,7,FALSE)","v":{"$error":"#N/A"}},{"$f":"VLOOKUP(H35,$B$4:B35,1,FALSE)","v":{"$error":"#N/A"}}]
[null,{"$f":"Results!A39","v":0},{"$f":"Results!C39","v":0},{"$f":"Results!B39","v":0},{"$f":"Results!D39","v":0},{"$f":"Results!G39","v":""},"- vs -",{"$f":"VLOOKUP(B36,Results!$A$8:AY90,51,FALSE)","v":{"$error":"#N/A"}},{"$f":"VLOOKUP(H36,Results!A$8:G91,3,FALSE)","v":{"$error":"#N/A"}},{"$f":"VLOOKUP(H36,Results!$A$8:G91,2,FALSE)","v":{"$error":"#N/A"}},{"$f":"VLOOKUP(H36,Results!$A$8:G91,4,FALSE)","v":{"$error":"#N/A"}},{"$f":"VLOOKUP(H36,Results!$A$8:G91,7,FALSE)","v":{"$error":"#N/A"}},{"$f":"VLOOKUP(H36,$B$4:B36,1,FALSE)","v":{"$error":"#N/A"}}]
[null,{"$f":"Results!A40","v":0},{"$f":"Results!C40","v":0},{"$f":"Results!B40","v":0},{"$f":"Results!D40","v":0},{"$f":"Results!G40","v":""},"- vs -",{"$f":"VLOOKUP(B37,Results!$A$8:AY91,51,FALSE)","v":{"$error":"#N/A"}},{"$f":"VLOOKUP(H37,Results!A$8:G92,3,FALSE)","v":{"$error":"#N/A"}},{"$f":"VLOOKUP(H37,Results!$A$8:G92,2,FALSE)","v":{"$error":"#N/A"}},{"$f":"VLOOKUP(H37,Results!$A$8:G92,4,FALSE)","v":{"$error":"#N/A"}},{"$f":"VLOOKUP(H37,Results!$A$8:G92,7,FALSE)","v":{"$error":"#N/A"}},{"$f":"VLOOKUP(H37,$B$4:B37,1,FALSE)","v":{"$error":"#N/A"}}]
[null,{"$f":"Results!A41","v":0},{"$f":"Results!C41","v":0},{"$f":"Results!B41","v":0},{"$f":"Results!D41","v":0},{"$f":"Results!G41","v":""},"- vs -",{"$f":"VLOOKUP(B38,Results!$A$8:AY92,51,FALSE)","v":{"$error":"#N/A"}},{"$f":"VLOOKUP(H38,Results!A$8:G93,3,FALSE)","v":{"$error":"#N/A"}},{"$f":"VLOOKUP(H38,Results!$A$8:G93,2,FALSE)","v":{"$error":"#N/A"}},{"$f":"VLOOKUP(H38,Results!$A$8:G93,4,FALSE)","v":{"$error":"#N/A"}},{"$f":"VLOOKUP(H38,Results!$A$8:G93,7,FALSE)","v":{"$error":"#N/A"}},{"$f":"VLOOKUP(H38,$B$4:B38,1,FALSE)","v":{"$error":"#N/A"}}]
[null,{"$f":"Results!A42","v":0},{"$f":"Results!C42","v":0},{"$f":"Results!B42","v":0},{"$f":"Results!D42","v":0},{"$f":"Results!G42","v":""},"- vs -",{"$f":"VLOOKUP(B39,Results!$A$8:AY93,51,FALSE)","v":{"$error":"#N/A"}},{"$f":"VLOOKUP(H39,Results!A$8:G94,3,FALSE)","v":{"$error":"#N/A"}},{"$f":"VLOOKUP(H39,Results!$A$8:G94,2,FALSE)","v":{"$error":"#N/A"}},{"$f":"VLOOKUP(H39,Results!$A$8:G94,4,FALSE)","v":{"$error":"#N/A"}},{"$f":"VLOOKUP(H39,Results!$A$8:G94,7,FALSE)","v":{"$error":"#N/A"}},{"$f":"VLOOKUP(H39,$B$4:B39,1,FALSE)","v":{"$error":"#N/A"}}]
[null,{"$f":"Results!A43","v":0},{"$f":"Results!C43","v":0},{"$f":"Results!B43","v":0},{"$f":"Results!D43","v":0},{"$f":"Results!G43","v":""},"- vs -",{"$f":"VLOOKUP(B40,Results!$A$8:AY94,51,FALSE)","v":{"$error":"#N/A"}},{"$f":"VLOOKUP(H40,Results!A$8:G95,3,FALSE)","v":{"$error":"#N/A"}},{"$f":"VLOOKUP(H40,Results!$A$8:G95,2,FALSE)","v":{"$error":"#N/A"}},{"$f":"VLOOKUP(H40,Results!$A$8:G95,4,FALSE)","v":{"$error":"#N/A"}},{"$f":"VLOOKUP(H40,Results!$A$8:G95,7,FALSE)","v":{"$error":"#N/A"}},{"$f":"VLOOKUP(H40,$B$4:B40,1,FALSE)","v":{"$error":"#N/A"}}]
[null,{"$f":"Results!A44","v":0},{"$f":"Results!C44","v":0},{"$f":"Results!B44","v":0},{"$f":"Results!D44","v":0},{"$f":"Results!G44","v":""},"- vs -",{"$f":"VLOOKUP(B41,Results!$A$8:AY95,51,FALSE)","v":{"$error":"#N/A"}},{"$f":"VLOOKUP(H41,Results!A$8:G96,3,FALSE)","v":{"$error":"#N/A"}},{"$f":"VLOOKUP(H41,Results!$A$8:G96,2,FALSE)","v":{"$error":"#N/A"}},{"$f":"VLOOKUP(H41,Results!$A$8:G96,4,FALSE)","v":{"$error":"#N/A"}},{"$f":"VLOOKUP(H41,Results!$A$8:G96,7,FALSE)","v":{"$error":"#N/A"}},{"$f":"VLOOKUP(H41,$B$4:B41,1,FALSE)","v":{"$error":"#N/A"}}]
[null,{"$f":"Results!A45","v":0},{"$f":"Results!C45","v":0},{"$f":"Results!B45","v":0},{"$f":"Results!D45","v":0},{"$f":"Results!G45","v":""},"- vs -",{"$f":"VLOOKUP(B42,Results!$A$8:AY96,51,FALSE)","v":{"$error":"#N/A"}},{"$f":"VLOOKUP(H42,Results!A$8:G97,3,FALSE)","v":{"$error":"#N/A"}},{"$f":"VLOOKUP(H42,Results!$A$8:G97,2,FALSE)","v":{"$error":"#N/A"}},{"$f":"VLOOKUP(H42,Results!$A$8:G97,4,FALSE)","v":{"$error":"#N/A"}},{"$f":"VLOOKUP(H42,Results!$A$8:G97,7,FALSE)","v":{"$error":"#N/A"}},{"$f":"VLOOKUP(H42,$B$4:B42,1,FALSE)","v":{"$error":"#N/A"}}]
[null,{"$f":"Results!A46","v":0},{"$f":"Results!C46","v":0},{"$f":"Results!B46","v":0},{"$f":"Results!D46","v":0},{"$f":"Results!G46","v":""},"- vs -",{"$f":"VLOOKUP(B43,Results!$A$8:AY97,51,FALSE)","v":{"$error":"#N/A"}},{"$f":"VLOOKUP(H43,Results!A$8:G98,3,FALSE)","v":{"$error":"#N/A"}},{"$f":"VLOOKUP(H43,Results!$A$8:G98,2,FALSE)","v":{"$error":"#N/A"}},{"$f":"VLOOKUP(H43,Results!$A$8:G98,4,FALSE)","v":{"$error":"#N/A"}},{"$f":"VLOOKUP(H43,Results!$A$8:G98,7,FALSE)","v":{"$error":"#N/A"}},{"$f":"VLOOKUP(H43,$B$4:B43,1,FALSE)","v":{"$error":"#N/A"}}]
[null,{"$f":"Results!A47","v":0},{"$f":"Results!C47","v":0},{"$f":"Results!B47","v":0},{"$f":"Results!D47","v":0},{"$f":"Results!G47","v":""},"- vs -",{"$f":"VLOOKUP(B44,Results!$A$8:AY98,51,FALSE)","v":{"$error":"#N/A"}},{"$f":"VLOOKUP(H44,Results!A$8:G99,3,FALSE)","v":{"$error":"#N/A"}},{"$f":"VLOOKUP(H44,Results!$A$8:G99,2,FALSE)","v":{"$error":"#N/A"}},{"$f":"VLOOKUP(H44,Results!$A$8:G99,4,FALSE)","v":{"$error":"#N/A"}},{"$f":"VLOOKUP(H44,Results!$A$8:G99,7,FALSE)","v":{"$error":"#N/A"}},{"$f":"VLOOKUP(H44,$B$4:B44,1,FALSE)","v":{"$error":"#N/A"}}]
[null,{"$f":"Results!A48","v":0},{"$f":"Results!C48","v":0},{"$f":"Results!B48","v":0},{"$f":"Results!D48","v":0},{"$f":"Results!G48","v":""},"- vs -",{"$f":"VLOOKUP(B45,Results!$A$8:AY99,51,FALSE)","v":{"$error":"#N/A"}},{"$f":"VLOOKUP(H45,Results!A$8:G100,3,FALSE)","v":{"$error":"#N/A"}},{"$f":"VLOOKUP(H45,Results!$A$8:G100,2,FALSE)","v":{"$error":"#N/A"}},{"$f":"VLOOKUP(H45,Results!$A$8:G100,4,FALSE)","v":{"$error":"#N/A"}},{"$f":"VLOOKUP(H45,Results!$A$8:G100,7,FALSE)","v":{"$error":"#N/A"}},{"$f":"VLOOKUP(H45,$B$4:B45,1,FALSE)","v":{"$error":"#N/A"}}]
[null,{"$f":"Results!A49","v":0},{"$f":"Results!C49","v":0},{"$f":"Results!B49","v":0},{"$f":"Results!D49","v":0},{"$f":"Results!G49","v":""},"- vs -",{"$f":"VLOOKUP(B46,Results!$A$8:AY100,51,FALSE)","v":{"$error":"#N/A"}},{"$f":"VLOOKUP(H46,Results!A$8:G101,3,FALSE)","v":{"$error":"#N/A"}},{"$f":"VLOOKUP(H46,Results!$A$8:G101,2,FALSE)","v":{"$error":"#N/A"}},{"$f":"VLOOKUP(H46,Results!$A$8:G101,4,FALSE)","v":{"$error":"#N/A"}},{"$f":"VLOOKUP(H46,Results!$A$8:G101,7,FALSE)","v":{"$error":"#N/A"}},{"$f":"VLOOKUP(H46,$B$4:B46,1,FALSE)","v":{"$error":"#N/A"}}]
[null,{"$f":"Results!A50","v":0},{"$f":"Results!C50","v":0},{"$f":"Results!B50","v":0},{"$f":"Results!D50","v":0},{"$f":"Results!G50","v":""},"- vs -",{"$f":"VLOOKUP(B47,Results!$A$8:AY101,51,FALSE)","v":{"$error":"#N/A"}},{"$f":"VLOOKUP(H47,Results!A$8:G102,3,FALSE)","v":{"$error":"#N/A"}},{"$f":"VLOOKUP(H47,Results!$A$8:G102,2,FALSE)","v":{"$error":"#N/A"}},{"$f":"VLOOKUP(H47,Results!$A$8:G102,4,FALSE)","v":{"$error":"#N/A"}},{"$f":"VLOOKUP(H47,Results!$A$8:G102,7,FALSE)","v":{"$error":"#N/A"}},{"$f":"VLOOKUP(H47,$B$4:B47,1,FALSE)","v":{"$error":"#N/A"}}]
[null,{"$f":"Results!A51","v":0},{"$f":"Results!C51","v":0},{"$f":"Results!B51","v":0},{"$f":"Results!D51","v":0},{"$f":"Results!G51","v":""},"- vs -",{"$f":"VLOOKUP(B48,Results!$A$8:AY102,51,FALSE)","v":{"$error":"#N/A"}},{"$f":"VLOOKUP(H48,Results!A$8:G103,3,FALSE)","v":{"$error":"#N/A"}},{"$f":"VLOOKUP(H48,Results!$A$8:G103,2,FALSE)","v":{"$error":"#N/A"}},{"$f":"VLOOKUP(H48,Results!$A$8:G103,4,FALSE)","v":{"$error":"#N/A"}},{"$f":"VLOOKUP(H48,Results!$A$8:G103,7,FALSE)","v":{"$error":"#N/A"}},{"$f":"VLOOKUP(H48,$B$4:B48,1,FALSE)","v":{"$error":"#N/A"}}]
[null,{"$f":"Results!A52","v":0},{"$f":"Results!C52","v":0},{"$f":"Results!B52","v":0},{"$f":"Results!D52","v":0},{"$f":"Results!G52","v":""},"- vs -",{"$f":"VLOOKUP(B49,Results!$A$8:AY103,51,FALSE)","v":{"$error":"#N/A"}},{"$f":"VLOOKUP(H49,Results!A$8:G104,3,FALSE)","v":{"$error":"#N/A"}},{"$f":"VLOOKUP(H49,Results!$A$8:G104,2,FALSE)","v":{"$error":"#N/A"}},{"$f":"VLOOKUP(H49,Results!$A$8:G104,4,FALSE)","v":{"$error":"#N/A"}},{"$f":"VLOOKUP(H49,Results!$A$8:G104,7,FALSE)","v":{"$error":"#N/A"}},{"$f":"VLOOKUP(H49,$B$4:B49,1,FALSE)","v":{"$error":"#N/A"}}]
[null,{"$f":"Results!A53","v":0},{"$f":"Results!C53","v":0},{"$f":"Results!B53","v":0},{"$f":"Results!D53","v":0},{"$f":"Results!G53","v":""},"- vs -",{"$f":"VLOOKUP(B50,Results!$A$8:AY104,51,FALSE)","v":{"$error":"#N/A"}},{"$f":"VLOOKUP(H50,Results!A$8:G105,3,FALSE)","v":{"$error":"#N/A"}},{"$f":"VLOOKUP(H50,Results!$A$8:G105,2,FALSE)","v":{"$error":"#N/A"}},{"$f":"VLOOKUP(H50,Results!$A$8:G105,4,FALSE)","v":{"$error":"#N/A"}},{"$f":"VLOOKUP(H50,Results!$A$8:G105,7,FALSE)","v":{"$error":"#N/A"}},{"$f":"VLOOKUP(H50,$B$4:B50,1,FALSE)","v":{"$error":"#N/A"}}]
[null,{"$f":"Results!A54","v":0},{"$f":"Results!C54","v":0},{"$f":"Results!B54","v":0},{"$f":"Results!D54","v":0},{"$f":"Results!G54","v":""},"- vs -",{"$f":"VLOOKUP(B51,Results!$A$8:AY105,51,FALSE)","v":{"$error":"#N/A"}},{"$f":"VLOOKUP(H51,Results!A$8:G106,3,FALSE)","v":{"$error":"#N/A"}},{"$f":"VLOOKUP(H51,Results!$A$8:G106,2,FALSE)","v":{"$error":"#N/A"}},{"$f":"VLOOKUP(H51,Results!$A$8:G106,4,FALSE)","v":{"$error":"#N/A"}},{"$f":"VLOOKUP(H51,Results!$A$8:G106,7,FALSE)","v":{"$error":"#N/A"}},{"$f":"VLOOKUP(H51,$B$4:B51,1,FALSE)","v":{"$error":"#N/A"}}]
[null,{"$f":"Results!A55","v":0},{"$f":"Results!C55","v":0},{"$f":"Results!B55","v":0},{"$f":"Results!D55","v":0},{"$f":"Results!G55","v":""},"- vs -",{"$f":"VLOOKUP(B52,Results!$A$8:AY106,51,FALSE)","v":{"$error":"#N/A"}},{"$f":"VLOOKUP(H52,Results!A$8:G108,3,FALSE)","v":{"$error":"#N/A"}},{"$f":"VLOOKUP(H52,Results!$A$8:G108,2,FALSE)","v":{"$error":"#N/A"}},{"$f":"VLOOKUP(H52,Results!$A$8:G108,4,FALSE)","v":{"$error":"#N/A"}},{"$f":"VLOOKUP(H52,Results!$A$8:G108,7,FALSE)","v":{"$error":"#N/A"}},{"$f":"VLOOKUP(H52,$B$4:B52,1,FALSE)","v":{"$error":"#N/A"}}]
[null,{"$f":"Results!A56","v":0},{"$f":"Results!C56","v":0},{"$f":"Results!B56","v":0},{"$f":"Results!D56","v":0},{"$f":"Results!G56","v":""},"- vs -",{"$f":"VLOOKUP(B53,Results!$A$8:AY108,51,FALSE)","v":{"$error":"#N/A"}},{"$f":"VLOOKUP(H53,Results!A$8:G109,3,FALSE)","v":{"$error":"#N/A"}},{"$f":"VLOOKUP(H53,Results!$A$8:G109,2,FALSE)","v":{"$error":"#N/A"}},{"$f":"VLOOKUP(H53,Results!$A$8:G109,4,FALSE)","v":{"$error":"#N/A"}},{"$f":"VLOOKUP(H53,Results!$A$8:G109,7,FALSE)","v":{"$error":"#N/A"}},{"$f":"VLOOKUP(H53,$B$4:B53,1,FALSE)","v":{"$error":"#N/A"}}]
[null,{"$f":"Results!A57","v":0},{"$f":"Results!C57","v":0},{"$f":"Results!B57","v":0},{"$f":"Results!D57","v":0},{"$f":"Results!G57","v":""},"- vs -",{"$f":"VLOOKUP(B54,Results!$A$8:AY109,51,FALSE)","v":{"$error":"#N/A"}},{"$f":"VLOOKUP(H54,Results!A$8:G110,3,FALSE)","v":{"$error":"#N/A"}},{"$f":"VLOOKUP(H54,Results!$A$8:G110,2,FALSE)","v":{"$error":"#N/A"}},{"$f":"VLOOKUP(H54,Results!$A$8:G110,4,FALSE)","v":{"$error":"#N/A"}},{"$f":"VLOOKUP(H54,Results!$A$8:G110,7,FALSE)","v":{"$error":"#N/A"}},{"$f":"VLOOKUP(H54,$B$4:B54,1,FALSE)","v":{"$error":"#N/A"}}]
[null,{"$f":"Results!A58","v":0},{"$f":"Results!C58","v":0},{"$f":"Results!B58","v":0},{"$f":"Results!D58","v":0},{"$f":"Results!G58","v":""},"- vs -",{"$f":"VLOOKUP(B55,Results!$A$8:AY110,51,FALSE)","v":{"$error":"#N/A"}},{"$f":"VLOOKUP(H55,Results!A$8:G111,3,FALSE)","v":{"$error":"#N/A"}},{"$f":"VLOOKUP(H55,Results!$A$8:G111,2,FALSE)","v":{"$error":"#N/A"}},{"$f":"VLOOKUP(H55,Results!$A$8:G111,4,FALSE)","v":{"$error":"#N/A"}},{"$f":"VLOOKUP(H55,Results!$A$8:G111,7,FALSE)","v":{"$error":"#N/A"}},{"$f":"VLOOKUP(H55,$B$4:B55,1,FALSE)","v":{"$error":"#N/A"}}]
[null,{"$f":"Results!A59","v":0},{"$f":"Results!C59","v":0},{"$f":"Results!B59","v":0},{"$f":"Results!D59","v":0},{"$f":"Results!G59","v":""},"- vs -",{"$f":"VLOOKUP(B56,Results!$A$8:AY111,51,FALSE)","v":{"$error":"#N/A"}},{"$f":"VLOOKUP(H56,Results!A$8:G112,3,FALSE)","v":{"$error":"#N/A"}},{"$f":"VLOOKUP(H56,Results!$A$8:G112,2,FALSE)","v":{"$error":"#N/A"}},{"$f":"VLOOKUP(H56,Results!$A$8:G112,4,FALSE)","v":{"$error":"#N/A"}},{"$f":"VLOOKUP(H56,Results!$A$8:G112,7,FALSE)","v":{"$error":"#N/A"}},{"$f":"VLOOKUP(H56,$B$4:B56,1,FALSE)","v":{"$error":"#N/A"}}]
[null,{"$f":"Results!A60","v":0},{"$f":"Results!C60","v":0},{"$f":"Results!B60","v":0},{"$f":"Results!D60","v":0},{"$f":"Results!G60","v":""},"- vs -",{"$f":"VLOOKUP(B57,Results!$A$8:AY112,51,FALSE)","v":{"$error":"#N/A"}},{"$f":"VLOOKUP(H57,Results!A$8:G113,3,FALSE)","v":{"$error":"#N/A"}},{"$f":"VLOOKUP(H57,Results!$A$8:G113,2,FALSE)","v":{"$error":"#N/A"}},{"$f":"VLOOKUP(H57,Results!$A$8:G113,4,FALSE)","v":{"$error":"#N/A"}},{"$f":"VLOOKUP(H57,Results!$A$8:G113,7,FALSE)","v":{"$error":"#N/A"}},{"$f":"VLOOKUP(H57,$B$4:B57,1,FALSE)","v":{"$error":"#N/A"}}]
[null,{"$f":"Results!A61","v":0},{"$f":"Results!C61","v":0},{"$f":"Results!B61","v":0},{"$f":"Results!D61","v":0},{"$f":"Results!G61","v":""},"- vs -",{"$f":"VLOOKUP(B58,Results!$A$8:AY113,51,FALSE)","v":{"$error":"#N/A"}},{"$f":"VLOOKUP(H58,Results!A$8:G114,3,FALSE)","v":{"$error":"#N/A"}},{"$f":"VLOOKUP(H58,Results!$A$8:G114,2,FALSE)","v":{"$error":"#N/A"}},{"$f":"VLOOKUP(H58,Results!$A$8:G114,4,FALSE)","v":{"$error":"#N/A"}},{"$f":"VLOOKUP(H58,Results!$A$8:G114,7,FALSE)","v":{"$error":"#N/A"}},{"$f":"VLOOKUP(H58,$B$4:B58,1,FALSE)","v":{"$error":"#N/A"}}]
[null,{"$f":"Results!A62","v":0},{"$f":"Results!C62","v":0},{"$f":"Results!B62","v":0},{"$f":"Results!D62","v":0},{"$f":"Results!G62","v":0},"- vs -",{"$f":"VLOOKUP(B59,Results!$A$8:AY114,51,FALSE)","v":{"$error":"#N/A"}},{"$f":"VLOOKUP(H59,Results!A$8:G115,3,FALSE)","v":{"$error":"#N/A"}},{"$f":"VLOOKUP(H59,Results!$A$8:G115,2,FALSE)","v":{"$error":"#N/A"}},{"$f":"VLOOKUP(H59,Results!$A$8:G115,4,FALSE)","v":{"$error":"#N/A"}},{"$f":"VLOOKUP(H59,Results!$A$8:G115,7,FALSE)","v":{"$error":"#N/A"}},{"$f":"VLOOKUP(H59,$B$4:B59,1,FALSE)","v":{"$error":"#N/A"}}]
[null,{"$f":"Results!A63","v":0},{"$f":"Results!C63","v":0},{"$f":"Results!B63","v":0},{"$f":"Results!D63","v":0},{"$f":"Results!G63","v":0},"- vs -",{"$f":"VLOOKUP(B60,Results!$A$8:AY115,51,FALSE)","v":{"$error":"#N/A"}},{"$f":"VLOOKUP(H60,Results!A$8:G116,3,FALSE)","v":{"$error":"#N/A"}},{"$f":"VLOOKUP(H60,Results!$A$8:G116,2,FALSE)","v":{"$error":"#N/A"}},{"$f":"VLOOKUP(H60,Results!$A$8:G116,4,FALSE)","v":{"$error":"#N/A"}},{"$f":"VLOOKUP(H60,Results!$A$8:G116,7,FALSE)","v":{"$error":"#N/A"}},{"$f":"VLOOKUP(H60,$B$4:B60,1,FALSE)","v":{"$error":"#N/A"}}]
[null,{"$f":"Results!A64","v":0},{"$f":"Results!C64","v":0},{"$f":"Results!B64","v":0},{"$f":"Results!D64","v":0},{"$f":"Results!G64","v":0},"- vs -",{"$f":"VLOOKUP(B61,Results!$A$8:AY116,51,FALSE)","v":{"$error":"#N/A"}},{"$f":"VLOOKUP(H61,Results!A$8:G117,3,FALSE)","v":{"$error":"#N/A"}},{"$f":"VLOOKUP(H61,Results!$A$8:G117,2,FALSE)","v":{"$error":"#N/A"}},{"$f":"VLOOKUP(H61,Results!$A$8:G117,4,FALSE)","v":{"$error":"#N/A"}},{"$f":"VLOOKUP(H61,Results!$A$8:G117,7,FALSE)","v":{"$error":"#N/A"}},{"$f":"VLOOKUP(H61,$B$4:B61,1,FALSE)","v":{"$error":"#N/A"}}]
[null,{"$f":"Results!A65","v":0},{"$f":"Results!C65","v":0},{"$f":"Results!B65","v":0},{"$f":"Results!D65","v":0},{"$f":"Results!G65","v":0},"- vs -",{"$f":"VLOOKUP(B62,Results!$A$8:AY117,51,FALSE)","v":{"$error":"#N/A"}},{"$f":"VLOOKUP(H62,Results!A$8:G118,3,FALSE)","v":{"$error":"#N/A"}},{"$f":"VLOOKUP(H62,Results!$A$8:G118,2,FALSE)","v":{"$error":"#N/A"}},{"$f":"VLOOKUP(H62,Results!$A$8:G118,4,FALSE)","v":{"$error":"#N/A"}},{"$f":"VLOOKUP(H62,Results!$A$8:G118,7,FALSE)","v":{"$error":"#N/A"}},{"$f":"VLOOKUP(H62,$B$4:B62,1,FALSE)","v":{"$error":"#N/A"}}]
[null,{"$f":"Results!A66","v":0},{"$f":"Results!C66","v":0},{"$f":"Results!B66","v":0},{"$f":"Results!D66","v":0},{"$f":"Results!G66","v":0},"- vs -",{"$f":"VLOOKUP(B63,Results!$A$8:AY118,51,FALSE)","v":{"$error":"#N/A"}},{"$f":"VLOOKUP(H63,Results!A$8:G119,3,FALSE)","v":{"$error":"#N/A"}},{"$f":"VLOOKUP(H63,Results!$A$8:G119,2,FALSE)","v":{"$error":"#N/A"}},{"$f":"VLOOKUP(H63,Results!$A$8:G119,4,FALSE)","v":{"$error":"#N/A"}},{"$f":"VLOOKUP(H63,Results!$A$8:G119,7,FALSE)","v":{"$error":"#N/A"}},{"$f":"VLOOKUP(H63,$B$4:B63,1,FALSE)","v":{"$error":"#N/A"}}]

{"sheet":"Round 8","index":16,"n_rows":90,"n_cols":13,"rows_kept":90}
[null,null,"First Name","Surname","Club",{"$nulls":3},"First Name","Surname","Club"]
["Round 5 Draw",null,{"$f":"Results!B3","v":0}]
[null,null,{"$f":"Results!B4","v":"Open Theme"}]
[{"$nulls":12},"VALID?"]
[null,{"$f":"Results!A8","v":1},{"$f":"Results!C8","v":0},{"$f":"Results!B8","v":"Team 1 A"},{"$f":"Results!D8","v":0},{"$f":"Results!G8","v":""},"- vs -",{"$f":"VLOOKUP(B5,Results!$A$8:BF66,58,FALSE)","v":0},{"$f":"VLOOKUP(H5,Results!A$8:G60,3,FALSE)","v":{"$error":"#N/A"}},{"$f":"VLOOKUP(H5,Results!$A$8:G60,2,FALSE)","v":{"$error":"#N/A"}},{"$f":"VLOOKUP(H5,Results!$A$8:G60,4,FALSE)","v":{"$error":"#N/A"}},{"$f":"VLOOKUP(H5,Results!$A$8:G60,7,FALSE)","v":{"$error":"#N/A"}},{"$f":"VLOOKUP(H5,$B$4:B5,1,FALSE)","v":{"$error":"#N/A"}}]
[null,{"$f":"Results!A9","v":2},{"$f":"Results!C9","v":0},{"$f":"Results!B9","v":"Team 1 B"},{"$f":"Results!D9","v":0},{"$f":"Results!G9","v":""},"- vs -",{"$f":"VLOOKUP(B6,Results!$A$8:BF67,58,FALSE)","v":0},{"$f":"VLOOKUP(H6,Results!A$8:G61,3,FALSE)","v":{"$error":"#N/A"}},{"$f":"VLOOKUP(H6,Results!$A$8:G61,2,FALSE)","v":{"$error":"#N/A"}},{"$f":"VLOOKUP(H6,Results!$A$8:G61,4,FALSE)","v":{"$error":"#N/A"}},{"$f":"VLOOKUP(H6,Results!$A$8:G61,7,FALSE)","v":{"$error":"#N/A"}},{"$f":"VLOOKUP(H6,$B$4:B6,1,FALSE)","v":{"$error":"#N/A"}}]
[null,{"$f":"Results!A10","v":3},{"$f":"Results!C10","v":0},{"$f":"Results!B10","v":"Team 1 C"},{"$f":"Results!D10","v":0},{"$f":"Results!G10","v":""},"- vs -",{"$f":"VLOOKUP(B7,Results!$A$8:BF68,58,FALSE)","v":0},{"$f":"VLOOKUP(H7,Results!A$8:G62,3,FALSE)","v":{"$error":"#N/A"}},{"$f":"VLOOKUP(H7,Results!$A$8:G62,2,FALSE)","v":{"$error":"#N/A"}},{"$f":"VLOOKUP(H7,Results!$A$8:G62,4,FALSE)","v":{"$error":"#N/A"}},{"$f":"VLOOKUP(H7,Results!$A$8:G62,7,FALSE)","v":{"$error":"#N/A"}},{"$f":"VLOOKUP(H7,$B$4:B7,1,FALSE)","v":{"$error":"#N/A"}}]
[null,{"$f":"Results!A11","v":4},{"$f":"Results!C11","v":0},{"$f":"Results!B11","v":"Team 2 A"},{"$f":"Results!D11","v":0},{"$f":"Results!G11","v":""},"- vs -",{"$f":"VLOOKUP(B8,Results!$A$8:BF69,58,FALSE)","v":0},{"$f":"VLOOKUP(H8,Results!A$8:G63,3,FALSE)","v":{"$error":"#N/A"}},{"$f":"VLOOKUP(H8,Results!$A$8:G63,2,FALSE)","v":{"$error":"#N/A"}},{"$f":"VLOOKUP(H8,Results!$A$8:G63,4,FALSE)","v":{"$error":"#N/A"}},{"$f":"VLOOKUP(H8,Results!$A$8:G63,7,FALSE)","v":{"$error":"#N/A"}},{"$f":"VLOOKUP(H8,$B$4:B8,1,FALSE)","v":{"$error":"#N/A"}}]
[null,{"$f":"Results!A12","v":5},{"$f":"Results!C12","v":0},{"$f":"Results!B12","v":"Team 2 B"},{"$f":"Results!D12","v":0},{"$f":"Results!G12","v":""},"- vs -",{"$f":"VLOOKUP(B9,Results!$A$8:BF70,58,FALSE)","v":0},{"$f":"VLOOKUP(H9,Results!A$8:G64,3,FALSE)","v":{"$error":"#N/A"}},{"$f":"VLOOKUP(H9,Results!$A$8:G64,2,FALSE)","v":{"$error":"#N/A"}},{"$f":"VLOOKUP(H9,Results!$A$8:G64,4,FALSE)","v":{"$error":"#N/A"}},{"$f":"VLOOKUP(H9,Results!$A$8:G64,7,FALSE)","v":{"$error":"#N/A"}},{"$f":"VLOOKUP(H9,$B$4:B9,1,FALSE)","v":{"$error":"#N/A"}}]
[null,{"$f":"Results!A13","v":6},{"$f":"Results!C13","v":0},{"$f":"Results!B13","v":"Team 2 C"},{"$f":"Results!D13","v":0},{"$f":"Results!G13","v":""},"- vs -",{"$f":"VLOOKUP(B10,Results!$A$8:BF71,58,FALSE)","v":0},{"$f":"VLOOKUP(H10,Results!A$8:G65,3,FALSE)","v":{"$error":"#N/A"}},{"$f":"VLOOKUP(H10,Results!$A$8:G65,2,FALSE)","v":{"$error":"#N/A"}},{"$f":"VLOOKUP(H10,Results!$A$8:G65,4,FALSE)","v":{"$error":"#N/A"}},{"$f":"VLOOKUP(H10,Results!$A$8:G65,7,FALSE)","v":{"$error":"#N/A"}},{"$f":"VLOOKUP(H10,$B$4:B10,1,FALSE)","v":{"$error":"#N/A"}}]
[null,{"$f":"Results!A14","v":7},{"$f":"Results!C14","v":0},{"$f":"Results!B14","v":"Team 3 A"},{"$f":"Results!D14","v":0},{"$f":"Results!G14","v":""},"- vs -",{"$f":"VLOOKUP(B11,Results!$A$8:BF72,58,FALSE)","v":0},{"$f":"VLOOKUP(H11,Results!A$8:G66,3,FALSE)","v":{"$error":"#N/A"}},{"$f":"VLOOKUP(H11,Results!$A$8:G66,2,FALSE)","v":{"$error":"#N/A"}},{"$f":"VLOOKUP(H11,Results!$A$8:G66,4,FALSE)","v":{"$error":"#N/A"}},{"$f":"VLOOKUP(H11,Results!$A$8:G66,7,FALSE)","v":{"$error":"#N/A"}},{"$f":"VLOOKUP(H11,$B$4:B11,1,FALSE)","v":{"$error":"#N/A"}}]
[null,{"$f":"Results!A15","v":8},{"$f":"Results!C15","v":0},{"$f":"Results!B15","v":"Team 3 B"},{"$f":"Results!D15","v":0},{"$f":"Results!G15","v":""},"- vs -",{"$f":"VLOOKUP(B12,Results!$A$8:BF73,58,FALSE)","v":0},{"$f":"VLOOKUP(H12,Results!A$8:G67,3,FALSE)","v":{"$error":"#N/A"}},{"$f":"VLOOKUP(H12,Results!$A$8:G67,2,FALSE)","v":{"$error":"#N/A"}},{"$f":"VLOOKUP(H12,Results!$A$8:G67,4,FALSE)","v":{"$error":"#N/A"}},{"$f":"VLOOKUP(H12,Results!$A$8:G67,7,FALSE)","v":{"$error":"#N/A"}},{"$f":"VLOOKUP(H12,$B$4:B12,1,FALSE)","v":{"$error":"#N/A"}}]
[null,{"$f":"Results!A16","v":9},{"$f":"Results!C16","v":0},{"$f":"Results!B16","v":"Team 3 C"},{"$f":"Results!D16","v":0},{"$f":"Results!G16","v":""},"- vs -",{"$f":"VLOOKUP(B13,Results!$A$8:BF74,58,FALSE)","v":0},{"$f":"VLOOKUP(H13,Results!A$8:G68,3,FALSE)","v":{"$error":"#N/A"}},{"$f":"VLOOKUP(H13,Results!$A$8:G68,2,FALSE)","v":{"$error":"#N/A"}},{"$f":"VLOOKUP(H13,Results!$A$8:G68,4,FALSE)","v":{"$error":"#N/A"}},{"$f":"VLOOKUP(H13,Results!$A$8:G68,7,FALSE)","v":{"$error":"#N/A"}},{"$f":"VLOOKUP(H13,$B$4:B13,1,FALSE)","v":{"$error":"#N/A"}}]
[null,{"$f":"Results!A17","v":10},{"$f":"Results!C17","v":0},{"$f":"Results!B17","v":"Team 4 A"},{"$f":"Results!D17","v":0},{"$f":"Results!G17","v":""},"- vs -",{"$f":"VLOOKUP(B14,Results!$A$8:BF75,58,FALSE)","v":0},{"$f":"VLOOKUP(H14,Results!A$8:G69,3,FALSE)","v":{"$error":"#N/A"}},{"$f":"VLOOKUP(H14,Results!$A$8:G69,2,FALSE)","v":{"$error":"#N/A"}},{"$f":"VLOOKUP(H14,Results!$A$8:G69,4,FALSE)","v":{"$error":"#N/A"}},{"$f":"VLOOKUP(H14,Results!$A$8:G69,7,FALSE)","v":{"$error":"#N/A"}},{"$f":"VLOOKUP(H14,$B$4:B14,1,FALSE)","v":{"$error":"#N/A"}}]
[null,{"$f":"Results!A18","v":11},{"$f":"Results!C18","v":0},{"$f":"Results!B18","v":"Team 4 B"},{"$f":"Results!D18","v":0},{"$f":"Results!G18","v":""},"- vs -",{"$f":"VLOOKUP(B15,Results!$A$8:BF76,58,FALSE)","v":0},{"$f":"VLOOKUP(H15,Results!A$8:G70,3,FALSE)","v":{"$error":"#N/A"}},{"$f":"VLOOKUP(H15,Results!$A$8:G70,2,FALSE)","v":{"$error":"#N/A"}},{"$f":"VLOOKUP(H15,Results!$A$8:G70,4,FALSE)","v":{"$error":"#N/A"}},{"$f":"VLOOKUP(H15,Results!$A$8:G70,7,FALSE)","v":{"$error":"#N/A"}},{"$f":"VLOOKUP(H15,$B$4:B15,1,FALSE)","v":{"$error":"#N/A"}}]
[null,{"$f":"Results!A19","v":12},{"$f":"Results!C19","v":0},{"$f":"Results!B19","v":"Team 4 C"},{"$f":"Results!D19","v":0},{"$f":"Results!G19","v":""},"- vs -",{"$f":"VLOOKUP(B16,Results!$A$8:BF77,58,FALSE)","v":0},{"$f":"VLOOKUP(H16,Results!A$8:G71,3,FALSE)","v":{"$error":"#N/A"}},{"$f":"VLOOKUP(H16,Results!$A$8:G71,2,FALSE)","v":{"$error":"#N/A"}},{"$f":"VLOOKUP(H16,Results!$A$8:G71,4,FALSE)","v":{"$error":"#N/A"}},{"$f":"VLOOKUP(H16,Results!$A$8:G71,7,FALSE)","v":{"$error":"#N/A"}},{"$f":"VLOOKUP(H16,$B$4:B16,1,FALSE)","v":{"$error":"#N/A"}}]
[null,{"$f":"Results!A20","v":13},{"$f":"Results!C20","v":0},{"$f":"Results!B20","v":"Team 5 A"},{"$f":"Results!D20","v":0},{"$f":"Results!G20","v":""},"- vs -",{"$f":"VLOOKUP(B17,Results!$A$8:BF78,58,FALSE)","v":0},{"$f":"VLOOKUP(H17,Results!A$8:G72,3,FALSE)","v":{"$error":"#N/A"}},{"$f":"VLOOKUP(H17,Results!$A$8:G72,2,FALSE)","v":{"$error":"#N/A"}},{"$f":"VLOOKUP(H17,Results!$A$8:G72,4,FALSE)","v":{"$error":"#N/A"}},{"$f":"VLOOKUP(H17,Results!$A$8:G72,7,FALSE)","v":{"$error":"#N/A"}},{"$f":"VLOOKUP(H17,$B$4:B17,1,FALSE)","v":{"$error":"#N/A"}}]
[null,{"$f":"Results!A21","v":14},{"$f":"Results!C21","v":0},{"$f":"Results!B21","v":"Team 5 B"},{"$f":"Results!D21","v":0},{"$f":"Results!G21","v":""},"- vs -",{"$f":"VLOOKUP(B18,Results!$A$8:BF79,58,FALSE)","v":0},{"$f":"VLOOKUP(H18,Results!A$8:G73,3,FALSE)","v":{"$error":"#N/A"}},{"$f":"VLOOKUP(H18,Results!$A$8:G73,2,FALSE)","v":{"$error":"#N/A"}},{"$f":"VLOOKUP(H18,Results!$A$8:G73,4,FALSE)","v":{"$error":"#N/A"}},{"$f":"VLOOKUP(H18,Results!$A$8:G73,7,FALSE)","v":{"$error":"#N/A"}},{"$f":"VLOOKUP(H18,$B$4:B18,1,FALSE)","v":{"$error":"#N/A"}}]
[null,{"$f":"Results!A22","v":15},{"$f":"Results!C22","v":0},{"$f":"Results!B22","v":"Team 5 C"},{"$f":"Results!D22","v":0},{"$f":"Results!G22","v":""},"- vs -",{"$f":"VLOOKUP(B19,Results!$A$8:BF80,58,FALSE)","v":0},{"$f":"VLOOKUP(H19,Results!A$8:G74,3,FALSE)","v":{"$error":"#N/A"}},{"$f":"VLOOKUP(H19,Results!$A$8:G74,2,FALSE)","v":{"$error":"#N/A"}},{"$f":"VLOOKUP(H19,Results!$A$8:G74,4,FALSE)","v":{"$error":"#N/A"}},{"$f":"VLOOKUP(H19,Results!$A$8:G74,7,FALSE)","v":{"$error":"#N/A"}},{"$f":"VLOOKUP(H19,$B$4:B19,1,FALSE)","v":{"$error":"#N/A"}}]
[null,{"$f":"Results!A23","v":16},{"$f":"Results!C23","v":0},{"$f":"Results!B23","v":"Team 6 A"},{"$f":"Results!D23","v":0},{"$f":"Results!G23","v":""},"- vs -",{"$f":"VLOOKUP(B20,Results!$A$8:BF81,58,FALSE)","v":0},{"$f":"VLOOKUP(H20,Results!A$8:G75,3,FALSE)","v":{"$error":"#N/A"}},{"$f":"VLOOKUP(H20,Results!$A$8:G75,2,FALSE)","v":{"$error":"#N/A"}},{"$f":"VLOOKUP(H20,Results!$A$8:G75,4,FALSE)","v":{"$error":"#N/A"}},{"$f":"VLOOKUP(H20,Results!$A$8:G75,7,FALSE)","v":{"$error":"#N/A"}},{"$f":"VLOOKUP(H20,$B$4:B20,1,FALSE)","v":{"$error":"#N/A"}}]
[null,{"$f":"Results!A24","v":17},{"$f":"Results!C24","v":0},{"$f":"Results!B24","v":"Team 6 B"},{"$f":"Results!D24","v":0},{"$f":"Results!G24","v":""},"- vs -",{"$f":"VLOOKUP(B21,Results!$A$8:BF82,58,FALSE)","v":0},{"$f":"VLOOKUP(H21,Results!A$8:G76,3,FALSE)","v":{"$error":"#N/A"}},{"$f":"VLOOKUP(H21,Results!$A$8:G76,2,FALSE)","v":{"$error":"#N/A"}},{"$f":"VLOOKUP(H21,Results!$A$8:G76,4,FALSE)","v":{"$error":"#N/A"}},{"$f":"VLOOKUP(H21,Results!$A$8:G76,7,FALSE)","v":{"$error":"#N/A"}},{"$f":"VLOOKUP(H21,$B$4:B21,1,FALSE)","v":{"$error":"#N/A"}}]
[null,{"$f":"Results!A25","v":18},{"$f":"Results!C25","v":0},{"$f":"Results!B25","v":"Team 6 C"},{"$f":"Results!D25","v":0},{"$f":"Results!G25","v":""},"- vs -",{"$f":"VLOOKUP(B22,Results!$A$8:BF83,58,FALSE)","v":0},{"$f":"VLOOKUP(H22,Results!A$8:G77,3,FALSE)","v":{"$error":"#N/A"}},{"$f":"VLOOKUP(H22,Results!$A$8:G77,2,FALSE)","v":{"$error":"#N/A"}},{"$f":"VLOOKUP(H22,Results!$A$8:G77,4,FALSE)","v":{"$error":"#N/A"}},{"$f":"VLOOKUP(H22,Results!$A$8:G77,7,FALSE)","v":{"$error":"#N/A"}},{"$f":"VLOOKUP(H22,$B$4:B22,1,FALSE)","v":{"$error":"#N/A"}}]
[null,{"$f":"Results!A26","v":0},{"$f":"Results!C26","v":0},{"$f":"Results!B26","v":0},{"$f":"Results!D26","v":0},{"$f":"Results!G26","v":""},"- vs -",{"$f":"VLOOKUP(B23,Results!$A$8:BF84,58,FALSE)","v":{"$error":"#N/A"}},{"$f":"VLOOKUP(H23,Results!A$8:G78,3,FALSE)","v":{"$error":"#N/A"}},{"$f":"VLOOKUP(H23,Results!$A$8:G78,2,FALSE)","v":{"$error":"#N/A"}},{"$f":"VLOOKUP(H23,Results!$A$8:G78,4,FALSE)","v":{"$error":"#N/A"}},{"$f":"VLOOKUP(H23,Results!$A$8:G78,7,FALSE)","v":{"$error":"#N/A"}},{"$f":"VLOOKUP(H23,$B$4:B23,1,FALSE)","v":{"$error":"#N/A"}}]
[null,{"$f":"Results!A27","v":0},{"$f":"Results!C27","v":0},{"$f":"Results!B27","v":0},{"$f":"Results!D27","v":0},{"$f":"Results!G27","v":""},"- vs -",{"$f":"VLOOKUP(B24,Results!$A$8:BF85,58,FALSE)","v":{"$error":"#N/A"}},{"$f":"VLOOKUP(H24,Results!A$8:G79,3,FALSE)","v":{"$error":"#N/A"}},{"$f":"VLOOKUP(H24,Results!$A$8:G79,2,FALSE)","v":{"$error":"#N/A"}},{"$f":"VLOOKUP(H24,Results!$A$8:G79,4,FALSE)","v":{"$error":"#N/A"}},{"$f":"VLOOKUP(H24,Results!$A$8:G79,7,FALSE)","v":{"$error":"#N/A"}},{"$f":"VLOOKUP(H24,$B$4:B24,1,FALSE)","v":{"$error":"#N/A"}}]
[null,{"$f":"Results!A28","v":0},{"$f":"Results!C28","v":0},{"$f":"Results!B28","v":0},{"$f":"Results!D28","v":0},{"$f":"Results!G28","v":""},"- vs -",{"$f":"VLOOKUP(B25,Results!$A$8:BF86,58,FALSE)","v":{"$error":"#N/A"}},{"$f":"VLOOKUP(H25,Results!A$8:G80,3,FALSE)","v":{"$error":"#N/A"}},{"$f":"VLOOKUP(H25,Results!$A$8:G80,2,FALSE)","v":{"$error":"#N/A"}},{"$f":"VLOOKUP(H25,Results!$A$8:G80,4,FALSE)","v":{"$error":"#N/A"}},{"$f":"VLOOKUP(H25,Results!$A$8:G80,7,FALSE)","v":{"$error":"#N/A"}},{"$f":"VLOOKUP(H25,$B$4:B25,1,FALSE)","v":{"$error":"#N/A"}}]
[null,{"$f":"Results!A29","v":0},{"$f":"Results!C29","v":0},{"$f":"Results!B29","v":0},{"$f":"Results!D29","v":0},{"$f":"Results!G29","v":""},"- vs -",{"$f":"VLOOKUP(B26,Results!$A$8:BF87,58,FALSE)","v":{"$error":"#N/A"}},{"$f":"VLOOKUP(H26,Results!A$8:G81,3,FALSE)","v":{"$error":"#N/A"}},{"$f":"VLOOKUP(H26,Results!$A$8:G81,2,FALSE)","v":{"$error":"#N/A"}},{"$f":"VLOOKUP(H26,Results!$A$8:G81,4,FALSE)","v":{"$error":"#N/A"}},{"$f":"VLOOKUP(H26,Results!$A$8:G81,7,FALSE)","v":{"$error":"#N/A"}},{"$f":"VLOOKUP(H26,$B$4:B26,1,FALSE)","v":{"$error":"#N/A"}}]
[null,{"$f":"Results!A30","v":0},{"$f":"Results!C30","v":0},{"$f":"Results!B30","v":0},{"$f":"Results!D30","v":0},{"$f":"Results!G30","v":""},"- vs -",{"$f":"VLOOKUP(B27,Results!$A$8:BF88,58,FALSE)","v":{"$error":"#N/A"}},{"$f":"VLOOKUP(H27,Results!A$8:G82,3,FALSE)","v":{"$error":"#N/A"}},{"$f":"VLOOKUP(H27,Results!$A$8:G82,2,FALSE)","v":{"$error":"#N/A"}},{"$f":"VLOOKUP(H27,Results!$A$8:G82,4,FALSE)","v":{"$error":"#N/A"}},{"$f":"VLOOKUP(H27,Results!$A$8:G82,7,FALSE)","v":{"$error":"#N/A"}},{"$f":"VLOOKUP(H27,$B$4:B27,1,FALSE)","v":{"$error":"#N/A"}}]
[null,{"$f":"Results!A31","v":0},{"$f":"Results!C31","v":0},{"$f":"Results!B31","v":0},{"$f":"Results!D31","v":0},{"$f":"Results!G31","v":""},"- vs -",{"$f":"VLOOKUP(B28,Results!$A$8:BF89,58,FALSE)","v":{"$error":"#N/A"}},{"$f":"VLOOKUP(H28,Results!A$8:G83,3,FALSE)","v":{"$error":"#N/A"}},{"$f":"VLOOKUP(H28,Results!$A$8:G83,2,FALSE)","v":{"$error":"#N/A"}},{"$f":"VLOOKUP(H28,Results!$A$8:G83,4,FALSE)","v":{"$error":"#N/A"}},{"$f":"VLOOKUP(H28,Results!$A$8:G83,7,FALSE)","v":{"$error":"#N/A"}},{"$f":"VLOOKUP(H28,$B$4:B28,1,FALSE)","v":{"$error":"#N/A"}}]
[null,{"$f":"Results!A32","v":0},{"$f":"Results!C32","v":0},{"$f":"Results!B32","v":0},{"$f":"Results!D32","v":0},{"$f":"Results!G32","v":""},"- vs -",{"$f":"VLOOKUP(B29,Results!$A$8:BF90,58,FALSE)","v":{"$error":"#N/A"}},{"$f":"VLOOKUP(H29,Results!A$8:G84,3,FALSE)","v":{"$error":"#N/A"}},{"$f":"VLOOKUP(H29,Results!$A$8:G84,2,FALSE)","v":{"$error":"#N/A"}},{"$f":"VLOOKUP(H29,Results!$A$8:G84,4,FALSE)","v":{"$error":"#N/A"}},{"$f":"VLOOKUP(H29,Results!$A$8:G84,7,FALSE)","v":{"$error":"#N/A"}},{"$f":"VLOOKUP(H29,$B$4:B29,1,FALSE)","v":{"$error":"#N/A"}}]
[null,{"$f":"Results!A33","v":0},{"$f":"Results!C33","v":0},{"$f":"Results!B33","v":0},{"$f":"Results!D33","v":0},{"$f":"Results!G33","v":""},"- vs -",{"$f":"VLOOKUP(B30,Results!$A$8:BF91,58,FALSE)","v":{"$error":"#N/A"}},{"$f":"VLOOKUP(H30,Results!A$8:G85,3,FALSE)","v":{"$error":"#N/A"}},{"$f":"VLOOKUP(H30,Results!$A$8:G85,2,FALSE)","v":{"$error":"#N/A"}},{"$f":"VLOOKUP(H30,Results!$A$8:G85,4,FALSE)","v":{"$error":"#N/A"}},{"$f":"VLOOKUP(H30,Results!$A$8:G85,7,FALSE)","v":{"$error":"#N/A"}},{"$f":"VLOOKUP(H30,$B$4:B30,1,FALSE)","v":{"$error":"#N/A"}}]
[null,{"$f":"Results!A34","v":0},{"$f":"Results!C34","v":0},{"$f":"Results!B34","v":0},{"$f":"Results!D34","v":0},{"$f":"Results!G34","v":""},"- vs -",{"$f":"VLOOKUP(B31,Results!$A$8:BF92,58,FALSE)","v":{"$error":"#N/A"}},{"$f":"VLOOKUP(H31,Results!A$8:G86,3,FALSE)","v":{"$error":"#N/A"}},{"$f":"VLOOKUP(H31,Results!$A$8:G86,2,FALSE)","v":{"$error":"#N/A"}},{"$f":"VLOOKUP(H31,Results!$A$8:G86,4,FALSE)","v":{"$error":"#N/A"}},{"$f":"VLOOKUP(H31,Results!$A$8:G86,7,FALSE)","v":{"$error":"#N/A"}},{"$f":"VLOOKUP(H31,$B$4:B31,1,FALSE)","v":{"$error":"#N/A"}}]
[null,{"$f":"Results!A35","v":0},{"$f":"Results!C35","v":0},{"$f":"Results!B35","v":0},{"$f":"Results!D35","v":0},{"$f":"Results!G35","v":""},"- vs -",{"$f":"VLOOKUP(B32,Results!$A$8:BF93,58,FALSE)","v":{"$error":"#N/A"}},{"$f":"VLOOKUP(H32,Results!A$8:G87,3,FALSE)","v":{"$error":"#N/A"}},{"$f":"VLOOKUP(H32,Results!$A$8:G87,2,FALSE)","v":{"$error":"#N/A"}},{"$f":"VLOOKUP(H32,Results!$A$8:G87,4,FALSE)","v":{"$error":"#N/A"}},{"$f":"VLOOKUP(H32,Results!$A$8:G87,7,FALSE)","v":{"$error":"#N/A"}},{"$f":"VLOOKUP(H32,$B$4:B32,1,FALSE)","v":{"$error":"#N/A"}}]
[null,{"$f":"Results!A36","v":0},{"$f":"Results!C36","v":0},{"$f":"Results!B36","v":0},{"$f":"Results!D36","v":0},{"$f":"Results!G36","v":""},"- vs -",{"$f":"VLOOKUP(B33,Results!$A$8:BF94,58,FALSE)","v":{"$error":"#N/A"}},{"$f":"VLOOKUP(H33,Results!A$8:G88,3,FALSE)","v":{"$error":"#N/A"}},{"$f":"VLOOKUP(H33,Results!$A$8:G88,2,FALSE)","v":{"$error":"#N/A"}},{"$f":"VLOOKUP(H33,Results!$A$8:G88,4,FALSE)","v":{"$error":"#N/A"}},{"$f":"VLOOKUP(H33,Results!$A$8:G88,7,FALSE)","v":{"$error":"#N/A"}},{"$f":"VLOOKUP(H33,$B$4:B33,1,FALSE)","v":{"$error":"#N/A"}}]
[null,{"$f":"Results!A37","v":0},{"$f":"Results!C37","v":0},{"$f":"Results!B37","v":0},{"$f":"Results!D37","v":0},{"$f":"Results!G37","v":""},"- vs -",{"$f":"VLOOKUP(B34,Results!$A$8:BF95,58,FALSE)","v":{"$error":"#N/A"}},{"$f":"VLOOKUP(H34,Results!A$8:G89,3,FALSE)","v":{"$error":"#N/A"}},{"$f":"VLOOKUP(H34,Results!$A$8:G89,2,FALSE)","v":{"$error":"#N/A"}},{"$f":"VLOOKUP(H34,Results!$A$8:G89,4,FALSE)","v":{"$error":"#N/A"}},{"$f":"VLOOKUP(H34,Results!$A$8:G89,7,FALSE)","v":{"$error":"#N/A"}},{"$f":"VLOOKUP(H34,$B$4:B34,1,FALSE)","v":{"$error":"#N/A"}}]
[null,{"$f":"Results!A38","v":0},{"$f":"Results!C38","v":0},{"$f":"Results!B38","v":0},{"$f":"Results!D38","v":0},{"$f":"Results!G38","v":""},"- vs -",{"$f":"VLOOKUP(B35,Results!$A$8:BF96,58,FALSE)","v":{"$error":"#N/A"}},{"$f":"VLOOKUP(H35,Results!A$8:G90,3,FALSE)","v":{"$error":"#N/A"}},{"$f":"VLOOKUP(H35,Results!$A$8:G90,2,FALSE)","v":{"$error":"#N/A"}},{"$f":"VLOOKUP(H35,Results!$A$8:G90,4,FALSE)","v":{"$error":"#N/A"}},{"$f":"VLOOKUP(H35,Results!$A$8:G90,7,FALSE)","v":{"$error":"#N/A"}},{"$f":"VLOOKUP(H35,$B$4:B35,1,FALSE)","v":{"$error":"#N/A"}}]
[null,{"$f":"Results!A39","v":0},{"$f":"Results!C39","v":0},{"$f":"Results!B39","v":0},{"$f":"Results!D39","v":0},{"$f":"Results!G39","v":""},"- vs -",{"$f":"VLOOKUP(B36,Results!$A$8:BF97,58,FALSE)","v":{"$error":"#N/A"}},{"$f":"VLOOKUP(H36,Results!A$8:G91,3,FALSE)","v":{"$error":"#N/A"}},{"$f":"VLOOKUP(H36,Results!$A$8:G91,2,FALSE)","v":{"$error":"#N/A"}},{"$f":"VLOOKUP(H36,Results!$A$8:G91,4,FALSE)","v":{"$error":"#N/A"}},{"$f":"VLOOKUP(H36,Results!$A$8:G91,7,FALSE)","v":{"$error":"#N/A"}},{"$f":"VLOOKUP(H36,$B$4:B36,1,FALSE)","v":{"$error":"#N/A"}}]
[null,{"$f":"Results!A40","v":0},{"$f":"Results!C40","v":0},{"$f":"Results!B40","v":0},{"$f":"Results!D40","v":0},{"$f":"Results!G40","v":""},"- vs -",{"$f":"VLOOKUP(B37,Results!$A$8:BF98,58,FALSE)","v":{"$error":"#N/A"}},{"$f":"VLOOKUP(H37,Results!A$8:G92,3,FALSE)","v":{"$error":"#N/A"}},{"$f":"VLOOKUP(H37,Results!$A$8:G92,2,FALSE)","v":{"$error":"#N/A"}},{"$f":"VLOOKUP(H37,Results!$A$8:G92,4,FALSE)","v":{"$error":"#N/A"}},{"$f":"VLOOKUP(H37,Results!$A$8:G92,7,FALSE)","v":{"$error":"#N/A"}},{"$f":"VLOOKUP(H37,$B$4:B37,1,FALSE)","v":{"$error":"#N/A"}}]
[null,{"$f":"Results!A41","v":0},{"$f":"Results!C41","v":0},{"$f":"Results!B41","v":0},{"$f":"Results!D41","v":0},{"$f":"Results!G41","v":""},"- vs -",{"$f":"VLOOKUP(B38,Results!$A$8:BF99,58,FALSE)","v":{"$error":"#N/A"}},{"$f":"VLOOKUP(H38,Results!A$8:G93,3,FALSE)","v":{"$error":"#N/A"}},{"$f":"VLOOKUP(H38,Results!$A$8:G93,2,FALSE)","v":{"$error":"#N/A"}},{"$f":"VLOOKUP(H38,Results!$A$8:G93,4,FALSE)","v":{"$error":"#N/A"}},{"$f":"VLOOKUP(H38,Results!$A$8:G93,7,FALSE)","v":{"$error":"#N/A"}},{"$f":"VLOOKUP(H38,$B$4:B38,1,FALSE)","v":{"$error":"#N/A"}}]
[null,{"$f":"Results!A42","v":0},{"$f":"Results!C42","v":0},{"$f":"Results!B42","v":0},{"$f":"Results!D42","v":0},{"$f":"Results!G42","v":""},"- vs -",{"$f":"VLOOKUP(B39,Results!$A$8:BF100,58,FALSE)","v":{"$error":"#N/A"}},{"$f":"VLOOKUP(H39,Results!A$8:G94,3,FALSE)","v":{"$error":"#N/A"}},{"$f":"VLOOKUP(H39,Results!$A$8:G94,2,FALSE)","v":{"$error":"#N/A"}},{"$f":"VLOOKUP(H39,Results!$A$8:G94,4,FALSE)","v":{"$error":"#N/A"}},{"$f":"VLOOKUP(H39,Results!$A$8:G94,7,FALSE)","v":{"$error":"#N/A"}},{"$f":"VLOOKUP(H39,$B$4:B39,1,FALSE)","v":{"$error":"#N/A"}}]
[null,{"$f":"Results!A43","v":0},{"$f":"Results!C43","v":0},{"$f":"Results!B43","v":0},{"$f":"Results!D43","v":0},{"$f":"Results!G43","v":""},"- vs -",{"$f":"VLOOKUP(B40,Results!$A$8:BF101,58,FALSE)","v":{"$error":"#N/A"}},{"$f":"VLOOKUP(H40,Results!A$8:G95,3,FALSE)","v":{"$error":"#N/A"}},{"$f":"VLOOKUP(H40,Results!$A$8:G95,2,FALSE)","v":{"$error":"#N/A"}},{"$f":"VLOOKUP(H40,Results!$A$8:G95,4,FALSE)","v":{"$error":"#N/A"}},{"$f":"VLOOKUP(H40,Results!$A$8:G95,7,FALSE)","v":{"$error":"#N/A"}},{"$f":"VLOOKUP(H40,$B$4:B40,1,FALSE)","v":{"$error":"#N/A"}}]
[null,{"$f":"Results!A44","v":0},{"$f":"Results!C44","v":0},{"$f":"Results!B44","v":0},{"$f":"Results!D44","v":0},{"$f":"Results!G44","v":""},"- vs -",{"$f":"VLOOKUP(B41,Results!$A$8:BF102,58,FALSE)","v":{"$error":"#N/A"}},{"$f":"VLOOKUP(H41,Results!A$8:G96,3,FALSE)","v":{"$error":"#N/A"}},{"$f":"VLOOKUP(H41,Results!$A$8:G96,2,FALSE)","v":{"$error":"#N/A"}},{"$f":"VLOOKUP(H41,Results!$A$8:G96,4,FALSE)","v":{"$error":"#N/A"}},{"$f":"VLOOKUP(H41,Results!$A$8:G96,7,FALSE)","v":{"$error":"#N/A"}},{"$f":"VLOOKUP(H41,$B$4:B41,1,FALSE)","v":{"$error":"#N/A"}}]
[null,{"$f":"Results!A45","v":0},{"$f":"Results!C45","v":0},{"$f":"Results!B45","v":0},{"$f":"Results!D45","v":0},{"$f":"Results!G45","v":""},"- vs -",{"$f":"VLOOKUP(B42,Results!$A$8:BF103,58,FALSE)","v":{"$error":"#N/A"}},{"$f":"VLOOKUP(H42,Results!A$8:G97,3,FALSE)","v":{"$error":"#N/A"}},{"$f":"VLOOKUP(H42,Results!$A$8:G97,2,FALSE)","v":{"$error":"#N/A"}},{"$f":"VLOOKUP(H42,Results!$A$8:G97,4,FALSE)","v":{"$error":"#N/A"}},{"$f":"VLOOKUP(H42,Results!$A$8:G97,7,FALSE)","v":{"$error":"#N/A"}},{"$f":"VLOOKUP(H42,$B$4:B42,1,FALSE)","v":{"$error":"#N/A"}}]
[null,{"$f":"Results!A46","v":0},{"$f":"Results!C46","v":0},{"$f":"Results!B46","v":0},{"$f":"Results!D46","v":0},{"$f":"Results!G46","v":""},"- vs -",{"$f":"VLOOKUP(B43,Results!$A$8:BF104,58,FALSE)","v":{"$error":"#N/A"}},{"$f":"VLOOKUP(H43,Results!A$8:G98,3,FALSE)","v":{"$error":"#N/A"}},{"$f":"VLOOKUP(H43,Results!$A$8:G98,2,FALSE)","v":{"$error":"#N/A"}},{"$f":"VLOOKUP(H43,Results!$A$8:G98,4,FALSE)","v":{"$error":"#N/A"}},{"$f":"VLOOKUP(H43,Results!$A$8:G98,7,FALSE)","v":{"$error":"#N/A"}},{"$f":"VLOOKUP(H43,$B$4:B43,1,FALSE)","v":{"$error":"#N/A"}}]
[null,{"$f":"Results!A47","v":0},{"$f":"Results!C47","v":0},{"$f":"Results!B47","v":0},{"$f":"Results!D47","v":0},{"$f":"Results!G47","v":""},"- vs -",{"$f":"VLOOKUP(B44,Results!$A$8:BF105,58,FALSE)","v":{"$error":"#N/A"}},{"$f":"VLOOKUP(H44,Results!A$8:G99,3,FALSE)","v":{"$error":"#N/A"}},{"$f":"VLOOKUP(H44,Results!$A$8:G99,2,FALSE)","v":{"$error":"#N/A"}},{"$f":"VLOOKUP(H44,Results!$A$8:G99,4,FALSE)","v":{"$error":"#N/A"}},{"$f":"VLOOKUP(H44,Results!$A$8:G99,7,FALSE)","v":{"$error":"#N/A"}},{"$f":"VLOOKUP(H44,$B$4:B44,1,FALSE)","v":{"$error":"#N/A"}}]
[null,{"$f":"Results!A48","v":0},{"$f":"Results!C48","v":0},{"$f":"Results!B48","v":0},{"$f":"Results!D48","v":0},{"$f":"Results!G48","v":""},"- vs -",{"$f":"VLOOKUP(B45,Results!$A$8:BF106,58,FALSE)","v":{"$error":"#N/A"}},{"$f":"VLOOKUP(H45,Results!A$8:G100,3,FALSE)","v":{"$error":"#N/A"}},{"$f":"VLOOKUP(H45,Results!$A$8:G100,2,FALSE)","v":{"$error":"#N/A"}},{"$f":"VLOOKUP(H45,Results!$A$8:G100,4,FALSE)","v":{"$error":"#N/A"}},{"$f":"VLOOKUP(H45,Results!$A$8:G100,7,FALSE)","v":{"$error":"#N/A"}},{"$f":"VLOOKUP(H45,$B$4:B45,1,FALSE)","v":{"$error":"#N/A"}}]
[null,{"$f":"Results!A49","v":0},{"$f":"Results!C49","v":0},{"$f":"Results!B49","v":0},{"$f":"Results!D49","v":0},{"$f":"Results!G49","v":""},"- vs -",{"$f":"VLOOKUP(B46,Results!$A$8:BF108,58,FALSE)","v":{"$error":"#N/A"}},{"$f":"VLOOKUP(H46,Results!A$8:G101,3,FALSE)","v":{"$error":"#N/A"}},{"$f":"VLOOKUP(H46,Results!$A$8:G101,2,FALSE)","v":{"$error":"#N/A"}},{"$f":"VLOOKUP(H46,Results!$A$8:G101,4,FALSE)","v":{"$error":"#N/A"}},{"$f":"VLOOKUP(H46,Results!$A$8:G101,7,FALSE)","v":{"$error":"#N/A"}},{"$f":"VLOOKUP(H46,$B$4:B46,1,FALSE)","v":{"$error":"#N/A"}}]
[null,{"$f":"Results!A50","v":0},{"$f":"Results!C50","v":0},{"$f":"Results!B50","v":0},{"$f":"Results!D50","v":0},{"$f":"Results!G50","v":""},"- vs -",{"$f":"VLOOKUP(B47,Results!$A$8:BF109,58,FALSE)","v":{"$error":"#N/A"}},{"$f":"VLOOKUP(H47,Results!A$8:G102,3,FALSE)","v":{"$error":"#N/A"}},{"$f":"VLOOKUP(H47,Results!$A$8:G102,2,FALSE)","v":{"$error":"#N/A"}},{"$f":"VLOOKUP(H47,Results!$A$8:G102,4,FALSE)","v":{"$error":"#N/A"}},{"$f":"VLOOKUP(H47,Results!$A$8:G102,7,FALSE)","v":{"$error":"#N/A"}},{"$f":"VLOOKUP(H47,$B$4:B47,1,FALSE)","v":{"$error":"#N/A"}}]
[null,{"$f":"Results!A51","v":0},{"$f":"Results!C51","v":0},{"$f":"Results!B51","v":0},{"$f":"Results!D51","v":0},{"$f":"Results!G51","v":""},"- vs -",{"$f":"VLOOKUP(B48,Results!$A$8:BF110,58,FALSE)","v":{"$error":"#N/A"}},{"$f":"VLOOKUP(H48,Results!A$8:G103,3,FALSE)","v":{"$error":"#N/A"}},{"$f":"VLOOKUP(H48,Results!$A$8:G103,2,FALSE)","v":{"$error":"#N/A"}},{"$f":"VLOOKUP(H48,Results!$A$8:G103,4,FALSE)","v":{"$error":"#N/A"}},{"$f":"VLOOKUP(H48,Results!$A$8:G103,7,FALSE)","v":{"$error":"#N/A"}},{"$f":"VLOOKUP(H48,$B$4:B48,1,FALSE)","v":{"$error":"#N/A"}}]
[null,{"$f":"Results!A52","v":0},{"$f":"Results!C52","v":0},{"$f":"Results!B52","v":0},{"$f":"Results!D52","v":0},{"$f":"Results!G52","v":""},"- vs -",{"$f":"VLOOKUP(B49,Results!$A$8:BF111,58,FALSE)","v":{"$error":"#N/A"}},{"$f":"VLOOKUP(H49,Results!A$8:G104,3,FALSE)","v":{"$error":"#N/A"}},{"$f":"VLOOKUP(H49,Results!$A$8:G104,2,FALSE)","v":{"$error":"#N/A"}},{"$f":"VLOOKUP(H49,Results!$A$8:G104,4,FALSE)","v":{"$error":"#N/A"}},{"$f":"VLOOKUP(H49,Results!$A$8:G104,7,FALSE)","v":{"$error":"#N/A"}},{"$f":"VLOOKUP(H49,$B$4:B49,1,FALSE)","v":{"$error":"#N/A"}}]
[null,{"$f":"Results!A53","v":0},{"$f":"Results!C53","v":0},{"$f":"Results!B53","v":0},{"$f":"Results!D53","v":0},{"$f":"Results!G53","v":""},"- vs -",{"$f":"VLOOKUP(B50,Results!$A$8:BF112,58,FALSE)","v":{"$error":"#N/A"}},{"$f":"VLOOKUP(H50,Results!A$8:G105,3,FALSE)","v":{"$error":"#N/A"}},{"$f":"VLOOKUP(H50,Results!$A$8:G105,2,FALSE)","v":{"$error":"#N/A"}},{"$f":"VLOOKUP(H50,Results!$A$8:G105,4,FALSE)","v":{"$error":"#N/A"}},{"$f":"VLOOKUP(H50,Results!$A$8:G105,7,FALSE)","v":{"$error":"#N/A"}},{"$f":"VLOOKUP(H50,$B$4:B50,1,FALSE)","v":{"$error":"#N/A"}}]
[null,{"$f":"Results!A54","v":0},{"$f":"Results!C54","v":0},{"$f":"Results!B54","v":0},{"$f":"Results!D54","v":0},{"$f":"Results!G54","v":""},"- vs -",{"$f":"VLOOKUP(B51,Results!$A$8:BF113,58,FALSE)","v":{"$error":"#N/A"}},{"$f":"VLOOKUP(H51,Results!A$8:G106,3,FALSE)","v":{"$error":"#N/A"}},{"$f":"VLOOKUP(H51,Results!$A$8:G106,2,FALSE)","v":{"$error":"#N/A"}},{"$f":"VLOOKUP(H51,Results!$A$8:G106,4,FALSE)","v":{"$error":"#N/A"}},{"$f":"VLOOKUP(H51,Results!$A$8:G106,7,FALSE)","v":{"$error":"#N/A"}},{"$f":"VLOOKUP(H51,$B$4:B51,1,FALSE)","v":{"$error":"#N/A"}}]
[null,{"$f":"Results!A55","v":0},{"$f":"Results!C55","v":0},{"$f":"Results!B55","v":0},{"$f":"Results!D55","v":0},{"$f":"Results!G55","v":""},"- vs -",{"$f":"VLOOKUP(B52,Results!$A$8:BF114,58,FALSE)","v":{"$error":"#N/A"}},{"$f":"VLOOKUP(H52,Results!A$8:G108,3,FALSE)","v":{"$error":"#N/A"}},{"$f":"VLOOKUP(H52,Results!$A$8:G108,2,FALSE)","v":{"$error":"#N/A"}},{"$f":"VLOOKUP(H52,Results!$A$8:G108,4,FALSE)","v":{"$error":"#N/A"}},{"$f":"VLOOKUP(H52,Results!$A$8:G108,7,FALSE)","v":{"$error":"#N/A"}},{"$f":"VLOOKUP(H52,$B$4:B52,1,FALSE)","v":{"$error":"#N/A"}}]
[null,{"$f":"Results!A56","v":0},{"$f":"Results!C56","v":0},{"$f":"Results!B56","v":0},{"$f":"Results!D56","v":0},{"$f":"Results!G56","v":""},"- vs -",{"$f":"VLOOKUP(B53,Results!$A$8:BF115,58,FALSE)","v":{"$error":"#N/A"}},{"$f":"VLOOKUP(H53,Results!A$8:G109,3,FALSE)","v":{"$error":"#N/A"}},{"$f":"VLOOKUP(H53,Results!$A$8:G109,2,FALSE)","v":{"$error":"#N/A"}},{"$f":"VLOOKUP(H53,Results!$A$8:G109,4,FALSE)","v":{"$error":"#N/A"}},{"$f":"VLOOKUP(H53,Results!$A$8:G109,7,FALSE)","v":{"$error":"#N/A"}},{"$f":"VLOOKUP(H53,$B$4:B53,1,FALSE)","v":{"$error":"#N/A"}}]
[null,{"$f":"Results!A57","v":0},{"$f":"Results!C57","v":0},{"$f":"Results!B57","v":0},{"$f":"Results!D57","v":0},{"$f":"Results!G57","v":""},"- vs -",{"$f":"VLOOKUP(B54,Results!$A$8:BF116,58,FALSE)","v":{"$error":"#N/A"}},{"$f":"VLOOKUP(H54,Results!A$8:G110,3,FALSE)","v":{"$error":"#N/A"}},{"$f":"VLOOKUP(H54,Results!$A$8:G110,2,FALSE)","v":{"$error":"#N/A"}},{"$f":"VLOOKUP(H54,Results!$A$8:G110,4,FALSE)","v":{"$error":"#N/A"}},{"$f":"VLOOKUP(H54,Results!$A$8:G110,7,FALSE)","v":{"$error":"#N/A"}},{"$f":"VLOOKUP(H54,$B$4:B54,1,FALSE)","v":{"$error":"#N/A"}}]
[null,{"$f":"Results!A58","v":0},{"$f":"Results!C58","v":0},{"$f":"Results!B58","v":0},{"$f":"Results!D58","v":0},{"$f":"Results!G58","v":""},"- vs -",{"$f":"VLOOKUP(B55,Results!$A$8:BF117,58,FALSE)","v":{"$error":"#N/A"}},{"$f":"VLOOKUP(H55,Results!A$8:G111,3,FALSE)","v":{"$error":"#N/A"}},{"$f":"VLOOKUP(H55,Results!$A$8:G111,2,FALSE)","v":{"$error":"#N/A"}},{"$f":"VLOOKUP(H55,Results!$A$8:G111,4,FALSE)","v":{"$error":"#N/A"}},{"$f":"VLOOKUP(H55,Results!$A$8:G111,7,FALSE)","v":{"$error":"#N/A"}},{"$f":"VLOOKUP(H55,$B$4:B55,1,FALSE)","v":{"$error":"#N/A"}}]
[null,{"$f":"Results!A59","v":0},{"$f":"Results!C59","v":0},{"$f":"Results!B59","v":0},{"$f":"Results!D59","v":0},{"$f":"Results!G59","v":""},"- vs -",{"$f":"VLOOKUP(B56,Results!$A$8:BF118,58,FALSE)","v":{"$error":"#N/A"}},{"$f":"VLOOKUP(H56,Results!A$8:G112,3,FALSE)","v":{"$error":"#N/A"}},{"$f":"VLOOKUP(H56,Results!$A$8:G112,2,FALSE)","v":{"$error":"#N/A"}},{"$f":"VLOOKUP(H56,Results!$A$8:G112,4,FALSE)","v":{"$error":"#N/A"}},{"$f":"VLOOKUP(H56,Results!$A$8:G112,7,FALSE)","v":{"$error":"#N/A"}},{"$f":"VLOOKUP(H56,$B$4:B56,1,FALSE)","v":{"$error":"#N/A"}}]
[null,{"$f":"Results!A60","v":0},{"$f":"Results!C60","v":0},{"$f":"Results!B60","v":0},{"$f":"Results!D60","v":0},{"$f":"Results!G60","v":""},"- vs -",{"$f":"VLOOKUP(B57,Results!$A$8:BF119,58,FALSE)","v":{"$error":"#N/A"}},{"$f":"VLOOKUP(H57,Results!A$8:G113,3,FALSE)","v":{"$error":"#N/A"}},{"$f":"VLOOKUP(H57,Results!$A$8:G113,2,FALSE)","v":{"$error":"#N/A"}},{"$f":"VLOOKUP(H57,Results!$A$8:G113,4,FALSE)","v":{"$error":"#N/A"}},{"$f":"VLOOKUP(H57,Results!$A$8:G113,7,FALSE)","v":{"$error":"#N/A"}},{"$f":"VLOOKUP(H57,$B$4:B57,1,FALSE)","v":{"$error":"#N/A"}}]
[null,{"$f":"Results!A61","v":0},{"$f":"Results!C61","v":0},{"$f":"Results!B61","v":0},{"$f":"Results!D61","v":0},{"$f":"Results!G61","v":""},"- vs -",{"$f":"VLOOKUP(B58,Results!$A$8:BF120,58,FALSE)","v":{"$error":"#N/A"}},{"$f":"VLOOKUP(H58,Results!A$8:G114,3,FALSE)","v":{"$error":"#N/A"}},{"$f":"VLOOKUP(H58,Results!$A$8:G114,2,FALSE)","v":{"$error":"#N/A"}},{"$f":"VLOOKUP(H58,Results!$A$8:G114,4,FALSE)","v":{"$error":"#N/A"}},{"$f":"VLOOKUP(H58,Results!$A$8:G114,7,FALSE)","v":{"$error":"#N/A"}},{"$f":"VLOOKUP(H58,$B$4:B58,1,FALSE)","v":{"$error":"#N/A"}}]
[null,{"$f":"Results!A62","v":0},{"$f":"Results!C62","v":0},{"$f":"Results!B62","v":0},{"$f":"Results!D62","v":0},{"$f":"Results!G62","v":0},"- vs -",{"$f":"VLOOKUP(B59,Results!$A$8:BF121,58,FALSE)","v":{"$error":"#N/A"}},{"$f":"VLOOKUP(H59,Results!A$8:G115,3,FALSE)","v":{"$error":"#N/A"}},{"$f":"VLOOKUP(H59,Results!$A$8:G115,2,FALSE)","v":{"$error":"#N/A"}},{"$f":"VLOOKUP(H59,Results!$A$8:G115,4,FALSE)","v":{"$error":"#N/A"}},{"$f":"VLOOKUP(H59,Results!$A$8:G115,7,FALSE)","v":{"$error":"#N/A"}},{"$f":"VLOOKUP(H59,$B$4:B59,1,FALSE)","v":{"$error":"#N/A"}}]
[null,{"$f":"Results!A63","v":0},{"$f":"Results!C63","v":0},{"$f":"Results!B63","v":0},{"$f":"Results!D63","v":0},{"$f":"Results!G63","v":0},"- vs -",{"$f":"VLOOKUP(B60,Results!$A$8:BF122,58,FALSE)","v":{"$error":"#N/A"}},{"$f":"VLOOKUP(H60,Results!A$8:G116,3,FALSE)","v":{"$error":"#N/A"}},{"$f":"VLOOKUP(H60,Results!$A$8:G116,2,FALSE)","v":{"$error":"#N/A"}},{"$f":"VLOOKUP(H60,Results!$A$8:G116,4,FALSE)","v":{"$error":"#N/A"}},{"$f":"VLOOKUP(H60,Results!$A$8:G116,7,FALSE)","v":{"$error":"#N/A"}},{"$f":"VLOOKUP(H60,$B$4:B60,1,FALSE)","v":{"$error":"#N/A"}}]
[null,{"$f":"Results!A64","v":0},{"$f":"Results!C64","v":0},{"$f":"Results!B64","v":0},{"$f":"Results!D64","v":0},{"$f":"Results!G64","v":0},"- vs -",{"$f":"VLOOKUP(B61,Results!$A$8:BF123,58,FALSE)","v":{"$error":"#N/A"}},{"$f":"VLOOKUP(H61,Results!A$8:G117,3,FALSE)","v":{"$error":"#N/A"}},{"$f":"VLOOKUP(H61,Results!$A$8:G117,2,FALSE)","v":{"$error":"#N/A"}},{"$f":"VLOOKUP(H61,Results!$A$8:G117,4,FALSE)","v":{"$error":"#N/A"}},{"$f":"VLOOKUP(H61,Results!$A$8:G117,7,FALSE)","v":{"$error":"#N/A"}},{"$f":"VLOOKUP(H61,$B$4:B61,1,FALSE)","v":{"$error":"#N/A"}}]
[null,{"$f":"Results!A65","v":0},{"$f":"Results!C65","v":0},{"$f":"Results!B65","v":0},{"$f":"Results!D65","v":0},{"$f":"Results!G65","v":0},"- vs -",{"$f":"VLOOKUP(B62,Results!$A$8:BF124,58,FALSE)","v":{"$error":"#N/A"}},{"$f":"VLOOKUP(H62,Results!A$8:G118,3,FALSE)","v":{"$error":"#N/A"}},{"$f":"VLOOKUP(H62,Results!$A$8:G118,2,FALSE)","v":{"$error":"#N/A"}},{"$f":"VLOOKUP(H62,Results!$A$8:G118,4,FALSE)","v":{"$error":"#N/A"}},{"$f":"VLOOKUP(H62,Results!$A$8:G118,7,FALSE)","v":{"$error":"#N/A"}},{"$f":"VLOOKUP(H62,$B$4:B62,1,FALSE)","v":{"$error":"#N/A"}}]
[null,{"$f":"Results!A66","v":0},{"$f":"Results!C66","v":0},{"$f":"Results!B66","v":0},{"$f":"Results!D66","v":0},{"$f":"Results!G66","v":0},"- vs -",{"$f":"VLOOKUP(B63,Results!$A$8:BF125,58,FALSE)","v":{"$error":"#N/A"}},{"$f":"VLOOKUP(H63,Results!A$8:G119,3,FALSE)","v":{"$error":"#N/A"}},{"$f":"VLOOKUP(H63,Results!$A$8:G119,2,FALSE)","v":{"$error":"#N/A"}},{"$f":"VLOOKUP(H63,Results!$A$8:G119,4,FALSE)","v":{"$error":"#N/A"}},{"$f":"VLOOKUP(H63,Results!$A$8:G119,7,FALSE)","v":{"$error":"#N/A"}},{"$f":"VLOOKUP(H63,$B$4:B63,1,FALSE)","v":{"$error":"#N/A"}}]
[]
[null,0,0,0,0,"","- vs -",{"$error":"#N/A"},{"$error":"#N/A"},{"$error":"#N/A"},{"$error":"#N/A"},{"$error":"#N/A"}]
[null,0,0,0,0,"","- vs -",{"$error":"#N/A"},{"$error":"#N/A"},{"$error":"#N/A"},{"$error":"#N/A"},{"$error":"#N/A"}]
[null,0,0,0,0,"","- vs -",{"$error":"#N/A"},{"$error":"#N/A"},{"$error":"#N/A"},{"$error":"#N/A"},{"$error":"#N/A"}]
[null,0,0,0,0,"","- vs -",{"$error":"#N/A"},{"$error":"#N/A"},{"$error":"#N/A"},{"$error":"#N/A"},{"$error":"#N/A"}]
[null,0,0,0,0,"","- vs -",{"$error":"#N/A"},{"$error":"#N/A"},{"$error":"#N/A"},{"$error":"#N/A"},{"$error":"#N/A"}]
[null,0,0,0,0,"","- vs -",{"$error":"#N/A"},{"$error":"#N/A"},{"$error":"#N/A"},{"$error":"#N/A"},{"$error":"#N/A"}]
[null,0,0,0,0,"","- vs -",{"$error":"#N/A"},{"$error":"#N/A"},{"$error":"#N/A"},{"$error":"#N/A"},{"$error":"#N/A"}]
[null,0,0,0,0,"","- vs -",{"$error":"#N/A"},{"$error":"#N/A"},{"$error":"#N/A"},{"$error":"#N/A"},{"$error":"#N/A"}]
[null,0,0,0,0,"","- vs -",{"$error":"#N/A"},{"$error":"#N/A"},{"$error":"#N/A"},{"$error":"#N/A"},{"$error":"#N/A"}]
[null,0,0,0,0,"","- vs -",{"$error":"#N/A"},{"$error":"#N/A"},{"$error":"#N/A"},{"$error":"#N/A"},{"$error":"#N/A"}]
[null,0,0,0,0,"","- vs -",{"$error":"#N/A"},{"$error":"#N/A"},{"$error":"#N/A"},{"$error":"#N/A"},{"$error":"#N/A"}]
[null,0,0,0,0,"","- vs -",{"$error":"#N/A"},{"$error":"#N/A"},{"$error":"#N/A"},{"$error":"#N/A"},{"$error":"#N/A"}]
[null,0,0,0,0,"","- vs -",{"$error":"#N/A"},{"$error":"#N/A"},{"$error":"#N/A"},{"$error":"#N/A"},{"$error":"#N/A"}]
[null,0,0,0,0,"","- vs -",{"$error":"#N/A"},{"$error":"#N/A"},{"$error":"#N/A"},{"$error":"#N/A"},{"$error":"#N/A"}]
[null,0,0,0,0,"","- vs -",{"$error":"#N/A"},{"$error":"#N/A"},{"$error":"#N/A"},{"$error":"#N/A"},{"$error":"#N/A"}]
[null,0,0,0,0,"","- vs -",{"$error":"#N/A"},{"$error":"#N/A"},{"$error":"#N/A"},{"$error":"#N/A"},{"$error":"#N/A"}]
[null,0,0,0,0,"","- vs -",{"$error":"#N/A"},{"$error":"#N/A"},{"$error":"#N/A"},{"$error":"#N/A"},{"$error":"#N/A"}]
[null,0,0,0,0,"","- vs -",{"$error":"#N/A"},{"$error":"#N/A"},{"$error":"#N/A"},{"$error":"#N/A"},{"$error":"#N/A"}]
[null,0,0,0,0,"","- vs -",{"$error":"#N/A"},{"$error":"#N/A"},{"$error":"#N/A"},{"$error":"#N/A"},{"$error":"#N/A"}]
[null,0,0,0,0,"","- vs -",{"$error":"#N/A"},{"$error":"#N/A"},{"$error":"#N/A"},{"$error":"#N/A"},{"$error":"#N/A"}]
[null,0,0,0,0,0,"- vs -",{"$error":"#N/A"},{"$error":"#N/A"},{"$error":"#N/A"},{"$error":"#N/A"},{"$error":"#N/A"}]
[null,0,0,0,0,0,"- vs -",{"$error":"#N/A"},{"$error":"#N/A"},{"$error":"#N/A"},{"$error":"#N/A"},{"$error":"#N/A"}]
[null,0,0,0,0,0,"- vs -",{"$error":"#N/A"},{"$error":"#N/A"},{"$error":"#N/A"},{"$error":"#N/A"},{"$error":"#N/A"}]
[null,0,0,0,0,0,"- vs -",{"$error":"#N/A"},{"$error":"#N/A"},{"$error":"#N/A"},{"$error":"#N/A"},{"$error":"#N/A"}]
[null,0,0,0,0,0,"- vs -",{"$error":"#N/A"},{"$error":"#N/A"},{"$error":"#N/A"},{"$error":"#N/A"},{"$error":"#N/A"}]
[null,0,0,0,0,0,"- vs -",{"$error":"#N/A"},{"$error":"#N/A"},{"$error":"#N/A"},{"$error":"#N/A"},{"$error":"#N/A"}]

{"sheet":"Sheet1","index":17,"n_rows":20,"n_cols":6,"rows_kept":20}
[]
[]
[{"$nulls":3},"Athletico Madaxeman","Adam Worsdale","Ghaznavid"]
[{"$nulls":3},"Athletico Madaxeman","Tim Porter","Delhi Sultanate"]
[{"$nulls":3},"Athletico Madaxeman","Howard Gray","Parthian"]
[{"$nulls":3},"Two Heffalumps and a Woozle","Dave Allen","Kushan"]
[{"$nulls":3},"Two Heffalumps and a Woozle","Iniaki","Timurid"]
[{"$nulls":3},"Two Heffalumps and a Woozle","Gordon Jamieson","Judaean Jewish"]
[{"$nulls":3},"Haven't a Clue","Ian Mackay","Scythian"]
[{"$nulls":3},"Haven't a Clue","Harrisson Pearce","Timurid"]
[{"$nulls":3},"Haven't a Clue","Darryl Pearce","Ptolemaic"]
[{"$nulls":3},"Right Said Fred","Colin Whittaker","Triumvirate Roman"]
[{"$nulls":3},"Right Said Fred","Fredric Bohm","Seleucid"]
[{"$nulls":3},"Right Said Fred","Fredrik Bodin","Ptolemaic"]
[{"$nulls":3},"Nice Guys Sometimes Win","Paul Frith","Timurid"]
[{"$nulls":3},"Nice Guys Sometimes Win","Stephen Nice","Classical Indian"]
[{"$nulls":3},"Nice Guys Sometimes Win","Andy Finkel","Thracian"]
[{"$nulls":3},"In Carrots We Trust","Simon LeRay-Meyer","Yuan Chinese"]
[{"$nulls":3},"In Carrots We Trust","Gavin McKenzie","Alexander the Great"]
[{"$nulls":3},"In Carrots We Trust","Dave Saunders","Mithridatic"]