{"text_format":"3","workbook":"xlsx","n_sheets":18,"sheets":["Results","Instructions","Round Draws","Armies","Module1","Module2","Module3","Module4","Module5","Round 1","Round 2","Round 3","Round 4","Round 5","Round 6","Round 7","Round 8","Round 9"],"not_rendered":{"images":19,"macros":1,"defined_names":9,"comments":1},"unopened":[{"sheet":"Module1","index":4,"reason":"part_missing"},{"sheet":"Module2","index":5,"reason":"part_missing"},{"sheet":"Module3","index":6,"reason":"part_missing"},{"sheet":"Module4","index":7,"reason":"part_missing"},{"sheet":"Module5","index":8,"reason":"part_missing"}],"read":"whole","date_system":"1900"}

{"sheet":"Results","index":0,"n_rows":139,"n_cols":75,"rows_kept":139,"merged":[[1,72,1,74],[2,1,2,2],[2,4,2,5],[3,1,3,2],[3,4,3,5]]}
["V4.0",null,null,"L'Art de la Guerre - Result Sheet"]
[{"$nulls":72},"Umpire Zone"]
["Tournament",null,null,"Date",null,null,"# Players (8 - 100)"]
["Theme","Classical Period",null,"Country","UK",null,"# Rounds (3 - 9)"]
[]
[{"$nulls":11},"Rnd 1",{"$nulls":6},"Rnd 2",{"$nulls":6},"Rnd 3",{"$nulls":6},"Rnd 4",{"$nulls":6},"Rnd 5",{"$nulls":6},"Rnd 6",{"$nulls":6},"Rnd 7",{"$nulls":6},"Rnd 8",{"$nulls":6},"Rnd 9",{"$nulls":4},"Opponents","Ex-Aequo","Ajustment"]
["ID","Surname","First Name","Club","Points","N°","Army","Units","ID ","Opponent",null,"Result",null,"Losses","Points","ID ","Opponent",null,"Result",null,"Losses","Points","ID ","Opponent",null,"Result",null,"Losses","Points","ID ","Opponent",null,"Result",null,"Losses","Points","ID ","Opponent",null,"Result",null,"Losses","Points","ID ","Opponent",null,"Result",null,"Losses","Points","ID ","Opponent",null,"Result",null,"Losses","Points","ID ","Opponent",null,"Result",null,"Losses","Points","ID ","Opponent",null,"Result",null,"Losses","Points",null,"Scores",null,"Points"]
[{"$nulls":4},{"$f":"O8+V8+AC8+AJ8+AQ8+AX8+BE8+BL8+BS8","v":0},null,{"$f":"IF($F8<>\"\",VLOOKUP(F8,Armies!$A$1:$C$300,3,FALSE),\"\")","v":""},null,null,{"$f":"IF(I8<>\"\",VLOOKUP(I8,$A$8:$C$107,2,FALSE),\"\")","v":""},{"$f":"IF(I8<>\"\",IF(I8=$A8,\"ERR\",IF(OR(I8=$P8,I8=$W8,I8=$AD8,I8=$AK8),\"DUP\",IF(ISNA(VLOOKUP(I8,$A$8:$A$107,1,FALSE)),\"ERR\",IF(COUNTIF($I$8:$I$107,I8)>1,\"ERR\",IF($D8=VLOOKUP(I8,$A$8:$D$107,4,FALSE),\"CLUB\",\"OK\"))))),\"\")","v":""},null,{"$f":"IF(L8<>\"\",IF(L8=\"Victoire\",IF(VLOOKUP(I8,$A$8:$L$107,12,FALSE)=\"Défaite\",\"OK\",\"ERR\"),IF(L8=\"Défaite\",IF(VLOOKUP(I8,$A$8:$L$107,12,FALSE)=\"Victoire\",\"OK\",\"ERR\"),IF(L8=\"Nul\",IF(VLOOKUP(I8,$A$8:$L$107,12,FALSE)=\"Nul\",\"OK\",\"ERR\")))),\"\")","v":""},null,{"$f":"IF(L8=\"Victoire\",100-ROUNDDOWN(20*N8/$H8,0),\nIF(L8=\"Défaite\",10+ROUNDDOWN(20*VLOOKUP(I8,$A$8:$N$107,14,FALSE)/VLOOKUP(I8,$A$8:$H$107,8,FALSE),0),\nIF(AND(L8=\"Nul\",$N8<>$H8),40+(2*ROUNDDOWN(10*VLOOKUP(I8,$A$8:$N$107,14,FALSE)/VLOOKUP(I8,$A$8:$H$107,8,FALSE),0)-ROUNDDOWN(10*N8/$H8,0)),IF(AND(L8=\"Nul\",$N8=$H8),58,0))))","v":0},null,{"$f":"IF(P8<>\"\",VLOOKUP(P8,$A$8:$C$107,2,FALSE),\"\")","v":""},{"$f":"IF(P8<>\"\",IF(P8=$A8,\"ERR\",IF(OR(P8=$I8,P8=$W8,P8=$AD8,P8=$AK8),\"DUP\",IF(ISNA(VLOOKUP(P8,$A$8:$A$107,1,FALSE)),\"ERR\",IF(COUNTIF($I$8:$I$107,P8)>1,\"ERR\",IF($D8=VLOOKUP(P8,$A$8:$D$107,4,FALSE),\"CLUB\",\"OK\"))))),\"\")","v":""},null,{"$f":"IF(S8<>\"\",IF(S8=\"Victoire\",IF(VLOOKUP(P8,$A$8:$AO$107,19,FALSE)=\"Défaite\",\"OK\",\"ERR\"),IF(S8=\"Défaite\",IF(VLOOKUP(P8,$A$8:$AO$107,19,FALSE)=\"Victoire\",\"OK\",\"ERR\"),IF(S8=\"Nul\",IF(VLOOKUP(P8,$A$8:$AO$107,19,FALSE)=\"Nul\",\"OK\",\"ERR\")))),\"\")","v":""},null,{"$f":"IF(S8=\"Victoire\",100-ROUNDDOWN(20*U8/$H8,0),\nIF(S8=\"Défaite\",10+ROUNDDOWN(20*VLOOKUP(P8,$A$8:$AO$107,21,FALSE)/VLOOKUP(P8,$A$8:$H$107,8,FALSE),0),\nIF(AND(S8=\"Nul\",$U8<>$H8),40+(2*ROUNDDOWN(10*VLOOKUP(P8,$A$8:$AO$107,21,FALSE)/VLOOKUP(P8,$A$8:$H$107,8,FALSE),0)-ROUNDDOWN(10*U8/$H8,0)),IF(AND(S8=\"Nul\",$U8=$H8),58,0))))","v":0},null,{"$f":"IF(W8<>\"\",VLOOKUP(W8,$A$8:$C$107,2,FALSE),\"\")","v":""},{"$f":"IF(W8<>\"\",IF(W8=$A8,\"ERR\",IF(OR(W8=$P8,W8=$I8,W8=$AD8,W8=$AK8),\"DUP\",IF(ISNA(VLOOKUP(W8,$A$8:$A$107,1,FALSE)),\"ERR\",IF(COUNTIF($I$8:$I$107,W8)>1,\"ERR\",IF($D8=VLOOKUP(W8,$A$8:$D$107,4,FALSE),\"CLUB\",\"OK\"))))),\"\")","v":""},null,{"$f":"IF(Z8<>\"\",IF(Z8=\"Victoire\",IF(VLOOKUP(W8,$A$8:$AO$107,26,FALSE)=\"Défaite\",\"OK\",\"ERR\"),IF(Z8=\"Défaite\",IF(VLOOKUP(W8,$A$8:$AO$107,26,FALSE)=\"Victoire\",\"OK\",\"ERR\"),IF(Z8=\"Nul\",IF(VLOOKUP(W8,$A$8:$AO$107,26,FALSE)=\"Nul\",\"OK\",\"ERR\")))),\"\")","v":""},null,{"$f":"IF(Z8=\"Victoire\",100-ROUNDDOWN(20*AB8/$H8,0),\nIF(Z8=\"Défaite\",10+ROUNDDOWN(20*VLOOKUP(W8,$A$8:$AO$107,28,FALSE)/VLOOKUP(W8,$A$8:$H$107,8,FALSE),0),\nIF(AND(Z8=\"Nul\",$AB8<>$H8),40+(2*ROUNDDOWN(10*VLOOKUP(W8,$A$8:$AO$107,28,FALSE)/VLOOKUP(W8,$A$8:$H$107,8,FALSE),0)-ROUNDDOWN(10*AB8/$H8,0)),IF(AND(Z8=\"Nul\",$AB8=$H8),58,0))))","v":0},null,{"$f":"IF(AD8<>\"\",VLOOKUP(AD8,$A$8:$C$107,2,FALSE),\"\")","v":""},{"$f":"IF(AD8<>\"\",IF(AD8=$A8,\"ERR\",IF(OR(AD8=$P8,AD8=$W8,AD8=$I8,AD8=$AK8),\"DUP\",IF(ISNA(VLOOKUP(AD8,$A$8:$A$107,1,FALSE)),\"ERR\",IF(COUNTIF($I$8:$I$107,AD8)>1,\"ERR\",IF($D8=VLOOKUP(AD8,$A$8:$D$107,4,FALSE),\"CLUB\",\"OK\"))))),\"\")","v":""},null,{"$f":"IF(AG8<>\"\",IF(AG8=\"Victoire\",IF(VLOOKUP(AD8,$A$8:$AO$107,33,FALSE)=\"Défaite\",\"OK\",\"ERR\"),IF(AG8=\"Défaite\",IF(VLOOKUP(AD8,$A$8:$AO$107,33,FALSE)=\"Victoire\",\"OK\",\"ERR\"),IF(AG8=\"Nul\",IF(VLOOKUP(AD8,$A$8:$AO$107,33,FALSE)=\"Nul\",\"OK\",\"ERR\")))),\"\")","v":""},null,{"$f":"IF(AG8=\"Victoire\",100-ROUNDDOWN(20*AI8/$H8,0),\nIF(AG8=\"Défaite\",10+ROUNDDOWN(20*VLOOKUP(AD8,$A$8:$AO$107,35,FALSE)/VLOOKUP(AD8,$A$8:$H$107,8,FALSE),0),\nIF(AND(AG8=\"Nul\",$AI8<>$H8),40+(2*ROUNDDOWN(10*VLOOKUP(AD8,$A$8:$AO$107,35,FALSE)/VLOOKUP(AD8,$A$8:$H$107,8,FALSE),0)-ROUNDDOWN(10*AI8/$H8,0)),IF(AND(AG8=\"Nul\",$AI8=$H8),58,0))))","v":0},null,{"$f":"IF(AK8<>\"\",VLOOKUP(AK8,$A$8:$C$107,2,FALSE),\"\")","v":""},{"$f":"IF(AK8<>\"\",IF(AK8=$A8,\"ERR\",IF(OR(AK8=$P8,AK8=$W8,AK8=$AD8,AK8=$I8),\"DUP\",IF(ISNA(VLOOKUP(AK8,$A$8:$A$107,1,FALSE)),\"ERR\",IF(COUNTIF($I$8:$I$107,AK8)>1,\"ERR\",IF($D8=VLOOKUP(AK8,$A$8:$D$107,4,FALSE),\"CLUB\",\"OK\"))))),\"\")","v":""},null,{"$f":"IF(AN8<>\"\",IF(AN8=\"Victoire\",IF(VLOOKUP(AK8,$A$8:$AO$107,40,FALSE)=\"Défaite\",\"OK\",\"ERR\"),IF(AN8=\"Défaite\",IF(VLOOKUP(AK8,$A$8:$AO$107,40,FALSE)=\"Victoire\",\"OK\",\"ERR\"),IF(AN8=\"Nul\",IF(VLOOKUP(AK8,$A$8:$AO$107,40,FALSE)=\"Nul\",\"OK\",\"ERR\")))),\"\")","v":""},null,{"$f":"IF(AN8=\"Victoire\",100-ROUNDDOWN(20*AP8/$H8,0),\nIF(AN8=\"Défaite\",10+ROUNDDOWN(20*VLOOKUP(AK8,$A$8:$CB$107,42,FALSE)/VLOOKUP(AK8,$A$8:$H$107,8,FALSE),0),\nIF(AND(AN8=\"Nul\",$AP8<>$H8),40+(2*ROUNDDOWN(10*VLOOKUP(AK8,$A$8:$CB$107,42,FALSE)/VLOOKUP(AK8,$A$8:$H$107,8,FALSE),0)-ROUNDDOWN(10*AP8/$H8,0)),IF(AND(AN8=\"Nul\",$AP8=$H8),58,0))))","v":0},null,{"$f":"IF(AR8<>\"\",VLOOKUP(AR8,$A$8:$C$107,2,FALSE),\"\")","v":""},{"$f":"IF(AR8<>\"\",IF(AR8=$A8,\"ERR\",IF(OR(AR8=$I8,AR8=$P8,AR8=$W8,AR8=$AD8,AR8=$AK8),\"DUP\",IF(ISNA(VLOOKUP(AR8,$A$8:$A$107,1,FALSE)),\"ERR\",IF(COUNTIF($I$8:$I$107,AR8)>1,\"ERR\",IF($D8=VLOOKUP(AR8,$A$8:$D$107,4,FALSE),\"CLUB\",\"OK\"))))),\"\")","v":""},null,{"$f":"IF(AU8<>\"\",IF(AU8=\"Victoire\",IF(VLOOKUP(AR8,$A$8:$BL$107,47,FALSE)=\"Défaite\",\"OK\",\"ERR\"),IF(AU8=\"Défaite\",IF(VLOOKUP(AR8,$A$8:$BL$107,47,FALSE)=\"Victoire\",\"OK\",\"ERR\"),IF(AU8=\"Nul\",IF(VLOOKUP(AR8,$A$8:$BL$107,47,FALSE)=\"Nul\",\"OK\",\"ERR\")))),\"\")","v":""},null,{"$f":"IF(AU8=\"Victoire\",100-ROUNDDOWN(20*AW8/$H8,0),\nIF(AU8=\"Défaite\",10+ROUNDDOWN(20*VLOOKUP(AR8,$A$8:$CB$107,49,FALSE)/VLOOKUP(AR8,$A$8:$H$107,8,FALSE),0),\nIF(AND(AU8=\"Nul\",$AW8<>$H8),40+(2*ROUNDDOWN(10*VLOOKUP(AR8,$A$8:$CB$107,49,FALSE)/VLOOKUP(AR8,$A$8:$H$107,8,FALSE),0)-ROUNDDOWN(10*AW8/$H8,0)),IF(AND(AU8=\"Nul\",$AW8=$H8),58,0))))","v":0},null,{"$f":"IF(AY8<>\"\",VLOOKUP(AY8,$A$8:$C$107,2,FALSE),\"\")","v":""},{"$f":"IF(AY8<>\"\",IF(AY8=$A8,\"ERR\",IF(OR(AY8=$I8,AY8=$P8,AY8=$W8,AY8=$AD8,AY8=$AK8,AY8=$AR8),\"DUP\",IF(ISNA(VLOOKUP(AY8,$A$8:$A$107,1,FALSE)),\"ERR\",IF(COUNTIF($I$8:$I$107,AY8)>1,\"ERR\",IF($D8=VLOOKUP(AY8,$A$8:$D$107,4,FALSE),\"CLUB\",\"OK\"))))),\"\")","v":""},null,{"$f":"IF(BB8<>\"\",IF(BB8=\"Victoire\",IF(VLOOKUP(AY8,$A$8:$BL$107,54,FALSE)=\"Défaite\",\"OK\",\"ERR\"),IF(BB8=\"Défaite\",IF(VLOOKUP(AY8,$A$8:$BL$107,54,FALSE)=\"Victoire\",\"OK\",\"ERR\"),IF(BB8=\"Nul\",IF(VLOOKUP(AY8,$A$8:$BL$107,54,FALSE)=\"Nul\",\"OK\",\"ERR\")))),\"\")","v":""},null,{"$f":"IF(BB8=\"Victoire\",100-ROUNDDOWN(20*BD8/$H8,0),\nIF(BB8=\"Défaite\",10+ROUNDDOWN(20*VLOOKUP(AY8,$A$8:$CB$107,56,FALSE)/VLOOKUP(AY8,$A$8:$H$107,8,FALSE),0),\nIF(AND(BB8=\"Nul\",$BD8<>$H8),40+(2*ROUNDDOWN(10*VLOOKUP(AY8,$A$8:$CB$107,56,FALSE)/VLOOKUP(AY8,$A$8:$H$107,8,FALSE),0)-ROUNDDOWN(10*BD8/$H8,0)),IF(AND(BB8=\"Nul\",$BD8=$H8),58,0))))","v":0},null,{"$f":"IF(BF8<>\"\",VLOOKUP(BF8,$A$8:$C$107,2,FALSE),\"\")","v":""},{"$f":"IF(BF8<>\"\",IF(BF8=$A8,\"ERR\",IF(OR(BF8=$I8,BF8=$P8,BF8=$W8,BF8=$AD8,BF8=$AK8,BF8=$AR8,BF8=$AY8),\"DUP\",IF(ISNA(VLOOKUP(BF8,$A$8:$A$107,1,FALSE)),\"ERR\",IF(COUNTIF($I$8:$I$107,BF8)>1,\"ERR\",IF($D8=VLOOKUP(BF8,$A$8:$D$107,4,FALSE),\"CLUB\",\"OK\"))))),\"\")","v":""},null,{"$f":"IF(BI8<>\"\",IF(BI8=\"Victoire\",IF(VLOOKUP(BF8,$A$8:$BL$107,61,FALSE)=\"Défaite\",\"OK\",\"ERR\"),IF(BI8=\"Défaite\",IF(VLOOKUP(BF8,$A$8:$BL$107,61,FALSE)=\"Victoire\",\"OK\",\"ERR\"),IF(BI8=\"Nul\",IF(VLOOKUP(BF8,$A$8:$BL$107,61,FALSE)=\"Nul\",\"OK\",\"ERR\")))),\"\")","v":""},null,{"$f":"IF(BI8=\"Victoire\",100-ROUNDDOWN(20*BK8/$H8,0),\nIF(BI8=\"Défaite\",10+ROUNDDOWN(20*VLOOKUP(BF8,$A$8:$CB$107,63,FALSE)/VLOOKUP(BF8,$A$8:$H$107,8,FALSE),0),\nIF(AND(BI8=\"Nul\",$BK8<>$H8),40+(2*ROUNDDOWN(10*VLOOKUP(BF8,$A$8:$CB$107,63,FALSE)/VLOOKUP(BF8,$A$8:$H$107,8,FALSE),0)-ROUNDDOWN(10*BK8/$H8,0)),IF(AND(BI8=\"Nul\",$BK8=$H8),58,0))))","v":0},null,{"$f":"IF(BM8<>\"\",VLOOKUP(BM8,$A$8:$C$107,2,FALSE),\"\")","v":""},{"$f":"IF(BM8<>\"\",IF(BM8=$A8,\"ERR\",IF(OR(BM8=$I8,BM8=$P8,BM8=$W8,BM8=$AD8,BM8=$AK8,BM8=$AR8,BM8=$AY8,BM8=$BF8),\"DUP\",IF(ISNA(VLOOKUP(BM8,$A$8:$A$107,1,FALSE)),\"ERR\",IF(COUNTIF($I$8:$I$107,BM8)>1,\"ERR\",IF($D8=VLOOKUP(BM8,$A$8:$D$107,4,FALSE),\"CLUB\",\"OK\"))))),\"\")","v":""},null,{"$f":"IF(BP8<>\"\",IF(BP8=\"Victoire\",IF(VLOOKUP(BM8,$A$8:$BS$107,68,FALSE)=\"Défaite\",\"OK\",\"ERR\"),IF(BP8=\"Défaite\",IF(VLOOKUP(BM8,$A$8:$BS$107,68,FALSE)=\"Victoire\",\"OK\",\"ERR\"),IF(BP8=\"Nul\",IF(VLOOKUP(BM8,$A$8:$BS$107,68,FALSE)=\"Nul\",\"OK\",\"ERR\")))),\"\")","v":""},null,{"$f":"IF(BP8=\"Victoire\",100-ROUNDDOWN(20*BR8/$H8,0),\nIF(BP8=\"Défaite\",10+ROUNDDOWN(20*VLOOKUP(BM8,$A$8:$CB$107,70,FALSE)/VLOOKUP(BM8,$A$8:$H$107,8,FALSE),0),\nIF(AND(BP8=\"Nul\",$BR8<>$H8),40+(2*ROUNDDOWN(10*VLOOKUP(BM8,$A$8:$CB$107,70,FALSE)/VLOOKUP(BM8,$A$8:$H$107,8,FALSE),0)-ROUNDDOWN(10*BR8/$H8,0)),IF(AND(BP8=\"Nul\",$BR8=$H8),58,0))))","v":0},null,{"$f":"IF($I8<>\"\",VLOOKUP($I8,$A$8:$N$107,5,FALSE),0)+IF($P8<>\"\",VLOOKUP($P8,$A$8:$N$107,5,FALSE),0)+IF($W8<>\"\",VLOOKUP($W8,$A$8:$N$107,5,FALSE),0)+IF($AD8<>\"\",VLOOKUP($AD8,$A$8:$N$107,5,FALSE),0)+IF($AK8<>\"\",VLOOKUP($AK8,$A$8:$N$107,5,FALSE),0)+IF($AR8<>\"\",VLOOKUP($AR8,$A$8:$N$107,5,FALSE),0)+IF($AY8<>\"\",VLOOKUP($AY8,$A$8:$N$107,5,FALSE),0)+IF($BF8<>\"\",VLOOKUP($BF8,$A$8:$N$107,5,FALSE),0)+IF($BM8<>\"\",VLOOKUP($BM8,$A$8:$N$107,5,FALSE),0)","v":0}]
[{"$nulls":4},{"$f":"O9+V9+AC9+AJ9+AQ9+AX9+BE9+BL9+BS9","v":0},null,{"$f":"IF($F9<>\"\",VLOOKUP(F9,Armies!$A$1:$C$300,3,FALSE),\"\")","v":""},null,null,{"$f":"IF(I9<>\"\",VLOOKUP(I9,$A$8:$C$107,2,FALSE),\"\")","v":""},{"$f":"IF(I9<>\"\",IF(I9=$A9,\"ERR\",IF(OR(I9=$P9,I9=$W9,I9=$AD9,I9=$AK9),\"DUP\",IF(ISNA(VLOOKUP(I9,$A$8:$A$107,1,FALSE)),\"ERR\",IF(COUNTIF($I$8:$I$107,I9)>1,\"ERR\",IF($D9=VLOOKUP(I9,$A$8:$D$107,4,FALSE),\"CLUB\",\"OK\"))))),\"\")","v":""},null,{"$f":"IF(L9<>\"\",IF(L9=\"Victoire\",IF(VLOOKUP(I9,$A$8:$L$107,12,FALSE)=\"Défaite\",\"OK\",\"ERR\"),IF(L9=\"Défaite\",IF(VLOOKUP(I9,$A$8:$L$107,12,FALSE)=\"Victoire\",\"OK\",\"ERR\"),IF(L9=\"Nul\",IF(VLOOKUP(I9,$A$8:$L$107,12,FALSE)=\"Nul\",\"OK\",\"ERR\")))),\"\")","v":""},null,{"$f":"IF(L9=\"Victoire\",100-ROUNDDOWN(20*N9/$H9,0),\nIF(L9=\"Défaite\",10+ROUNDDOWN(20*VLOOKUP(I9,$A$8:$N$107,14,FALSE)/VLOOKUP(I9,$A$8:$H$107,8,FALSE),0),\nIF(AND(L9=\"Nul\",$N9<>$H9),40+(2*ROUNDDOWN(10*VLOOKUP(I9,$A$8:$N$107,14,FALSE)/VLOOKUP(I9,$A$8:$H$107,8,FALSE),0)-ROUNDDOWN(10*N9/$H9,0)),IF(AND(L9=\"Nul\",$N9=$H9),58,0))))","v":0},null,{"$f":"IF(P9<>\"\",VLOOKUP(P9,$A$8:$C$107,2,FALSE),\"\")","v":""},{"$f":"IF(P9<>\"\",IF(P9=$A9,\"ERR\",IF(OR(P9=$I9,P9=$W9,P9=$AD9,P9=$AK9),\"DUP\",IF(ISNA(VLOOKUP(P9,$A$8:$A$107,1,FALSE)),\"ERR\",IF(COUNTIF($I$8:$I$107,P9)>1,\"ERR\",IF($D9=VLOOKUP(P9,$A$8:$D$107,4,FALSE),\"CLUB\",\"OK\"))))),\"\")","v":""},null,{"$f":"IF(S9<>\"\",IF(S9=\"Victoire\",IF(VLOOKUP(P9,$A$8:$AO$107,19,FALSE)=\"Défaite\",\"OK\",\"ERR\"),IF(S9=\"Défaite\",IF(VLOOKUP(P9,$A$8:$AO$107,19,FALSE)=\"Victoire\",\"OK\",\"ERR\"),IF(S9=\"Nul\",IF(VLOOKUP(P9,$A$8:$AO$107,19,FALSE)=\"Nul\",\"OK\",\"ERR\")))),\"\")","v":""},null,{"$f":"IF(S9=\"Victoire\",100-ROUNDDOWN(20*U9/$H9,0),\nIF(S9=\"Défaite\",10+ROUNDDOWN(20*VLOOKUP(P9,$A$8:$AO$107,21,FALSE)/VLOOKUP(P9,$A$8:$H$107,8,FALSE),0),\nIF(AND(S9=\"Nul\",$U9<>$H9),40+(2*ROUNDDOWN(10*VLOOKUP(P9,$A$8:$AO$107,21,FALSE)/VLOOKUP(P9,$A$8:$H$107,8,FALSE),0)-ROUNDDOWN(10*U9/$H9,0)),IF(AND(S9=\"Nul\",$U9=$H9),58,0))))","v":0},null,{"$f":"IF(W9<>\"\",VLOOKUP(W9,$A$8:$C$107,2,FALSE),\"\")","v":""},{"$f":"IF(W9<>\"\",IF(W9=$A9,\"ERR\",IF(OR(W9=$P9,W9=$I9,W9=$AD9,W9=$AK9),\"DUP\",IF(ISNA(VLOOKUP(W9,$A$8:$A$107,1,FALSE)),\"ERR\",IF(COUNTIF($I$8:$I$107,W9)>1,\"ERR\",IF($D9=VLOOKUP(W9,$A$8:$D$107,4,FALSE),\"CLUB\",\"OK\"))))),\"\")","v":""},null,{"$f":"IF(Z9<>\"\",IF(Z9=\"Victoire\",IF(VLOOKUP(W9,$A$8:$AO$107,26,FALSE)=\"Défaite\",\"OK\",\"ERR\"),IF(Z9=\"Défaite\",IF(VLOOKUP(W9,$A$8:$AO$107,26,FALSE)=\"Victoire\",\"OK\",\"ERR\"),IF(Z9=\"Nul\",IF(VLOOKUP(W9,$A$8:$AO$107,26,FALSE)=\"Nul\",\"OK\",\"ERR\")))),\"\")","v":""},null,{"$f":"IF(Z9=\"Victoire\",100-ROUNDDOWN(20*AB9/$H9,0),\nIF(Z9=\"Défaite\",10+ROUNDDOWN(20*VLOOKUP(W9,$A$8:$AO$107,28,FALSE)/VLOOKUP(W9,$A$8:$H$107,8,FALSE),0),\nIF(AND(Z9=\"Nul\",$AB9<>$H9),40+(2*ROUNDDOWN(10*VLOOKUP(W9,$A$8:$AO$107,28,FALSE)/VLOOKUP(W9,$A$8:$H$107,8,FALSE),0)-ROUNDDOWN(10*AB9/$H9,0)),IF(AND(Z9=\"Nul\",$AB9=$H9),58,0))))","v":0},null,{"$f":"IF(AD9<>\"\",VLOOKUP(AD9,$A$8:$C$107,2,FALSE),\"\")","v":""},{"$f":"IF(AD9<>\"\",IF(AD9=$A9,\"ERR\",IF(OR(AD9=$P9,AD9=$W9,AD9=$I9,AD9=$AK9),\"DUP\",IF(ISNA(VLOOKUP(AD9,$A$8:$A$107,1,FALSE)),\"ERR\",IF(COUNTIF($I$8:$I$107,AD9)>1,\"ERR\",IF($D9=VLOOKUP(AD9,$A$8:$D$107,4,FALSE),\"CLUB\",\"OK\"))))),\"\")","v":""},null,{"$f":"IF(AG9<>\"\",IF(AG9=\"Victoire\",IF(VLOOKUP(AD9,$A$8:$AO$107,33,FALSE)=\"Défaite\",\"OK\",\"ERR\"),IF(AG9=\"Défaite\",IF(VLOOKUP(AD9,$A$8:$AO$107,33,FALSE)=\"Victoire\",\"OK\",\"ERR\"),IF(AG9=\"Nul\",IF(VLOOKUP(AD9,$A$8:$AO$107,33,FALSE)=\"Nul\",\"OK\",\"ERR\")))),\"\")","v":""},null,{"$f":"IF(AG9=\"Victoire\",100-ROUNDDOWN(20*AI9/$H9,0),\nIF(AG9=\"Défaite\",10+ROUNDDOWN(20*VLOOKUP(AD9,$A$8:$AO$107,35,FALSE)/VLOOKUP(AD9,$A$8:$H$107,8,FALSE),0),\nIF(AND(AG9=\"Nul\",$AI9<>$H9),40+(2*ROUNDDOWN(10*VLOOKUP(AD9,$A$8:$AO$107,35,FALSE)/VLOOKUP(AD9,$A$8:$H$107,8,FALSE),0)-ROUNDDOWN(10*AI9/$H9,0)),IF(AND(AG9=\"Nul\",$AI9=$H9),58,0))))","v":0},null,{"$f":"IF(AK9<>\"\",VLOOKUP(AK9,$A$8:$C$107,2,FALSE),\"\")","v":""},{"$f":"IF(AK9<>\"\",IF(AK9=$A9,\"ERR\",IF(OR(AK9=$P9,AK9=$W9,AK9=$AD9,AK9=$I9),\"DUP\",IF(ISNA(VLOOKUP(AK9,$A$8:$A$107,1,FALSE)),\"ERR\",IF(COUNTIF($I$8:$I$107,AK9)>1,\"ERR\",IF($D9=VLOOKUP(AK9,$A$8:$D$107,4,FALSE),\"CLUB\",\"OK\"))))),\"\")","v":""},null,{"$f":"IF(AN9<>\"\",IF(AN9=\"Victoire\",IF(VLOOKUP(AK9,$A$8:$AO$107,40,FALSE)=\"Défaite\",\"OK\",\"ERR\"),IF(AN9=\"Défaite\",IF(VLOOKUP(AK9,$A$8:$AO$107,40,FALSE)=\"Victoire\",\"OK\",\"ERR\"),IF(AN9=\"Nul\",IF(VLOOKUP(AK9,$A$8:$AO$107,40,FALSE)=\"Nul\",\"OK\",\"ERR\")))),\"\")","v":""},null,{"$f":"IF(AN9=\"Victoire\",100-ROUNDDOWN(20*AP9/$H9,0),\nIF(AN9=\"Défaite\",10+ROUNDDOWN(20*VLOOKUP(AK9,$A$8:$CB$107,42,FALSE)/VLOOKUP(AK9,$A$8:$H$107,8,FALSE),0),\nIF(AND(AN9=\"Nul\",$AP9<>$H9),40+(2*ROUNDDOWN(10*VLOOKUP(AK9,$A$8:$CB$107,42,FALSE)/VLOOKUP(AK9,$A$8:$H$107,8,FALSE),0)-ROUNDDOWN(10*AP9/$H9,0)),IF(AND(AN9=\"Nul\",$AP9=$H9),58,0))))","v":0},null,{"$f":"IF(AR9<>\"\",VLOOKUP(AR9,$A$8:$C$107,2,FALSE),\"\")","v":""},{"$f":"IF(AR9<>\"\",IF(AR9=$A9,\"ERR\",IF(OR(AR9=$I9,AR9=$P9,AR9=$W9,AR9=$AD9,AR9=$AK9),\"DUP\",IF(ISNA(VLOOKUP(AR9,$A$8:$A$107,1,FALSE)),\"ERR\",IF(COUNTIF($I$8:$I$107,AR9)>1,\"ERR\",IF($D9=VLOOKUP(AR9,$A$8:$D$107,4,FALSE),\"CLUB\",\"OK\"))))),\"\")","v":""},null,{"$f":"IF(AU9<>\"\",IF(AU9=\"Victoire\",IF(VLOOKUP(AR9,$A$8:$BL$107,47,FALSE)=\"Défaite\",\"OK\",\"ERR\"),IF(AU9=\"Défaite\",IF(VLOOKUP(AR9,$A$8:$BL$107,47,FALSE)=\"Victoire\",\"OK\",\"ERR\"),IF(AU9=\"Nul\",IF(VLOOKUP(AR9,$A$8:$BL$107,47,FALSE)=\"Nul\",\"OK\",\"ERR\")))),\"\")","v":""},null,{"$f":"IF(AU9=\"Victoire\",100-ROUNDDOWN(20*AW9/$H9,0),\nIF(AU9=\"Défaite\",10+ROUNDDOWN(20*VLOOKUP(AR9,$A$8:$CB$107,49,FALSE)/VLOOKUP(AR9,$A$8:$H$107,8,FALSE),0),\nIF(AND(AU9=\"Nul\",$AW9<>$H9),40+(2*ROUNDDOWN(10*VLOOKUP(AR9,$A$8:$CB$107,49,FALSE)/VLOOKUP(AR9,$A$8:$H$107,8,FALSE),0)-ROUNDDOWN(10*AW9/$H9,0)),IF(AND(AU9=\"Nul\",$AW9=$H9),58,0))))","v":0},null,{"$f":"IF(AY9<>\"\",VLOOKUP(AY9,$A$8:$C$107,2,FALSE),\"\")","v":""},{"$f":"IF(AY9<>\"\",IF(AY9=$A9,\"ERR\",IF(OR(AY9=$I9,AY9=$P9,AY9=$W9,AY9=$AD9,AY9=$AK9,AY9=$AR9),\"DUP\",IF(ISNA(VLOOKUP(AY9,$A$8:$A$107,1,FALSE)),\"ERR\",IF(COUNTIF($I$8:$I$107,AY9)>1,\"ERR\",IF($D9=VLOOKUP(AY9,$A$8:$D$107,4,FALSE),\"CLUB\",\"OK\"))))),\"\")","v":""},null,{"$f":"IF(BB9<>\"\",IF(BB9=\"Victoire\",IF(VLOOKUP(AY9,$A$8:$BL$107,54,FALSE)=\"Défaite\",\"OK\",\"ERR\"),IF(BB9=\"Défaite\",IF(VLOOKUP(AY9,$A$8:$BL$107,54,FALSE)=\"Victoire\",\"OK\",\"ERR\"),IF(BB9=\"Nul\",IF(VLOOKUP(AY9,$A$8:$BL$107,54,FALSE)=\"Nul\",\"OK\",\"ERR\")))),\"\")","v":""},null,{"$f":"IF(BB9=\"Victoire\",100-ROUNDDOWN(20*BD9/$H9,0),\nIF(BB9=\"Défaite\",10+ROUNDDOWN(20*VLOOKUP(AY9,$A$8:$CB$107,56,FALSE)/VLOOKUP(AY9,$A$8:$H$107,8,FALSE),0),\nIF(AND(BB9=\"Nul\",$BD9<>$H9),40+(2*ROUNDDOWN(10*VLOOKUP(AY9,$A$8:$CB$107,56,FALSE)/VLOOKUP(AY9,$A$8:$H$107,8,FALSE),0)-ROUNDDOWN(10*BD9/$H9,0)),IF(AND(BB9=\"Nul\",$BD9=$H9),58,0))))","v":0},null,{"$f":"IF(BF9<>\"\",VLOOKUP(BF9,$A$8:$C$107,2,FALSE),\"\")","v":""},{"$f":"IF(BF9<>\"\",IF(BF9=$A9,\"ERR\",IF(OR(BF9=$I9,BF9=$P9,BF9=$W9,BF9=$AD9,BF9=$AK9,BF9=$AR9,BF9=$AY9),\"DUP\",IF(ISNA(VLOOKUP(BF9,$A$8:$A$107,1,FALSE)),\"ERR\",IF(COUNTIF($I$8:$I$107,BF9)>1,\"ERR\",IF($D9=VLOOKUP(BF9,$A$8:$D$107,4,FALSE),\"CLUB\",\"OK\"))))),\"\")","v":""},null,{"$f":"IF(BI9<>\"\",IF(BI9=\"Victoire\",IF(VLOOKUP(BF9,$A$8:$BL$107,61,FALSE)=\"Défaite\",\"OK\",\"ERR\"),IF(BI9=\"Défaite\",IF(VLOOKUP(BF9,$A$8:$BL$107,61,FALSE)=\"Victoire\",\"OK\",\"ERR\"),IF(BI9=\"Nul\",IF(VLOOKUP(BF9,$A$8:$BL$107,61,FALSE)=\"Nul\",\"OK\",\"ERR\")))),\"\")","v":""},null,{"$f":"IF(BI9=\"Victoire\",100-ROUNDDOWN(20*BK9/$H9,0),\nIF(BI9=\"Défaite\",10+ROUNDDOWN(20*VLOOKUP(BF9,$A$8:$CB$107,63,FALSE)/VLOOKUP(BF9,$A$8:$H$107,8,FALSE),0),\nIF(AND(BI9=\"Nul\",$BK9<>$H9),40+(2*ROUNDDOWN(10*VLOOKUP(BF9,$A$8:$CB$107,63,FALSE)/VLOOKUP(BF9,$A$8:$H$107,8,FALSE),0)-ROUNDDOWN(10*BK9/$H9,0)),IF(AND(BI9=\"Nul\",$BK9=$H9),58,0))))","v":0},null,{"$f":"IF(BM9<>\"\",VLOOKUP(BM9,$A$8:$C$107,2,FALSE),\"\")","v":""},{"$f":"IF(BM9<>\"\",IF(BM9=$A9,\"ERR\",IF(OR(BM9=$I9,BM9=$P9,BM9=$W9,BM9=$AD9,BM9=$AK9,BM9=$AR9,BM9=$AY9,BM9=$BF9),\"DUP\",IF(ISNA(VLOOKUP(BM9,$A$8:$A$107,1,FALSE)),\"ERR\",IF(COUNTIF($I$8:$I$107,BM9)>1,\"ERR\",IF($D9=VLOOKUP(BM9,$A$8:$D$107,4,FALSE),\"CLUB\",\"OK\"))))),\"\")","v":""},null,{"$f":"IF(BP9<>\"\",IF(BP9=\"Victoire\",IF(VLOOKUP(BM9,$A$8:$BS$107,68,FALSE)=\"Défaite\",\"OK\",\"ERR\"),IF(BP9=\"Défaite\",IF(VLOOKUP(BM9,$A$8:$BS$107,68,FALSE)=\"Victoire\",\"OK\",\"ERR\"),IF(BP9=\"Nul\",IF(VLOOKUP(BM9,$A$8:$BS$107,68,FALSE)=\"Nul\",\"OK\",\"ERR\")))),\"\")","v":""},null,{"$f":"IF(BP9=\"Victoire\",100-ROUNDDOWN(20*BR9/$H9,0),\nIF(BP9=\"Défaite\",10+ROUNDDOWN(20*VLOOKUP(BM9,$A$8:$CB$107,70,FALSE)/VLOOKUP(BM9,$A$8:$H$107,8,FALSE),0),\nIF(AND(BP9=\"Nul\",$BR9<>$H9),40+(2*ROUNDDOWN(10*VLOOKUP(BM9,$A$8:$CB$107,70,FALSE)/VLOOKUP(BM9,$A$8:$H$107,8,FALSE),0)-ROUNDDOWN(10*BR9/$H9,0)),IF(AND(BP9=\"Nul\",$BR9=$H9),58,0))))","v":0},null,{"$f":"IF($I9<>\"\",VLOOKUP($I9,$A$8:$N$107,5,FALSE),0)+IF($P9<>\"\",VLOOKUP($P9,$A$8:$N$107,5,FALSE),0)+IF($W9<>\"\",VLOOKUP($W9,$A$8:$N$107,5,FALSE),0)+IF($AD9<>\"\",VLOOKUP($AD9,$A$8:$N$107,5,FALSE),0)+IF($AK9<>\"\",VLOOKUP($AK9,$A$8:$N$107,5,FALSE),0)+IF($AR9<>\"\",VLOOKUP($AR9,$A$8:$N$107,5,FALSE),0)+IF($AY9<>\"\",VLOOKUP($AY9,$A$8:$N$107,5,FALSE),0)+IF($BF9<>\"\",VLOOKUP($BF9,$A$8:$N$107,5,FALSE),0)+IF($BM9<>\"\",VLOOKUP($BM9,$A$8:$N$107,5,FALSE),0)","v":0}]
[{"$nulls":4},0,null,{"$f":"IF($F10<>\"\",VLOOKUP(F10,Armies!$A$1:$C$300,3,FALSE),\"\")","v":""},null,null,{"$f":"IF(I10<>\"\",VLOOKUP(I10,$A$8:$C$107,2,FALSE),\"\")","v":""},{"$f":"IF(I10<>\"\",IF(I10=$A10,\"ERR\",IF(OR(I10=$P10,I10=$W10,I10=$AD10,I10=$AK10),\"DUP\",IF(ISNA(VLOOKUP(I10,$A$8:$A$107,1,FALSE)),\"ERR\",IF(COUNTIF($I$8:$I$107,I10)>1,\"ERR\",IF($D10=VLOOKUP(I10,$A$8:$D$107,4,FALSE),\"CLUB\",\"OK\"))))),\"\")","v":""},null,{"$f":"IF(L10<>\"\",IF(L10=\"Victoire\",IF(VLOOKUP(I10,$A$8:$L$107,12,FALSE)=\"Défaite\",\"OK\",\"ERR\"),IF(L10=\"Défaite\",IF(VLOOKUP(I10,$A$8:$L$107,12,FALSE)=\"Victoire\",\"OK\",\"ERR\"),IF(L10=\"Nul\",IF(VLOOKUP(I10,$A$8:$L$107,12,FALSE)=\"Nul\",\"OK\",\"ERR\")))),\"\")","v":""},null,{"$f":"IF(L10=\"Victoire\",100-ROUNDDOWN(20*N10/$H10,0),\nIF(L10=\"Défaite\",10+ROUNDDOWN(20*VLOOKUP(I10,$A$8:$N$107,14,FALSE)/VLOOKUP(I10,$A$8:$H$107,8,FALSE),0),\nIF(AND(L10=\"Nul\",$N10<>$H10),40+(2*ROUNDDOWN(10*VLOOKUP(I10,$A$8:$N$107,14,FALSE)/VLOOKUP(I10,$A$8:$H$107,8,FALSE),0)-ROUNDDOWN(10*N10/$H10,0)),IF(AND(L10=\"Nul\",$N10=$H10),58,0))))","v":0},null,{"$f":"IF(P10<>\"\",VLOOKUP(P10,$A$8:$C$107,2,FALSE),\"\")","v":""},{"$f":"IF(P10<>\"\",IF(P10=$A10,\"ERR\",IF(OR(P10=$I10,P10=$W10,P10=$AD10,P10=$AK10),\"DUP\",IF(ISNA(VLOOKUP(P10,$A$8:$A$107,1,FALSE)),\"ERR\",IF(COUNTIF($I$8:$I$107,P10)>1,\"ERR\",IF($D10=VLOOKUP(P10,$A$8:$D$107,4,FALSE),\"CLUB\",\"OK\"))))),\"\")","v":""},null,{"$f":"IF(S10<>\"\",IF(S10=\"Victoire\",IF(VLOOKUP(P10,$A$8:$AO$107,19,FALSE)=\"Défaite\",\"OK\",\"ERR\"),IF(S10=\"Défaite\",IF(VLOOKUP(P10,$A$8:$AO$107,19,FALSE)=\"Victoire\",\"OK\",\"ERR\"),IF(S10=\"Nul\",IF(VLOOKUP(P10,$A$8:$AO$107,19,FALSE)=\"Nul\",\"OK\",\"ERR\")))),\"\")","v":""},null,{"$f":"IF(S10=\"Victoire\",100-ROUNDDOWN(20*U10/$H10,0),\nIF(S10=\"Défaite\",10+ROUNDDOWN(20*VLOOKUP(P10,$A$8:$AO$107,21,FALSE)/VLOOKUP(P10,$A$8:$H$107,8,FALSE),0),\nIF(AND(S10=\"Nul\",$U10<>$H10),40+(2*ROUNDDOWN(10*VLOOKUP(P10,$A$8:$AO$107,21,FALSE)/VLOOKUP(P10,$A$8:$H$107,8,FALSE),0)-ROUNDDOWN(10*U10/$H10,0)),IF(AND(S10=\"Nul\",$U10=$H10),58,0))))","v":0},null,{"$f":"IF(W10<>\"\",VLOOKUP(W10,$A$8:$C$107,2,FALSE),\"\")","v":""},{"$f":"IF(W10<>\"\",IF(W10=$A10,\"ERR\",IF(OR(W10=$P10,W10=$I10,W10=$AD10,W10=$AK10),\"DUP\",IF(ISNA(VLOOKUP(W10,$A$8:$A$107,1,FALSE)),\"ERR\",IF(COUNTIF($I$8:$I$107,W10)>1,\"ERR\",IF($D10=VLOOKUP(W10,$A$8:$D$107,4,FALSE),\"CLUB\",\"OK\"))))),\"\")","v":""},null,{"$f":"IF(Z10<>\"\",IF(Z10=\"Victoire\",IF(VLOOKUP(W10,$A$8:$AO$107,26,FALSE)=\"Défaite\",\"OK\",\"ERR\"),IF(Z10=\"Défaite\",IF(VLOOKUP(W10,$A$8:$AO$107,26,FALSE)=\"Victoire\",\"OK\",\"ERR\"),IF(Z10=\"Nul\",IF(VLOOKUP(W10,$A$8:$AO$107,26,FALSE)=\"Nul\",\"OK\",\"ERR\")))),\"\")","v":""},null,{"$f":"IF(Z10=\"Victoire\",100-ROUNDDOWN(20*AB10/$H10,0),\nIF(Z10=\"Défaite\",10+ROUNDDOWN(20*VLOOKUP(W10,$A$8:$AO$107,28,FALSE)/VLOOKUP(W10,$A$8:$H$107,8,FALSE),0),\nIF(AND(Z10=\"Nul\",$AB10<>$H10),40+(2*ROUNDDOWN(10*VLOOKUP(W10,$A$8:$AO$107,28,FALSE)/VLOOKUP(W10,$A$8:$H$107,8,FALSE),0)-ROUNDDOWN(10*AB10/$H10,0)),IF(AND(Z10=\"Nul\",$AB10=$H10),58,0))))","v":0},null,{"$f":"IF(AD10<>\"\",VLOOKUP(AD10,$A$8:$C$107,2,FALSE),\"\")","v":""},{"$f":"IF(AD10<>\"\",IF(AD10=$A10,\"ERR\",IF(OR(AD10=$P10,AD10=$W10,AD10=$I10,AD10=$AK10),\"DUP\",IF(ISNA(VLOOKUP(AD10,$A$8:$A$107,1,FALSE)),\"ERR\",IF(COUNTIF($I$8:$I$107,AD10)>1,\"ERR\",IF($D10=VLOOKUP(AD10,$A$8:$D$107,4,FALSE),\"CLUB\",\"OK\"))))),\"\")","v":""},null,{"$f":"IF(AG10<>\"\",IF(AG10=\"Victoire\",IF(VLOOKUP(AD10,$A$8:$AO$107,33,FALSE)=\"Défaite\",\"OK\",\"ERR\"),IF(AG10=\"Défaite\",IF(VLOOKUP(AD10,$A$8:$AO$107,33,FALSE)=\"Victoire\",\"OK\",\"ERR\"),IF(AG10=\"Nul\",IF(VLOOKUP(AD10,$A$8:$AO$107,33,FALSE)=\"Nul\",\"OK\",\"ERR\")))),\"\")","v":""},null,{"$f":"IF(AG10=\"Victoire\",100-ROUNDDOWN(20*AI10/$H10,0),\nIF(AG10=\"Défaite\",10+ROUNDDOWN(20*VLOOKUP(AD10,$A$8:$AO$107,35,FALSE)/VLOOKUP(AD10,$A$8:$H$107,8,FALSE),0),\nIF(AND(AG10=\"Nul\",$AI10<>$H10),40+(2*ROUNDDOWN(10*VLOOKUP(AD10,$A$8:$AO$107,35,FALSE)/VLOOKUP(AD10,$A$8:$H$107,8,FALSE),0)-ROUNDDOWN(10*AI10/$H10,0)),IF(AND(AG10=\"Nul\",$AI10=$H10),58,0))))","v":0},null,{"$f":"IF(AK10<>\"\",VLOOKUP(AK10,$A$8:$C$107,2,FALSE),\"\")","v":""},{"$f":"IF(AK10<>\"\",IF(AK10=$A10,\"ERR\",IF(OR(AK10=$P10,AK10=$W10,AK10=$AD10,AK10=$I10),\"DUP\",IF(ISNA(VLOOKUP(AK10,$A$8:$A$107,1,FALSE)),\"ERR\",IF(COUNTIF($I$8:$I$107,AK10)>1,\"ERR\",IF($D10=VLOOKUP(AK10,$A$8:$D$107,4,FALSE),\"CLUB\",\"OK\"))))),\"\")","v":""},null,{"$f":"IF(AN10<>\"\",IF(AN10=\"Victoire\",IF(VLOOKUP(AK10,$A$8:$AO$107,40,FALSE)=\"Défaite\",\"OK\",\"ERR\"),IF(AN10=\"Défaite\",IF(VLOOKUP(AK10,$A$8:$AO$107,40,FALSE)=\"Victoire\",\"OK\",\"ERR\"),IF(AN10=\"Nul\",IF(VLOOKUP(AK10,$A$8:$AO$107,40,FALSE)=\"Nul\",\"OK\",\"ERR\")))),\"\")","v":""},null,{"$f":"IF(AN10=\"Victoire\",100-ROUNDDOWN(20*AP10/$H10,0),\nIF(AN10=\"Défaite\",10+ROUNDDOWN(20*VLOOKUP(AK10,$A$8:$CB$107,42,FALSE)/VLOOKUP(AK10,$A$8:$H$107,8,FALSE),0),\nIF(AND(AN10=\"Nul\",$AP10<>$H10),40+(2*ROUNDDOWN(10*VLOOKUP(AK10,$A$8:$CB$107,42,FALSE)/VLOOKUP(AK10,$A$8:$H$107,8,FALSE),0)-ROUNDDOWN(10*AP10/$H10,0)),IF(AND(AN10=\"Nul\",$AP10=$H10),58,0))))","v":0},null,{"$f":"IF(AR10<>\"\",VLOOKUP(AR10,$A$8:$C$107,2,FALSE),\"\")","v":""},{"$f":"IF(AR10<>\"\",IF(AR10=$A10,\"ERR\",IF(OR(AR10=$I10,AR10=$P10,AR10=$W10,AR10=$AD10,AR10=$AK10),\"DUP\",IF(ISNA(VLOOKUP(AR10,$A$8:$A$107,1,FALSE)),\"ERR\",IF(COUNTIF($I$8:$I$107,AR10)>1,\"ERR\",IF($D10=VLOOKUP(AR10,$A$8:$D$107,4,FALSE),\"CLUB\",\"OK\"))))),\"\")","v":""},null,{"$f":"IF(AU10<>\"\",IF(AU10=\"Victoire\",IF(VLOOKUP(AR10,$A$8:$BL$107,47,FALSE)=\"Défaite\",\"OK\",\"ERR\"),IF(AU10=\"Défaite\",IF(VLOOKUP(AR10,$A$8:$BL$107,47,FALSE)=\"Victoire\",\"OK\",\"ERR\"),IF(AU10=\"Nul\",IF(VLOOKUP(AR10,$A$8:$BL$107,47,FALSE)=\"Nul\",\"OK\",\"ERR\")))),\"\")","v":""},null,{"$f":"IF(AU10=\"Victoire\",100-ROUNDDOWN(20*AW10/$H10,0),\nIF(AU10=\"Défaite\",10+ROUNDDOWN(20*VLOOKUP(AR10,$A$8:$CB$107,49,FALSE)/VLOOKUP(AR10,$A$8:$H$107,8,FALSE),0),\nIF(AND(AU10=\"Nul\",$AW10<>$H10),40+(2*ROUNDDOWN(10*VLOOKUP(AR10,$A$8:$CB$107,49,FALSE)/VLOOKUP(AR10,$A$8:$H$107,8,FALSE),0)-ROUNDDOWN(10*AW10/$H10,0)),IF(AND(AU10=\"Nul\",$AW10=$H10),58,0))))","v":0},null,{"$f":"IF(AY10<>\"\",VLOOKUP(AY10,$A$8:$C$107,2,FALSE),\"\")","v":""},{"$f":"IF(AY10<>\"\",IF(AY10=$A10,\"ERR\",IF(OR(AY10=$I10,AY10=$P10,AY10=$W10,AY10=$AD10,AY10=$AK10,AY10=$AR10),\"DUP\",IF(ISNA(VLOOKUP(AY10,$A$8:$A$107,1,FALSE)),\"ERR\",IF(COUNTIF($I$8:$I$107,AY10)>1,\"ERR\",IF($D10=VLOOKUP(AY10,$A$8:$D$107,4,FALSE),\"CLUB\",\"OK\"))))),\"\")","v":""},null,{"$f":"IF(BB10<>\"\",IF(BB10=\"Victoire\",IF(VLOOKUP(AY10,$A$8:$BL$107,54,FALSE)=\"Défaite\",\"OK\",\"ERR\"),IF(BB10=\"Défaite\",IF(VLOOKUP(AY10,$A$8:$BL$107,54,FALSE)=\"Victoire\",\"OK\",\"ERR\"),IF(BB10=\"Nul\",IF(VLOOKUP(AY10,$A$8:$BL$107,54,FALSE)=\"Nul\",\"OK\",\"ERR\")))),\"\")","v":""},null,{"$f":"IF(BB10=\"Victoire\",100-ROUNDDOWN(20*BD10/$H10,0),\nIF(BB10=\"Défaite\",10+ROUNDDOWN(20*VLOOKUP(AY10,$A$8:$CB$107,56,FALSE)/VLOOKUP(AY10,$A$8:$H$107,8,FALSE),0),\nIF(AND(BB10=\"Nul\",$BD10<>$H10),40+(2*ROUNDDOWN(10*VLOOKUP(AY10,$A$8:$CB$107,56,FALSE)/VLOOKUP(AY10,$A$8:$H$107,8,FALSE),0)-ROUNDDOWN(10*BD10/$H10,0)),IF(AND(BB10=\"Nul\",$BD10=$H10),58,0))))","v":0},null,{"$f":"IF(BF10<>\"\",VLOOKUP(BF10,$A$8:$C$107,2,FALSE),\"\")","v":""},{"$f":"IF(BF10<>\"\",IF(BF10=$A10,\"ERR\",IF(OR(BF10=$I10,BF10=$P10,BF10=$W10,BF10=$AD10,BF10=$AK10,BF10=$AR10,BF10=$AY10),\"DUP\",IF(ISNA(VLOOKUP(BF10,$A$8:$A$107,1,FALSE)),\"ERR\",IF(COUNTIF($I$8:$I$107,BF10)>1,\"ERR\",IF($D10=VLOOKUP(BF10,$A$8:$D$107,4,FALSE),\"CLUB\",\"OK\"))))),\"\")","v":""},null,{"$f":"IF(BI10<>\"\",IF(BI10=\"Victoire\",IF(VLOOKUP(BF10,$A$8:$BL$107,61,FALSE)=\"Défaite\",\"OK\",\"ERR\"),IF(BI10=\"Défaite\",IF(VLOOKUP(BF10,$A$8:$BL$107,61,FALSE)=\"Victoire\",\"OK\",\"ERR\"),IF(BI10=\"Nul\",IF(VLOOKUP(BF10,$A$8:$BL$107,61,FALSE)=\"Nul\",\"OK\",\"ERR\")))),\"\")","v":""},null,{"$f":"IF(BI10=\"Victoire\",100-ROUNDDOWN(20*BK10/$H10,0),\nIF(BI10=\"Défaite\",10+ROUNDDOWN(20*VLOOKUP(BF10,$A$8:$CB$107,63,FALSE)/VLOOKUP(BF10,$A$8:$H$107,8,FALSE),0),\nIF(AND(BI10=\"Nul\",$BK10<>$H10),40+(2*ROUNDDOWN(10*VLOOKUP(BF10,$A$8:$CB$107,63,FALSE)/VLOOKUP(BF10,$A$8:$H$107,8,FALSE),0)-ROUNDDOWN(10*BK10/$H10,0)),IF(AND(BI10=\"Nul\",$BK10=$H10),58,0))))","v":0},null,{"$f":"IF(BM10<>\"\",VLOOKUP(BM10,$A$8:$C$107,2,FALSE),\"\")","v":""},{"$f":"IF(BM10<>\"\",IF(BM10=$A10,\"ERR\",IF(OR(BM10=$I10,BM10=$P10,BM10=$W10,BM10=$AD10,BM10=$AK10,BM10=$AR10,BM10=$AY10,BM10=$BF10),\"DUP\",IF(ISNA(VLOOKUP(BM10,$A$8:$A$107,1,FALSE)),\"ERR\",IF(COUNTIF($I$8:$I$107,BM10)>1,\"ERR\",IF($D10=VLOOKUP(BM10,$A$8:$D$107,4,FALSE),\"CLUB\",\"OK\"))))),\"\")","v":""},null,{"$f":"IF(BP10<>\"\",IF(BP10=\"Victoire\",IF(VLOOKUP(BM10,$A$8:$BS$107,68,FALSE)=\"Défaite\",\"OK\",\"ERR\"),IF(BP10=\"Défaite\",IF(VLOOKUP(BM10,$A$8:$BS$107,68,FALSE)=\"Victoire\",\"OK\",\"ERR\"),IF(BP10=\"Nul\",IF(VLOOKUP(BM10,$A$8:$BS$107,68,FALSE)=\"Nul\",\"OK\",\"ERR\")))),\"\")","v":""},null,{"$f":"IF(BP10=\"Victoire\",100-ROUNDDOWN(20*BR10/$H10,0),\nIF(BP10=\"Défaite\",10+ROUNDDOWN(20*VLOOKUP(BM10,$A$8:$CB$107,70,FALSE)/VLOOKUP(BM10,$A$8:$H$107,8,FALSE),0),\nIF(AND(BP10=\"Nul\",$BR10<>$H10),40+(2*ROUNDDOWN(10*VLOOKUP(BM10,$A$8:$CB$107,70,FALSE)/VLOOKUP(BM10,$A$8:$H$107,8,FALSE),0)-ROUNDDOWN(10*BR10/$H10,0)),IF(AND(BP10=\"Nul\",$BR10=$H10),58,0))))","v":0},null,{"$f":"IF($I10<>\"\",VLOOKUP($I10,$A$8:$N$107,5,FALSE),0)+IF($P10<>\"\",VLOOKUP($P10,$A$8:$N$107,5,FALSE),0)+IF($W10<>\"\",VLOOKUP($W10,$A$8:$N$107,5,FALSE),0)+IF($AD10<>\"\",VLOOKUP($AD10,$A$8:$N$107,5,FALSE),0)+IF($AK10<>\"\",VLOOKUP($AK10,$A$8:$N$107,5,FALSE),0)+IF($AR10<>\"\",VLOOKUP($AR10,$A$8:$N$107,5,FALSE),0)+IF($AY10<>\"\",VLOOKUP($AY10,$A$8:$N$107,5,FALSE),0)+IF($BF10<>\"\",VLOOKUP($BF10,$A$8:$N$107,5,FALSE),0)+IF($BM10<>\"\",VLOOKUP($BM10,$A$8:$N$107,5,FALSE),0)","v":0}]
[{"$nulls":4},0,null,{"$f":"IF($F11<>\"\",VLOOKUP(F11,Armies!$A$1:$C$300,3,FALSE),\"\")","v":""},null,null,{"$f":"IF(I11<>\"\",VLOOKUP(I11,$A$8:$C$107,2,FALSE),\"\")","v":""},{"$f":"IF(I11<>\"\",IF(I11=$A11,\"ERR\",IF(OR(I11=$P11,I11=$W11,I11=$AD11,I11=$AK11),\"DUP\",IF(ISNA(VLOOKUP(I11,$A$8:$A$107,1,FALSE)),\"ERR\",IF(COUNTIF($I$8:$I$107,I11)>1,\"ERR\",IF($D11=VLOOKUP(I11,$A$8:$D$107,4,FALSE),\"CLUB\",\"OK\"))))),\"\")","v":""},null,{"$f":"IF(L11<>\"\",IF(L11=\"Victoire\",IF(VLOOKUP(I11,$A$8:$L$107,12,FALSE)=\"Défaite\",\"OK\",\"ERR\"),IF(L11=\"Défaite\",IF(VLOOKUP(I11,$A$8:$L$107,12,FALSE)=\"Victoire\",\"OK\",\"ERR\"),IF(L11=\"Nul\",IF(VLOOKUP(I11,$A$8:$L$107,12,FALSE)=\"Nul\",\"OK\",\"ERR\")))),\"\")","v":""},null,{"$f":"IF(L11=\"Victoire\",100-ROUNDDOWN(20*N11/$H11,0),\nIF(L11=\"Défaite\",10+ROUNDDOWN(20*VLOOKUP(I11,$A$8:$N$107,14,FALSE)/VLOOKUP(I11,$A$8:$H$107,8,FALSE),0),\nIF(AND(L11=\"Nul\",$N11<>$H11),40+(2*ROUNDDOWN(10*VLOOKUP(I11,$A$8:$N$107,14,FALSE)/VLOOKUP(I11,$A$8:$H$107,8,FALSE),0)-ROUNDDOWN(10*N11/$H11,0)),IF(AND(L11=\"Nul\",$N11=$H11),58,0))))","v":0},null,{"$f":"IF(P11<>\"\",VLOOKUP(P11,$A$8:$C$107,2,FALSE),\"\")","v":""},{"$f":"IF(P11<>\"\",IF(P11=$A11,\"ERR\",IF(OR(P11=$I11,P11=$W11,P11=$AD11,P11=$AK11),\"DUP\",IF(ISNA(VLOOKUP(P11,$A$8:$A$107,1,FALSE)),\"ERR\",IF(COUNTIF($I$8:$I$107,P11)>1,\"ERR\",IF($D11=VLOOKUP(P11,$A$8:$D$107,4,FALSE),\"CLUB\",\"OK\"))))),\"\")","v":""},null,{"$f":"IF(S11<>\"\",IF(S11=\"Victoire\",IF(VLOOKUP(P11,$A$8:$AO$107,19,FALSE)=\"Défaite\",\"OK\",\"ERR\"),IF(S11=\"Défaite\",IF(VLOOKUP(P11,$A$8:$AO$107,19,FALSE)=\"Victoire\",\"OK\",\"ERR\"),IF(S11=\"Nul\",IF(VLOOKUP(P11,$A$8:$AO$107,19,FALSE)=\"Nul\",\"OK\",\"ERR\")))),\"\")","v":""},null,{"$f":"IF(S11=\"Victoire\",100-ROUNDDOWN(20*U11/$H11,0),\nIF(S11=\"Défaite\",10+ROUNDDOWN(20*VLOOKUP(P11,$A$8:$AO$107,21,FALSE)/VLOOKUP(P11,$A$8:$H$107,8,FALSE),0),\nIF(AND(S11=\"Nul\",$U11<>$H11),40+(2*ROUNDDOWN(10*VLOOKUP(P11,$A$8:$AO$107,21,FALSE)/VLOOKUP(P11,$A$8:$H$107,8,FALSE),0)-ROUNDDOWN(10*U11/$H11,0)),IF(AND(S11=\"Nul\",$U11=$H11),58,0))))","v":0},null,{"$f":"IF(W11<>\"\",VLOOKUP(W11,$A$8:$C$107,2,FALSE),\"\")","v":""},{"$f":"IF(W11<>\"\",IF(W11=$A11,\"ERR\",IF(OR(W11=$P11,W11=$I11,W11=$AD11,W11=$AK11),\"DUP\",IF(ISNA(VLOOKUP(W11,$A$8:$A$107,1,FALSE)),\"ERR\",IF(COUNTIF($I$8:$I$107,W11)>1,\"ERR\",IF($D11=VLOOKUP(W11,$A$8:$D$107,4,FALSE),\"CLUB\",\"OK\"))))),\"\")","v":""},null,{"$f":"IF(Z11<>\"\",IF(Z11=\"Victoire\",IF(VLOOKUP(W11,$A$8:$AO$107,26,FALSE)=\"Défaite\",\"OK\",\"ERR\"),IF(Z11=\"Défaite\",IF(VLOOKUP(W11,$A$8:$AO$107,26,FALSE)=\"Victoire\",\"OK\",\"ERR\"),IF(Z11=\"Nul\",IF(VLOOKUP(W11,$A$8:$AO$107,26,FALSE)=\"Nul\",\"OK\",\"ERR\")))),\"\")","v":""},null,{"$f":"IF(Z11=\"Victoire\",100-ROUNDDOWN(20*AB11/$H11,0),\nIF(Z11=\"Défaite\",10+ROUNDDOWN(20*VLOOKUP(W11,$A$8:$AO$107,28,FALSE)/VLOOKUP(W11,$A$8:$H$107,8,FALSE),0),\nIF(AND(Z11=\"Nul\",$AB11<>$H11),40+(2*ROUNDDOWN(10*VLOOKUP(W11,$A$8:$AO$107,28,FALSE)/VLOOKUP(W11,$A$8:$H$107,8,FALSE),0)-ROUNDDOWN(10*AB11/$H11,0)),IF(AND(Z11=\"Nul\",$AB11=$H11),58,0))))","v":0},null,{"$f":"IF(AD11<>\"\",VLOOKUP(AD11,$A$8:$C$107,2,FALSE),\"\")","v":""},{"$f":"IF(AD11<>\"\",IF(AD11=$A11,\"ERR\",IF(OR(AD11=$P11,AD11=$W11,AD11=$I11,AD11=$AK11),\"DUP\",IF(ISNA(VLOOKUP(AD11,$A$8:$A$107,1,FALSE)),\"ERR\",IF(COUNTIF($I$8:$I$107,AD11)>1,\"ERR\",IF($D11=VLOOKUP(AD11,$A$8:$D$107,4,FALSE),\"CLUB\",\"OK\"))))),\"\")","v":""},null,{"$f":"IF(AG11<>\"\",IF(AG11=\"Victoire\",IF(VLOOKUP(AD11,$A$8:$AO$107,33,FALSE)=\"Défaite\",\"OK\",\"ERR\"),IF(AG11=\"Défaite\",IF(VLOOKUP(AD11,$A$8:$AO$107,33,FALSE)=\"Victoire\",\"OK\",\"ERR\"),IF(AG11=\"Nul\",IF(VLOOKUP(AD11,$A$8:$AO$107,33,FALSE)=\"Nul\",\"OK\",\"ERR\")))),\"\")","v":""},null,{"$f":"IF(AG11=\"Victoire\",100-ROUNDDOWN(20*AI11/$H11,0),\nIF(AG11=\"Défaite\",10+ROUNDDOWN(20*VLOOKUP(AD11,$A$8:$AO$107,35,FALSE)/VLOOKUP(AD11,$A$8:$H$107,8,FALSE),0),\nIF(AND(AG11=\"Nul\",$AI11<>$H11),40+(2*ROUNDDOWN(10*VLOOKUP(AD11,$A$8:$AO$107,35,FALSE)/VLOOKUP(AD11,$A$8:$H$107,8,FALSE),0)-ROUNDDOWN(10*AI11/$H11,0)),IF(AND(AG11=\"Nul\",$AI11=$H11),58,0))))","v":0},null,{"$f":"IF(AK11<>\"\",VLOOKUP(AK11,$A$8:$C$107,2,FALSE),\"\")","v":""},{"$f":"IF(AK11<>\"\",IF(AK11=$A11,\"ERR\",IF(OR(AK11=$P11,AK11=$W11,AK11=$AD11,AK11=$I11),\"DUP\",IF(ISNA(VLOOKUP(AK11,$A$8:$A$107,1,FALSE)),\"ERR\",IF(COUNTIF($I$8:$I$107,AK11)>1,\"ERR\",IF($D11=VLOOKUP(AK11,$A$8:$D$107,4,FALSE),\"CLUB\",\"OK\"))))),\"\")","v":""},null,{"$f":"IF(AN11<>\"\",IF(AN11=\"Victoire\",IF(VLOOKUP(AK11,$A$8:$AO$107,40,FALSE)=\"Défaite\",\"OK\",\"ERR\"),IF(AN11=\"Défaite\",IF(VLOOKUP(AK11,$A$8:$AO$107,40,FALSE)=\"Victoire\",\"OK\",\"ERR\"),IF(AN11=\"Nul\",IF(VLOOKUP(AK11,$A$8:$AO$107,40,FALSE)=\"Nul\",\"OK\",\"ERR\")))),\"\")","v":""},null,{"$f":"IF(AN11=\"Victoire\",100-ROUNDDOWN(20*AP11/$H11,0),\nIF(AN11=\"Défaite\",10+ROUNDDOWN(20*VLOOKUP(AK11,$A$8:$CB$107,42,FALSE)/VLOOKUP(AK11,$A$8:$H$107,8,FALSE),0),\nIF(AND(AN11=\"Nul\",$AP11<>$H11),40+(2*ROUNDDOWN(10*VLOOKUP(AK11,$A$8:$CB$107,42,FALSE)/VLOOKUP(AK11,$A$8:$H$107,8,FALSE),0)-ROUNDDOWN(10*AP11/$H11,0)),IF(AND(AN11=\"Nul\",$AP11=$H11),58,0))))","v":0},null,{"$f":"IF(AR11<>\"\",VLOOKUP(AR11,$A$8:$C$107,2,FALSE),\"\")","v":""},{"$f":"IF(AR11<>\"\",IF(AR11=$A11,\"ERR\",IF(OR(AR11=$I11,AR11=$P11,AR11=$W11,AR11=$AD11,AR11=$AK11),\"DUP\",IF(ISNA(VLOOKUP(AR11,$A$8:$A$107,1,FALSE)),\"ERR\",IF(COUNTIF($I$8:$I$107,AR11)>1,\"ERR\",IF($D11=VLOOKUP(AR11,$A$8:$D$107,4,FALSE),\"CLUB\",\"OK\"))))),\"\")","v":""},null,{"$f":"IF(AU11<>\"\",IF(AU11=\"Victoire\",IF(VLOOKUP(AR11,$A$8:$BL$107,47,FALSE)=\"Défaite\",\"OK\",\"ERR\"),IF(AU11=\"Défaite\",IF(VLOOKUP(AR11,$A$8:$BL$107,47,FALSE)=\"Victoire\",\"OK\",\"ERR\"),IF(AU11=\"Nul\",IF(VLOOKUP(AR11,$A$8:$BL$107,47,FALSE)=\"Nul\",\"OK\",\"ERR\")))),\"\")","v":""},null,{"$f":"IF(AU11=\"Victoire\",100-ROUNDDOWN(20*AW11/$H11,0),\nIF(AU11=\"Défaite\",10+ROUNDDOWN(20*VLOOKUP(AR11,$A$8:$CB$107,49,FALSE)/VLOOKUP(AR11,$A$8:$H$107,8,FALSE),0),\nIF(AND(AU11=\"Nul\",$AW11<>$H11),40+(2*ROUNDDOWN(10*VLOOKUP(AR11,$A$8:$CB$107,49,FALSE)/VLOOKUP(AR11,$A$8:$H$107,8,FALSE),0)-ROUNDDOWN(10*AW11/$H11,0)),IF(AND(AU11=\"Nul\",$AW11=$H11),58,0))))","v":0},null,{"$f":"IF(AY11<>\"\",VLOOKUP(AY11,$A$8:$C$107,2,FALSE),\"\")","v":""},{"$f":"IF(AY11<>\"\",IF(AY11=$A11,\"ERR\",IF(OR(AY11=$I11,AY11=$P11,AY11=$W11,AY11=$AD11,AY11=$AK11,AY11=$AR11),\"DUP\",IF(ISNA(VLOOKUP(AY11,$A$8:$A$107,1,FALSE)),\"ERR\",IF(COUNTIF($I$8:$I$107,AY11)>1,\"ERR\",IF($D11=VLOOKUP(AY11,$A$8:$D$107,4,FALSE),\"CLUB\",\"OK\"))))),\"\")","v":""},null,{"$f":"IF(BB11<>\"\",IF(BB11=\"Victoire\",IF(VLOOKUP(AY11,$A$8:$BL$107,54,FALSE)=\"Défaite\",\"OK\",\"ERR\"),IF(BB11=\"Défaite\",IF(VLOOKUP(AY11,$A$8:$BL$107,54,FALSE)=\"Victoire\",\"OK\",\"ERR\"),IF(BB11=\"Nul\",IF(VLOOKUP(AY11,$A$8:$BL$107,54,FALSE)=\"Nul\",\"OK\",\"ERR\")))),\"\")","v":""},null,{"$f":"IF(BB11=\"Victoire\",100-ROUNDDOWN(20*BD11/$H11,0),\nIF(BB11=\"Défaite\",10+ROUNDDOWN(20*VLOOKUP(AY11,$A$8:$CB$107,56,FALSE)/VLOOKUP(AY11,$A$8:$H$107,8,FALSE),0),\nIF(AND(BB11=\"Nul\",$BD11<>$H11),40+(2*ROUNDDOWN(10*VLOOKUP(AY11,$A$8:$CB$107,56,FALSE)/VLOOKUP(AY11,$A$8:$H$107,8,FALSE),0)-ROUNDDOWN(10*BD11/$H11,0)),IF(AND(BB11=\"Nul\",$BD11=$H11),58,0))))","v":0},null,{"$f":"IF(BF11<>\"\",VLOOKUP(BF11,$A$8:$C$107,2,FALSE),\"\")","v":""},{"$f":"IF(BF11<>\"\",IF(BF11=$A11,\"ERR\",IF(OR(BF11=$I11,BF11=$P11,BF11=$W11,BF11=$AD11,BF11=$AK11,BF11=$AR11,BF11=$AY11),\"DUP\",IF(ISNA(VLOOKUP(BF11,$A$8:$A$107,1,FALSE)),\"ERR\",IF(COUNTIF($I$8:$I$107,BF11)>1,\"ERR\",IF($D11=VLOOKUP(BF11,$A$8:$D$107,4,FALSE),\"CLUB\",\"OK\"))))),\"\")","v":""},null,{"$f":"IF(BI11<>\"\",IF(BI11=\"Victoire\",IF(VLOOKUP(BF11,$A$8:$BL$107,61,FALSE)=\"Défaite\",\"OK\",\"ERR\"),IF(BI11=\"Défaite\",IF(VLOOKUP(BF11,$A$8:$BL$107,61,FALSE)=\"Victoire\",\"OK\",\"ERR\"),IF(BI11=\"Nul\",IF(VLOOKUP(BF11,$A$8:$BL$107,61,FALSE)=\"Nul\",\"OK\",\"ERR\")))),\"\")","v":""},null,{"$f":"IF(BI11=\"Victoire\",100-ROUNDDOWN(20*BK11/$H11,0),\nIF(BI11=\"Défaite\",10+ROUNDDOWN(20*VLOOKUP(BF11,$A$8:$CB$107,63,FALSE)/VLOOKUP(BF11,$A$8:$H$107,8,FALSE),0),\nIF(AND(BI11=\"Nul\",$BK11<>$H11),40+(2*ROUNDDOWN(10*VLOOKUP(BF11,$A$8:$CB$107,63,FALSE)/VLOOKUP(BF11,$A$8:$H$107,8,FALSE),0)-ROUNDDOWN(10*BK11/$H11,0)),IF(AND(BI11=\"Nul\",$BK11=$H11),58,0))))","v":0},null,{"$f":"IF(BM11<>\"\",VLOOKUP(BM11,$A$8:$C$107,2,FALSE),\"\")","v":""},{"$f":"IF(BM11<>\"\",IF(BM11=$A11,\"ERR\",IF(OR(BM11=$I11,BM11=$P11,BM11=$W11,BM11=$AD11,BM11=$AK11,BM11=$AR11,BM11=$AY11,BM11=$BF11),\"DUP\",IF(ISNA(VLOOKUP(BM11,$A$8:$A$107,1,FALSE)),\"ERR\",IF(COUNTIF($I$8:$I$107,BM11)>1,\"ERR\",IF($D11=VLOOKUP(BM11,$A$8:$D$107,4,FALSE),\"CLUB\",\"OK\"))))),\"\")","v":""},null,{"$f":"IF(BP11<>\"\",IF(BP11=\"Victoire\",IF(VLOOKUP(BM11,$A$8:$BS$107,68,FALSE)=\"Défaite\",\"OK\",\"ERR\"),IF(BP11=\"Défaite\",IF(VLOOKUP(BM11,$A$8:$BS$107,68,FALSE)=\"Victoire\",\"OK\",\"ERR\"),IF(BP11=\"Nul\",IF(VLOOKUP(BM11,$A$8:$BS$107,68,FALSE)=\"Nul\",\"OK\",\"ERR\")))),\"\")","v":""},null,{"$f":"IF(BP11=\"Victoire\",100-ROUNDDOWN(20*BR11/$H11,0),\nIF(BP11=\"Défaite\",10+ROUNDDOWN(20*VLOOKUP(BM11,$A$8:$CB$107,70,FALSE)/VLOOKUP(BM11,$A$8:$H$107,8,FALSE),0),\nIF(AND(BP11=\"Nul\",$BR11<>$H11),40+(2*ROUNDDOWN(10*VLOOKUP(BM11,$A$8:$CB$107,70,FALSE)/VLOOKUP(BM11,$A$8:$H$107,8,FALSE),0)-ROUNDDOWN(10*BR11/$H11,0)),IF(AND(BP11=\"Nul\",$BR11=$H11),58,0))))","v":0},null,{"$f":"IF($I11<>\"\",VLOOKUP($I11,$A$8:$N$107,5,FALSE),0)+IF($P11<>\"\",VLOOKUP($P11,$A$8:$N$107,5,FALSE),0)+IF($W11<>\"\",VLOOKUP($W11,$A$8:$N$107,5,FALSE),0)+IF($AD11<>\"\",VLOOKUP($AD11,$A$8:$N$107,5,FALSE),0)+IF($AK11<>\"\",VLOOKUP($AK11,$A$8:$N$107,5,FALSE),0)+IF($AR11<>\"\",VLOOKUP($AR11,$A$8:$N$107,5,FALSE),0)+IF($AY11<>\"\",VLOOKUP($AY11,$A$8:$N$107,5,FALSE),0)+IF($BF11<>\"\",VLOOKUP($BF11,$A$8:$N$107,5,FALSE),0)+IF($BM11<>\"\",VLOOKUP($BM11,$A$8:$N$107,5,FALSE),0)","v":0}]
[{"$nulls":4},0,null,{"$f":"IF($F12<>\"\",VLOOKUP(F12,Armies!$A$1:$C$300,3,FALSE),\"\")","v":""},null,null,{"$f":"IF(I12<>\"\",VLOOKUP(I12,$A$8:$C$107,2,FALSE),\"\")","v":""},{"$f":"IF(I12<>\"\",IF(I12=$A12,\"ERR\",IF(OR(I12=$P12,I12=$W12,I12=$AD12,I12=$AK12),\"DUP\",IF(ISNA(VLOOKUP(I12,$A$8:$A$107,1,FALSE)),\"ERR\",IF(COUNTIF($I$8:$I$107,I12)>1,\"ERR\",IF($D12=VLOOKUP(I12,$A$8:$D$107,4,FALSE),\"CLUB\",\"OK\"))))),\"\")","v":""},null,{"$f":"IF(L12<>\"\",IF(L12=\"Victoire\",IF(VLOOKUP(I12,$A$8:$L$107,12,FALSE)=\"Défaite\",\"OK\",\"ERR\"),IF(L12=\"Défaite\",IF(VLOOKUP(I12,$A$8:$L$107,12,FALSE)=\"Victoire\",\"OK\",\"ERR\"),IF(L12=\"Nul\",IF(VLOOKUP(I12,$A$8:$L$107,12,FALSE)=\"Nul\",\"OK\",\"ERR\")))),\"\")","v":""},null,{"$f":"IF(L12=\"Victoire\",100-ROUNDDOWN(20*N12/$H12,0),\nIF(L12=\"Défaite\",10+ROUNDDOWN(20*VLOOKUP(I12,$A$8:$N$107,14,FALSE)/VLOOKUP(I12,$A$8:$H$107,8,FALSE),0),\nIF(AND(L12=\"Nul\",$N12<>$H12),40+(2*ROUNDDOWN(10*VLOOKUP(I12,$A$8:$N$107,14,FALSE)/VLOOKUP(I12,$A$8:$H$107,8,FALSE),0)-ROUNDDOWN(10*N12/$H12,0)),IF(AND(L12=\"Nul\",$N12=$H12),58,0))))","v":0},null,{"$f":"IF(P12<>\"\",VLOOKUP(P12,$A$8:$C$107,2,FALSE),\"\")","v":""},{"$f":"IF(P12<>\"\",IF(P12=$A12,\"ERR\",IF(OR(P12=$I12,P12=$W12,P12=$AD12,P12=$AK12),\"DUP\",IF(ISNA(VLOOKUP(P12,$A$8:$A$107,1,FALSE)),\"ERR\",IF(COUNTIF($I$8:$I$107,P12)>1,\"ERR\",IF($D12=VLOOKUP(P12,$A$8:$D$107,4,FALSE),\"CLUB\",\"OK\"))))),\"\")","v":""},null,{"$f":"IF(S12<>\"\",IF(S12=\"Victoire\",IF(VLOOKUP(P12,$A$8:$AO$107,19,FALSE)=\"Défaite\",\"OK\",\"ERR\"),IF(S12=\"Défaite\",IF(VLOOKUP(P12,$A$8:$AO$107,19,FALSE)=\"Victoire\",\"OK\",\"ERR\"),IF(S12=\"Nul\",IF(VLOOKUP(P12,$A$8:$AO$107,19,FALSE)=\"Nul\",\"OK\",\"ERR\")))),\"\")","v":""},null,{"$f":"IF(S12=\"Victoire\",100-ROUNDDOWN(20*U12/$H12,0),\nIF(S12=\"Défaite\",10+ROUNDDOWN(20*VLOOKUP(P12,$A$8:$AO$107,21,FALSE)/VLOOKUP(P12,$A$8:$H$107,8,FALSE),0),\nIF(AND(S12=\"Nul\",$U12<>$H12),40+(2*ROUNDDOWN(10*VLOOKUP(P12,$A$8:$AO$107,21,FALSE)/VLOOKUP(P12,$A$8:$H$107,8,FALSE),0)-ROUNDDOWN(10*U12/$H12,0)),IF(AND(S12=\"Nul\",$U12=$H12),58,0))))","v":0},null,{"$f":"IF(W12<>\"\",VLOOKUP(W12,$A$8:$C$107,2,FALSE),\"\")","v":""},{"$f":"IF(W12<>\"\",IF(W12=$A12,\"ERR\",IF(OR(W12=$P12,W12=$I12,W12=$AD12,W12=$AK12),\"DUP\",IF(ISNA(VLOOKUP(W12,$A$8:$A$107,1,FALSE)),\"ERR\",IF(COUNTIF($I$8:$I$107,W12)>1,\"ERR\",IF($D12=VLOOKUP(W12,$A$8:$D$107,4,FALSE),\"CLUB\",\"OK\"))))),\"\")","v":""},null,{"$f":"IF(Z12<>\"\",IF(Z12=\"Victoire\",IF(VLOOKUP(W12,$A$8:$AO$107,26,FALSE)=\"Défaite\",\"OK\",\"ERR\"),IF(Z12=\"Défaite\",IF(VLOOKUP(W12,$A$8:$AO$107,26,FALSE)=\"Victoire\",\"OK\",\"ERR\"),IF(Z12=\"Nul\",IF(VLOOKUP(W12,$A$8:$AO$107,26,FALSE)=\"Nul\",\"OK\",\"ERR\")))),\"\")","v":""},null,{"$f":"IF(Z12=\"Victoire\",100-ROUNDDOWN(20*AB12/$H12,0),\nIF(Z12=\"Défaite\",10+ROUNDDOWN(20*VLOOKUP(W12,$A$8:$AO$107,28,FALSE)/VLOOKUP(W12,$A$8:$H$107,8,FALSE),0),\nIF(AND(Z12=\"Nul\",$AB12<>$H12),40+(2*ROUNDDOWN(10*VLOOKUP(W12,$A$8:$AO$107,28,FALSE)/VLOOKUP(W12,$A$8:$H$107,8,FALSE),0)-ROUNDDOWN(10*AB12/$H12,0)),IF(AND(Z12=\"Nul\",$AB12=$H12),58,0))))","v":0},null,{"$f":"IF(AD12<>\"\",VLOOKUP(AD12,$A$8:$C$107,2,FALSE),\"\")","v":""},{"$f":"IF(AD12<>\"\",IF(AD12=$A12,\"ERR\",IF(OR(AD12=$P12,AD12=$W12,AD12=$I12,AD12=$AK12),\"DUP\",IF(ISNA(VLOOKUP(AD12,$A$8:$A$107,1,FALSE)),\"ERR\",IF(COUNTIF($I$8:$I$107,AD12)>1,\"ERR\",IF($D12=VLOOKUP(AD12,$A$8:$D$107,4,FALSE),\"CLUB\",\"OK\"))))),\"\")","v":""},null,{"$f":"IF(AG12<>\"\",IF(AG12=\"Victoire\",IF(VLOOKUP(AD12,$A$8:$AO$107,33,FALSE)=\"Défaite\",\"OK\",\"ERR\"),IF(AG12=\"Défaite\",IF(VLOOKUP(AD12,$A$8:$AO$107,33,FALSE)=\"Victoire\",\"OK\",\"ERR\"),IF(AG12=\"Nul\",IF(VLOOKUP(AD12,$A$8:$AO$107,33,FALSE)=\"Nul\",\"OK\",\"ERR\")))),\"\")","v":""},null,{"$f":"IF(AG12=\"Victoire\",100-ROUNDDOWN(20*AI12/$H12,0),\nIF(AG12=\"Défaite\",10+ROUNDDOWN(20*VLOOKUP(AD12,$A$8:$AO$107,35,FALSE)/VLOOKUP(AD12,$A$8:$H$107,8,FALSE),0),\nIF(AND(AG12=\"Nul\",$AI12<>$H12),40+(2*ROUNDDOWN(10*VLOOKUP(AD12,$A$8:$AO$107,35,FALSE)/VLOOKUP(AD12,$A$8:$H$107,8,FALSE),0)-ROUNDDOWN(10*AI12/$H12,0)),IF(AND(AG12=\"Nul\",$AI12=$H12),58,0))))","v":0},null,{"$f":"IF(AK12<>\"\",VLOOKUP(AK12,$A$8:$C$107,2,FALSE),\"\")","v":""},{"$f":"IF(AK12<>\"\",IF(AK12=$A12,\"ERR\",IF(OR(AK12=$P12,AK12=$W12,AK12=$AD12,AK12=$I12),\"DUP\",IF(ISNA(VLOOKUP(AK12,$A$8:$A$107,1,FALSE)),\"ERR\",IF(COUNTIF($I$8:$I$107,AK12)>1,\"ERR\",IF($D12=VLOOKUP(AK12,$A$8:$D$107,4,FALSE),\"CLUB\",\"OK\"))))),\"\")","v":""},null,{"$f":"IF(AN12<>\"\",IF(AN12=\"Victoire\",IF(VLOOKUP(AK12,$A$8:$AO$107,40,FALSE)=\"Défaite\",\"OK\",\"ERR\"),IF(AN12=\"Défaite\",IF(VLOOKUP(AK12,$A$8:$AO$107,40,FALSE)=\"Victoire\",\"OK\",\"ERR\"),IF(AN12=\"Nul\",IF(VLOOKUP(AK12,$A$8:$AO$107,40,FALSE)=\"Nul\",\"OK\",\"ERR\")))),\"\")","v":""},null,{"$f":"IF(AN12=\"Victoire\",100-ROUNDDOWN(20*AP12/$H12,0),\nIF(AN12=\"Défaite\",10+ROUNDDOWN(20*VLOOKUP(AK12,$A$8:$CB$107,42,FALSE)/VLOOKUP(AK12,$A$8:$H$107,8,FALSE),0),\nIF(AND(AN12=\"Nul\",$AP12<>$H12),40+(2*ROUNDDOWN(10*VLOOKUP(AK12,$A$8:$CB$107,42,FALSE)/VLOOKUP(AK12,$A$8:$H$107,8,FALSE),0)-ROUNDDOWN(10*AP12/$H12,0)),IF(AND(AN12=\"Nul\",$AP12=$H12),58,0))))","v":0},null,{"$f":"IF(AR12<>\"\",VLOOKUP(AR12,$A$8:$C$107,2,FALSE),\"\")","v":""},{"$f":"IF(AR12<>\"\",IF(AR12=$A12,\"ERR\",IF(OR(AR12=$I12,AR12=$P12,AR12=$W12,AR12=$AD12,AR12=$AK12),\"DUP\",IF(ISNA(VLOOKUP(AR12,$A$8:$A$107,1,FALSE)),\"ERR\",IF(COUNTIF($I$8:$I$107,AR12)>1,\"ERR\",IF($D12=VLOOKUP(AR12,$A$8:$D$107,4,FALSE),\"CLUB\",\"OK\"))))),\"\")","v":""},null,{"$f":"IF(AU12<>\"\",IF(AU12=\"Victoire\",IF(VLOOKUP(AR12,$A$8:$BL$107,47,FALSE)=\"Défaite\",\"OK\",\"ERR\"),IF(AU12=\"Défaite\",IF(VLOOKUP(AR12,$A$8:$BL$107,47,FALSE)=\"Victoire\",\"OK\",\"ERR\"),IF(AU12=\"Nul\",IF(VLOOKUP(AR12,$A$8:$BL$107,47,FALSE)=\"Nul\",\"OK\",\"ERR\")))),\"\")","v":""},null,{"$f":"IF(AU12=\"Victoire\",100-ROUNDDOWN(20*AW12/$H12,0),\nIF(AU12=\"Défaite\",10+ROUNDDOWN(20*VLOOKUP(AR12,$A$8:$CB$107,49,FALSE)/VLOOKUP(AR12,$A$8:$H$107,8,FALSE),0),\nIF(AND(AU12=\"Nul\",$AW12<>$H12),40+(2*ROUNDDOWN(10*VLOOKUP(AR12,$A$8:$CB$107,49,FALSE)/VLOOKUP(AR12,$A$8:$H$107,8,FALSE),0)-ROUNDDOWN(10*AW12/$H12,0)),IF(AND(AU12=\"Nul\",$AW12=$H12),58,0))))","v":0},null,{"$f":"IF(AY12<>\"\",VLOOKUP(AY12,$A$8:$C$107,2,FALSE),\"\")","v":""},{"$f":"IF(AY12<>\"\",IF(AY12=$A12,\"ERR\",IF(OR(AY12=$I12,AY12=$P12,AY12=$W12,AY12=$AD12,AY12=$AK12,AY12=$AR12),\"DUP\",IF(ISNA(VLOOKUP(AY12,$A$8:$A$107,1,FALSE)),\"ERR\",IF(COUNTIF($I$8:$I$107,AY12)>1,\"ERR\",IF($D12=VLOOKUP(AY12,$A$8:$D$107,4,FALSE),\"CLUB\",\"OK\"))))),\"\")","v":""},null,{"$f":"IF(BB12<>\"\",IF(BB12=\"Victoire\",IF(VLOOKUP(AY12,$A$8:$BL$107,54,FALSE)=\"Défaite\",\"OK\",\"ERR\"),IF(BB12=\"Défaite\",IF(VLOOKUP(AY12,$A$8:$BL$107,54,FALSE)=\"Victoire\",\"OK\",\"ERR\"),IF(BB12=\"Nul\",IF(VLOOKUP(AY12,$A$8:$BL$107,54,FALSE)=\"Nul\",\"OK\",\"ERR\")))),\"\")","v":""},null,{"$f":"IF(BB12=\"Victoire\",100-ROUNDDOWN(20*BD12/$H12,0),\nIF(BB12=\"Défaite\",10+ROUNDDOWN(20*VLOOKUP(AY12,$A$8:$CB$107,56,FALSE)/VLOOKUP(AY12,$A$8:$H$107,8,FALSE),0),\nIF(AND(BB12=\"Nul\",$BD12<>$H12),40+(2*ROUNDDOWN(10*VLOOKUP(AY12,$A$8:$CB$107,56,FALSE)/VLOOKUP(AY12,$A$8:$H$107,8,FALSE),0)-ROUNDDOWN(10*BD12/$H12,0)),IF(AND(BB12=\"Nul\",$BD12=$H12),58,0))))","v":0},null,{"$f":"IF(BF12<>\"\",VLOOKUP(BF12,$A$8:$C$107,2,FALSE),\"\")","v":""},{"$f":"IF(BF12<>\"\",IF(BF12=$A12,\"ERR\",IF(OR(BF12=$I12,BF12=$P12,BF12=$W12,BF12=$AD12,BF12=$AK12,BF12=$AR12,BF12=$AY12),\"DUP\",IF(ISNA(VLOOKUP(BF12,$A$8:$A$107,1,FALSE)),\"ERR\",IF(COUNTIF($I$8:$I$107,BF12)>1,\"ERR\",IF($D12=VLOOKUP(BF12,$A$8:$D$107,4,FALSE),\"CLUB\",\"OK\"))))),\"\")","v":""},null,{"$f":"IF(BI12<>\"\",IF(BI12=\"Victoire\",IF(VLOOKUP(BF12,$A$8:$BL$107,61,FALSE)=\"Défaite\",\"OK\",\"ERR\"),IF(BI12=\"Défaite\",IF(VLOOKUP(BF12,$A$8:$BL$107,61,FALSE)=\"Victoire\",\"OK\",\"ERR\"),IF(BI12=\"Nul\",IF(VLOOKUP(BF12,$A$8:$BL$107,61,FALSE)=\"Nul\",\"OK\",\"ERR\")))),\"\")","v":""},null,{"$f":"IF(BI12=\"Victoire\",100-ROUNDDOWN(20*BK12/$H12,0),\nIF(BI12=\"Défaite\",10+ROUNDDOWN(20*VLOOKUP(BF12,$A$8:$CB$107,63,FALSE)/VLOOKUP(BF12,$A$8:$H$107,8,FALSE),0),\nIF(AND(BI12=\"Nul\",$BK12<>$H12),40+(2*ROUNDDOWN(10*VLOOKUP(BF12,$A$8:$CB$107,63,FALSE)/VLOOKUP(BF12,$A$8:$H$107,8,FALSE),0)-ROUNDDOWN(10*BK12/$H12,0)),IF(AND(BI12=\"Nul\",$BK12=$H12),58,0))))","v":0},null,{"$f":"IF(BM12<>\"\",VLOOKUP(BM12,$A$8:$C$107,2,FALSE),\"\")","v":""},{"$f":"IF(BM12<>\"\",IF(BM12=$A12,\"ERR\",IF(OR(BM12=$I12,BM12=$P12,BM12=$W12,BM12=$AD12,BM12=$AK12,BM12=$AR12,BM12=$AY12,BM12=$BF12),\"DUP\",IF(ISNA(VLOOKUP(BM12,$A$8:$A$107,1,FALSE)),\"ERR\",IF(COUNTIF($I$8:$I$107,BM12)>1,\"ERR\",IF($D12=VLOOKUP(BM12,$A$8:$D$107,4,FALSE),\"CLUB\",\"OK\"))))),\"\")","v":""},null,{"$f":"IF(BP12<>\"\",IF(BP12=\"Victoire\",IF(VLOOKUP(BM12,$A$8:$BS$107,68,FALSE)=\"Défaite\",\"OK\",\"ERR\"),IF(BP12=\"Défaite\",IF(VLOOKUP(BM12,$A$8:$BS$107,68,FALSE)=\"Victoire\",\"OK\",\"ERR\"),IF(BP12=\"Nul\",IF(VLOOKUP(BM12,$A$8:$BS$107,68,FALSE)=\"Nul\",\"OK\",\"ERR\")))),\"\")","v":""},null,{"$f":"IF(BP12=\"Victoire\",100-ROUNDDOWN(20*BR12/$H12,0),\nIF(BP12=\"Défaite\",10+ROUNDDOWN(20*VLOOKUP(BM12,$A$8:$CB$107,70,FALSE)/VLOOKUP(BM12,$A$8:$H$107,8,FALSE),0),\nIF(AND(BP12=\"Nul\",$BR12<>$H12),40+(2*ROUNDDOWN(10*VLOOKUP(BM12,$A$8:$CB$107,70,FALSE)/VLOOKUP(BM12,$A$8:$H$107,8,FALSE),0)-ROUNDDOWN(10*BR12/$H12,0)),IF(AND(BP12=\"Nul\",$BR12=$H12),58,0))))","v":0},null,{"$f":"IF($I12<>\"\",VLOOKUP($I12,$A$8:$N$107,5,FALSE),0)+IF($P12<>\"\",VLOOKUP($P12,$A$8:$N$107,5,FALSE),0)+IF($W12<>\"\",VLOOKUP($W12,$A$8:$N$107,5,FALSE),0)+IF($AD12<>\"\",VLOOKUP($AD12,$A$8:$N$107,5,FALSE),0)+IF($AK12<>\"\",VLOOKUP($AK12,$A$8:$N$107,5,FALSE),0)+IF($AR12<>\"\",VLOOKUP($AR12,$A$8:$N$107,5,FALSE),0)+IF($AY12<>\"\",VLOOKUP($AY12,$A$8:$N$107,5,FALSE),0)+IF($BF12<>\"\",VLOOKUP($BF12,$A$8:$N$107,5,FALSE),0)+IF($BM12<>\"\",VLOOKUP($BM12,$A$8:$N$107,5,FALSE),0)","v":0}]
[{"$nulls":4},0,null,{"$f":"IF($F13<>\"\",VLOOKUP(F13,Armies!$A$1:$C$300,3,FALSE),\"\")","v":""},null,null,{"$f":"IF(I13<>\"\",VLOOKUP(I13,$A$8:$C$107,2,FALSE),\"\")","v":""},{"$f":"IF(I13<>\"\",IF(I13=$A13,\"ERR\",IF(OR(I13=$P13,I13=$W13,I13=$AD13,I13=$AK13),\"DUP\",IF(ISNA(VLOOKUP(I13,$A$8:$A$107,1,FALSE)),\"ERR\",IF(COUNTIF($I$8:$I$107,I13)>1,\"ERR\",IF($D13=VLOOKUP(I13,$A$8:$D$107,4,FALSE),\"CLUB\",\"OK\"))))),\"\")","v":""},null,{"$f":"IF(L13<>\"\",IF(L13=\"Victoire\",IF(VLOOKUP(I13,$A$8:$L$107,12,FALSE)=\"Défaite\",\"OK\",\"ERR\"),IF(L13=\"Défaite\",IF(VLOOKUP(I13,$A$8:$L$107,12,FALSE)=\"Victoire\",\"OK\",\"ERR\"),IF(L13=\"Nul\",IF(VLOOKUP(I13,$A$8:$L$107,12,FALSE)=\"Nul\",\"OK\",\"ERR\")))),\"\")","v":""},null,{"$f":"IF(L13=\"Victoire\",100-ROUNDDOWN(20*N13/$H13,0),\nIF(L13=\"Défaite\",10+ROUNDDOWN(20*VLOOKUP(I13,$A$8:$N$107,14,FALSE)/VLOOKUP(I13,$A$8:$H$107,8,FALSE),0),\nIF(AND(L13=\"Nul\",$N13<>$H13),40+(2*ROUNDDOWN(10*VLOOKUP(I13,$A$8:$N$107,14,FALSE)/VLOOKUP(I13,$A$8:$H$107,8,FALSE),0)-ROUNDDOWN(10*N13/$H13,0)),IF(AND(L13=\"Nul\",$N13=$H13),58,0))))","v":0},null,{"$f":"IF(P13<>\"\",VLOOKUP(P13,$A$8:$C$107,2,FALSE),\"\")","v":""},{"$f":"IF(P13<>\"\",IF(P13=$A13,\"ERR\",IF(OR(P13=$I13,P13=$W13,P13=$AD13,P13=$AK13),\"DUP\",IF(ISNA(VLOOKUP(P13,$A$8:$A$107,1,FALSE)),\"ERR\",IF(COUNTIF($I$8:$I$107,P13)>1,\"ERR\",IF($D13=VLOOKUP(P13,$A$8:$D$107,4,FALSE),\"CLUB\",\"OK\"))))),\"\")","v":""},null,{"$f":"IF(S13<>\"\",IF(S13=\"Victoire\",IF(VLOOKUP(P13,$A$8:$AO$107,19,FALSE)=\"Défaite\",\"OK\",\"ERR\"),IF(S13=\"Défaite\",IF(VLOOKUP(P13,$A$8:$AO$107,19,FALSE)=\"Victoire\",\"OK\",\"ERR\"),IF(S13=\"Nul\",IF(VLOOKUP(P13,$A$8:$AO$107,19,FALSE)=\"Nul\",\"OK\",\"ERR\")))),\"\")","v":""},null,{"$f":"IF(S13=\"Victoire\",100-ROUNDDOWN(20*U13/$H13,0),\nIF(S13=\"Défaite\",10+ROUNDDOWN(20*VLOOKUP(P13,$A$8:$AO$107,21,FALSE)/VLOOKUP(P13,$A$8:$H$107,8,FALSE),0),\nIF(AND(S13=\"Nul\",$U13<>$H13),40+(2*ROUNDDOWN(10*VLOOKUP(P13,$A$8:$AO$107,21,FALSE)/VLOOKUP(P13,$A$8:$H$107,8,FALSE),0)-ROUNDDOWN(10*U13/$H13,0)),IF(AND(S13=\"Nul\",$U13=$H13),58,0))))","v":0},null,{"$f":"IF(W13<>\"\",VLOOKUP(W13,$A$8:$C$107,2,FALSE),\"\")","v":""},{"$f":"IF(W13<>\"\",IF(W13=$A13,\"ERR\",IF(OR(W13=$P13,W13=$I13,W13=$AD13,W13=$AK13),\"DUP\",IF(ISNA(VLOOKUP(W13,$A$8:$A$107,1,FALSE)),\"ERR\",IF(COUNTIF($I$8:$I$107,W13)>1,\"ERR\",IF($D13=VLOOKUP(W13,$A$8:$D$107,4,FALSE),\"CLUB\",\"OK\"))))),\"\")","v":""},null,{"$f":"IF(Z13<>\"\",IF(Z13=\"Victoire\",IF(VLOOKUP(W13,$A$8:$AO$107,26,FALSE)=\"Défaite\",\"OK\",\"ERR\"),IF(Z13=\"Défaite\",IF(VLOOKUP(W13,$A$8:$AO$107,26,FALSE)=\"Victoire\",\"OK\",\"ERR\"),IF(Z13=\"Nul\",IF(VLOOKUP(W13,$A$8:$AO$107,26,FALSE)=\"Nul\",\"OK\",\"ERR\")))),\"\")","v":""},null,{"$f":"IF(Z13=\"Victoire\",100-ROUNDDOWN(20*AB13/$H13,0),\nIF(Z13=\"Défaite\",10+ROUNDDOWN(20*VLOOKUP(W13,$A$8:$AO$107,28,FALSE)/VLOOKUP(W13,$A$8:$H$107,8,FALSE),0),\nIF(AND(Z13=\"Nul\",$AB13<>$H13),40+(2*ROUNDDOWN(10*VLOOKUP(W13,$A$8:$AO$107,28,FALSE)/VLOOKUP(W13,$A$8:$H$107,8,FALSE),0)-ROUNDDOWN(10*AB13/$H13,0)),IF(AND(Z13=\"Nul\",$AB13=$H13),58,0))))","v":0},null,{"$f":"IF(AD13<>\"\",VLOOKUP(AD13,$A$8:$C$107,2,FALSE),\"\")","v":""},{"$f":"IF(AD13<>\"\",IF(AD13=$A13,\"ERR\",IF(OR(AD13=$P13,AD13=$W13,AD13=$I13,AD13=$AK13),\"DUP\",IF(ISNA(VLOOKUP(AD13,$A$8:$A$107,1,FALSE)),\"ERR\",IF(COUNTIF($I$8:$I$107,AD13)>1,\"ERR\",IF($D13=VLOOKUP(AD13,$A$8:$D$107,4,FALSE),\"CLUB\",\"OK\"))))),\"\")","v":""},null,{"$f":"IF(AG13<>\"\",IF(AG13=\"Victoire\",IF(VLOOKUP(AD13,$A$8:$AO$107,33,FALSE)=\"Défaite\",\"OK\",\"ERR\"),IF(AG13=\"Défaite\",IF(VLOOKUP(AD13,$A$8:$AO$107,33,FALSE)=\"Victoire\",\"OK\",\"ERR\"),IF(AG13=\"Nul\",IF(VLOOKUP(AD13,$A$8:$AO$107,33,FALSE)=\"Nul\",\"OK\",\"ERR\")))),\"\")","v":""},null,{"$f":"IF(AG13=\"Victoire\",100-ROUNDDOWN(20*AI13/$H13,0),\nIF(AG13=\"Défaite\",10+ROUNDDOWN(20*VLOOKUP(AD13,$A$8:$AO$107,35,FALSE)/VLOOKUP(AD13,$A$8:$H$107,8,FALSE),0),\nIF(AND(AG13=\"Nul\",$AI13<>$H13),40+(2*ROUNDDOWN(10*VLOOKUP(AD13,$A$8:$AO$107,35,FALSE)/VLOOKUP(AD13,$A$8:$H$107,8,FALSE),0)-ROUNDDOWN(10*AI13/$H13,0)),IF(AND(AG13=\"Nul\",$AI13=$H13),58,0))))","v":0},null,{"$f":"IF(AK13<>\"\",VLOOKUP(AK13,$A$8:$C$107,2,FALSE),\"\")","v":""},{"$f":"IF(AK13<>\"\",IF(AK13=$A13,\"ERR\",IF(OR(AK13=$P13,AK13=$W13,AK13=$AD13,AK13=$I13),\"DUP\",IF(ISNA(VLOOKUP(AK13,$A$8:$A$107,1,FALSE)),\"ERR\",IF(COUNTIF($I$8:$I$107,AK13)>1,\"ERR\",IF($D13=VLOOKUP(AK13,$A$8:$D$107,4,FALSE),\"CLUB\",\"OK\"))))),\"\")","v":""},null,{"$f":"IF(AN13<>\"\",IF(AN13=\"Victoire\",IF(VLOOKUP(AK13,$A$8:$AO$107,40,FALSE)=\"Défaite\",\"OK\",\"ERR\"),IF(AN13=\"Défaite\",IF(VLOOKUP(AK13,$A$8:$AO$107,40,FALSE)=\"Victoire\",\"OK\",\"ERR\"),IF(AN13=\"Nul\",IF(VLOOKUP(AK13,$A$8:$AO$107,40,FALSE)=\"Nul\",\"OK\",\"ERR\")))),\"\")","v":""},null,{"$f":"IF(AN13=\"Victoire\",100-ROUNDDOWN(20*AP13/$H13,0),\nIF(AN13=\"Défaite\",10+ROUNDDOWN(20*VLOOKUP(AK13,$A$8:$CB$107,42,FALSE)/VLOOKUP(AK13,$A$8:$H$107,8,FALSE),0),\nIF(AND(AN13=\"Nul\",$AP13<>$H13),40+(2*ROUNDDOWN(10*VLOOKUP(AK13,$A$8:$CB$107,42,FALSE)/VLOOKUP(AK13,$A$8:$H$107,8,FALSE),0)-ROUNDDOWN(10*AP13/$H13,0)),IF(AND(AN13=\"Nul\",$AP13=$H13),58,0))))","v":0},null,{"$f":"IF(AR13<>\"\",VLOOKUP(AR13,$A$8:$C$107,2,FALSE),\"\")","v":""},{"$f":"IF(AR13<>\"\",IF(AR13=$A13,\"ERR\",IF(OR(AR13=$I13,AR13=$P13,AR13=$W13,AR13=$AD13,AR13=$AK13),\"DUP\",IF(ISNA(VLOOKUP(AR13,$A$8:$A$107,1,FALSE)),\"ERR\",IF(COUNTIF($I$8:$I$107,AR13)>1,\"ERR\",IF($D13=VLOOKUP(AR13,$A$8:$D$107,4,FALSE),\"CLUB\",\"OK\"))))),\"\")","v":""},null,{"$f":"IF(AU13<>\"\",IF(AU13=\"Victoire\",IF(VLOOKUP(AR13,$A$8:$BL$107,47,FALSE)=\"Défaite\",\"OK\",\"ERR\"),IF(AU13=\"Défaite\",IF(VLOOKUP(AR13,$A$8:$BL$107,47,FALSE)=\"Victoire\",\"OK\",\"ERR\"),IF(AU13=\"Nul\",IF(VLOOKUP(AR13,$A$8:$BL$107,47,FALSE)=\"Nul\",\"OK\",\"ERR\")))),\"\")","v":""},null,{"$f":"IF(AU13=\"Victoire\",100-ROUNDDOWN(20*AW13/$H13,0),\nIF(AU13=\"Défaite\",10+ROUNDDOWN(20*VLOOKUP(AR13,$A$8:$CB$107,49,FALSE)/VLOOKUP(AR13,$A$8:$H$107,8,FALSE),0),\nIF(AND(AU13=\"Nul\",$AW13<>$H13),40+(2*ROUNDDOWN(10*VLOOKUP(AR13,$A$8:$CB$107,49,FALSE)/VLOOKUP(AR13,$A$8:$H$107,8,FALSE),0)-ROUNDDOWN(10*AW13/$H13,0)),IF(AND(AU13=\"Nul\",$AW13=$H13),58,0))))","v":0},null,{"$f":"IF(AY13<>\"\",VLOOKUP(AY13,$A$8:$C$107,2,FALSE),\"\")","v":""},{"$f":"IF(AY13<>\"\",IF(AY13=$A13,\"ERR\",IF(OR(AY13=$I13,AY13=$P13,AY13=$W13,AY13=$AD13,AY13=$AK13,AY13=$AR13),\"DUP\",IF(ISNA(VLOOKUP(AY13,$A$8:$A$107,1,FALSE)),\"ERR\",IF(COUNTIF($I$8:$I$107,AY13)>1,\"ERR\",IF($D13=VLOOKUP(AY13,$A$8:$D$107,4,FALSE),\"CLUB\",\"OK\"))))),\"\")","v":""},null,{"$f":"IF(BB13<>\"\",IF(BB13=\"Victoire\",IF(VLOOKUP(AY13,$A$8:$BL$107,54,FALSE)=\"Défaite\",\"OK\",\"ERR\"),IF(BB13=\"Défaite\",IF(VLOOKUP(AY13,$A$8:$BL$107,54,FALSE)=\"Victoire\",\"OK\",\"ERR\"),IF(BB13=\"Nul\",IF(VLOOKUP(AY13,$A$8:$BL$107,54,FALSE)=\"Nul\",\"OK\",\"ERR\")))),\"\")","v":""},null,{"$f":"IF(BB13=\"Victoire\",100-ROUNDDOWN(20*BD13/$H13,0),\nIF(BB13=\"Défaite\",10+ROUNDDOWN(20*VLOOKUP(AY13,$A$8:$CB$107,56,FALSE)/VLOOKUP(AY13,$A$8:$H$107,8,FALSE),0),\nIF(AND(BB13=\"Nul\",$BD13<>$H13),40+(2*ROUNDDOWN(10*VLOOKUP(AY13,$A$8:$CB$107,56,FALSE)/VLOOKUP(AY13,$A$8:$H$107,8,FALSE),0)-ROUNDDOWN(10*BD13/$H13,0)),IF(AND(BB13=\"Nul\",$BD13=$H13),58,0))))","v":0},null,{"$f":"IF(BF13<>\"\",VLOOKUP(BF13,$A$8:$C$107,2,FALSE),\"\")","v":""},{"$f":"IF(BF13<>\"\",IF(BF13=$A13,\"ERR\",IF(OR(BF13=$I13,BF13=$P13,BF13=$W13,BF13=$AD13,BF13=$AK13,BF13=$AR13,BF13=$AY13),\"DUP\",IF(ISNA(VLOOKUP(BF13,$A$8:$A$107,1,FALSE)),\"ERR\",IF(COUNTIF($I$8:$I$107,BF13)>1,\"ERR\",IF($D13=VLOOKUP(BF13,$A$8:$D$107,4,FALSE),\"CLUB\",\"OK\"))))),\"\")","v":""},null,{"$f":"IF(BI13<>\"\",IF(BI13=\"Victoire\",IF(VLOOKUP(BF13,$A$8:$BL$107,61,FALSE)=\"Défaite\",\"OK\",\"ERR\"),IF(BI13=\"Défaite\",IF(VLOOKUP(BF13,$A$8:$BL$107,61,FALSE)=\"Victoire\",\"OK\",\"ERR\"),IF(BI13=\"Nul\",IF(VLOOKUP(BF13,$A$8:$BL$107,61,FALSE)=\"Nul\",\"OK\",\"ERR\")))),\"\")","v":""},null,{"$f":"IF(BI13=\"Victoire\",100-ROUNDDOWN(20*BK13/$H13,0),\nIF(BI13=\"Défaite\",10+ROUNDDOWN(20*VLOOKUP(BF13,$A$8:$CB$107,63,FALSE)/VLOOKUP(BF13,$A$8:$H$107,8,FALSE),0),\nIF(AND(BI13=\"Nul\",$BK13<>$H13),40+(2*ROUNDDOWN(10*VLOOKUP(BF13,$A$8:$CB$107,63,FALSE)/VLOOKUP(BF13,$A$8:$H$107,8,FALSE),0)-ROUNDDOWN(10*BK13/$H13,0)),IF(AND(BI13=\"Nul\",$BK13=$H13),58,0))))","v":0},null,{"$f":"IF(BM13<>\"\",VLOOKUP(BM13,$A$8:$C$107,2,FALSE),\"\")","v":""},{"$f":"IF(BM13<>\"\",IF(BM13=$A13,\"ERR\",IF(OR(BM13=$I13,BM13=$P13,BM13=$W13,BM13=$AD13,BM13=$AK13,BM13=$AR13,BM13=$AY13,BM13=$BF13),\"DUP\",IF(ISNA(VLOOKUP(BM13,$A$8:$A$107,1,FALSE)),\"ERR\",IF(COUNTIF($I$8:$I$107,BM13)>1,\"ERR\",IF($D13=VLOOKUP(BM13,$A$8:$D$107,4,FALSE),\"CLUB\",\"OK\"))))),\"\")","v":""},null,{"$f":"IF(BP13<>\"\",IF(BP13=\"Victoire\",IF(VLOOKUP(BM13,$A$8:$BS$107,68,FALSE)=\"Défaite\",\"OK\",\"ERR\"),IF(BP13=\"Défaite\",IF(VLOOKUP(BM13,$A$8:$BS$107,68,FALSE)=\"Victoire\",\"OK\",\"ERR\"),IF(BP13=\"Nul\",IF(VLOOKUP(BM13,$A$8:$BS$107,68,FALSE)=\"Nul\",\"OK\",\"ERR\")))),\"\")","v":""},null,{"$f":"IF(BP13=\"Victoire\",100-ROUNDDOWN(20*BR13/$H13,0),\nIF(BP13=\"Défaite\",10+ROUNDDOWN(20*VLOOKUP(BM13,$A$8:$CB$107,70,FALSE)/VLOOKUP(BM13,$A$8:$H$107,8,FALSE),0),\nIF(AND(BP13=\"Nul\",$BR13<>$H13),40+(2*ROUNDDOWN(10*VLOOKUP(BM13,$A$8:$CB$107,70,FALSE)/VLOOKUP(BM13,$A$8:$H$107,8,FALSE),0)-ROUNDDOWN(10*BR13/$H13,0)),IF(AND(BP13=\"Nul\",$BR13=$H13),58,0))))","v":0},null,{"$f":"IF($I13<>\"\",VLOOKUP($I13,$A$8:$N$107,5,FALSE),0)+IF($P13<>\"\",VLOOKUP($P13,$A$8:$N$107,5,FALSE),0)+IF($W13<>\"\",VLOOKUP($W13,$A$8:$N$107,5,FALSE),0)+IF($AD13<>\"\",VLOOKUP($AD13,$A$8:$N$107,5,FALSE),0)+IF($AK13<>\"\",VLOOKUP($AK13,$A$8:$N$107,5,FALSE),0)+IF($AR13<>\"\",VLOOKUP($AR13,$A$8:$N$107,5,FALSE),0)+IF($AY13<>\"\",VLOOKUP($AY13,$A$8:$N$107,5,FALSE),0)+IF($BF13<>\"\",VLOOKUP($BF13,$A$8:$N$107,5,FALSE),0)+IF($BM13<>\"\",VLOOKUP($BM13,$A$8:$N$107,5,FALSE),0)","v":0}]
[{"$nulls":4},0,null,{"$f":"IF($F14<>\"\",VLOOKUP(F14,Armies!$A$1:$C$300,3,FALSE),\"\")","v":""},null,null,{"$f":"IF(I14<>\"\",VLOOKUP(I14,$A$8:$C$107,2,FALSE),\"\")","v":""},{"$f":"IF(I14<>\"\",IF(I14=$A14,\"ERR\",IF(OR(I14=$P14,I14=$W14,I14=$AD14,I14=$AK14),\"DUP\",IF(ISNA(VLOOKUP(I14,$A$8:$A$107,1,FALSE)),\"ERR\",IF(COUNTIF($I$8:$I$107,I14)>1,\"ERR\",IF($D14=VLOOKUP(I14,$A$8:$D$107,4,FALSE),\"CLUB\",\"OK\"))))),\"\")","v":""},null,{"$f":"IF(L14<>\"\",IF(L14=\"Victoire\",IF(VLOOKUP(I14,$A$8:$L$107,12,FALSE)=\"Défaite\",\"OK\",\"ERR\"),IF(L14=\"Défaite\",IF(VLOOKUP(I14,$A$8:$L$107,12,FALSE)=\"Victoire\",\"OK\",\"ERR\"),IF(L14=\"Nul\",IF(VLOOKUP(I14,$A$8:$L$107,12,FALSE)=\"Nul\",\"OK\",\"ERR\")))),\"\")","v":""},null,{"$f":"IF(L14=\"Victoire\",100-ROUNDDOWN(20*N14/$H14,0),\nIF(L14=\"Défaite\",10+ROUNDDOWN(20*VLOOKUP(I14,$A$8:$N$107,14,FALSE)/VLOOKUP(I14,$A$8:$H$107,8,FALSE),0),\nIF(AND(L14=\"Nul\",$N14<>$H14),40+(2*ROUNDDOWN(10*VLOOKUP(I14,$A$8:$N$107,14,FALSE)/VLOOKUP(I14,$A$8:$H$107,8,FALSE),0)-ROUNDDOWN(10*N14/$H14,0)),IF(AND(L14=\"Nul\",$N14=$H14),58,0))))","v":0},null,{"$f":"IF(P14<>\"\",VLOOKUP(P14,$A$8:$C$107,2,FALSE),\"\")","v":""},{"$f":"IF(P14<>\"\",IF(P14=$A14,\"ERR\",IF(OR(P14=$I14,P14=$W14,P14=$AD14,P14=$AK14),\"DUP\",IF(ISNA(VLOOKUP(P14,$A$8:$A$107,1,FALSE)),\"ERR\",IF(COUNTIF($I$8:$I$107,P14)>1,\"ERR\",IF($D14=VLOOKUP(P14,$A$8:$D$107,4,FALSE),\"CLUB\",\"OK\"))))),\"\")","v":""},null,{"$f":"IF(S14<>\"\",IF(S14=\"Victoire\",IF(VLOOKUP(P14,$A$8:$AO$107,19,FALSE)=\"Défaite\",\"OK\",\"ERR\"),IF(S14=\"Défaite\",IF(VLOOKUP(P14,$A$8:$AO$107,19,FALSE)=\"Victoire\",\"OK\",\"ERR\"),IF(S14=\"Nul\",IF(VLOOKUP(P14,$A$8:$AO$107,19,FALSE)=\"Nul\",\"OK\",\"ERR\")))),\"\")","v":""},null,{"$f":"IF(S14=\"Victoire\",100-ROUNDDOWN(20*U14/$H14,0),\nIF(S14=\"Défaite\",10+ROUNDDOWN(20*VLOOKUP(P14,$A$8:$AO$107,21,FALSE)/VLOOKUP(P14,$A$8:$H$107,8,FALSE),0),\nIF(AND(S14=\"Nul\",$U14<>$H14),40+(2*ROUNDDOWN(10*VLOOKUP(P14,$A$8:$AO$107,21,FALSE)/VLOOKUP(P14,$A$8:$H$107,8,FALSE),0)-ROUNDDOWN(10*U14/$H14,0)),IF(AND(S14=\"Nul\",$U14=$H14),58,0))))","v":0},null,{"$f":"IF(W14<>\"\",VLOOKUP(W14,$A$8:$C$107,2,FALSE),\"\")","v":""},{"$f":"IF(W14<>\"\",IF(W14=$A14,\"ERR\",IF(OR(W14=$P14,W14=$I14,W14=$AD14,W14=$AK14),\"DUP\",IF(ISNA(VLOOKUP(W14,$A$8:$A$107,1,FALSE)),\"ERR\",IF(COUNTIF($I$8:$I$107,W14)>1,\"ERR\",IF($D14=VLOOKUP(W14,$A$8:$D$107,4,FALSE),\"CLUB\",\"OK\"))))),\"\")","v":""},null,{"$f":"IF(Z14<>\"\",IF(Z14=\"Victoire\",IF(VLOOKUP(W14,$A$8:$AO$107,26,FALSE)=\"Défaite\",\"OK\",\"ERR\"),IF(Z14=\"Défaite\",IF(VLOOKUP(W14,$A$8:$AO$107,26,FALSE)=\"Victoire\",\"OK\",\"ERR\"),IF(Z14=\"Nul\",IF(VLOOKUP(W14,$A$8:$AO$107,26,FALSE)=\"Nul\",\"OK\",\"ERR\")))),\"\")","v":""},null,{"$f":"IF(Z14=\"Victoire\",100-ROUNDDOWN(20*AB14/$H14,0),\nIF(Z14=\"Défaite\",10+ROUNDDOWN(20*VLOOKUP(W14,$A$8:$AO$107,28,FALSE)/VLOOKUP(W14,$A$8:$H$107,8,FALSE),0),\nIF(AND(Z14=\"Nul\",$AB14<>$H14),40+(2*ROUNDDOWN(10*VLOOKUP(W14,$A$8:$AO$107,28,FALSE)/VLOOKUP(W14,$A$8:$H$107,8,FALSE),0)-ROUNDDOWN(10*AB14/$H14,0)),IF(AND(Z14=\"Nul\",$AB14=$H14),58,0))))","v":0},null,{"$f":"IF(AD14<>\"\",VLOOKUP(AD14,$A$8:$C$107,2,FALSE),\"\")","v":""},{"$f":"IF(AD14<>\"\",IF(AD14=$A14,\"ERR\",IF(OR(AD14=$P14,AD14=$W14,AD14=$I14,AD14=$AK14),\"DUP\",IF(ISNA(VLOOKUP(AD14,$A$8:$A$107,1,FALSE)),\"ERR\",IF(COUNTIF($I$8:$I$107,AD14)>1,\"ERR\",IF($D14=VLOOKUP(AD14,$A$8:$D$107,4,FALSE),\"CLUB\",\"OK\"))))),\"\")","v":""},null,{"$f":"IF(AG14<>\"\",IF(AG14=\"Victoire\",IF(VLOOKUP(AD14,$A$8:$AO$107,33,FALSE)=\"Défaite\",\"OK\",\"ERR\"),IF(AG14=\"Défaite\",IF(VLOOKUP(AD14,$A$8:$AO$107,33,FALSE)=\"Victoire\",\"OK\",\"ERR\"),IF(AG14=\"Nul\",IF(VLOOKUP(AD14,$A$8:$AO$107,33,FALSE)=\"Nul\",\"OK\",\"ERR\")))),\"\")","v":""},null,{"$f":"IF(AG14=\"Victoire\",100-ROUNDDOWN(20*AI14/$H14,0),\nIF(AG14=\"Défaite\",10+ROUNDDOWN(20*VLOOKUP(AD14,$A$8:$AO$107,35,FALSE)/VLOOKUP(AD14,$A$8:$H$107,8,FALSE),0),\nIF(AND(AG14=\"Nul\",$AI14<>$H14),40+(2*ROUNDDOWN(10*VLOOKUP(AD14,$A$8:$AO$107,35,FALSE)/VLOOKUP(AD14,$A$8:$H$107,8,FALSE),0)-ROUNDDOWN(10*AI14/$H14,0)),IF(AND(AG14=\"Nul\",$AI14=$H14),58,0))))","v":0},null,{"$f":"IF(AK14<>\"\",VLOOKUP(AK14,$A$8:$C$107,2,FALSE),\"\")","v":""},{"$f":"IF(AK14<>\"\",IF(AK14=$A14,\"ERR\",IF(OR(AK14=$P14,AK14=$W14,AK14=$AD14,AK14=$I14),\"DUP\",IF(ISNA(VLOOKUP(AK14,$A$8:$A$107,1,FALSE)),\"ERR\",IF(COUNTIF($I$8:$I$107,AK14)>1,\"ERR\",IF($D14=VLOOKUP(AK14,$A$8:$D$107,4,FALSE),\"CLUB\",\"OK\"))))),\"\")","v":""},null,{"$f":"IF(AN14<>\"\",IF(AN14=\"Victoire\",IF(VLOOKUP(AK14,$A$8:$AO$107,40,FALSE)=\"Défaite\",\"OK\",\"ERR\"),IF(AN14=\"Défaite\",IF(VLOOKUP(AK14,$A$8:$AO$107,40,FALSE)=\"Victoire\",\"OK\",\"ERR\"),IF(AN14=\"Nul\",IF(VLOOKUP(AK14,$A$8:$AO$107,40,FALSE)=\"Nul\",\"OK\",\"ERR\")))),\"\")","v":""},null,{"$f":"IF(AN14=\"Victoire\",100-ROUNDDOWN(20*AP14/$H14,0),\nIF(AN14=\"Défaite\",10+ROUNDDOWN(20*VLOOKUP(AK14,$A$8:$CB$107,42,FALSE)/VLOOKUP(AK14,$A$8:$H$107,8,FALSE),0),\nIF(AND(AN14=\"Nul\",$AP14<>$H14),40+(2*ROUNDDOWN(10*VLOOKUP(AK14,$A$8:$CB$107,42,FALSE)/VLOOKUP(AK14,$A$8:$H$107,8,FALSE),0)-ROUNDDOWN(10*AP14/$H14,0)),IF(AND(AN14=\"Nul\",$AP14=$H14),58,0))))","v":0},null,{"$f":"IF(AR14<>\"\",VLOOKUP(AR14,$A$8:$C$107,2,FALSE),\"\")","v":""},{"$f":"IF(AR14<>\"\",IF(AR14=$A14,\"ERR\",IF(OR(AR14=$I14,AR14=$P14,AR14=$W14,AR14=$AD14,AR14=$AK14),\"DUP\",IF(ISNA(VLOOKUP(AR14,$A$8:$A$107,1,FALSE)),\"ERR\",IF(COUNTIF($I$8:$I$107,AR14)>1,\"ERR\",IF($D14=VLOOKUP(AR14,$A$8:$D$107,4,FALSE),\"CLUB\",\"OK\"))))),\"\")","v":""},null,{"$f":"IF(AU14<>\"\",IF(AU14=\"Victoire\",IF(VLOOKUP(AR14,$A$8:$BL$107,47,FALSE)=\"Défaite\",\"OK\",\"ERR\"),IF(AU14=\"Défaite\",IF(VLOOKUP(AR14,$A$8:$BL$107,47,FALSE)=\"Victoire\",\"OK\",\"ERR\"),IF(AU14=\"Nul\",IF(VLOOKUP(AR14,$A$8:$BL$107,47,FALSE)=\"Nul\",\"OK\",\"ERR\")))),\"\")","v":""},null,{"$f":"IF(AU14=\"Victoire\",100-ROUNDDOWN(20*AW14/$H14,0),\nIF(AU14=\"Défaite\",10+ROUNDDOWN(20*VLOOKUP(AR14,$A$8:$CB$107,49,FALSE)/VLOOKUP(AR14,$A$8:$H$107,8,FALSE),0),\nIF(AND(AU14=\"Nul\",$AW14<>$H14),40+(2*ROUNDDOWN(10*VLOOKUP(AR14,$A$8:$CB$107,49,FALSE)/VLOOKUP(AR14,$A$8:$H$107,8,FALSE),0)-ROUNDDOWN(10*AW14/$H14,0)),IF(AND(AU14=\"Nul\",$AW14=$H14),58,0))))","v":0},null,{"$f":"IF(AY14<>\"\",VLOOKUP(AY14,$A$8:$C$107,2,FALSE),\"\")","v":""},{"$f":"IF(AY14<>\"\",IF(AY14=$A14,\"ERR\",IF(OR(AY14=$I14,AY14=$P14,AY14=$W14,AY14=$AD14,AY14=$AK14,AY14=$AR14),\"DUP\",IF(ISNA(VLOOKUP(AY14,$A$8:$A$107,1,FALSE)),\"ERR\",IF(COUNTIF($I$8:$I$107,AY14)>1,\"ERR\",IF($D14=VLOOKUP(AY14,$A$8:$D$107,4,FALSE),\"CLUB\",\"OK\"))))),\"\")","v":""},null,{"$f":"IF(BB14<>\"\",IF(BB14=\"Victoire\",IF(VLOOKUP(AY14,$A$8:$BL$107,54,FALSE)=\"Défaite\",\"OK\",\"ERR\"),IF(BB14=\"Défaite\",IF(VLOOKUP(AY14,$A$8:$BL$107,54,FALSE)=\"Victoire\",\"OK\",\"ERR\"),IF(BB14=\"Nul\",IF(VLOOKUP(AY14,$A$8:$BL$107,54,FALSE)=\"Nul\",\"OK\",\"ERR\")))),\"\")","v":""},null,{"$f":"IF(BB14=\"Victoire\",100-ROUNDDOWN(20*BD14/$H14,0),\nIF(BB14=\"Défaite\",10+ROUNDDOWN(20*VLOOKUP(AY14,$A$8:$CB$107,56,FALSE)/VLOOKUP(AY14,$A$8:$H$107,8,FALSE),0),\nIF(AND(BB14=\"Nul\",$BD14<>$H14),40+(2*ROUNDDOWN(10*VLOOKUP(AY14,$A$8:$CB$107,56,FALSE)/VLOOKUP(AY14,$A$8:$H$107,8,FALSE),0)-ROUNDDOWN(10*BD14/$H14,0)),IF(AND(BB14=\"Nul\",$BD14=$H14),58,0))))","v":0},null,{"$f":"IF(BF14<>\"\",VLOOKUP(BF14,$A$8:$C$107,2,FALSE),\"\")","v":""},{"$f":"IF(BF14<>\"\",IF(BF14=$A14,\"ERR\",IF(OR(BF14=$I14,BF14=$P14,BF14=$W14,BF14=$AD14,BF14=$AK14,BF14=$AR14,BF14=$AY14),\"DUP\",IF(ISNA(VLOOKUP(BF14,$A$8:$A$107,1,FALSE)),\"ERR\",IF(COUNTIF($I$8:$I$107,BF14)>1,\"ERR\",IF($D14=VLOOKUP(BF14,$A$8:$D$107,4,FALSE),\"CLUB\",\"OK\"))))),\"\")","v":""},null,{"$f":"IF(BI14<>\"\",IF(BI14=\"Victoire\",IF(VLOOKUP(BF14,$A$8:$BL$107,61,FALSE)=\"Défaite\",\"OK\",\"ERR\"),IF(BI14=\"Défaite\",IF(VLOOKUP(BF14,$A$8:$BL$107,61,FALSE)=\"Victoire\",\"OK\",\"ERR\"),IF(BI14=\"Nul\",IF(VLOOKUP(BF14,$A$8:$BL$107,61,FALSE)=\"Nul\",\"OK\",\"ERR\")))),\"\")","v":""},null,{"$f":"IF(BI14=\"Victoire\",100-ROUNDDOWN(20*BK14/$H14,0),\nIF(BI14=\"Défaite\",10+ROUNDDOWN(20*VLOOKUP(BF14,$A$8:$CB$107,63,FALSE)/VLOOKUP(BF14,$A$8:$H$107,8,FALSE),0),\nIF(AND(BI14=\"Nul\",$BK14<>$H14),40+(2*ROUNDDOWN(10*VLOOKUP(BF14,$A$8:$CB$107,63,FALSE)/VLOOKUP(BF14,$A$8:$H$107,8,FALSE),0)-ROUNDDOWN(10*BK14/$H14,0)),IF(AND(BI14=\"Nul\",$BK14=$H14),58,0))))","v":0},null,{"$f":"IF(BM14<>\"\",VLOOKUP(BM14,$A$8:$C$107,2,FALSE),\"\")","v":""},{"$f":"IF(BM14<>\"\",IF(BM14=$A14,\"ERR\",IF(OR(BM14=$I14,BM14=$P14,BM14=$W14,BM14=$AD14,BM14=$AK14,BM14=$AR14,BM14=$AY14,BM14=$BF14),\"DUP\",IF(ISNA(VLOOKUP(BM14,$A$8:$A$107,1,FALSE)),\"ERR\",IF(COUNTIF($I$8:$I$107,BM14)>1,\"ERR\",IF($D14=VLOOKUP(BM14,$A$8:$D$107,4,FALSE),\"CLUB\",\"OK\"))))),\"\")","v":""},null,{"$f":"IF(BP14<>\"\",IF(BP14=\"Victoire\",IF(VLOOKUP(BM14,$A$8:$BS$107,68,FALSE)=\"Défaite\",\"OK\",\"ERR\"),IF(BP14=\"Défaite\",IF(VLOOKUP(BM14,$A$8:$BS$107,68,FALSE)=\"Victoire\",\"OK\",\"ERR\"),IF(BP14=\"Nul\",IF(VLOOKUP(BM14,$A$8:$BS$107,68,FALSE)=\"Nul\",\"OK\",\"ERR\")))),\"\")","v":""},null,{"$f":"IF(BP14=\"Victoire\",100-ROUNDDOWN(20*BR14/$H14,0),\nIF(BP14=\"Défaite\",10+ROUNDDOWN(20*VLOOKUP(BM14,$A$8:$CB$107,70,FALSE)/VLOOKUP(BM14,$A$8:$H$107,8,FALSE),0),\nIF(AND(BP14=\"Nul\",$BR14<>$H14),40+(2*ROUNDDOWN(10*VLOOKUP(BM14,$A$8:$CB$107,70,FALSE)/VLOOKUP(BM14,$A$8:$H$107,8,FALSE),0)-ROUNDDOWN(10*BR14/$H14,0)),IF(AND(BP14=\"Nul\",$BR14=$H14),58,0))))","v":0},null,{"$f":"IF($I14<>\"\",VLOOKUP($I14,$A$8:$N$107,5,FALSE),0)+IF($P14<>\"\",VLOOKUP($P14,$A$8:$N$107,5,FALSE),0)+IF($W14<>\"\",VLOOKUP($W14,$A$8:$N$107,5,FALSE),0)+IF($AD14<>\"\",VLOOKUP($AD14,$A$8:$N$107,5,FALSE),0)+IF($AK14<>\"\",VLOOKUP($AK14,$A$8:$N$107,5,FALSE),0)+IF($AR14<>\"\",VLOOKUP($AR14,$A$8:$N$107,5,FALSE),0)+IF($AY14<>\"\",VLOOKUP($AY14,$A$8:$N$107,5,FALSE),0)+IF($BF14<>\"\",VLOOKUP($BF14,$A$8:$N$107,5,FALSE),0)+IF($BM14<>\"\",VLOOKUP($BM14,$A$8:$N$107,5,FALSE),0)","v":0}]
[{"$nulls":4},0,null,{"$f":"IF($F15<>\"\",VLOOKUP(F15,Armies!$A$1:$C$300,3,FALSE),\"\")","v":""},null,null,{"$f":"IF(I15<>\"\",VLOOKUP(I15,$A$8:$C$107,2,FALSE),\"\")","v":""},{"$f":"IF(I15<>\"\",IF(I15=$A15,\"ERR\",IF(OR(I15=$P15,I15=$W15,I15=$AD15,I15=$AK15),\"DUP\",IF(ISNA(VLOOKUP(I15,$A$8:$A$107,1,FALSE)),\"ERR\",IF(COUNTIF($I$8:$I$107,I15)>1,\"ERR\",IF($D15=VLOOKUP(I15,$A$8:$D$107,4,FALSE),\"CLUB\",\"OK\"))))),\"\")","v":""},null,{"$f":"IF(L15<>\"\",IF(L15=\"Victoire\",IF(VLOOKUP(I15,$A$8:$L$107,12,FALSE)=\"Défaite\",\"OK\",\"ERR\"),IF(L15=\"Défaite\",IF(VLOOKUP(I15,$A$8:$L$107,12,FALSE)=\"Victoire\",\"OK\",\"ERR\"),IF(L15=\"Nul\",IF(VLOOKUP(I15,$A$8:$L$107,12,FALSE)=\"Nul\",\"OK\",\"ERR\")))),\"\")","v":""},null,{"$f":"IF(L15=\"Victoire\",100-ROUNDDOWN(20*N15/$H15,0),\nIF(L15=\"Défaite\",10+ROUNDDOWN(20*VLOOKUP(I15,$A$8:$N$107,14,FALSE)/VLOOKUP(I15,$A$8:$H$107,8,FALSE),0),\nIF(AND(L15=\"Nul\",$N15<>$H15),40+(2*ROUNDDOWN(10*VLOOKUP(I15,$A$8:$N$107,14,FALSE)/VLOOKUP(I15,$A$8:$H$107,8,FALSE),0)-ROUNDDOWN(10*N15/$H15,0)),IF(AND(L15=\"Nul\",$N15=$H15),58,0))))","v":0},null,{"$f":"IF(P15<>\"\",VLOOKUP(P15,$A$8:$C$107,2,FALSE),\"\")","v":""},{"$f":"IF(P15<>\"\",IF(P15=$A15,\"ERR\",IF(OR(P15=$I15,P15=$W15,P15=$AD15,P15=$AK15),\"DUP\",IF(ISNA(VLOOKUP(P15,$A$8:$A$107,1,FALSE)),\"ERR\",IF(COUNTIF($I$8:$I$107,P15)>1,\"ERR\",IF($D15=VLOOKUP(P15,$A$8:$D$107,4,FALSE),\"CLUB\",\"OK\"))))),\"\")","v":""},null,{"$f":"IF(S15<>\"\",IF(S15=\"Victoire\",IF(VLOOKUP(P15,$A$8:$AO$107,19,FALSE)=\"Défaite\",\"OK\",\"ERR\"),IF(S15=\"Défaite\",IF(VLOOKUP(P15,$A$8:$AO$107,19,FALSE)=\"Victoire\",\"OK\",\"ERR\"),IF(S15=\"Nul\",IF(VLOOKUP(P15,$A$8:$AO$107,19,FALSE)=\"Nul\",\"OK\",\"ERR\")))),\"\")","v":""},null,{"$f":"IF(S15=\"Victoire\",100-ROUNDDOWN(20*U15/$H15,0),\nIF(S15=\"Défaite\",10+ROUNDDOWN(20*VLOOKUP(P15,$A$8:$AO$107,21,FALSE)/VLOOKUP(P15,$A$8:$H$107,8,FALSE),0),\nIF(AND(S15=\"Nul\",$U15<>$H15),40+(2*ROUNDDOWN(10*VLOOKUP(P15,$A$8:$AO$107,21,FALSE)/VLOOKUP(P15,$A$8:$H$107,8,FALSE),0)-ROUNDDOWN(10*U15/$H15,0)),IF(AND(S15=\"Nul\",$U15=$H15),58,0))))","v":0},null,{"$f":"IF(W15<>\"\",VLOOKUP(W15,$A$8:$C$107,2,FALSE),\"\")","v":""},{"$f":"IF(W15<>\"\",IF(W15=$A15,\"ERR\",IF(OR(W15=$P15,W15=$I15,W15=$AD15,W15=$AK15),\"DUP\",IF(ISNA(VLOOKUP(W15,$A$8:$A$107,1,FALSE)),\"ERR\",IF(COUNTIF($I$8:$I$107,W15)>1,\"ERR\",IF($D15=VLOOKUP(W15,$A$8:$D$107,4,FALSE),\"CLUB\",\"OK\"))))),\"\")","v":""},null,{"$f":"IF(Z15<>\"\",IF(Z15=\"Victoire\",IF(VLOOKUP(W15,$A$8:$AO$107,26,FALSE)=\"Défaite\",\"OK\",\"ERR\"),IF(Z15=\"Défaite\",IF(VLOOKUP(W15,$A$8:$AO$107,26,FALSE)=\"Victoire\",\"OK\",\"ERR\"),IF(Z15=\"Nul\",IF(VLOOKUP(W15,$A$8:$AO$107,26,FALSE)=\"Nul\",\"OK\",\"ERR\")))),\"\")","v":""},null,{"$f":"IF(Z15=\"Victoire\",100-ROUNDDOWN(20*AB15/$H15,0),\nIF(Z15=\"Défaite\",10+ROUNDDOWN(20*VLOOKUP(W15,$A$8:$AO$107,28,FALSE)/VLOOKUP(W15,$A$8:$H$107,8,FALSE),0),\nIF(AND(Z15=\"Nul\",$AB15<>$H15),40+(2*ROUNDDOWN(10*VLOOKUP(W15,$A$8:$AO$107,28,FALSE)/VLOOKUP(W15,$A$8:$H$107,8,FALSE),0)-ROUNDDOWN(10*AB15/$H15,0)),IF(AND(Z15=\"Nul\",$AB15=$H15),58,0))))","v":0},null,{"$f":"IF(AD15<>\"\",VLOOKUP(AD15,$A$8:$C$107,2,FALSE),\"\")","v":""},{"$f":"IF(AD15<>\"\",IF(AD15=$A15,\"ERR\",IF(OR(AD15=$P15,AD15=$W15,AD15=$I15,AD15=$AK15),\"DUP\",IF(ISNA(VLOOKUP(AD15,$A$8:$A$107,1,FALSE)),\"ERR\",IF(COUNTIF($I$8:$I$107,AD15)>1,\"ERR\",IF($D15=VLOOKUP(AD15,$A$8:$D$107,4,FALSE),\"CLUB\",\"OK\"))))),\"\")","v":""},null,{"$f":"IF(AG15<>\"\",IF(AG15=\"Victoire\",IF(VLOOKUP(AD15,$A$8:$AO$107,33,FALSE)=\"Défaite\",\"OK\",\"ERR\"),IF(AG15=\"Défaite\",IF(VLOOKUP(AD15,$A$8:$AO$107,33,FALSE)=\"Victoire\",\"OK\",\"ERR\"),IF(AG15=\"Nul\",IF(VLOOKUP(AD15,$A$8:$AO$107,33,FALSE)=\"Nul\",\"OK\",\"ERR\")))),\"\")","v":""},null,{"$f":"IF(AG15=\"Victoire\",100-ROUNDDOWN(20*AI15/$H15,0),\nIF(AG15=\"Défaite\",10+ROUNDDOWN(20*VLOOKUP(AD15,$A$8:$AO$107,35,FALSE)/VLOOKUP(AD15,$A$8:$H$107,8,FALSE),0),\nIF(AND(AG15=\"Nul\",$AI15<>$H15),40+(2*ROUNDDOWN(10*VLOOKUP(AD15,$A$8:$AO$107,35,FALSE)/VLOOKUP(AD15,$A$8:$H$107,8,FALSE),0)-ROUNDDOWN(10*AI15/$H15,0)),IF(AND(AG15=\"Nul\",$AI15=$H15),58,0))))","v":0},null,{"$f":"IF(AK15<>\"\",VLOOKUP(AK15,$A$8:$C$107,2,FALSE),\"\")","v":""},{"$f":"IF(AK15<>\"\",IF(AK15=$A15,\"ERR\",IF(OR(AK15=$P15,AK15=$W15,AK15=$AD15,AK15=$I15),\"DUP\",IF(ISNA(VLOOKUP(AK15,$A$8:$A$107,1,FALSE)),\"ERR\",IF(COUNTIF($I$8:$I$107,AK15)>1,\"ERR\",IF($D15=VLOOKUP(AK15,$A$8:$D$107,4,FALSE),\"CLUB\",\"OK\"))))),\"\")","v":""},null,{"$f":"IF(AN15<>\"\",IF(AN15=\"Victoire\",IF(VLOOKUP(AK15,$A$8:$AO$107,40,FALSE)=\"Défaite\",\"OK\",\"ERR\"),IF(AN15=\"Défaite\",IF(VLOOKUP(AK15,$A$8:$AO$107,40,FALSE)=\"Victoire\",\"OK\",\"ERR\"),IF(AN15=\"Nul\",IF(VLOOKUP(AK15,$A$8:$AO$107,40,FALSE)=\"Nul\",\"OK\",\"ERR\")))),\"\")","v":""},null,{"$f":"IF(AN15=\"Victoire\",100-ROUNDDOWN(20*AP15/$H15,0),\nIF(AN15=\"Défaite\",10+ROUNDDOWN(20*VLOOKUP(AK15,$A$8:$CB$107,42,FALSE)/VLOOKUP(AK15,$A$8:$H$107,8,FALSE),0),\nIF(AND(AN15=\"Nul\",$AP15<>$H15),40+(2*ROUNDDOWN(10*VLOOKUP(AK15,$A$8:$CB$107,42,FALSE)/VLOOKUP(AK15,$A$8:$H$107,8,FALSE),0)-ROUNDDOWN(10*AP15/$H15,0)),IF(AND(AN15=\"Nul\",$AP15=$H15),58,0))))","v":0},null,{"$f":"IF(AR15<>\"\",VLOOKUP(AR15,$A$8:$C$107,2,FALSE),\"\")","v":""},{"$f":"IF(AR15<>\"\",IF(AR15=$A15,\"ERR\",IF(OR(AR15=$I15,AR15=$P15,AR15=$W15,AR15=$AD15,AR15=$AK15),\"DUP\",IF(ISNA(VLOOKUP(AR15,$A$8:$A$107,1,FALSE)),\"ERR\",IF(COUNTIF($I$8:$I$107,AR15)>1,\"ERR\",IF($D15=VLOOKUP(AR15,$A$8:$D$107,4,FALSE),\"CLUB\",\"OK\"))))),\"\")","v":""},null,{"$f":"IF(AU15<>\"\",IF(AU15=\"Victoire\",IF(VLOOKUP(AR15,$A$8:$BL$107,47,FALSE)=\"Défaite\",\"OK\",\"ERR\"),IF(AU15=\"Défaite\",IF(VLOOKUP(AR15,$A$8:$BL$107,47,FALSE)=\"Victoire\",\"OK\",\"ERR\"),IF(AU15=\"Nul\",IF(VLOOKUP(AR15,$A$8:$BL$107,47,FALSE)=\"Nul\",\"OK\",\"ERR\")))),\"\")","v":""},null,{"$f":"IF(AU15=\"Victoire\",100-ROUNDDOWN(20*AW15/$H15,0),\nIF(AU15=\"Défaite\",10+ROUNDDOWN(20*VLOOKUP(AR15,$A$8:$CB$107,49,FALSE)/VLOOKUP(AR15,$A$8:$H$107,8,FALSE),0),\nIF(AND(AU15=\"Nul\",$AW15<>$H15),40+(2*ROUNDDOWN(10*VLOOKUP(AR15,$A$8:$CB$107,49,FALSE)/VLOOKUP(AR15,$A$8:$H$107,8,FALSE),0)-ROUNDDOWN(10*AW15/$H15,0)),IF(AND(AU15=\"Nul\",$AW15=$H15),58,0))))","v":0},null,{"$f":"IF(AY15<>\"\",VLOOKUP(AY15,$A$8:$C$107,2,FALSE),\"\")","v":""},{"$f":"IF(AY15<>\"\",IF(AY15=$A15,\"ERR\",IF(OR(AY15=$I15,AY15=$P15,AY15=$W15,AY15=$AD15,AY15=$AK15,AY15=$AR15),\"DUP\",IF(ISNA(VLOOKUP(AY15,$A$8:$A$107,1,FALSE)),\"ERR\",IF(COUNTIF($I$8:$I$107,AY15)>1,\"ERR\",IF($D15=VLOOKUP(AY15,$A$8:$D$107,4,FALSE),\"CLUB\",\"OK\"))))),\"\")","v":""},null,{"$f":"IF(BB15<>\"\",IF(BB15=\"Victoire\",IF(VLOOKUP(AY15,$A$8:$BL$107,54,FALSE)=\"Défaite\",\"OK\",\"ERR\"),IF(BB15=\"Défaite\",IF(VLOOKUP(AY15,$A$8:$BL$107,54,FALSE)=\"Victoire\",\"OK\",\"ERR\"),IF(BB15=\"Nul\",IF(VLOOKUP(AY15,$A$8:$BL$107,54,FALSE)=\"Nul\",\"OK\",\"ERR\")))),\"\")","v":""},null,{"$f":"IF(BB15=\"Victoire\",100-ROUNDDOWN(20*BD15/$H15,0),\nIF(BB15=\"Défaite\",10+ROUNDDOWN(20*VLOOKUP(AY15,$A$8:$CB$107,56,FALSE)/VLOOKUP(AY15,$A$8:$H$107,8,FALSE),0),\nIF(AND(BB15=\"Nul\",$BD15<>$H15),40+(2*ROUNDDOWN(10*VLOOKUP(AY15,$A$8:$CB$107,56,FALSE)/VLOOKUP(AY15,$A$8:$H$107,8,FALSE),0)-ROUNDDOWN(10*BD15/$H15,0)),IF(AND(BB15=\"Nul\",$BD15=$H15),58,0))))","v":0},null,{"$f":"IF(BF15<>\"\",VLOOKUP(BF15,$A$8:$C$107,2,FALSE),\"\")","v":""},{"$f":"IF(BF15<>\"\",IF(BF15=$A15,\"ERR\",IF(OR(BF15=$I15,BF15=$P15,BF15=$W15,BF15=$AD15,BF15=$AK15,BF15=$AR15,BF15=$AY15),\"DUP\",IF(ISNA(VLOOKUP(BF15,$A$8:$A$107,1,FALSE)),\"ERR\",IF(COUNTIF($I$8:$I$107,BF15)>1,\"ERR\",IF($D15=VLOOKUP(BF15,$A$8:$D$107,4,FALSE),\"CLUB\",\"OK\"))))),\"\")","v":""},null,{"$f":"IF(BI15<>\"\",IF(BI15=\"Victoire\",IF(VLOOKUP(BF15,$A$8:$BL$107,61,FALSE)=\"Défaite\",\"OK\",\"ERR\"),IF(BI15=\"Défaite\",IF(VLOOKUP(BF15,$A$8:$BL$107,61,FALSE)=\"Victoire\",\"OK\",\"ERR\"),IF(BI15=\"Nul\",IF(VLOOKUP(BF15,$A$8:$BL$107,61,FALSE)=\"Nul\",\"OK\",\"ERR\")))),\"\")","v":""},null,{"$f":"IF(BI15=\"Victoire\",100-ROUNDDOWN(20*BK15/$H15,0),\nIF(BI15=\"Défaite\",10+ROUNDDOWN(20*VLOOKUP(BF15,$A$8:$CB$107,63,FALSE)/VLOOKUP(BF15,$A$8:$H$107,8,FALSE),0),\nIF(AND(BI15=\"Nul\",$BK15<>$H15),40+(2*ROUNDDOWN(10*VLOOKUP(BF15,$A$8:$CB$107,63,FALSE)/VLOOKUP(BF15,$A$8:$H$107,8,FALSE),0)-ROUNDDOWN(10*BK15/$H15,0)),IF(AND(BI15=\"Nul\",$BK15=$H15),58,0))))","v":0},null,{"$f":"IF(BM15<>\"\",VLOOKUP(BM15,$A$8:$C$107,2,FALSE),\"\")","v":""},{"$f":"IF(BM15<>\"\",IF(BM15=$A15,\"ERR\",IF(OR(BM15=$I15,BM15=$P15,BM15=$W15,BM15=$AD15,BM15=$AK15,BM15=$AR15,BM15=$AY15,BM15=$BF15),\"DUP\",IF(ISNA(VLOOKUP(BM15,$A$8:$A$107,1,FALSE)),\"ERR\",IF(COUNTIF($I$8:$I$107,BM15)>1,\"ERR\",IF($D15=VLOOKUP(BM15,$A$8:$D$107,4,FALSE),\"CLUB\",\"OK\"))))),\"\")","v":""},null,{"$f":"IF(BP15<>\"\",IF(BP15=\"Victoire\",IF(VLOOKUP(BM15,$A$8:$BS$107,68,FALSE)=\"Défaite\",\"OK\",\"ERR\"),IF(BP15=\"Défaite\",IF(VLOOKUP(BM15,$A$8:$BS$107,68,FALSE)=\"Victoire\",\"OK\",\"ERR\"),IF(BP15=\"Nul\",IF(VLOOKUP(BM15,$A$8:$BS$107,68,FALSE)=\"Nul\",\"OK\",\"ERR\")))),\"\")","v":""},null,{"$f":"IF(BP15=\"Victoire\",100-ROUNDDOWN(20*BR15/$H15,0),\nIF(BP15=\"Défaite\",10+ROUNDDOWN(20*VLOOKUP(BM15,$A$8:$CB$107,70,FALSE)/VLOOKUP(BM15,$A$8:$H$107,8,FALSE),0),\nIF(AND(BP15=\"Nul\",$BR15<>$H15),40+(2*ROUNDDOWN(10*VLOOKUP(BM15,$A$8:$CB$107,70,FALSE)/VLOOKUP(BM15,$A$8:$H$107,8,FALSE),0)-ROUNDDOWN(10*BR15/$H15,0)),IF(AND(BP15=\"Nul\",$BR15=$H15),58,0))))","v":0},null,{"$f":"IF($I15<>\"\",VLOOKUP($I15,$A$8:$N$107,5,FALSE),0)+IF($P15<>\"\",VLOOKUP($P15,$A$8:$N$107,5,FALSE),0)+IF($W15<>\"\",VLOOKUP($W15,$A$8:$N$107,5,FALSE),0)+IF($AD15<>\"\",VLOOKUP($AD15,$A$8:$N$107,5,FALSE),0)+IF($AK15<>\"\",VLOOKUP($AK15,$A$8:$N$107,5,FALSE),0)+IF($AR15<>\"\",VLOOKUP($AR15,$A$8:$N$107,5,FALSE),0)+IF($AY15<>\"\",VLOOKUP($AY15,$A$8:$N$107,5,FALSE),0)+IF($BF15<>\"\",VLOOKUP($BF15,$A$8:$N$107,5,FALSE),0)+IF($BM15<>\"\",VLOOKUP($BM15,$A$8:$N$107,5,FALSE),0)","v":0}]
[{"$nulls":4},0,null,{"$f":"IF($F16<>\"\",VLOOKUP(F16,Armies!$A$1:$C$300,3,FALSE),\"\")","v":""},null,null,{"$f":"IF(I16<>\"\",VLOOKUP(I16,$A$8:$C$107,2,FALSE),\"\")","v":""},{"$f":"IF(I16<>\"\",IF(I16=$A16,\"ERR\",IF(OR(I16=$P16,I16=$W16,I16=$AD16,I16=$AK16),\"DUP\",IF(ISNA(VLOOKUP(I16,$A$8:$A$107,1,FALSE)),\"ERR\",IF(COUNTIF($I$8:$I$107,I16)>1,\"ERR\",IF($D16=VLOOKUP(I16,$A$8:$D$107,4,FALSE),\"CLUB\",\"OK\"))))),\"\")","v":""},null,{"$f":"IF(L16<>\"\",IF(L16=\"Victoire\",IF(VLOOKUP(I16,$A$8:$L$107,12,FALSE)=\"Défaite\",\"OK\",\"ERR\"),IF(L16=\"Défaite\",IF(VLOOKUP(I16,$A$8:$L$107,12,FALSE)=\"Victoire\",\"OK\",\"ERR\"),IF(L16=\"Nul\",IF(VLOOKUP(I16,$A$8:$L$107,12,FALSE)=\"Nul\",\"OK\",\"ERR\")))),\"\")","v":""},null,{"$f":"IF(L16=\"Victoire\",100-ROUNDDOWN(20*N16/$H16,0),\nIF(L16=\"Défaite\",10+ROUNDDOWN(20*VLOOKUP(I16,$A$8:$N$107,14,FALSE)/VLOOKUP(I16,$A$8:$H$107,8,FALSE),0),\nIF(AND(L16=\"Nul\",$N16<>$H16),40+(2*ROUNDDOWN(10*VLOOKUP(I16,$A$8:$N$107,14,FALSE)/VLOOKUP(I16,$A$8:$H$107,8,FALSE),0)-ROUNDDOWN(10*N16/$H16,0)),IF(AND(L16=\"Nul\",$N16=$H16),58,0))))","v":0},null,{"$f":"IF(P16<>\"\",VLOOKUP(P16,$A$8:$C$107,2,FALSE),\"\")","v":""},{"$f":"IF(P16<>\"\",IF(P16=$A16,\"ERR\",IF(OR(P16=$I16,P16=$W16,P16=$AD16,P16=$AK16),\"DUP\",IF(ISNA(VLOOKUP(P16,$A$8:$A$107,1,FALSE)),\"ERR\",IF(COUNTIF($I$8:$I$107,P16)>1,\"ERR\",IF($D16=VLOOKUP(P16,$A$8:$D$107,4,FALSE),\"CLUB\",\"OK\"))))),\"\")","v":""},null,{"$f":"IF(S16<>\"\",IF(S16=\"Victoire\",IF(VLOOKUP(P16,$A$8:$AO$107,19,FALSE)=\"Défaite\",\"OK\",\"ERR\"),IF(S16=\"Défaite\",IF(VLOOKUP(P16,$A$8:$AO$107,19,FALSE)=\"Victoire\",\"OK\",\"ERR\"),IF(S16=\"Nul\",IF(VLOOKUP(P16,$A$8:$AO$107,19,FALSE)=\"Nul\",\"OK\",\"ERR\")))),\"\")","v":""},null,{"$f":"IF(S16=\"Victoire\",100-ROUNDDOWN(20*U16/$H16,0),\nIF(S16=\"Défaite\",10+ROUNDDOWN(20*VLOOKUP(P16,$A$8:$AO$107,21,FALSE)/VLOOKUP(P16,$A$8:$H$107,8,FALSE),0),\nIF(AND(S16=\"Nul\",$U16<>$H16),40+(2*ROUNDDOWN(10*VLOOKUP(P16,$A$8:$AO$107,21,FALSE)/VLOOKUP(P16,$A$8:$H$107,8,FALSE),0)-ROUNDDOWN(10*U16/$H16,0)),IF(AND(S16=\"Nul\",$U16=$H16),58,0))))","v":0},null,{"$f":"IF(W16<>\"\",VLOOKUP(W16,$A$8:$C$107,2,FALSE),\"\")","v":""},{"$f":"IF(W16<>\"\",IF(W16=$A16,\"ERR\",IF(OR(W16=$P16,W16=$I16,W16=$AD16,W16=$AK16),\"DUP\",IF(ISNA(VLOOKUP(W16,$A$8:$A$107,1,FALSE)),\"ERR\",IF(COUNTIF($I$8:$I$107,W16)>1,\"ERR\",IF($D16=VLOOKUP(W16,$A$8:$D$107,4,FALSE),\"CLUB\",\"OK\"))))),\"\")","v":""},null,{"$f":"IF(Z16<>\"\",IF(Z16=\"Victoire\",IF(VLOOKUP(W16,$A$8:$AO$107,26,FALSE)=\"Défaite\",\"OK\",\"ERR\"),IF(Z16=\"Défaite\",IF(VLOOKUP(W16,$A$8:$AO$107,26,FALSE)=\"Victoire\",\"OK\",\"ERR\"),IF(Z16=\"Nul\",IF(VLOOKUP(W16,$A$8:$AO$107,26,FALSE)=\"Nul\",\"OK\",\"ERR\")))),\"\")","v":""},null,{"$f":"IF(Z16=\"Victoire\",100-ROUNDDOWN(20*AB16/$H16,0),\nIF(Z16=\"Défaite\",10+ROUNDDOWN(20*VLOOKUP(W16,$A$8:$AO$107,28,FALSE)/VLOOKUP(W16,$A$8:$H$107,8,FALSE),0),\nIF(AND(Z16=\"Nul\",$AB16<>$H16),40+(2*ROUNDDOWN(10*VLOOKUP(W16,$A$8:$AO$107,28,FALSE)/VLOOKUP(W16,$A$8:$H$107,8,FALSE),0)-ROUNDDOWN(10*AB16/$H16,0)),IF(AND(Z16=\"Nul\",$AB16=$H16),58,0))))","v":0},null,{"$f":"IF(AD16<>\"\",VLOOKUP(AD16,$A$8:$C$107,2,FALSE),\"\")","v":""},{"$f":"IF(AD16<>\"\",IF(AD16=$A16,\"ERR\",IF(OR(AD16=$P16,AD16=$W16,AD16=$I16,AD16=$AK16),\"DUP\",IF(ISNA(VLOOKUP(AD16,$A$8:$A$107,1,FALSE)),\"ERR\",IF(COUNTIF($I$8:$I$107,AD16)>1,\"ERR\",IF($D16=VLOOKUP(AD16,$A$8:$D$107,4,FALSE),\"CLUB\",\"OK\"))))),\"\")","v":""},null,{"$f":"IF(AG16<>\"\",IF(AG16=\"Victoire\",IF(VLOOKUP(AD16,$A$8:$AO$107,33,FALSE)=\"Défaite\",\"OK\",\"ERR\"),IF(AG16=\"Défaite\",IF(VLOOKUP(AD16,$A$8:$AO$107,33,FALSE)=\"Victoire\",\"OK\",\"ERR\"),IF(AG16=\"Nul\",IF(VLOOKUP(AD16,$A$8:$AO$107,33,FALSE)=\"Nul\",\"OK\",\"ERR\")))),\"\")","v":""},null,{"$f":"IF(AG16=\"Victoire\",100-ROUNDDOWN(20*AI16/$H16,0),\nIF(AG16=\"Défaite\",10+ROUNDDOWN(20*VLOOKUP(AD16,$A$8:$AO$107,35,FALSE)/VLOOKUP(AD16,$A$8:$H$107,8,FALSE),0),\nIF(AND(AG16=\"Nul\",$AI16<>$H16),40+(2*ROUNDDOWN(10*VLOOKUP(AD16,$A$8:$AO$107,35,FALSE)/VLOOKUP(AD16,$A$8:$H$107,8,FALSE),0)-ROUNDDOWN(10*AI16/$H16,0)),IF(AND(AG16=\"Nul\",$AI16=$H16),58,0))))","v":0},null,{"$f":"IF(AK16<>\"\",VLOOKUP(AK16,$A$8:$C$107,2,FALSE),\"\")","v":""},{"$f":"IF(AK16<>\"\",IF(AK16=$A16,\"ERR\",IF(OR(AK16=$P16,AK16=$W16,AK16=$AD16,AK16=$I16),\"DUP\",IF(ISNA(VLOOKUP(AK16,$A$8:$A$107,1,FALSE)),\"ERR\",IF(COUNTIF($I$8:$I$107,AK16)>1,\"ERR\",IF($D16=VLOOKUP(AK16,$A$8:$D$107,4,FALSE),\"CLUB\",\"OK\"))))),\"\")","v":""},null,{"$f":"IF(AN16<>\"\",IF(AN16=\"Victoire\",IF(VLOOKUP(AK16,$A$8:$AO$107,40,FALSE)=\"Défaite\",\"OK\",\"ERR\"),IF(AN16=\"Défaite\",IF(VLOOKUP(AK16,$A$8:$AO$107,40,FALSE)=\"Victoire\",\"OK\",\"ERR\"),IF(AN16=\"Nul\",IF(VLOOKUP(AK16,$A$8:$AO$107,40,FALSE)=\"Nul\",\"OK\",\"ERR\")))),\"\")","v":""},null,{"$f":"IF(AN16=\"Victoire\",100-ROUNDDOWN(20*AP16/$H16,0),\nIF(AN16=\"Défaite\",10+ROUNDDOWN(20*VLOOKUP(AK16,$A$8:$CB$107,42,FALSE)/VLOOKUP(AK16,$A$8:$H$107,8,FALSE),0),\nIF(AND(AN16=\"Nul\",$AP16<>$H16),40+(2*ROUNDDOWN(10*VLOOKUP(AK16,$A$8:$CB$107,42,FALSE)/VLOOKUP(AK16,$A$8:$H$107,8,FALSE),0)-ROUNDDOWN(10*AP16/$H16,0)),IF(AND(AN16=\"Nul\",$AP16=$H16),58,0))))","v":0},null,{"$f":"IF(AR16<>\"\",VLOOKUP(AR16,$A$8:$C$107,2,FALSE),\"\")","v":""},{"$f":"IF(AR16<>\"\",IF(AR16=$A16,\"ERR\",IF(OR(AR16=$I16,AR16=$P16,AR16=$W16,AR16=$AD16,AR16=$AK16),\"DUP\",IF(ISNA(VLOOKUP(AR16,$A$8:$A$107,1,FALSE)),\"ERR\",IF(COUNTIF($I$8:$I$107,AR16)>1,\"ERR\",IF($D16=VLOOKUP(AR16,$A$8:$D$107,4,FALSE),\"CLUB\",\"OK\"))))),\"\")","v":""},null,{"$f":"IF(AU16<>\"\",IF(AU16=\"Victoire\",IF(VLOOKUP(AR16,$A$8:$BL$107,47,FALSE)=\"Défaite\",\"OK\",\"ERR\"),IF(AU16=\"Défaite\",IF(VLOOKUP(AR16,$A$8:$BL$107,47,FALSE)=\"Victoire\",\"OK\",\"ERR\"),IF(AU16=\"Nul\",IF(VLOOKUP(AR16,$A$8:$BL$107,47,FALSE)=\"Nul\",\"OK\",\"ERR\")))),\"\")","v":""},null,{"$f":"IF(AU16=\"Victoire\",100-ROUNDDOWN(20*AW16/$H16,0),\nIF(AU16=\"Défaite\",10+ROUNDDOWN(20*VLOOKUP(AR16,$A$8:$CB$107,49,FALSE)/VLOOKUP(AR16,$A$8:$H$107,8,FALSE),0),\nIF(AND(AU16=\"Nul\",$AW16<>$H16),40+(2*ROUNDDOWN(10*VLOOKUP(AR16,$A$8:$CB$107,49,FALSE)/VLOOKUP(AR16,$A$8:$H$107,8,FALSE),0)-ROUNDDOWN(10*AW16/$H16,0)),IF(AND(AU16=\"Nul\",$AW16=$H16),58,0))))","v":0},null,{"$f":"IF(AY16<>\"\",VLOOKUP(AY16,$A$8:$C$107,2,FALSE),\"\")","v":""},{"$f":"IF(AY16<>\"\",IF(AY16=$A16,\"ERR\",IF(OR(AY16=$I16,AY16=$P16,AY16=$W16,AY16=$AD16,AY16=$AK16,AY16=$AR16),\"DUP\",IF(ISNA(VLOOKUP(AY16,$A$8:$A$107,1,FALSE)),\"ERR\",IF(COUNTIF($I$8:$I$107,AY16)>1,\"ERR\",IF($D16=VLOOKUP(AY16,$A$8:$D$107,4,FALSE),\"CLUB\",\"OK\"))))),\"\")","v":""},null,{"$f":"IF(BB16<>\"\",IF(BB16=\"Victoire\",IF(VLOOKUP(AY16,$A$8:$BL$107,54,FALSE)=\"Défaite\",\"OK\",\"ERR\"),IF(BB16=\"Défaite\",IF(VLOOKUP(AY16,$A$8:$BL$107,54,FALSE)=\"Victoire\",\"OK\",\"ERR\"),IF(BB16=\"Nul\",IF(VLOOKUP(AY16,$A$8:$BL$107,54,FALSE)=\"Nul\",\"OK\",\"ERR\")))),\"\")","v":""},null,{"$f":"IF(BB16=\"Victoire\",100-ROUNDDOWN(20*BD16/$H16,0),\nIF(BB16=\"Défaite\",10+ROUNDDOWN(20*VLOOKUP(AY16,$A$8:$CB$107,56,FALSE)/VLOOKUP(AY16,$A$8:$H$107,8,FALSE),0),\nIF(AND(BB16=\"Nul\",$BD16<>$H16),40+(2*ROUNDDOWN(10*VLOOKUP(AY16,$A$8:$CB$107,56,FALSE)/VLOOKUP(AY16,$A$8:$H$107,8,FALSE),0)-ROUNDDOWN(10*BD16/$H16,0)),IF(AND(BB16=\"Nul\",$BD16=$H16),58,0))))","v":0},null,{"$f":"IF(BF16<>\"\",VLOOKUP(BF16,$A$8:$C$107,2,FALSE),\"\")","v":""},{"$f":"IF(BF16<>\"\",IF(BF16=$A16,\"ERR\",IF(OR(BF16=$I16,BF16=$P16,BF16=$W16,BF16=$AD16,BF16=$AK16,BF16=$AR16,BF16=$AY16),\"DUP\",IF(ISNA(VLOOKUP(BF16,$A$8:$A$107,1,FALSE)),\"ERR\",IF(COUNTIF($I$8:$I$107,BF16)>1,\"ERR\",IF($D16=VLOOKUP(BF16,$A$8:$D$107,4,FALSE),\"CLUB\",\"OK\"))))),\"\")","v":""},null,{"$f":"IF(BI16<>\"\",IF(BI16=\"Victoire\",IF(VLOOKUP(BF16,$A$8:$BL$107,61,FALSE)=\"Défaite\",\"OK\",\"ERR\"),IF(BI16=\"Défaite\",IF(VLOOKUP(BF16,$A$8:$BL$107,61,FALSE)=\"Victoire\",\"OK\",\"ERR\"),IF(BI16=\"Nul\",IF(VLOOKUP(BF16,$A$8:$BL$107,61,FALSE)=\"Nul\",\"OK\",\"ERR\")))),\"\")","v":""},null,{"$f":"IF(BI16=\"Victoire\",100-ROUNDDOWN(20*BK16/$H16,0),\nIF(BI16=\"Défaite\",10+ROUNDDOWN(20*VLOOKUP(BF16,$A$8:$CB$107,63,FALSE)/VLOOKUP(BF16,$A$8:$H$107,8,FALSE),0),\nIF(AND(BI16=\"Nul\",$BK16<>$H16),40+(2*ROUNDDOWN(10*VLOOKUP(BF16,$A$8:$CB$107,63,FALSE)/VLOOKUP(BF16,$A$8:$H$107,8,FALSE),0)-ROUNDDOWN(10*BK16/$H16,0)),IF(AND(BI16=\"Nul\",$BK16=$H16),58,0))))","v":0},null,{"$f":"IF(BM16<>\"\",VLOOKUP(BM16,$A$8:$C$107,2,FALSE),\"\")","v":""},{"$f":"IF(BM16<>\"\",IF(BM16=$A16,\"ERR\",IF(OR(BM16=$I16,BM16=$P16,BM16=$W16,BM16=$AD16,BM16=$AK16,BM16=$AR16,BM16=$AY16,BM16=$BF16),\"DUP\",IF(ISNA(VLOOKUP(BM16,$A$8:$A$107,1,FALSE)),\"ERR\",IF(COUNTIF($I$8:$I$107,BM16)>1,\"ERR\",IF($D16=VLOOKUP(BM16,$A$8:$D$107,4,FALSE),\"CLUB\",\"OK\"))))),\"\")","v":""},null,{"$f":"IF(BP16<>\"\",IF(BP16=\"Victoire\",IF(VLOOKUP(BM16,$A$8:$BS$107,68,FALSE)=\"Défaite\",\"OK\",\"ERR\"),IF(BP16=\"Défaite\",IF(VLOOKUP(BM16,$A$8:$BS$107,68,FALSE)=\"Victoire\",\"OK\",\"ERR\"),IF(BP16=\"Nul\",IF(VLOOKUP(BM16,$A$8:$BS$107,68,FALSE)=\"Nul\",\"OK\",\"ERR\")))),\"\")","v":""},null,{"$f":"IF(BP16=\"Victoire\",100-ROUNDDOWN(20*BR16/$H16,0),\nIF(BP16=\"Défaite\",10+ROUNDDOWN(20*VLOOKUP(BM16,$A$8:$CB$107,70,FALSE)/VLOOKUP(BM16,$A$8:$H$107,8,FALSE),0),\nIF(AND(BP16=\"Nul\",$BR16<>$H16),40+(2*ROUNDDOWN(10*VLOOKUP(BM16,$A$8:$CB$107,70,FALSE)/VLOOKUP(BM16,$A$8:$H$107,8,FALSE),0)-ROUNDDOWN(10*BR16/$H16,0)),IF(AND(BP16=\"Nul\",$BR16=$H16),58,0))))","v":0},null,{"$f":"IF($I16<>\"\",VLOOKUP($I16,$A$8:$N$107,5,FALSE),0)+IF($P16<>\"\",VLOOKUP($P16,$A$8:$N$107,5,FALSE),0)+IF($W16<>\"\",VLOOKUP($W16,$A$8:$N$107,5,FALSE),0)+IF($AD16<>\"\",VLOOKUP($AD16,$A$8:$N$107,5,FALSE),0)+IF($AK16<>\"\",VLOOKUP($AK16,$A$8:$N$107,5,FALSE),0)+IF($AR16<>\"\",VLOOKUP($AR16,$A$8:$N$107,5,FALSE),0)+IF($AY16<>\"\",VLOOKUP($AY16,$A$8:$N$107,5,FALSE),0)+IF($BF16<>\"\",VLOOKUP($BF16,$A$8:$N$107,5,FALSE),0)+IF($BM16<>\"\",VLOOKUP($BM16,$A$8:$N$107,5,FALSE),0)","v":0}]
[{"$nulls":4},0,null,{"$f":"IF($F17<>\"\",VLOOKUP(F17,Armies!$A$1:$C$300,3,FALSE),\"\")","v":""},null,null,{"$f":"IF(I17<>\"\",VLOOKUP(I17,$A$8:$C$107,2,FALSE),\"\")","v":""},{"$f":"IF(I17<>\"\",IF(I17=$A17,\"ERR\",IF(OR(I17=$P17,I17=$W17,I17=$AD17,I17=$AK17),\"DUP\",IF(ISNA(VLOOKUP(I17,$A$8:$A$107,1,FALSE)),\"ERR\",IF(COUNTIF($I$8:$I$107,I17)>1,\"ERR\",IF($D17=VLOOKUP(I17,$A$8:$D$107,4,FALSE),\"CLUB\",\"OK\"))))),\"\")","v":""},null,{"$f":"IF(L17<>\"\",IF(L17=\"Victoire\",IF(VLOOKUP(I17,$A$8:$L$107,12,FALSE)=\"Défaite\",\"OK\",\"ERR\"),IF(L17=\"Défaite\",IF(VLOOKUP(I17,$A$8:$L$107,12,FALSE)=\"Victoire\",\"OK\",\"ERR\"),IF(L17=\"Nul\",IF(VLOOKUP(I17,$A$8:$L$107,12,FALSE)=\"Nul\",\"OK\",\"ERR\")))),\"\")","v":""},null,{"$f":"IF(L17=\"Victoire\",100-ROUNDDOWN(20*N17/$H17,0),\nIF(L17=\"Défaite\",10+ROUNDDOWN(20*VLOOKUP(I17,$A$8:$N$107,14,FALSE)/VLOOKUP(I17,$A$8:$H$107,8,FALSE),0),\nIF(AND(L17=\"Nul\",$N17<>$H17),40+(2*ROUNDDOWN(10*VLOOKUP(I17,$A$8:$N$107,14,FALSE)/VLOOKUP(I17,$A$8:$H$107,8,FALSE),0)-ROUNDDOWN(10*N17/$H17,0)),IF(AND(L17=\"Nul\",$N17=$H17),58,0))))","v":0},null,{"$f":"IF(P17<>\"\",VLOOKUP(P17,$A$8:$C$107,2,FALSE),\"\")","v":""},{"$f":"IF(P17<>\"\",IF(P17=$A17,\"ERR\",IF(OR(P17=$I17,P17=$W17,P17=$AD17,P17=$AK17),\"DUP\",IF(ISNA(VLOOKUP(P17,$A$8:$A$107,1,FALSE)),\"ERR\",IF(COUNTIF($I$8:$I$107,P17)>1,\"ERR\",IF($D17=VLOOKUP(P17,$A$8:$D$107,4,FALSE),\"CLUB\",\"OK\"))))),\"\")","v":""},null,{"$f":"IF(S17<>\"\",IF(S17=\"Victoire\",IF(VLOOKUP(P17,$A$8:$AO$107,19,FALSE)=\"Défaite\",\"OK\",\"ERR\"),IF(S17=\"Défaite\",IF(VLOOKUP(P17,$A$8:$AO$107,19,FALSE)=\"Victoire\",\"OK\",\"ERR\"),IF(S17=\"Nul\",IF(VLOOKUP(P17,$A$8:$AO$107,19,FALSE)=\"Nul\",\"OK\",\"ERR\")))),\"\")","v":""},null,{"$f":"IF(S17=\"Victoire\",100-ROUNDDOWN(20*U17/$H17,0),\nIF(S17=\"Défaite\",10+ROUNDDOWN(20*VLOOKUP(P17,$A$8:$AO$107,21,FALSE)/VLOOKUP(P17,$A$8:$H$107,8,FALSE),0),\nIF(AND(S17=\"Nul\",$U17<>$H17),40+(2*ROUNDDOWN(10*VLOOKUP(P17,$A$8:$AO$107,21,FALSE)/VLOOKUP(P17,$A$8:$H$107,8,FALSE),0)-ROUNDDOWN(10*U17/$H17,0)),IF(AND(S17=\"Nul\",$U17=$H17),58,0))))","v":0},null,{"$f":"IF(W17<>\"\",VLOOKUP(W17,$A$8:$C$107,2,FALSE),\"\")","v":""},{"$f":"IF(W17<>\"\",IF(W17=$A17,\"ERR\",IF(OR(W17=$P17,W17=$I17,W17=$AD17,W17=$AK17),\"DUP\",IF(ISNA(VLOOKUP(W17,$A$8:$A$107,1,FALSE)),\"ERR\",IF(COUNTIF($I$8:$I$107,W17)>1,\"ERR\",IF($D17=VLOOKUP(W17,$A$8:$D$107,4,FALSE),\"CLUB\",\"OK\"))))),\"\")","v":""},null,{"$f":"IF(Z17<>\"\",IF(Z17=\"Victoire\",IF(VLOOKUP(W17,$A$8:$AO$107,26,FALSE)=\"Défaite\",\"OK\",\"ERR\"),IF(Z17=\"Défaite\",IF(VLOOKUP(W17,$A$8:$AO$107,26,FALSE)=\"Victoire\",\"OK\",\"ERR\"),IF(Z17=\"Nul\",IF(VLOOKUP(W17,$A$8:$AO$107,26,FALSE)=\"Nul\",\"OK\",\"ERR\")))),\"\")","v":""},null,{"$f":"IF(Z17=\"Victoire\",100-ROUNDDOWN(20*AB17/$H17,0),\nIF(Z17=\"Défaite\",10+ROUNDDOWN(20*VLOOKUP(W17,$A$8:$AO$107,28,FALSE)/VLOOKUP(W17,$A$8:$H$107,8,FALSE),0),\nIF(AND(Z17=\"Nul\",$AB17<>$H17),40+(2*ROUNDDOWN(10*VLOOKUP(W17,$A$8:$AO$107,28,FALSE)/VLOOKUP(W17,$A$8:$H$107,8,FALSE),0)-ROUNDDOWN(10*AB17/$H17,0)),IF(AND(Z17=\"Nul\",$AB17=$H17),58,0))))","v":0},null,{"$f":"IF(AD17<>\"\",VLOOKUP(AD17,$A$8:$C$107,2,FALSE),\"\")","v":""},{"$f":"IF(AD17<>\"\",IF(AD17=$A17,\"ERR\",IF(OR(AD17=$P17,AD17=$W17,AD17=$I17,AD17=$AK17),\"DUP\",IF(ISNA(VLOOKUP(AD17,$A$8:$A$107,1,FALSE)),\"ERR\",IF(COUNTIF($I$8:$I$107,AD17)>1,\"ERR\",IF($D17=VLOOKUP(AD17,$A$8:$D$107,4,FALSE),\"CLUB\",\"OK\"))))),\"\")","v":""},null,{"$f":"IF(AG17<>\"\",IF(AG17=\"Victoire\",IF(VLOOKUP(AD17,$A$8:$AO$107,33,FALSE)=\"Défaite\",\"OK\",\"ERR\"),IF(AG17=\"Défaite\",IF(VLOOKUP(AD17,$A$8:$AO$107,33,FALSE)=\"Victoire\",\"OK\",\"ERR\"),IF(AG17=\"Nul\",IF(VLOOKUP(AD17,$A$8:$AO$107,33,FALSE)=\"Nul\",\"OK\",\"ERR\")))),\"\")","v":""},null,{"$f":"IF(AG17=\"Victoire\",100-ROUNDDOWN(20*AI17/$H17,0),\nIF(AG17=\"Défaite\",10+ROUNDDOWN(20*VLOOKUP(AD17,$A$8:$AO$107,35,FALSE)/VLOOKUP(AD17,$A$8:$H$107,8,FALSE),0),\nIF(AND(AG17=\"Nul\",$AI17<>$H17),40+(2*ROUNDDOWN(10*VLOOKUP(AD17,$A$8:$AO$107,35,FALSE)/VLOOKUP(AD17,$A$8:$H$107,8,FALSE),0)-ROUNDDOWN(10*AI17/$H17,0)),IF(AND(AG17=\"Nul\",$AI17=$H17),58,0))))","v":0},null,{"$f":"IF(AK17<>\"\",VLOOKUP(AK17,$A$8:$C$107,2,FALSE),\"\")","v":""},{"$f":"IF(AK17<>\"\",IF(AK17=$A17,\"ERR\",IF(OR(AK17=$P17,AK17=$W17,AK17=$AD17,AK17=$I17),\"DUP\",IF(ISNA(VLOOKUP(AK17,$A$8:$A$107,1,FALSE)),\"ERR\",IF(COUNTIF($I$8:$I$107,AK17)>1,\"ERR\",IF($D17=VLOOKUP(AK17,$A$8:$D$107,4,FALSE),\"CLUB\",\"OK\"))))),\"\")","v":""},null,{"$f":"IF(AN17<>\"\",IF(AN17=\"Victoire\",IF(VLOOKUP(AK17,$A$8:$AO$107,40,FALSE)=\"Défaite\",\"OK\",\"ERR\"),IF(AN17=\"Défaite\",IF(VLOOKUP(AK17,$A$8:$AO$107,40,FALSE)=\"Victoire\",\"OK\",\"ERR\"),IF(AN17=\"Nul\",IF(VLOOKUP(AK17,$A$8:$AO$107,40,FALSE)=\"Nul\",\"OK\",\"ERR\")))),\"\")","v":""},null,{"$f":"IF(AN17=\"Victoire\",100-ROUNDDOWN(20*AP17/$H17,0),\nIF(AN17=\"Défaite\",10+ROUNDDOWN(20*VLOOKUP(AK17,$A$8:$CB$107,42,FALSE)/VLOOKUP(AK17,$A$8:$H$107,8,FALSE),0),\nIF(AND(AN17=\"Nul\",$AP17<>$H17),40+(2*ROUNDDOWN(10*VLOOKUP(AK17,$A$8:$CB$107,42,FALSE)/VLOOKUP(AK17,$A$8:$H$107,8,FALSE),0)-ROUNDDOWN(10*AP17/$H17,0)),IF(AND(AN17=\"Nul\",$AP17=$H17),58,0))))","v":0},null,{"$f":"IF(AR17<>\"\",VLOOKUP(AR17,$A$8:$C$107,2,FALSE),\"\")","v":""},{"$f":"IF(AR17<>\"\",IF(AR17=$A17,\"ERR\",IF(OR(AR17=$I17,AR17=$P17,AR17=$W17,AR17=$AD17,AR17=$AK17),\"DUP\",IF(ISNA(VLOOKUP(AR17,$A$8:$A$107,1,FALSE)),\"ERR\",IF(COUNTIF($I$8:$I$107,AR17)>1,\"ERR\",IF($D17=VLOOKUP(AR17,$A$8:$D$107,4,FALSE),\"CLUB\",\"OK\"))))),\"\")","v":""},null,{"$f":"IF(AU17<>\"\",IF(AU17=\"Victoire\",IF(VLOOKUP(AR17,$A$8:$BL$107,47,FALSE)=\"Défaite\",\"OK\",\"ERR\"),IF(AU17=\"Défaite\",IF(VLOOKUP(AR17,$A$8:$BL$107,47,FALSE)=\"Victoire\",\"OK\",\"ERR\"),IF(AU17=\"Nul\",IF(VLOOKUP(AR17,$A$8:$BL$107,47,FALSE)=\"Nul\",\"OK\",\"ERR\")))),\"\")","v":""},null,{"$f":"IF(AU17=\"Victoire\",100-ROUNDDOWN(20*AW17/$H17,0),\nIF(AU17=\"Défaite\",10+ROUNDDOWN(20*VLOOKUP(AR17,$A$8:$CB$107,49,FALSE)/VLOOKUP(AR17,$A$8:$H$107,8,FALSE),0),\nIF(AND(AU17=\"Nul\",$AW17<>$H17),40+(2*ROUNDDOWN(10*VLOOKUP(AR17,$A$8:$CB$107,49,FALSE)/VLOOKUP(AR17,$A$8:$H$107,8,FALSE),0)-ROUNDDOWN(10*AW17/$H17,0)),IF(AND(AU17=\"Nul\",$AW17=$H17),58,0))))","v":0},null,{"$f":"IF(AY17<>\"\",VLOOKUP(AY17,$A$8:$C$107,2,FALSE),\"\")","v":""},{"$f":"IF(AY17<>\"\",IF(AY17=$A17,\"ERR\",IF(OR(AY17=$I17,AY17=$P17,AY17=$W17,AY17=$AD17,AY17=$AK17,AY17=$AR17),\"DUP\",IF(ISNA(VLOOKUP(AY17,$A$8:$A$107,1,FALSE)),\"ERR\",IF(COUNTIF($I$8:$I$107,AY17)>1,\"ERR\",IF($D17=VLOOKUP(AY17,$A$8:$D$107,4,FALSE),\"CLUB\",\"OK\"))))),\"\")","v":""},null,{"$f":"IF(BB17<>\"\",IF(BB17=\"Victoire\",IF(VLOOKUP(AY17,$A$8:$BL$107,54,FALSE)=\"Défaite\",\"OK\",\"ERR\"),IF(BB17=\"Défaite\",IF(VLOOKUP(AY17,$A$8:$BL$107,54,FALSE)=\"Victoire\",\"OK\",\"ERR\"),IF(BB17=\"Nul\",IF(VLOOKUP(AY17,$A$8:$BL$107,54,FALSE)=\"Nul\",\"OK\",\"ERR\")))),\"\")","v":""},null,{"$f":"IF(BB17=\"Victoire\",100-ROUNDDOWN(20*BD17/$H17,0),\nIF(BB17=\"Défaite\",10+ROUNDDOWN(20*VLOOKUP(AY17,$A$8:$CB$107,56,FALSE)/VLOOKUP(AY17,$A$8:$H$107,8,FALSE),0),\nIF(AND(BB17=\"Nul\",$BD17<>$H17),40+(2*ROUNDDOWN(10*VLOOKUP(AY17,$A$8:$CB$107,56,FALSE)/VLOOKUP(AY17,$A$8:$H$107,8,FALSE),0)-ROUNDDOWN(10*BD17/$H17,0)),IF(AND(BB17=\"Nul\",$BD17=$H17),58,0))))","v":0},null,{"$f":"IF(BF17<>\"\",VLOOKUP(BF17,$A$8:$C$107,2,FALSE),\"\")","v":""},{"$f":"IF(BF17<>\"\",IF(BF17=$A17,\"ERR\",IF(OR(BF17=$I17,BF17=$P17,BF17=$W17,BF17=$AD17,BF17=$AK17,BF17=$AR17,BF17=$AY17),\"DUP\",IF(ISNA(VLOOKUP(BF17,$A$8:$A$107,1,FALSE)),\"ERR\",IF(COUNTIF($I$8:$I$107,BF17)>1,\"ERR\",IF($D17=VLOOKUP(BF17,$A$8:$D$107,4,FALSE),\"CLUB\",\"OK\"))))),\"\")","v":""},null,{"$f":"IF(BI17<>\"\",IF(BI17=\"Victoire\",IF(VLOOKUP(BF17,$A$8:$BL$107,61,FALSE)=\"Défaite\",\"OK\",\"ERR\"),IF(BI17=\"Défaite\",IF(VLOOKUP(BF17,$A$8:$BL$107,61,FALSE)=\"Victoire\",\"OK\",\"ERR\"),IF(BI17=\"Nul\",IF(VLOOKUP(BF17,$A$8:$BL$107,61,FALSE)=\"Nul\",\"OK\",\"ERR\")))),\"\")","v":""},null,{"$f":"IF(BI17=\"Victoire\",100-ROUNDDOWN(20*BK17/$H17,0),\nIF(BI17=\"Défaite\",10+ROUNDDOWN(20*VLOOKUP(BF17,$A$8:$CB$107,63,FALSE)/VLOOKUP(BF17,$A$8:$H$107,8,FALSE),0),\nIF(AND(BI17=\"Nul\",$BK17<>$H17),40+(2*ROUNDDOWN(10*VLOOKUP(BF17,$A$8:$CB$107,63,FALSE)/VLOOKUP(BF17,$A$8:$H$107,8,FALSE),0)-ROUNDDOWN(10*BK17/$H17,0)),IF(AND(BI17=\"Nul\",$BK17=$H17),58,0))))","v":0},null,{"$f":"IF(BM17<>\"\",VLOOKUP(BM17,$A$8:$C$107,2,FALSE),\"\")","v":""},{"$f":"IF(BM17<>\"\",IF(BM17=$A17,\"ERR\",IF(OR(BM17=$I17,BM17=$P17,BM17=$W17,BM17=$AD17,BM17=$AK17,BM17=$AR17,BM17=$AY17,BM17=$BF17),\"DUP\",IF(ISNA(VLOOKUP(BM17,$A$8:$A$107,1,FALSE)),\"ERR\",IF(COUNTIF($I$8:$I$107,BM17)>1,\"ERR\",IF($D17=VLOOKUP(BM17,$A$8:$D$107,4,FALSE),\"CLUB\",\"OK\"))))),\"\")","v":""},null,{"$f":"IF(BP17<>\"\",IF(BP17=\"Victoire\",IF(VLOOKUP(BM17,$A$8:$BS$107,68,FALSE)=\"Défaite\",\"OK\",\"ERR\"),IF(BP17=\"Défaite\",IF(VLOOKUP(BM17,$A$8:$BS$107,68,FALSE)=\"Victoire\",\"OK\",\"ERR\"),IF(BP17=\"Nul\",IF(VLOOKUP(BM17,$A$8:$BS$107,68,FALSE)=\"Nul\",\"OK\",\"ERR\")))),\"\")","v":""},null,{"$f":"IF(BP17=\"Victoire\",100-ROUNDDOWN(20*BR17/$H17,0),\nIF(BP17=\"Défaite\",10+ROUNDDOWN(20*VLOOKUP(BM17,$A$8:$CB$107,70,FALSE)/VLOOKUP(BM17,$A$8:$H$107,8,FALSE),0),\nIF(AND(BP17=\"Nul\",$BR17<>$H17),40+(2*ROUNDDOWN(10*VLOOKUP(BM17,$A$8:$CB$107,70,FALSE)/VLOOKUP(BM17,$A$8:$H$107,8,FALSE),0)-ROUNDDOWN(10*BR17/$H17,0)),IF(AND(BP17=\"Nul\",$BR17=$H17),58,0))))","v":0},null,{"$f":"IF($I17<>\"\",VLOOKUP($I17,$A$8:$N$107,5,FALSE),0)+IF($P17<>\"\",VLOOKUP($P17,$A$8:$N$107,5,FALSE),0)+IF($W17<>\"\",VLOOKUP($W17,$A$8:$N$107,5,FALSE),0)+IF($AD17<>\"\",VLOOKUP($AD17,$A$8:$N$107,5,FALSE),0)+IF($AK17<>\"\",VLOOKUP($AK17,$A$8:$N$107,5,FALSE),0)+IF($AR17<>\"\",VLOOKUP($AR17,$A$8:$N$107,5,FALSE),0)+IF($AY17<>\"\",VLOOKUP($AY17,$A$8:$N$107,5,FALSE),0)+IF($BF17<>\"\",VLOOKUP($BF17,$A$8:$N$107,5,FALSE),0)+IF($BM17<>\"\",VLOOKUP($BM17,$A$8:$N$107,5,FALSE),0)","v":0}]
[{"$nulls":4},0,null,{"$f":"IF($F18<>\"\",VLOOKUP(F18,Armies!$A$1:$C$300,3,FALSE),\"\")","v":""},null,null,{"$f":"IF(I18<>\"\",VLOOKUP(I18,$A$8:$C$107,2,FALSE),\"\")","v":""},{"$f":"IF(I18<>\"\",IF(I18=$A18,\"ERR\",IF(OR(I18=$P18,I18=$W18,I18=$AD18,I18=$AK18),\"DUP\",IF(ISNA(VLOOKUP(I18,$A$8:$A$107,1,FALSE)),\"ERR\",IF(COUNTIF($I$8:$I$107,I18)>1,\"ERR\",IF($D18=VLOOKUP(I18,$A$8:$D$107,4,FALSE),\"CLUB\",\"OK\"))))),\"\")","v":""},null,{"$f":"IF(L18<>\"\",IF(L18=\"Victoire\",IF(VLOOKUP(I18,$A$8:$L$107,12,FALSE)=\"Défaite\",\"OK\",\"ERR\"),IF(L18=\"Défaite\",IF(VLOOKUP(I18,$A$8:$L$107,12,FALSE)=\"Victoire\",\"OK\",\"ERR\"),IF(L18=\"Nul\",IF(VLOOKUP(I18,$A$8:$L$107,12,FALSE)=\"Nul\",\"OK\",\"ERR\")))),\"\")","v":""},null,{"$f":"IF(L18=\"Victoire\",100-ROUNDDOWN(20*N18/$H18,0),\nIF(L18=\"Défaite\",10+ROUNDDOWN(20*VLOOKUP(I18,$A$8:$N$107,14,FALSE)/VLOOKUP(I18,$A$8:$H$107,8,FALSE),0),\nIF(AND(L18=\"Nul\",$N18<>$H18),40+(2*ROUNDDOWN(10*VLOOKUP(I18,$A$8:$N$107,14,FALSE)/VLOOKUP(I18,$A$8:$H$107,8,FALSE),0)-ROUNDDOWN(10*N18/$H18,0)),IF(AND(L18=\"Nul\",$N18=$H18),58,0))))","v":0},null,{"$f":"IF(P18<>\"\",VLOOKUP(P18,$A$8:$C$107,2,FALSE),\"\")","v":""},{"$f":"IF(P18<>\"\",IF(P18=$A18,\"ERR\",IF(OR(P18=$I18,P18=$W18,P18=$AD18,P18=$AK18),\"DUP\",IF(ISNA(VLOOKUP(P18,$A$8:$A$107,1,FALSE)),\"ERR\",IF(COUNTIF($I$8:$I$107,P18)>1,\"ERR\",IF($D18=VLOOKUP(P18,$A$8:$D$107,4,FALSE),\"CLUB\",\"OK\"))))),\"\")","v":""},null,{"$f":"IF(S18<>\"\",IF(S18=\"Victoire\",IF(VLOOKUP(P18,$A$8:$AO$107,19,FALSE)=\"Défaite\",\"OK\",\"ERR\"),IF(S18=\"Défaite\",IF(VLOOKUP(P18,$A$8:$AO$107,19,FALSE)=\"Victoire\",\"OK\",\"ERR\"),IF(S18=\"Nul\",IF(VLOOKUP(P18,$A$8:$AO$107,19,FALSE)=\"Nul\",\"OK\",\"ERR\")))),\"\")","v":""},null,{"$f":"IF(S18=\"Victoire\",100-ROUNDDOWN(20*U18/$H18,0),\nIF(S18=\"Défaite\",10+ROUNDDOWN(20*VLOOKUP(P18,$A$8:$AO$107,21,FALSE)/VLOOKUP(P18,$A$8:$H$107,8,FALSE),0),\nIF(AND(S18=\"Nul\",$U18<>$H18),40+(2*ROUNDDOWN(10*VLOOKUP(P18,$A$8:$AO$107,21,FALSE)/VLOOKUP(P18,$A$8:$H$107,8,FALSE),0)-ROUNDDOWN(10*U18/$H18,0)),IF(AND(S18=\"Nul\",$U18=$H18),58,0))))","v":0},null,{"$f":"IF(W18<>\"\",VLOOKUP(W18,$A$8:$C$107,2,FALSE),\"\")","v":""},{"$f":"IF(W18<>\"\",IF(W18=$A18,\"ERR\",IF(OR(W18=$P18,W18=$I18,W18=$AD18,W18=$AK18),\"DUP\",IF(ISNA(VLOOKUP(W18,$A$8:$A$107,1,FALSE)),\"ERR\",IF(COUNTIF($I$8:$I$107,W18)>1,\"ERR\",IF($D18=VLOOKUP(W18,$A$8:$D$107,4,FALSE),\"CLUB\",\"OK\"))))),\"\")","v":""},null,{"$f":"IF(Z18<>\"\",IF(Z18=\"Victoire\",IF(VLOOKUP(W18,$A$8:$AO$107,26,FALSE)=\"Défaite\",\"OK\",\"ERR\"),IF(Z18=\"Défaite\",IF(VLOOKUP(W18,$A$8:$AO$107,26,FALSE)=\"Victoire\",\"OK\",\"ERR\"),IF(Z18=\"Nul\",IF(VLOOKUP(W18,$A$8:$AO$107,26,FALSE)=\"Nul\",\"OK\",\"ERR\")))),\"\")","v":""},null,{"$f":"IF(Z18=\"Victoire\",100-ROUNDDOWN(20*AB18/$H18,0),\nIF(Z18=\"Défaite\",10+ROUNDDOWN(20*VLOOKUP(W18,$A$8:$AO$107,28,FALSE)/VLOOKUP(W18,$A$8:$H$107,8,FALSE),0),\nIF(AND(Z18=\"Nul\",$AB18<>$H18),40+(2*ROUNDDOWN(10*VLOOKUP(W18,$A$8:$AO$107,28,FALSE)/VLOOKUP(W18,$A$8:$H$107,8,FALSE),0)-ROUNDDOWN(10*AB18/$H18,0)),IF(AND(Z18=\"Nul\",$AB18=$H18),58,0))))","v":0},null,{"$f":"IF(AD18<>\"\",VLOOKUP(AD18,$A$8:$C$107,2,FALSE),\"\")","v":""},{"$f":"IF(AD18<>\"\",IF(AD18=$A18,\"ERR\",IF(OR(AD18=$P18,AD18=$W18,AD18=$I18,AD18=$AK18),\"DUP\",IF(ISNA(VLOOKUP(AD18,$A$8:$A$107,1,FALSE)),\"ERR\",IF(COUNTIF($I$8:$I$107,AD18)>1,\"ERR\",IF($D18=VLOOKUP(AD18,$A$8:$D$107,4,FALSE),\"CLUB\",\"OK\"))))),\"\")","v":""},null,{"$f":"IF(AG18<>\"\",IF(AG18=\"Victoire\",IF(VLOOKUP(AD18,$A$8:$AO$107,33,FALSE)=\"Défaite\",\"OK\",\"ERR\"),IF(AG18=\"Défaite\",IF(VLOOKUP(AD18,$A$8:$AO$107,33,FALSE)=\"Victoire\",\"OK\",\"ERR\"),IF(AG18=\"Nul\",IF(VLOOKUP(AD18,$A$8:$AO$107,33,FALSE)=\"Nul\",\"OK\",\"ERR\")))),\"\")","v":""},null,{"$f":"IF(AG18=\"Victoire\",100-ROUNDDOWN(20*AI18/$H18,0),\nIF(AG18=\"Défaite\",10+ROUNDDOWN(20*VLOOKUP(AD18,$A$8:$AO$107,35,FALSE)/VLOOKUP(AD18,$A$8:$H$107,8,FALSE),0),\nIF(AND(AG18=\"Nul\",$AI18<>$H18),40+(2*ROUNDDOWN(10*VLOOKUP(AD18,$A$8:$AO$107,35,FALSE)/VLOOKUP(AD18,$A$8:$H$107,8,FALSE),0)-ROUNDDOWN(10*AI18/$H18,0)),IF(AND(AG18=\"Nul\",$AI18=$H18),58,0))))","v":0},null,{"$f":"IF(AK18<>\"\",VLOOKUP(AK18,$A$8:$C$107,2,FALSE),\"\")","v":""},{"$f":"IF(AK18<>\"\",IF(AK18=$A18,\"ERR\",IF(OR(AK18=$P18,AK18=$W18,AK18=$AD18,AK18=$I18),\"DUP\",IF(ISNA(VLOOKUP(AK18,$A$8:$A$107,1,FALSE)),\"ERR\",IF(COUNTIF($I$8:$I$107,AK18)>1,\"ERR\",IF($D18=VLOOKUP(AK18,$A$8:$D$107,4,FALSE),\"CLUB\",\"OK\"))))),\"\")","v":""},null,{"$f":"IF(AN18<>\"\",IF(AN18=\"Victoire\",IF(VLOOKUP(AK18,$A$8:$AO$107,40,FALSE)=\"Défaite\",\"OK\",\"ERR\"),IF(AN18=\"Défaite\",IF(VLOOKUP(AK18,$A$8:$AO$107,40,FALSE)=\"Victoire\",\"OK\",\"ERR\"),IF(AN18=\"Nul\",IF(VLOOKUP(AK18,$A$8:$AO$107,40,FALSE)=\"Nul\",\"OK\",\"ERR\")))),\"\")","v":""},null,{"$f":"IF(AN18=\"Victoire\",100-ROUNDDOWN(20*AP18/$H18,0),\nIF(AN18=\"Défaite\",10+ROUNDDOWN(20*VLOOKUP(AK18,$A$8:$CB$107,42,FALSE)/VLOOKUP(AK18,$A$8:$H$107,8,FALSE),0),\nIF(AND(AN18=\"Nul\",$AP18<>$H18),40+(2*ROUNDDOWN(10*VLOOKUP(AK18,$A$8:$CB$107,42,FALSE)/VLOOKUP(AK18,$A$8:$H$107,8,FALSE),0)-ROUNDDOWN(10*AP18/$H18,0)),IF(AND(AN18=\"Nul\",$AP18=$H18),58,0))))","v":0},null,{"$f":"IF(AR18<>\"\",VLOOKUP(AR18,$A$8:$C$107,2,FALSE),\"\")","v":""},{"$f":"IF(AR18<>\"\",IF(AR18=$A18,\"ERR\",IF(OR(AR18=$I18,AR18=$P18,AR18=$W18,AR18=$AD18,AR18=$AK18),\"DUP\",IF(ISNA(VLOOKUP(AR18,$A$8:$A$107,1,FALSE)),\"ERR\",IF(COUNTIF($I$8:$I$107,AR18)>1,\"ERR\",IF($D18=VLOOKUP(AR18,$A$8:$D$107,4,FALSE),\"CLUB\",\"OK\"))))),\"\")","v":""},null,{"$f":"IF(AU18<>\"\",IF(AU18=\"Victoire\",IF(VLOOKUP(AR18,$A$8:$BL$107,47,FALSE)=\"Défaite\",\"OK\",\"ERR\"),IF(AU18=\"Défaite\",IF(VLOOKUP(AR18,$A$8:$BL$107,47,FALSE)=\"Victoire\",\"OK\",\"ERR\"),IF(AU18=\"Nul\",IF(VLOOKUP(AR18,$A$8:$BL$107,47,FALSE)=\"Nul\",\"OK\",\"ERR\")))),\"\")","v":""},null,{"$f":"IF(AU18=\"Victoire\",100-ROUNDDOWN(20*AW18/$H18,0),\nIF(AU18=\"Défaite\",10+ROUNDDOWN(20*VLOOKUP(AR18,$A$8:$CB$107,49,FALSE)/VLOOKUP(AR18,$A$8:$H$107,8,FALSE),0),\nIF(AND(AU18=\"Nul\",$AW18<>$H18),40+(2*ROUNDDOWN(10*VLOOKUP(AR18,$A$8:$CB$107,49,FALSE)/VLOOKUP(AR18,$A$8:$H$107,8,FALSE),0)-ROUNDDOWN(10*AW18/$H18,0)),IF(AND(AU18=\"Nul\",$AW18=$H18),58,0))))","v":0},null,{"$f":"IF(AY18<>\"\",VLOOKUP(AY18,$A$8:$C$107,2,FALSE),\"\")","v":""},{"$f":"IF(AY18<>\"\",IF(AY18=$A18,\"ERR\",IF(OR(AY18=$I18,AY18=$P18,AY18=$W18,AY18=$AD18,AY18=$AK18,AY18=$AR18),\"DUP\",IF(ISNA(VLOOKUP(AY18,$A$8:$A$107,1,FALSE)),\"ERR\",IF(COUNTIF($I$8:$I$107,AY18)>1,\"ERR\",IF($D18=VLOOKUP(AY18,$A$8:$D$107,4,FALSE),\"CLUB\",\"OK\"))))),\"\")","v":""},null,{"$f":"IF(BB18<>\"\",IF(BB18=\"Victoire\",IF(VLOOKUP(AY18,$A$8:$BL$107,54,FALSE)=\"Défaite\",\"OK\",\"ERR\"),IF(BB18=\"Défaite\",IF(VLOOKUP(AY18,$A$8:$BL$107,54,FALSE)=\"Victoire\",\"OK\",\"ERR\"),IF(BB18=\"Nul\",IF(VLOOKUP(AY18,$A$8:$BL$107,54,FALSE)=\"Nul\",\"OK\",\"ERR\")))),\"\")","v":""},null,{"$f":"IF(BB18=\"Victoire\",100-ROUNDDOWN(20*BD18/$H18,0),\nIF(BB18=\"Défaite\",10+ROUNDDOWN(20*VLOOKUP(AY18,$A$8:$CB$107,56,FALSE)/VLOOKUP(AY18,$A$8:$H$107,8,FALSE),0),\nIF(AND(BB18=\"Nul\",$BD18<>$H18),40+(2*ROUNDDOWN(10*VLOOKUP(AY18,$A$8:$CB$107,56,FALSE)/VLOOKUP(AY18,$A$8:$H$107,8,FALSE),0)-ROUNDDOWN(10*BD18/$H18,0)),IF(AND(BB18=\"Nul\",$BD18=$H18),58,0))))","v":0},null,{"$f":"IF(BF18<>\"\",VLOOKUP(BF18,$A$8:$C$107,2,FALSE),\"\")","v":""},{"$f":"IF(BF18<>\"\",IF(BF18=$A18,\"ERR\",IF(OR(BF18=$I18,BF18=$P18,BF18=$W18,BF18=$AD18,BF18=$AK18,BF18=$AR18,BF18=$AY18),\"DUP\",IF(ISNA(VLOOKUP(BF18,$A$8:$A$107,1,FALSE)),\"ERR\",IF(COUNTIF($I$8:$I$107,BF18)>1,\"ERR\",IF($D18=VLOOKUP(BF18,$A$8:$D$107,4,FALSE),\"CLUB\",\"OK\"))))),\"\")","v":""},null,{"$f":"IF(BI18<>\"\",IF(BI18=\"Victoire\",IF(VLOOKUP(BF18,$A$8:$BL$107,61,FALSE)=\"Défaite\",\"OK\",\"ERR\"),IF(BI18=\"Défaite\",IF(VLOOKUP(BF18,$A$8:$BL$107,61,FALSE)=\"Victoire\",\"OK\",\"ERR\"),IF(BI18=\"Nul\",IF(VLOOKUP(BF18,$A$8:$BL$107,61,FALSE)=\"Nul\",\"OK\",\"ERR\")))),\"\")","v":""},null,{"$f":"IF(BI18=\"Victoire\",100-ROUNDDOWN(20*BK18/$H18,0),\nIF(BI18=\"Défaite\",10+ROUNDDOWN(20*VLOOKUP(BF18,$A$8:$CB$107,63,FALSE)/VLOOKUP(BF18,$A$8:$H$107,8,FALSE),0),\nIF(AND(BI18=\"Nul\",$BK18<>$H18),40+(2*ROUNDDOWN(10*VLOOKUP(BF18,$A$8:$CB$107,63,FALSE)/VLOOKUP(BF18,$A$8:$H$107,8,FALSE),0)-ROUNDDOWN(10*BK18/$H18,0)),IF(AND(BI18=\"Nul\",$BK18=$H18),58,0))))","v":0},null,{"$f":"IF(BM18<>\"\",VLOOKUP(BM18,$A$8:$C$107,2,FALSE),\"\")","v":""},{"$f":"IF(BM18<>\"\",IF(BM18=$A18,\"ERR\",IF(OR(BM18=$I18,BM18=$P18,BM18=$W18,BM18=$AD18,BM18=$AK18,BM18=$AR18,BM18=$AY18,BM18=$BF18),\"DUP\",IF(ISNA(VLOOKUP(BM18,$A$8:$A$107,1,FALSE)),\"ERR\",IF(COUNTIF($I$8:$I$107,BM18)>1,\"ERR\",IF($D18=VLOOKUP(BM18,$A$8:$D$107,4,FALSE),\"CLUB\",\"OK\"))))),\"\")","v":""},null,{"$f":"IF(BP18<>\"\",IF(BP18=\"Victoire\",IF(VLOOKUP(BM18,$A$8:$BS$107,68,FALSE)=\"Défaite\",\"OK\",\"ERR\"),IF(BP18=\"Défaite\",IF(VLOOKUP(BM18,$A$8:$BS$107,68,FALSE)=\"Victoire\",\"OK\",\"ERR\"),IF(BP18=\"Nul\",IF(VLOOKUP(BM18,$A$8:$BS$107,68,FALSE)=\"Nul\",\"OK\",\"ERR\")))),\"\")","v":""},null,{"$f":"IF(BP18=\"Victoire\",100-ROUNDDOWN(20*BR18/$H18,0),\nIF(BP18=\"Défaite\",10+ROUNDDOWN(20*VLOOKUP(BM18,$A$8:$CB$107,70,FALSE)/VLOOKUP(BM18,$A$8:$H$107,8,FALSE),0),\nIF(AND(BP18=\"Nul\",$BR18<>$H18),40+(2*ROUNDDOWN(10*VLOOKUP(BM18,$A$8:$CB$107,70,FALSE)/VLOOKUP(BM18,$A$8:$H$107,8,FALSE),0)-ROUNDDOWN(10*BR18/$H18,0)),IF(AND(BP18=\"Nul\",$BR18=$H18),58,0))))","v":0},null,{"$f":"IF($I18<>\"\",VLOOKUP($I18,$A$8:$N$107,5,FALSE),0)+IF($P18<>\"\",VLOOKUP($P18,$A$8:$N$107,5,FALSE),0)+IF($W18<>\"\",VLOOKUP($W18,$A$8:$N$107,5,FALSE),0)+IF($AD18<>\"\",VLOOKUP($AD18,$A$8:$N$107,5,FALSE),0)+IF($AK18<>\"\",VLOOKUP($AK18,$A$8:$N$107,5,FALSE),0)+IF($AR18<>\"\",VLOOKUP($AR18,$A$8:$N$107,5,FALSE),0)+IF($AY18<>\"\",VLOOKUP($AY18,$A$8:$N$107,5,FALSE),0)+IF($BF18<>\"\",VLOOKUP($BF18,$A$8:$N$107,5,FALSE),0)+IF($BM18<>\"\",VLOOKUP($BM18,$A$8:$N$107,5,FALSE),0)","v":0}]
[{"$nulls":4},0,null,{"$f":"IF($F19<>\"\",VLOOKUP(F19,Armies!$A$1:$C$300,3,FALSE),\"\")","v":""},null,null,{"$f":"IF(I19<>\"\",VLOOKUP(I19,$A$8:$C$107,2,FALSE),\"\")","v":""},{"$f":"IF(I19<>\"\",IF(I19=$A19,\"ERR\",IF(OR(I19=$P19,I19=$W19,I19=$AD19,I19=$AK19),\"DUP\",IF(ISNA(VLOOKUP(I19,$A$8:$A$107,1,FALSE)),\"ERR\",IF(COUNTIF($I$8:$I$107,I19)>1,\"ERR\",IF($D19=VLOOKUP(I19,$A$8:$D$107,4,FALSE),\"CLUB\",\"OK\"))))),\"\")","v":""},null,{"$f":"IF(L19<>\"\",IF(L19=\"Victoire\",IF(VLOOKUP(I19,$A$8:$L$107,12,FALSE)=\"Défaite\",\"OK\",\"ERR\"),IF(L19=\"Défaite\",IF(VLOOKUP(I19,$A$8:$L$107,12,FALSE)=\"Victoire\",\"OK\",\"ERR\"),IF(L19=\"Nul\",IF(VLOOKUP(I19,$A$8:$L$107,12,FALSE)=\"Nul\",\"OK\",\"ERR\")))),\"\")","v":""},null,{"$f":"IF(L19=\"Victoire\",100-ROUNDDOWN(20*N19/$H19,0),\nIF(L19=\"Défaite\",10+ROUNDDOWN(20*VLOOKUP(I19,$A$8:$N$107,14,FALSE)/VLOOKUP(I19,$A$8:$H$107,8,FALSE),0),\nIF(AND(L19=\"Nul\",$N19<>$H19),40+(2*ROUNDDOWN(10*VLOOKUP(I19,$A$8:$N$107,14,FALSE)/VLOOKUP(I19,$A$8:$H$107,8,FALSE),0)-ROUNDDOWN(10*N19/$H19,0)),IF(AND(L19=\"Nul\",$N19=$H19),58,0))))","v":0},null,{"$f":"IF(P19<>\"\",VLOOKUP(P19,$A$8:$C$107,2,FALSE),\"\")","v":""},{"$f":"IF(P19<>\"\",IF(P19=$A19,\"ERR\",IF(OR(P19=$I19,P19=$W19,P19=$AD19,P19=$AK19),\"DUP\",IF(ISNA(VLOOKUP(P19,$A$8:$A$107,1,FALSE)),\"ERR\",IF(COUNTIF($I$8:$I$107,P19)>1,\"ERR\",IF($D19=VLOOKUP(P19,$A$8:$D$107,4,FALSE),\"CLUB\",\"OK\"))))),\"\")","v":""},null,{"$f":"IF(S19<>\"\",IF(S19=\"Victoire\",IF(VLOOKUP(P19,$A$8:$AO$107,19,FALSE)=\"Défaite\",\"OK\",\"ERR\"),IF(S19=\"Défaite\",IF(VLOOKUP(P19,$A$8:$AO$107,19,FALSE)=\"Victoire\",\"OK\",\"ERR\"),IF(S19=\"Nul\",IF(VLOOKUP(P19,$A$8:$AO$107,19,FALSE)=\"Nul\",\"OK\",\"ERR\")))),\"\")","v":""},null,{"$f":"IF(S19=\"Victoire\",100-ROUNDDOWN(20*U19/$H19,0),\nIF(S19=\"Défaite\",10+ROUNDDOWN(20*VLOOKUP(P19,$A$8:$AO$107,21,FALSE)/VLOOKUP(P19,$A$8:$H$107,8,FALSE),0),\nIF(AND(S19=\"Nul\",$U19<>$H19),40+(2*ROUNDDOWN(10*VLOOKUP(P19,$A$8:$AO$107,21,FALSE)/VLOOKUP(P19,$A$8:$H$107,8,FALSE),0)-ROUNDDOWN(10*U19/$H19,0)),IF(AND(S19=\"Nul\",$U19=$H19),58,0))))","v":0},null,{"$f":"IF(W19<>\"\",VLOOKUP(W19,$A$8:$C$107,2,FALSE),\"\")","v":""},{"$f":"IF(W19<>\"\",IF(W19=$A19,\"ERR\",IF(OR(W19=$P19,W19=$I19,W19=$AD19,W19=$AK19),\"DUP\",IF(ISNA(VLOOKUP(W19,$A$8:$A$107,1,FALSE)),\"ERR\",IF(COUNTIF($I$8:$I$107,W19)>1,\"ERR\",IF($D19=VLOOKUP(W19,$A$8:$D$107,4,FALSE),\"CLUB\",\"OK\"))))),\"\")","v":""},null,{"$f":"IF(Z19<>\"\",IF(Z19=\"Victoire\",IF(VLOOKUP(W19,$A$8:$AO$107,26,FALSE)=\"Défaite\",\"OK\",\"ERR\"),IF(Z19=\"Défaite\",IF(VLOOKUP(W19,$A$8:$AO$107,26,FALSE)=\"Victoire\",\"OK\",\"ERR\"),IF(Z19=\"Nul\",IF(VLOOKUP(W19,$A$8:$AO$107,26,FALSE)=\"Nul\",\"OK\",\"ERR\")))),\"\")","v":""},null,{"$f":"IF(Z19=\"Victoire\",100-ROUNDDOWN(20*AB19/$H19,0),\nIF(Z19=\"Défaite\",10+ROUNDDOWN(20*VLOOKUP(W19,$A$8:$AO$107,28,FALSE)/VLOOKUP(W19,$A$8:$H$107,8,FALSE),0),\nIF(AND(Z19=\"Nul\",$AB19<>$H19),40+(2*ROUNDDOWN(10*VLOOKUP(W19,$A$8:$AO$107,28,FALSE)/VLOOKUP(W19,$A$8:$H$107,8,FALSE),0)-ROUNDDOWN(10*AB19/$H19,0)),IF(AND(Z19=\"Nul\",$AB19=$H19),58,0))))","v":0},null,{"$f":"IF(AD19<>\"\",VLOOKUP(AD19,$A$8:$C$107,2,FALSE),\"\")","v":""},{"$f":"IF(AD19<>\"\",IF(AD19=$A19,\"ERR\",IF(OR(AD19=$P19,AD19=$W19,AD19=$I19,AD19=$AK19),\"DUP\",IF(ISNA(VLOOKUP(AD19,$A$8:$A$107,1,FALSE)),\"ERR\",IF(COUNTIF($I$8:$I$107,AD19)>1,\"ERR\",IF($D19=VLOOKUP(AD19,$A$8:$D$107,4,FALSE),\"CLUB\",\"OK\"))))),\"\")","v":""},null,{"$f":"IF(AG19<>\"\",IF(AG19=\"Victoire\",IF(VLOOKUP(AD19,$A$8:$AO$107,33,FALSE)=\"Défaite\",\"OK\",\"ERR\"),IF(AG19=\"Défaite\",IF(VLOOKUP(AD19,$A$8:$AO$107,33,FALSE)=\"Victoire\",\"OK\",\"ERR\"),IF(AG19=\"Nul\",IF(VLOOKUP(AD19,$A$8:$AO$107,33,FALSE)=\"Nul\",\"OK\",\"ERR\")))),\"\")","v":""},null,{"$f":"IF(AG19=\"Victoire\",100-ROUNDDOWN(20*AI19/$H19,0),\nIF(AG19=\"Défaite\",10+ROUNDDOWN(20*VLOOKUP(AD19,$A$8:$AO$107,35,FALSE)/VLOOKUP(AD19,$A$8:$H$107,8,FALSE),0),\nIF(AND(AG19=\"Nul\",$AI19<>$H19),40+(2*ROUNDDOWN(10*VLOOKUP(AD19,$A$8:$AO$107,35,FALSE)/VLOOKUP(AD19,$A$8:$H$107,8,FALSE),0)-ROUNDDOWN(10*AI19/$H19,0)),IF(AND(AG19=\"Nul\",$AI19=$H19),58,0))))","v":0},null,{"$f":"IF(AK19<>\"\",VLOOKUP(AK19,$A$8:$C$107,2,FALSE),\"\")","v":""},{"$f":"IF(AK19<>\"\",IF(AK19=$A19,\"ERR\",IF(OR(AK19=$P19,AK19=$W19,AK19=$AD19,AK19=$I19),\"DUP\",IF(ISNA(VLOOKUP(AK19,$A$8:$A$107,1,FALSE)),\"ERR\",IF(COUNTIF($I$8:$I$107,AK19)>1,\"ERR\",IF($D19=VLOOKUP(AK19,$A$8:$D$107,4,FALSE),\"CLUB\",\"OK\"))))),\"\")","v":""},null,{"$f":"IF(AN19<>\"\",IF(AN19=\"Victoire\",IF(VLOOKUP(AK19,$A$8:$AO$107,40,FALSE)=\"Défaite\",\"OK\",\"ERR\"),IF(AN19=\"Défaite\",IF(VLOOKUP(AK19,$A$8:$AO$107,40,FALSE)=\"Victoire\",\"OK\",\"ERR\"),IF(AN19=\"Nul\",IF(VLOOKUP(AK19,$A$8:$AO$107,40,FALSE)=\"Nul\",\"OK\",\"ERR\")))),\"\")","v":""},null,{"$f":"IF(AN19=\"Victoire\",100-ROUNDDOWN(20*AP19/$H19,0),\nIF(AN19=\"Défaite\",10+ROUNDDOWN(20*VLOOKUP(AK19,$A$8:$CB$107,42,FALSE)/VLOOKUP(AK19,$A$8:$H$107,8,FALSE),0),\nIF(AND(AN19=\"Nul\",$AP19<>$H19),40+(2*ROUNDDOWN(10*VLOOKUP(AK19,$A$8:$CB$107,42,FALSE)/VLOOKUP(AK19,$A$8:$H$107,8,FALSE),0)-ROUNDDOWN(10*AP19/$H19,0)),IF(AND(AN19=\"Nul\",$AP19=$H19),58,0))))","v":0},null,{"$f":"IF(AR19<>\"\",VLOOKUP(AR19,$A$8:$C$107,2,FALSE),\"\")","v":""},{"$f":"IF(AR19<>\"\",IF(AR19=$A19,\"ERR\",IF(OR(AR19=$I19,AR19=$P19,AR19=$W19,AR19=$AD19,AR19=$AK19),\"DUP\",IF(ISNA(VLOOKUP(AR19,$A$8:$A$107,1,FALSE)),\"ERR\",IF(COUNTIF($I$8:$I$107,AR19)>1,\"ERR\",IF($D19=VLOOKUP(AR19,$A$8:$D$107,4,FALSE),\"CLUB\",\"OK\"))))),\"\")","v":""},null,{"$f":"IF(AU19<>\"\",IF(AU19=\"Victoire\",IF(VLOOKUP(AR19,$A$8:$BL$107,47,FALSE)=\"Défaite\",\"OK\",\"ERR\"),IF(AU19=\"Défaite\",IF(VLOOKUP(AR19,$A$8:$BL$107,47,FALSE)=\"Victoire\",\"OK\",\"ERR\"),IF(AU19=\"Nul\",IF(VLOOKUP(AR19,$A$8:$BL$107,47,FALSE)=\"Nul\",\"OK\",\"ERR\")))),\"\")","v":""},null,{"$f":"IF(AU19=\"Victoire\",100-ROUNDDOWN(20*AW19/$H19,0),\nIF(AU19=\"Défaite\",10+ROUNDDOWN(20*VLOOKUP(AR19,$A$8:$CB$107,49,FALSE)/VLOOKUP(AR19,$A$8:$H$107,8,FALSE),0),\nIF(AND(AU19=\"Nul\",$AW19<>$H19),40+(2*ROUNDDOWN(10*VLOOKUP(AR19,$A$8:$CB$107,49,FALSE)/VLOOKUP(AR19,$A$8:$H$107,8,FALSE),0)-ROUNDDOWN(10*AW19/$H19,0)),IF(AND(AU19=\"Nul\",$AW19=$H19),58,0))))","v":0},null,{"$f":"IF(AY19<>\"\",VLOOKUP(AY19,$A$8:$C$107,2,FALSE),\"\")","v":""},{"$f":"IF(AY19<>\"\",IF(AY19=$A19,\"ERR\",IF(OR(AY19=$I19,AY19=$P19,AY19=$W19,AY19=$AD19,AY19=$AK19,AY19=$AR19),\"DUP\",IF(ISNA(VLOOKUP(AY19,$A$8:$A$107,1,FALSE)),\"ERR\",IF(COUNTIF($I$8:$I$107,AY19)>1,\"ERR\",IF($D19=VLOOKUP(AY19,$A$8:$D$107,4,FALSE),\"CLUB\",\"OK\"))))),\"\")","v":""},null,{"$f":"IF(BB19<>\"\",IF(BB19=\"Victoire\",IF(VLOOKUP(AY19,$A$8:$BL$107,54,FALSE)=\"Défaite\",\"OK\",\"ERR\"),IF(BB19=\"Défaite\",IF(VLOOKUP(AY19,$A$8:$BL$107,54,FALSE)=\"Victoire\",\"OK\",\"ERR\"),IF(BB19=\"Nul\",IF(VLOOKUP(AY19,$A$8:$BL$107,54,FALSE)=\"Nul\",\"OK\",\"ERR\")))),\"\")","v":""},null,{"$f":"IF(BB19=\"Victoire\",100-ROUNDDOWN(20*BD19/$H19,0),\nIF(BB19=\"Défaite\",10+ROUNDDOWN(20*VLOOKUP(AY19,$A$8:$CB$107,56,FALSE)/VLOOKUP(AY19,$A$8:$H$107,8,FALSE),0),\nIF(AND(BB19=\"Nul\",$BD19<>$H19),40+(2*ROUNDDOWN(10*VLOOKUP(AY19,$A$8:$CB$107,56,FALSE)/VLOOKUP(AY19,$A$8:$H$107,8,FALSE),0)-ROUNDDOWN(10*BD19/$H19,0)),IF(AND(BB19=\"Nul\",$BD19=$H19),58,0))))","v":0},null,{"$f":"IF(BF19<>\"\",VLOOKUP(BF19,$A$8:$C$107,2,FALSE),\"\")","v":""},{"$f":"IF(BF19<>\"\",IF(BF19=$A19,\"ERR\",IF(OR(BF19=$I19,BF19=$P19,BF19=$W19,BF19=$AD19,BF19=$AK19,BF19=$AR19,BF19=$AY19),\"DUP\",IF(ISNA(VLOOKUP(BF19,$A$8:$A$107,1,FALSE)),\"ERR\",IF(COUNTIF($I$8:$I$107,BF19)>1,\"ERR\",IF($D19=VLOOKUP(BF19,$A$8:$D$107,4,FALSE),\"CLUB\",\"OK\"))))),\"\")","v":""},null,{"$f":"IF(BI19<>\"\",IF(BI19=\"Victoire\",IF(VLOOKUP(BF19,$A$8:$BL$107,61,FALSE)=\"Défaite\",\"OK\",\"ERR\"),IF(BI19=\"Défaite\",IF(VLOOKUP(BF19,$A$8:$BL$107,61,FALSE)=\"Victoire\",\"OK\",\"ERR\"),IF(BI19=\"Nul\",IF(VLOOKUP(BF19,$A$8:$BL$107,61,FALSE)=\"Nul\",\"OK\",\"ERR\")))),\"\")","v":""},null,{"$f":"IF(BI19=\"Victoire\",100-ROUNDDOWN(20*BK19/$H19,0),\nIF(BI19=\"Défaite\",10+ROUNDDOWN(20*VLOOKUP(BF19,$A$8:$CB$107,63,FALSE)/VLOOKUP(BF19,$A$8:$H$107,8,FALSE),0),\nIF(AND(BI19=\"Nul\",$BK19<>$H19),40+(2*ROUNDDOWN(10*VLOOKUP(BF19,$A$8:$CB$107,63,FALSE)/VLOOKUP(BF19,$A$8:$H$107,8,FALSE),0)-ROUNDDOWN(10*BK19/$H19,0)),IF(AND(BI19=\"Nul\",$BK19=$H19),58,0))))","v":0},null,{"$f":"IF(BM19<>\"\",VLOOKUP(BM19,$A$8:$C$107,2,FALSE),\"\")","v":""},{"$f":"IF(BM19<>\"\",IF(BM19=$A19,\"ERR\",IF(OR(BM19=$I19,BM19=$P19,BM19=$W19,BM19=$AD19,BM19=$AK19,BM19=$AR19,BM19=$AY19,BM19=$BF19),\"DUP\",IF(ISNA(VLOOKUP(BM19,$A$8:$A$107,1,FALSE)),\"ERR\",IF(COUNTIF($I$8:$I$107,BM19)>1,\"ERR\",IF($D19=VLOOKUP(BM19,$A$8:$D$107,4,FALSE),\"CLUB\",\"OK\"))))),\"\")","v":""},null,{"$f":"IF(BP19<>\"\",IF(BP19=\"Victoire\",IF(VLOOKUP(BM19,$A$8:$BS$107,68,FALSE)=\"Défaite\",\"OK\",\"ERR\"),IF(BP19=\"Défaite\",IF(VLOOKUP(BM19,$A$8:$BS$107,68,FALSE)=\"Victoire\",\"OK\",\"ERR\"),IF(BP19=\"Nul\",IF(VLOOKUP(BM19,$A$8:$BS$107,68,FALSE)=\"Nul\",\"OK\",\"ERR\")))),\"\")","v":""},null,{"$f":"IF(BP19=\"Victoire\",100-ROUNDDOWN(20*BR19/$H19,0),\nIF(BP19=\"Défaite\",10+ROUNDDOWN(20*VLOOKUP(BM19,$A$8:$CB$107,70,FALSE)/VLOOKUP(BM19,$A$8:$H$107,8,FALSE),0),\nIF(AND(BP19=\"Nul\",$BR19<>$H19),40+(2*ROUNDDOWN(10*VLOOKUP(BM19,$A$8:$CB$107,70,FALSE)/VLOOKUP(BM19,$A$8:$H$107,8,FALSE),0)-ROUNDDOWN(10*BR19/$H19,0)),IF(AND(BP19=\"Nul\",$BR19=$H19),58,0))))","v":0},null,{"$f":"IF($I19<>\"\",VLOOKUP($I19,$A$8:$N$107,5,FALSE),0)+IF($P19<>\"\",VLOOKUP($P19,$A$8:$N$107,5,FALSE),0)+IF($W19<>\"\",VLOOKUP($W19,$A$8:$N$107,5,FALSE),0)+IF($AD19<>\"\",VLOOKUP($AD19,$A$8:$N$107,5,FALSE),0)+IF($AK19<>\"\",VLOOKUP($AK19,$A$8:$N$107,5,FALSE),0)+IF($AR19<>\"\",VLOOKUP($AR19,$A$8:$N$107,5,FALSE),0)+IF($AY19<>\"\",VLOOKUP($AY19,$A$8:$N$107,5,FALSE),0)+IF($BF19<>\"\",VLOOKUP($BF19,$A$8:$N$107,5,FALSE),0)+IF($BM19<>\"\",VLOOKUP($BM19,$A$8:$N$107,5,FALSE),0)","v":0}]
[{"$nulls":4},0,null,{"$f":"IF($F20<>\"\",VLOOKUP(F20,Armies!$A$1:$C$300,3,FALSE),\"\")","v":""},null,null,{"$f":"IF(I20<>\"\",VLOOKUP(I20,$A$8:$C$107,2,FALSE),\"\")","v":""},{"$f":"IF(I20<>\"\",IF(I20=$A20,\"ERR\",IF(OR(I20=$P20,I20=$W20,I20=$AD20,I20=$AK20),\"DUP\",IF(ISNA(VLOOKUP(I20,$A$8:$A$107,1,FALSE)),\"ERR\",IF(COUNTIF($I$8:$I$107,I20)>1,\"ERR\",IF($D20=VLOOKUP(I20,$A$8:$D$107,4,FALSE),\"CLUB\",\"OK\"))))),\"\")","v":""},null,{"$f":"IF(L20<>\"\",IF(L20=\"Victoire\",IF(VLOOKUP(I20,$A$8:$L$107,12,FALSE)=\"Défaite\",\"OK\",\"ERR\"),IF(L20=\"Défaite\",IF(VLOOKUP(I20,$A$8:$L$107,12,FALSE)=\"Victoire\",\"OK\",\"ERR\"),IF(L20=\"Nul\",IF(VLOOKUP(I20,$A$8:$L$107,12,FALSE)=\"Nul\",\"OK\",\"ERR\")))),\"\")","v":""},null,{"$f":"IF(L20=\"Victoire\",100-ROUNDDOWN(20*N20/$H20,0),\nIF(L20=\"Défaite\",10+ROUNDDOWN(20*VLOOKUP(I20,$A$8:$N$107,14,FALSE)/VLOOKUP(I20,$A$8:$H$107,8,FALSE),0),\nIF(AND(L20=\"Nul\",$N20<>$H20),40+(2*ROUNDDOWN(10*VLOOKUP(I20,$A$8:$N$107,14,FALSE)/VLOOKUP(I20,$A$8:$H$107,8,FALSE),0)-ROUNDDOWN(10*N20/$H20,0)),IF(AND(L20=\"Nul\",$N20=$H20),58,0))))","v":0},null,{"$f":"IF(P20<>\"\",VLOOKUP(P20,$A$8:$C$107,2,FALSE),\"\")","v":""},{"$f":"IF(P20<>\"\",IF(P20=$A20,\"ERR\",IF(OR(P20=$I20,P20=$W20,P20=$AD20,P20=$AK20),\"DUP\",IF(ISNA(VLOOKUP(P20,$A$8:$A$107,1,FALSE)),\"ERR\",IF(COUNTIF($I$8:$I$107,P20)>1,\"ERR\",IF($D20=VLOOKUP(P20,$A$8:$D$107,4,FALSE),\"CLUB\",\"OK\"))))),\"\")","v":""},null,{"$f":"IF(S20<>\"\",IF(S20=\"Victoire\",IF(VLOOKUP(P20,$A$8:$AO$107,19,FALSE)=\"Défaite\",\"OK\",\"ERR\"),IF(S20=\"Défaite\",IF(VLOOKUP(P20,$A$8:$AO$107,19,FALSE)=\"Victoire\",\"OK\",\"ERR\"),IF(S20=\"Nul\",IF(VLOOKUP(P20,$A$8:$AO$107,19,FALSE)=\"Nul\",\"OK\",\"ERR\")))),\"\")","v":""},null,{"$f":"IF(S20=\"Victoire\",100-ROUNDDOWN(20*U20/$H20,0),\nIF(S20=\"Défaite\",10+ROUNDDOWN(20*VLOOKUP(P20,$A$8:$AO$107,21,FALSE)/VLOOKUP(P20,$A$8:$H$107,8,FALSE),0),\nIF(AND(S20=\"Nul\",$U20<>$H20),40+(2*ROUNDDOWN(10*VLOOKUP(P20,$A$8:$AO$107,21,FALSE)/VLOOKUP(P20,$A$8:$H$107,8,FALSE),0)-ROUNDDOWN(10*U20/$H20,0)),IF(AND(S20=\"Nul\",$U20=$H20),58,0))))","v":0},null,{"$f":"IF(W20<>\"\",VLOOKUP(W20,$A$8:$C$107,2,FALSE),\"\")","v":""},{"$f":"IF(W20<>\"\",IF(W20=$A20,\"ERR\",IF(OR(W20=$P20,W20=$I20,W20=$AD20,W20=$AK20),\"DUP\",IF(ISNA(VLOOKUP(W20,$A$8:$A$107,1,FALSE)),\"ERR\",IF(COUNTIF($I$8:$I$107,W20)>1,\"ERR\",IF($D20=VLOOKUP(W20,$A$8:$D$107,4,FALSE),\"CLUB\",\"OK\"))))),\"\")","v":""},null,{"$f":"IF(Z20<>\"\",IF(Z20=\"Victoire\",IF(VLOOKUP(W20,$A$8:$AO$107,26,FALSE)=\"Défaite\",\"OK\",\"ERR\"),IF(Z20=\"Défaite\",IF(VLOOKUP(W20,$A$8:$AO$107,26,FALSE)=\"Victoire\",\"OK\",\"ERR\"),IF(Z20=\"Nul\",IF(VLOOKUP(W20,$A$8:$AO$107,26,FALSE)=\"Nul\",\"OK\",\"ERR\")))),\"\")","v":""},null,{"$f":"IF(Z20=\"Victoire\",100-ROUNDDOWN(20*AB20/$H20,0),\nIF(Z20=\"Défaite\",10+ROUNDDOWN(20*VLOOKUP(W20,$A$8:$AO$107,28,FALSE)/VLOOKUP(W20,$A$8:$H$107,8,FALSE),0),\nIF(AND(Z20=\"Nul\",$AB20<>$H20),40+(2*ROUNDDOWN(10*VLOOKUP(W20,$A$8:$AO$107,28,FALSE)/VLOOKUP(W20,$A$8:$H$107,8,FALSE),0)-ROUNDDOWN(10*AB20/$H20,0)),IF(AND(Z20=\"Nul\",$AB20=$H20),58,0))))","v":0},null,{"$f":"IF(AD20<>\"\",VLOOKUP(AD20,$A$8:$C$107,2,FALSE),\"\")","v":""},{"$f":"IF(AD20<>\"\",IF(AD20=$A20,\"ERR\",IF(OR(AD20=$P20,AD20=$W20,AD20=$I20,AD20=$AK20),\"DUP\",IF(ISNA(VLOOKUP(AD20,$A$8:$A$107,1,FALSE)),\"ERR\",IF(COUNTIF($I$8:$I$107,AD20)>1,\"ERR\",IF($D20=VLOOKUP(AD20,$A$8:$D$107,4,FALSE),\"CLUB\",\"OK\"))))),\"\")","v":""},null,{"$f":"IF(AG20<>\"\",IF(AG20=\"Victoire\",IF(VLOOKUP(AD20,$A$8:$AO$107,33,FALSE)=\"Défaite\",\"OK\",\"ERR\"),IF(AG20=\"Défaite\",IF(VLOOKUP(AD20,$A$8:$AO$107,33,FALSE)=\"Victoire\",\"OK\",\"ERR\"),IF(AG20=\"Nul\",IF(VLOOKUP(AD20,$A$8:$AO$107,33,FALSE)=\"Nul\",\"OK\",\"ERR\")))),\"\")","v":""},null,{"$f":"IF(AG20=\"Victoire\",100-ROUNDDOWN(20*AI20/$H20,0),\nIF(AG20=\"Défaite\",10+ROUNDDOWN(20*VLOOKUP(AD20,$A$8:$AO$107,35,FALSE)/VLOOKUP(AD20,$A$8:$H$107,8,FALSE),0),\nIF(AND(AG20=\"Nul\",$AI20<>$H20),40+(2*ROUNDDOWN(10*VLOOKUP(AD20,$A$8:$AO$107,35,FALSE)/VLOOKUP(AD20,$A$8:$H$107,8,FALSE),0)-ROUNDDOWN(10*AI20/$H20,0)),IF(AND(AG20=\"Nul\",$AI20=$H20),58,0))))","v":0},null,{"$f":"IF(AK20<>\"\",VLOOKUP(AK20,$A$8:$C$107,2,FALSE),\"\")","v":""},{"$f":"IF(AK20<>\"\",IF(AK20=$A20,\"ERR\",IF(OR(AK20=$P20,AK20=$W20,AK20=$AD20,AK20=$I20),\"DUP\",IF(ISNA(VLOOKUP(AK20,$A$8:$A$107,1,FALSE)),\"ERR\",IF(COUNTIF($I$8:$I$107,AK20)>1,\"ERR\",IF($D20=VLOOKUP(AK20,$A$8:$D$107,4,FALSE),\"CLUB\",\"OK\"))))),\"\")","v":""},null,{"$f":"IF(AN20<>\"\",IF(AN20=\"Victoire\",IF(VLOOKUP(AK20,$A$8:$AO$107,40,FALSE)=\"Défaite\",\"OK\",\"ERR\"),IF(AN20=\"Défaite\",IF(VLOOKUP(AK20,$A$8:$AO$107,40,FALSE)=\"Victoire\",\"OK\",\"ERR\"),IF(AN20=\"Nul\",IF(VLOOKUP(AK20,$A$8:$AO$107,40,FALSE)=\"Nul\",\"OK\",\"ERR\")))),\"\")","v":""},null,{"$f":"IF(AN20=\"Victoire\",100-ROUNDDOWN(20*AP20/$H20,0),\nIF(AN20=\"Défaite\",10+ROUNDDOWN(20*VLOOKUP(AK20,$A$8:$CB$107,42,FALSE)/VLOOKUP(AK20,$A$8:$H$107,8,FALSE),0),\nIF(AND(AN20=\"Nul\",$AP20<>$H20),40+(2*ROUNDDOWN(10*VLOOKUP(AK20,$A$8:$CB$107,42,FALSE)/VLOOKUP(AK20,$A$8:$H$107,8,FALSE),0)-ROUNDDOWN(10*AP20/$H20,0)),IF(AND(AN20=\"Nul\",$AP20=$H20),58,0))))","v":0},null,{"$f":"IF(AR20<>\"\",VLOOKUP(AR20,$A$8:$C$107,2,FALSE),\"\")","v":""},{"$f":"IF(AR20<>\"\",IF(AR20=$A20,\"ERR\",IF(OR(AR20=$I20,AR20=$P20,AR20=$W20,AR20=$AD20,AR20=$AK20),\"DUP\",IF(ISNA(VLOOKUP(AR20,$A$8:$A$107,1,FALSE)),\"ERR\",IF(COUNTIF($I$8:$I$107,AR20)>1,\"ERR\",IF($D20=VLOOKUP(AR20,$A$8:$D$107,4,FALSE),\"CLUB\",\"OK\"))))),\"\")","v":""},null,{"$f":"IF(AU20<>\"\",IF(AU20=\"Victoire\",IF(VLOOKUP(AR20,$A$8:$BL$107,47,FALSE)=\"Défaite\",\"OK\",\"ERR\"),IF(AU20=\"Défaite\",IF(VLOOKUP(AR20,$A$8:$BL$107,47,FALSE)=\"Victoire\",\"OK\",\"ERR\"),IF(AU20=\"Nul\",IF(VLOOKUP(AR20,$A$8:$BL$107,47,FALSE)=\"Nul\",\"OK\",\"ERR\")))),\"\")","v":""},null,{"$f":"IF(AU20=\"Victoire\",100-ROUNDDOWN(20*AW20/$H20,0),\nIF(AU20=\"Défaite\",10+ROUNDDOWN(20*VLOOKUP(AR20,$A$8:$CB$107,49,FALSE)/VLOOKUP(AR20,$A$8:$H$107,8,FALSE),0),\nIF(AND(AU20=\"Nul\",$AW20<>$H20),40+(2*ROUNDDOWN(10*VLOOKUP(AR20,$A$8:$CB$107,49,FALSE)/VLOOKUP(AR20,$A$8:$H$107,8,FALSE),0)-ROUNDDOWN(10*AW20/$H20,0)),IF(AND(AU20=\"Nul\",$AW20=$H20),58,0))))","v":0},null,{"$f":"IF(AY20<>\"\",VLOOKUP(AY20,$A$8:$C$107,2,FALSE),\"\")","v":""},{"$f":"IF(AY20<>\"\",IF(AY20=$A20,\"ERR\",IF(OR(AY20=$I20,AY20=$P20,AY20=$W20,AY20=$AD20,AY20=$AK20,AY20=$AR20),\"DUP\",IF(ISNA(VLOOKUP(AY20,$A$8:$A$107,1,FALSE)),\"ERR\",IF(COUNTIF($I$8:$I$107,AY20)>1,\"ERR\",IF($D20=VLOOKUP(AY20,$A$8:$D$107,4,FALSE),\"CLUB\",\"OK\"))))),\"\")","v":""},null,{"$f":"IF(BB20<>\"\",IF(BB20=\"Victoire\",IF(VLOOKUP(AY20,$A$8:$BL$107,54,FALSE)=\"Défaite\",\"OK\",\"ERR\"),IF(BB20=\"Défaite\",IF(VLOOKUP(AY20,$A$8:$BL$107,54,FALSE)=\"Victoire\",\"OK\",\"ERR\"),IF(BB20=\"Nul\",IF(VLOOKUP(AY20,$A$8:$BL$107,54,FALSE)=\"Nul\",\"OK\",\"ERR\")))),\"\")","v":""},null,{"$f":"IF(BB20=\"Victoire\",100-ROUNDDOWN(20*BD20/$H20,0),\nIF(BB20=\"Défaite\",10+ROUNDDOWN(20*VLOOKUP(AY20,$A$8:$CB$107,56,FALSE)/VLOOKUP(AY20,$A$8:$H$107,8,FALSE),0),\nIF(AND(BB20=\"Nul\",$BD20<>$H20),40+(2*ROUNDDOWN(10*VLOOKUP(AY20,$A$8:$CB$107,56,FALSE)/VLOOKUP(AY20,$A$8:$H$107,8,FALSE),0)-ROUNDDOWN(10*BD20/$H20,0)),IF(AND(BB20=\"Nul\",$BD20=$H20),58,0))))","v":0},null,{"$f":"IF(BF20<>\"\",VLOOKUP(BF20,$A$8:$C$107,2,FALSE),\"\")","v":""},{"$f":"IF(BF20<>\"\",IF(BF20=$A20,\"ERR\",IF(OR(BF20=$I20,BF20=$P20,BF20=$W20,BF20=$AD20,BF20=$AK20,BF20=$AR20,BF20=$AY20),\"DUP\",IF(ISNA(VLOOKUP(BF20,$A$8:$A$107,1,FALSE)),\"ERR\",IF(COUNTIF($I$8:$I$107,BF20)>1,\"ERR\",IF($D20=VLOOKUP(BF20,$A$8:$D$107,4,FALSE),\"CLUB\",\"OK\"))))),\"\")","v":""},null,{"$f":"IF(BI20<>\"\",IF(BI20=\"Victoire\",IF(VLOOKUP(BF20,$A$8:$BL$107,61,FALSE)=\"Défaite\",\"OK\",\"ERR\"),IF(BI20=\"Défaite\",IF(VLOOKUP(BF20,$A$8:$BL$107,61,FALSE)=\"Victoire\",\"OK\",\"ERR\"),IF(BI20=\"Nul\",IF(VLOOKUP(BF20,$A$8:$BL$107,61,FALSE)=\"Nul\",\"OK\",\"ERR\")))),\"\")","v":""},null,{"$f":"IF(BI20=\"Victoire\",100-ROUNDDOWN(20*BK20/$H20,0),\nIF(BI20=\"Défaite\",10+ROUNDDOWN(20*VLOOKUP(BF20,$A$8:$CB$107,63,FALSE)/VLOOKUP(BF20,$A$8:$H$107,8,FALSE),0),\nIF(AND(BI20=\"Nul\",$BK20<>$H20),40+(2*ROUNDDOWN(10*VLOOKUP(BF20,$A$8:$CB$107,63,FALSE)/VLOOKUP(BF20,$A$8:$H$107,8,FALSE),0)-ROUNDDOWN(10*BK20/$H20,0)),IF(AND(BI20=\"Nul\",$BK20=$H20),58,0))))","v":0},null,{"$f":"IF(BM20<>\"\",VLOOKUP(BM20,$A$8:$C$107,2,FALSE),\"\")","v":""},{"$f":"IF(BM20<>\"\",IF(BM20=$A20,\"ERR\",IF(OR(BM20=$I20,BM20=$P20,BM20=$W20,BM20=$AD20,BM20=$AK20,BM20=$AR20,BM20=$AY20,BM20=$BF20),\"DUP\",IF(ISNA(VLOOKUP(BM20,$A$8:$A$107,1,FALSE)),\"ERR\",IF(COUNTIF($I$8:$I$107,BM20)>1,\"ERR\",IF($D20=VLOOKUP(BM20,$A$8:$D$107,4,FALSE),\"CLUB\",\"OK\"))))),\"\")","v":""},null,{"$f":"IF(BP20<>\"\",IF(BP20=\"Victoire\",IF(VLOOKUP(BM20,$A$8:$BS$107,68,FALSE)=\"Défaite\",\"OK\",\"ERR\"),IF(BP20=\"Défaite\",IF(VLOOKUP(BM20,$A$8:$BS$107,68,FALSE)=\"Victoire\",\"OK\",\"ERR\"),IF(BP20=\"Nul\",IF(VLOOKUP(BM20,$A$8:$BS$107,68,FALSE)=\"Nul\",\"OK\",\"ERR\")))),\"\")","v":""},null,{"$f":"IF(BP20=\"Victoire\",100-ROUNDDOWN(20*BR20/$H20,0),\nIF(BP20=\"Défaite\",10+ROUNDDOWN(20*VLOOKUP(BM20,$A$8:$CB$107,70,FALSE)/VLOOKUP(BM20,$A$8:$H$107,8,FALSE),0),\nIF(AND(BP20=\"Nul\",$BR20<>$H20),40+(2*ROUNDDOWN(10*VLOOKUP(BM20,$A$8:$CB$107,70,FALSE)/VLOOKUP(BM20,$A$8:$H$107,8,FALSE),0)-ROUNDDOWN(10*BR20/$H20,0)),IF(AND(BP20=\"Nul\",$BR20=$H20),58,0))))","v":0},null,{"$f":"IF($I20<>\"\",VLOOKUP($I20,$A$8:$N$107,5,FALSE),0)+IF($P20<>\"\",VLOOKUP($P20,$A$8:$N$107,5,FALSE),0)+IF($W20<>\"\",VLOOKUP($W20,$A$8:$N$107,5,FALSE),0)+IF($AD20<>\"\",VLOOKUP($AD20,$A$8:$N$107,5,FALSE),0)+IF($AK20<>\"\",VLOOKUP($AK20,$A$8:$N$107,5,FALSE),0)+IF($AR20<>\"\",VLOOKUP($AR20,$A$8:$N$107,5,FALSE),0)+IF($AY20<>\"\",VLOOKUP($AY20,$A$8:$N$107,5,FALSE),0)+IF($BF20<>\"\",VLOOKUP($BF20,$A$8:$N$107,5,FALSE),0)+IF($BM20<>\"\",VLOOKUP($BM20,$A$8:$N$107,5,FALSE),0)","v":0}]
[{"$nulls":4},0,null,{"$f":"IF($F21<>\"\",VLOOKUP(F21,Armies!$A$1:$C$300,3,FALSE),\"\")","v":""},null,null,{"$f":"IF(I21<>\"\",VLOOKUP(I21,$A$8:$C$107,2,FALSE),\"\")","v":""},{"$f":"IF(I21<>\"\",IF(I21=$A21,\"ERR\",IF(OR(I21=$P21,I21=$W21,I21=$AD21,I21=$AK21),\"DUP\",IF(ISNA(VLOOKUP(I21,$A$8:$A$107,1,FALSE)),\"ERR\",IF(COUNTIF($I$8:$I$107,I21)>1,\"ERR\",IF($D21=VLOOKUP(I21,$A$8:$D$107,4,FALSE),\"CLUB\",\"OK\"))))),\"\")","v":""},null,{"$f":"IF(L21<>\"\",IF(L21=\"Victoire\",IF(VLOOKUP(I21,$A$8:$L$107,12,FALSE)=\"Défaite\",\"OK\",\"ERR\"),IF(L21=\"Défaite\",IF(VLOOKUP(I21,$A$8:$L$107,12,FALSE)=\"Victoire\",\"OK\",\"ERR\"),IF(L21=\"Nul\",IF(VLOOKUP(I21,$A$8:$L$107,12,FALSE)=\"Nul\",\"OK\",\"ERR\")))),\"\")","v":""},null,{"$f":"IF(L21=\"Victoire\",100-ROUNDDOWN(20*N21/$H21,0),\nIF(L21=\"Défaite\",10+ROUNDDOWN(20*VLOOKUP(I21,$A$8:$N$107,14,FALSE)/VLOOKUP(I21,$A$8:$H$107,8,FALSE),0),\nIF(AND(L21=\"Nul\",$N21<>$H21),40+(2*ROUNDDOWN(10*VLOOKUP(I21,$A$8:$N$107,14,FALSE)/VLOOKUP(I21,$A$8:$H$107,8,FALSE),0)-ROUNDDOWN(10*N21/$H21,0)),IF(AND(L21=\"Nul\",$N21=$H21),58,0))))","v":0},null,{"$f":"IF(P21<>\"\",VLOOKUP(P21,$A$8:$C$107,2,FALSE),\"\")","v":""},{"$f":"IF(P21<>\"\",IF(P21=$A21,\"ERR\",IF(OR(P21=$I21,P21=$W21,P21=$AD21,P21=$AK21),\"DUP\",IF(ISNA(VLOOKUP(P21,$A$8:$A$107,1,FALSE)),\"ERR\",IF(COUNTIF($I$8:$I$107,P21)>1,\"ERR\",IF($D21=VLOOKUP(P21,$A$8:$D$107,4,FALSE),\"CLUB\",\"OK\"))))),\"\")","v":""},null,{"$f":"IF(S21<>\"\",IF(S21=\"Victoire\",IF(VLOOKUP(P21,$A$8:$AO$107,19,FALSE)=\"Défaite\",\"OK\",\"ERR\"),IF(S21=\"Défaite\",IF(VLOOKUP(P21,$A$8:$AO$107,19,FALSE)=\"Victoire\",\"OK\",\"ERR\"),IF(S21=\"Nul\",IF(VLOOKUP(P21,$A$8:$AO$107,19,FALSE)=\"Nul\",\"OK\",\"ERR\")))),\"\")","v":""},null,{"$f":"IF(S21=\"Victoire\",100-ROUNDDOWN(20*U21/$H21,0),\nIF(S21=\"Défaite\",10+ROUNDDOWN(20*VLOOKUP(P21,$A$8:$AO$107,21,FALSE)/VLOOKUP(P21,$A$8:$H$107,8,FALSE),0),\nIF(AND(S21=\"Nul\",$U21<>$H21),40+(2*ROUNDDOWN(10*VLOOKUP(P21,$A$8:$AO$107,21,FALSE)/VLOOKUP(P21,$A$8:$H$107,8,FALSE),0)-ROUNDDOWN(10*U21/$H21,0)),IF(AND(S21=\"Nul\",$U21=$H21),58,0))))","v":0},null,{"$f":"IF(W21<>\"\",VLOOKUP(W21,$A$8:$C$107,2,FALSE),\"\")","v":""},{"$f":"IF(W21<>\"\",IF(W21=$A21,\"ERR\",IF(OR(W21=$P21,W21=$I21,W21=$AD21,W21=$AK21),\"DUP\",IF(ISNA(VLOOKUP(W21,$A$8:$A$107,1,FALSE)),\"ERR\",IF(COUNTIF($I$8:$I$107,W21)>1,\"ERR\",IF($D21=VLOOKUP(W21,$A$8:$D$107,4,FALSE),\"CLUB\",\"OK\"))))),\"\")","v":""},null,{"$f":"IF(Z21<>\"\",IF(Z21=\"Victoire\",IF(VLOOKUP(W21,$A$8:$AO$107,26,FALSE)=\"Défaite\",\"OK\",\"ERR\"),IF(Z21=\"Défaite\",IF(VLOOKUP(W21,$A$8:$AO$107,26,FALSE)=\"Victoire\",\"OK\",\"ERR\"),IF(Z21=\"Nul\",IF(VLOOKUP(W21,$A$8:$AO$107,26,FALSE)=\"Nul\",\"OK\",\"ERR\")))),\"\")","v":""},null,{"$f":"IF(Z21=\"Victoire\",100-ROUNDDOWN(20*AB21/$H21,0),\nIF(Z21=\"Défaite\",10+ROUNDDOWN(20*VLOOKUP(W21,$A$8:$AO$107,28,FALSE)/VLOOKUP(W21,$A$8:$H$107,8,FALSE),0),\nIF(AND(Z21=\"Nul\",$AB21<>$H21),40+(2*ROUNDDOWN(10*VLOOKUP(W21,$A$8:$AO$107,28,FALSE)/VLOOKUP(W21,$A$8:$H$107,8,FALSE),0)-ROUNDDOWN(10*AB21/$H21,0)),IF(AND(Z21=\"Nul\",$AB21=$H21),58,0))))","v":0},null,{"$f":"IF(AD21<>\"\",VLOOKUP(AD21,$A$8:$C$107,2,FALSE),\"\")","v":""},{"$f":"IF(AD21<>\"\",IF(AD21=$A21,\"ERR\",IF(OR(AD21=$P21,AD21=$W21,AD21=$I21,AD21=$AK21),\"DUP\",IF(ISNA(VLOOKUP(AD21,$A$8:$A$107,1,FALSE)),\"ERR\",IF(COUNTIF($I$8:$I$107,AD21)>1,\"ERR\",IF($D21=VLOOKUP(AD21,$A$8:$D$107,4,FALSE),\"CLUB\",\"OK\"))))),\"\")","v":""},null,{"$f":"IF(AG21<>\"\",IF(AG21=\"Victoire\",IF(VLOOKUP(AD21,$A$8:$AO$107,33,FALSE)=\"Défaite\",\"OK\",\"ERR\"),IF(AG21=\"Défaite\",IF(VLOOKUP(AD21,$A$8:$AO$107,33,FALSE)=\"Victoire\",\"OK\",\"ERR\"),IF(AG21=\"Nul\",IF(VLOOKUP(AD21,$A$8:$AO$107,33,FALSE)=\"Nul\",\"OK\",\"ERR\")))),\"\")","v":""},null,{"$f":"IF(AG21=\"Victoire\",100-ROUNDDOWN(20*AI21/$H21,0),\nIF(AG21=\"Défaite\",10+ROUNDDOWN(20*VLOOKUP(AD21,$A$8:$AO$107,35,FALSE)/VLOOKUP(AD21,$A$8:$H$107,8,FALSE),0),\nIF(AND(AG21=\"Nul\",$AI21<>$H21),40+(2*ROUNDDOWN(10*VLOOKUP(AD21,$A$8:$AO$107,35,FALSE)/VLOOKUP(AD21,$A$8:$H$107,8,FALSE),0)-ROUNDDOWN(10*AI21/$H21,0)),IF(AND(AG21=\"Nul\",$AI21=$H21),58,0))))","v":0},null,{"$f":"IF(AK21<>\"\",VLOOKUP(AK21,$A$8:$C$107,2,FALSE),\"\")","v":""},{"$f":"IF(AK21<>\"\",IF(AK21=$A21,\"ERR\",IF(OR(AK21=$P21,AK21=$W21,AK21=$AD21,AK21=$I21),\"DUP\",IF(ISNA(VLOOKUP(AK21,$A$8:$A$107,1,FALSE)),\"ERR\",IF(COUNTIF($I$8:$I$107,AK21)>1,\"ERR\",IF($D21=VLOOKUP(AK21,$A$8:$D$107,4,FALSE),\"CLUB\",\"OK\"))))),\"\")","v":""},null,{"$f":"IF(AN21<>\"\",IF(AN21=\"Victoire\",IF(VLOOKUP(AK21,$A$8:$AO$107,40,FALSE)=\"Défaite\",\"OK\",\"ERR\"),IF(AN21=\"Défaite\",IF(VLOOKUP(AK21,$A$8:$AO$107,40,FALSE)=\"Victoire\",\"OK\",\"ERR\"),IF(AN21=\"Nul\",IF(VLOOKUP(AK21,$A$8:$AO$107,40,FALSE)=\"Nul\",\"OK\",\"ERR\")))),\"\")","v":""},null,{"$f":"IF(AN21=\"Victoire\",100-ROUNDDOWN(20*AP21/$H21,0),\nIF(AN21=\"Défaite\",10+ROUNDDOWN(20*VLOOKUP(AK21,$A$8:$CB$107,42,FALSE)/VLOOKUP(AK21,$A$8:$H$107,8,FALSE),0),\nIF(AND(AN21=\"Nul\",$AP21<>$H21),40+(2*ROUNDDOWN(10*VLOOKUP(AK21,$A$8:$CB$107,42,FALSE)/VLOOKUP(AK21,$A$8:$H$107,8,FALSE),0)-ROUNDDOWN(10*AP21/$H21,0)),IF(AND(AN21=\"Nul\",$AP21=$H21),58,0))))","v":0},null,{"$f":"IF(AR21<>\"\",VLOOKUP(AR21,$A$8:$C$107,2,FALSE),\"\")","v":""},{"$f":"IF(AR21<>\"\",IF(AR21=$A21,\"ERR\",IF(OR(AR21=$I21,AR21=$P21,AR21=$W21,AR21=$AD21,AR21=$AK21),\"DUP\",IF(ISNA(VLOOKUP(AR21,$A$8:$A$107,1,FALSE)),\"ERR\",IF(COUNTIF($I$8:$I$107,AR21)>1,\"ERR\",IF($D21=VLOOKUP(AR21,$A$8:$D$107,4,FALSE),\"CLUB\",\"OK\"))))),\"\")","v":""},null,{"$f":"IF(AU21<>\"\",IF(AU21=\"Victoire\",IF(VLOOKUP(AR21,$A$8:$BL$107,47,FALSE)=\"Défaite\",\"OK\",\"ERR\"),IF(AU21=\"Défaite\",IF(VLOOKUP(AR21,$A$8:$BL$107,47,FALSE)=\"Victoire\",\"OK\",\"ERR\"),IF(AU21=\"Nul\",IF(VLOOKUP(AR21,$A$8:$BL$107,47,FALSE)=\"Nul\",\"OK\",\"ERR\")))),\"\")","v":""},null,{"$f":"IF(AU21=\"Victoire\",100-ROUNDDOWN(20*AW21/$H21,0),\nIF(AU21=\"Défaite\",10+ROUNDDOWN(20*VLOOKUP(AR21,$A$8:$CB$107,49,FALSE)/VLOOKUP(AR21,$A$8:$H$107,8,FALSE),0),\nIF(AND(AU21=\"Nul\",$AW21<>$H21),40+(2*ROUNDDOWN(10*VLOOKUP(AR21,$A$8:$CB$107,49,FALSE)/VLOOKUP(AR21,$A$8:$H$107,8,FALSE),0)-ROUNDDOWN(10*AW21/$H21,0)),IF(AND(AU21=\"Nul\",$AW21=$H21),58,0))))","v":0},null,{"$f":"IF(AY21<>\"\",VLOOKUP(AY21,$A$8:$C$107,2,FALSE),\"\")","v":""},{"$f":"IF(AY21<>\"\",IF(AY21=$A21,\"ERR\",IF(OR(AY21=$I21,AY21=$P21,AY21=$W21,AY21=$AD21,AY21=$AK21,AY21=$AR21),\"DUP\",IF(ISNA(VLOOKUP(AY21,$A$8:$A$107,1,FALSE)),\"ERR\",IF(COUNTIF($I$8:$I$107,AY21)>1,\"ERR\",IF($D21=VLOOKUP(AY21,$A$8:$D$107,4,FALSE),\"CLUB\",\"OK\"))))),\"\")","v":""},null,{"$f":"IF(BB21<>\"\",IF(BB21=\"Victoire\",IF(VLOOKUP(AY21,$A$8:$BL$107,54,FALSE)=\"Défaite\",\"OK\",\"ERR\"),IF(BB21=\"Défaite\",IF(VLOOKUP(AY21,$A$8:$BL$107,54,FALSE)=\"Victoire\",\"OK\",\"ERR\"),IF(BB21=\"Nul\",IF(VLOOKUP(AY21,$A$8:$BL$107,54,FALSE)=\"Nul\",\"OK\",\"ERR\")))),\"\")","v":""},null,{"$f":"IF(BB21=\"Victoire\",100-ROUNDDOWN(20*BD21/$H21,0),\nIF(BB21=\"Défaite\",10+ROUNDDOWN(20*VLOOKUP(AY21,$A$8:$CB$107,56,FALSE)/VLOOKUP(AY21,$A$8:$H$107,8,FALSE),0),\nIF(AND(BB21=\"Nul\",$BD21<>$H21),40+(2*ROUNDDOWN(10*VLOOKUP(AY21,$A$8:$CB$107,56,FALSE)/VLOOKUP(AY21,$A$8:$H$107,8,FALSE),0)-ROUNDDOWN(10*BD21/$H21,0)),IF(AND(BB21=\"Nul\",$BD21=$H21),58,0))))","v":0},null,{"$f":"IF(BF21<>\"\",VLOOKUP(BF21,$A$8:$C$107,2,FALSE),\"\")","v":""},{"$f":"IF(BF21<>\"\",IF(BF21=$A21,\"ERR\",IF(OR(BF21=$I21,BF21=$P21,BF21=$W21,BF21=$AD21,BF21=$AK21,BF21=$AR21,BF21=$AY21),\"DUP\",IF(ISNA(VLOOKUP(BF21,$A$8:$A$107,1,FALSE)),\"ERR\",IF(COUNTIF($I$8:$I$107,BF21)>1,\"ERR\",IF($D21=VLOOKUP(BF21,$A$8:$D$107,4,FALSE),\"CLUB\",\"OK\"))))),\"\")","v":""},null,{"$f":"IF(BI21<>\"\",IF(BI21=\"Victoire\",IF(VLOOKUP(BF21,$A$8:$BL$107,61,FALSE)=\"Défaite\",\"OK\",\"ERR\"),IF(BI21=\"Défaite\",IF(VLOOKUP(BF21,$A$8:$BL$107,61,FALSE)=\"Victoire\",\"OK\",\"ERR\"),IF(BI21=\"Nul\",IF(VLOOKUP(BF21,$A$8:$BL$107,61,FALSE)=\"Nul\",\"OK\",\"ERR\")))),\"\")","v":""},null,{"$f":"IF(BI21=\"Victoire\",100-ROUNDDOWN(20*BK21/$H21,0),\nIF(BI21=\"Défaite\",10+ROUNDDOWN(20*VLOOKUP(BF21,$A$8:$CB$107,63,FALSE)/VLOOKUP(BF21,$A$8:$H$107,8,FALSE),0),\nIF(AND(BI21=\"Nul\",$BK21<>$H21),40+(2*ROUNDDOWN(10*VLOOKUP(BF21,$A$8:$CB$107,63,FALSE)/VLOOKUP(BF21,$A$8:$H$107,8,FALSE),0)-ROUNDDOWN(10*BK21/$H21,0)),IF(AND(BI21=\"Nul\",$BK21=$H21),58,0))))","v":0},null,{"$f":"IF(BM21<>\"\",VLOOKUP(BM21,$A$8:$C$107,2,FALSE),\"\")","v":""},{"$f":"IF(BM21<>\"\",IF(BM21=$A21,\"ERR\",IF(OR(BM21=$I21,BM21=$P21,BM21=$W21,BM21=$AD21,BM21=$AK21,BM21=$AR21,BM21=$AY21,BM21=$BF21),\"DUP\",IF(ISNA(VLOOKUP(BM21,$A$8:$A$107,1,FALSE)),\"ERR\",IF(COUNTIF($I$8:$I$107,BM21)>1,\"ERR\",IF($D21=VLOOKUP(BM21,$A$8:$D$107,4,FALSE),\"CLUB\",\"OK\"))))),\"\")","v":""},null,{"$f":"IF(BP21<>\"\",IF(BP21=\"Victoire\",IF(VLOOKUP(BM21,$A$8:$BS$107,68,FALSE)=\"Défaite\",\"OK\",\"ERR\"),IF(BP21=\"Défaite\",IF(VLOOKUP(BM21,$A$8:$BS$107,68,FALSE)=\"Victoire\",\"OK\",\"ERR\"),IF(BP21=\"Nul\",IF(VLOOKUP(BM21,$A$8:$BS$107,68,FALSE)=\"Nul\",\"OK\",\"ERR\")))),\"\")","v":""},null,{"$f":"IF(BP21=\"Victoire\",100-ROUNDDOWN(20*BR21/$H21,0),\nIF(BP21=\"Défaite\",10+ROUNDDOWN(20*VLOOKUP(BM21,$A$8:$CB$107,70,FALSE)/VLOOKUP(BM21,$A$8:$H$107,8,FALSE),0),\nIF(AND(BP21=\"Nul\",$BR21<>$H21),40+(2*ROUNDDOWN(10*VLOOKUP(BM21,$A$8:$CB$107,70,FALSE)/VLOOKUP(BM21,$A$8:$H$107,8,FALSE),0)-ROUNDDOWN(10*BR21/$H21,0)),IF(AND(BP21=\"Nul\",$BR21=$H21),58,0))))","v":0},null,{"$f":"IF($I21<>\"\",VLOOKUP($I21,$A$8:$N$107,5,FALSE),0)+IF($P21<>\"\",VLOOKUP($P21,$A$8:$N$107,5,FALSE),0)+IF($W21<>\"\",VLOOKUP($W21,$A$8:$N$107,5,FALSE),0)+IF($AD21<>\"\",VLOOKUP($AD21,$A$8:$N$107,5,FALSE),0)+IF($AK21<>\"\",VLOOKUP($AK21,$A$8:$N$107,5,FALSE),0)+IF($AR21<>\"\",VLOOKUP($AR21,$A$8:$N$107,5,FALSE),0)+IF($AY21<>\"\",VLOOKUP($AY21,$A$8:$N$107,5,FALSE),0)+IF($BF21<>\"\",VLOOKUP($BF21,$A$8:$N$107,5,FALSE),0)+IF($BM21<>\"\",VLOOKUP($BM21,$A$8:$N$107,5,FALSE),0)","v":0}]
[{"$nulls":4},0,null,{"$f":"IF($F22<>\"\",VLOOKUP(F22,Armies!$A$1:$C$300,3,FALSE),\"\")","v":""},null,null,{"$f":"IF(I22<>\"\",VLOOKUP(I22,$A$8:$C$107,2,FALSE),\"\")","v":""},{"$f":"IF(I22<>\"\",IF(I22=$A22,\"ERR\",IF(OR(I22=$P22,I22=$W22,I22=$AD22,I22=$AK22),\"DUP\",IF(ISNA(VLOOKUP(I22,$A$8:$A$107,1,FALSE)),\"ERR\",IF(COUNTIF($I$8:$I$107,I22)>1,\"ERR\",IF($D22=VLOOKUP(I22,$A$8:$D$107,4,FALSE),\"CLUB\",\"OK\"))))),\"\")","v":""},null,{"$f":"IF(L22<>\"\",IF(L22=\"Victoire\",IF(VLOOKUP(I22,$A$8:$L$107,12,FALSE)=\"Défaite\",\"OK\",\"ERR\"),IF(L22=\"Défaite\",IF(VLOOKUP(I22,$A$8:$L$107,12,FALSE)=\"Victoire\",\"OK\",\"ERR\"),IF(L22=\"Nul\",IF(VLOOKUP(I22,$A$8:$L$107,12,FALSE)=\"Nul\",\"OK\",\"ERR\")))),\"\")","v":""},null,{"$f":"IF(L22=\"Victoire\",100-ROUNDDOWN(20*N22/$H22,0),\nIF(L22=\"Défaite\",10+ROUNDDOWN(20*VLOOKUP(I22,$A$8:$N$107,14,FALSE)/VLOOKUP(I22,$A$8:$H$107,8,FALSE),0),\nIF(AND(L22=\"Nul\",$N22<>$H22),40+(2*ROUNDDOWN(10*VLOOKUP(I22,$A$8:$N$107,14,FALSE)/VLOOKUP(I22,$A$8:$H$107,8,FALSE),0)-ROUNDDOWN(10*N22/$H22,0)),IF(AND(L22=\"Nul\",$N22=$H22),58,0))))","v":0},null,{"$f":"IF(P22<>\"\",VLOOKUP(P22,$A$8:$C$107,2,FALSE),\"\")","v":""},{"$f":"IF(P22<>\"\",IF(P22=$A22,\"ERR\",IF(OR(P22=$I22,P22=$W22,P22=$AD22,P22=$AK22),\"DUP\",IF(ISNA(VLOOKUP(P22,$A$8:$A$107,1,FALSE)),\"ERR\",IF(COUNTIF($I$8:$I$107,P22)>1,\"ERR\",IF($D22=VLOOKUP(P22,$A$8:$D$107,4,FALSE),\"CLUB\",\"OK\"))))),\"\")","v":""},null,{"$f":"IF(S22<>\"\",IF(S22=\"Victoire\",IF(VLOOKUP(P22,$A$8:$AO$107,19,FALSE)=\"Défaite\",\"OK\",\"ERR\"),IF(S22=\"Défaite\",IF(VLOOKUP(P22,$A$8:$AO$107,19,FALSE)=\"Victoire\",\"OK\",\"ERR\"),IF(S22=\"Nul\",IF(VLOOKUP(P22,$A$8:$AO$107,19,FALSE)=\"Nul\",\"OK\",\"ERR\")))),\"\")","v":""},null,{"$f":"IF(S22=\"Victoire\",100-ROUNDDOWN(20*U22/$H22,0),\nIF(S22=\"Défaite\",10+ROUNDDOWN(20*VLOOKUP(P22,$A$8:$AO$107,21,FALSE)/VLOOKUP(P22,$A$8:$H$107,8,FALSE),0),\nIF(AND(S22=\"Nul\",$U22<>$H22),40+(2*ROUNDDOWN(10*VLOOKUP(P22,$A$8:$AO$107,21,FALSE)/VLOOKUP(P22,$A$8:$H$107,8,FALSE),0)-ROUNDDOWN(10*U22/$H22,0)),IF(AND(S22=\"Nul\",$U22=$H22),58,0))))","v":0},null,{"$f":"IF(W22<>\"\",VLOOKUP(W22,$A$8:$C$107,2,FALSE),\"\")","v":""},{"$f":"IF(W22<>\"\",IF(W22=$A22,\"ERR\",IF(OR(W22=$P22,W22=$I22,W22=$AD22,W22=$AK22),\"DUP\",IF(ISNA(VLOOKUP(W22,$A$8:$A$107,1,FALSE)),\"ERR\",IF(COUNTIF($I$8:$I$107,W22)>1,\"ERR\",IF($D22=VLOOKUP(W22,$A$8:$D$107,4,FALSE),\"CLUB\",\"OK\"))))),\"\")","v":""},null,{"$f":"IF(Z22<>\"\",IF(Z22=\"Victoire\",IF(VLOOKUP(W22,$A$8:$AO$107,26,FALSE)=\"Défaite\",\"OK\",\"ERR\"),IF(Z22=\"Défaite\",IF(VLOOKUP(W22,$A$8:$AO$107,26,FALSE)=\"Victoire\",\"OK\",\"ERR\"),IF(Z22=\"Nul\",IF(VLOOKUP(W22,$A$8:$AO$107,26,FALSE)=\"Nul\",\"OK\",\"ERR\")))),\"\")","v":""},null,{"$f":"IF(Z22=\"Victoire\",100-ROUNDDOWN(20*AB22/$H22,0),\nIF(Z22=\"Défaite\",10+ROUNDDOWN(20*VLOOKUP(W22,$A$8:$AO$107,28,FALSE)/VLOOKUP(W22,$A$8:$H$107,8,FALSE),0),\nIF(AND(Z22=\"Nul\",$AB22<>$H22),40+(2*ROUNDDOWN(10*VLOOKUP(W22,$A$8:$AO$107,28,FALSE)/VLOOKUP(W22,$A$8:$H$107,8,FALSE),0)-ROUNDDOWN(10*AB22/$H22,0)),IF(AND(Z22=\"Nul\",$AB22=$H22),58,0))))","v":0},null,{"$f":"IF(AD22<>\"\",VLOOKUP(AD22,$A$8:$C$107,2,FALSE),\"\")","v":""},{"$f":"IF(AD22<>\"\",IF(AD22=$A22,\"ERR\",IF(OR(AD22=$P22,AD22=$W22,AD22=$I22,AD22=$AK22),\"DUP\",IF(ISNA(VLOOKUP(AD22,$A$8:$A$107,1,FALSE)),\"ERR\",IF(COUNTIF($I$8:$I$107,AD22)>1,\"ERR\",IF($D22=VLOOKUP(AD22,$A$8:$D$107,4,FALSE),\"CLUB\",\"OK\"))))),\"\")","v":""},null,{"$f":"IF(AG22<>\"\",IF(AG22=\"Victoire\",IF(VLOOKUP(AD22,$A$8:$AO$107,33,FALSE)=\"Défaite\",\"OK\",\"ERR\"),IF(AG22=\"Défaite\",IF(VLOOKUP(AD22,$A$8:$AO$107,33,FALSE)=\"Victoire\",\"OK\",\"ERR\"),IF(AG22=\"Nul\",IF(VLOOKUP(AD22,$A$8:$AO$107,33,FALSE)=\"Nul\",\"OK\",\"ERR\")))),\"\")","v":""},null,{"$f":"IF(AG22=\"Victoire\",100-ROUNDDOWN(20*AI22/$H22,0),\nIF(AG22=\"Défaite\",10+ROUNDDOWN(20*VLOOKUP(AD22,$A$8:$AO$107,35,FALSE)/VLOOKUP(AD22,$A$8:$H$107,8,FALSE),0),\nIF(AND(AG22=\"Nul\",$AI22<>$H22),40+(2*ROUNDDOWN(10*VLOOKUP(AD22,$A$8:$AO$107,35,FALSE)/VLOOKUP(AD22,$A$8:$H$107,8,FALSE),0)-ROUNDDOWN(10*AI22/$H22,0)),IF(AND(AG22=\"Nul\",$AI22=$H22),58,0))))","v":0},null,{"$f":"IF(AK22<>\"\",VLOOKUP(AK22,$A$8:$C$107,2,FALSE),\"\")","v":""},{"$f":"IF(AK22<>\"\",IF(AK22=$A22,\"ERR\",IF(OR(AK22=$P22,AK22=$W22,AK22=$AD22,AK22=$I22),\"DUP\",IF(ISNA(VLOOKUP(AK22,$A$8:$A$107,1,FALSE)),\"ERR\",IF(COUNTIF($I$8:$I$107,AK22)>1,\"ERR\",IF($D22=VLOOKUP(AK22,$A$8:$D$107,4,FALSE),\"CLUB\",\"OK\"))))),\"\")","v":""},null,{"$f":"IF(AN22<>\"\",IF(AN22=\"Victoire\",IF(VLOOKUP(AK22,$A$8:$AO$107,40,FALSE)=\"Défaite\",\"OK\",\"ERR\"),IF(AN22=\"Défaite\",IF(VLOOKUP(AK22,$A$8:$AO$107,40,FALSE)=\"Victoire\",\"OK\",\"ERR\"),IF(AN22=\"Nul\",IF(VLOOKUP(AK22,$A$8:$AO$107,40,FALSE)=\"Nul\",\"OK\",\"ERR\")))),\"\")","v":""},null,{"$f":"IF(AN22=\"Victoire\",100-ROUNDDOWN(20*AP22/$H22,0),\nIF(AN22=\"Défaite\",10+ROUNDDOWN(20*VLOOKUP(AK22,$A$8:$CB$107,42,FALSE)/VLOOKUP(AK22,$A$8:$H$107,8,FALSE),0),\nIF(AND(AN22=\"Nul\",$AP22<>$H22),40+(2*ROUNDDOWN(10*VLOOKUP(AK22,$A$8:$CB$107,42,FALSE)/VLOOKUP(AK22,$A$8:$H$107,8,FALSE),0)-ROUNDDOWN(10*AP22/$H22,0)),IF(AND(AN22=\"Nul\",$AP22=$H22),58,0))))","v":0},null,{"$f":"IF(AR22<>\"\",VLOOKUP(AR22,$A$8:$C$107,2,FALSE),\"\")","v":""},{"$f":"IF(AR22<>\"\",IF(AR22=$A22,\"ERR\",IF(OR(AR22=$I22,AR22=$P22,AR22=$W22,AR22=$AD22,AR22=$AK22),\"DUP\",IF(ISNA(VLOOKUP(AR22,$A$8:$A$107,1,FALSE)),\"ERR\",IF(COUNTIF($I$8:$I$107,AR22)>1,\"ERR\",IF($D22=VLOOKUP(AR22,$A$8:$D$107,4,FALSE),\"CLUB\",\"OK\"))))),\"\")","v":""},null,{"$f":"IF(AU22<>\"\",IF(AU22=\"Victoire\",IF(VLOOKUP(AR22,$A$8:$BL$107,47,FALSE)=\"Défaite\",\"OK\",\"ERR\"),IF(AU22=\"Défaite\",IF(VLOOKUP(AR22,$A$8:$BL$107,47,FALSE)=\"Victoire\",\"OK\",\"ERR\"),IF(AU22=\"Nul\",IF(VLOOKUP(AR22,$A$8:$BL$107,47,FALSE)=\"Nul\",\"OK\",\"ERR\")))),\"\")","v":""},null,{"$f":"IF(AU22=\"Victoire\",100-ROUNDDOWN(20*AW22/$H22,0),\nIF(AU22=\"Défaite\",10+ROUNDDOWN(20*VLOOKUP(AR22,$A$8:$CB$107,49,FALSE)/VLOOKUP(AR22,$A$8:$H$107,8,FALSE),0),\nIF(AND(AU22=\"Nul\",$AW22<>$H22),40+(2*ROUNDDOWN(10*VLOOKUP(AR22,$A$8:$CB$107,49,FALSE)/VLOOKUP(AR22,$A$8:$H$107,8,FALSE),0)-ROUNDDOWN(10*AW22/$H22,0)),IF(AND(AU22=\"Nul\",$AW22=$H22),58,0))))","v":0},null,{"$f":"IF(AY22<>\"\",VLOOKUP(AY22,$A$8:$C$107,2,FALSE),\"\")","v":""},{"$f":"IF(AY22<>\"\",IF(AY22=$A22,\"ERR\",IF(OR(AY22=$I22,AY22=$P22,AY22=$W22,AY22=$AD22,AY22=$AK22,AY22=$AR22),\"DUP\",IF(ISNA(VLOOKUP(AY22,$A$8:$A$107,1,FALSE)),\"ERR\",IF(COUNTIF($I$8:$I$107,AY22)>1,\"ERR\",IF($D22=VLOOKUP(AY22,$A$8:$D$107,4,FALSE),\"CLUB\",\"OK\"))))),\"\")","v":""},null,{"$f":"IF(BB22<>\"\",IF(BB22=\"Victoire\",IF(VLOOKUP(AY22,$A$8:$BL$107,54,FALSE)=\"Défaite\",\"OK\",\"ERR\"),IF(BB22=\"Défaite\",IF(VLOOKUP(AY22,$A$8:$BL$107,54,FALSE)=\"Victoire\",\"OK\",\"ERR\"),IF(BB22=\"Nul\",IF(VLOOKUP(AY22,$A$8:$BL$107,54,FALSE)=\"Nul\",\"OK\",\"ERR\")))),\"\")","v":""},null,{"$f":"IF(BB22=\"Victoire\",100-ROUNDDOWN(20*BD22/$H22,0),\nIF(BB22=\"Défaite\",10+ROUNDDOWN(20*VLOOKUP(AY22,$A$8:$CB$107,56,FALSE)/VLOOKUP(AY22,$A$8:$H$107,8,FALSE),0),\nIF(AND(BB22=\"Nul\",$BD22<>$H22),40+(2*ROUNDDOWN(10*VLOOKUP(AY22,$A$8:$CB$107,56,FALSE)/VLOOKUP(AY22,$A$8:$H$107,8,FALSE),0)-ROUNDDOWN(10*BD22/$H22,0)),IF(AND(BB22=\"Nul\",$BD22=$H22),58,0))))","v":0},null,{"$f":"IF(BF22<>\"\",VLOOKUP(BF22,$A$8:$C$107,2,FALSE),\"\")","v":""},{"$f":"IF(BF22<>\"\",IF(BF22=$A22,\"ERR\",IF(OR(BF22=$I22,BF22=$P22,BF22=$W22,BF22=$AD22,BF22=$AK22,BF22=$AR22,BF22=$AY22),\"DUP\",IF(ISNA(VLOOKUP(BF22,$A$8:$A$107,1,FALSE)),\"ERR\",IF(COUNTIF($I$8:$I$107,BF22)>1,\"ERR\",IF($D22=VLOOKUP(BF22,$A$8:$D$107,4,FALSE),\"CLUB\",\"OK\"))))),\"\")","v":""},null,{"$f":"IF(BI22<>\"\",IF(BI22=\"Victoire\",IF(VLOOKUP(BF22,$A$8:$BL$107,61,FALSE)=\"Défaite\",\"OK\",\"ERR\"),IF(BI22=\"Défaite\",IF(VLOOKUP(BF22,$A$8:$BL$107,61,FALSE)=\"Victoire\",\"OK\",\"ERR\"),IF(BI22=\"Nul\",IF(VLOOKUP(BF22,$A$8:$BL$107,61,FALSE)=\"Nul\",\"OK\",\"ERR\")))),\"\")","v":""},null,{"$f":"IF(BI22=\"Victoire\",100-ROUNDDOWN(20*BK22/$H22,0),\nIF(BI22=\"Défaite\",10+ROUNDDOWN(20*VLOOKUP(BF22,$A$8:$CB$107,63,FALSE)/VLOOKUP(BF22,$A$8:$H$107,8,FALSE),0),\nIF(AND(BI22=\"Nul\",$BK22<>$H22),40+(2*ROUNDDOWN(10*VLOOKUP(BF22,$A$8:$CB$107,63,FALSE)/VLOOKUP(BF22,$A$8:$H$107,8,FALSE),0)-ROUNDDOWN(10*BK22/$H22,0)),IF(AND(BI22=\"Nul\",$BK22=$H22),58,0))))","v":0},null,{"$f":"IF(BM22<>\"\",VLOOKUP(BM22,$A$8:$C$107,2,FALSE),\"\")","v":""},{"$f":"IF(BM22<>\"\",IF(BM22=$A22,\"ERR\",IF(OR(BM22=$I22,BM22=$P22,BM22=$W22,BM22=$AD22,BM22=$AK22,BM22=$AR22,BM22=$AY22,BM22=$BF22),\"DUP\",IF(ISNA(VLOOKUP(BM22,$A$8:$A$107,1,FALSE)),\"ERR\",IF(COUNTIF($I$8:$I$107,BM22)>1,\"ERR\",IF($D22=VLOOKUP(BM22,$A$8:$D$107,4,FALSE),\"CLUB\",\"OK\"))))),\"\")","v":""},null,{"$f":"IF(BP22<>\"\",IF(BP22=\"Victoire\",IF(VLOOKUP(BM22,$A$8:$BS$107,68,FALSE)=\"Défaite\",\"OK\",\"ERR\"),IF(BP22=\"Défaite\",IF(VLOOKUP(BM22,$A$8:$BS$107,68,FALSE)=\"Victoire\",\"OK\",\"ERR\"),IF(BP22=\"Nul\",IF(VLOOKUP(BM22,$A$8:$BS$107,68,FALSE)=\"Nul\",\"OK\",\"ERR\")))),\"\")","v":""},null,{"$f":"IF(BP22=\"Victoire\",100-ROUNDDOWN(20*BR22/$H22,0),\nIF(BP22=\"Défaite\",10+ROUNDDOWN(20*VLOOKUP(BM22,$A$8:$CB$107,70,FALSE)/VLOOKUP(BM22,$A$8:$H$107,8,FALSE),0),\nIF(AND(BP22=\"Nul\",$BR22<>$H22),40+(2*ROUNDDOWN(10*VLOOKUP(BM22,$A$8:$CB$107,70,FALSE)/VLOOKUP(BM22,$A$8:$H$107,8,FALSE),0)-ROUNDDOWN(10*BR22/$H22,0)),IF(AND(BP22=\"Nul\",$BR22=$H22),58,0))))","v":0},null,{"$f":"IF($I22<>\"\",VLOOKUP($I22,$A$8:$N$107,5,FALSE),0)+IF($P22<>\"\",VLOOKUP($P22,$A$8:$N$107,5,FALSE),0)+IF($W22<>\"\",VLOOKUP($W22,$A$8:$N$107,5,FALSE),0)+IF($AD22<>\"\",VLOOKUP($AD22,$A$8:$N$107,5,FALSE),0)+IF($AK22<>\"\",VLOOKUP($AK22,$A$8:$N$107,5,FALSE),0)+IF($AR22<>\"\",VLOOKUP($AR22,$A$8:$N$107,5,FALSE),0)+IF($AY22<>\"\",VLOOKUP($AY22,$A$8:$N$107,5,FALSE),0)+IF($BF22<>\"\",VLOOKUP($BF22,$A$8:$N$107,5,FALSE),0)+IF($BM22<>\"\",VLOOKUP($BM22,$A$8:$N$107,5,FALSE),0)","v":0}]
[{"$nulls":4},0,null,{"$f":"IF($F23<>\"\",VLOOKUP(F23,Armies!$A$1:$C$300,3,FALSE),\"\")","v":""},null,null,{"$f":"IF(I23<>\"\",VLOOKUP(I23,$A$8:$C$107,2,FALSE),\"\")","v":""},{"$f":"IF(I23<>\"\",IF(I23=$A23,\"ERR\",IF(OR(I23=$P23,I23=$W23,I23=$AD23,I23=$AK23),\"DUP\",IF(ISNA(VLOOKUP(I23,$A$8:$A$107,1,FALSE)),\"ERR\",IF(COUNTIF($I$8:$I$107,I23)>1,\"ERR\",IF($D23=VLOOKUP(I23,$A$8:$D$107,4,FALSE),\"CLUB\",\"OK\"))))),\"\")","v":""},null,{"$f":"IF(L23<>\"\",IF(L23=\"Victoire\",IF(VLOOKUP(I23,$A$8:$L$107,12,FALSE)=\"Défaite\",\"OK\",\"ERR\"),IF(L23=\"Défaite\",IF(VLOOKUP(I23,$A$8:$L$107,12,FALSE)=\"Victoire\",\"OK\",\"ERR\"),IF(L23=\"Nul\",IF(VLOOKUP(I23,$A$8:$L$107,12,FALSE)=\"Nul\",\"OK\",\"ERR\")))),\"\")","v":""},null,{"$f":"IF(L23=\"Victoire\",100-ROUNDDOWN(20*N23/$H23,0),\nIF(L23=\"Défaite\",10+ROUNDDOWN(20*VLOOKUP(I23,$A$8:$N$107,14,FALSE)/VLOOKUP(I23,$A$8:$H$107,8,FALSE),0),\nIF(AND(L23=\"Nul\",$N23<>$H23),40+(2*ROUNDDOWN(10*VLOOKUP(I23,$A$8:$N$107,14,FALSE)/VLOOKUP(I23,$A$8:$H$107,8,FALSE),0)-ROUNDDOWN(10*N23/$H23,0)),IF(AND(L23=\"Nul\",$N23=$H23),58,0))))","v":0},null,{"$f":"IF(P23<>\"\",VLOOKUP(P23,$A$8:$C$107,2,FALSE),\"\")","v":""},{"$f":"IF(P23<>\"\",IF(P23=$A23,\"ERR\",IF(OR(P23=$I23,P23=$W23,P23=$AD23,P23=$AK23),\"DUP\",IF(ISNA(VLOOKUP(P23,$A$8:$A$107,1,FALSE)),\"ERR\",IF(COUNTIF($I$8:$I$107,P23)>1,\"ERR\",IF($D23=VLOOKUP(P23,$A$8:$D$107,4,FALSE),\"CLUB\",\"OK\"))))),\"\")","v":""},null,{"$f":"IF(S23<>\"\",IF(S23=\"Victoire\",IF(VLOOKUP(P23,$A$8:$AO$107,19,FALSE)=\"Défaite\",\"OK\",\"ERR\"),IF(S23=\"Défaite\",IF(VLOOKUP(P23,$A$8:$AO$107,19,FALSE)=\"Victoire\",\"OK\",\"ERR\"),IF(S23=\"Nul\",IF(VLOOKUP(P23,$A$8:$AO$107,19,FALSE)=\"Nul\",\"OK\",\"ERR\")))),\"\")","v":""},null,{"$f":"IF(S23=\"Victoire\",100-ROUNDDOWN(20*U23/$H23,0),\nIF(S23=\"Défaite\",10+ROUNDDOWN(20*VLOOKUP(P23,$A$8:$AO$107,21,FALSE)/VLOOKUP(P23,$A$8:$H$107,8,FALSE),0),\nIF(AND(S23=\"Nul\",$U23<>$H23),40+(2*ROUNDDOWN(10*VLOOKUP(P23,$A$8:$AO$107,21,FALSE)/VLOOKUP(P23,$A$8:$H$107,8,FALSE),0)-ROUNDDOWN(10*U23/$H23,0)),IF(AND(S23=\"Nul\",$U23=$H23),58,0))))","v":0},null,{"$f":"IF(W23<>\"\",VLOOKUP(W23,$A$8:$C$107,2,FALSE),\"\")","v":""},{"$f":"IF(W23<>\"\",IF(W23=$A23,\"ERR\",IF(OR(W23=$P23,W23=$I23,W23=$AD23,W23=$AK23),\"DUP\",IF(ISNA(VLOOKUP(W23,$A$8:$A$107,1,FALSE)),\"ERR\",IF(COUNTIF($I$8:$I$107,W23)>1,\"ERR\",IF($D23=VLOOKUP(W23,$A$8:$D$107,4,FALSE),\"CLUB\",\"OK\"))))),\"\")","v":""},null,{"$f":"IF(Z23<>\"\",IF(Z23=\"Victoire\",IF(VLOOKUP(W23,$A$8:$AO$107,26,FALSE)=\"Défaite\",\"OK\",\"ERR\"),IF(Z23=\"Défaite\",IF(VLOOKUP(W23,$A$8:$AO$107,26,FALSE)=\"Victoire\",\"OK\",\"ERR\"),IF(Z23=\"Nul\",IF(VLOOKUP(W23,$A$8:$AO$107,26,FALSE)=\"Nul\",\"OK\",\"ERR\")))),\"\")","v":""},null,{"$f":"IF(Z23=\"Victoire\",100-ROUNDDOWN(20*AB23/$H23,0),\nIF(Z23=\"Défaite\",10+ROUNDDOWN(20*VLOOKUP(W23,$A$8:$AO$107,28,FALSE)/VLOOKUP(W23,$A$8:$H$107,8,FALSE),0),\nIF(AND(Z23=\"Nul\",$AB23<>$H23),40+(2*ROUNDDOWN(10*VLOOKUP(W23,$A$8:$AO$107,28,FALSE)/VLOOKUP(W23,$A$8:$H$107,8,FALSE),0)-ROUNDDOWN(10*AB23/$H23,0)),IF(AND(Z23=\"Nul\",$AB23=$H23),58,0))))","v":0},null,{"$f":"IF(AD23<>\"\",VLOOKUP(AD23,$A$8:$C$107,2,FALSE),\"\")","v":""},{"$f":"IF(AD23<>\"\",IF(AD23=$A23,\"ERR\",IF(OR(AD23=$P23,AD23=$W23,AD23=$I23,AD23=$AK23),\"DUP\",IF(ISNA(VLOOKUP(AD23,$A$8:$A$107,1,FALSE)),\"ERR\",IF(COUNTIF($I$8:$I$107,AD23)>1,\"ERR\",IF($D23=VLOOKUP(AD23,$A$8:$D$107,4,FALSE),\"CLUB\",\"OK\"))))),\"\")","v":""},null,{"$f":"IF(AG23<>\"\",IF(AG23=\"Victoire\",IF(VLOOKUP(AD23,$A$8:$AO$107,33,FALSE)=\"Défaite\",\"OK\",\"ERR\"),IF(AG23=\"Défaite\",IF(VLOOKUP(AD23,$A$8:$AO$107,33,FALSE)=\"Victoire\",\"OK\",\"ERR\"),IF(AG23=\"Nul\",IF(VLOOKUP(AD23,$A$8:$AO$107,33,FALSE)=\"Nul\",\"OK\",\"ERR\")))),\"\")","v":""},null,{"$f":"IF(AG23=\"Victoire\",100-ROUNDDOWN(20*AI23/$H23,0),\nIF(AG23=\"Défaite\",10+ROUNDDOWN(20*VLOOKUP(AD23,$A$8:$AO$107,35,FALSE)/VLOOKUP(AD23,$A$8:$H$107,8,FALSE),0),\nIF(AND(AG23=\"Nul\",$AI23<>$H23),40+(2*ROUNDDOWN(10*VLOOKUP(AD23,$A$8:$AO$107,35,FALSE)/VLOOKUP(AD23,$A$8:$H$107,8,FALSE),0)-ROUNDDOWN(10*AI23/$H23,0)),IF(AND(AG23=\"Nul\",$AI23=$H23),58,0))))","v":0},null,{"$f":"IF(AK23<>\"\",VLOOKUP(AK23,$A$8:$C$107,2,FALSE),\"\")","v":""},{"$f":"IF(AK23<>\"\",IF(AK23=$A23,\"ERR\",IF(OR(AK23=$P23,AK23=$W23,AK23=$AD23,AK23=$I23),\"DUP\",IF(ISNA(VLOOKUP(AK23,$A$8:$A$107,1,FALSE)),\"ERR\",IF(COUNTIF($I$8:$I$107,AK23)>1,\"ERR\",IF($D23=VLOOKUP(AK23,$A$8:$D$107,4,FALSE),\"CLUB\",\"OK\"))))),\"\")","v":""},null,{"$f":"IF(AN23<>\"\",IF(AN23=\"Victoire\",IF(VLOOKUP(AK23,$A$8:$AO$107,40,FALSE)=\"Défaite\",\"OK\",\"ERR\"),IF(AN23=\"Défaite\",IF(VLOOKUP(AK23,$A$8:$AO$107,40,FALSE)=\"Victoire\",\"OK\",\"ERR\"),IF(AN23=\"Nul\",IF(VLOOKUP(AK23,$A$8:$AO$107,40,FALSE)=\"Nul\",\"OK\",\"ERR\")))),\"\")","v":""},null,{"$f":"IF(AN23=\"Victoire\",100-ROUNDDOWN(20*AP23/$H23,0),\nIF(AN23=\"Défaite\",10+ROUNDDOWN(20*VLOOKUP(AK23,$A$8:$CB$107,42,FALSE)/VLOOKUP(AK23,$A$8:$H$107,8,FALSE),0),\nIF(AND(AN23=\"Nul\",$AP23<>$H23),40+(2*ROUNDDOWN(10*VLOOKUP(AK23,$A$8:$CB$107,42,FALSE)/VLOOKUP(AK23,$A$8:$H$107,8,FALSE),0)-ROUNDDOWN(10*AP23/$H23,0)),IF(AND(AN23=\"Nul\",$AP23=$H23),58,0))))","v":0},null,{"$f":"IF(AR23<>\"\",VLOOKUP(AR23,$A$8:$C$107,2,FALSE),\"\")","v":""},{"$f":"IF(AR23<>\"\",IF(AR23=$A23,\"ERR\",IF(OR(AR23=$I23,AR23=$P23,AR23=$W23,AR23=$AD23,AR23=$AK23),\"DUP\",IF(ISNA(VLOOKUP(AR23,$A$8:$A$107,1,FALSE)),\"ERR\",IF(COUNTIF($I$8:$I$107,AR23)>1,\"ERR\",IF($D23=VLOOKUP(AR23,$A$8:$D$107,4,FALSE),\"CLUB\",\"OK\"))))),\"\")","v":""},null,{"$f":"IF(AU23<>\"\",IF(AU23=\"Victoire\",IF(VLOOKUP(AR23,$A$8:$BL$107,47,FALSE)=\"Défaite\",\"OK\",\"ERR\"),IF(AU23=\"Défaite\",IF(VLOOKUP(AR23,$A$8:$BL$107,47,FALSE)=\"Victoire\",\"OK\",\"ERR\"),IF(AU23=\"Nul\",IF(VLOOKUP(AR23,$A$8:$BL$107,47,FALSE)=\"Nul\",\"OK\",\"ERR\")))),\"\")","v":""},null,{"$f":"IF(AU23=\"Victoire\",100-ROUNDDOWN(20*AW23/$H23,0),\nIF(AU23=\"Défaite\",10+ROUNDDOWN(20*VLOOKUP(AR23,$A$8:$CB$107,49,FALSE)/VLOOKUP(AR23,$A$8:$H$107,8,FALSE),0),\nIF(AND(AU23=\"Nul\",$AW23<>$H23),40+(2*ROUNDDOWN(10*VLOOKUP(AR23,$A$8:$CB$107,49,FALSE)/VLOOKUP(AR23,$A$8:$H$107,8,FALSE),0)-ROUNDDOWN(10*AW23/$H23,0)),IF(AND(AU23=\"Nul\",$AW23=$H23),58,0))))","v":0},null,{"$f":"IF(AY23<>\"\",VLOOKUP(AY23,$A$8:$C$107,2,FALSE),\"\")","v":""},{"$f":"IF(AY23<>\"\",IF(AY23=$A23,\"ERR\",IF(OR(AY23=$I23,AY23=$P23,AY23=$W23,AY23=$AD23,AY23=$AK23,AY23=$AR23),\"DUP\",IF(ISNA(VLOOKUP(AY23,$A$8:$A$107,1,FALSE)),\"ERR\",IF(COUNTIF($I$8:$I$107,AY23)>1,\"ERR\",IF($D23=VLOOKUP(AY23,$A$8:$D$107,4,FALSE),\"CLUB\",\"OK\"))))),\"\")","v":""},null,{"$f":"IF(BB23<>\"\",IF(BB23=\"Victoire\",IF(VLOOKUP(AY23,$A$8:$BL$107,54,FALSE)=\"Défaite\",\"OK\",\"ERR\"),IF(BB23=\"Défaite\",IF(VLOOKUP(AY23,$A$8:$BL$107,54,FALSE)=\"Victoire\",\"OK\",\"ERR\"),IF(BB23=\"Nul\",IF(VLOOKUP(AY23,$A$8:$BL$107,54,FALSE)=\"Nul\",\"OK\",\"ERR\")))),\"\")","v":""},null,{"$f":"IF(BB23=\"Victoire\",100-ROUNDDOWN(20*BD23/$H23,0),\nIF(BB23=\"Défaite\",10+ROUNDDOWN(20*VLOOKUP(AY23,$A$8:$CB$107,56,FALSE)/VLOOKUP(AY23,$A$8:$H$107,8,FALSE),0),\nIF(AND(BB23=\"Nul\",$BD23<>$H23),40+(2*ROUNDDOWN(10*VLOOKUP(AY23,$A$8:$CB$107,56,FALSE)/VLOOKUP(AY23,$A$8:$H$107,8,FALSE),0)-ROUNDDOWN(10*BD23/$H23,0)),IF(AND(BB23=\"Nul\",$BD23=$H23),58,0))))","v":0},null,{"$f":"IF(BF23<>\"\",VLOOKUP(BF23,$A$8:$C$107,2,FALSE),\"\")","v":""},{"$f":"IF(BF23<>\"\",IF(BF23=$A23,\"ERR\",IF(OR(BF23=$I23,BF23=$P23,BF23=$W23,BF23=$AD23,BF23=$AK23,BF23=$AR23,BF23=$AY23),\"DUP\",IF(ISNA(VLOOKUP(BF23,$A$8:$A$107,1,FALSE)),\"ERR\",IF(COUNTIF($I$8:$I$107,BF23)>1,\"ERR\",IF($D23=VLOOKUP(BF23,$A$8:$D$107,4,FALSE),\"CLUB\",\"OK\"))))),\"\")","v":""},null,{"$f":"IF(BI23<>\"\",IF(BI23=\"Victoire\",IF(VLOOKUP(BF23,$A$8:$BL$107,61,FALSE)=\"Défaite\",\"OK\",\"ERR\"),IF(BI23=\"Défaite\",IF(VLOOKUP(BF23,$A$8:$BL$107,61,FALSE)=\"Victoire\",\"OK\",\"ERR\"),IF(BI23=\"Nul\",IF(VLOOKUP(BF23,$A$8:$BL$107,61,FALSE)=\"Nul\",\"OK\",\"ERR\")))),\"\")","v":""},null,{"$f":"IF(BI23=\"Victoire\",100-ROUNDDOWN(20*BK23/$H23,0),\nIF(BI23=\"Défaite\",10+ROUNDDOWN(20*VLOOKUP(BF23,$A$8:$CB$107,63,FALSE)/VLOOKUP(BF23,$A$8:$H$107,8,FALSE),0),\nIF(AND(BI23=\"Nul\",$BK23<>$H23),40+(2*ROUNDDOWN(10*VLOOKUP(BF23,$A$8:$CB$107,63,FALSE)/VLOOKUP(BF23,$A$8:$H$107,8,FALSE),0)-ROUNDDOWN(10*BK23/$H23,0)),IF(AND(BI23=\"Nul\",$BK23=$H23),58,0))))","v":0},null,{"$f":"IF(BM23<>\"\",VLOOKUP(BM23,$A$8:$C$107,2,FALSE),\"\")","v":""},{"$f":"IF(BM23<>\"\",IF(BM23=$A23,\"ERR\",IF(OR(BM23=$I23,BM23=$P23,BM23=$W23,BM23=$AD23,BM23=$AK23,BM23=$AR23,BM23=$AY23,BM23=$BF23),\"DUP\",IF(ISNA(VLOOKUP(BM23,$A$8:$A$107,1,FALSE)),\"ERR\",IF(COUNTIF($I$8:$I$107,BM23)>1,\"ERR\",IF($D23=VLOOKUP(BM23,$A$8:$D$107,4,FALSE),\"CLUB\",\"OK\"))))),\"\")","v":""},null,{"$f":"IF(BP23<>\"\",IF(BP23=\"Victoire\",IF(VLOOKUP(BM23,$A$8:$BS$107,68,FALSE)=\"Défaite\",\"OK\",\"ERR\"),IF(BP23=\"Défaite\",IF(VLOOKUP(BM23,$A$8:$BS$107,68,FALSE)=\"Victoire\",\"OK\",\"ERR\"),IF(BP23=\"Nul\",IF(VLOOKUP(BM23,$A$8:$BS$107,68,FALSE)=\"Nul\",\"OK\",\"ERR\")))),\"\")","v":""},null,{"$f":"IF(BP23=\"Victoire\",100-ROUNDDOWN(20*BR23/$H23,0),\nIF(BP23=\"Défaite\",10+ROUNDDOWN(20*VLOOKUP(BM23,$A$8:$CB$107,70,FALSE)/VLOOKUP(BM23,$A$8:$H$107,8,FALSE),0),\nIF(AND(BP23=\"Nul\",$BR23<>$H23),40+(2*ROUNDDOWN(10*VLOOKUP(BM23,$A$8:$CB$107,70,FALSE)/VLOOKUP(BM23,$A$8:$H$107,8,FALSE),0)-ROUNDDOWN(10*BR23/$H23,0)),IF(AND(BP23=\"Nul\",$BR23=$H23),58,0))))","v":0},null,{"$f":"IF($I23<>\"\",VLOOKUP($I23,$A$8:$N$107,5,FALSE),0)+IF($P23<>\"\",VLOOKUP($P23,$A$8:$N$107,5,FALSE),0)+IF($W23<>\"\",VLOOKUP($W23,$A$8:$N$107,5,FALSE),0)+IF($AD23<>\"\",VLOOKUP($AD23,$A$8:$N$107,5,FALSE),0)+IF($AK23<>\"\",VLOOKUP($AK23,$A$8:$N$107,5,FALSE),0)+IF($AR23<>\"\",VLOOKUP($AR23,$A$8:$N$107,5,FALSE),0)+IF($AY23<>\"\",VLOOKUP($AY23,$A$8:$N$107,5,FALSE),0)+IF($BF23<>\"\",VLOOKUP($BF23,$A$8:$N$107,5,FALSE),0)+IF($BM23<>\"\",VLOOKUP($BM23,$A$8:$N$107,5,FALSE),0)","v":0}]
[{"$nulls":4},0,null,{"$f":"IF($F24<>\"\",VLOOKUP(F24,Armies!$A$1:$C$300,3,FALSE),\"\")","v":""},null,null,{"$f":"IF(I24<>\"\",VLOOKUP(I24,$A$8:$C$107,2,FALSE),\"\")","v":""},{"$f":"IF(I24<>\"\",IF(I24=$A24,\"ERR\",IF(OR(I24=$P24,I24=$W24,I24=$AD24,I24=$AK24),\"DUP\",IF(ISNA(VLOOKUP(I24,$A$8:$A$107,1,FALSE)),\"ERR\",IF(COUNTIF($I$8:$I$107,I24)>1,\"ERR\",IF($D24=VLOOKUP(I24,$A$8:$D$107,4,FALSE),\"CLUB\",\"OK\"))))),\"\")","v":""},null,{"$f":"IF(L24<>\"\",IF(L24=\"Victoire\",IF(VLOOKUP(I24,$A$8:$L$107,12,FALSE)=\"Défaite\",\"OK\",\"ERR\"),IF(L24=\"Défaite\",IF(VLOOKUP(I24,$A$8:$L$107,12,FALSE)=\"Victoire\",\"OK\",\"ERR\"),IF(L24=\"Nul\",IF(VLOOKUP(I24,$A$8:$L$107,12,FALSE)=\"Nul\",\"OK\",\"ERR\")))),\"\")","v":""},null,{"$f":"IF(L24=\"Victoire\",100-ROUNDDOWN(20*N24/$H24,0),\nIF(L24=\"Défaite\",10+ROUNDDOWN(20*VLOOKUP(I24,$A$8:$N$107,14,FALSE)/VLOOKUP(I24,$A$8:$H$107,8,FALSE),0),\nIF(AND(L24=\"Nul\",$N24<>$H24),40+(2*ROUNDDOWN(10*VLOOKUP(I24,$A$8:$N$107,14,FALSE)/VLOOKUP(I24,$A$8:$H$107,8,FALSE),0)-ROUNDDOWN(10*N24/$H24,0)),IF(AND(L24=\"Nul\",$N24=$H24),58,0))))","v":0},null,{"$f":"IF(P24<>\"\",VLOOKUP(P24,$A$8:$C$107,2,FALSE),\"\")","v":""},{"$f":"IF(P24<>\"\",IF(P24=$A24,\"ERR\",IF(OR(P24=$I24,P24=$W24,P24=$AD24,P24=$AK24),\"DUP\",IF(ISNA(VLOOKUP(P24,$A$8:$A$107,1,FALSE)),\"ERR\",IF(COUNTIF($I$8:$I$107,P24)>1,\"ERR\",IF($D24=VLOOKUP(P24,$A$8:$D$107,4,FALSE),\"CLUB\",\"OK\"))))),\"\")","v":""},null,{"$f":"IF(S24<>\"\",IF(S24=\"Victoire\",IF(VLOOKUP(P24,$A$8:$AO$107,19,FALSE)=\"Défaite\",\"OK\",\"ERR\"),IF(S24=\"Défaite\",IF(VLOOKUP(P24,$A$8:$AO$107,19,FALSE)=\"Victoire\",\"OK\",\"ERR\"),IF(S24=\"Nul\",IF(VLOOKUP(P24,$A$8:$AO$107,19,FALSE)=\"Nul\",\"OK\",\"ERR\")))),\"\")","v":""},null,{"$f":"IF(S24=\"Victoire\",100-ROUNDDOWN(20*U24/$H24,0),\nIF(S24=\"Défaite\",10+ROUNDDOWN(20*VLOOKUP(P24,$A$8:$AO$107,21,FALSE)/VLOOKUP(P24,$A$8:$H$107,8,FALSE),0),\nIF(AND(S24=\"Nul\",$U24<>$H24),40+(2*ROUNDDOWN(10*VLOOKUP(P24,$A$8:$AO$107,21,FALSE)/VLOOKUP(P24,$A$8:$H$107,8,FALSE),0)-ROUNDDOWN(10*U24/$H24,0)),IF(AND(S24=\"Nul\",$U24=$H24),58,0))))","v":0},null,{"$f":"IF(W24<>\"\",VLOOKUP(W24,$A$8:$C$107,2,FALSE),\"\")","v":""},{"$f":"IF(W24<>\"\",IF(W24=$A24,\"ERR\",IF(OR(W24=$P24,W24=$I24,W24=$AD24,W24=$AK24),\"DUP\",IF(ISNA(VLOOKUP(W24,$A$8:$A$107,1,FALSE)),\"ERR\",IF(COUNTIF($I$8:$I$107,W24)>1,\"ERR\",IF($D24=VLOOKUP(W24,$A$8:$D$107,4,FALSE),\"CLUB\",\"OK\"))))),\"\")","v":""},null,{"$f":"IF(Z24<>\"\",IF(Z24=\"Victoire\",IF(VLOOKUP(W24,$A$8:$AO$107,26,FALSE)=\"Défaite\",\"OK\",\"ERR\"),IF(Z24=\"Défaite\",IF(VLOOKUP(W24,$A$8:$AO$107,26,FALSE)=\"Victoire\",\"OK\",\"ERR\"),IF(Z24=\"Nul\",IF(VLOOKUP(W24,$A$8:$AO$107,26,FALSE)=\"Nul\",\"OK\",\"ERR\")))),\"\")","v":""},null,{"$f":"IF(Z24=\"Victoire\",100-ROUNDDOWN(20*AB24/$H24,0),\nIF(Z24=\"Défaite\",10+ROUNDDOWN(20*VLOOKUP(W24,$A$8:$AO$107,28,FALSE)/VLOOKUP(W24,$A$8:$H$107,8,FALSE),0),\nIF(AND(Z24=\"Nul\",$AB24<>$H24),40+(2*ROUNDDOWN(10*VLOOKUP(W24,$A$8:$AO$107,28,FALSE)/VLOOKUP(W24,$A$8:$H$107,8,FALSE),0)-ROUNDDOWN(10*AB24/$H24,0)),IF(AND(Z24=\"Nul\",$AB24=$H24),58,0))))","v":0},null,{"$f":"IF(AD24<>\"\",VLOOKUP(AD24,$A$8:$C$107,2,FALSE),\"\")","v":""},{"$f":"IF(AD24<>\"\",IF(AD24=$A24,\"ERR\",IF(OR(AD24=$P24,AD24=$W24,AD24=$I24,AD24=$AK24),\"DUP\",IF(ISNA(VLOOKUP(AD24,$A$8:$A$107,1,FALSE)),\"ERR\",IF(COUNTIF($I$8:$I$107,AD24)>1,\"ERR\",IF($D24=VLOOKUP(AD24,$A$8:$D$107,4,FALSE),\"CLUB\",\"OK\"))))),\"\")","v":""},null,{"$f":"IF(AG24<>\"\",IF(AG24=\"Victoire\",IF(VLOOKUP(AD24,$A$8:$AO$107,33,FALSE)=\"Défaite\",\"OK\",\"ERR\"),IF(AG24=\"Défaite\",IF(VLOOKUP(AD24,$A$8:$AO$107,33,FALSE)=\"Victoire\",\"OK\",\"ERR\"),IF(AG24=\"Nul\",IF(VLOOKUP(AD24,$A$8:$AO$107,33,FALSE)=\"Nul\",\"OK\",\"ERR\")))),\"\")","v":""},null,{"$f":"IF(AG24=\"Victoire\",100-ROUNDDOWN(20*AI24/$H24,0),\nIF(AG24=\"Défaite\",10+ROUNDDOWN(20*VLOOKUP(AD24,$A$8:$AO$107,35,FALSE)/VLOOKUP(AD24,$A$8:$H$107,8,FALSE),0),\nIF(AND(AG24=\"Nul\",$AI24<>$H24),40+(2*ROUNDDOWN(10*VLOOKUP(AD24,$A$8:$AO$107,35,FALSE)/VLOOKUP(AD24,$A$8:$H$107,8,FALSE),0)-ROUNDDOWN(10*AI24/$H24,0)),IF(AND(AG24=\"Nul\",$AI24=$H24),58,0))))","v":0},null,{"$f":"IF(AK24<>\"\",VLOOKUP(AK24,$A$8:$C$107,2,FALSE),\"\")","v":""},{"$f":"IF(AK24<>\"\",IF(AK24=$A24,\"ERR\",IF(OR(AK24=$P24,AK24=$W24,AK24=$AD24,AK24=$I24),\"DUP\",IF(ISNA(VLOOKUP(AK24,$A$8:$A$107,1,FALSE)),\"ERR\",IF(COUNTIF($I$8:$I$107,AK24)>1,\"ERR\",IF($D24=VLOOKUP(AK24,$A$8:$D$107,4,FALSE),\"CLUB\",\"OK\"))))),\"\")","v":""},null,{"$f":"IF(AN24<>\"\",IF(AN24=\"Victoire\",IF(VLOOKUP(AK24,$A$8:$AO$107,40,FALSE)=\"Défaite\",\"OK\",\"ERR\"),IF(AN24=\"Défaite\",IF(VLOOKUP(AK24,$A$8:$AO$107,40,FALSE)=\"Victoire\",\"OK\",\"ERR\"),IF(AN24=\"Nul\",IF(VLOOKUP(AK24,$A$8:$AO$107,40,FALSE)=\"Nul\",\"OK\",\"ERR\")))),\"\")","v":""},null,{"$f":"IF(AN24=\"Victoire\",100-ROUNDDOWN(20*AP24/$H24,0),\nIF(AN24=\"Défaite\",10+ROUNDDOWN(20*VLOOKUP(AK24,$A$8:$CB$107,42,FALSE)/VLOOKUP(AK24,$A$8:$H$107,8,FALSE),0),\nIF(AND(AN24=\"Nul\",$AP24<>$H24),40+(2*ROUNDDOWN(10*VLOOKUP(AK24,$A$8:$CB$107,42,FALSE)/VLOOKUP(AK24,$A$8:$H$107,8,FALSE),0)-ROUNDDOWN(10*AP24/$H24,0)),IF(AND(AN24=\"Nul\",$AP24=$H24),58,0))))","v":0},null,{"$f":"IF(AR24<>\"\",VLOOKUP(AR24,$A$8:$C$107,2,FALSE),\"\")","v":""},{"$f":"IF(AR24<>\"\",IF(AR24=$A24,\"ERR\",IF(OR(AR24=$I24,AR24=$P24,AR24=$W24,AR24=$AD24,AR24=$AK24),\"DUP\",IF(ISNA(VLOOKUP(AR24,$A$8:$A$107,1,FALSE)),\"ERR\",IF(COUNTIF($I$8:$I$107,AR24)>1,\"ERR\",IF($D24=VLOOKUP(AR24,$A$8:$D$107,4,FALSE),\"CLUB\",\"OK\"))))),\"\")","v":""},null,{"$f":"IF(AU24<>\"\",IF(AU24=\"Victoire\",IF(VLOOKUP(AR24,$A$8:$BL$107,47,FALSE)=\"Défaite\",\"OK\",\"ERR\"),IF(AU24=\"Défaite\",IF(VLOOKUP(AR24,$A$8:$BL$107,47,FALSE)=\"Victoire\",\"OK\",\"ERR\"),IF(AU24=\"Nul\",IF(VLOOKUP(AR24,$A$8:$BL$107,47,FALSE)=\"Nul\",\"OK\",\"ERR\")))),\"\")","v":""},null,{"$f":"IF(AU24=\"Victoire\",100-ROUNDDOWN(20*AW24/$H24,0),\nIF(AU24=\"Défaite\",10+ROUNDDOWN(20*VLOOKUP(AR24,$A$8:$CB$107,49,FALSE)/VLOOKUP(AR24,$A$8:$H$107,8,FALSE),0),\nIF(AND(AU24=\"Nul\",$AW24<>$H24),40+(2*ROUNDDOWN(10*VLOOKUP(AR24,$A$8:$CB$107,49,FALSE)/VLOOKUP(AR24,$A$8:$H$107,8,FALSE),0)-ROUNDDOWN(10*AW24/$H24,0)),IF(AND(AU24=\"Nul\",$AW24=$H24),58,0))))","v":0},null,{"$f":"IF(AY24<>\"\",VLOOKUP(AY24,$A$8:$C$107,2,FALSE),\"\")","v":""},{"$f":"IF(AY24<>\"\",IF(AY24=$A24,\"ERR\",IF(OR(AY24=$I24,AY24=$P24,AY24=$W24,AY24=$AD24,AY24=$AK24,AY24=$AR24),\"DUP\",IF(ISNA(VLOOKUP(AY24,$A$8:$A$107,1,FALSE)),\"ERR\",IF(COUNTIF($I$8:$I$107,AY24)>1,\"ERR\",IF($D24=VLOOKUP(AY24,$A$8:$D$107,4,FALSE),\"CLUB\",\"OK\"))))),\"\")","v":""},null,{"$f":"IF(BB24<>\"\",IF(BB24=\"Victoire\",IF(VLOOKUP(AY24,$A$8:$BL$107,54,FALSE)=\"Défaite\",\"OK\",\"ERR\"),IF(BB24=\"Défaite\",IF(VLOOKUP(AY24,$A$8:$BL$107,54,FALSE)=\"Victoire\",\"OK\",\"ERR\"),IF(BB24=\"Nul\",IF(VLOOKUP(AY24,$A$8:$BL$107,54,FALSE)=\"Nul\",\"OK\",\"ERR\")))),\"\")","v":""},null,{"$f":"IF(BB24=\"Victoire\",100-ROUNDDOWN(20*BD24/$H24,0),\nIF(BB24=\"Défaite\",10+ROUNDDOWN(20*VLOOKUP(AY24,$A$8:$CB$107,56,FALSE)/VLOOKUP(AY24,$A$8:$H$107,8,FALSE),0),\nIF(AND(BB24=\"Nul\",$BD24<>$H24),40+(2*ROUNDDOWN(10*VLOOKUP(AY24,$A$8:$CB$107,56,FALSE)/VLOOKUP(AY24,$A$8:$H$107,8,FALSE),0)-ROUNDDOWN(10*BD24/$H24,0)),IF(AND(BB24=\"Nul\",$BD24=$H24),58,0))))","v":0},null,{"$f":"IF(BF24<>\"\",VLOOKUP(BF24,$A$8:$C$107,2,FALSE),\"\")","v":""},{"$f":"IF(BF24<>\"\",IF(BF24=$A24,\"ERR\",IF(OR(BF24=$I24,BF24=$P24,BF24=$W24,BF24=$AD24,BF24=$AK24,BF24=$AR24,BF24=$AY24),\"DUP\",IF(ISNA(VLOOKUP(BF24,$A$8:$A$107,1,FALSE)),\"ERR\",IF(COUNTIF($I$8:$I$107,BF24)>1,\"ERR\",IF($D24=VLOOKUP(BF24,$A$8:$D$107,4,FALSE),\"CLUB\",\"OK\"))))),\"\")","v":""},null,{"$f":"IF(BI24<>\"\",IF(BI24=\"Victoire\",IF(VLOOKUP(BF24,$A$8:$BL$107,61,FALSE)=\"Défaite\",\"OK\",\"ERR\"),IF(BI24=\"Défaite\",IF(VLOOKUP(BF24,$A$8:$BL$107,61,FALSE)=\"Victoire\",\"OK\",\"ERR\"),IF(BI24=\"Nul\",IF(VLOOKUP(BF24,$A$8:$BL$107,61,FALSE)=\"Nul\",\"OK\",\"ERR\")))),\"\")","v":""},null,{"$f":"IF(BI24=\"Victoire\",100-ROUNDDOWN(20*BK24/$H24,0),\nIF(BI24=\"Défaite\",10+ROUNDDOWN(20*VLOOKUP(BF24,$A$8:$CB$107,63,FALSE)/VLOOKUP(BF24,$A$8:$H$107,8,FALSE),0),\nIF(AND(BI24=\"Nul\",$BK24<>$H24),40+(2*ROUNDDOWN(10*VLOOKUP(BF24,$A$8:$CB$107,63,FALSE)/VLOOKUP(BF24,$A$8:$H$107,8,FALSE),0)-ROUNDDOWN(10*BK24/$H24,0)),IF(AND(BI24=\"Nul\",$BK24=$H24),58,0))))","v":0},null,{"$f":"IF(BM24<>\"\",VLOOKUP(BM24,$A$8:$C$107,2,FALSE),\"\")","v":""},{"$f":"IF(BM24<>\"\",IF(BM24=$A24,\"ERR\",IF(OR(BM24=$I24,BM24=$P24,BM24=$W24,BM24=$AD24,BM24=$AK24,BM24=$AR24,BM24=$AY24,BM24=$BF24),\"DUP\",IF(ISNA(VLOOKUP(BM24,$A$8:$A$107,1,FALSE)),\"ERR\",IF(COUNTIF($I$8:$I$107,BM24)>1,\"ERR\",IF($D24=VLOOKUP(BM24,$A$8:$D$107,4,FALSE),\"CLUB\",\"OK\"))))),\"\")","v":""},null,{"$f":"IF(BP24<>\"\",IF(BP24=\"Victoire\",IF(VLOOKUP(BM24,$A$8:$BS$107,68,FALSE)=\"Défaite\",\"OK\",\"ERR\"),IF(BP24=\"Défaite\",IF(VLOOKUP(BM24,$A$8:$BS$107,68,FALSE)=\"Victoire\",\"OK\",\"ERR\"),IF(BP24=\"Nul\",IF(VLOOKUP(BM24,$A$8:$BS$107,68,FALSE)=\"Nul\",\"OK\",\"ERR\")))),\"\")","v":""},null,{"$f":"IF(BP24=\"Victoire\",100-ROUNDDOWN(20*BR24/$H24,0),\nIF(BP24=\"Défaite\",10+ROUNDDOWN(20*VLOOKUP(BM24,$A$8:$CB$107,70,FALSE)/VLOOKUP(BM24,$A$8:$H$107,8,FALSE),0),\nIF(AND(BP24=\"Nul\",$BR24<>$H24),40+(2*ROUNDDOWN(10*VLOOKUP(BM24,$A$8:$CB$107,70,FALSE)/VLOOKUP(BM24,$A$8:$H$107,8,FALSE),0)-ROUNDDOWN(10*BR24/$H24,0)),IF(AND(BP24=\"Nul\",$BR24=$H24),58,0))))","v":0},null,{"$f":"IF($I24<>\"\",VLOOKUP($I24,$A$8:$N$107,5,FALSE),0)+IF($P24<>\"\",VLOOKUP($P24,$A$8:$N$107,5,FALSE),0)+IF($W24<>\"\",VLOOKUP($W24,$A$8:$N$107,5,FALSE),0)+IF($AD24<>\"\",VLOOKUP($AD24,$A$8:$N$107,5,FALSE),0)+IF($AK24<>\"\",VLOOKUP($AK24,$A$8:$N$107,5,FALSE),0)+IF($AR24<>\"\",VLOOKUP($AR24,$A$8:$N$107,5,FALSE),0)+IF($AY24<>\"\",VLOOKUP($AY24,$A$8:$N$107,5,FALSE),0)+IF($BF24<>\"\",VLOOKUP($BF24,$A$8:$N$107,5,FALSE),0)+IF($BM24<>\"\",VLOOKUP($BM24,$A$8:$N$107,5,FALSE),0)","v":0}]
[{"$nulls":4},0,null,{"$f":"IF($F25<>\"\",VLOOKUP(F25,Armies!$A$1:$C$300,3,FALSE),\"\")","v":""},null,null,{"$f":"IF(I25<>\"\",VLOOKUP(I25,$A$8:$C$107,2,FALSE),\"\")","v":""},{"$f":"IF(I25<>\"\",IF(I25=$A25,\"ERR\",IF(OR(I25=$P25,I25=$W25,I25=$AD25,I25=$AK25),\"DUP\",IF(ISNA(VLOOKUP(I25,$A$8:$A$107,1,FALSE)),\"ERR\",IF(COUNTIF($I$8:$I$107,I25)>1,\"ERR\",IF($D25=VLOOKUP(I25,$A$8:$D$107,4,FALSE),\"CLUB\",\"OK\"))))),\"\")","v":""},null,{"$f":"IF(L25<>\"\",IF(L25=\"Victoire\",IF(VLOOKUP(I25,$A$8:$L$107,12,FALSE)=\"Défaite\",\"OK\",\"ERR\"),IF(L25=\"Défaite\",IF(VLOOKUP(I25,$A$8:$L$107,12,FALSE)=\"Victoire\",\"OK\",\"ERR\"),IF(L25=\"Nul\",IF(VLOOKUP(I25,$A$8:$L$107,12,FALSE)=\"Nul\",\"OK\",\"ERR\")))),\"\")","v":""},null,{"$f":"IF(L25=\"Victoire\",100-ROUNDDOWN(20*N25/$H25,0),\nIF(L25=\"Défaite\",10+ROUNDDOWN(20*VLOOKUP(I25,$A$8:$N$107,14,FALSE)/VLOOKUP(I25,$A$8:$H$107,8,FALSE),0),\nIF(AND(L25=\"Nul\",$N25<>$H25),40+(2*ROUNDDOWN(10*VLOOKUP(I25,$A$8:$N$107,14,FALSE)/VLOOKUP(I25,$A$8:$H$107,8,FALSE),0)-ROUNDDOWN(10*N25/$H25,0)),IF(AND(L25=\"Nul\",$N25=$H25),58,0))))","v":0},null,{"$f":"IF(P25<>\"\",VLOOKUP(P25,$A$8:$C$107,2,FALSE),\"\")","v":""},{"$f":"IF(P25<>\"\",IF(P25=$A25,\"ERR\",IF(OR(P25=$I25,P25=$W25,P25=$AD25,P25=$AK25),\"DUP\",IF(ISNA(VLOOKUP(P25,$A$8:$A$107,1,FALSE)),\"ERR\",IF(COUNTIF($I$8:$I$107,P25)>1,\"ERR\",IF($D25=VLOOKUP(P25,$A$8:$D$107,4,FALSE),\"CLUB\",\"OK\"))))),\"\")","v":""},null,{"$f":"IF(S25<>\"\",IF(S25=\"Victoire\",IF(VLOOKUP(P25,$A$8:$AO$107,19,FALSE)=\"Défaite\",\"OK\",\"ERR\"),IF(S25=\"Défaite\",IF(VLOOKUP(P25,$A$8:$AO$107,19,FALSE)=\"Victoire\",\"OK\",\"ERR\"),IF(S25=\"Nul\",IF(VLOOKUP(P25,$A$8:$AO$107,19,FALSE)=\"Nul\",\"OK\",\"ERR\")))),\"\")","v":""},null,{"$f":"IF(S25=\"Victoire\",100-ROUNDDOWN(20*U25/$H25,0),\nIF(S25=\"Défaite\",10+ROUNDDOWN(20*VLOOKUP(P25,$A$8:$AO$107,21,FALSE)/VLOOKUP(P25,$A$8:$H$107,8,FALSE),0),\nIF(AND(S25=\"Nul\",$U25<>$H25),40+(2*ROUNDDOWN(10*VLOOKUP(P25,$A$8:$AO$107,21,FALSE)/VLOOKUP(P25,$A$8:$H$107,8,FALSE),0)-ROUNDDOWN(10*U25/$H25,0)),IF(AND(S25=\"Nul\",$U25=$H25),58,0))))","v":0},null,{"$f":"IF(W25<>\"\",VLOOKUP(W25,$A$8:$C$107,2,FALSE),\"\")","v":""},{"$f":"IF(W25<>\"\",IF(W25=$A25,\"ERR\",IF(OR(W25=$P25,W25=$I25,W25=$AD25,W25=$AK25),\"DUP\",IF(ISNA(VLOOKUP(W25,$A$8:$A$107,1,FALSE)),\"ERR\",IF(COUNTIF($I$8:$I$107,W25)>1,\"ERR\",IF($D25=VLOOKUP(W25,$A$8:$D$107,4,FALSE),\"CLUB\",\"OK\"))))),\"\")","v":""},null,{"$f":"IF(Z25<>\"\",IF(Z25=\"Victoire\",IF(VLOOKUP(W25,$A$8:$AO$107,26,FALSE)=\"Défaite\",\"OK\",\"ERR\"),IF(Z25=\"Défaite\",IF(VLOOKUP(W25,$A$8:$AO$107,26,FALSE)=\"Victoire\",\"OK\",\"ERR\"),IF(Z25=\"Nul\",IF(VLOOKUP(W25,$A$8:$AO$107,26,FALSE)=\"Nul\",\"OK\",\"ERR\")))),\"\")","v":""},null,{"$f":"IF(Z25=\"Victoire\",100-ROUNDDOWN(20*AB25/$H25,0),\nIF(Z25=\"Défaite\",10+ROUNDDOWN(20*VLOOKUP(W25,$A$8:$AO$107,28,FALSE)/VLOOKUP(W25,$A$8:$H$107,8,FALSE),0),\nIF(AND(Z25=\"Nul\",$AB25<>$H25),40+(2*ROUNDDOWN(10*VLOOKUP(W25,$A$8:$AO$107,28,FALSE)/VLOOKUP(W25,$A$8:$H$107,8,FALSE),0)-ROUNDDOWN(10*AB25/$H25,0)),IF(AND(Z25=\"Nul\",$AB25=$H25),58,0))))","v":0},null,{"$f":"IF(AD25<>\"\",VLOOKUP(AD25,$A$8:$C$107,2,FALSE),\"\")","v":""},{"$f":"IF(AD25<>\"\",IF(AD25=$A25,\"ERR\",IF(OR(AD25=$P25,AD25=$W25,AD25=$I25,AD25=$AK25),\"DUP\",IF(ISNA(VLOOKUP(AD25,$A$8:$A$107,1,FALSE)),\"ERR\",IF(COUNTIF($I$8:$I$107,AD25)>1,\"ERR\",IF($D25=VLOOKUP(AD25,$A$8:$D$107,4,FALSE),\"CLUB\",\"OK\"))))),\"\")","v":""},null,{"$f":"IF(AG25<>\"\",IF(AG25=\"Victoire\",IF(VLOOKUP(AD25,$A$8:$AO$107,33,FALSE)=\"Défaite\",\"OK\",\"ERR\"),IF(AG25=\"Défaite\",IF(VLOOKUP(AD25,$A$8:$AO$107,33,FALSE)=\"Victoire\",\"OK\",\"ERR\"),IF(AG25=\"Nul\",IF(VLOOKUP(AD25,$A$8:$AO$107,33,FALSE)=\"Nul\",\"OK\",\"ERR\")))),\"\")","v":""},null,{"$f":"IF(AG25=\"Victoire\",100-ROUNDDOWN(20*AI25/$H25,0),\nIF(AG25=\"Défaite\",10+ROUNDDOWN(20*VLOOKUP(AD25,$A$8:$AO$107,35,FALSE)/VLOOKUP(AD25,$A$8:$H$107,8,FALSE),0),\nIF(AND(AG25=\"Nul\",$AI25<>$H25),40+(2*ROUNDDOWN(10*VLOOKUP(AD25,$A$8:$AO$107,35,FALSE)/VLOOKUP(AD25,$A$8:$H$107,8,FALSE),0)-ROUNDDOWN(10*AI25/$H25,0)),IF(AND(AG25=\"Nul\",$AI25=$H25),58,0))))","v":0},null,{"$f":"IF(AK25<>\"\",VLOOKUP(AK25,$A$8:$C$107,2,FALSE),\"\")","v":""},{"$f":"IF(AK25<>\"\",IF(AK25=$A25,\"ERR\",IF(OR(AK25=$P25,AK25=$W25,AK25=$AD25,AK25=$I25),\"DUP\",IF(ISNA(VLOOKUP(AK25,$A$8:$A$107,1,FALSE)),\"ERR\",IF(COUNTIF($I$8:$I$107,AK25)>1,\"ERR\",IF($D25=VLOOKUP(AK25,$A$8:$D$107,4,FALSE),\"CLUB\",\"OK\"))))),\"\")","v":""},null,{"$f":"IF(AN25<>\"\",IF(AN25=\"Victoire\",IF(VLOOKUP(AK25,$A$8:$AO$107,40,FALSE)=\"Défaite\",\"OK\",\"ERR\"),IF(AN25=\"Défaite\",IF(VLOOKUP(AK25,$A$8:$AO$107,40,FALSE)=\"Victoire\",\"OK\",\"ERR\"),IF(AN25=\"Nul\",IF(VLOOKUP(AK25,$A$8:$AO$107,40,FALSE)=\"Nul\",\"OK\",\"ERR\")))),\"\")","v":""},null,{"$f":"IF(AN25=\"Victoire\",100-ROUNDDOWN(20*AP25/$H25,0),\nIF(AN25=\"Défaite\",10+ROUNDDOWN(20*VLOOKUP(AK25,$A$8:$CB$107,42,FALSE)/VLOOKUP(AK25,$A$8:$H$107,8,FALSE),0),\nIF(AND(AN25=\"Nul\",$AP25<>$H25),40+(2*ROUNDDOWN(10*VLOOKUP(AK25,$A$8:$CB$107,42,FALSE)/VLOOKUP(AK25,$A$8:$H$107,8,FALSE),0)-ROUNDDOWN(10*AP25/$H25,0)),IF(AND(AN25=\"Nul\",$AP25=$H25),58,0))))","v":0},null,{"$f":"IF(AR25<>\"\",VLOOKUP(AR25,$A$8:$C$107,2,FALSE),\"\")","v":""},{"$f":"IF(AR25<>\"\",IF(AR25=$A25,\"ERR\",IF(OR(AR25=$I25,AR25=$P25,AR25=$W25,AR25=$AD25,AR25=$AK25),\"DUP\",IF(ISNA(VLOOKUP(AR25,$A$8:$A$107,1,FALSE)),\"ERR\",IF(COUNTIF($I$8:$I$107,AR25)>1,\"ERR\",IF($D25=VLOOKUP(AR25,$A$8:$D$107,4,FALSE),\"CLUB\",\"OK\"))))),\"\")","v":""},null,{"$f":"IF(AU25<>\"\",IF(AU25=\"Victoire\",IF(VLOOKUP(AR25,$A$8:$BL$107,47,FALSE)=\"Défaite\",\"OK\",\"ERR\"),IF(AU25=\"Défaite\",IF(VLOOKUP(AR25,$A$8:$BL$107,47,FALSE)=\"Victoire\",\"OK\",\"ERR\"),IF(AU25=\"Nul\",IF(VLOOKUP(AR25,$A$8:$BL$107,47,FALSE)=\"Nul\",\"OK\",\"ERR\")))),\"\")","v":""},null,{"$f":"IF(AU25=\"Victoire\",100-ROUNDDOWN(20*AW25/$H25,0),\nIF(AU25=\"Défaite\",10+ROUNDDOWN(20*VLOOKUP(AR25,$A$8:$CB$107,49,FALSE)/VLOOKUP(AR25,$A$8:$H$107,8,FALSE),0),\nIF(AND(AU25=\"Nul\",$AW25<>$H25),40+(2*ROUNDDOWN(10*VLOOKUP(AR25,$A$8:$CB$107,49,FALSE)/VLOOKUP(AR25,$A$8:$H$107,8,FALSE),0)-ROUNDDOWN(10*AW25/$H25,0)),IF(AND(AU25=\"Nul\",$AW25=$H25),58,0))))","v":0},null,{"$f":"IF(AY25<>\"\",VLOOKUP(AY25,$A$8:$C$107,2,FALSE),\"\")","v":""},{"$f":"IF(AY25<>\"\",IF(AY25=$A25,\"ERR\",IF(OR(AY25=$I25,AY25=$P25,AY25=$W25,AY25=$AD25,AY25=$AK25,AY25=$AR25),\"DUP\",IF(ISNA(VLOOKUP(AY25,$A$8:$A$107,1,FALSE)),\"ERR\",IF(COUNTIF($I$8:$I$107,AY25)>1,\"ERR\",IF($D25=VLOOKUP(AY25,$A$8:$D$107,4,FALSE),\"CLUB\",\"OK\"))))),\"\")","v":""},null,{"$f":"IF(BB25<>\"\",IF(BB25=\"Victoire\",IF(VLOOKUP(AY25,$A$8:$BL$107,54,FALSE)=\"Défaite\",\"OK\",\"ERR\"),IF(BB25=\"Défaite\",IF(VLOOKUP(AY25,$A$8:$BL$107,54,FALSE)=\"Victoire\",\"OK\",\"ERR\"),IF(BB25=\"Nul\",IF(VLOOKUP(AY25,$A$8:$BL$107,54,FALSE)=\"Nul\",\"OK\",\"ERR\")))),\"\")","v":""},null,{"$f":"IF(BB25=\"Victoire\",100-ROUNDDOWN(20*BD25/$H25,0),\nIF(BB25=\"Défaite\",10+ROUNDDOWN(20*VLOOKUP(AY25,$A$8:$CB$107,56,FALSE)/VLOOKUP(AY25,$A$8:$H$107,8,FALSE),0),\nIF(AND(BB25=\"Nul\",$BD25<>$H25),40+(2*ROUNDDOWN(10*VLOOKUP(AY25,$A$8:$CB$107,56,FALSE)/VLOOKUP(AY25,$A$8:$H$107,8,FALSE),0)-ROUNDDOWN(10*BD25/$H25,0)),IF(AND(BB25=\"Nul\",$BD25=$H25),58,0))))","v":0},null,{"$f":"IF(BF25<>\"\",VLOOKUP(BF25,$A$8:$C$107,2,FALSE),\"\")","v":""},{"$f":"IF(BF25<>\"\",IF(BF25=$A25,\"ERR\",IF(OR(BF25=$I25,BF25=$P25,BF25=$W25,BF25=$AD25,BF25=$AK25,BF25=$AR25,BF25=$AY25),\"DUP\",IF(ISNA(VLOOKUP(BF25,$A$8:$A$107,1,FALSE)),\"ERR\",IF(COUNTIF($I$8:$I$107,BF25)>1,\"ERR\",IF($D25=VLOOKUP(BF25,$A$8:$D$107,4,FALSE),\"CLUB\",\"OK\"))))),\"\")","v":""},null,{"$f":"IF(BI25<>\"\",IF(BI25=\"Victoire\",IF(VLOOKUP(BF25,$A$8:$BL$107,61,FALSE)=\"Défaite\",\"OK\",\"ERR\"),IF(BI25=\"Défaite\",IF(VLOOKUP(BF25,$A$8:$BL$107,61,FALSE)=\"Victoire\",\"OK\",\"ERR\"),IF(BI25=\"Nul\",IF(VLOOKUP(BF25,$A$8:$BL$107,61,FALSE)=\"Nul\",\"OK\",\"ERR\")))),\"\")","v":""},null,{"$f":"IF(BI25=\"Victoire\",100-ROUNDDOWN(20*BK25/$H25,0),\nIF(BI25=\"Défaite\",10+ROUNDDOWN(20*VLOOKUP(BF25,$A$8:$CB$107,63,FALSE)/VLOOKUP(BF25,$A$8:$H$107,8,FALSE),0),\nIF(AND(BI25=\"Nul\",$BK25<>$H25),40+(2*ROUNDDOWN(10*VLOOKUP(BF25,$A$8:$CB$107,63,FALSE)/VLOOKUP(BF25,$A$8:$H$107,8,FALSE),0)-ROUNDDOWN(10*BK25/$H25,0)),IF(AND(BI25=\"Nul\",$BK25=$H25),58,0))))","v":0},null,{"$f":"IF(BM25<>\"\",VLOOKUP(BM25,$A$8:$C$107,2,FALSE),\"\")","v":""},{"$f":"IF(BM25<>\"\",IF(BM25=$A25,\"ERR\",IF(OR(BM25=$I25,BM25=$P25,BM25=$W25,BM25=$AD25,BM25=$AK25,BM25=$AR25,BM25=$AY25,BM25=$BF25),\"DUP\",IF(ISNA(VLOOKUP(BM25,$A$8:$A$107,1,FALSE)),\"ERR\",IF(COUNTIF($I$8:$I$107,BM25)>1,\"ERR\",IF($D25=VLOOKUP(BM25,$A$8:$D$107,4,FALSE),\"CLUB\",\"OK\"))))),\"\")","v":""},null,{"$f":"IF(BP25<>\"\",IF(BP25=\"Victoire\",IF(VLOOKUP(BM25,$A$8:$BS$107,68,FALSE)=\"Défaite\",\"OK\",\"ERR\"),IF(BP25=\"Défaite\",IF(VLOOKUP(BM25,$A$8:$BS$107,68,FALSE)=\"Victoire\",\"OK\",\"ERR\"),IF(BP25=\"Nul\",IF(VLOOKUP(BM25,$A$8:$BS$107,68,FALSE)=\"Nul\",\"OK\",\"ERR\")))),\"\")","v":""},null,{"$f":"IF(BP25=\"Victoire\",100-ROUNDDOWN(20*BR25/$H25,0),\nIF(BP25=\"Défaite\",10+ROUNDDOWN(20*VLOOKUP(BM25,$A$8:$CB$107,70,FALSE)/VLOOKUP(BM25,$A$8:$H$107,8,FALSE),0),\nIF(AND(BP25=\"Nul\",$BR25<>$H25),40+(2*ROUNDDOWN(10*VLOOKUP(BM25,$A$8:$CB$107,70,FALSE)/VLOOKUP(BM25,$A$8:$H$107,8,FALSE),0)-ROUNDDOWN(10*BR25/$H25,0)),IF(AND(BP25=\"Nul\",$BR25=$H25),58,0))))","v":0},null,{"$f":"IF($I25<>\"\",VLOOKUP($I25,$A$8:$N$107,5,FALSE),0)+IF($P25<>\"\",VLOOKUP($P25,$A$8:$N$107,5,FALSE),0)+IF($W25<>\"\",VLOOKUP($W25,$A$8:$N$107,5,FALSE),0)+IF($AD25<>\"\",VLOOKUP($AD25,$A$8:$N$107,5,FALSE),0)+IF($AK25<>\"\",VLOOKUP($AK25,$A$8:$N$107,5,FALSE),0)+IF($AR25<>\"\",VLOOKUP($AR25,$A$8:$N$107,5,FALSE),0)+IF($AY25<>\"\",VLOOKUP($AY25,$A$8:$N$107,5,FALSE),0)+IF($BF25<>\"\",VLOOKUP($BF25,$A$8:$N$107,5,FALSE),0)+IF($BM25<>\"\",VLOOKUP($BM25,$A$8:$N$107,5,FALSE),0)","v":0}]
[{"$nulls":4},0,null,{"$f":"IF($F26<>\"\",VLOOKUP(F26,Armies!$A$1:$C$300,3,FALSE),\"\")","v":""},null,null,{"$f":"IF(I26<>\"\",VLOOKUP(I26,$A$8:$C$107,2,FALSE),\"\")","v":""},{"$f":"IF(I26<>\"\",IF(I26=$A26,\"ERR\",IF(OR(I26=$P26,I26=$W26,I26=$AD26,I26=$AK26),\"DUP\",IF(ISNA(VLOOKUP(I26,$A$8:$A$107,1,FALSE)),\"ERR\",IF(COUNTIF($I$8:$I$107,I26)>1,\"ERR\",IF($D26=VLOOKUP(I26,$A$8:$D$107,4,FALSE),\"CLUB\",\"OK\"))))),\"\")","v":""},null,{"$f":"IF(L26<>\"\",IF(L26=\"Victoire\",IF(VLOOKUP(I26,$A$8:$L$107,12,FALSE)=\"Défaite\",\"OK\",\"ERR\"),IF(L26=\"Défaite\",IF(VLOOKUP(I26,$A$8:$L$107,12,FALSE)=\"Victoire\",\"OK\",\"ERR\"),IF(L26=\"Nul\",IF(VLOOKUP(I26,$A$8:$L$107,12,FALSE)=\"Nul\",\"OK\",\"ERR\")))),\"\")","v":""},null,{"$f":"IF(L26=\"Victoire\",100-ROUNDDOWN(20*N26/$H26,0),\nIF(L26=\"Défaite\",10+ROUNDDOWN(20*VLOOKUP(I26,$A$8:$N$107,14,FALSE)/VLOOKUP(I26,$A$8:$H$107,8,FALSE),0),\nIF(AND(L26=\"Nul\",$N26<>$H26),40+(2*ROUNDDOWN(10*VLOOKUP(I26,$A$8:$N$107,14,FALSE)/VLOOKUP(I26,$A$8:$H$107,8,FALSE),0)-ROUNDDOWN(10*N26/$H26,0)),IF(AND(L26=\"Nul\",$N26=$H26),58,0))))","v":0},null,{"$f":"IF(P26<>\"\",VLOOKUP(P26,$A$8:$C$107,2,FALSE),\"\")","v":""},{"$f":"IF(P26<>\"\",IF(P26=$A26,\"ERR\",IF(OR(P26=$I26,P26=$W26,P26=$AD26,P26=$AK26),\"DUP\",IF(ISNA(VLOOKUP(P26,$A$8:$A$107,1,FALSE)),\"ERR\",IF(COUNTIF($I$8:$I$107,P26)>1,\"ERR\",IF($D26=VLOOKUP(P26,$A$8:$D$107,4,FALSE),\"CLUB\",\"OK\"))))),\"\")","v":""},null,{"$f":"IF(S26<>\"\",IF(S26=\"Victoire\",IF(VLOOKUP(P26,$A$8:$AO$107,19,FALSE)=\"Défaite\",\"OK\",\"ERR\"),IF(S26=\"Défaite\",IF(VLOOKUP(P26,$A$8:$AO$107,19,FALSE)=\"Victoire\",\"OK\",\"ERR\"),IF(S26=\"Nul\",IF(VLOOKUP(P26,$A$8:$AO$107,19,FALSE)=\"Nul\",\"OK\",\"ERR\")))),\"\")","v":""},null,{"$f":"IF(S26=\"Victoire\",100-ROUNDDOWN(20*U26/$H26,0),\nIF(S26=\"Défaite\",10+ROUNDDOWN(20*VLOOKUP(P26,$A$8:$AO$107,21,FALSE)/VLOOKUP(P26,$A$8:$H$107,8,FALSE),0),\nIF(AND(S26=\"Nul\",$U26<>$H26),40+(2*ROUNDDOWN(10*VLOOKUP(P26,$A$8:$AO$107,21,FALSE)/VLOOKUP(P26,$A$8:$H$107,8,FALSE),0)-ROUNDDOWN(10*U26/$H26,0)),IF(AND(S26=\"Nul\",$U26=$H26),58,0))))","v":0},null,{"$f":"IF(W26<>\"\",VLOOKUP(W26,$A$8:$C$107,2,FALSE),\"\")","v":""},{"$f":"IF(W26<>\"\",IF(W26=$A26,\"ERR\",IF(OR(W26=$P26,W26=$I26,W26=$AD26,W26=$AK26),\"DUP\",IF(ISNA(VLOOKUP(W26,$A$8:$A$107,1,FALSE)),\"ERR\",IF(COUNTIF($I$8:$I$107,W26)>1,\"ERR\",IF($D26=VLOOKUP(W26,$A$8:$D$107,4,FALSE),\"CLUB\",\"OK\"))))),\"\")","v":""},null,{"$f":"IF(Z26<>\"\",IF(Z26=\"Victoire\",IF(VLOOKUP(W26,$A$8:$AO$107,26,FALSE)=\"Défaite\",\"OK\",\"ERR\"),IF(Z26=\"Défaite\",IF(VLOOKUP(W26,$A$8:$AO$107,26,FALSE)=\"Victoire\",\"OK\",\"ERR\"),IF(Z26=\"Nul\",IF(VLOOKUP(W26,$A$8:$AO$107,26,FALSE)=\"Nul\",\"OK\",\"ERR\")))),\"\")","v":""},null,{"$f":"IF(Z26=\"Victoire\",100-ROUNDDOWN(20*AB26/$H26,0),\nIF(Z26=\"Défaite\",10+ROUNDDOWN(20*VLOOKUP(W26,$A$8:$AO$107,28,FALSE)/VLOOKUP(W26,$A$8:$H$107,8,FALSE),0),\nIF(AND(Z26=\"Nul\",$AB26<>$H26),40+(2*ROUNDDOWN(10*VLOOKUP(W26,$A$8:$AO$107,28,FALSE)/VLOOKUP(W26,$A$8:$H$107,8,FALSE),0)-ROUNDDOWN(10*AB26/$H26,0)),IF(AND(Z26=\"Nul\",$AB26=$H26),58,0))))","v":0},null,{"$f":"IF(AD26<>\"\",VLOOKUP(AD26,$A$8:$C$107,2,FALSE),\"\")","v":""},{"$f":"IF(AD26<>\"\",IF(AD26=$A26,\"ERR\",IF(OR(AD26=$P26,AD26=$W26,AD26=$I26,AD26=$AK26),\"DUP\",IF(ISNA(VLOOKUP(AD26,$A$8:$A$107,1,FALSE)),\"ERR\",IF(COUNTIF($I$8:$I$107,AD26)>1,\"ERR\",IF($D26=VLOOKUP(AD26,$A$8:$D$107,4,FALSE),\"CLUB\",\"OK\"))))),\"\")","v":""},null,{"$f":"IF(AG26<>\"\",IF(AG26=\"Victoire\",IF(VLOOKUP(AD26,$A$8:$AO$107,33,FALSE)=\"Défaite\",\"OK\",\"ERR\"),IF(AG26=\"Défaite\",IF(VLOOKUP(AD26,$A$8:$AO$107,33,FALSE)=\"Victoire\",\"OK\",\"ERR\"),IF(AG26=\"Nul\",IF(VLOOKUP(AD26,$A$8:$AO$107,33,FALSE)=\"Nul\",\"OK\",\"ERR\")))),\"\")","v":""},null,{"$f":"IF(AG26=\"Victoire\",100-ROUNDDOWN(20*AI26/$H26,0),\nIF(AG26=\"Défaite\",10+ROUNDDOWN(20*VLOOKUP(AD26,$A$8:$AO$107,35,FALSE)/VLOOKUP(AD26,$A$8:$H$107,8,FALSE),0),\nIF(AND(AG26=\"Nul\",$AI26<>$H26),40+(2*ROUNDDOWN(10*VLOOKUP(AD26,$A$8:$AO$107,35,FALSE)/VLOOKUP(AD26,$A$8:$H$107,8,FALSE),0)-ROUNDDOWN(10*AI26/$H26,0)),IF(AND(AG26=\"Nul\",$AI26=$H26),58,0))))","v":0},null,{"$f":"IF(AK26<>\"\",VLOOKUP(AK26,$A$8:$C$107,2,FALSE),\"\")","v":""},{"$f":"IF(AK26<>\"\",IF(AK26=$A26,\"ERR\",IF(OR(AK26=$P26,AK26=$W26,AK26=$AD26,AK26=$I26),\"DUP\",IF(ISNA(VLOOKUP(AK26,$A$8:$A$107,1,FALSE)),\"ERR\",IF(COUNTIF($I$8:$I$107,AK26)>1,\"ERR\",IF($D26=VLOOKUP(AK26,$A$8:$D$107,4,FALSE),\"CLUB\",\"OK\"))))),\"\")","v":""},null,{"$f":"IF(AN26<>\"\",IF(AN26=\"Victoire\",IF(VLOOKUP(AK26,$A$8:$AO$107,40,FALSE)=\"Défaite\",\"OK\",\"ERR\"),IF(AN26=\"Défaite\",IF(VLOOKUP(AK26,$A$8:$AO$107,40,FALSE)=\"Victoire\",\"OK\",\"ERR\"),IF(AN26=\"Nul\",IF(VLOOKUP(AK26,$A$8:$AO$107,40,FALSE)=\"Nul\",\"OK\",\"ERR\")))),\"\")","v":""},null,{"$f":"IF(AN26=\"Victoire\",100-ROUNDDOWN(20*AP26/$H26,0),\nIF(AN26=\"Défaite\",10+ROUNDDOWN(20*VLOOKUP(AK26,$A$8:$CB$107,42,FALSE)/VLOOKUP(AK26,$A$8:$H$107,8,FALSE),0),\nIF(AND(AN26=\"Nul\",$AP26<>$H26),40+(2*ROUNDDOWN(10*VLOOKUP(AK26,$A$8:$CB$107,42,FALSE)/VLOOKUP(AK26,$A$8:$H$107,8,FALSE),0)-ROUNDDOWN(10*AP26/$H26,0)),IF(AND(AN26=\"Nul\",$AP26=$H26),58,0))))","v":0},null,{"$f":"IF(AR26<>\"\",VLOOKUP(AR26,$A$8:$C$107,2,FALSE),\"\")","v":""},{"$f":"IF(AR26<>\"\",IF(AR26=$A26,\"ERR\",IF(OR(AR26=$I26,AR26=$P26,AR26=$W26,AR26=$AD26,AR26=$AK26),\"DUP\",IF(ISNA(VLOOKUP(AR26,$A$8:$A$107,1,FALSE)),\"ERR\",IF(COUNTIF($I$8:$I$107,AR26)>1,\"ERR\",IF($D26=VLOOKUP(AR26,$A$8:$D$107,4,FALSE),\"CLUB\",\"OK\"))))),\"\")","v":""},null,{"$f":"IF(AU26<>\"\",IF(AU26=\"Victoire\",IF(VLOOKUP(AR26,$A$8:$BL$107,47,FALSE)=\"Défaite\",\"OK\",\"ERR\"),IF(AU26=\"Défaite\",IF(VLOOKUP(AR26,$A$8:$BL$107,47,FALSE)=\"Victoire\",\"OK\",\"ERR\"),IF(AU26=\"Nul\",IF(VLOOKUP(AR26,$A$8:$BL$107,47,FALSE)=\"Nul\",\"OK\",\"ERR\")))),\"\")","v":""},null,{"$f":"IF(AU26=\"Victoire\",100-ROUNDDOWN(20*AW26/$H26,0),\nIF(AU26=\"Défaite\",10+ROUNDDOWN(20*VLOOKUP(AR26,$A$8:$CB$107,49,FALSE)/VLOOKUP(AR26,$A$8:$H$107,8,FALSE),0),\nIF(AND(AU26=\"Nul\",$AW26<>$H26),40+(2*ROUNDDOWN(10*VLOOKUP(AR26,$A$8:$CB$107,49,FALSE)/VLOOKUP(AR26,$A$8:$H$107,8,FALSE),0)-ROUNDDOWN(10*AW26/$H26,0)),IF(AND(AU26=\"Nul\",$AW26=$H26),58,0))))","v":0},null,{"$f":"IF(AY26<>\"\",VLOOKUP(AY26,$A$8:$C$107,2,FALSE),\"\")","v":""},{"$f":"IF(AY26<>\"\",IF(AY26=$A26,\"ERR\",IF(OR(AY26=$I26,AY26=$P26,AY26=$W26,AY26=$AD26,AY26=$AK26,AY26=$AR26),\"DUP\",IF(ISNA(VLOOKUP(AY26,$A$8:$A$107,1,FALSE)),\"ERR\",IF(COUNTIF($I$8:$I$107,AY26)>1,\"ERR\",IF($D26=VLOOKUP(AY26,$A$8:$D$107,4,FALSE),\"CLUB\",\"OK\"))))),\"\")","v":""},null,{"$f":"IF(BB26<>\"\",IF(BB26=\"Victoire\",IF(VLOOKUP(AY26,$A$8:$BL$107,54,FALSE)=\"Défaite\",\"OK\",\"ERR\"),IF(BB26=\"Défaite\",IF(VLOOKUP(AY26,$A$8:$BL$107,54,FALSE)=\"Victoire\",\"OK\",\"ERR\"),IF(BB26=\"Nul\",IF(VLOOKUP(AY26,$A$8:$BL$107,54,FALSE)=\"Nul\",\"OK\",\"ERR\")))),\"\")","v":""},null,{"$f":"IF(BB26=\"Victoire\",100-ROUNDDOWN(20*BD26/$H26,0),\nIF(BB26=\"Défaite\",10+ROUNDDOWN(20*VLOOKUP(AY26,$A$8:$CB$107,56,FALSE)/VLOOKUP(AY26,$A$8:$H$107,8,FALSE),0),\nIF(AND(BB26=\"Nul\",$BD26<>$H26),40+(2*ROUNDDOWN(10*VLOOKUP(AY26,$A$8:$CB$107,56,FALSE)/VLOOKUP(AY26,$A$8:$H$107,8,FALSE),0)-ROUNDDOWN(10*BD26/$H26,0)),IF(AND(BB26=\"Nul\",$BD26=$H26),58,0))))","v":0},null,{"$f":"IF(BF26<>\"\",VLOOKUP(BF26,$A$8:$C$107,2,FALSE),\"\")","v":""},{"$f":"IF(BF26<>\"\",IF(BF26=$A26,\"ERR\",IF(OR(BF26=$I26,BF26=$P26,BF26=$W26,BF26=$AD26,BF26=$AK26,BF26=$AR26,BF26=$AY26),\"DUP\",IF(ISNA(VLOOKUP(BF26,$A$8:$A$107,1,FALSE)),\"ERR\",IF(COUNTIF($I$8:$I$107,BF26)>1,\"ERR\",IF($D26=VLOOKUP(BF26,$A$8:$D$107,4,FALSE),\"CLUB\",\"OK\"))))),\"\")","v":""},null,{"$f":"IF(BI26<>\"\",IF(BI26=\"Victoire\",IF(VLOOKUP(BF26,$A$8:$BL$107,61,FALSE)=\"Défaite\",\"OK\",\"ERR\"),IF(BI26=\"Défaite\",IF(VLOOKUP(BF26,$A$8:$BL$107,61,FALSE)=\"Victoire\",\"OK\",\"ERR\"),IF(BI26=\"Nul\",IF(VLOOKUP(BF26,$A$8:$BL$107,61,FALSE)=\"Nul\",\"OK\",\"ERR\")))),\"\")","v":""},null,{"$f":"IF(BI26=\"Victoire\",100-ROUNDDOWN(20*BK26/$H26,0),\nIF(BI26=\"Défaite\",10+ROUNDDOWN(20*VLOOKUP(BF26,$A$8:$CB$107,63,FALSE)/VLOOKUP(BF26,$A$8:$H$107,8,FALSE),0),\nIF(AND(BI26=\"Nul\",$BK26<>$H26),40+(2*ROUNDDOWN(10*VLOOKUP(BF26,$A$8:$CB$107,63,FALSE)/VLOOKUP(BF26,$A$8:$H$107,8,FALSE),0)-ROUNDDOWN(10*BK26/$H26,0)),IF(AND(BI26=\"Nul\",$BK26=$H26),58,0))))","v":0},null,{"$f":"IF(BM26<>\"\",VLOOKUP(BM26,$A$8:$C$107,2,FALSE),\"\")","v":""},{"$f":"IF(BM26<>\"\",IF(BM26=$A26,\"ERR\",IF(OR(BM26=$I26,BM26=$P26,BM26=$W26,BM26=$AD26,BM26=$AK26,BM26=$AR26,BM26=$AY26,BM26=$BF26),\"DUP\",IF(ISNA(VLOOKUP(BM26,$A$8:$A$107,1,FALSE)),\"ERR\",IF(COUNTIF($I$8:$I$107,BM26)>1,\"ERR\",IF($D26=VLOOKUP(BM26,$A$8:$D$107,4,FALSE),\"CLUB\",\"OK\"))))),\"\")","v":""},null,{"$f":"IF(BP26<>\"\",IF(BP26=\"Victoire\",IF(VLOOKUP(BM26,$A$8:$BS$107,68,FALSE)=\"Défaite\",\"OK\",\"ERR\"),IF(BP26=\"Défaite\",IF(VLOOKUP(BM26,$A$8:$BS$107,68,FALSE)=\"Victoire\",\"OK\",\"ERR\"),IF(BP26=\"Nul\",IF(VLOOKUP(BM26,$A$8:$BS$107,68,FALSE)=\"Nul\",\"OK\",\"ERR\")))),\"\")","v":""},null,{"$f":"IF(BP26=\"Victoire\",100-ROUNDDOWN(20*BR26/$H26,0),\nIF(BP26=\"Défaite\",10+ROUNDDOWN(20*VLOOKUP(BM26,$A$8:$CB$107,70,FALSE)/VLOOKUP(BM26,$A$8:$H$107,8,FALSE),0),\nIF(AND(BP26=\"Nul\",$BR26<>$H26),40+(2*ROUNDDOWN(10*VLOOKUP(BM26,$A$8:$CB$107,70,FALSE)/VLOOKUP(BM26,$A$8:$H$107,8,FALSE),0)-ROUNDDOWN(10*BR26/$H26,0)),IF(AND(BP26=\"Nul\",$BR26=$H26),58,0))))","v":0},null,{"$f":"IF($I26<>\"\",VLOOKUP($I26,$A$8:$N$107,5,FALSE),0)+IF($P26<>\"\",VLOOKUP($P26,$A$8:$N$107,5,FALSE),0)+IF($W26<>\"\",VLOOKUP($W26,$A$8:$N$107,5,FALSE),0)+IF($AD26<>\"\",VLOOKUP($AD26,$A$8:$N$107,5,FALSE),0)+IF($AK26<>\"\",VLOOKUP($AK26,$A$8:$N$107,5,FALSE),0)+IF($AR26<>\"\",VLOOKUP($AR26,$A$8:$N$107,5,FALSE),0)+IF($AY26<>\"\",VLOOKUP($AY26,$A$8:$N$107,5,FALSE),0)+IF($BF26<>\"\",VLOOKUP($BF26,$A$8:$N$107,5,FALSE),0)+IF($BM26<>\"\",VLOOKUP($BM26,$A$8:$N$107,5,FALSE),0)","v":0}]
[{"$nulls":4},0,null,{"$f":"IF($F27<>\"\",VLOOKUP(F27,Armies!$A$1:$C$300,3,FALSE),\"\")","v":""},null,null,{"$f":"IF(I27<>\"\",VLOOKUP(I27,$A$8:$C$107,2,FALSE),\"\")","v":""},{"$f":"IF(I27<>\"\",IF(I27=$A27,\"ERR\",IF(OR(I27=$P27,I27=$W27,I27=$AD27,I27=$AK27),\"DUP\",IF(ISNA(VLOOKUP(I27,$A$8:$A$107,1,FALSE)),\"ERR\",IF(COUNTIF($I$8:$I$107,I27)>1,\"ERR\",IF($D27=VLOOKUP(I27,$A$8:$D$107,4,FALSE),\"CLUB\",\"OK\"))))),\"\")","v":""},null,{"$f":"IF(L27<>\"\",IF(L27=\"Victoire\",IF(VLOOKUP(I27,$A$8:$L$107,12,FALSE)=\"Défaite\",\"OK\",\"ERR\"),IF(L27=\"Défaite\",IF(VLOOKUP(I27,$A$8:$L$107,12,FALSE)=\"Victoire\",\"OK\",\"ERR\"),IF(L27=\"Nul\",IF(VLOOKUP(I27,$A$8:$L$107,12,FALSE)=\"Nul\",\"OK\",\"ERR\")))),\"\")","v":""},null,{"$f":"IF(L27=\"Victoire\",100-ROUNDDOWN(20*N27/$H27,0),\nIF(L27=\"Défaite\",10+ROUNDDOWN(20*VLOOKUP(I27,$A$8:$N$107,14,FALSE)/VLOOKUP(I27,$A$8:$H$107,8,FALSE),0),\nIF(AND(L27=\"Nul\",$N27<>$H27),40+(2*ROUNDDOWN(10*VLOOKUP(I27,$A$8:$N$107,14,FALSE)/VLOOKUP(I27,$A$8:$H$107,8,FALSE),0)-ROUNDDOWN(10*N27/$H27,0)),IF(AND(L27=\"Nul\",$N27=$H27),58,0))))","v":0},null,{"$f":"IF(P27<>\"\",VLOOKUP(P27,$A$8:$C$107,2,FALSE),\"\")","v":""},{"$f":"IF(P27<>\"\",IF(P27=$A27,\"ERR\",IF(OR(P27=$I27,P27=$W27,P27=$AD27,P27=$AK27),\"DUP\",IF(ISNA(VLOOKUP(P27,$A$8:$A$107,1,FALSE)),\"ERR\",IF(COUNTIF($I$8:$I$107,P27)>1,\"ERR\",IF($D27=VLOOKUP(P27,$A$8:$D$107,4,FALSE),\"CLUB\",\"OK\"))))),\"\")","v":""},null,{"$f":"IF(S27<>\"\",IF(S27=\"Victoire\",IF(VLOOKUP(P27,$A$8:$AO$107,19,FALSE)=\"Défaite\",\"OK\",\"ERR\"),IF(S27=\"Défaite\",IF(VLOOKUP(P27,$A$8:$AO$107,19,FALSE)=\"Victoire\",\"OK\",\"ERR\"),IF(S27=\"Nul\",IF(VLOOKUP(P27,$A$8:$AO$107,19,FALSE)=\"Nul\",\"OK\",\"ERR\")))),\"\")","v":""},null,{"$f":"IF(S27=\"Victoire\",100-ROUNDDOWN(20*U27/$H27,0),\nIF(S27=\"Défaite\",10+ROUNDDOWN(20*VLOOKUP(P27,$A$8:$AO$107,21,FALSE)/VLOOKUP(P27,$A$8:$H$107,8,FALSE),0),\nIF(AND(S27=\"Nul\",$U27<>$H27),40+(2*ROUNDDOWN(10*VLOOKUP(P27,$A$8:$AO$107,21,FALSE)/VLOOKUP(P27,$A$8:$H$107,8,FALSE),0)-ROUNDDOWN(10*U27/$H27,0)),IF(AND(S27=\"Nul\",$U27=$H27),58,0))))","v":0},null,{"$f":"IF(W27<>\"\",VLOOKUP(W27,$A$8:$C$107,2,FALSE),\"\")","v":""},{"$f":"IF(W27<>\"\",IF(W27=$A27,\"ERR\",IF(OR(W27=$P27,W27=$I27,W27=$AD27,W27=$AK27),\"DUP\",IF(ISNA(VLOOKUP(W27,$A$8:$A$107,1,FALSE)),\"ERR\",IF(COUNTIF($I$8:$I$107,W27)>1,\"ERR\",IF($D27=VLOOKUP(W27,$A$8:$D$107,4,FALSE),\"CLUB\",\"OK\"))))),\"\")","v":""},null,{"$f":"IF(Z27<>\"\",IF(Z27=\"Victoire\",IF(VLOOKUP(W27,$A$8:$AO$107,26,FALSE)=\"Défaite\",\"OK\",\"ERR\"),IF(Z27=\"Défaite\",IF(VLOOKUP(W27,$A$8:$AO$107,26,FALSE)=\"Victoire\",\"OK\",\"ERR\"),IF(Z27=\"Nul\",IF(VLOOKUP(W27,$A$8:$AO$107,26,FALSE)=\"Nul\",\"OK\",\"ERR\")))),\"\")","v":""},null,{"$f":"IF(Z27=\"Victoire\",100-ROUNDDOWN(20*AB27/$H27,0),\nIF(Z27=\"Défaite\",10+ROUNDDOWN(20*VLOOKUP(W27,$A$8:$AO$107,28,FALSE)/VLOOKUP(W27,$A$8:$H$107,8,FALSE),0),\nIF(AND(Z27=\"Nul\",$AB27<>$H27),40+(2*ROUNDDOWN(10*VLOOKUP(W27,$A$8:$AO$107,28,FALSE)/VLOOKUP(W27,$A$8:$H$107,8,FALSE),0)-ROUNDDOWN(10*AB27/$H27,0)),IF(AND(Z27=\"Nul\",$AB27=$H27),58,0))))","v":0},null,{"$f":"IF(AD27<>\"\",VLOOKUP(AD27,$A$8:$C$107,2,FALSE),\"\")","v":""},{"$f":"IF(AD27<>\"\",IF(AD27=$A27,\"ERR\",IF(OR(AD27=$P27,AD27=$W27,AD27=$I27,AD27=$AK27),\"DUP\",IF(ISNA(VLOOKUP(AD27,$A$8:$A$107,1,FALSE)),\"ERR\",IF(COUNTIF($I$8:$I$107,AD27)>1,\"ERR\",IF($D27=VLOOKUP(AD27,$A$8:$D$107,4,FALSE),\"CLUB\",\"OK\"))))),\"\")","v":""},null,{"$f":"IF(AG27<>\"\",IF(AG27=\"Victoire\",IF(VLOOKUP(AD27,$A$8:$AO$107,33,FALSE)=\"Défaite\",\"OK\",\"ERR\"),IF(AG27=\"Défaite\",IF(VLOOKUP(AD27,$A$8:$AO$107,33,FALSE)=\"Victoire\",\"OK\",\"ERR\"),IF(AG27=\"Nul\",IF(VLOOKUP(AD27,$A$8:$AO$107,33,FALSE)=\"Nul\",\"OK\",\"ERR\")))),\"\")","v":""},null,{"$f":"IF(AG27=\"Victoire\",100-ROUNDDOWN(20*AI27/$H27,0),\nIF(AG27=\"Défaite\",10+ROUNDDOWN(20*VLOOKUP(AD27,$A$8:$AO$107,35,FALSE)/VLOOKUP(AD27,$A$8:$H$107,8,FALSE),0),\nIF(AND(AG27=\"Nul\",$AI27<>$H27),40+(2*ROUNDDOWN(10*VLOOKUP(AD27,$A$8:$AO$107,35,FALSE)/VLOOKUP(AD27,$A$8:$H$107,8,FALSE),0)-ROUNDDOWN(10*AI27/$H27,0)),IF(AND(AG27=\"Nul\",$AI27=$H27),58,0))))","v":0},null,{"$f":"IF(AK27<>\"\",VLOOKUP(AK27,$A$8:$C$107,2,FALSE),\"\")","v":""},{"$f":"IF(AK27<>\"\",IF(AK27=$A27,\"ERR\",IF(OR(AK27=$P27,AK27=$W27,AK27=$AD27,AK27=$I27),\"DUP\",IF(ISNA(VLOOKUP(AK27,$A$8:$A$107,1,FALSE)),\"ERR\",IF(COUNTIF($I$8:$I$107,AK27)>1,\"ERR\",IF($D27=VLOOKUP(AK27,$A$8:$D$107,4,FALSE),\"CLUB\",\"OK\"))))),\"\")","v":""},null,{"$f":"IF(AN27<>\"\",IF(AN27=\"Victoire\",IF(VLOOKUP(AK27,$A$8:$AO$107,40,FALSE)=\"Défaite\",\"OK\",\"ERR\"),IF(AN27=\"Défaite\",IF(VLOOKUP(AK27,$A$8:$AO$107,40,FALSE)=\"Victoire\",\"OK\",\"ERR\"),IF(AN27=\"Nul\",IF(VLOOKUP(AK27,$A$8:$AO$107,40,FALSE)=\"Nul\",\"OK\",\"ERR\")))),\"\")","v":""},null,{"$f":"IF(AN27=\"Victoire\",100-ROUNDDOWN(20*AP27/$H27,0),\nIF(AN27=\"Défaite\",10+ROUNDDOWN(20*VLOOKUP(AK27,$A$8:$CB$107,42,FALSE)/VLOOKUP(AK27,$A$8:$H$107,8,FALSE),0),\nIF(AND(AN27=\"Nul\",$AP27<>$H27),40+(2*ROUNDDOWN(10*VLOOKUP(AK27,$A$8:$CB$107,42,FALSE)/VLOOKUP(AK27,$A$8:$H$107,8,FALSE),0)-ROUNDDOWN(10*AP27/$H27,0)),IF(AND(AN27=\"Nul\",$AP27=$H27),58,0))))","v":0},null,{"$f":"IF(AR27<>\"\",VLOOKUP(AR27,$A$8:$C$107,2,FALSE),\"\")","v":""},{"$f":"IF(AR27<>\"\",IF(AR27=$A27,\"ERR\",IF(OR(AR27=$I27,AR27=$P27,AR27=$W27,AR27=$AD27,AR27=$AK27),\"DUP\",IF(ISNA(VLOOKUP(AR27,$A$8:$A$107,1,FALSE)),\"ERR\",IF(COUNTIF($I$8:$I$107,AR27)>1,\"ERR\",IF($D27=VLOOKUP(AR27,$A$8:$D$107,4,FALSE),\"CLUB\",\"OK\"))))),\"\")","v":""},null,{"$f":"IF(AU27<>\"\",IF(AU27=\"Victoire\",IF(VLOOKUP(AR27,$A$8:$BL$107,47,FALSE)=\"Défaite\",\"OK\",\"ERR\"),IF(AU27=\"Défaite\",IF(VLOOKUP(AR27,$A$8:$BL$107,47,FALSE)=\"Victoire\",\"OK\",\"ERR\"),IF(AU27=\"Nul\",IF(VLOOKUP(AR27,$A$8:$BL$107,47,FALSE)=\"Nul\",\"OK\",\"ERR\")))),\"\")","v":""},null,{"$f":"IF(AU27=\"Victoire\",100-ROUNDDOWN(20*AW27/$H27,0),\nIF(AU27=\"Défaite\",10+ROUNDDOWN(20*VLOOKUP(AR27,$A$8:$CB$107,49,FALSE)/VLOOKUP(AR27,$A$8:$H$107,8,FALSE),0),\nIF(AND(AU27=\"Nul\",$AW27<>$H27),40+(2*ROUNDDOWN(10*VLOOKUP(AR27,$A$8:$CB$107,49,FALSE)/VLOOKUP(AR27,$A$8:$H$107,8,FALSE),0)-ROUNDDOWN(10*AW27/$H27,0)),IF(AND(AU27=\"Nul\",$AW27=$H27),58,0))))","v":0},null,{"$f":"IF(AY27<>\"\",VLOOKUP(AY27,$A$8:$C$107,2,FALSE),\"\")","v":""},{"$f":"IF(AY27<>\"\",IF(AY27=$A27,\"ERR\",IF(OR(AY27=$I27,AY27=$P27,AY27=$W27,AY27=$AD27,AY27=$AK27,AY27=$AR27),\"DUP\",IF(ISNA(VLOOKUP(AY27,$A$8:$A$107,1,FALSE)),\"ERR\",IF(COUNTIF($I$8:$I$107,AY27)>1,\"ERR\",IF($D27=VLOOKUP(AY27,$A$8:$D$107,4,FALSE),\"CLUB\",\"OK\"))))),\"\")","v":""},null,{"$f":"IF(BB27<>\"\",IF(BB27=\"Victoire\",IF(VLOOKUP(AY27,$A$8:$BL$107,54,FALSE)=\"Défaite\",\"OK\",\"ERR\"),IF(BB27=\"Défaite\",IF(VLOOKUP(AY27,$A$8:$BL$107,54,FALSE)=\"Victoire\",\"OK\",\"ERR\"),IF(BB27=\"Nul\",IF(VLOOKUP(AY27,$A$8:$BL$107,54,FALSE)=\"Nul\",\"OK\",\"ERR\")))),\"\")","v":""},null,{"$f":"IF(BB27=\"Victoire\",100-ROUNDDOWN(20*BD27/$H27,0),\nIF(BB27=\"Défaite\",10+ROUNDDOWN(20*VLOOKUP(AY27,$A$8:$CB$107,56,FALSE)/VLOOKUP(AY27,$A$8:$H$107,8,FALSE),0),\nIF(AND(BB27=\"Nul\",$BD27<>$H27),40+(2*ROUNDDOWN(10*VLOOKUP(AY27,$A$8:$CB$107,56,FALSE)/VLOOKUP(AY27,$A$8:$H$107,8,FALSE),0)-ROUNDDOWN(10*BD27/$H27,0)),IF(AND(BB27=\"Nul\",$BD27=$H27),58,0))))","v":0},null,{"$f":"IF(BF27<>\"\",VLOOKUP(BF27,$A$8:$C$107,2,FALSE),\"\")","v":""},{"$f":"IF(BF27<>\"\",IF(BF27=$A27,\"ERR\",IF(OR(BF27=$I27,BF27=$P27,BF27=$W27,BF27=$AD27,BF27=$AK27,BF27=$AR27,BF27=$AY27),\"DUP\",IF(ISNA(VLOOKUP(BF27,$A$8:$A$107,1,FALSE)),\"ERR\",IF(COUNTIF($I$8:$I$107,BF27)>1,\"ERR\",IF($D27=VLOOKUP(BF27,$A$8:$D$107,4,FALSE),\"CLUB\",\"OK\"))))),\"\")","v":""},null,{"$f":"IF(BI27<>\"\",IF(BI27=\"Victoire\",IF(VLOOKUP(BF27,$A$8:$BL$107,61,FALSE)=\"Défaite\",\"OK\",\"ERR\"),IF(BI27=\"Défaite\",IF(VLOOKUP(BF27,$A$8:$BL$107,61,FALSE)=\"Victoire\",\"OK\",\"ERR\"),IF(BI27=\"Nul\",IF(VLOOKUP(BF27,$A$8:$BL$107,61,FALSE)=\"Nul\",\"OK\",\"ERR\")))),\"\")","v":""},null,{"$f":"IF(BI27=\"Victoire\",100-ROUNDDOWN(20*BK27/$H27,0),\nIF(BI27=\"Défaite\",10+ROUNDDOWN(20*VLOOKUP(BF27,$A$8:$CB$107,63,FALSE)/VLOOKUP(BF27,$A$8:$H$107,8,FALSE),0),\nIF(AND(BI27=\"Nul\",$BK27<>$H27),40+(2*ROUNDDOWN(10*VLOOKUP(BF27,$A$8:$CB$107,63,FALSE)/VLOOKUP(BF27,$A$8:$H$107,8,FALSE),0)-ROUNDDOWN(10*BK27/$H27,0)),IF(AND(BI27=\"Nul\",$BK27=$H27),58,0))))","v":0},null,{"$f":"IF(BM27<>\"\",VLOOKUP(BM27,$A$8:$C$107,2,FALSE),\"\")","v":""},{"$f":"IF(BM27<>\"\",IF(BM27=$A27,\"ERR\",IF(OR(BM27=$I27,BM27=$P27,BM27=$W27,BM27=$AD27,BM27=$AK27,BM27=$AR27,BM27=$AY27,BM27=$BF27),\"DUP\",IF(ISNA(VLOOKUP(BM27,$A$8:$A$107,1,FALSE)),\"ERR\",IF(COUNTIF($I$8:$I$107,BM27)>1,\"ERR\",IF($D27=VLOOKUP(BM27,$A$8:$D$107,4,FALSE),\"CLUB\",\"OK\"))))),\"\")","v":""},null,{"$f":"IF(BP27<>\"\",IF(BP27=\"Victoire\",IF(VLOOKUP(BM27,$A$8:$BS$107,68,FALSE)=\"Défaite\",\"OK\",\"ERR\"),IF(BP27=\"Défaite\",IF(VLOOKUP(BM27,$A$8:$BS$107,68,FALSE)=\"Victoire\",\"OK\",\"ERR\"),IF(BP27=\"Nul\",IF(VLOOKUP(BM27,$A$8:$BS$107,68,FALSE)=\"Nul\",\"OK\",\"ERR\")))),\"\")","v":""},null,{"$f":"IF(BP27=\"Victoire\",100-ROUNDDOWN(20*BR27/$H27,0),\nIF(BP27=\"Défaite\",10+ROUNDDOWN(20*VLOOKUP(BM27,$A$8:$CB$107,70,FALSE)/VLOOKUP(BM27,$A$8:$H$107,8,FALSE),0),\nIF(AND(BP27=\"Nul\",$BR27<>$H27),40+(2*ROUNDDOWN(10*VLOOKUP(BM27,$A$8:$CB$107,70,FALSE)/VLOOKUP(BM27,$A$8:$H$107,8,FALSE),0)-ROUNDDOWN(10*BR27/$H27,0)),IF(AND(BP27=\"Nul\",$BR27=$H27),58,0))))","v":0},null,{"$f":"IF($I27<>\"\",VLOOKUP($I27,$A$8:$N$107,5,FALSE),0)+IF($P27<>\"\",VLOOKUP($P27,$A$8:$N$107,5,FALSE),0)+IF($W27<>\"\",VLOOKUP($W27,$A$8:$N$107,5,FALSE),0)+IF($AD27<>\"\",VLOOKUP($AD27,$A$8:$N$107,5,FALSE),0)+IF($AK27<>\"\",VLOOKUP($AK27,$A$8:$N$107,5,FALSE),0)+IF($AR27<>\"\",VLOOKUP($AR27,$A$8:$N$107,5,FALSE),0)+IF($AY27<>\"\",VLOOKUP($AY27,$A$8:$N$107,5,FALSE),0)+IF($BF27<>\"\",VLOOKUP($BF27,$A$8:$N$107,5,FALSE),0)+IF($BM27<>\"\",VLOOKUP($BM27,$A$8:$N$107,5,FALSE),0)","v":0}]
[{"$nulls":4},0,null,{"$f":"IF($F28<>\"\",VLOOKUP(F28,Armies!$A$1:$C$300,3,FALSE),\"\")","v":""},null,null,{"$f":"IF(I28<>\"\",VLOOKUP(I28,$A$8:$C$107,2,FALSE),\"\")","v":""},{"$f":"IF(I28<>\"\",IF(I28=$A28,\"ERR\",IF(OR(I28=$P28,I28=$W28,I28=$AD28,I28=$AK28),\"DUP\",IF(ISNA(VLOOKUP(I28,$A$8:$A$107,1,FALSE)),\"ERR\",IF(COUNTIF($I$8:$I$107,I28)>1,\"ERR\",IF($D28=VLOOKUP(I28,$A$8:$D$107,4,FALSE),\"CLUB\",\"OK\"))))),\"\")","v":""},null,{"$f":"IF(L28<>\"\",IF(L28=\"Victoire\",IF(VLOOKUP(I28,$A$8:$L$107,12,FALSE)=\"Défaite\",\"OK\",\"ERR\"),IF(L28=\"Défaite\",IF(VLOOKUP(I28,$A$8:$L$107,12,FALSE)=\"Victoire\",\"OK\",\"ERR\"),IF(L28=\"Nul\",IF(VLOOKUP(I28,$A$8:$L$107,12,FALSE)=\"Nul\",\"OK\",\"ERR\")))),\"\")","v":""},null,{"$f":"IF(L28=\"Victoire\",100-ROUNDDOWN(20*N28/$H28,0),\nIF(L28=\"Défaite\",10+ROUNDDOWN(20*VLOOKUP(I28,$A$8:$N$107,14,FALSE)/VLOOKUP(I28,$A$8:$H$107,8,FALSE),0),\nIF(AND(L28=\"Nul\",$N28<>$H28),40+(2*ROUNDDOWN(10*VLOOKUP(I28,$A$8:$N$107,14,FALSE)/VLOOKUP(I28,$A$8:$H$107,8,FALSE),0)-ROUNDDOWN(10*N28/$H28,0)),IF(AND(L28=\"Nul\",$N28=$H28),58,0))))","v":0},null,{"$f":"IF(P28<>\"\",VLOOKUP(P28,$A$8:$C$107,2,FALSE),\"\")","v":""},{"$f":"IF(P28<>\"\",IF(P28=$A28,\"ERR\",IF(OR(P28=$I28,P28=$W28,P28=$AD28,P28=$AK28),\"DUP\",IF(ISNA(VLOOKUP(P28,$A$8:$A$107,1,FALSE)),\"ERR\",IF(COUNTIF($I$8:$I$107,P28)>1,\"ERR\",IF($D28=VLOOKUP(P28,$A$8:$D$107,4,FALSE),\"CLUB\",\"OK\"))))),\"\")","v":""},null,{"$f":"IF(S28<>\"\",IF(S28=\"Victoire\",IF(VLOOKUP(P28,$A$8:$AO$107,19,FALSE)=\"Défaite\",\"OK\",\"ERR\"),IF(S28=\"Défaite\",IF(VLOOKUP(P28,$A$8:$AO$107,19,FALSE)=\"Victoire\",\"OK\",\"ERR\"),IF(S28=\"Nul\",IF(VLOOKUP(P28,$A$8:$AO$107,19,FALSE)=\"Nul\",\"OK\",\"ERR\")))),\"\")","v":""},null,{"$f":"IF(S28=\"Victoire\",100-ROUNDDOWN(20*U28/$H28,0),\nIF(S28=\"Défaite\",10+ROUNDDOWN(20*VLOOKUP(P28,$A$8:$AO$107,21,FALSE)/VLOOKUP(P28,$A$8:$H$107,8,FALSE),0),\nIF(AND(S28=\"Nul\",$U28<>$H28),40+(2*ROUNDDOWN(10*VLOOKUP(P28,$A$8:$AO$107,21,FALSE)/VLOOKUP(P28,$A$8:$H$107,8,FALSE),0)-ROUNDDOWN(10*U28/$H28,0)),IF(AND(S28=\"Nul\",$U28=$H28),58,0))))","v":0},null,{"$f":"IF(W28<>\"\",VLOOKUP(W28,$A$8:$C$107,2,FALSE),\"\")","v":""},{"$f":"IF(W28<>\"\",IF(W28=$A28,\"ERR\",IF(OR(W28=$P28,W28=$I28,W28=$AD28,W28=$AK28),\"DUP\",IF(ISNA(VLOOKUP(W28,$A$8:$A$107,1,FALSE)),\"ERR\",IF(COUNTIF($I$8:$I$107,W28)>1,\"ERR\",IF($D28=VLOOKUP(W28,$A$8:$D$107,4,FALSE),\"CLUB\",\"OK\"))))),\"\")","v":""},null,{"$f":"IF(Z28<>\"\",IF(Z28=\"Victoire\",IF(VLOOKUP(W28,$A$8:$AO$107,26,FALSE)=\"Défaite\",\"OK\",\"ERR\"),IF(Z28=\"Défaite\",IF(VLOOKUP(W28,$A$8:$AO$107,26,FALSE)=\"Victoire\",\"OK\",\"ERR\"),IF(Z28=\"Nul\",IF(VLOOKUP(W28,$A$8:$AO$107,26,FALSE)=\"Nul\",\"OK\",\"ERR\")))),\"\")","v":""},null,{"$f":"IF(Z28=\"Victoire\",100-ROUNDDOWN(20*AB28/$H28,0),\nIF(Z28=\"Défaite\",10+ROUNDDOWN(20*VLOOKUP(W28,$A$8:$AO$107,28,FALSE)/VLOOKUP(W28,$A$8:$H$107,8,FALSE),0),\nIF(AND(Z28=\"Nul\",$AB28<>$H28),40+(2*ROUNDDOWN(10*VLOOKUP(W28,$A$8:$AO$107,28,FALSE)/VLOOKUP(W28,$A$8:$H$107,8,FALSE),0)-ROUNDDOWN(10*AB28/$H28,0)),IF(AND(Z28=\"Nul\",$AB28=$H28),58,0))))","v":0},null,{"$f":"IF(AD28<>\"\",VLOOKUP(AD28,$A$8:$C$107,2,FALSE),\"\")","v":""},{"$f":"IF(AD28<>\"\",IF(AD28=$A28,\"ERR\",IF(OR(AD28=$P28,AD28=$W28,AD28=$I28,AD28=$AK28),\"DUP\",IF(ISNA(VLOOKUP(AD28,$A$8:$A$107,1,FALSE)),\"ERR\",IF(COUNTIF($I$8:$I$107,AD28)>1,\"ERR\",IF($D28=VLOOKUP(AD28,$A$8:$D$107,4,FALSE),\"CLUB\",\"OK\"))))),\"\")","v":""},null,{"$f":"IF(AG28<>\"\",IF(AG28=\"Victoire\",IF(VLOOKUP(AD28,$A$8:$AO$107,33,FALSE)=\"Défaite\",\"OK\",\"ERR\"),IF(AG28=\"Défaite\",IF(VLOOKUP(AD28,$A$8:$AO$107,33,FALSE)=\"Victoire\",\"OK\",\"ERR\"),IF(AG28=\"Nul\",IF(VLOOKUP(AD28,$A$8:$AO$107,33,FALSE)=\"Nul\",\"OK\",\"ERR\")))),\"\")","v":""},null,{"$f":"IF(AG28=\"Victoire\",100-ROUNDDOWN(20*AI28/$H28,0),\nIF(AG28=\"Défaite\",10+ROUNDDOWN(20*VLOOKUP(AD28,$A$8:$AO$107,35,FALSE)/VLOOKUP(AD28,$A$8:$H$107,8,FALSE),0),\nIF(AND(AG28=\"Nul\",$AI28<>$H28),40+(2*ROUNDDOWN(10*VLOOKUP(AD28,$A$8:$AO$107,35,FALSE)/VLOOKUP(AD28,$A$8:$H$107,8,FALSE),0)-ROUNDDOWN(10*AI28/$H28,0)),IF(AND(AG28=\"Nul\",$AI28=$H28),58,0))))","v":0},null,{"$f":"IF(AK28<>\"\",VLOOKUP(AK28,$A$8:$C$107,2,FALSE),\"\")","v":""},{"$f":"IF(AK28<>\"\",IF(AK28=$A28,\"ERR\",IF(OR(AK28=$P28,AK28=$W28,AK28=$AD28,AK28=$I28),\"DUP\",IF(ISNA(VLOOKUP(AK28,$A$8:$A$107,1,FALSE)),\"ERR\",IF(COUNTIF($I$8:$I$107,AK28)>1,\"ERR\",IF($D28=VLOOKUP(AK28,$A$8:$D$107,4,FALSE),\"CLUB\",\"OK\"))))),\"\")","v":""},null,{"$f":"IF(AN28<>\"\",IF(AN28=\"Victoire\",IF(VLOOKUP(AK28,$A$8:$AO$107,40,FALSE)=\"Défaite\",\"OK\",\"ERR\"),IF(AN28=\"Défaite\",IF(VLOOKUP(AK28,$A$8:$AO$107,40,FALSE)=\"Victoire\",\"OK\",\"ERR\"),IF(AN28=\"Nul\",IF(VLOOKUP(AK28,$A$8:$AO$107,40,FALSE)=\"Nul\",\"OK\",\"ERR\")))),\"\")","v":""},null,{"$f":"IF(AN28=\"Victoire\",100-ROUNDDOWN(20*AP28/$H28,0),\nIF(AN28=\"Défaite\",10+ROUNDDOWN(20*VLOOKUP(AK28,$A$8:$CB$107,42,FALSE)/VLOOKUP(AK28,$A$8:$H$107,8,FALSE),0),\nIF(AND(AN28=\"Nul\",$AP28<>$H28),40+(2*ROUNDDOWN(10*VLOOKUP(AK28,$A$8:$CB$107,42,FALSE)/VLOOKUP(AK28,$A$8:$H$107,8,FALSE),0)-ROUNDDOWN(10*AP28/$H28,0)),IF(AND(AN28=\"Nul\",$AP28=$H28),58,0))))","v":0},null,{"$f":"IF(AR28<>\"\",VLOOKUP(AR28,$A$8:$C$107,2,FALSE),\"\")","v":""},{"$f":"IF(AR28<>\"\",IF(AR28=$A28,\"ERR\",IF(OR(AR28=$I28,AR28=$P28,AR28=$W28,AR28=$AD28,AR28=$AK28),\"DUP\",IF(ISNA(VLOOKUP(AR28,$A$8:$A$107,1,FALSE)),\"ERR\",IF(COUNTIF($I$8:$I$107,AR28)>1,\"ERR\",IF($D28=VLOOKUP(AR28,$A$8:$D$107,4,FALSE),\"CLUB\",\"OK\"))))),\"\")","v":""},null,{"$f":"IF(AU28<>\"\",IF(AU28=\"Victoire\",IF(VLOOKUP(AR28,$A$8:$BL$107,47,FALSE)=\"Défaite\",\"OK\",\"ERR\"),IF(AU28=\"Défaite\",IF(VLOOKUP(AR28,$A$8:$BL$107,47,FALSE)=\"Victoire\",\"OK\",\"ERR\"),IF(AU28=\"Nul\",IF(VLOOKUP(AR28,$A$8:$BL$107,47,FALSE)=\"Nul\",\"OK\",\"ERR\")))),\"\")","v":""},null,{"$f":"IF(AU28=\"Victoire\",100-ROUNDDOWN(20*AW28/$H28,0),\nIF(AU28=\"Défaite\",10+ROUNDDOWN(20*VLOOKUP(AR28,$A$8:$CB$107,49,FALSE)/VLOOKUP(AR28,$A$8:$H$107,8,FALSE),0),\nIF(AND(AU28=\"Nul\",$AW28<>$H28),40+(2*ROUNDDOWN(10*VLOOKUP(AR28,$A$8:$CB$107,49,FALSE)/VLOOKUP(AR28,$A$8:$H$107,8,FALSE),0)-ROUNDDOWN(10*AW28/$H28,0)),IF(AND(AU28=\"Nul\",$AW28=$H28),58,0))))","v":0},null,{"$f":"IF(AY28<>\"\",VLOOKUP(AY28,$A$8:$C$107,2,FALSE),\"\")","v":""},{"$f":"IF(AY28<>\"\",IF(AY28=$A28,\"ERR\",IF(OR(AY28=$I28,AY28=$P28,AY28=$W28,AY28=$AD28,AY28=$AK28,AY28=$AR28),\"DUP\",IF(ISNA(VLOOKUP(AY28,$A$8:$A$107,1,FALSE)),\"ERR\",IF(COUNTIF($I$8:$I$107,AY28)>1,\"ERR\",IF($D28=VLOOKUP(AY28,$A$8:$D$107,4,FALSE),\"CLUB\",\"OK\"))))),\"\")","v":""},null,{"$f":"IF(BB28<>\"\",IF(BB28=\"Victoire\",IF(VLOOKUP(AY28,$A$8:$BL$107,54,FALSE)=\"Défaite\",\"OK\",\"ERR\"),IF(BB28=\"Défaite\",IF(VLOOKUP(AY28,$A$8:$BL$107,54,FALSE)=\"Victoire\",\"OK\",\"ERR\"),IF(BB28=\"Nul\",IF(VLOOKUP(AY28,$A$8:$BL$107,54,FALSE)=\"Nul\",\"OK\",\"ERR\")))),\"\")","v":""},null,{"$f":"IF(BB28=\"Victoire\",100-ROUNDDOWN(20*BD28/$H28,0),\nIF(BB28=\"Défaite\",10+ROUNDDOWN(20*VLOOKUP(AY28,$A$8:$CB$107,56,FALSE)/VLOOKUP(AY28,$A$8:$H$107,8,FALSE),0),\nIF(AND(BB28=\"Nul\",$BD28<>$H28),40+(2*ROUNDDOWN(10*VLOOKUP(AY28,$A$8:$CB$107,56,FALSE)/VLOOKUP(AY28,$A$8:$H$107,8,FALSE),0)-ROUNDDOWN(10*BD28/$H28,0)),IF(AND(BB28=\"Nul\",$BD28=$H28),58,0))))","v":0},null,{"$f":"IF(BF28<>\"\",VLOOKUP(BF28,$A$8:$C$107,2,FALSE),\"\")","v":""},{"$f":"IF(BF28<>\"\",IF(BF28=$A28,\"ERR\",IF(OR(BF28=$I28,BF28=$P28,BF28=$W28,BF28=$AD28,BF28=$AK28,BF28=$AR28,BF28=$AY28),\"DUP\",IF(ISNA(VLOOKUP(BF28,$A$8:$A$107,1,FALSE)),\"ERR\",IF(COUNTIF($I$8:$I$107,BF28)>1,\"ERR\",IF($D28=VLOOKUP(BF28,$A$8:$D$107,4,FALSE),\"CLUB\",\"OK\"))))),\"\")","v":""},null,{"$f":"IF(BI28<>\"\",IF(BI28=\"Victoire\",IF(VLOOKUP(BF28,$A$8:$BL$107,61,FALSE)=\"Défaite\",\"OK\",\"ERR\"),IF(BI28=\"Défaite\",IF(VLOOKUP(BF28,$A$8:$BL$107,61,FALSE)=\"Victoire\",\"OK\",\"ERR\"),IF(BI28=\"Nul\",IF(VLOOKUP(BF28,$A$8:$BL$107,61,FALSE)=\"Nul\",\"OK\",\"ERR\")))),\"\")","v":""},null,{"$f":"IF(BI28=\"Victoire\",100-ROUNDDOWN(20*BK28/$H28,0),\nIF(BI28=\"Défaite\",10+ROUNDDOWN(20*VLOOKUP(BF28,$A$8:$CB$107,63,FALSE)/VLOOKUP(BF28,$A$8:$H$107,8,FALSE),0),\nIF(AND(BI28=\"Nul\",$BK28<>$H28),40+(2*ROUNDDOWN(10*VLOOKUP(BF28,$A$8:$CB$107,63,FALSE)/VLOOKUP(BF28,$A$8:$H$107,8,FALSE),0)-ROUNDDOWN(10*BK28/$H28,0)),IF(AND(BI28=\"Nul\",$BK28=$H28),58,0))))","v":0},null,{"$f":"IF(BM28<>\"\",VLOOKUP(BM28,$A$8:$C$107,2,FALSE),\"\")","v":""},{"$f":"IF(BM28<>\"\",IF(BM28=$A28,\"ERR\",IF(OR(BM28=$I28,BM28=$P28,BM28=$W28,BM28=$AD28,BM28=$AK28,BM28=$AR28,BM28=$AY28,BM28=$BF28),\"DUP\",IF(ISNA(VLOOKUP(BM28,$A$8:$A$107,1,FALSE)),\"ERR\",IF(COUNTIF($I$8:$I$107,BM28)>1,\"ERR\",IF($D28=VLOOKUP(BM28,$A$8:$D$107,4,FALSE),\"CLUB\",\"OK\"))))),\"\")","v":""},null,{"$f":"IF(BP28<>\"\",IF(BP28=\"Victoire\",IF(VLOOKUP(BM28,$A$8:$BS$107,68,FALSE)=\"Défaite\",\"OK\",\"ERR\"),IF(BP28=\"Défaite\",IF(VLOOKUP(BM28,$A$8:$BS$107,68,FALSE)=\"Victoire\",\"OK\",\"ERR\"),IF(BP28=\"Nul\",IF(VLOOKUP(BM28,$A$8:$BS$107,68,FALSE)=\"Nul\",\"OK\",\"ERR\")))),\"\")","v":""},null,{"$f":"IF(BP28=\"Victoire\",100-ROUNDDOWN(20*BR28/$H28,0),\nIF(BP28=\"Défaite\",10+ROUNDDOWN(20*VLOOKUP(BM28,$A$8:$CB$107,70,FALSE)/VLOOKUP(BM28,$A$8:$H$107,8,FALSE),0),\nIF(AND(BP28=\"Nul\",$BR28<>$H28),40+(2*ROUNDDOWN(10*VLOOKUP(BM28,$A$8:$CB$107,70,FALSE)/VLOOKUP(BM28,$A$8:$H$107,8,FALSE),0)-ROUNDDOWN(10*BR28/$H28,0)),IF(AND(BP28=\"Nul\",$BR28=$H28),58,0))))","v":0},null,{"$f":"IF($I28<>\"\",VLOOKUP($I28,$A$8:$N$107,5,FALSE),0)+IF($P28<>\"\",VLOOKUP($P28,$A$8:$N$107,5,FALSE),0)+IF($W28<>\"\",VLOOKUP($W28,$A$8:$N$107,5,FALSE),0)+IF($AD28<>\"\",VLOOKUP($AD28,$A$8:$N$107,5,FALSE),0)+IF($AK28<>\"\",VLOOKUP($AK28,$A$8:$N$107,5,FALSE),0)+IF($AR28<>\"\",VLOOKUP($AR28,$A$8:$N$107,5,FALSE),0)+IF($AY28<>\"\",VLOOKUP($AY28,$A$8:$N$107,5,FALSE),0)+IF($BF28<>\"\",VLOOKUP($BF28,$A$8:$N$107,5,FALSE),0)+IF($BM28<>\"\",VLOOKUP($BM28,$A$8:$N$107,5,FALSE),0)","v":0}]
[{"$nulls":4},0,null,{"$f":"IF($F29<>\"\",VLOOKUP(F29,Armies!$A$1:$C$300,3,FALSE),\"\")","v":""},null,null,{"$f":"IF(I29<>\"\",VLOOKUP(I29,$A$8:$C$107,2,FALSE),\"\")","v":""},{"$f":"IF(I29<>\"\",IF(I29=$A29,\"ERR\",IF(OR(I29=$P29,I29=$W29,I29=$AD29,I29=$AK29),\"DUP\",IF(ISNA(VLOOKUP(I29,$A$8:$A$107,1,FALSE)),\"ERR\",IF(COUNTIF($I$8:$I$107,I29)>1,\"ERR\",IF($D29=VLOOKUP(I29,$A$8:$D$107,4,FALSE),\"CLUB\",\"OK\"))))),\"\")","v":""},null,{"$f":"IF(L29<>\"\",IF(L29=\"Victoire\",IF(VLOOKUP(I29,$A$8:$L$107,12,FALSE)=\"Défaite\",\"OK\",\"ERR\"),IF(L29=\"Défaite\",IF(VLOOKUP(I29,$A$8:$L$107,12,FALSE)=\"Victoire\",\"OK\",\"ERR\"),IF(L29=\"Nul\",IF(VLOOKUP(I29,$A$8:$L$107,12,FALSE)=\"Nul\",\"OK\",\"ERR\")))),\"\")","v":""},null,{"$f":"IF(L29=\"Victoire\",100-ROUNDDOWN(20*N29/$H29,0),\nIF(L29=\"Défaite\",10+ROUNDDOWN(20*VLOOKUP(I29,$A$8:$N$107,14,FALSE)/VLOOKUP(I29,$A$8:$H$107,8,FALSE),0),\nIF(AND(L29=\"Nul\",$N29<>$H29),40+(2*ROUNDDOWN(10*VLOOKUP(I29,$A$8:$N$107,14,FALSE)/VLOOKUP(I29,$A$8:$H$107,8,FALSE),0)-ROUNDDOWN(10*N29/$H29,0)),IF(AND(L29=\"Nul\",$N29=$H29),58,0))))","v":0},null,{"$f":"IF(P29<>\"\",VLOOKUP(P29,$A$8:$C$107,2,FALSE),\"\")","v":""},{"$f":"IF(P29<>\"\",IF(P29=$A29,\"ERR\",IF(OR(P29=$I29,P29=$W29,P29=$AD29,P29=$AK29),\"DUP\",IF(ISNA(VLOOKUP(P29,$A$8:$A$107,1,FALSE)),\"ERR\",IF(COUNTIF($I$8:$I$107,P29)>1,\"ERR\",IF($D29=VLOOKUP(P29,$A$8:$D$107,4,FALSE),\"CLUB\",\"OK\"))))),\"\")","v":""},null,{"$f":"IF(S29<>\"\",IF(S29=\"Victoire\",IF(VLOOKUP(P29,$A$8:$AO$107,19,FALSE)=\"Défaite\",\"OK\",\"ERR\"),IF(S29=\"Défaite\",IF(VLOOKUP(P29,$A$8:$AO$107,19,FALSE)=\"Victoire\",\"OK\",\"ERR\"),IF(S29=\"Nul\",IF(VLOOKUP(P29,$A$8:$AO$107,19,FALSE)=\"Nul\",\"OK\",\"ERR\")))),\"\")","v":""},null,{"$f":"IF(S29=\"Victoire\",100-ROUNDDOWN(20*U29/$H29,0),\nIF(S29=\"Défaite\",10+ROUNDDOWN(20*VLOOKUP(P29,$A$8:$AO$107,21,FALSE)/VLOOKUP(P29,$A$8:$H$107,8,FALSE),0),\nIF(AND(S29=\"Nul\",$U29<>$H29),40+(2*ROUNDDOWN(10*VLOOKUP(P29,$A$8:$AO$107,21,FALSE)/VLOOKUP(P29,$A$8:$H$107,8,FALSE),0)-ROUNDDOWN(10*U29/$H29,0)),IF(AND(S29=\"Nul\",$U29=$H29),58,0))))","v":0},null,{"$f":"IF(W29<>\"\",VLOOKUP(W29,$A$8:$C$107,2,FALSE),\"\")","v":""},{"$f":"IF(W29<>\"\",IF(W29=$A29,\"ERR\",IF(OR(W29=$P29,W29=$I29,W29=$AD29,W29=$AK29),\"DUP\",IF(ISNA(VLOOKUP(W29,$A$8:$A$107,1,FALSE)),\"ERR\",IF(COUNTIF($I$8:$I$107,W29)>1,\"ERR\",IF($D29=VLOOKUP(W29,$A$8:$D$107,4,FALSE),\"CLUB\",\"OK\"))))),\"\")","v":""},null,{"$f":"IF(Z29<>\"\",IF(Z29=\"Victoire\",IF(VLOOKUP(W29,$A$8:$AO$107,26,FALSE)=\"Défaite\",\"OK\",\"ERR\"),IF(Z29=\"Défaite\",IF(VLOOKUP(W29,$A$8:$AO$107,26,FALSE)=\"Victoire\",\"OK\",\"ERR\"),IF(Z29=\"Nul\",IF(VLOOKUP(W29,$A$8:$AO$107,26,FALSE)=\"Nul\",\"OK\",\"ERR\")))),\"\")","v":""},null,{"$f":"IF(Z29=\"Victoire\",100-ROUNDDOWN(20*AB29/$H29,0),\nIF(Z29=\"Défaite\",10+ROUNDDOWN(20*VLOOKUP(W29,$A$8:$AO$107,28,FALSE)/VLOOKUP(W29,$A$8:$H$107,8,FALSE),0),\nIF(AND(Z29=\"Nul\",$AB29<>$H29),40+(2*ROUNDDOWN(10*VLOOKUP(W29,$A$8:$AO$107,28,FALSE)/VLOOKUP(W29,$A$8:$H$107,8,FALSE),0)-ROUNDDOWN(10*AB29/$H29,0)),IF(AND(Z29=\"Nul\",$AB29=$H29),58,0))))","v":0},null,{"$f":"IF(AD29<>\"\",VLOOKUP(AD29,$A$8:$C$107,2,FALSE),\"\")","v":""},{"$f":"IF(AD29<>\"\",IF(AD29=$A29,\"ERR\",IF(OR(AD29=$P29,AD29=$W29,AD29=$I29,AD29=$AK29),\"DUP\",IF(ISNA(VLOOKUP(AD29,$A$8:$A$107,1,FALSE)),\"ERR\",IF(COUNTIF($I$8:$I$107,AD29)>1,\"ERR\",IF($D29=VLOOKUP(AD29,$A$8:$D$107,4,FALSE),\"CLUB\",\"OK\"))))),\"\")","v":""},null,{"$f":"IF(AG29<>\"\",IF(AG29=\"Victoire\",IF(VLOOKUP(AD29,$A$8:$AO$107,33,FALSE)=\"Défaite\",\"OK\",\"ERR\"),IF(AG29=\"Défaite\",IF(VLOOKUP(AD29,$A$8:$AO$107,33,FALSE)=\"Victoire\",\"OK\",\"ERR\"),IF(AG29=\"Nul\",IF(VLOOKUP(AD29,$A$8:$AO$107,33,FALSE)=\"Nul\",\"OK\",\"ERR\")))),\"\")","v":""},null,{"$f":"IF(AG29=\"Victoire\",100-ROUNDDOWN(20*AI29/$H29,0),\nIF(AG29=\"Défaite\",10+ROUNDDOWN(20*VLOOKUP(AD29,$A$8:$AO$107,35,FALSE)/VLOOKUP(AD29,$A$8:$H$107,8,FALSE),0),\nIF(AND(AG29=\"Nul\",$AI29<>$H29),40+(2*ROUNDDOWN(10*VLOOKUP(AD29,$A$8:$AO$107,35,FALSE)/VLOOKUP(AD29,$A$8:$H$107,8,FALSE),0)-ROUNDDOWN(10*AI29/$H29,0)),IF(AND(AG29=\"Nul\",$AI29=$H29),58,0))))","v":0},null,{"$f":"IF(AK29<>\"\",VLOOKUP(AK29,$A$8:$C$107,2,FALSE),\"\")","v":""},{"$f":"IF(AK29<>\"\",IF(AK29=$A29,\"ERR\",IF(OR(AK29=$P29,AK29=$W29,AK29=$AD29,AK29=$I29),\"DUP\",IF(ISNA(VLOOKUP(AK29,$A$8:$A$107,1,FALSE)),\"ERR\",IF(COUNTIF($I$8:$I$107,AK29)>1,\"ERR\",IF($D29=VLOOKUP(AK29,$A$8:$D$107,4,FALSE),\"CLUB\",\"OK\"))))),\"\")","v":""},null,{"$f":"IF(AN29<>\"\",IF(AN29=\"Victoire\",IF(VLOOKUP(AK29,$A$8:$AO$107,40,FALSE)=\"Défaite\",\"OK\",\"ERR\"),IF(AN29=\"Défaite\",IF(VLOOKUP(AK29,$A$8:$AO$107,40,FALSE)=\"Victoire\",\"OK\",\"ERR\"),IF(AN29=\"Nul\",IF(VLOOKUP(AK29,$A$8:$AO$107,40,FALSE)=\"Nul\",\"OK\",\"ERR\")))),\"\")","v":""},null,{"$f":"IF(AN29=\"Victoire\",100-ROUNDDOWN(20*AP29/$H29,0),\nIF(AN29=\"Défaite\",10+ROUNDDOWN(20*VLOOKUP(AK29,$A$8:$CB$107,42,FALSE)/VLOOKUP(AK29,$A$8:$H$107,8,FALSE),0),\nIF(AND(AN29=\"Nul\",$AP29<>$H29),40+(2*ROUNDDOWN(10*VLOOKUP(AK29,$A$8:$CB$107,42,FALSE)/VLOOKUP(AK29,$A$8:$H$107,8,FALSE),0)-ROUNDDOWN(10*AP29/$H29,0)),IF(AND(AN29=\"Nul\",$AP29=$H29),58,0))))","v":0},null,{"$f":"IF(AR29<>\"\",VLOOKUP(AR29,$A$8:$C$107,2,FALSE),\"\")","v":""},{"$f":"IF(AR29<>\"\",IF(AR29=$A29,\"ERR\",IF(OR(AR29=$I29,AR29=$P29,AR29=$W29,AR29=$AD29,AR29=$AK29),\"DUP\",IF(ISNA(VLOOKUP(AR29,$A$8:$A$107,1,FALSE)),\"ERR\",IF(COUNTIF($I$8:$I$107,AR29)>1,\"ERR\",IF($D29=VLOOKUP(AR29,$A$8:$D$107,4,FALSE),\"CLUB\",\"OK\"))))),\"\")","v":""},null,{"$f":"IF(AU29<>\"\",IF(AU29=\"Victoire\",IF(VLOOKUP(AR29,$A$8:$BL$107,47,FALSE)=\"Défaite\",\"OK\",\"ERR\"),IF(AU29=\"Défaite\",IF(VLOOKUP(AR29,$A$8:$BL$107,47,FALSE)=\"Victoire\",\"OK\",\"ERR\"),IF(AU29=\"Nul\",IF(VLOOKUP(AR29,$A$8:$BL$107,47,FALSE)=\"Nul\",\"OK\",\"ERR\")))),\"\")","v":""},null,{"$f":"IF(AU29=\"Victoire\",100-ROUNDDOWN(20*AW29/$H29,0),\nIF(AU29=\"Défaite\",10+ROUNDDOWN(20*VLOOKUP(AR29,$A$8:$CB$107,49,FALSE)/VLOOKUP(AR29,$A$8:$H$107,8,FALSE),0),\nIF(AND(AU29=\"Nul\",$AW29<>$H29),40+(2*ROUNDDOWN(10*VLOOKUP(AR29,$A$8:$CB$107,49,FALSE)/VLOOKUP(AR29,$A$8:$H$107,8,FALSE),0)-ROUNDDOWN(10*AW29/$H29,0)),IF(AND(AU29=\"Nul\",$AW29=$H29),58,0))))","v":0},null,{"$f":"IF(AY29<>\"\",VLOOKUP(AY29,$A$8:$C$107,2,FALSE),\"\")","v":""},{"$f":"IF(AY29<>\"\",IF(AY29=$A29,\"ERR\",IF(OR(AY29=$I29,AY29=$P29,AY29=$W29,AY29=$AD29,AY29=$AK29,AY29=$AR29),\"DUP\",IF(ISNA(VLOOKUP(AY29,$A$8:$A$107,1,FALSE)),\"ERR\",IF(COUNTIF($I$8:$I$107,AY29)>1,\"ERR\",IF($D29=VLOOKUP(AY29,$A$8:$D$107,4,FALSE),\"CLUB\",\"OK\"))))),\"\")","v":""},null,{"$f":"IF(BB29<>\"\",IF(BB29=\"Victoire\",IF(VLOOKUP(AY29,$A$8:$BL$107,54,FALSE)=\"Défaite\",\"OK\",\"ERR\"),IF(BB29=\"Défaite\",IF(VLOOKUP(AY29,$A$8:$BL$107,54,FALSE)=\"Victoire\",\"OK\",\"ERR\"),IF(BB29=\"Nul\",IF(VLOOKUP(AY29,$A$8:$BL$107,54,FALSE)=\"Nul\",\"OK\",\"ERR\")))),\"\")","v":""},null,{"$f":"IF(BB29=\"Victoire\",100-ROUNDDOWN(20*BD29/$H29,0),\nIF(BB29=\"Défaite\",10+ROUNDDOWN(20*VLOOKUP(AY29,$A$8:$CB$107,56,FALSE)/VLOOKUP(AY29,$A$8:$H$107,8,FALSE),0),\nIF(AND(BB29=\"Nul\",$BD29<>$H29),40+(2*ROUNDDOWN(10*VLOOKUP(AY29,$A$8:$CB$107,56,FALSE)/VLOOKUP(AY29,$A$8:$H$107,8,FALSE),0)-ROUNDDOWN(10*BD29/$H29,0)),IF(AND(BB29=\"Nul\",$BD29=$H29),58,0))))","v":0},null,{"$f":"IF(BF29<>\"\",VLOOKUP(BF29,$A$8:$C$107,2,FALSE),\"\")","v":""},{"$f":"IF(BF29<>\"\",IF(BF29=$A29,\"ERR\",IF(OR(BF29=$I29,BF29=$P29,BF29=$W29,BF29=$AD29,BF29=$AK29,BF29=$AR29,BF29=$AY29),\"DUP\",IF(ISNA(VLOOKUP(BF29,$A$8:$A$107,1,FALSE)),\"ERR\",IF(COUNTIF($I$8:$I$107,BF29)>1,\"ERR\",IF($D29=VLOOKUP(BF29,$A$8:$D$107,4,FALSE),\"CLUB\",\"OK\"))))),\"\")","v":""},null,{"$f":"IF(BI29<>\"\",IF(BI29=\"Victoire\",IF(VLOOKUP(BF29,$A$8:$BL$107,61,FALSE)=\"Défaite\",\"OK\",\"ERR\"),IF(BI29=\"Défaite\",IF(VLOOKUP(BF29,$A$8:$BL$107,61,FALSE)=\"Victoire\",\"OK\",\"ERR\"),IF(BI29=\"Nul\",IF(VLOOKUP(BF29,$A$8:$BL$107,61,FALSE)=\"Nul\",\"OK\",\"ERR\")))),\"\")","v":""},null,{"$f":"IF(BI29=\"Victoire\",100-ROUNDDOWN(20*BK29/$H29,0),\nIF(BI29=\"Défaite\",10+ROUNDDOWN(20*VLOOKUP(BF29,$A$8:$CB$107,63,FALSE)/VLOOKUP(BF29,$A$8:$H$107,8,FALSE),0),\nIF(AND(BI29=\"Nul\",$BK29<>$H29),40+(2*ROUNDDOWN(10*VLOOKUP(BF29,$A$8:$CB$107,63,FALSE)/VLOOKUP(BF29,$A$8:$H$107,8,FALSE),0)-ROUNDDOWN(10*BK29/$H29,0)),IF(AND(BI29=\"Nul\",$BK29=$H29),58,0))))","v":0},null,{"$f":"IF(BM29<>\"\",VLOOKUP(BM29,$A$8:$C$107,2,FALSE),\"\")","v":""},{"$f":"IF(BM29<>\"\",IF(BM29=$A29,\"ERR\",IF(OR(BM29=$I29,BM29=$P29,BM29=$W29,BM29=$AD29,BM29=$AK29,BM29=$AR29,BM29=$AY29,BM29=$BF29),\"DUP\",IF(ISNA(VLOOKUP(BM29,$A$8:$A$107,1,FALSE)),\"ERR\",IF(COUNTIF($I$8:$I$107,BM29)>1,\"ERR\",IF($D29=VLOOKUP(BM29,$A$8:$D$107,4,FALSE),\"CLUB\",\"OK\"))))),\"\")","v":""},null,{"$f":"IF(BP29<>\"\",IF(BP29=\"Victoire\",IF(VLOOKUP(BM29,$A$8:$BS$107,68,FALSE)=\"Défaite\",\"OK\",\"ERR\"),IF(BP29=\"Défaite\",IF(VLOOKUP(BM29,$A$8:$BS$107,68,FALSE)=\"Victoire\",\"OK\",\"ERR\"),IF(BP29=\"Nul\",IF(VLOOKUP(BM29,$A$8:$BS$107,68,FALSE)=\"Nul\",\"OK\",\"ERR\")))),\"\")","v":""},null,{"$f":"IF(BP29=\"Victoire\",100-ROUNDDOWN(20*BR29/$H29,0),\nIF(BP29=\"Défaite\",10+ROUNDDOWN(20*VLOOKUP(BM29,$A$8:$CB$107,70,FALSE)/VLOOKUP(BM29,$A$8:$H$107,8,FALSE),0),\nIF(AND(BP29=\"Nul\",$BR29<>$H29),40+(2*ROUNDDOWN(10*VLOOKUP(BM29,$A$8:$CB$107,70,FALSE)/VLOOKUP(BM29,$A$8:$H$107,8,FALSE),0)-ROUNDDOWN(10*BR29/$H29,0)),IF(AND(BP29=\"Nul\",$BR29=$H29),58,0))))","v":0},null,{"$f":"IF($I29<>\"\",VLOOKUP($I29,$A$8:$N$107,5,FALSE),0)+IF($P29<>\"\",VLOOKUP($P29,$A$8:$N$107,5,FALSE),0)+IF($W29<>\"\",VLOOKUP($W29,$A$8:$N$107,5,FALSE),0)+IF($AD29<>\"\",VLOOKUP($AD29,$A$8:$N$107,5,FALSE),0)+IF($AK29<>\"\",VLOOKUP($AK29,$A$8:$N$107,5,FALSE),0)+IF($AR29<>\"\",VLOOKUP($AR29,$A$8:$N$107,5,FALSE),0)+IF($AY29<>\"\",VLOOKUP($AY29,$A$8:$N$107,5,FALSE),0)+IF($BF29<>\"\",VLOOKUP($BF29,$A$8:$N$107,5,FALSE),0)+IF($BM29<>\"\",VLOOKUP($BM29,$A$8:$N$107,5,FALSE),0)","v":0}]
[{"$nulls":4},0,null,{"$f":"IF($F30<>\"\",VLOOKUP(F30,Armies!$A$1:$C$300,3,FALSE),\"\")","v":""},null,null,{"$f":"IF(I30<>\"\",VLOOKUP(I30,$A$8:$C$107,2,FALSE),\"\")","v":""},{"$f":"IF(I30<>\"\",IF(I30=$A30,\"ERR\",IF(OR(I30=$P30,I30=$W30,I30=$AD30,I30=$AK30),\"DUP\",IF(ISNA(VLOOKUP(I30,$A$8:$A$107,1,FALSE)),\"ERR\",IF(COUNTIF($I$8:$I$107,I30)>1,\"ERR\",IF($D30=VLOOKUP(I30,$A$8:$D$107,4,FALSE),\"CLUB\",\"OK\"))))),\"\")","v":""},null,{"$f":"IF(L30<>\"\",IF(L30=\"Victoire\",IF(VLOOKUP(I30,$A$8:$L$107,12,FALSE)=\"Défaite\",\"OK\",\"ERR\"),IF(L30=\"Défaite\",IF(VLOOKUP(I30,$A$8:$L$107,12,FALSE)=\"Victoire\",\"OK\",\"ERR\"),IF(L30=\"Nul\",IF(VLOOKUP(I30,$A$8:$L$107,12,FALSE)=\"Nul\",\"OK\",\"ERR\")))),\"\")","v":""},null,{"$f":"IF(L30=\"Victoire\",100-ROUNDDOWN(20*N30/$H30,0),\nIF(L30=\"Défaite\",10+ROUNDDOWN(20*VLOOKUP(I30,$A$8:$N$107,14,FALSE)/VLOOKUP(I30,$A$8:$H$107,8,FALSE),0),\nIF(AND(L30=\"Nul\",$N30<>$H30),40+(2*ROUNDDOWN(10*VLOOKUP(I30,$A$8:$N$107,14,FALSE)/VLOOKUP(I30,$A$8:$H$107,8,FALSE),0)-ROUNDDOWN(10*N30/$H30,0)),IF(AND(L30=\"Nul\",$N30=$H30),58,0))))","v":0},null,{"$f":"IF(P30<>\"\",VLOOKUP(P30,$A$8:$C$107,2,FALSE),\"\")","v":""},{"$f":"IF(P30<>\"\",IF(P30=$A30,\"ERR\",IF(OR(P30=$I30,P30=$W30,P30=$AD30,P30=$AK30),\"DUP\",IF(ISNA(VLOOKUP(P30,$A$8:$A$107,1,FALSE)),\"ERR\",IF(COUNTIF($I$8:$I$107,P30)>1,\"ERR\",IF($D30=VLOOKUP(P30,$A$8:$D$107,4,FALSE),\"CLUB\",\"OK\"))))),\"\")","v":""},null,{"$f":"IF(S30<>\"\",IF(S30=\"Victoire\",IF(VLOOKUP(P30,$A$8:$AO$107,19,FALSE)=\"Défaite\",\"OK\",\"ERR\"),IF(S30=\"Défaite\",IF(VLOOKUP(P30,$A$8:$AO$107,19,FALSE)=\"Victoire\",\"OK\",\"ERR\"),IF(S30=\"Nul\",IF(VLOOKUP(P30,$A$8:$AO$107,19,FALSE)=\"Nul\",\"OK\",\"ERR\")))),\"\")","v":""},null,{"$f":"IF(S30=\"Victoire\",100-ROUNDDOWN(20*U30/$H30,0),\nIF(S30=\"Défaite\",10+ROUNDDOWN(20*VLOOKUP(P30,$A$8:$AO$107,21,FALSE)/VLOOKUP(P30,$A$8:$H$107,8,FALSE),0),\nIF(AND(S30=\"Nul\",$U30<>$H30),40+(2*ROUNDDOWN(10*VLOOKUP(P30,$A$8:$AO$107,21,FALSE)/VLOOKUP(P30,$A$8:$H$107,8,FALSE),0)-ROUNDDOWN(10*U30/$H30,0)),IF(AND(S30=\"Nul\",$U30=$H30),58,0))))","v":0},null,{"$f":"IF(W30<>\"\",VLOOKUP(W30,$A$8:$C$107,2,FALSE),\"\")","v":""},{"$f":"IF(W30<>\"\",IF(W30=$A30,\"ERR\",IF(OR(W30=$P30,W30=$I30,W30=$AD30,W30=$AK30),\"DUP\",IF(ISNA(VLOOKUP(W30,$A$8:$A$107,1,FALSE)),\"ERR\",IF(COUNTIF($I$8:$I$107,W30)>1,\"ERR\",IF($D30=VLOOKUP(W30,$A$8:$D$107,4,FALSE),\"CLUB\",\"OK\"))))),\"\")","v":""},null,{"$f":"IF(Z30<>\"\",IF(Z30=\"Victoire\",IF(VLOOKUP(W30,$A$8:$AO$107,26,FALSE)=\"Défaite\",\"OK\",\"ERR\"),IF(Z30=\"Défaite\",IF(VLOOKUP(W30,$A$8:$AO$107,26,FALSE)=\"Victoire\",\"OK\",\"ERR\"),IF(Z30=\"Nul\",IF(VLOOKUP(W30,$A$8:$AO$107,26,FALSE)=\"Nul\",\"OK\",\"ERR\")))),\"\")","v":""},null,{"$f":"IF(Z30=\"Victoire\",100-ROUNDDOWN(20*AB30/$H30,0),\nIF(Z30=\"Défaite\",10+ROUNDDOWN(20*VLOOKUP(W30,$A$8:$AO$107,28,FALSE)/VLOOKUP(W30,$A$8:$H$107,8,FALSE),0),\nIF(AND(Z30=\"Nul\",$AB30<>$H30),40+(2*ROUNDDOWN(10*VLOOKUP(W30,$A$8:$AO$107,28,FALSE)/VLOOKUP(W30,$A$8:$H$107,8,FALSE),0)-ROUNDDOWN(10*AB30/$H30,0)),IF(AND(Z30=\"Nul\",$AB30=$H30),58,0))))","v":0},null,{"$f":"IF(AD30<>\"\",VLOOKUP(AD30,$A$8:$C$107,2,FALSE),\"\")","v":""},{"$f":"IF(AD30<>\"\",IF(AD30=$A30,\"ERR\",IF(OR(AD30=$P30,AD30=$W30,AD30=$I30,AD30=$AK30),\"DUP\",IF(ISNA(VLOOKUP(AD30,$A$8:$A$107,1,FALSE)),\"ERR\",IF(COUNTIF($I$8:$I$107,AD30)>1,\"ERR\",IF($D30=VLOOKUP(AD30,$A$8:$D$107,4,FALSE),\"CLUB\",\"OK\"))))),\"\")","v":""},null,{"$f":"IF(AG30<>\"\",IF(AG30=\"Victoire\",IF(VLOOKUP(AD30,$A$8:$AO$107,33,FALSE)=\"Défaite\",\"OK\",\"ERR\"),IF(AG30=\"Défaite\",IF(VLOOKUP(AD30,$A$8:$AO$107,33,FALSE)=\"Victoire\",\"OK\",\"ERR\"),IF(AG30=\"Nul\",IF(VLOOKUP(AD30,$A$8:$AO$107,33,FALSE)=\"Nul\",\"OK\",\"ERR\")))),\"\")","v":""},null,{"$f":"IF(AG30=\"Victoire\",100-ROUNDDOWN(20*AI30/$H30,0),\nIF(AG30=\"Défaite\",10+ROUNDDOWN(20*VLOOKUP(AD30,$A$8:$AO$107,35,FALSE)/VLOOKUP(AD30,$A$8:$H$107,8,FALSE),0),\nIF(AND(AG30=\"Nul\",$AI30<>$H30),40+(2*ROUNDDOWN(10*VLOOKUP(AD30,$A$8:$AO$107,35,FALSE)/VLOOKUP(AD30,$A$8:$H$107,8,FALSE),0)-ROUNDDOWN(10*AI30/$H30,0)),IF(AND(AG30=\"Nul\",$AI30=$H30),58,0))))","v":0},null,{"$f":"IF(AK30<>\"\",VLOOKUP(AK30,$A$8:$C$107,2,FALSE),\"\")","v":""},{"$f":"IF(AK30<>\"\",IF(AK30=$A30,\"ERR\",IF(OR(AK30=$P30,AK30=$W30,AK30=$AD30,AK30=$I30),\"DUP\",IF(ISNA(VLOOKUP(AK30,$A$8:$A$107,1,FALSE)),\"ERR\",IF(COUNTIF($I$8:$I$107,AK30)>1,\"ERR\",IF($D30=VLOOKUP(AK30,$A$8:$D$107,4,FALSE),\"CLUB\",\"OK\"))))),\"\")","v":""},null,{"$f":"IF(AN30<>\"\",IF(AN30=\"Victoire\",IF(VLOOKUP(AK30,$A$8:$AO$107,40,FALSE)=\"Défaite\",\"OK\",\"ERR\"),IF(AN30=\"Défaite\",IF(VLOOKUP(AK30,$A$8:$AO$107,40,FALSE)=\"Victoire\",\"OK\",\"ERR\"),IF(AN30=\"Nul\",IF(VLOOKUP(AK30,$A$8:$AO$107,40,FALSE)=\"Nul\",\"OK\",\"ERR\")))),\"\")","v":""},null,{"$f":"IF(AN30=\"Victoire\",100-ROUNDDOWN(20*AP30/$H30,0),\nIF(AN30=\"Défaite\",10+ROUNDDOWN(20*VLOOKUP(AK30,$A$8:$CB$107,42,FALSE)/VLOOKUP(AK30,$A$8:$H$107,8,FALSE),0),\nIF(AND(AN30=\"Nul\",$AP30<>$H30),40+(2*ROUNDDOWN(10*VLOOKUP(AK30,$A$8:$CB$107,42,FALSE)/VLOOKUP(AK30,$A$8:$H$107,8,FALSE),0)-ROUNDDOWN(10*AP30/$H30,0)),IF(AND(AN30=\"Nul\",$AP30=$H30),58,0))))","v":0},null,{"$f":"IF(AR30<>\"\",VLOOKUP(AR30,$A$8:$C$107,2,FALSE),\"\")","v":""},{"$f":"IF(AR30<>\"\",IF(AR30=$A30,\"ERR\",IF(OR(AR30=$I30,AR30=$P30,AR30=$W30,AR30=$AD30,AR30=$AK30),\"DUP\",IF(ISNA(VLOOKUP(AR30,$A$8:$A$107,1,FALSE)),\"ERR\",IF(COUNTIF($I$8:$I$107,AR30)>1,\"ERR\",IF($D30=VLOOKUP(AR30,$A$8:$D$107,4,FALSE),\"CLUB\",\"OK\"))))),\"\")","v":""},null,{"$f":"IF(AU30<>\"\",IF(AU30=\"Victoire\",IF(VLOOKUP(AR30,$A$8:$BL$107,47,FALSE)=\"Défaite\",\"OK\",\"ERR\"),IF(AU30=\"Défaite\",IF(VLOOKUP(AR30,$A$8:$BL$107,47,FALSE)=\"Victoire\",\"OK\",\"ERR\"),IF(AU30=\"Nul\",IF(VLOOKUP(AR30,$A$8:$BL$107,47,FALSE)=\"Nul\",\"OK\",\"ERR\")))),\"\")","v":""},null,{"$f":"IF(AU30=\"Victoire\",100-ROUNDDOWN(20*AW30/$H30,0),\nIF(AU30=\"Défaite\",10+ROUNDDOWN(20*VLOOKUP(AR30,$A$8:$CB$107,49,FALSE)/VLOOKUP(AR30,$A$8:$H$107,8,FALSE),0),\nIF(AND(AU30=\"Nul\",$AW30<>$H30),40+(2*ROUNDDOWN(10*VLOOKUP(AR30,$A$8:$CB$107,49,FALSE)/VLOOKUP(AR30,$A$8:$H$107,8,FALSE),0)-ROUNDDOWN(10*AW30/$H30,0)),IF(AND(AU30=\"Nul\",$AW30=$H30),58,0))))","v":0},null,{"$f":"IF(AY30<>\"\",VLOOKUP(AY30,$A$8:$C$107,2,FALSE),\"\")","v":""},{"$f":"IF(AY30<>\"\",IF(AY30=$A30,\"ERR\",IF(OR(AY30=$I30,AY30=$P30,AY30=$W30,AY30=$AD30,AY30=$AK30,AY30=$AR30),\"DUP\",IF(ISNA(VLOOKUP(AY30,$A$8:$A$107,1,FALSE)),\"ERR\",IF(COUNTIF($I$8:$I$107,AY30)>1,\"ERR\",IF($D30=VLOOKUP(AY30,$A$8:$D$107,4,FALSE),\"CLUB\",\"OK\"))))),\"\")","v":""},null,{"$f":"IF(BB30<>\"\",IF(BB30=\"Victoire\",IF(VLOOKUP(AY30,$A$8:$BL$107,54,FALSE)=\"Défaite\",\"OK\",\"ERR\"),IF(BB30=\"Défaite\",IF(VLOOKUP(AY30,$A$8:$BL$107,54,FALSE)=\"Victoire\",\"OK\",\"ERR\"),IF(BB30=\"Nul\",IF(VLOOKUP(AY30,$A$8:$BL$107,54,FALSE)=\"Nul\",\"OK\",\"ERR\")))),\"\")","v":""},null,{"$f":"IF(BB30=\"Victoire\",100-ROUNDDOWN(20*BD30/$H30,0),\nIF(BB30=\"Défaite\",10+ROUNDDOWN(20*VLOOKUP(AY30,$A$8:$CB$107,56,FALSE)/VLOOKUP(AY30,$A$8:$H$107,8,FALSE),0),\nIF(AND(BB30=\"Nul\",$BD30<>$H30),40+(2*ROUNDDOWN(10*VLOOKUP(AY30,$A$8:$CB$107,56,FALSE)/VLOOKUP(AY30,$A$8:$H$107,8,FALSE),0)-ROUNDDOWN(10*BD30/$H30,0)),IF(AND(BB30=\"Nul\",$BD30=$H30),58,0))))","v":0},null,{"$f":"IF(BF30<>\"\",VLOOKUP(BF30,$A$8:$C$107,2,FALSE),\"\")","v":""},{"$f":"IF(BF30<>\"\",IF(BF30=$A30,\"ERR\",IF(OR(BF30=$I30,BF30=$P30,BF30=$W30,BF30=$AD30,BF30=$AK30,BF30=$AR30,BF30=$AY30),\"DUP\",IF(ISNA(VLOOKUP(BF30,$A$8:$A$107,1,FALSE)),\"ERR\",IF(COUNTIF($I$8:$I$107,BF30)>1,\"ERR\",IF($D30=VLOOKUP(BF30,$A$8:$D$107,4,FALSE),\"CLUB\",\"OK\"))))),\"\")","v":""},null,{"$f":"IF(BI30<>\"\",IF(BI30=\"Victoire\",IF(VLOOKUP(BF30,$A$8:$BL$107,61,FALSE)=\"Défaite\",\"OK\",\"ERR\"),IF(BI30=\"Défaite\",IF(VLOOKUP(BF30,$A$8:$BL$107,61,FALSE)=\"Victoire\",\"OK\",\"ERR\"),IF(BI30=\"Nul\",IF(VLOOKUP(BF30,$A$8:$BL$107,61,FALSE)=\"Nul\",\"OK\",\"ERR\")))),\"\")","v":""},null,{"$f":"IF(BI30=\"Victoire\",100-ROUNDDOWN(20*BK30/$H30,0),\nIF(BI30=\"Défaite\",10+ROUNDDOWN(20*VLOOKUP(BF30,$A$8:$CB$107,63,FALSE)/VLOOKUP(BF30,$A$8:$H$107,8,FALSE),0),\nIF(AND(BI30=\"Nul\",$BK30<>$H30),40+(2*ROUNDDOWN(10*VLOOKUP(BF30,$A$8:$CB$107,63,FALSE)/VLOOKUP(BF30,$A$8:$H$107,8,FALSE),0)-ROUNDDOWN(10*BK30/$H30,0)),IF(AND(BI30=\"Nul\",$BK30=$H30),58,0))))","v":0},null,{"$f":"IF(BM30<>\"\",VLOOKUP(BM30,$A$8:$C$107,2,FALSE),\"\")","v":""},{"$f":"IF(BM30<>\"\",IF(BM30=$A30,\"ERR\",IF(OR(BM30=$I30,BM30=$P30,BM30=$W30,BM30=$AD30,BM30=$AK30,BM30=$AR30,BM30=$AY30,BM30=$BF30),\"DUP\",IF(ISNA(VLOOKUP(BM30,$A$8:$A$107,1,FALSE)),\"ERR\",IF(COUNTIF($I$8:$I$107,BM30)>1,\"ERR\",IF($D30=VLOOKUP(BM30,$A$8:$D$107,4,FALSE),\"CLUB\",\"OK\"))))),\"\")","v":""},null,{"$f":"IF(BP30<>\"\",IF(BP30=\"Victoire\",IF(VLOOKUP(BM30,$A$8:$BS$107,68,FALSE)=\"Défaite\",\"OK\",\"ERR\"),IF(BP30=\"Défaite\",IF(VLOOKUP(BM30,$A$8:$BS$107,68,FALSE)=\"Victoire\",\"OK\",\"ERR\"),IF(BP30=\"Nul\",IF(VLOOKUP(BM30,$A$8:$BS$107,68,FALSE)=\"Nul\",\"OK\",\"ERR\")))),\"\")","v":""},null,{"$f":"IF(BP30=\"Victoire\",100-ROUNDDOWN(20*BR30/$H30,0),\nIF(BP30=\"Défaite\",10+ROUNDDOWN(20*VLOOKUP(BM30,$A$8:$CB$107,70,FALSE)/VLOOKUP(BM30,$A$8:$H$107,8,FALSE),0),\nIF(AND(BP30=\"Nul\",$BR30<>$H30),40+(2*ROUNDDOWN(10*VLOOKUP(BM30,$A$8:$CB$107,70,FALSE)/VLOOKUP(BM30,$A$8:$H$107,8,FALSE),0)-ROUNDDOWN(10*BR30/$H30,0)),IF(AND(BP30=\"Nul\",$BR30=$H30),58,0))))","v":0},null,{"$f":"IF($I30<>\"\",VLOOKUP($I30,$A$8:$N$107,5,FALSE),0)+IF($P30<>\"\",VLOOKUP($P30,$A$8:$N$107,5,FALSE),0)+IF($W30<>\"\",VLOOKUP($W30,$A$8:$N$107,5,FALSE),0)+IF($AD30<>\"\",VLOOKUP($AD30,$A$8:$N$107,5,FALSE),0)+IF($AK30<>\"\",VLOOKUP($AK30,$A$8:$N$107,5,FALSE),0)+IF($AR30<>\"\",VLOOKUP($AR30,$A$8:$N$107,5,FALSE),0)+IF($AY30<>\"\",VLOOKUP($AY30,$A$8:$N$107,5,FALSE),0)+IF($BF30<>\"\",VLOOKUP($BF30,$A$8:$N$107,5,FALSE),0)+IF($BM30<>\"\",VLOOKUP($BM30,$A$8:$N$107,5,FALSE),0)","v":0}]
[{"$nulls":4},0,null,{"$f":"IF($F31<>\"\",VLOOKUP(F31,Armies!$A$1:$C$300,3,FALSE),\"\")","v":""},null,null,{"$f":"IF(I31<>\"\",VLOOKUP(I31,$A$8:$C$107,2,FALSE),\"\")","v":""},{"$f":"IF(I31<>\"\",IF(I31=$A31,\"ERR\",IF(OR(I31=$P31,I31=$W31,I31=$AD31,I31=$AK31),\"DUP\",IF(ISNA(VLOOKUP(I31,$A$8:$A$107,1,FALSE)),\"ERR\",IF(COUNTIF($I$8:$I$107,I31)>1,\"ERR\",IF($D31=VLOOKUP(I31,$A$8:$D$107,4,FALSE),\"CLUB\",\"OK\"))))),\"\")","v":""},null,{"$f":"IF(L31<>\"\",IF(L31=\"Victoire\",IF(VLOOKUP(I31,$A$8:$L$107,12,FALSE)=\"Défaite\",\"OK\",\"ERR\"),IF(L31=\"Défaite\",IF(VLOOKUP(I31,$A$8:$L$107,12,FALSE)=\"Victoire\",\"OK\",\"ERR\"),IF(L31=\"Nul\",IF(VLOOKUP(I31,$A$8:$L$107,12,FALSE)=\"Nul\",\"OK\",\"ERR\")))),\"\")","v":""},null,{"$f":"IF(L31=\"Victoire\",100-ROUNDDOWN(20*N31/$H31,0),\nIF(L31=\"Défaite\",10+ROUNDDOWN(20*VLOOKUP(I31,$A$8:$N$107,14,FALSE)/VLOOKUP(I31,$A$8:$H$107,8,FALSE),0),\nIF(AND(L31=\"Nul\",$N31<>$H31),40+(2*ROUNDDOWN(10*VLOOKUP(I31,$A$8:$N$107,14,FALSE)/VLOOKUP(I31,$A$8:$H$107,8,FALSE),0)-ROUNDDOWN(10*N31/$H31,0)),IF(AND(L31=\"Nul\",$N31=$H31),58,0))))","v":0},null,{"$f":"IF(P31<>\"\",VLOOKUP(P31,$A$8:$C$107,2,FALSE),\"\")","v":""},{"$f":"IF(P31<>\"\",IF(P31=$A31,\"ERR\",IF(OR(P31=$I31,P31=$W31,P31=$AD31,P31=$AK31),\"DUP\",IF(ISNA(VLOOKUP(P31,$A$8:$A$107,1,FALSE)),\"ERR\",IF(COUNTIF($I$8:$I$107,P31)>1,\"ERR\",IF($D31=VLOOKUP(P31,$A$8:$D$107,4,FALSE),\"CLUB\",\"OK\"))))),\"\")","v":""},null,{"$f":"IF(S31<>\"\",IF(S31=\"Victoire\",IF(VLOOKUP(P31,$A$8:$AO$107,19,FALSE)=\"Défaite\",\"OK\",\"ERR\"),IF(S31=\"Défaite\",IF(VLOOKUP(P31,$A$8:$AO$107,19,FALSE)=\"Victoire\",\"OK\",\"ERR\"),IF(S31=\"Nul\",IF(VLOOKUP(P31,$A$8:$AO$107,19,FALSE)=\"Nul\",\"OK\",\"ERR\")))),\"\")","v":""},null,{"$f":"IF(S31=\"Victoire\",100-ROUNDDOWN(20*U31/$H31,0),\nIF(S31=\"Défaite\",10+ROUNDDOWN(20*VLOOKUP(P31,$A$8:$AO$107,21,FALSE)/VLOOKUP(P31,$A$8:$H$107,8,FALSE),0),\nIF(AND(S31=\"Nul\",$U31<>$H31),40+(2*ROUNDDOWN(10*VLOOKUP(P31,$A$8:$AO$107,21,FALSE)/VLOOKUP(P31,$A$8:$H$107,8,FALSE),0)-ROUNDDOWN(10*U31/$H31,0)),IF(AND(S31=\"Nul\",$U31=$H31),58,0))))","v":0},null,{"$f":"IF(W31<>\"\",VLOOKUP(W31,$A$8:$C$107,2,FALSE),\"\")","v":""},{"$f":"IF(W31<>\"\",IF(W31=$A31,\"ERR\",IF(OR(W31=$P31,W31=$I31,W31=$AD31,W31=$AK31),\"DUP\",IF(ISNA(VLOOKUP(W31,$A$8:$A$107,1,FALSE)),\"ERR\",IF(COUNTIF($I$8:$I$107,W31)>1,\"ERR\",IF($D31=VLOOKUP(W31,$A$8:$D$107,4,FALSE),\"CLUB\",\"OK\"))))),\"\")","v":""},null,{"$f":"IF(Z31<>\"\",IF(Z31=\"Victoire\",IF(VLOOKUP(W31,$A$8:$AO$107,26,FALSE)=\"Défaite\",\"OK\",\"ERR\"),IF(Z31=\"Défaite\",IF(VLOOKUP(W31,$A$8:$AO$107,26,FALSE)=\"Victoire\",\"OK\",\"ERR\"),IF(Z31=\"Nul\",IF(VLOOKUP(W31,$A$8:$AO$107,26,FALSE)=\"Nul\",\"OK\",\"ERR\")))),\"\")","v":""},null,{"$f":"IF(Z31=\"Victoire\",100-ROUNDDOWN(20*AB31/$H31,0),\nIF(Z31=\"Défaite\",10+ROUNDDOWN(20*VLOOKUP(W31,$A$8:$AO$107,28,FALSE)/VLOOKUP(W31,$A$8:$H$107,8,FALSE),0),\nIF(AND(Z31=\"Nul\",$AB31<>$H31),40+(2*ROUNDDOWN(10*VLOOKUP(W31,$A$8:$AO$107,28,FALSE)/VLOOKUP(W31,$A$8:$H$107,8,FALSE),0)-ROUNDDOWN(10*AB31/$H31,0)),IF(AND(Z31=\"Nul\",$AB31=$H31),58,0))))","v":0},null,{"$f":"IF(AD31<>\"\",VLOOKUP(AD31,$A$8:$C$107,2,FALSE),\"\")","v":""},{"$f":"IF(AD31<>\"\",IF(AD31=$A31,\"ERR\",IF(OR(AD31=$P31,AD31=$W31,AD31=$I31,AD31=$AK31),\"DUP\",IF(ISNA(VLOOKUP(AD31,$A$8:$A$107,1,FALSE)),\"ERR\",IF(COUNTIF($I$8:$I$107,AD31)>1,\"ERR\",IF($D31=VLOOKUP(AD31,$A$8:$D$107,4,FALSE),\"CLUB\",\"OK\"))))),\"\")","v":""},null,{"$f":"IF(AG31<>\"\",IF(AG31=\"Victoire\",IF(VLOOKUP(AD31,$A$8:$AO$107,33,FALSE)=\"Défaite\",\"OK\",\"ERR\"),IF(AG31=\"Défaite\",IF(VLOOKUP(AD31,$A$8:$AO$107,33,FALSE)=\"Victoire\",\"OK\",\"ERR\"),IF(AG31=\"Nul\",IF(VLOOKUP(AD31,$A$8:$AO$107,33,FALSE)=\"Nul\",\"OK\",\"ERR\")))),\"\")","v":""},null,{"$f":"IF(AG31=\"Victoire\",100-ROUNDDOWN(20*AI31/$H31,0),\nIF(AG31=\"Défaite\",10+ROUNDDOWN(20*VLOOKUP(AD31,$A$8:$AO$107,35,FALSE)/VLOOKUP(AD31,$A$8:$H$107,8,FALSE),0),\nIF(AND(AG31=\"Nul\",$AI31<>$H31),40+(2*ROUNDDOWN(10*VLOOKUP(AD31,$A$8:$AO$107,35,FALSE)/VLOOKUP(AD31,$A$8:$H$107,8,FALSE),0)-ROUNDDOWN(10*AI31/$H31,0)),IF(AND(AG31=\"Nul\",$AI31=$H31),58,0))))","v":0},null,{"$f":"IF(AK31<>\"\",VLOOKUP(AK31,$A$8:$C$107,2,FALSE),\"\")","v":""},{"$f":"IF(AK31<>\"\",IF(AK31=$A31,\"ERR\",IF(OR(AK31=$P31,AK31=$W31,AK31=$AD31,AK31=$I31),\"DUP\",IF(ISNA(VLOOKUP(AK31,$A$8:$A$107,1,FALSE)),\"ERR\",IF(COUNTIF($I$8:$I$107,AK31)>1,\"ERR\",IF($D31=VLOOKUP(AK31,$A$8:$D$107,4,FALSE),\"CLUB\",\"OK\"))))),\"\")","v":""},null,{"$f":"IF(AN31<>\"\",IF(AN31=\"Victoire\",IF(VLOOKUP(AK31,$A$8:$AO$107,40,FALSE)=\"Défaite\",\"OK\",\"ERR\"),IF(AN31=\"Défaite\",IF(VLOOKUP(AK31,$A$8:$AO$107,40,FALSE)=\"Victoire\",\"OK\",\"ERR\"),IF(AN31=\"Nul\",IF(VLOOKUP(AK31,$A$8:$AO$107,40,FALSE)=\"Nul\",\"OK\",\"ERR\")))),\"\")","v":""},null,{"$f":"IF(AN31=\"Victoire\",100-ROUNDDOWN(20*AP31/$H31,0),\nIF(AN31=\"Défaite\",10+ROUNDDOWN(20*VLOOKUP(AK31,$A$8:$CB$107,42,FALSE)/VLOOKUP(AK31,$A$8:$H$107,8,FALSE),0),\nIF(AND(AN31=\"Nul\",$AP31<>$H31),40+(2*ROUNDDOWN(10*VLOOKUP(AK31,$A$8:$CB$107,42,FALSE)/VLOOKUP(AK31,$A$8:$H$107,8,FALSE),0)-ROUNDDOWN(10*AP31/$H31,0)),IF(AND(AN31=\"Nul\",$AP31=$H31),58,0))))","v":0},null,{"$f":"IF(AR31<>\"\",VLOOKUP(AR31,$A$8:$C$107,2,FALSE),\"\")","v":""},{"$f":"IF(AR31<>\"\",IF(AR31=$A31,\"ERR\",IF(OR(AR31=$I31,AR31=$P31,AR31=$W31,AR31=$AD31,AR31=$AK31),\"DUP\",IF(ISNA(VLOOKUP(AR31,$A$8:$A$107,1,FALSE)),\"ERR\",IF(COUNTIF($I$8:$I$107,AR31)>1,\"ERR\",IF($D31=VLOOKUP(AR31,$A$8:$D$107,4,FALSE),\"CLUB\",\"OK\"))))),\"\")","v":""},null,{"$f":"IF(AU31<>\"\",IF(AU31=\"Victoire\",IF(VLOOKUP(AR31,$A$8:$BL$107,47,FALSE)=\"Défaite\",\"OK\",\"ERR\"),IF(AU31=\"Défaite\",IF(VLOOKUP(AR31,$A$8:$BL$107,47,FALSE)=\"Victoire\",\"OK\",\"ERR\"),IF(AU31=\"Nul\",IF(VLOOKUP(AR31,$A$8:$BL$107,47,FALSE)=\"Nul\",\"OK\",\"ERR\")))),\"\")","v":""},null,{"$f":"IF(AU31=\"Victoire\",100-ROUNDDOWN(20*AW31/$H31,0),\nIF(AU31=\"Défaite\",10+ROUNDDOWN(20*VLOOKUP(AR31,$A$8:$CB$107,49,FALSE)/VLOOKUP(AR31,$A$8:$H$107,8,FALSE),0),\nIF(AND(AU31=\"Nul\",$AW31<>$H31),40+(2*ROUNDDOWN(10*VLOOKUP(AR31,$A$8:$CB$107,49,FALSE)/VLOOKUP(AR31,$A$8:$H$107,8,FALSE),0)-ROUNDDOWN(10*AW31/$H31,0)),IF(AND(AU31=\"Nul\",$AW31=$H31),58,0))))","v":0},null,{"$f":"IF(AY31<>\"\",VLOOKUP(AY31,$A$8:$C$107,2,FALSE),\"\")","v":""},{"$f":"IF(AY31<>\"\",IF(AY31=$A31,\"ERR\",IF(OR(AY31=$I31,AY31=$P31,AY31=$W31,AY31=$AD31,AY31=$AK31,AY31=$AR31),\"DUP\",IF(ISNA(VLOOKUP(AY31,$A$8:$A$107,1,FALSE)),\"ERR\",IF(COUNTIF($I$8:$I$107,AY31)>1,\"ERR\",IF($D31=VLOOKUP(AY31,$A$8:$D$107,4,FALSE),\"CLUB\",\"OK\"))))),\"\")","v":""},null,{"$f":"IF(BB31<>\"\",IF(BB31=\"Victoire\",IF(VLOOKUP(AY31,$A$8:$BL$107,54,FALSE)=\"Défaite\",\"OK\",\"ERR\"),IF(BB31=\"Défaite\",IF(VLOOKUP(AY31,$A$8:$BL$107,54,FALSE)=\"Victoire\",\"OK\",\"ERR\"),IF(BB31=\"Nul\",IF(VLOOKUP(AY31,$A$8:$BL$107,54,FALSE)=\"Nul\",\"OK\",\"ERR\")))),\"\")","v":""},null,{"$f":"IF(BB31=\"Victoire\",100-ROUNDDOWN(20*BD31/$H31,0),\nIF(BB31=\"Défaite\",10+ROUNDDOWN(20*VLOOKUP(AY31,$A$8:$CB$107,56,FALSE)/VLOOKUP(AY31,$A$8:$H$107,8,FALSE),0),\nIF(AND(BB31=\"Nul\",$BD31<>$H31),40+(2*ROUNDDOWN(10*VLOOKUP(AY31,$A$8:$CB$107,56,FALSE)/VLOOKUP(AY31,$A$8:$H$107,8,FALSE),0)-ROUNDDOWN(10*BD31/$H31,0)),IF(AND(BB31=\"Nul\",$BD31=$H31),58,0))))","v":0},null,{"$f":"IF(BF31<>\"\",VLOOKUP(BF31,$A$8:$C$107,2,FALSE),\"\")","v":""},{"$f":"IF(BF31<>\"\",IF(BF31=$A31,\"ERR\",IF(OR(BF31=$I31,BF31=$P31,BF31=$W31,BF31=$AD31,BF31=$AK31,BF31=$AR31,BF31=$AY31),\"DUP\",IF(ISNA(VLOOKUP(BF31,$A$8:$A$107,1,FALSE)),\"ERR\",IF(COUNTIF($I$8:$I$107,BF31)>1,\"ERR\",IF($D31=VLOOKUP(BF31,$A$8:$D$107,4,FALSE),\"CLUB\",\"OK\"))))),\"\")","v":""},null,{"$f":"IF(BI31<>\"\",IF(BI31=\"Victoire\",IF(VLOOKUP(BF31,$A$8:$BL$107,61,FALSE)=\"Défaite\",\"OK\",\"ERR\"),IF(BI31=\"Défaite\",IF(VLOOKUP(BF31,$A$8:$BL$107,61,FALSE)=\"Victoire\",\"OK\",\"ERR\"),IF(BI31=\"Nul\",IF(VLOOKUP(BF31,$A$8:$BL$107,61,FALSE)=\"Nul\",\"OK\",\"ERR\")))),\"\")","v":""},null,{"$f":"IF(BI31=\"Victoire\",100-ROUNDDOWN(20*BK31/$H31,0),\nIF(BI31=\"Défaite\",10+ROUNDDOWN(20*VLOOKUP(BF31,$A$8:$CB$107,63,FALSE)/VLOOKUP(BF31,$A$8:$H$107,8,FALSE),0),\nIF(AND(BI31=\"Nul\",$BK31<>$H31),40+(2*ROUNDDOWN(10*VLOOKUP(BF31,$A$8:$CB$107,63,FALSE)/VLOOKUP(BF31,$A$8:$H$107,8,FALSE),0)-ROUNDDOWN(10*BK31/$H31,0)),IF(AND(BI31=\"Nul\",$BK31=$H31),58,0))))","v":0},null,{"$f":"IF(BM31<>\"\",VLOOKUP(BM31,$A$8:$C$107,2,FALSE),\"\")","v":""},{"$f":"IF(BM31<>\"\",IF(BM31=$A31,\"ERR\",IF(OR(BM31=$I31,BM31=$P31,BM31=$W31,BM31=$AD31,BM31=$AK31,BM31=$AR31,BM31=$AY31,BM31=$BF31),\"DUP\",IF(ISNA(VLOOKUP(BM31,$A$8:$A$107,1,FALSE)),\"ERR\",IF(COUNTIF($I$8:$I$107,BM31)>1,\"ERR\",IF($D31=VLOOKUP(BM31,$A$8:$D$107,4,FALSE),\"CLUB\",\"OK\"))))),\"\")","v":""},null,{"$f":"IF(BP31<>\"\",IF(BP31=\"Victoire\",IF(VLOOKUP(BM31,$A$8:$BS$107,68,FALSE)=\"Défaite\",\"OK\",\"ERR\"),IF(BP31=\"Défaite\",IF(VLOOKUP(BM31,$A$8:$BS$107,68,FALSE)=\"Victoire\",\"OK\",\"ERR\"),IF(BP31=\"Nul\",IF(VLOOKUP(BM31,$A$8:$BS$107,68,FALSE)=\"Nul\",\"OK\",\"ERR\")))),\"\")","v":""},null,{"$f":"IF(BP31=\"Victoire\",100-ROUNDDOWN(20*BR31/$H31,0),\nIF(BP31=\"Défaite\",10+ROUNDDOWN(20*VLOOKUP(BM31,$A$8:$CB$107,70,FALSE)/VLOOKUP(BM31,$A$8:$H$107,8,FALSE),0),\nIF(AND(BP31=\"Nul\",$BR31<>$H31),40+(2*ROUNDDOWN(10*VLOOKUP(BM31,$A$8:$CB$107,70,FALSE)/VLOOKUP(BM31,$A$8:$H$107,8,FALSE),0)-ROUNDDOWN(10*BR31/$H31,0)),IF(AND(BP31=\"Nul\",$BR31=$H31),58,0))))","v":0},null,{"$f":"IF($I31<>\"\",VLOOKUP($I31,$A$8:$N$107,5,FALSE),0)+IF($P31<>\"\",VLOOKUP($P31,$A$8:$N$107,5,FALSE),0)+IF($W31<>\"\",VLOOKUP($W31,$A$8:$N$107,5,FALSE),0)+IF($AD31<>\"\",VLOOKUP($AD31,$A$8:$N$107,5,FALSE),0)+IF($AK31<>\"\",VLOOKUP($AK31,$A$8:$N$107,5,FALSE),0)+IF($AR31<>\"\",VLOOKUP($AR31,$A$8:$N$107,5,FALSE),0)+IF($AY31<>\"\",VLOOKUP($AY31,$A$8:$N$107,5,FALSE),0)+IF($BF31<>\"\",VLOOKUP($BF31,$A$8:$N$107,5,FALSE),0)+IF($BM31<>\"\",VLOOKUP($BM31,$A$8:$N$107,5,FALSE),0)","v":0}]
[{"$nulls":4},0,null,{"$f":"IF($F32<>\"\",VLOOKUP(F32,Armies!$A$1:$C$300,3,FALSE),\"\")","v":""},null,null,{"$f":"IF(I32<>\"\",VLOOKUP(I32,$A$8:$C$107,2,FALSE),\"\")","v":""},{"$f":"IF(I32<>\"\",IF(I32=$A32,\"ERR\",IF(OR(I32=$P32,I32=$W32,I32=$AD32,I32=$AK32),\"DUP\",IF(ISNA(VLOOKUP(I32,$A$8:$A$107,1,FALSE)),\"ERR\",IF(COUNTIF($I$8:$I$107,I32)>1,\"ERR\",IF($D32=VLOOKUP(I32,$A$8:$D$107,4,FALSE),\"CLUB\",\"OK\"))))),\"\")","v":""},null,{"$f":"IF(L32<>\"\",IF(L32=\"Victoire\",IF(VLOOKUP(I32,$A$8:$L$107,12,FALSE)=\"Défaite\",\"OK\",\"ERR\"),IF(L32=\"Défaite\",IF(VLOOKUP(I32,$A$8:$L$107,12,FALSE)=\"Victoire\",\"OK\",\"ERR\"),IF(L32=\"Nul\",IF(VLOOKUP(I32,$A$8:$L$107,12,FALSE)=\"Nul\",\"OK\",\"ERR\")))),\"\")","v":""},null,{"$f":"IF(L32=\"Victoire\",100-ROUNDDOWN(20*N32/$H32,0),\nIF(L32=\"Défaite\",10+ROUNDDOWN(20*VLOOKUP(I32,$A$8:$N$107,14,FALSE)/VLOOKUP(I32,$A$8:$H$107,8,FALSE),0),\nIF(AND(L32=\"Nul\",$N32<>$H32),40+(2*ROUNDDOWN(10*VLOOKUP(I32,$A$8:$N$107,14,FALSE)/VLOOKUP(I32,$A$8:$H$107,8,FALSE),0)-ROUNDDOWN(10*N32/$H32,0)),IF(AND(L32=\"Nul\",$N32=$H32),58,0))))","v":0},null,{"$f":"IF(P32<>\"\",VLOOKUP(P32,$A$8:$C$107,2,FALSE),\"\")","v":""},{"$f":"IF(P32<>\"\",IF(P32=$A32,\"ERR\",IF(OR(P32=$I32,P32=$W32,P32=$AD32,P32=$AK32),\"DUP\",IF(ISNA(VLOOKUP(P32,$A$8:$A$107,1,FALSE)),\"ERR\",IF(COUNTIF($I$8:$I$107,P32)>1,\"ERR\",IF($D32=VLOOKUP(P32,$A$8:$D$107,4,FALSE),\"CLUB\",\"OK\"))))),\"\")","v":""},null,{"$f":"IF(S32<>\"\",IF(S32=\"Victoire\",IF(VLOOKUP(P32,$A$8:$AO$107,19,FALSE)=\"Défaite\",\"OK\",\"ERR\"),IF(S32=\"Défaite\",IF(VLOOKUP(P32,$A$8:$AO$107,19,FALSE)=\"Victoire\",\"OK\",\"ERR\"),IF(S32=\"Nul\",IF(VLOOKUP(P32,$A$8:$AO$107,19,FALSE)=\"Nul\",\"OK\",\"ERR\")))),\"\")","v":""},null,{"$f":"IF(S32=\"Victoire\",100-ROUNDDOWN(20*U32/$H32,0),\nIF(S32=\"Défaite\",10+ROUNDDOWN(20*VLOOKUP(P32,$A$8:$AO$107,21,FALSE)/VLOOKUP(P32,$A$8:$H$107,8,FALSE),0),\nIF(AND(S32=\"Nul\",$U32<>$H32),40+(2*ROUNDDOWN(10*VLOOKUP(P32,$A$8:$AO$107,21,FALSE)/VLOOKUP(P32,$A$8:$H$107,8,FALSE),0)-ROUNDDOWN(10*U32/$H32,0)),IF(AND(S32=\"Nul\",$U32=$H32),58,0))))","v":0},null,{"$f":"IF(W32<>\"\",VLOOKUP(W32,$A$8:$C$107,2,FALSE),\"\")","v":""},{"$f":"IF(W32<>\"\",IF(W32=$A32,\"ERR\",IF(OR(W32=$P32,W32=$I32,W32=$AD32,W32=$AK32),\"DUP\",IF(ISNA(VLOOKUP(W32,$A$8:$A$107,1,FALSE)),\"ERR\",IF(COUNTIF($I$8:$I$107,W32)>1,\"ERR\",IF($D32=VLOOKUP(W32,$A$8:$D$107,4,FALSE),\"CLUB\",\"OK\"))))),\"\")","v":""},null,{"$f":"IF(Z32<>\"\",IF(Z32=\"Victoire\",IF(VLOOKUP(W32,$A$8:$AO$107,26,FALSE)=\"Défaite\",\"OK\",\"ERR\"),IF(Z32=\"Défaite\",IF(VLOOKUP(W32,$A$8:$AO$107,26,FALSE)=\"Victoire\",\"OK\",\"ERR\"),IF(Z32=\"Nul\",IF(VLOOKUP(W32,$A$8:$AO$107,26,FALSE)=\"Nul\",\"OK\",\"ERR\")))),\"\")","v":""},null,{"$f":"IF(Z32=\"Victoire\",100-ROUNDDOWN(20*AB32/$H32,0),\nIF(Z32=\"Défaite\",10+ROUNDDOWN(20*VLOOKUP(W32,$A$8:$AO$107,28,FALSE)/VLOOKUP(W32,$A$8:$H$107,8,FALSE),0),\nIF(AND(Z32=\"Nul\",$AB32<>$H32),40+(2*ROUNDDOWN(10*VLOOKUP(W32,$A$8:$AO$107,28,FALSE)/VLOOKUP(W32,$A$8:$H$107,8,FALSE),0)-ROUNDDOWN(10*AB32/$H32,0)),IF(AND(Z32=\"Nul\",$AB32=$H32),58,0))))","v":0},null,{"$f":"IF(AD32<>\"\",VLOOKUP(AD32,$A$8:$C$107,2,FALSE),\"\")","v":""},{"$f":"IF(AD32<>\"\",IF(AD32=$A32,\"ERR\",IF(OR(AD32=$P32,AD32=$W32,AD32=$I32,AD32=$AK32),\"DUP\",IF(ISNA(VLOOKUP(AD32,$A$8:$A$107,1,FALSE)),\"ERR\",IF(COUNTIF($I$8:$I$107,AD32)>1,\"ERR\",IF($D32=VLOOKUP(AD32,$A$8:$D$107,4,FALSE),\"CLUB\",\"OK\"))))),\"\")","v":""},null,{"$f":"IF(AG32<>\"\",IF(AG32=\"Victoire\",IF(VLOOKUP(AD32,$A$8:$AO$107,33,FALSE)=\"Défaite\",\"OK\",\"ERR\"),IF(AG32=\"Défaite\",IF(VLOOKUP(AD32,$A$8:$AO$107,33,FALSE)=\"Victoire\",\"OK\",\"ERR\"),IF(AG32=\"Nul\",IF(VLOOKUP(AD32,$A$8:$AO$107,33,FALSE)=\"Nul\",\"OK\",\"ERR\")))),\"\")","v":""},null,{"$f":"IF(AG32=\"Victoire\",100-ROUNDDOWN(20*AI32/$H32,0),\nIF(AG32=\"Défaite\",10+ROUNDDOWN(20*VLOOKUP(AD32,$A$8:$AO$107,35,FALSE)/VLOOKUP(AD32,$A$8:$H$107,8,FALSE),0),\nIF(AND(AG32=\"Nul\",$AI32<>$H32),40+(2*ROUNDDOWN(10*VLOOKUP(AD32,$A$8:$AO$107,35,FALSE)/VLOOKUP(AD32,$A$8:$H$107,8,FALSE),0)-ROUNDDOWN(10*AI32/$H32,0)),IF(AND(AG32=\"Nul\",$AI32=$H32),58,0))))","v":0},null,{"$f":"IF(AK32<>\"\",VLOOKUP(AK32,$A$8:$C$107,2,FALSE),\"\")","v":""},{"$f":"IF(AK32<>\"\",IF(AK32=$A32,\"ERR\",IF(OR(AK32=$P32,AK32=$W32,AK32=$AD32,AK32=$I32),\"DUP\",IF(ISNA(VLOOKUP(AK32,$A$8:$A$107,1,FALSE)),\"ERR\",IF(COUNTIF($I$8:$I$107,AK32)>1,\"ERR\",IF($D32=VLOOKUP(AK32,$A$8:$D$107,4,FALSE),\"CLUB\",\"OK\"))))),\"\")","v":""},null,{"$f":"IF(AN32<>\"\",IF(AN32=\"Victoire\",IF(VLOOKUP(AK32,$A$8:$AO$107,40,FALSE)=\"Défaite\",\"OK\",\"ERR\"),IF(AN32=\"Défaite\",IF(VLOOKUP(AK32,$A$8:$AO$107,40,FALSE)=\"Victoire\",\"OK\",\"ERR\"),IF(AN32=\"Nul\",IF(VLOOKUP(AK32,$A$8:$AO$107,40,FALSE)=\"Nul\",\"OK\",\"ERR\")))),\"\")","v":""},null,{"$f":"IF(AN32=\"Victoire\",100-ROUNDDOWN(20*AP32/$H32,0),\nIF(AN32=\"Défaite\",10+ROUNDDOWN(20*VLOOKUP(AK32,$A$8:$CB$107,42,FALSE)/VLOOKUP(AK32,$A$8:$H$107,8,FALSE),0),\nIF(AND(AN32=\"Nul\",$AP32<>$H32),40+(2*ROUNDDOWN(10*VLOOKUP(AK32,$A$8:$CB$107,42,FALSE)/VLOOKUP(AK32,$A$8:$H$107,8,FALSE),0)-ROUNDDOWN(10*AP32/$H32,0)),IF(AND(AN32=\"Nul\",$AP32=$H32),58,0))))","v":0},null,{"$f":"IF(AR32<>\"\",VLOOKUP(AR32,$A$8:$C$107,2,FALSE),\"\")","v":""},{"$f":"IF(AR32<>\"\",IF(AR32=$A32,\"ERR\",IF(OR(AR32=$I32,AR32=$P32,AR32=$W32,AR32=$AD32,AR32=$AK32),\"DUP\",IF(ISNA(VLOOKUP(AR32,$A$8:$A$107,1,FALSE)),\"ERR\",IF(COUNTIF($I$8:$I$107,AR32)>1,\"ERR\",IF($D32=VLOOKUP(AR32,$A$8:$D$107,4,FALSE),\"CLUB\",\"OK\"))))),\"\")","v":""},null,{"$f":"IF(AU32<>\"\",IF(AU32=\"Victoire\",IF(VLOOKUP(AR32,$A$8:$BL$107,47,FALSE)=\"Défaite\",\"OK\",\"ERR\"),IF(AU32=\"Défaite\",IF(VLOOKUP(AR32,$A$8:$BL$107,47,FALSE)=\"Victoire\",\"OK\",\"ERR\"),IF(AU32=\"Nul\",IF(VLOOKUP(AR32,$A$8:$BL$107,47,FALSE)=\"Nul\",\"OK\",\"ERR\")))),\"\")","v":""},null,{"$f":"IF(AU32=\"Victoire\",100-ROUNDDOWN(20*AW32/$H32,0),\nIF(AU32=\"Défaite\",10+ROUNDDOWN(20*VLOOKUP(AR32,$A$8:$CB$107,49,FALSE)/VLOOKUP(AR32,$A$8:$H$107,8,FALSE),0),\nIF(AND(AU32=\"Nul\",$AW32<>$H32),40+(2*ROUNDDOWN(10*VLOOKUP(AR32,$A$8:$CB$107,49,FALSE)/VLOOKUP(AR32,$A$8:$H$107,8,FALSE),0)-ROUNDDOWN(10*AW32/$H32,0)),IF(AND(AU32=\"Nul\",$AW32=$H32),58,0))))","v":0},null,{"$f":"IF(AY32<>\"\",VLOOKUP(AY32,$A$8:$C$107,2,FALSE),\"\")","v":""},{"$f":"IF(AY32<>\"\",IF(AY32=$A32,\"ERR\",IF(OR(AY32=$I32,AY32=$P32,AY32=$W32,AY32=$AD32,AY32=$AK32,AY32=$AR32),\"DUP\",IF(ISNA(VLOOKUP(AY32,$A$8:$A$107,1,FALSE)),\"ERR\",IF(COUNTIF($I$8:$I$107,AY32)>1,\"ERR\",IF($D32=VLOOKUP(AY32,$A$8:$D$107,4,FALSE),\"CLUB\",\"OK\"))))),\"\")","v":""},null,{"$f":"IF(BB32<>\"\",IF(BB32=\"Victoire\",IF(VLOOKUP(AY32,$A$8:$BL$107,54,FALSE)=\"Défaite\",\"OK\",\"ERR\"),IF(BB32=\"Défaite\",IF(VLOOKUP(AY32,$A$8:$BL$107,54,FALSE)=\"Victoire\",\"OK\",\"ERR\"),IF(BB32=\"Nul\",IF(VLOOKUP(AY32,$A$8:$BL$107,54,FALSE)=\"Nul\",\"OK\",\"ERR\")))),\"\")","v":""},null,{"$f":"IF(BB32=\"Victoire\",100-ROUNDDOWN(20*BD32/$H32,0),\nIF(BB32=\"Défaite\",10+ROUNDDOWN(20*VLOOKUP(AY32,$A$8:$CB$107,56,FALSE)/VLOOKUP(AY32,$A$8:$H$107,8,FALSE),0),\nIF(AND(BB32=\"Nul\",$BD32<>$H32),40+(2*ROUNDDOWN(10*VLOOKUP(AY32,$A$8:$CB$107,56,FALSE)/VLOOKUP(AY32,$A$8:$H$107,8,FALSE),0)-ROUNDDOWN(10*BD32/$H32,0)),IF(AND(BB32=\"Nul\",$BD32=$H32),58,0))))","v":0},null,{"$f":"IF(BF32<>\"\",VLOOKUP(BF32,$A$8:$C$107,2,FALSE),\"\")","v":""},{"$f":"IF(BF32<>\"\",IF(BF32=$A32,\"ERR\",IF(OR(BF32=$I32,BF32=$P32,BF32=$W32,BF32=$AD32,BF32=$AK32,BF32=$AR32,BF32=$AY32),\"DUP\",IF(ISNA(VLOOKUP(BF32,$A$8:$A$107,1,FALSE)),\"ERR\",IF(COUNTIF($I$8:$I$107,BF32)>1,\"ERR\",IF($D32=VLOOKUP(BF32,$A$8:$D$107,4,FALSE),\"CLUB\",\"OK\"))))),\"\")","v":""},null,{"$f":"IF(BI32<>\"\",IF(BI32=\"Victoire\",IF(VLOOKUP(BF32,$A$8:$BL$107,61,FALSE)=\"Défaite\",\"OK\",\"ERR\"),IF(BI32=\"Défaite\",IF(VLOOKUP(BF32,$A$8:$BL$107,61,FALSE)=\"Victoire\",\"OK\",\"ERR\"),IF(BI32=\"Nul\",IF(VLOOKUP(BF32,$A$8:$BL$107,61,FALSE)=\"Nul\",\"OK\",\"ERR\")))),\"\")","v":""},null,{"$f":"IF(BI32=\"Victoire\",100-ROUNDDOWN(20*BK32/$H32,0),\nIF(BI32=\"Défaite\",10+ROUNDDOWN(20*VLOOKUP(BF32,$A$8:$CB$107,63,FALSE)/VLOOKUP(BF32,$A$8:$H$107,8,FALSE),0),\nIF(AND(BI32=\"Nul\",$BK32<>$H32),40+(2*ROUNDDOWN(10*VLOOKUP(BF32,$A$8:$CB$107,63,FALSE)/VLOOKUP(BF32,$A$8:$H$107,8,FALSE),0)-ROUNDDOWN(10*BK32/$H32,0)),IF(AND(BI32=\"Nul\",$BK32=$H32),58,0))))","v":0},null,{"$f":"IF(BM32<>\"\",VLOOKUP(BM32,$A$8:$C$107,2,FALSE),\"\")","v":""},{"$f":"IF(BM32<>\"\",IF(BM32=$A32,\"ERR\",IF(OR(BM32=$I32,BM32=$P32,BM32=$W32,BM32=$AD32,BM32=$AK32,BM32=$AR32,BM32=$AY32,BM32=$BF32),\"DUP\",IF(ISNA(VLOOKUP(BM32,$A$8:$A$107,1,FALSE)),\"ERR\",IF(COUNTIF($I$8:$I$107,BM32)>1,\"ERR\",IF($D32=VLOOKUP(BM32,$A$8:$D$107,4,FALSE),\"CLUB\",\"OK\"))))),\"\")","v":""},null,{"$f":"IF(BP32<>\"\",IF(BP32=\"Victoire\",IF(VLOOKUP(BM32,$A$8:$BS$107,68,FALSE)=\"Défaite\",\"OK\",\"ERR\"),IF(BP32=\"Défaite\",IF(VLOOKUP(BM32,$A$8:$BS$107,68,FALSE)=\"Victoire\",\"OK\",\"ERR\"),IF(BP32=\"Nul\",IF(VLOOKUP(BM32,$A$8:$BS$107,68,FALSE)=\"Nul\",\"OK\",\"ERR\")))),\"\")","v":""},null,{"$f":"IF(BP32=\"Victoire\",100-ROUNDDOWN(20*BR32/$H32,0),\nIF(BP32=\"Défaite\",10+ROUNDDOWN(20*VLOOKUP(BM32,$A$8:$CB$107,70,FALSE)/VLOOKUP(BM32,$A$8:$H$107,8,FALSE),0),\nIF(AND(BP32=\"Nul\",$BR32<>$H32),40+(2*ROUNDDOWN(10*VLOOKUP(BM32,$A$8:$CB$107,70,FALSE)/VLOOKUP(BM32,$A$8:$H$107,8,FALSE),0)-ROUNDDOWN(10*BR32/$H32,0)),IF(AND(BP32=\"Nul\",$BR32=$H32),58,0))))","v":0},null,{"$f":"IF($I32<>\"\",VLOOKUP($I32,$A$8:$N$107,5,FALSE),0)+IF($P32<>\"\",VLOOKUP($P32,$A$8:$N$107,5,FALSE),0)+IF($W32<>\"\",VLOOKUP($W32,$A$8:$N$107,5,FALSE),0)+IF($AD32<>\"\",VLOOKUP($AD32,$A$8:$N$107,5,FALSE),0)+IF($AK32<>\"\",VLOOKUP($AK32,$A$8:$N$107,5,FALSE),0)+IF($AR32<>\"\",VLOOKUP($AR32,$A$8:$N$107,5,FALSE),0)+IF($AY32<>\"\",VLOOKUP($AY32,$A$8:$N$107,5,FALSE),0)+IF($BF32<>\"\",VLOOKUP($BF32,$A$8:$N$107,5,FALSE),0)+IF($BM32<>\"\",VLOOKUP($BM32,$A$8:$N$107,5,FALSE),0)","v":0}]
[{"$nulls":4},0,null,{"$f":"IF($F33<>\"\",VLOOKUP(F33,Armies!$A$1:$C$300,3,FALSE),\"\")","v":""},null,null,{"$f":"IF(I33<>\"\",VLOOKUP(I33,$A$8:$C$107,2,FALSE),\"\")","v":""},{"$f":"IF(I33<>\"\",IF(I33=$A33,\"ERR\",IF(OR(I33=$P33,I33=$W33,I33=$AD33,I33=$AK33),\"DUP\",IF(ISNA(VLOOKUP(I33,$A$8:$A$107,1,FALSE)),\"ERR\",IF(COUNTIF($I$8:$I$107,I33)>1,\"ERR\",IF($D33=VLOOKUP(I33,$A$8:$D$107,4,FALSE),\"CLUB\",\"OK\"))))),\"\")","v":""},null,{"$f":"IF(L33<>\"\",IF(L33=\"Victoire\",IF(VLOOKUP(I33,$A$8:$L$107,12,FALSE)=\"Défaite\",\"OK\",\"ERR\"),IF(L33=\"Défaite\",IF(VLOOKUP(I33,$A$8:$L$107,12,FALSE)=\"Victoire\",\"OK\",\"ERR\"),IF(L33=\"Nul\",IF(VLOOKUP(I33,$A$8:$L$107,12,FALSE)=\"Nul\",\"OK\",\"ERR\")))),\"\")","v":""},null,{"$f":"IF(L33=\"Victoire\",100-ROUNDDOWN(20*N33/$H33,0),\nIF(L33=\"Défaite\",10+ROUNDDOWN(20*VLOOKUP(I33,$A$8:$N$107,14,FALSE)/VLOOKUP(I33,$A$8:$H$107,8,FALSE),0),\nIF(AND(L33=\"Nul\",$N33<>$H33),40+(2*ROUNDDOWN(10*VLOOKUP(I33,$A$8:$N$107,14,FALSE)/VLOOKUP(I33,$A$8:$H$107,8,FALSE),0)-ROUNDDOWN(10*N33/$H33,0)),IF(AND(L33=\"Nul\",$N33=$H33),58,0))))","v":0},null,{"$f":"IF(P33<>\"\",VLOOKUP(P33,$A$8:$C$107,2,FALSE),\"\")","v":""},{"$f":"IF(P33<>\"\",IF(P33=$A33,\"ERR\",IF(OR(P33=$I33,P33=$W33,P33=$AD33,P33=$AK33),\"DUP\",IF(ISNA(VLOOKUP(P33,$A$8:$A$107,1,FALSE)),\"ERR\",IF(COUNTIF($I$8:$I$107,P33)>1,\"ERR\",IF($D33=VLOOKUP(P33,$A$8:$D$107,4,FALSE),\"CLUB\",\"OK\"))))),\"\")","v":""},null,{"$f":"IF(S33<>\"\",IF(S33=\"Victoire\",IF(VLOOKUP(P33,$A$8:$AO$107,19,FALSE)=\"Défaite\",\"OK\",\"ERR\"),IF(S33=\"Défaite\",IF(VLOOKUP(P33,$A$8:$AO$107,19,FALSE)=\"Victoire\",\"OK\",\"ERR\"),IF(S33=\"Nul\",IF(VLOOKUP(P33,$A$8:$AO$107,19,FALSE)=\"Nul\",\"OK\",\"ERR\")))),\"\")","v":""},null,{"$f":"IF(S33=\"Victoire\",100-ROUNDDOWN(20*U33/$H33,0),\nIF(S33=\"Défaite\",10+ROUNDDOWN(20*VLOOKUP(P33,$A$8:$AO$107,21,FALSE)/VLOOKUP(P33,$A$8:$H$107,8,FALSE),0),\nIF(AND(S33=\"Nul\",$U33<>$H33),40+(2*ROUNDDOWN(10*VLOOKUP(P33,$A$8:$AO$107,21,FALSE)/VLOOKUP(P33,$A$8:$H$107,8,FALSE),0)-ROUNDDOWN(10*U33/$H33,0)),IF(AND(S33=\"Nul\",$U33=$H33),58,0))))","v":0},null,{"$f":"IF(W33<>\"\",VLOOKUP(W33,$A$8:$C$107,2,FALSE),\"\")","v":""},{"$f":"IF(W33<>\"\",IF(W33=$A33,\"ERR\",IF(OR(W33=$P33,W33=$I33,W33=$AD33,W33=$AK33),\"DUP\",IF(ISNA(VLOOKUP(W33,$A$8:$A$107,1,FALSE)),\"ERR\",IF(COUNTIF($I$8:$I$107,W33)>1,\"ERR\",IF($D33=VLOOKUP(W33,$A$8:$D$107,4,FALSE),\"CLUB\",\"OK\"))))),\"\")","v":""},null,{"$f":"IF(Z33<>\"\",IF(Z33=\"Victoire\",IF(VLOOKUP(W33,$A$8:$AO$107,26,FALSE)=\"Défaite\",\"OK\",\"ERR\"),IF(Z33=\"Défaite\",IF(VLOOKUP(W33,$A$8:$AO$107,26,FALSE)=\"Victoire\",\"OK\",\"ERR\"),IF(Z33=\"Nul\",IF(VLOOKUP(W33,$A$8:$AO$107,26,FALSE)=\"Nul\",\"OK\",\"ERR\")))),\"\")","v":""},null,{"$f":"IF(Z33=\"Victoire\",100-ROUNDDOWN(20*AB33/$H33,0),\nIF(Z33=\"Défaite\",10+ROUNDDOWN(20*VLOOKUP(W33,$A$8:$AO$107,28,FALSE)/VLOOKUP(W33,$A$8:$H$107,8,FALSE),0),\nIF(AND(Z33=\"Nul\",$AB33<>$H33),40+(2*ROUNDDOWN(10*VLOOKUP(W33,$A$8:$AO$107,28,FALSE)/VLOOKUP(W33,$A$8:$H$107,8,FALSE),0)-ROUNDDOWN(10*AB33/$H33,0)),IF(AND(Z33=\"Nul\",$AB33=$H33),58,0))))","v":0},null,{"$f":"IF(AD33<>\"\",VLOOKUP(AD33,$A$8:$C$107,2,FALSE),\"\")","v":""},{"$f":"IF(AD33<>\"\",IF(AD33=$A33,\"ERR\",IF(OR(AD33=$P33,AD33=$W33,AD33=$I33,AD33=$AK33),\"DUP\",IF(ISNA(VLOOKUP(AD33,$A$8:$A$107,1,FALSE)),\"ERR\",IF(COUNTIF($I$8:$I$107,AD33)>1,\"ERR\",IF($D33=VLOOKUP(AD33,$A$8:$D$107,4,FALSE),\"CLUB\",\"OK\"))))),\"\")","v":""},null,{"$f":"IF(AG33<>\"\",IF(AG33=\"Victoire\",IF(VLOOKUP(AD33,$A$8:$AO$107,33,FALSE)=\"Défaite\",\"OK\",\"ERR\"),IF(AG33=\"Défaite\",IF(VLOOKUP(AD33,$A$8:$AO$107,33,FALSE)=\"Victoire\",\"OK\",\"ERR\"),IF(AG33=\"Nul\",IF(VLOOKUP(AD33,$A$8:$AO$107,33,FALSE)=\"Nul\",\"OK\",\"ERR\")))),\"\")","v":""},null,{"$f":"IF(AG33=\"Victoire\",100-ROUNDDOWN(20*AI33/$H33,0),\nIF(AG33=\"Défaite\",10+ROUNDDOWN(20*VLOOKUP(AD33,$A$8:$AO$107,35,FALSE)/VLOOKUP(AD33,$A$8:$H$107,8,FALSE),0),\nIF(AND(AG33=\"Nul\",$AI33<>$H33),40+(2*ROUNDDOWN(10*VLOOKUP(AD33,$A$8:$AO$107,35,FALSE)/VLOOKUP(AD33,$A$8:$H$107,8,FALSE),0)-ROUNDDOWN(10*AI33/$H33,0)),IF(AND(AG33=\"Nul\",$AI33=$H33),58,0))))","v":0},null,{"$f":"IF(AK33<>\"\",VLOOKUP(AK33,$A$8:$C$107,2,FALSE),\"\")","v":""},{"$f":"IF(AK33<>\"\",IF(AK33=$A33,\"ERR\",IF(OR(AK33=$P33,AK33=$W33,AK33=$AD33,AK33=$I33),\"DUP\",IF(ISNA(VLOOKUP(AK33,$A$8:$A$107,1,FALSE)),\"ERR\",IF(COUNTIF($I$8:$I$107,AK33)>1,\"ERR\",IF($D33=VLOOKUP(AK33,$A$8:$D$107,4,FALSE),\"CLUB\",\"OK\"))))),\"\")","v":""},null,{"$f":"IF(AN33<>\"\",IF(AN33=\"Victoire\",IF(VLOOKUP(AK33,$A$8:$AO$107,40,FALSE)=\"Défaite\",\"OK\",\"ERR\"),IF(AN33=\"Défaite\",IF(VLOOKUP(AK33,$A$8:$AO$107,40,FALSE)=\"Victoire\",\"OK\",\"ERR\"),IF(AN33=\"Nul\",IF(VLOOKUP(AK33,$A$8:$AO$107,40,FALSE)=\"Nul\",\"OK\",\"ERR\")))),\"\")","v":""},null,{"$f":"IF(AN33=\"Victoire\",100-ROUNDDOWN(20*AP33/$H33,0),\nIF(AN33=\"Défaite\",10+ROUNDDOWN(20*VLOOKUP(AK33,$A$8:$CB$107,42,FALSE)/VLOOKUP(AK33,$A$8:$H$107,8,FALSE),0),\nIF(AND(AN33=\"Nul\",$AP33<>$H33),40+(2*ROUNDDOWN(10*VLOOKUP(AK33,$A$8:$CB$107,42,FALSE)/VLOOKUP(AK33,$A$8:$H$107,8,FALSE),0)-ROUNDDOWN(10*AP33/$H33,0)),IF(AND(AN33=\"Nul\",$AP33=$H33),58,0))))","v":0},null,{"$f":"IF(AR33<>\"\",VLOOKUP(AR33,$A$8:$C$107,2,FALSE),\"\")","v":""},{"$f":"IF(AR33<>\"\",IF(AR33=$A33,\"ERR\",IF(OR(AR33=$I33,AR33=$P33,AR33=$W33,AR33=$AD33,AR33=$AK33),\"DUP\",IF(ISNA(VLOOKUP(AR33,$A$8:$A$107,1,FALSE)),\"ERR\",IF(COUNTIF($I$8:$I$107,AR33)>1,\"ERR\",IF($D33=VLOOKUP(AR33,$A$8:$D$107,4,FALSE),\"CLUB\",\"OK\"))))),\"\")","v":""},null,{"$f":"IF(AU33<>\"\",IF(AU33=\"Victoire\",IF(VLOOKUP(AR33,$A$8:$BL$107,47,FALSE)=\"Défaite\",\"OK\",\"ERR\"),IF(AU33=\"Défaite\",IF(VLOOKUP(AR33,$A$8:$BL$107,47,FALSE)=\"Victoire\",\"OK\",\"ERR\"),IF(AU33=\"Nul\",IF(VLOOKUP(AR33,$A$8:$BL$107,47,FALSE)=\"Nul\",\"OK\",\"ERR\")))),\"\")","v":""},null,{"$f":"IF(AU33=\"Victoire\",100-ROUNDDOWN(20*AW33/$H33,0),\nIF(AU33=\"Défaite\",10+ROUNDDOWN(20*VLOOKUP(AR33,$A$8:$CB$107,49,FALSE)/VLOOKUP(AR33,$A$8:$H$107,8,FALSE),0),\nIF(AND(AU33=\"Nul\",$AW33<>$H33),40+(2*ROUNDDOWN(10*VLOOKUP(AR33,$A$8:$CB$107,49,FALSE)/VLOOKUP(AR33,$A$8:$H$107,8,FALSE),0)-ROUNDDOWN(10*AW33/$H33,0)),IF(AND(AU33=\"Nul\",$AW33=$H33),58,0))))","v":0},null,{"$f":"IF(AY33<>\"\",VLOOKUP(AY33,$A$8:$C$107,2,FALSE),\"\")","v":""},{"$f":"IF(AY33<>\"\",IF(AY33=$A33,\"ERR\",IF(OR(AY33=$I33,AY33=$P33,AY33=$W33,AY33=$AD33,AY33=$AK33,AY33=$AR33),\"DUP\",IF(ISNA(VLOOKUP(AY33,$A$8:$A$107,1,FALSE)),\"ERR\",IF(COUNTIF($I$8:$I$107,AY33)>1,\"ERR\",IF($D33=VLOOKUP(AY33,$A$8:$D$107,4,FALSE),\"CLUB\",\"OK\"))))),\"\")","v":""},null,{"$f":"IF(BB33<>\"\",IF(BB33=\"Victoire\",IF(VLOOKUP(AY33,$A$8:$BL$107,54,FALSE)=\"Défaite\",\"OK\",\"ERR\"),IF(BB33=\"Défaite\",IF(VLOOKUP(AY33,$A$8:$BL$107,54,FALSE)=\"Victoire\",\"OK\",\"ERR\"),IF(BB33=\"Nul\",IF(VLOOKUP(AY33,$A$8:$BL$107,54,FALSE)=\"Nul\",\"OK\",\"ERR\")))),\"\")","v":""},null,{"$f":"IF(BB33=\"Victoire\",100-ROUNDDOWN(20*BD33/$H33,0),\nIF(BB33=\"Défaite\",10+ROUNDDOWN(20*VLOOKUP(AY33,$A$8:$CB$107,56,FALSE)/VLOOKUP(AY33,$A$8:$H$107,8,FALSE),0),\nIF(AND(BB33=\"Nul\",$BD33<>$H33),40+(2*ROUNDDOWN(10*VLOOKUP(AY33,$A$8:$CB$107,56,FALSE)/VLOOKUP(AY33,$A$8:$H$107,8,FALSE),0)-ROUNDDOWN(10*BD33/$H33,0)),IF(AND(BB33=\"Nul\",$BD33=$H33),58,0))))","v":0},null,{"$f":"IF(BF33<>\"\",VLOOKUP(BF33,$A$8:$C$107,2,FALSE),\"\")","v":""},{"$f":"IF(BF33<>\"\",IF(BF33=$A33,\"ERR\",IF(OR(BF33=$I33,BF33=$P33,BF33=$W33,BF33=$AD33,BF33=$AK33,BF33=$AR33,BF33=$AY33),\"DUP\",IF(ISNA(VLOOKUP(BF33,$A$8:$A$107,1,FALSE)),\"ERR\",IF(COUNTIF($I$8:$I$107,BF33)>1,\"ERR\",IF($D33=VLOOKUP(BF33,$A$8:$D$107,4,FALSE),\"CLUB\",\"OK\"))))),\"\")","v":""},null,{"$f":"IF(BI33<>\"\",IF(BI33=\"Victoire\",IF(VLOOKUP(BF33,$A$8:$BL$107,61,FALSE)=\"Défaite\",\"OK\",\"ERR\"),IF(BI33=\"Défaite\",IF(VLOOKUP(BF33,$A$8:$BL$107,61,FALSE)=\"Victoire\",\"OK\",\"ERR\"),IF(BI33=\"Nul\",IF(VLOOKUP(BF33,$A$8:$BL$107,61,FALSE)=\"Nul\",\"OK\",\"ERR\")))),\"\")","v":""},null,{"$f":"IF(BI33=\"Victoire\",100-ROUNDDOWN(20*BK33/$H33,0),\nIF(BI33=\"Défaite\",10+ROUNDDOWN(20*VLOOKUP(BF33,$A$8:$CB$107,63,FALSE)/VLOOKUP(BF33,$A$8:$H$107,8,FALSE),0),\nIF(AND(BI33=\"Nul\",$BK33<>$H33),40+(2*ROUNDDOWN(10*VLOOKUP(BF33,$A$8:$CB$107,63,FALSE)/VLOOKUP(BF33,$A$8:$H$107,8,FALSE),0)-ROUNDDOWN(10*BK33/$H33,0)),IF(AND(BI33=\"Nul\",$BK33=$H33),58,0))))","v":0},null,{"$f":"IF(BM33<>\"\",VLOOKUP(BM33,$A$8:$C$107,2,FALSE),\"\")","v":""},{"$f":"IF(BM33<>\"\",IF(BM33=$A33,\"ERR\",IF(OR(BM33=$I33,BM33=$P33,BM33=$W33,BM33=$AD33,BM33=$AK33,BM33=$AR33,BM33=$AY33,BM33=$BF33),\"DUP\",IF(ISNA(VLOOKUP(BM33,$A$8:$A$107,1,FALSE)),\"ERR\",IF(COUNTIF($I$8:$I$107,BM33)>1,\"ERR\",IF($D33=VLOOKUP(BM33,$A$8:$D$107,4,FALSE),\"CLUB\",\"OK\"))))),\"\")","v":""},null,{"$f":"IF(BP33<>\"\",IF(BP33=\"Victoire\",IF(VLOOKUP(BM33,$A$8:$BS$107,68,FALSE)=\"Défaite\",\"OK\",\"ERR\"),IF(BP33=\"Défaite\",IF(VLOOKUP(BM33,$A$8:$BS$107,68,FALSE)=\"Victoire\",\"OK\",\"ERR\"),IF(BP33=\"Nul\",IF(VLOOKUP(BM33,$A$8:$BS$107,68,FALSE)=\"Nul\",\"OK\",\"ERR\")))),\"\")","v":""},null,{"$f":"IF(BP33=\"Victoire\",100-ROUNDDOWN(20*BR33/$H33,0),\nIF(BP33=\"Défaite\",10+ROUNDDOWN(20*VLOOKUP(BM33,$A$8:$CB$107,70,FALSE)/VLOOKUP(BM33,$A$8:$H$107,8,FALSE),0),\nIF(AND(BP33=\"Nul\",$BR33<>$H33),40+(2*ROUNDDOWN(10*VLOOKUP(BM33,$A$8:$CB$107,70,FALSE)/VLOOKUP(BM33,$A$8:$H$107,8,FALSE),0)-ROUNDDOWN(10*BR33/$H33,0)),IF(AND(BP33=\"Nul\",$BR33=$H33),58,0))))","v":0},null,{"$f":"IF($I33<>\"\",VLOOKUP($I33,$A$8:$N$107,5,FALSE),0)+IF($P33<>\"\",VLOOKUP($P33,$A$8:$N$107,5,FALSE),0)+IF($W33<>\"\",VLOOKUP($W33,$A$8:$N$107,5,FALSE),0)+IF($AD33<>\"\",VLOOKUP($AD33,$A$8:$N$107,5,FALSE),0)+IF($AK33<>\"\",VLOOKUP($AK33,$A$8:$N$107,5,FALSE),0)+IF($AR33<>\"\",VLOOKUP($AR33,$A$8:$N$107,5,FALSE),0)+IF($AY33<>\"\",VLOOKUP($AY33,$A$8:$N$107,5,FALSE),0)+IF($BF33<>\"\",VLOOKUP($BF33,$A$8:$N$107,5,FALSE),0)+IF($BM33<>\"\",VLOOKUP($BM33,$A$8:$N$107,5,FALSE),0)","v":0}]
[{"$nulls":4},0,null,{"$f":"IF($F34<>\"\",VLOOKUP(F34,Armies!$A$1:$C$300,3,FALSE),\"\")","v":""},null,null,{"$f":"IF(I34<>\"\",VLOOKUP(I34,$A$8:$C$107,2,FALSE),\"\")","v":""},{"$f":"IF(I34<>\"\",IF(I34=$A34,\"ERR\",IF(OR(I34=$P34,I34=$W34,I34=$AD34,I34=$AK34),\"DUP\",IF(ISNA(VLOOKUP(I34,$A$8:$A$107,1,FALSE)),\"ERR\",IF(COUNTIF($I$8:$I$107,I34)>1,\"ERR\",IF($D34=VLOOKUP(I34,$A$8:$D$107,4,FALSE),\"CLUB\",\"OK\"))))),\"\")","v":""},null,{"$f":"IF(L34<>\"\",IF(L34=\"Victoire\",IF(VLOOKUP(I34,$A$8:$L$107,12,FALSE)=\"Défaite\",\"OK\",\"ERR\"),IF(L34=\"Défaite\",IF(VLOOKUP(I34,$A$8:$L$107,12,FALSE)=\"Victoire\",\"OK\",\"ERR\"),IF(L34=\"Nul\",IF(VLOOKUP(I34,$A$8:$L$107,12,FALSE)=\"Nul\",\"OK\",\"ERR\")))),\"\")","v":""},null,{"$f":"IF(L34=\"Victoire\",100-ROUNDDOWN(20*N34/$H34,0),\nIF(L34=\"Défaite\",10+ROUNDDOWN(20*VLOOKUP(I34,$A$8:$N$107,14,FALSE)/VLOOKUP(I34,$A$8:$H$107,8,FALSE),0),\nIF(AND(L34=\"Nul\",$N34<>$H34),40+(2*ROUNDDOWN(10*VLOOKUP(I34,$A$8:$N$107,14,FALSE)/VLOOKUP(I34,$A$8:$H$107,8,FALSE),0)-ROUNDDOWN(10*N34/$H34,0)),IF(AND(L34=\"Nul\",$N34=$H34),58,0))))","v":0},null,{"$f":"IF(P34<>\"\",VLOOKUP(P34,$A$8:$C$107,2,FALSE),\"\")","v":""},{"$f":"IF(P34<>\"\",IF(P34=$A34,\"ERR\",IF(OR(P34=$I34,P34=$W34,P34=$AD34,P34=$AK34),\"DUP\",IF(ISNA(VLOOKUP(P34,$A$8:$A$107,1,FALSE)),\"ERR\",IF(COUNTIF($I$8:$I$107,P34)>1,\"ERR\",IF($D34=VLOOKUP(P34,$A$8:$D$107,4,FALSE),\"CLUB\",\"OK\"))))),\"\")","v":""},null,{"$f":"IF(S34<>\"\",IF(S34=\"Victoire\",IF(VLOOKUP(P34,$A$8:$AO$107,19,FALSE)=\"Défaite\",\"OK\",\"ERR\"),IF(S34=\"Défaite\",IF(VLOOKUP(P34,$A$8:$AO$107,19,FALSE)=\"Victoire\",\"OK\",\"ERR\"),IF(S34=\"Nul\",IF(VLOOKUP(P34,$A$8:$AO$107,19,FALSE)=\"Nul\",\"OK\",\"ERR\")))),\"\")","v":""},null,{"$f":"IF(S34=\"Victoire\",100-ROUNDDOWN(20*U34/$H34,0),\nIF(S34=\"Défaite\",10+ROUNDDOWN(20*VLOOKUP(P34,$A$8:$AO$107,21,FALSE)/VLOOKUP(P34,$A$8:$H$107,8,FALSE),0),\nIF(AND(S34=\"Nul\",$U34<>$H34),40+(2*ROUNDDOWN(10*VLOOKUP(P34,$A$8:$AO$107,21,FALSE)/VLOOKUP(P34,$A$8:$H$107,8,FALSE),0)-ROUNDDOWN(10*U34/$H34,0)),IF(AND(S34=\"Nul\",$U34=$H34),58,0))))","v":0},null,{"$f":"IF(W34<>\"\",VLOOKUP(W34,$A$8:$C$107,2,FALSE),\"\")","v":""},{"$f":"IF(W34<>\"\",IF(W34=$A34,\"ERR\",IF(OR(W34=$P34,W34=$I34,W34=$AD34,W34=$AK34),\"DUP\",IF(ISNA(VLOOKUP(W34,$A$8:$A$107,1,FALSE)),\"ERR\",IF(COUNTIF($I$8:$I$107,W34)>1,\"ERR\",IF($D34=VLOOKUP(W34,$A$8:$D$107,4,FALSE),\"CLUB\",\"OK\"))))),\"\")","v":""},null,{"$f":"IF(Z34<>\"\",IF(Z34=\"Victoire\",IF(VLOOKUP(W34,$A$8:$AO$107,26,FALSE)=\"Défaite\",\"OK\",\"ERR\"),IF(Z34=\"Défaite\",IF(VLOOKUP(W34,$A$8:$AO$107,26,FALSE)=\"Victoire\",\"OK\",\"ERR\"),IF(Z34=\"Nul\",IF(VLOOKUP(W34,$A$8:$AO$107,26,FALSE)=\"Nul\",\"OK\",\"ERR\")))),\"\")","v":""},null,{"$f":"IF(Z34=\"Victoire\",100-ROUNDDOWN(20*AB34/$H34,0),\nIF(Z34=\"Défaite\",10+ROUNDDOWN(20*VLOOKUP(W34,$A$8:$AO$107,28,FALSE)/VLOOKUP(W34,$A$8:$H$107,8,FALSE),0),\nIF(AND(Z34=\"Nul\",$AB34<>$H34),40+(2*ROUNDDOWN(10*VLOOKUP(W34,$A$8:$AO$107,28,FALSE)/VLOOKUP(W34,$A$8:$H$107,8,FALSE),0)-ROUNDDOWN(10*AB34/$H34,0)),IF(AND(Z34=\"Nul\",$AB34=$H34),58,0))))","v":0},null,{"$f":"IF(AD34<>\"\",VLOOKUP(AD34,$A$8:$C$107,2,FALSE),\"\")","v":""},{"$f":"IF(AD34<>\"\",IF(AD34=$A34,\"ERR\",IF(OR(AD34=$P34,AD34=$W34,AD34=$I34,AD34=$AK34),\"DUP\",IF(ISNA(VLOOKUP(AD34,$A$8:$A$107,1,FALSE)),\"ERR\",IF(COUNTIF($I$8:$I$107,AD34)>1,\"ERR\",IF($D34=VLOOKUP(AD34,$A$8:$D$107,4,FALSE),\"CLUB\",\"OK\"))))),\"\")","v":""},null,{"$f":"IF(AG34<>\"\",IF(AG34=\"Victoire\",IF(VLOOKUP(AD34,$A$8:$AO$107,33,FALSE)=\"Défaite\",\"OK\",\"ERR\"),IF(AG34=\"Défaite\",IF(VLOOKUP(AD34,$A$8:$AO$107,33,FALSE)=\"Victoire\",\"OK\",\"ERR\"),IF(AG34=\"Nul\",IF(VLOOKUP(AD34,$A$8:$AO$107,33,FALSE)=\"Nul\",\"OK\",\"ERR\")))),\"\")","v":""},null,{"$f":"IF(AG34=\"Victoire\",100-ROUNDDOWN(20*AI34/$H34,0),\nIF(AG34=\"Défaite\",10+ROUNDDOWN(20*VLOOKUP(AD34,$A$8:$AO$107,35,FALSE)/VLOOKUP(AD34,$A$8:$H$107,8,FALSE),0),\nIF(AND(AG34=\"Nul\",$AI34<>$H34),40+(2*ROUNDDOWN(10*VLOOKUP(AD34,$A$8:$AO$107,35,FALSE)/VLOOKUP(AD34,$A$8:$H$107,8,FALSE),0)-ROUNDDOWN(10*AI34/$H34,0)),IF(AND(AG34=\"Nul\",$AI34=$H34),58,0))))","v":0},null,{"$f":"IF(AK34<>\"\",VLOOKUP(AK34,$A$8:$C$107,2,FALSE),\"\")","v":""},{"$f":"IF(AK34<>\"\",IF(AK34=$A34,\"ERR\",IF(OR(AK34=$P34,AK34=$W34,AK34=$AD34,AK34=$I34),\"DUP\",IF(ISNA(VLOOKUP(AK34,$A$8:$A$107,1,FALSE)),\"ERR\",IF(COUNTIF($I$8:$I$107,AK34)>1,\"ERR\",IF($D34=VLOOKUP(AK34,$A$8:$D$107,4,FALSE),\"CLUB\",\"OK\"))))),\"\")","v":""},null,{"$f":"IF(AN34<>\"\",IF(AN34=\"Victoire\",IF(VLOOKUP(AK34,$A$8:$AO$107,40,FALSE)=\"Défaite\",\"OK\",\"ERR\"),IF(AN34=\"Défaite\",IF(VLOOKUP(AK34,$A$8:$AO$107,40,FALSE)=\"Victoire\",\"OK\",\"ERR\"),IF(AN34=\"Nul\",IF(VLOOKUP(AK34,$A$8:$AO$107,40,FALSE)=\"Nul\",\"OK\",\"ERR\")))),\"\")","v":""},null,{"$f":"IF(AN34=\"Victoire\",100-ROUNDDOWN(20*AP34/$H34,0),\nIF(AN34=\"Défaite\",10+ROUNDDOWN(20*VLOOKUP(AK34,$A$8:$CB$107,42,FALSE)/VLOOKUP(AK34,$A$8:$H$107,8,FALSE),0),\nIF(AND(AN34=\"Nul\",$AP34<>$H34),40+(2*ROUNDDOWN(10*VLOOKUP(AK34,$A$8:$CB$107,42,FALSE)/VLOOKUP(AK34,$A$8:$H$107,8,FALSE),0)-ROUNDDOWN(10*AP34/$H34,0)),IF(AND(AN34=\"Nul\",$AP34=$H34),58,0))))","v":0},null,{"$f":"IF(AR34<>\"\",VLOOKUP(AR34,$A$8:$C$107,2,FALSE),\"\")","v":""},{"$f":"IF(AR34<>\"\",IF(AR34=$A34,\"ERR\",IF(OR(AR34=$I34,AR34=$P34,AR34=$W34,AR34=$AD34,AR34=$AK34),\"DUP\",IF(ISNA(VLOOKUP(AR34,$A$8:$A$107,1,FALSE)),\"ERR\",IF(COUNTIF($I$8:$I$107,AR34)>1,\"ERR\",IF($D34=VLOOKUP(AR34,$A$8:$D$107,4,FALSE),\"CLUB\",\"OK\"))))),\"\")","v":""},null,{"$f":"IF(AU34<>\"\",IF(AU34=\"Victoire\",IF(VLOOKUP(AR34,$A$8:$BL$107,47,FALSE)=\"Défaite\",\"OK\",\"ERR\"),IF(AU34=\"Défaite\",IF(VLOOKUP(AR34,$A$8:$BL$107,47,FALSE)=\"Victoire\",\"OK\",\"ERR\"),IF(AU34=\"Nul\",IF(VLOOKUP(AR34,$A$8:$BL$107,47,FALSE)=\"Nul\",\"OK\",\"ERR\")))),\"\")","v":""},null,{"$f":"IF(AU34=\"Victoire\",100-ROUNDDOWN(20*AW34/$H34,0),\nIF(AU34=\"Défaite\",10+ROUNDDOWN(20*VLOOKUP(AR34,$A$8:$CB$107,49,FALSE)/VLOOKUP(AR34,$A$8:$H$107,8,FALSE),0),\nIF(AND(AU34=\"Nul\",$AW34<>$H34),40+(2*ROUNDDOWN(10*VLOOKUP(AR34,$A$8:$CB$107,49,FALSE)/VLOOKUP(AR34,$A$8:$H$107,8,FALSE),0)-ROUNDDOWN(10*AW34/$H34,0)),IF(AND(AU34=\"Nul\",$AW34=$H34),58,0))))","v":0},null,{"$f":"IF(AY34<>\"\",VLOOKUP(AY34,$A$8:$C$107,2,FALSE),\"\")","v":""},{"$f":"IF(AY34<>\"\",IF(AY34=$A34,\"ERR\",IF(OR(AY34=$I34,AY34=$P34,AY34=$W34,AY34=$AD34,AY34=$AK34,AY34=$AR34),\"DUP\",IF(ISNA(VLOOKUP(AY34,$A$8:$A$107,1,FALSE)),\"ERR\",IF(COUNTIF($I$8:$I$107,AY34)>1,\"ERR\",IF($D34=VLOOKUP(AY34,$A$8:$D$107,4,FALSE),\"CLUB\",\"OK\"))))),\"\")","v":""},null,{"$f":"IF(BB34<>\"\",IF(BB34=\"Victoire\",IF(VLOOKUP(AY34,$A$8:$BL$107,54,FALSE)=\"Défaite\",\"OK\",\"ERR\"),IF(BB34=\"Défaite\",IF(VLOOKUP(AY34,$A$8:$BL$107,54,FALSE)=\"Victoire\",\"OK\",\"ERR\"),IF(BB34=\"Nul\",IF(VLOOKUP(AY34,$A$8:$BL$107,54,FALSE)=\"Nul\",\"OK\",\"ERR\")))),\"\")","v":""},null,{"$f":"IF(BB34=\"Victoire\",100-ROUNDDOWN(20*BD34/$H34,0),\nIF(BB34=\"Défaite\",10+ROUNDDOWN(20*VLOOKUP(AY34,$A$8:$CB$107,56,FALSE)/VLOOKUP(AY34,$A$8:$H$107,8,FALSE),0),\nIF(AND(BB34=\"Nul\",$BD34<>$H34),40+(2*ROUNDDOWN(10*VLOOKUP(AY34,$A$8:$CB$107,56,FALSE)/VLOOKUP(AY34,$A$8:$H$107,8,FALSE),0)-ROUNDDOWN(10*BD34/$H34,0)),IF(AND(BB34=\"Nul\",$BD34=$H34),58,0))))","v":0},null,{"$f":"IF(BF34<>\"\",VLOOKUP(BF34,$A$8:$C$107,2,FALSE),\"\")","v":""},{"$f":"IF(BF34<>\"\",IF(BF34=$A34,\"ERR\",IF(OR(BF34=$I34,BF34=$P34,BF34=$W34,BF34=$AD34,BF34=$AK34,BF34=$AR34,BF34=$AY34),\"DUP\",IF(ISNA(VLOOKUP(BF34,$A$8:$A$107,1,FALSE)),\"ERR\",IF(COUNTIF($I$8:$I$107,BF34)>1,\"ERR\",IF($D34=VLOOKUP(BF34,$A$8:$D$107,4,FALSE),\"CLUB\",\"OK\"))))),\"\")","v":""},null,{"$f":"IF(BI34<>\"\",IF(BI34=\"Victoire\",IF(VLOOKUP(BF34,$A$8:$BL$107,61,FALSE)=\"Défaite\",\"OK\",\"ERR\"),IF(BI34=\"Défaite\",IF(VLOOKUP(BF34,$A$8:$BL$107,61,FALSE)=\"Victoire\",\"OK\",\"ERR\"),IF(BI34=\"Nul\",IF(VLOOKUP(BF34,$A$8:$BL$107,61,FALSE)=\"Nul\",\"OK\",\"ERR\")))),\"\")","v":""},null,{"$f":"IF(BI34=\"Victoire\",100-ROUNDDOWN(20*BK34/$H34,0),\nIF(BI34=\"Défaite\",10+ROUNDDOWN(20*VLOOKUP(BF34,$A$8:$CB$107,63,FALSE)/VLOOKUP(BF34,$A$8:$H$107,8,FALSE),0),\nIF(AND(BI34=\"Nul\",$BK34<>$H34),40+(2*ROUNDDOWN(10*VLOOKUP(BF34,$A$8:$CB$107,63,FALSE)/VLOOKUP(BF34,$A$8:$H$107,8,FALSE),0)-ROUNDDOWN(10*BK34/$H34,0)),IF(AND(BI34=\"Nul\",$BK34=$H34),58,0))))","v":0},null,{"$f":"IF(BM34<>\"\",VLOOKUP(BM34,$A$8:$C$107,2,FALSE),\"\")","v":""},{"$f":"IF(BM34<>\"\",IF(BM34=$A34,\"ERR\",IF(OR(BM34=$I34,BM34=$P34,BM34=$W34,BM34=$AD34,BM34=$AK34,BM34=$AR34,BM34=$AY34,BM34=$BF34),\"DUP\",IF(ISNA(VLOOKUP(BM34,$A$8:$A$107,1,FALSE)),\"ERR\",IF(COUNTIF($I$8:$I$107,BM34)>1,\"ERR\",IF($D34=VLOOKUP(BM34,$A$8:$D$107,4,FALSE),\"CLUB\",\"OK\"))))),\"\")","v":""},null,{"$f":"IF(BP34<>\"\",IF(BP34=\"Victoire\",IF(VLOOKUP(BM34,$A$8:$BS$107,68,FALSE)=\"Défaite\",\"OK\",\"ERR\"),IF(BP34=\"Défaite\",IF(VLOOKUP(BM34,$A$8:$BS$107,68,FALSE)=\"Victoire\",\"OK\",\"ERR\"),IF(BP34=\"Nul\",IF(VLOOKUP(BM34,$A$8:$BS$107,68,FALSE)=\"Nul\",\"OK\",\"ERR\")))),\"\")","v":""},null,{"$f":"IF(BP34=\"Victoire\",100-ROUNDDOWN(20*BR34/$H34,0),\nIF(BP34=\"Défaite\",10+ROUNDDOWN(20*VLOOKUP(BM34,$A$8:$CB$107,70,FALSE)/VLOOKUP(BM34,$A$8:$H$107,8,FALSE),0),\nIF(AND(BP34=\"Nul\",$BR34<>$H34),40+(2*ROUNDDOWN(10*VLOOKUP(BM34,$A$8:$CB$107,70,FALSE)/VLOOKUP(BM34,$A$8:$H$107,8,FALSE),0)-ROUNDDOWN(10*BR34/$H34,0)),IF(AND(BP34=\"Nul\",$BR34=$H34),58,0))))","v":0},null,{"$f":"IF($I34<>\"\",VLOOKUP($I34,$A$8:$N$107,5,FALSE),0)+IF($P34<>\"\",VLOOKUP($P34,$A$8:$N$107,5,FALSE),0)+IF($W34<>\"\",VLOOKUP($W34,$A$8:$N$107,5,FALSE),0)+IF($AD34<>\"\",VLOOKUP($AD34,$A$8:$N$107,5,FALSE),0)+IF($AK34<>\"\",VLOOKUP($AK34,$A$8:$N$107,5,FALSE),0)+IF($AR34<>\"\",VLOOKUP($AR34,$A$8:$N$107,5,FALSE),0)+IF($AY34<>\"\",VLOOKUP($AY34,$A$8:$N$107,5,FALSE),0)+IF($BF34<>\"\",VLOOKUP($BF34,$A$8:$N$107,5,FALSE),0)+IF($BM34<>\"\",VLOOKUP($BM34,$A$8:$N$107,5,FALSE),0)","v":0}]
[{"$nulls":4},0,null,{"$f":"IF($F35<>\"\",VLOOKUP(F35,Armies!$A$1:$C$300,3,FALSE),\"\")","v":""},null,null,{"$f":"IF(I35<>\"\",VLOOKUP(I35,$A$8:$C$107,2,FALSE),\"\")","v":""},{"$f":"IF(I35<>\"\",IF(I35=$A35,\"ERR\",IF(OR(I35=$P35,I35=$W35,I35=$AD35,I35=$AK35),\"DUP\",IF(ISNA(VLOOKUP(I35,$A$8:$A$107,1,FALSE)),\"ERR\",IF(COUNTIF($I$8:$I$107,I35)>1,\"ERR\",IF($D35=VLOOKUP(I35,$A$8:$D$107,4,FALSE),\"CLUB\",\"OK\"))))),\"\")","v":""},null,{"$f":"IF(L35<>\"\",IF(L35=\"Victoire\",IF(VLOOKUP(I35,$A$8:$L$107,12,FALSE)=\"Défaite\",\"OK\",\"ERR\"),IF(L35=\"Défaite\",IF(VLOOKUP(I35,$A$8:$L$107,12,FALSE)=\"Victoire\",\"OK\",\"ERR\"),IF(L35=\"Nul\",IF(VLOOKUP(I35,$A$8:$L$107,12,FALSE)=\"Nul\",\"OK\",\"ERR\")))),\"\")","v":""},null,{"$f":"IF(L35=\"Victoire\",100-ROUNDDOWN(20*N35/$H35,0),\nIF(L35=\"Défaite\",10+ROUNDDOWN(20*VLOOKUP(I35,$A$8:$N$107,14,FALSE)/VLOOKUP(I35,$A$8:$H$107,8,FALSE),0),\nIF(AND(L35=\"Nul\",$N35<>$H35),40+(2*ROUNDDOWN(10*VLOOKUP(I35,$A$8:$N$107,14,FALSE)/VLOOKUP(I35,$A$8:$H$107,8,FALSE),0)-ROUNDDOWN(10*N35/$H35,0)),IF(AND(L35=\"Nul\",$N35=$H35),58,0))))","v":0},null,{"$f":"IF(P35<>\"\",VLOOKUP(P35,$A$8:$C$107,2,FALSE),\"\")","v":""},{"$f":"IF(P35<>\"\",IF(P35=$A35,\"ERR\",IF(OR(P35=$I35,P35=$W35,P35=$AD35,P35=$AK35),\"DUP\",IF(ISNA(VLOOKUP(P35,$A$8:$A$107,1,FALSE)),\"ERR\",IF(COUNTIF($I$8:$I$107,P35)>1,\"ERR\",IF($D35=VLOOKUP(P35,$A$8:$D$107,4,FALSE),\"CLUB\",\"OK\"))))),\"\")","v":""},null,{"$f":"IF(S35<>\"\",IF(S35=\"Victoire\",IF(VLOOKUP(P35,$A$8:$AO$107,19,FALSE)=\"Défaite\",\"OK\",\"ERR\"),IF(S35=\"Défaite\",IF(VLOOKUP(P35,$A$8:$AO$107,19,FALSE)=\"Victoire\",\"OK\",\"ERR\"),IF(S35=\"Nul\",IF(VLOOKUP(P35,$A$8:$AO$107,19,FALSE)=\"Nul\",\"OK\",\"ERR\")))),\"\")","v":""},null,{"$f":"IF(S35=\"Victoire\",100-ROUNDDOWN(20*U35/$H35,0),\nIF(S35=\"Défaite\",10+ROUNDDOWN(20*VLOOKUP(P35,$A$8:$AO$107,21,FALSE)/VLOOKUP(P35,$A$8:$H$107,8,FALSE),0),\nIF(AND(S35=\"Nul\",$U35<>$H35),40+(2*ROUNDDOWN(10*VLOOKUP(P35,$A$8:$AO$107,21,FALSE)/VLOOKUP(P35,$A$8:$H$107,8,FALSE),0)-ROUNDDOWN(10*U35/$H35,0)),IF(AND(S35=\"Nul\",$U35=$H35),58,0))))","v":0},null,{"$f":"IF(W35<>\"\",VLOOKUP(W35,$A$8:$C$107,2,FALSE),\"\")","v":""},{"$f":"IF(W35<>\"\",IF(W35=$A35,\"ERR\",IF(OR(W35=$P35,W35=$I35,W35=$AD35,W35=$AK35),\"DUP\",IF(ISNA(VLOOKUP(W35,$A$8:$A$107,1,FALSE)),\"ERR\",IF(COUNTIF($I$8:$I$107,W35)>1,\"ERR\",IF($D35=VLOOKUP(W35,$A$8:$D$107,4,FALSE),\"CLUB\",\"OK\"))))),\"\")","v":""},null,{"$f":"IF(Z35<>\"\",IF(Z35=\"Victoire\",IF(VLOOKUP(W35,$A$8:$AO$107,26,FALSE)=\"Défaite\",\"OK\",\"ERR\"),IF(Z35=\"Défaite\",IF(VLOOKUP(W35,$A$8:$AO$107,26,FALSE)=\"Victoire\",\"OK\",\"ERR\"),IF(Z35=\"Nul\",IF(VLOOKUP(W35,$A$8:$AO$107,26,FALSE)=\"Nul\",\"OK\",\"ERR\")))),\"\")","v":""},null,{"$f":"IF(Z35=\"Victoire\",100-ROUNDDOWN(20*AB35/$H35,0),\nIF(Z35=\"Défaite\",10+ROUNDDOWN(20*VLOOKUP(W35,$A$8:$AO$107,28,FALSE)/VLOOKUP(W35,$A$8:$H$107,8,FALSE),0),\nIF(AND(Z35=\"Nul\",$AB35<>$H35),40+(2*ROUNDDOWN(10*VLOOKUP(W35,$A$8:$AO$107,28,FALSE)/VLOOKUP(W35,$A$8:$H$107,8,FALSE),0)-ROUNDDOWN(10*AB35/$H35,0)),IF(AND(Z35=\"Nul\",$AB35=$H35),58,0))))","v":0},null,{"$f":"IF(AD35<>\"\",VLOOKUP(AD35,$A$8:$C$107,2,FALSE),\"\")","v":""},{"$f":"IF(AD35<>\"\",IF(AD35=$A35,\"ERR\",IF(OR(AD35=$P35,AD35=$W35,AD35=$I35,AD35=$AK35),\"DUP\",IF(ISNA(VLOOKUP(AD35,$A$8:$A$107,1,FALSE)),\"ERR\",IF(COUNTIF($I$8:$I$107,AD35)>1,\"ERR\",IF($D35=VLOOKUP(AD35,$A$8:$D$107,4,FALSE),\"CLUB\",\"OK\"))))),\"\")","v":""},null,{"$f":"IF(AG35<>\"\",IF(AG35=\"Victoire\",IF(VLOOKUP(AD35,$A$8:$AO$107,33,FALSE)=\"Défaite\",\"OK\",\"ERR\"),IF(AG35=\"Défaite\",IF(VLOOKUP(AD35,$A$8:$AO$107,33,FALSE)=\"Victoire\",\"OK\",\"ERR\"),IF(AG35=\"Nul\",IF(VLOOKUP(AD35,$A$8:$AO$107,33,FALSE)=\"Nul\",\"OK\",\"ERR\")))),\"\")","v":""},null,{"$f":"IF(AG35=\"Victoire\",100-ROUNDDOWN(20*AI35/$H35,0),\nIF(AG35=\"Défaite\",10+ROUNDDOWN(20*VLOOKUP(AD35,$A$8:$AO$107,35,FALSE)/VLOOKUP(AD35,$A$8:$H$107,8,FALSE),0),\nIF(AND(AG35=\"Nul\",$AI35<>$H35),40+(2*ROUNDDOWN(10*VLOOKUP(AD35,$A$8:$AO$107,35,FALSE)/VLOOKUP(AD35,$A$8:$H$107,8,FALSE),0)-ROUNDDOWN(10*AI35/$H35,0)),IF(AND(AG35=\"Nul\",$AI35=$H35),58,0))))","v":0},null,{"$f":"IF(AK35<>\"\",VLOOKUP(AK35,$A$8:$C$107,2,FALSE),\"\")","v":""},{"$f":"IF(AK35<>\"\",IF(AK35=$A35,\"ERR\",IF(OR(AK35=$P35,AK35=$W35,AK35=$AD35,AK35=$I35),\"DUP\",IF(ISNA(VLOOKUP(AK35,$A$8:$A$107,1,FALSE)),\"ERR\",IF(COUNTIF($I$8:$I$107,AK35)>1,\"ERR\",IF($D35=VLOOKUP(AK35,$A$8:$D$107,4,FALSE),\"CLUB\",\"OK\"))))),\"\")","v":""},null,{"$f":"IF(AN35<>\"\",IF(AN35=\"Victoire\",IF(VLOOKUP(AK35,$A$8:$AO$107,40,FALSE)=\"Défaite\",\"OK\",\"ERR\"),IF(AN35=\"Défaite\",IF(VLOOKUP(AK35,$A$8:$AO$107,40,FALSE)=\"Victoire\",\"OK\",\"ERR\"),IF(AN35=\"Nul\",IF(VLOOKUP(AK35,$A$8:$AO$107,40,FALSE)=\"Nul\",\"OK\",\"ERR\")))),\"\")","v":""},null,{"$f":"IF(AN35=\"Victoire\",100-ROUNDDOWN(20*AP35/$H35,0),\nIF(AN35=\"Défaite\",10+ROUNDDOWN(20*VLOOKUP(AK35,$A$8:$CB$107,42,FALSE)/VLOOKUP(AK35,$A$8:$H$107,8,FALSE),0),\nIF(AND(AN35=\"Nul\",$AP35<>$H35),40+(2*ROUNDDOWN(10*VLOOKUP(AK35,$A$8:$CB$107,42,FALSE)/VLOOKUP(AK35,$A$8:$H$107,8,FALSE),0)-ROUNDDOWN(10*AP35/$H35,0)),IF(AND(AN35=\"Nul\",$AP35=$H35),58,0))))","v":0},null,{"$f":"IF(AR35<>\"\",VLOOKUP(AR35,$A$8:$C$107,2,FALSE),\"\")","v":""},{"$f":"IF(AR35<>\"\",IF(AR35=$A35,\"ERR\",IF(OR(AR35=$I35,AR35=$P35,AR35=$W35,AR35=$AD35,AR35=$AK35),\"DUP\",IF(ISNA(VLOOKUP(AR35,$A$8:$A$107,1,FALSE)),\"ERR\",IF(COUNTIF($I$8:$I$107,AR35)>1,\"ERR\",IF($D35=VLOOKUP(AR35,$A$8:$D$107,4,FALSE),\"CLUB\",\"OK\"))))),\"\")","v":""},null,{"$f":"IF(AU35<>\"\",IF(AU35=\"Victoire\",IF(VLOOKUP(AR35,$A$8:$BL$107,47,FALSE)=\"Défaite\",\"OK\",\"ERR\"),IF(AU35=\"Défaite\",IF(VLOOKUP(AR35,$A$8:$BL$107,47,FALSE)=\"Victoire\",\"OK\",\"ERR\"),IF(AU35=\"Nul\",IF(VLOOKUP(AR35,$A$8:$BL$107,47,FALSE)=\"Nul\",\"OK\",\"ERR\")))),\"\")","v":""},null,{"$f":"IF(AU35=\"Victoire\",100-ROUNDDOWN(20*AW35/$H35,0),\nIF(AU35=\"Défaite\",10+ROUNDDOWN(20*VLOOKUP(AR35,$A$8:$CB$107,49,FALSE)/VLOOKUP(AR35,$A$8:$H$107,8,FALSE),0),\nIF(AND(AU35=\"Nul\",$AW35<>$H35),40+(2*ROUNDDOWN(10*VLOOKUP(AR35,$A$8:$CB$107,49,FALSE)/VLOOKUP(AR35,$A$8:$H$107,8,FALSE),0)-ROUNDDOWN(10*AW35/$H35,0)),IF(AND(AU35=\"Nul\",$AW35=$H35),58,0))))","v":0},null,{"$f":"IF(AY35<>\"\",VLOOKUP(AY35,$A$8:$C$107,2,FALSE),\"\")","v":""},{"$f":"IF(AY35<>\"\",IF(AY35=$A35,\"ERR\",IF(OR(AY35=$I35,AY35=$P35,AY35=$W35,AY35=$AD35,AY35=$AK35,AY35=$AR35),\"DUP\",IF(ISNA(VLOOKUP(AY35,$A$8:$A$107,1,FALSE)),\"ERR\",IF(COUNTIF($I$8:$I$107,AY35)>1,\"ERR\",IF($D35=VLOOKUP(AY35,$A$8:$D$107,4,FALSE),\"CLUB\",\"OK\"))))),\"\")","v":""},null,{"$f":"IF(BB35<>\"\",IF(BB35=\"Victoire\",IF(VLOOKUP(AY35,$A$8:$BL$107,54,FALSE)=\"Défaite\",\"OK\",\"ERR\"),IF(BB35=\"Défaite\",IF(VLOOKUP(AY35,$A$8:$BL$107,54,FALSE)=\"Victoire\",\"OK\",\"ERR\"),IF(BB35=\"Nul\",IF(VLOOKUP(AY35,$A$8:$BL$107,54,FALSE)=\"Nul\",\"OK\",\"ERR\")))),\"\")","v":""},null,{"$f":"IF(BB35=\"Victoire\",100-ROUNDDOWN(20*BD35/$H35,0),\nIF(BB35=\"Défaite\",10+ROUNDDOWN(20*VLOOKUP(AY35,$A$8:$CB$107,56,FALSE)/VLOOKUP(AY35,$A$8:$H$107,8,FALSE),0),\nIF(AND(BB35=\"Nul\",$BD35<>$H35),40+(2*ROUNDDOWN(10*VLOOKUP(AY35,$A$8:$CB$107,56,FALSE)/VLOOKUP(AY35,$A$8:$H$107,8,FALSE),0)-ROUNDDOWN(10*BD35/$H35,0)),IF(AND(BB35=\"Nul\",$BD35=$H35),58,0))))","v":0},null,{"$f":"IF(BF35<>\"\",VLOOKUP(BF35,$A$8:$C$107,2,FALSE),\"\")","v":""},{"$f":"IF(BF35<>\"\",IF(BF35=$A35,\"ERR\",IF(OR(BF35=$I35,BF35=$P35,BF35=$W35,BF35=$AD35,BF35=$AK35,BF35=$AR35,BF35=$AY35),\"DUP\",IF(ISNA(VLOOKUP(BF35,$A$8:$A$107,1,FALSE)),\"ERR\",IF(COUNTIF($I$8:$I$107,BF35)>1,\"ERR\",IF($D35=VLOOKUP(BF35,$A$8:$D$107,4,FALSE),\"CLUB\",\"OK\"))))),\"\")","v":""},null,{"$f":"IF(BI35<>\"\",IF(BI35=\"Victoire\",IF(VLOOKUP(BF35,$A$8:$BL$107,61,FALSE)=\"Défaite\",\"OK\",\"ERR\"),IF(BI35=\"Défaite\",IF(VLOOKUP(BF35,$A$8:$BL$107,61,FALSE)=\"Victoire\",\"OK\",\"ERR\"),IF(BI35=\"Nul\",IF(VLOOKUP(BF35,$A$8:$BL$107,61,FALSE)=\"Nul\",\"OK\",\"ERR\")))),\"\")","v":""},null,{"$f":"IF(BI35=\"Victoire\",100-ROUNDDOWN(20*BK35/$H35,0),\nIF(BI35=\"Défaite\",10+ROUNDDOWN(20*VLOOKUP(BF35,$A$8:$CB$107,63,FALSE)/VLOOKUP(BF35,$A$8:$H$107,8,FALSE),0),\nIF(AND(BI35=\"Nul\",$BK35<>$H35),40+(2*ROUNDDOWN(10*VLOOKUP(BF35,$A$8:$CB$107,63,FALSE)/VLOOKUP(BF35,$A$8:$H$107,8,FALSE),0)-ROUNDDOWN(10*BK35/$H35,0)),IF(AND(BI35=\"Nul\",$BK35=$H35),58,0))))","v":0},null,{"$f":"IF(BM35<>\"\",VLOOKUP(BM35,$A$8:$C$107,2,FALSE),\"\")","v":""},{"$f":"IF(BM35<>\"\",IF(BM35=$A35,\"ERR\",IF(OR(BM35=$I35,BM35=$P35,BM35=$W35,BM35=$AD35,BM35=$AK35,BM35=$AR35,BM35=$AY35,BM35=$BF35),\"DUP\",IF(ISNA(VLOOKUP(BM35,$A$8:$A$107,1,FALSE)),\"ERR\",IF(COUNTIF($I$8:$I$107,BM35)>1,\"ERR\",IF($D35=VLOOKUP(BM35,$A$8:$D$107,4,FALSE),\"CLUB\",\"OK\"))))),\"\")","v":""},null,{"$f":"IF(BP35<>\"\",IF(BP35=\"Victoire\",IF(VLOOKUP(BM35,$A$8:$BS$107,68,FALSE)=\"Défaite\",\"OK\",\"ERR\"),IF(BP35=\"Défaite\",IF(VLOOKUP(BM35,$A$8:$BS$107,68,FALSE)=\"Victoire\",\"OK\",\"ERR\"),IF(BP35=\"Nul\",IF(VLOOKUP(BM35,$A$8:$BS$107,68,FALSE)=\"Nul\",\"OK\",\"ERR\")))),\"\")","v":""},null,{"$f":"IF(BP35=\"Victoire\",100-ROUNDDOWN(20*BR35/$H35,0),\nIF(BP35=\"Défaite\",10+ROUNDDOWN(20*VLOOKUP(BM35,$A$8:$CB$107,70,FALSE)/VLOOKUP(BM35,$A$8:$H$107,8,FALSE),0),\nIF(AND(BP35=\"Nul\",$BR35<>$H35),40+(2*ROUNDDOWN(10*VLOOKUP(BM35,$A$8:$CB$107,70,FALSE)/VLOOKUP(BM35,$A$8:$H$107,8,FALSE),0)-ROUNDDOWN(10*BR35/$H35,0)),IF(AND(BP35=\"Nul\",$BR35=$H35),58,0))))","v":0},null,{"$f":"IF($I35<>\"\",VLOOKUP($I35,$A$8:$N$107,5,FALSE),0)+IF($P35<>\"\",VLOOKUP($P35,$A$8:$N$107,5,FALSE),0)+IF($W35<>\"\",VLOOKUP($W35,$A$8:$N$107,5,FALSE),0)+IF($AD35<>\"\",VLOOKUP($AD35,$A$8:$N$107,5,FALSE),0)+IF($AK35<>\"\",VLOOKUP($AK35,$A$8:$N$107,5,FALSE),0)+IF($AR35<>\"\",VLOOKUP($AR35,$A$8:$N$107,5,FALSE),0)+IF($AY35<>\"\",VLOOKUP($AY35,$A$8:$N$107,5,FALSE),0)+IF($BF35<>\"\",VLOOKUP($BF35,$A$8:$N$107,5,FALSE),0)+IF($BM35<>\"\",VLOOKUP($BM35,$A$8:$N$107,5,FALSE),0)","v":0}]
[{"$nulls":4},0,null,{"$f":"IF($F36<>\"\",VLOOKUP(F36,Armies!$A$1:$C$300,3,FALSE),\"\")","v":""},null,null,{"$f":"IF(I36<>\"\",VLOOKUP(I36,$A$8:$C$107,2,FALSE),\"\")","v":""},{"$f":"IF(I36<>\"\",IF(I36=$A36,\"ERR\",IF(OR(I36=$P36,I36=$W36,I36=$AD36,I36=$AK36),\"DUP\",IF(ISNA(VLOOKUP(I36,$A$8:$A$107,1,FALSE)),\"ERR\",IF(COUNTIF($I$8:$I$107,I36)>1,\"ERR\",IF($D36=VLOOKUP(I36,$A$8:$D$107,4,FALSE),\"CLUB\",\"OK\"))))),\"\")","v":""},null,{"$f":"IF(L36<>\"\",IF(L36=\"Victoire\",IF(VLOOKUP(I36,$A$8:$L$107,12,FALSE)=\"Défaite\",\"OK\",\"ERR\"),IF(L36=\"Défaite\",IF(VLOOKUP(I36,$A$8:$L$107,12,FALSE)=\"Victoire\",\"OK\",\"ERR\"),IF(L36=\"Nul\",IF(VLOOKUP(I36,$A$8:$L$107,12,FALSE)=\"Nul\",\"OK\",\"ERR\")))),\"\")","v":""},null,{"$f":"IF(L36=\"Victoire\",100-ROUNDDOWN(20*N36/$H36,0),\nIF(L36=\"Défaite\",10+ROUNDDOWN(20*VLOOKUP(I36,$A$8:$N$107,14,FALSE)/VLOOKUP(I36,$A$8:$H$107,8,FALSE),0),\nIF(AND(L36=\"Nul\",$N36<>$H36),40+(2*ROUNDDOWN(10*VLOOKUP(I36,$A$8:$N$107,14,FALSE)/VLOOKUP(I36,$A$8:$H$107,8,FALSE),0)-ROUNDDOWN(10*N36/$H36,0)),IF(AND(L36=\"Nul\",$N36=$H36),58,0))))","v":0},null,{"$f":"IF(P36<>\"\",VLOOKUP(P36,$A$8:$C$107,2,FALSE),\"\")","v":""},{"$f":"IF(P36<>\"\",IF(P36=$A36,\"ERR\",IF(OR(P36=$I36,P36=$W36,P36=$AD36,P36=$AK36),\"DUP\",IF(ISNA(VLOOKUP(P36,$A$8:$A$107,1,FALSE)),\"ERR\",IF(COUNTIF($I$8:$I$107,P36)>1,\"ERR\",IF($D36=VLOOKUP(P36,$A$8:$D$107,4,FALSE),\"CLUB\",\"OK\"))))),\"\")","v":""},null,{"$f":"IF(S36<>\"\",IF(S36=\"Victoire\",IF(VLOOKUP(P36,$A$8:$AO$107,19,FALSE)=\"Défaite\",\"OK\",\"ERR\"),IF(S36=\"Défaite\",IF(VLOOKUP(P36,$A$8:$AO$107,19,FALSE)=\"Victoire\",\"OK\",\"ERR\"),IF(S36=\"Nul\",IF(VLOOKUP(P36,$A$8:$AO$107,19,FALSE)=\"Nul\",\"OK\",\"ERR\")))),\"\")","v":""},null,{"$f":"IF(S36=\"Victoire\",100-ROUNDDOWN(20*U36/$H36,0),\nIF(S36=\"Défaite\",10+ROUNDDOWN(20*VLOOKUP(P36,$A$8:$AO$107,21,FALSE)/VLOOKUP(P36,$A$8:$H$107,8,FALSE),0),\nIF(AND(S36=\"Nul\",$U36<>$H36),40+(2*ROUNDDOWN(10*VLOOKUP(P36,$A$8:$AO$107,21,FALSE)/VLOOKUP(P36,$A$8:$H$107,8,FALSE),0)-ROUNDDOWN(10*U36/$H36,0)),IF(AND(S36=\"Nul\",$U36=$H36),58,0))))","v":0},null,{"$f":"IF(W36<>\"\",VLOOKUP(W36,$A$8:$C$107,2,FALSE),\"\")","v":""},{"$f":"IF(W36<>\"\",IF(W36=$A36,\"ERR\",IF(OR(W36=$P36,W36=$I36,W36=$AD36,W36=$AK36),\"DUP\",IF(ISNA(VLOOKUP(W36,$A$8:$A$107,1,FALSE)),\"ERR\",IF(COUNTIF($I$8:$I$107,W36)>1,\"ERR\",IF($D36=VLOOKUP(W36,$A$8:$D$107,4,FALSE),\"CLUB\",\"OK\"))))),\"\")","v":""},null,{"$f":"IF(Z36<>\"\",IF(Z36=\"Victoire\",IF(VLOOKUP(W36,$A$8:$AO$107,26,FALSE)=\"Défaite\",\"OK\",\"ERR\"),IF(Z36=\"Défaite\",IF(VLOOKUP(W36,$A$8:$AO$107,26,FALSE)=\"Victoire\",\"OK\",\"ERR\"),IF(Z36=\"Nul\",IF(VLOOKUP(W36,$A$8:$AO$107,26,FALSE)=\"Nul\",\"OK\",\"ERR\")))),\"\")","v":""},null,{"$f":"IF(Z36=\"Victoire\",100-ROUNDDOWN(20*AB36/$H36,0),\nIF(Z36=\"Défaite\",10+ROUNDDOWN(20*VLOOKUP(W36,$A$8:$AO$107,28,FALSE)/VLOOKUP(W36,$A$8:$H$107,8,FALSE),0),\nIF(AND(Z36=\"Nul\",$AB36<>$H36),40+(2*ROUNDDOWN(10*VLOOKUP(W36,$A$8:$AO$107,28,FALSE)/VLOOKUP(W36,$A$8:$H$107,8,FALSE),0)-ROUNDDOWN(10*AB36/$H36,0)),IF(AND(Z36=\"Nul\",$AB36=$H36),58,0))))","v":0},null,{"$f":"IF(AD36<>\"\",VLOOKUP(AD36,$A$8:$C$107,2,FALSE),\"\")","v":""},{"$f":"IF(AD36<>\"\",IF(AD36=$A36,\"ERR\",IF(OR(AD36=$P36,AD36=$W36,AD36=$I36,AD36=$AK36),\"DUP\",IF(ISNA(VLOOKUP(AD36,$A$8:$A$107,1,FALSE)),\"ERR\",IF(COUNTIF($I$8:$I$107,AD36)>1,\"ERR\",IF($D36=VLOOKUP(AD36,$A$8:$D$107,4,FALSE),\"CLUB\",\"OK\"))))),\"\")","v":""},null,{"$f":"IF(AG36<>\"\",IF(AG36=\"Victoire\",IF(VLOOKUP(AD36,$A$8:$AO$107,33,FALSE)=\"Défaite\",\"OK\",\"ERR\"),IF(AG36=\"Défaite\",IF(VLOOKUP(AD36,$A$8:$AO$107,33,FALSE)=\"Victoire\",\"OK\",\"ERR\"),IF(AG36=\"Nul\",IF(VLOOKUP(AD36,$A$8:$AO$107,33,FALSE)=\"Nul\",\"OK\",\"ERR\")))),\"\")","v":""},null,{"$f":"IF(AG36=\"Victoire\",100-ROUNDDOWN(20*AI36/$H36,0),\nIF(AG36=\"Défaite\",10+ROUNDDOWN(20*VLOOKUP(AD36,$A$8:$AO$107,35,FALSE)/VLOOKUP(AD36,$A$8:$H$107,8,FALSE),0),\nIF(AND(AG36=\"Nul\",$AI36<>$H36),40+(2*ROUNDDOWN(10*VLOOKUP(AD36,$A$8:$AO$107,35,FALSE)/VLOOKUP(AD36,$A$8:$H$107,8,FALSE),0)-ROUNDDOWN(10*AI36/$H36,0)),IF(AND(AG36=\"Nul\",$AI36=$H36),58,0))))","v":0},null,{"$f":"IF(AK36<>\"\",VLOOKUP(AK36,$A$8:$C$107,2,FALSE),\"\")","v":""},{"$f":"IF(AK36<>\"\",IF(AK36=$A36,\"ERR\",IF(OR(AK36=$P36,AK36=$W36,AK36=$AD36,AK36=$I36),\"DUP\",IF(ISNA(VLOOKUP(AK36,$A$8:$A$107,1,FALSE)),\"ERR\",IF(COUNTIF($I$8:$I$107,AK36)>1,\"ERR\",IF($D36=VLOOKUP(AK36,$A$8:$D$107,4,FALSE),\"CLUB\",\"OK\"))))),\"\")","v":""},null,{"$f":"IF(AN36<>\"\",IF(AN36=\"Victoire\",IF(VLOOKUP(AK36,$A$8:$AO$107,40,FALSE)=\"Défaite\",\"OK\",\"ERR\"),IF(AN36=\"Défaite\",IF(VLOOKUP(AK36,$A$8:$AO$107,40,FALSE)=\"Victoire\",\"OK\",\"ERR\"),IF(AN36=\"Nul\",IF(VLOOKUP(AK36,$A$8:$AO$107,40,FALSE)=\"Nul\",\"OK\",\"ERR\")))),\"\")","v":""},null,{"$f":"IF(AN36=\"Victoire\",100-ROUNDDOWN(20*AP36/$H36,0),\nIF(AN36=\"Défaite\",10+ROUNDDOWN(20*VLOOKUP(AK36,$A$8:$CB$107,42,FALSE)/VLOOKUP(AK36,$A$8:$H$107,8,FALSE),0),\nIF(AND(AN36=\"Nul\",$AP36<>$H36),40+(2*ROUNDDOWN(10*VLOOKUP(AK36,$A$8:$CB$107,42,FALSE)/VLOOKUP(AK36,$A$8:$H$107,8,FALSE),0)-ROUNDDOWN(10*AP36/$H36,0)),IF(AND(AN36=\"Nul\",$AP36=$H36),58,0))))","v":0},null,{"$f":"IF(AR36<>\"\",VLOOKUP(AR36,$A$8:$C$107,2,FALSE),\"\")","v":""},{"$f":"IF(AR36<>\"\",IF(AR36=$A36,\"ERR\",IF(OR(AR36=$I36,AR36=$P36,AR36=$W36,AR36=$AD36,AR36=$AK36),\"DUP\",IF(ISNA(VLOOKUP(AR36,$A$8:$A$107,1,FALSE)),\"ERR\",IF(COUNTIF($I$8:$I$107,AR36)>1,\"ERR\",IF($D36=VLOOKUP(AR36,$A$8:$D$107,4,FALSE),\"CLUB\",\"OK\"))))),\"\")","v":""},null,{"$f":"IF(AU36<>\"\",IF(AU36=\"Victoire\",IF(VLOOKUP(AR36,$A$8:$BL$107,47,FALSE)=\"Défaite\",\"OK\",\"ERR\"),IF(AU36=\"Défaite\",IF(VLOOKUP(AR36,$A$8:$BL$107,47,FALSE)=\"Victoire\",\"OK\",\"ERR\"),IF(AU36=\"Nul\",IF(VLOOKUP(AR36,$A$8:$BL$107,47,FALSE)=\"Nul\",\"OK\",\"ERR\")))),\"\")","v":""},null,{"$f":"IF(AU36=\"Victoire\",100-ROUNDDOWN(20*AW36/$H36,0),\nIF(AU36=\"Défaite\",10+ROUNDDOWN(20*VLOOKUP(AR36,$A$8:$CB$107,49,FALSE)/VLOOKUP(AR36,$A$8:$H$107,8,FALSE),0),\nIF(AND(AU36=\"Nul\",$AW36<>$H36),40+(2*ROUNDDOWN(10*VLOOKUP(AR36,$A$8:$CB$107,49,FALSE)/VLOOKUP(AR36,$A$8:$H$107,8,FALSE),0)-ROUNDDOWN(10*AW36/$H36,0)),IF(AND(AU36=\"Nul\",$AW36=$H36),58,0))))","v":0},null,{"$f":"IF(AY36<>\"\",VLOOKUP(AY36,$A$8:$C$107,2,FALSE),\"\")","v":""},{"$f":"IF(AY36<>\"\",IF(AY36=$A36,\"ERR\",IF(OR(AY36=$I36,AY36=$P36,AY36=$W36,AY36=$AD36,AY36=$AK36,AY36=$AR36),\"DUP\",IF(ISNA(VLOOKUP(AY36,$A$8:$A$107,1,FALSE)),\"ERR\",IF(COUNTIF($I$8:$I$107,AY36)>1,\"ERR\",IF($D36=VLOOKUP(AY36,$A$8:$D$107,4,FALSE),\"CLUB\",\"OK\"))))),\"\")","v":""},null,{"$f":"IF(BB36<>\"\",IF(BB36=\"Victoire\",IF(VLOOKUP(AY36,$A$8:$BL$107,54,FALSE)=\"Défaite\",\"OK\",\"ERR\"),IF(BB36=\"Défaite\",IF(VLOOKUP(AY36,$A$8:$BL$107,54,FALSE)=\"Victoire\",\"OK\",\"ERR\"),IF(BB36=\"Nul\",IF(VLOOKUP(AY36,$A$8:$BL$107,54,FALSE)=\"Nul\",\"OK\",\"ERR\")))),\"\")","v":""},null,{"$f":"IF(BB36=\"Victoire\",100-ROUNDDOWN(20*BD36/$H36,0),\nIF(BB36=\"Défaite\",10+ROUNDDOWN(20*VLOOKUP(AY36,$A$8:$CB$107,56,FALSE)/VLOOKUP(AY36,$A$8:$H$107,8,FALSE),0),\nIF(AND(BB36=\"Nul\",$BD36<>$H36),40+(2*ROUNDDOWN(10*VLOOKUP(AY36,$A$8:$CB$107,56,FALSE)/VLOOKUP(AY36,$A$8:$H$107,8,FALSE),0)-ROUNDDOWN(10*BD36/$H36,0)),IF(AND(BB36=\"Nul\",$BD36=$H36),58,0))))","v":0},null,{"$f":"IF(BF36<>\"\",VLOOKUP(BF36,$A$8:$C$107,2,FALSE),\"\")","v":""},{"$f":"IF(BF36<>\"\",IF(BF36=$A36,\"ERR\",IF(OR(BF36=$I36,BF36=$P36,BF36=$W36,BF36=$AD36,BF36=$AK36,BF36=$AR36,BF36=$AY36),\"DUP\",IF(ISNA(VLOOKUP(BF36,$A$8:$A$107,1,FALSE)),\"ERR\",IF(COUNTIF($I$8:$I$107,BF36)>1,\"ERR\",IF($D36=VLOOKUP(BF36,$A$8:$D$107,4,FALSE),\"CLUB\",\"OK\"))))),\"\")","v":""},null,{"$f":"IF(BI36<>\"\",IF(BI36=\"Victoire\",IF(VLOOKUP(BF36,$A$8:$BL$107,61,FALSE)=\"Défaite\",\"OK\",\"ERR\"),IF(BI36=\"Défaite\",IF(VLOOKUP(BF36,$A$8:$BL$107,61,FALSE)=\"Victoire\",\"OK\",\"ERR\"),IF(BI36=\"Nul\",IF(VLOOKUP(BF36,$A$8:$BL$107,61,FALSE)=\"Nul\",\"OK\",\"ERR\")))),\"\")","v":""},null,{"$f":"IF(BI36=\"Victoire\",100-ROUNDDOWN(20*BK36/$H36,0),\nIF(BI36=\"Défaite\",10+ROUNDDOWN(20*VLOOKUP(BF36,$A$8:$CB$107,63,FALSE)/VLOOKUP(BF36,$A$8:$H$107,8,FALSE),0),\nIF(AND(BI36=\"Nul\",$BK36<>$H36),40+(2*ROUNDDOWN(10*VLOOKUP(BF36,$A$8:$CB$107,63,FALSE)/VLOOKUP(BF36,$A$8:$H$107,8,FALSE),0)-ROUNDDOWN(10*BK36/$H36,0)),IF(AND(BI36=\"Nul\",$BK36=$H36),58,0))))","v":0},null,{"$f":"IF(BM36<>\"\",VLOOKUP(BM36,$A$8:$C$107,2,FALSE),\"\")","v":""},{"$f":"IF(BM36<>\"\",IF(BM36=$A36,\"ERR\",IF(OR(BM36=$I36,BM36=$P36,BM36=$W36,BM36=$AD36,BM36=$AK36,BM36=$AR36,BM36=$AY36,BM36=$BF36),\"DUP\",IF(ISNA(VLOOKUP(BM36,$A$8:$A$107,1,FALSE)),\"ERR\",IF(COUNTIF($I$8:$I$107,BM36)>1,\"ERR\",IF($D36=VLOOKUP(BM36,$A$8:$D$107,4,FALSE),\"CLUB\",\"OK\"))))),\"\")","v":""},null,{"$f":"IF(BP36<>\"\",IF(BP36=\"Victoire\",IF(VLOOKUP(BM36,$A$8:$BS$107,68,FALSE)=\"Défaite\",\"OK\",\"ERR\"),IF(BP36=\"Défaite\",IF(VLOOKUP(BM36,$A$8:$BS$107,68,FALSE)=\"Victoire\",\"OK\",\"ERR\"),IF(BP36=\"Nul\",IF(VLOOKUP(BM36,$A$8:$BS$107,68,FALSE)=\"Nul\",\"OK\",\"ERR\")))),\"\")","v":""},null,{"$f":"IF(BP36=\"Victoire\",100-ROUNDDOWN(20*BR36/$H36,0),\nIF(BP36=\"Défaite\",10+ROUNDDOWN(20*VLOOKUP(BM36,$A$8:$CB$107,70,FALSE)/VLOOKUP(BM36,$A$8:$H$107,8,FALSE),0),\nIF(AND(BP36=\"Nul\",$BR36<>$H36),40+(2*ROUNDDOWN(10*VLOOKUP(BM36,$A$8:$CB$107,70,FALSE)/VLOOKUP(BM36,$A$8:$H$107,8,FALSE),0)-ROUNDDOWN(10*BR36/$H36,0)),IF(AND(BP36=\"Nul\",$BR36=$H36),58,0))))","v":0},null,{"$f":"IF($I36<>\"\",VLOOKUP($I36,$A$8:$N$107,5,FALSE),0)+IF($P36<>\"\",VLOOKUP($P36,$A$8:$N$107,5,FALSE),0)+IF($W36<>\"\",VLOOKUP($W36,$A$8:$N$107,5,FALSE),0)+IF($AD36<>\"\",VLOOKUP($AD36,$A$8:$N$107,5,FALSE),0)+IF($AK36<>\"\",VLOOKUP($AK36,$A$8:$N$107,5,FALSE),0)+IF($AR36<>\"\",VLOOKUP($AR36,$A$8:$N$107,5,FALSE),0)+IF($AY36<>\"\",VLOOKUP($AY36,$A$8:$N$107,5,FALSE),0)+IF($BF36<>\"\",VLOOKUP($BF36,$A$8:$N$107,5,FALSE),0)+IF($BM36<>\"\",VLOOKUP($BM36,$A$8:$N$107,5,FALSE),0)","v":0}]
[{"$nulls":4},0,null,{"$f":"IF($F37<>\"\",VLOOKUP(F37,Armies!$A$1:$C$300,3,FALSE),\"\")","v":""},null,null,{"$f":"IF(I37<>\"\",VLOOKUP(I37,$A$8:$C$107,2,FALSE),\"\")","v":""},{"$f":"IF(I37<>\"\",IF(I37=$A37,\"ERR\",IF(OR(I37=$P37,I37=$W37,I37=$AD37,I37=$AK37),\"DUP\",IF(ISNA(VLOOKUP(I37,$A$8:$A$107,1,FALSE)),\"ERR\",IF(COUNTIF($I$8:$I$107,I37)>1,\"ERR\",IF($D37=VLOOKUP(I37,$A$8:$D$107,4,FALSE),\"CLUB\",\"OK\"))))),\"\")","v":""},null,{"$f":"IF(L37<>\"\",IF(L37=\"Victoire\",IF(VLOOKUP(I37,$A$8:$L$107,12,FALSE)=\"Défaite\",\"OK\",\"ERR\"),IF(L37=\"Défaite\",IF(VLOOKUP(I37,$A$8:$L$107,12,FALSE)=\"Victoire\",\"OK\",\"ERR\"),IF(L37=\"Nul\",IF(VLOOKUP(I37,$A$8:$L$107,12,FALSE)=\"Nul\",\"OK\",\"ERR\")))),\"\")","v":""},null,{"$f":"IF(L37=\"Victoire\",100-ROUNDDOWN(20*N37/$H37,0),\nIF(L37=\"Défaite\",10+ROUNDDOWN(20*VLOOKUP(I37,$A$8:$N$107,14,FALSE)/VLOOKUP(I37,$A$8:$H$107,8,FALSE),0),\nIF(AND(L37=\"Nul\",$N37<>$H37),40+(2*ROUNDDOWN(10*VLOOKUP(I37,$A$8:$N$107,14,FALSE)/VLOOKUP(I37,$A$8:$H$107,8,FALSE),0)-ROUNDDOWN(10*N37/$H37,0)),IF(AND(L37=\"Nul\",$N37=$H37),58,0))))","v":0},null,{"$f":"IF(P37<>\"\",VLOOKUP(P37,$A$8:$C$107,2,FALSE),\"\")","v":""},{"$f":"IF(P37<>\"\",IF(P37=$A37,\"ERR\",IF(OR(P37=$I37,P37=$W37,P37=$AD37,P37=$AK37),\"DUP\",IF(ISNA(VLOOKUP(P37,$A$8:$A$107,1,FALSE)),\"ERR\",IF(COUNTIF($I$8:$I$107,P37)>1,\"ERR\",IF($D37=VLOOKUP(P37,$A$8:$D$107,4,FALSE),\"CLUB\",\"OK\"))))),\"\")","v":""},null,{"$f":"IF(S37<>\"\",IF(S37=\"Victoire\",IF(VLOOKUP(P37,$A$8:$AO$107,19,FALSE)=\"Défaite\",\"OK\",\"ERR\"),IF(S37=\"Défaite\",IF(VLOOKUP(P37,$A$8:$AO$107,19,FALSE)=\"Victoire\",\"OK\",\"ERR\"),IF(S37=\"Nul\",IF(VLOOKUP(P37,$A$8:$AO$107,19,FALSE)=\"Nul\",\"OK\",\"ERR\")))),\"\")","v":""},null,{"$f":"IF(S37=\"Victoire\",100-ROUNDDOWN(20*U37/$H37,0),\nIF(S37=\"Défaite\",10+ROUNDDOWN(20*VLOOKUP(P37,$A$8:$AO$107,21,FALSE)/VLOOKUP(P37,$A$8:$H$107,8,FALSE),0),\nIF(AND(S37=\"Nul\",$U37<>$H37),40+(2*ROUNDDOWN(10*VLOOKUP(P37,$A$8:$AO$107,21,FALSE)/VLOOKUP(P37,$A$8:$H$107,8,FALSE),0)-ROUNDDOWN(10*U37/$H37,0)),IF(AND(S37=\"Nul\",$U37=$H37),58,0))))","v":0},null,{"$f":"IF(W37<>\"\",VLOOKUP(W37,$A$8:$C$107,2,FALSE),\"\")","v":""},{"$f":"IF(W37<>\"\",IF(W37=$A37,\"ERR\",IF(OR(W37=$P37,W37=$I37,W37=$AD37,W37=$AK37),\"DUP\",IF(ISNA(VLOOKUP(W37,$A$8:$A$107,1,FALSE)),\"ERR\",IF(COUNTIF($I$8:$I$107,W37)>1,\"ERR\",IF($D37=VLOOKUP(W37,$A$8:$D$107,4,FALSE),\"CLUB\",\"OK\"))))),\"\")","v":""},null,{"$f":"IF(Z37<>\"\",IF(Z37=\"Victoire\",IF(VLOOKUP(W37,$A$8:$AO$107,26,FALSE)=\"Défaite\",\"OK\",\"ERR\"),IF(Z37=\"Défaite\",IF(VLOOKUP(W37,$A$8:$AO$107,26,FALSE)=\"Victoire\",\"OK\",\"ERR\"),IF(Z37=\"Nul\",IF(VLOOKUP(W37,$A$8:$AO$107,26,FALSE)=\"Nul\",\"OK\",\"ERR\")))),\"\")","v":""},null,{"$f":"IF(Z37=\"Victoire\",100-ROUNDDOWN(20*AB37/$H37,0),\nIF(Z37=\"Défaite\",10+ROUNDDOWN(20*VLOOKUP(W37,$A$8:$AO$107,28,FALSE)/VLOOKUP(W37,$A$8:$H$107,8,FALSE),0),\nIF(AND(Z37=\"Nul\",$AB37<>$H37),40+(2*ROUNDDOWN(10*VLOOKUP(W37,$A$8:$AO$107,28,FALSE)/VLOOKUP(W37,$A$8:$H$107,8,FALSE),0)-ROUNDDOWN(10*AB37/$H37,0)),IF(AND(Z37=\"Nul\",$AB37=$H37),58,0))))","v":0},null,{"$f":"IF(AD37<>\"\",VLOOKUP(AD37,$A$8:$C$107,2,FALSE),\"\")","v":""},{"$f":"IF(AD37<>\"\",IF(AD37=$A37,\"ERR\",IF(OR(AD37=$P37,AD37=$W37,AD37=$I37,AD37=$AK37),\"DUP\",IF(ISNA(VLOOKUP(AD37,$A$8:$A$107,1,FALSE)),\"ERR\",IF(COUNTIF($I$8:$I$107,AD37)>1,\"ERR\",IF($D37=VLOOKUP(AD37,$A$8:$D$107,4,FALSE),\"CLUB\",\"OK\"))))),\"\")","v":""},null,{"$f":"IF(AG37<>\"\",IF(AG37=\"Victoire\",IF(VLOOKUP(AD37,$A$8:$AO$107,33,FALSE)=\"Défaite\",\"OK\",\"ERR\"),IF(AG37=\"Défaite\",IF(VLOOKUP(AD37,$A$8:$AO$107,33,FALSE)=\"Victoire\",\"OK\",\"ERR\"),IF(AG37=\"Nul\",IF(VLOOKUP(AD37,$A$8:$AO$107,33,FALSE)=\"Nul\",\"OK\",\"ERR\")))),\"\")","v":""},null,{"$f":"IF(AG37=\"Victoire\",100-ROUNDDOWN(20*AI37/$H37,0),\nIF(AG37=\"Défaite\",10+ROUNDDOWN(20*VLOOKUP(AD37,$A$8:$AO$107,35,FALSE)/VLOOKUP(AD37,$A$8:$H$107,8,FALSE),0),\nIF(AND(AG37=\"Nul\",$AI37<>$H37),40+(2*ROUNDDOWN(10*VLOOKUP(AD37,$A$8:$AO$107,35,FALSE)/VLOOKUP(AD37,$A$8:$H$107,8,FALSE),0)-ROUNDDOWN(10*AI37/$H37,0)),IF(AND(AG37=\"Nul\",$AI37=$H37),58,0))))","v":0},null,{"$f":"IF(AK37<>\"\",VLOOKUP(AK37,$A$8:$C$107,2,FALSE),\"\")","v":""},{"$f":"IF(AK37<>\"\",IF(AK37=$A37,\"ERR\",IF(OR(AK37=$P37,AK37=$W37,AK37=$AD37,AK37=$I37),\"DUP\",IF(ISNA(VLOOKUP(AK37,$A$8:$A$107,1,FALSE)),\"ERR\",IF(COUNTIF($I$8:$I$107,AK37)>1,\"ERR\",IF($D37=VLOOKUP(AK37,$A$8:$D$107,4,FALSE),\"CLUB\",\"OK\"))))),\"\")","v":""},null,{"$f":"IF(AN37<>\"\",IF(AN37=\"Victoire\",IF(VLOOKUP(AK37,$A$8:$AO$107,40,FALSE)=\"Défaite\",\"OK\",\"ERR\"),IF(AN37=\"Défaite\",IF(VLOOKUP(AK37,$A$8:$AO$107,40,FALSE)=\"Victoire\",\"OK\",\"ERR\"),IF(AN37=\"Nul\",IF(VLOOKUP(AK37,$A$8:$AO$107,40,FALSE)=\"Nul\",\"OK\",\"ERR\")))),\"\")","v":""},null,{"$f":"IF(AN37=\"Victoire\",100-ROUNDDOWN(20*AP37/$H37,0),\nIF(AN37=\"Défaite\",10+ROUNDDOWN(20*VLOOKUP(AK37,$A$8:$CB$107,42,FALSE)/VLOOKUP(AK37,$A$8:$H$107,8,FALSE),0),\nIF(AND(AN37=\"Nul\",$AP37<>$H37),40+(2*ROUNDDOWN(10*VLOOKUP(AK37,$A$8:$CB$107,42,FALSE)/VLOOKUP(AK37,$A$8:$H$107,8,FALSE),0)-ROUNDDOWN(10*AP37/$H37,0)),IF(AND(AN37=\"Nul\",$AP37=$H37),58,0))))","v":0},null,{"$f":"IF(AR37<>\"\",VLOOKUP(AR37,$A$8:$C$107,2,FALSE),\"\")","v":""},{"$f":"IF(AR37<>\"\",IF(AR37=$A37,\"ERR\",IF(OR(AR37=$I37,AR37=$P37,AR37=$W37,AR37=$AD37,AR37=$AK37),\"DUP\",IF(ISNA(VLOOKUP(AR37,$A$8:$A$107,1,FALSE)),\"ERR\",IF(COUNTIF($I$8:$I$107,AR37)>1,\"ERR\",IF($D37=VLOOKUP(AR37,$A$8:$D$107,4,FALSE),\"CLUB\",\"OK\"))))),\"\")","v":""},null,{"$f":"IF(AU37<>\"\",IF(AU37=\"Victoire\",IF(VLOOKUP(AR37,$A$8:$BL$107,47,FALSE)=\"Défaite\",\"OK\",\"ERR\"),IF(AU37=\"Défaite\",IF(VLOOKUP(AR37,$A$8:$BL$107,47,FALSE)=\"Victoire\",\"OK\",\"ERR\"),IF(AU37=\"Nul\",IF(VLOOKUP(AR37,$A$8:$BL$107,47,FALSE)=\"Nul\",\"OK\",\"ERR\")))),\"\")","v":""},null,{"$f":"IF(AU37=\"Victoire\",100-ROUNDDOWN(20*AW37/$H37,0),\nIF(AU37=\"Défaite\",10+ROUNDDOWN(20*VLOOKUP(AR37,$A$8:$CB$107,49,FALSE)/VLOOKUP(AR37,$A$8:$H$107,8,FALSE),0),\nIF(AND(AU37=\"Nul\",$AW37<>$H37),40+(2*ROUNDDOWN(10*VLOOKUP(AR37,$A$8:$CB$107,49,FALSE)/VLOOKUP(AR37,$A$8:$H$107,8,FALSE),0)-ROUNDDOWN(10*AW37/$H37,0)),IF(AND(AU37=\"Nul\",$AW37=$H37),58,0))))","v":0},null,{"$f":"IF(AY37<>\"\",VLOOKUP(AY37,$A$8:$C$107,2,FALSE),\"\")","v":""},{"$f":"IF(AY37<>\"\",IF(AY37=$A37,\"ERR\",IF(OR(AY37=$I37,AY37=$P37,AY37=$W37,AY37=$AD37,AY37=$AK37,AY37=$AR37),\"DUP\",IF(ISNA(VLOOKUP(AY37,$A$8:$A$107,1,FALSE)),\"ERR\",IF(COUNTIF($I$8:$I$107,AY37)>1,\"ERR\",IF($D37=VLOOKUP(AY37,$A$8:$D$107,4,FALSE),\"CLUB\",\"OK\"))))),\"\")","v":""},null,{"$f":"IF(BB37<>\"\",IF(BB37=\"Victoire\",IF(VLOOKUP(AY37,$A$8:$BL$107,54,FALSE)=\"Défaite\",\"OK\",\"ERR\"),IF(BB37=\"Défaite\",IF(VLOOKUP(AY37,$A$8:$BL$107,54,FALSE)=\"Victoire\",\"OK\",\"ERR\"),IF(BB37=\"Nul\",IF(VLOOKUP(AY37,$A$8:$BL$107,54,FALSE)=\"Nul\",\"OK\",\"ERR\")))),\"\")","v":""},null,{"$f":"IF(BB37=\"Victoire\",100-ROUNDDOWN(20*BD37/$H37,0),\nIF(BB37=\"Défaite\",10+ROUNDDOWN(20*VLOOKUP(AY37,$A$8:$CB$107,56,FALSE)/VLOOKUP(AY37,$A$8:$H$107,8,FALSE),0),\nIF(AND(BB37=\"Nul\",$BD37<>$H37),40+(2*ROUNDDOWN(10*VLOOKUP(AY37,$A$8:$CB$107,56,FALSE)/VLOOKUP(AY37,$A$8:$H$107,8,FALSE),0)-ROUNDDOWN(10*BD37/$H37,0)),IF(AND(BB37=\"Nul\",$BD37=$H37),58,0))))","v":0},null,{"$f":"IF(BF37<>\"\",VLOOKUP(BF37,$A$8:$C$107,2,FALSE),\"\")","v":""},{"$f":"IF(BF37<>\"\",IF(BF37=$A37,\"ERR\",IF(OR(BF37=$I37,BF37=$P37,BF37=$W37,BF37=$AD37,BF37=$AK37,BF37=$AR37,BF37=$AY37),\"DUP\",IF(ISNA(VLOOKUP(BF37,$A$8:$A$107,1,FALSE)),\"ERR\",IF(COUNTIF($I$8:$I$107,BF37)>1,\"ERR\",IF($D37=VLOOKUP(BF37,$A$8:$D$107,4,FALSE),\"CLUB\",\"OK\"))))),\"\")","v":""},null,{"$f":"IF(BI37<>\"\",IF(BI37=\"Victoire\",IF(VLOOKUP(BF37,$A$8:$BL$107,61,FALSE)=\"Défaite\",\"OK\",\"ERR\"),IF(BI37=\"Défaite\",IF(VLOOKUP(BF37,$A$8:$BL$107,61,FALSE)=\"Victoire\",\"OK\",\"ERR\"),IF(BI37=\"Nul\",IF(VLOOKUP(BF37,$A$8:$BL$107,61,FALSE)=\"Nul\",\"OK\",\"ERR\")))),\"\")","v":""},null,{"$f":"IF(BI37=\"Victoire\",100-ROUNDDOWN(20*BK37/$H37,0),\nIF(BI37=\"Défaite\",10+ROUNDDOWN(20*VLOOKUP(BF37,$A$8:$CB$107,63,FALSE)/VLOOKUP(BF37,$A$8:$H$107,8,FALSE),0),\nIF(AND(BI37=\"Nul\",$BK37<>$H37),40+(2*ROUNDDOWN(10*VLOOKUP(BF37,$A$8:$CB$107,63,FALSE)/VLOOKUP(BF37,$A$8:$H$107,8,FALSE),0)-ROUNDDOWN(10*BK37/$H37,0)),IF(AND(BI37=\"Nul\",$BK37=$H37),58,0))))","v":0},null,{"$f":"IF(BM37<>\"\",VLOOKUP(BM37,$A$8:$C$107,2,FALSE),\"\")","v":""},{"$f":"IF(BM37<>\"\",IF(BM37=$A37,\"ERR\",IF(OR(BM37=$I37,BM37=$P37,BM37=$W37,BM37=$AD37,BM37=$AK37,BM37=$AR37,BM37=$AY37,BM37=$BF37),\"DUP\",IF(ISNA(VLOOKUP(BM37,$A$8:$A$107,1,FALSE)),\"ERR\",IF(COUNTIF($I$8:$I$107,BM37)>1,\"ERR\",IF($D37=VLOOKUP(BM37,$A$8:$D$107,4,FALSE),\"CLUB\",\"OK\"))))),\"\")","v":""},null,{"$f":"IF(BP37<>\"\",IF(BP37=\"Victoire\",IF(VLOOKUP(BM37,$A$8:$BS$107,68,FALSE)=\"Défaite\",\"OK\",\"ERR\"),IF(BP37=\"Défaite\",IF(VLOOKUP(BM37,$A$8:$BS$107,68,FALSE)=\"Victoire\",\"OK\",\"ERR\"),IF(BP37=\"Nul\",IF(VLOOKUP(BM37,$A$8:$BS$107,68,FALSE)=\"Nul\",\"OK\",\"ERR\")))),\"\")","v":""},null,{"$f":"IF(BP37=\"Victoire\",100-ROUNDDOWN(20*BR37/$H37,0),\nIF(BP37=\"Défaite\",10+ROUNDDOWN(20*VLOOKUP(BM37,$A$8:$CB$107,70,FALSE)/VLOOKUP(BM37,$A$8:$H$107,8,FALSE),0),\nIF(AND(BP37=\"Nul\",$BR37<>$H37),40+(2*ROUNDDOWN(10*VLOOKUP(BM37,$A$8:$CB$107,70,FALSE)/VLOOKUP(BM37,$A$8:$H$107,8,FALSE),0)-ROUNDDOWN(10*BR37/$H37,0)),IF(AND(BP37=\"Nul\",$BR37=$H37),58,0))))","v":0},null,{"$f":"IF($I37<>\"\",VLOOKUP($I37,$A$8:$N$107,5,FALSE),0)+IF($P37<>\"\",VLOOKUP($P37,$A$8:$N$107,5,FALSE),0)+IF($W37<>\"\",VLOOKUP($W37,$A$8:$N$107,5,FALSE),0)+IF($AD37<>\"\",VLOOKUP($AD37,$A$8:$N$107,5,FALSE),0)+IF($AK37<>\"\",VLOOKUP($AK37,$A$8:$N$107,5,FALSE),0)+IF($AR37<>\"\",VLOOKUP($AR37,$A$8:$N$107,5,FALSE),0)+IF($AY37<>\"\",VLOOKUP($AY37,$A$8:$N$107,5,FALSE),0)+IF($BF37<>\"\",VLOOKUP($BF37,$A$8:$N$107,5,FALSE),0)+IF($BM37<>\"\",VLOOKUP($BM37,$A$8:$N$107,5,FALSE),0)","v":0}]
[{"$nulls":4},0,null,{"$f":"IF($F38<>\"\",VLOOKUP(F38,Armies!$A$1:$C$300,3,FALSE),\"\")","v":""},null,null,{"$f":"IF(I38<>\"\",VLOOKUP(I38,$A$8:$C$107,2,FALSE),\"\")","v":""},{"$f":"IF(I38<>\"\",IF(I38=$A38,\"ERR\",IF(OR(I38=$P38,I38=$W38,I38=$AD38,I38=$AK38),\"DUP\",IF(ISNA(VLOOKUP(I38,$A$8:$A$107,1,FALSE)),\"ERR\",IF(COUNTIF($I$8:$I$107,I38)>1,\"ERR\",IF($D38=VLOOKUP(I38,$A$8:$D$107,4,FALSE),\"CLUB\",\"OK\"))))),\"\")","v":""},null,{"$f":"IF(L38<>\"\",IF(L38=\"Victoire\",IF(VLOOKUP(I38,$A$8:$L$107,12,FALSE)=\"Défaite\",\"OK\",\"ERR\"),IF(L38=\"Défaite\",IF(VLOOKUP(I38,$A$8:$L$107,12,FALSE)=\"Victoire\",\"OK\",\"ERR\"),IF(L38=\"Nul\",IF(VLOOKUP(I38,$A$8:$L$107,12,FALSE)=\"Nul\",\"OK\",\"ERR\")))),\"\")","v":""},null,{"$f":"IF(L38=\"Victoire\",100-ROUNDDOWN(20*N38/$H38,0),\nIF(L38=\"Défaite\",10+ROUNDDOWN(20*VLOOKUP(I38,$A$8:$N$107,14,FALSE)/VLOOKUP(I38,$A$8:$H$107,8,FALSE),0),\nIF(AND(L38=\"Nul\",$N38<>$H38),40+(2*ROUNDDOWN(10*VLOOKUP(I38,$A$8:$N$107,14,FALSE)/VLOOKUP(I38,$A$8:$H$107,8,FALSE),0)-ROUNDDOWN(10*N38/$H38,0)),IF(AND(L38=\"Nul\",$N38=$H38),58,0))))","v":0},null,{"$f":"IF(P38<>\"\",VLOOKUP(P38,$A$8:$C$107,2,FALSE),\"\")","v":""},{"$f":"IF(P38<>\"\",IF(P38=$A38,\"ERR\",IF(OR(P38=$I38,P38=$W38,P38=$AD38,P38=$AK38),\"DUP\",IF(ISNA(VLOOKUP(P38,$A$8:$A$107,1,FALSE)),\"ERR\",IF(COUNTIF($I$8:$I$107,P38)>1,\"ERR\",IF($D38=VLOOKUP(P38,$A$8:$D$107,4,FALSE),\"CLUB\",\"OK\"))))),\"\")","v":""},null,{"$f":"IF(S38<>\"\",IF(S38=\"Victoire\",IF(VLOOKUP(P38,$A$8:$AO$107,19,FALSE)=\"Défaite\",\"OK\",\"ERR\"),IF(S38=\"Défaite\",IF(VLOOKUP(P38,$A$8:$AO$107,19,FALSE)=\"Victoire\",\"OK\",\"ERR\"),IF(S38=\"Nul\",IF(VLOOKUP(P38,$A$8:$AO$107,19,FALSE)=\"Nul\",\"OK\",\"ERR\")))),\"\")","v":""},null,{"$f":"IF(S38=\"Victoire\",100-ROUNDDOWN(20*U38/$H38,0),\nIF(S38=\"Défaite\",10+ROUNDDOWN(20*VLOOKUP(P38,$A$8:$AO$107,21,FALSE)/VLOOKUP(P38,$A$8:$H$107,8,FALSE),0),\nIF(AND(S38=\"Nul\",$U38<>$H38),40+(2*ROUNDDOWN(10*VLOOKUP(P38,$A$8:$AO$107,21,FALSE)/VLOOKUP(P38,$A$8:$H$107,8,FALSE),0)-ROUNDDOWN(10*U38/$H38,0)),IF(AND(S38=\"Nul\",$U38=$H38),58,0))))","v":0},null,{"$f":"IF(W38<>\"\",VLOOKUP(W38,$A$8:$C$107,2,FALSE),\"\")","v":""},{"$f":"IF(W38<>\"\",IF(W38=$A38,\"ERR\",IF(OR(W38=$P38,W38=$I38,W38=$AD38,W38=$AK38),\"DUP\",IF(ISNA(VLOOKUP(W38,$A$8:$A$107,1,FALSE)),\"ERR\",IF(COUNTIF($I$8:$I$107,W38)>1,\"ERR\",IF($D38=VLOOKUP(W38,$A$8:$D$107,4,FALSE),\"CLUB\",\"OK\"))))),\"\")","v":""},null,{"$f":"IF(Z38<>\"\",IF(Z38=\"Victoire\",IF(VLOOKUP(W38,$A$8:$AO$107,26,FALSE)=\"Défaite\",\"OK\",\"ERR\"),IF(Z38=\"Défaite\",IF(VLOOKUP(W38,$A$8:$AO$107,26,FALSE)=\"Victoire\",\"OK\",\"ERR\"),IF(Z38=\"Nul\",IF(VLOOKUP(W38,$A$8:$AO$107,26,FALSE)=\"Nul\",\"OK\",\"ERR\")))),\"\")","v":""},null,{"$f":"IF(Z38=\"Victoire\",100-ROUNDDOWN(20*AB38/$H38,0),\nIF(Z38=\"Défaite\",10+ROUNDDOWN(20*VLOOKUP(W38,$A$8:$AO$107,28,FALSE)/VLOOKUP(W38,$A$8:$H$107,8,FALSE),0),\nIF(AND(Z38=\"Nul\",$AB38<>$H38),40+(2*ROUNDDOWN(10*VLOOKUP(W38,$A$8:$AO$107,28,FALSE)/VLOOKUP(W38,$A$8:$H$107,8,FALSE),0)-ROUNDDOWN(10*AB38/$H38,0)),IF(AND(Z38=\"Nul\",$AB38=$H38),58,0))))","v":0},null,{"$f":"IF(AD38<>\"\",VLOOKUP(AD38,$A$8:$C$107,2,FALSE),\"\")","v":""},{"$f":"IF(AD38<>\"\",IF(AD38=$A38,\"ERR\",IF(OR(AD38=$P38,AD38=$W38,AD38=$I38,AD38=$AK38),\"DUP\",IF(ISNA(VLOOKUP(AD38,$A$8:$A$107,1,FALSE)),\"ERR\",IF(COUNTIF($I$8:$I$107,AD38)>1,\"ERR\",IF($D38=VLOOKUP(AD38,$A$8:$D$107,4,FALSE),\"CLUB\",\"OK\"))))),\"\")","v":""},null,{"$f":"IF(AG38<>\"\",IF(AG38=\"Victoire\",IF(VLOOKUP(AD38,$A$8:$AO$107,33,FALSE)=\"Défaite\",\"OK\",\"ERR\"),IF(AG38=\"Défaite\",IF(VLOOKUP(AD38,$A$8:$AO$107,33,FALSE)=\"Victoire\",\"OK\",\"ERR\"),IF(AG38=\"Nul\",IF(VLOOKUP(AD38,$A$8:$AO$107,33,FALSE)=\"Nul\",\"OK\",\"ERR\")))),\"\")","v":""},null,{"$f":"IF(AG38=\"Victoire\",100-ROUNDDOWN(20*AI38/$H38,0),\nIF(AG38=\"Défaite\",10+ROUNDDOWN(20*VLOOKUP(AD38,$A$8:$AO$107,35,FALSE)/VLOOKUP(AD38,$A$8:$H$107,8,FALSE),0),\nIF(AND(AG38=\"Nul\",$AI38<>$H38),40+(2*ROUNDDOWN(10*VLOOKUP(AD38,$A$8:$AO$107,35,FALSE)/VLOOKUP(AD38,$A$8:$H$107,8,FALSE),0)-ROUNDDOWN(10*AI38/$H38,0)),IF(AND(AG38=\"Nul\",$AI38=$H38),58,0))))","v":0},null,{"$f":"IF(AK38<>\"\",VLOOKUP(AK38,$A$8:$C$107,2,FALSE),\"\")","v":""},{"$f":"IF(AK38<>\"\",IF(AK38=$A38,\"ERR\",IF(OR(AK38=$P38,AK38=$W38,AK38=$AD38,AK38=$I38),\"DUP\",IF(ISNA(VLOOKUP(AK38,$A$8:$A$107,1,FALSE)),\"ERR\",IF(COUNTIF($I$8:$I$107,AK38)>1,\"ERR\",IF($D38=VLOOKUP(AK38,$A$8:$D$107,4,FALSE),\"CLUB\",\"OK\"))))),\"\")","v":""},null,{"$f":"IF(AN38<>\"\",IF(AN38=\"Victoire\",IF(VLOOKUP(AK38,$A$8:$AO$107,40,FALSE)=\"Défaite\",\"OK\",\"ERR\"),IF(AN38=\"Défaite\",IF(VLOOKUP(AK38,$A$8:$AO$107,40,FALSE)=\"Victoire\",\"OK\",\"ERR\"),IF(AN38=\"Nul\",IF(VLOOKUP(AK38,$A$8:$AO$107,40,FALSE)=\"Nul\",\"OK\",\"ERR\")))),\"\")","v":""},null,{"$f":"IF(AN38=\"Victoire\",100-ROUNDDOWN(20*AP38/$H38,0),\nIF(AN38=\"Défaite\",10+ROUNDDOWN(20*VLOOKUP(AK38,$A$8:$CB$107,42,FALSE)/VLOOKUP(AK38,$A$8:$H$107,8,FALSE),0),\nIF(AND(AN38=\"Nul\",$AP38<>$H38),40+(2*ROUNDDOWN(10*VLOOKUP(AK38,$A$8:$CB$107,42,FALSE)/VLOOKUP(AK38,$A$8:$H$107,8,FALSE),0)-ROUNDDOWN(10*AP38/$H38,0)),IF(AND(AN38=\"Nul\",$AP38=$H38),58,0))))","v":0},null,{"$f":"IF(AR38<>\"\",VLOOKUP(AR38,$A$8:$C$107,2,FALSE),\"\")","v":""},{"$f":"IF(AR38<>\"\",IF(AR38=$A38,\"ERR\",IF(OR(AR38=$I38,AR38=$P38,AR38=$W38,AR38=$AD38,AR38=$AK38),\"DUP\",IF(ISNA(VLOOKUP(AR38,$A$8:$A$107,1,FALSE)),\"ERR\",IF(COUNTIF($I$8:$I$107,AR38)>1,\"ERR\",IF($D38=VLOOKUP(AR38,$A$8:$D$107,4,FALSE),\"CLUB\",\"OK\"))))),\"\")","v":""},null,{"$f":"IF(AU38<>\"\",IF(AU38=\"Victoire\",IF(VLOOKUP(AR38,$A$8:$BL$107,47,FALSE)=\"Défaite\",\"OK\",\"ERR\"),IF(AU38=\"Défaite\",IF(VLOOKUP(AR38,$A$8:$BL$107,47,FALSE)=\"Victoire\",\"OK\",\"ERR\"),IF(AU38=\"Nul\",IF(VLOOKUP(AR38,$A$8:$BL$107,47,FALSE)=\"Nul\",\"OK\",\"ERR\")))),\"\")","v":""},null,{"$f":"IF(AU38=\"Victoire\",100-ROUNDDOWN(20*AW38/$H38,0),\nIF(AU38=\"Défaite\",10+ROUNDDOWN(20*VLOOKUP(AR38,$A$8:$CB$107,49,FALSE)/VLOOKUP(AR38,$A$8:$H$107,8,FALSE),0),\nIF(AND(AU38=\"Nul\",$AW38<>$H38),40+(2*ROUNDDOWN(10*VLOOKUP(AR38,$A$8:$CB$107,49,FALSE)/VLOOKUP(AR38,$A$8:$H$107,8,FALSE),0)-ROUNDDOWN(10*AW38/$H38,0)),IF(AND(AU38=\"Nul\",$AW38=$H38),58,0))))","v":0},null,{"$f":"IF(AY38<>\"\",VLOOKUP(AY38,$A$8:$C$107,2,FALSE),\"\")","v":""},{"$f":"IF(AY38<>\"\",IF(AY38=$A38,\"ERR\",IF(OR(AY38=$I38,AY38=$P38,AY38=$W38,AY38=$AD38,AY38=$AK38,AY38=$AR38),\"DUP\",IF(ISNA(VLOOKUP(AY38,$A$8:$A$107,1,FALSE)),\"ERR\",IF(COUNTIF($I$8:$I$107,AY38)>1,\"ERR\",IF($D38=VLOOKUP(AY38,$A$8:$D$107,4,FALSE),\"CLUB\",\"OK\"))))),\"\")","v":""},null,{"$f":"IF(BB38<>\"\",IF(BB38=\"Victoire\",IF(VLOOKUP(AY38,$A$8:$BL$107,54,FALSE)=\"Défaite\",\"OK\",\"ERR\"),IF(BB38=\"Défaite\",IF(VLOOKUP(AY38,$A$8:$BL$107,54,FALSE)=\"Victoire\",\"OK\",\"ERR\"),IF(BB38=\"Nul\",IF(VLOOKUP(AY38,$A$8:$BL$107,54,FALSE)=\"Nul\",\"OK\",\"ERR\")))),\"\")","v":""},null,{"$f":"IF(BB38=\"Victoire\",100-ROUNDDOWN(20*BD38/$H38,0),\nIF(BB38=\"Défaite\",10+ROUNDDOWN(20*VLOOKUP(AY38,$A$8:$CB$107,56,FALSE)/VLOOKUP(AY38,$A$8:$H$107,8,FALSE),0),\nIF(AND(BB38=\"Nul\",$BD38<>$H38),40+(2*ROUNDDOWN(10*VLOOKUP(AY38,$A$8:$CB$107,56,FALSE)/VLOOKUP(AY38,$A$8:$H$107,8,FALSE),0)-ROUNDDOWN(10*BD38/$H38,0)),IF(AND(BB38=\"Nul\",$BD38=$H38),58,0))))","v":0},null,{"$f":"IF(BF38<>\"\",VLOOKUP(BF38,$A$8:$C$107,2,FALSE),\"\")","v":""},{"$f":"IF(BF38<>\"\",IF(BF38=$A38,\"ERR\",IF(OR(BF38=$I38,BF38=$P38,BF38=$W38,BF38=$AD38,BF38=$AK38,BF38=$AR38,BF38=$AY38),\"DUP\",IF(ISNA(VLOOKUP(BF38,$A$8:$A$107,1,FALSE)),\"ERR\",IF(COUNTIF($I$8:$I$107,BF38)>1,\"ERR\",IF($D38=VLOOKUP(BF38,$A$8:$D$107,4,FALSE),\"CLUB\",\"OK\"))))),\"\")","v":""},null,{"$f":"IF(BI38<>\"\",IF(BI38=\"Victoire\",IF(VLOOKUP(BF38,$A$8:$BL$107,61,FALSE)=\"Défaite\",\"OK\",\"ERR\"),IF(BI38=\"Défaite\",IF(VLOOKUP(BF38,$A$8:$BL$107,61,FALSE)=\"Victoire\",\"OK\",\"ERR\"),IF(BI38=\"Nul\",IF(VLOOKUP(BF38,$A$8:$BL$107,61,FALSE)=\"Nul\",\"OK\",\"ERR\")))),\"\")","v":""},null,{"$f":"IF(BI38=\"Victoire\",100-ROUNDDOWN(20*BK38/$H38,0),\nIF(BI38=\"Défaite\",10+ROUNDDOWN(20*VLOOKUP(BF38,$A$8:$CB$107,63,FALSE)/VLOOKUP(BF38,$A$8:$H$107,8,FALSE),0),\nIF(AND(BI38=\"Nul\",$BK38<>$H38),40+(2*ROUNDDOWN(10*VLOOKUP(BF38,$A$8:$CB$107,63,FALSE)/VLOOKUP(BF38,$A$8:$H$107,8,FALSE),0)-ROUNDDOWN(10*BK38/$H38,0)),IF(AND(BI38=\"Nul\",$BK38=$H38),58,0))))","v":0},null,{"$f":"IF(BM38<>\"\",VLOOKUP(BM38,$A$8:$C$107,2,FALSE),\"\")","v":""},{"$f":"IF(BM38<>\"\",IF(BM38=$A38,\"ERR\",IF(OR(BM38=$I38,BM38=$P38,BM38=$W38,BM38=$AD38,BM38=$AK38,BM38=$AR38,BM38=$AY38,BM38=$BF38),\"DUP\",IF(ISNA(VLOOKUP(BM38,$A$8:$A$107,1,FALSE)),\"ERR\",IF(COUNTIF($I$8:$I$107,BM38)>1,\"ERR\",IF($D38=VLOOKUP(BM38,$A$8:$D$107,4,FALSE),\"CLUB\",\"OK\"))))),\"\")","v":""},null,{"$f":"IF(BP38<>\"\",IF(BP38=\"Victoire\",IF(VLOOKUP(BM38,$A$8:$BS$107,68,FALSE)=\"Défaite\",\"OK\",\"ERR\"),IF(BP38=\"Défaite\",IF(VLOOKUP(BM38,$A$8:$BS$107,68,FALSE)=\"Victoire\",\"OK\",\"ERR\"),IF(BP38=\"Nul\",IF(VLOOKUP(BM38,$A$8:$BS$107,68,FALSE)=\"Nul\",\"OK\",\"ERR\")))),\"\")","v":""},null,{"$f":"IF(BP38=\"Victoire\",100-ROUNDDOWN(20*BR38/$H38,0),\nIF(BP38=\"Défaite\",10+ROUNDDOWN(20*VLOOKUP(BM38,$A$8:$CB$107,70,FALSE)/VLOOKUP(BM38,$A$8:$H$107,8,FALSE),0),\nIF(AND(BP38=\"Nul\",$BR38<>$H38),40+(2*ROUNDDOWN(10*VLOOKUP(BM38,$A$8:$CB$107,70,FALSE)/VLOOKUP(BM38,$A$8:$H$107,8,FALSE),0)-ROUNDDOWN(10*BR38/$H38,0)),IF(AND(BP38=\"Nul\",$BR38=$H38),58,0))))","v":0},null,{"$f":"IF($I38<>\"\",VLOOKUP($I38,$A$8:$N$107,5,FALSE),0)+IF($P38<>\"\",VLOOKUP($P38,$A$8:$N$107,5,FALSE),0)+IF($W38<>\"\",VLOOKUP($W38,$A$8:$N$107,5,FALSE),0)+IF($AD38<>\"\",VLOOKUP($AD38,$A$8:$N$107,5,FALSE),0)+IF($AK38<>\"\",VLOOKUP($AK38,$A$8:$N$107,5,FALSE),0)+IF($AR38<>\"\",VLOOKUP($AR38,$A$8:$N$107,5,FALSE),0)+IF($AY38<>\"\",VLOOKUP($AY38,$A$8:$N$107,5,FALSE),0)+IF($BF38<>\"\",VLOOKUP($BF38,$A$8:$N$107,5,FALSE),0)+IF($BM38<>\"\",VLOOKUP($BM38,$A$8:$N$107,5,FALSE),0)","v":0}]
[{"$nulls":4},0,null,{"$f":"IF($F39<>\"\",VLOOKUP(F39,Armies!$A$1:$C$300,3,FALSE),\"\")","v":""},null,null,{"$f":"IF(I39<>\"\",VLOOKUP(I39,$A$8:$C$107,2,FALSE),\"\")","v":""},{"$f":"IF(I39<>\"\",IF(I39=$A39,\"ERR\",IF(OR(I39=$P39,I39=$W39,I39=$AD39,I39=$AK39),\"DUP\",IF(ISNA(VLOOKUP(I39,$A$8:$A$107,1,FALSE)),\"ERR\",IF(COUNTIF($I$8:$I$107,I39)>1,\"ERR\",IF($D39=VLOOKUP(I39,$A$8:$D$107,4,FALSE),\"CLUB\",\"OK\"))))),\"\")","v":""},null,{"$f":"IF(L39<>\"\",IF(L39=\"Victoire\",IF(VLOOKUP(I39,$A$8:$L$107,12,FALSE)=\"Défaite\",\"OK\",\"ERR\"),IF(L39=\"Défaite\",IF(VLOOKUP(I39,$A$8:$L$107,12,FALSE)=\"Victoire\",\"OK\",\"ERR\"),IF(L39=\"Nul\",IF(VLOOKUP(I39,$A$8:$L$107,12,FALSE)=\"Nul\",\"OK\",\"ERR\")))),\"\")","v":""},null,{"$f":"IF(L39=\"Victoire\",100-ROUNDDOWN(20*N39/$H39,0),\nIF(L39=\"Défaite\",10+ROUNDDOWN(20*VLOOKUP(I39,$A$8:$N$107,14,FALSE)/VLOOKUP(I39,$A$8:$H$107,8,FALSE),0),\nIF(AND(L39=\"Nul\",$N39<>$H39),40+(2*ROUNDDOWN(10*VLOOKUP(I39,$A$8:$N$107,14,FALSE)/VLOOKUP(I39,$A$8:$H$107,8,FALSE),0)-ROUNDDOWN(10*N39/$H39,0)),IF(AND(L39=\"Nul\",$N39=$H39),58,0))))","v":0},null,{"$f":"IF(P39<>\"\",VLOOKUP(P39,$A$8:$C$107,2,FALSE),\"\")","v":""},{"$f":"IF(P39<>\"\",IF(P39=$A39,\"ERR\",IF(OR(P39=$I39,P39=$W39,P39=$AD39,P39=$AK39),\"DUP\",IF(ISNA(VLOOKUP(P39,$A$8:$A$107,1,FALSE)),\"ERR\",IF(COUNTIF($I$8:$I$107,P39)>1,\"ERR\",IF($D39=VLOOKUP(P39,$A$8:$D$107,4,FALSE),\"CLUB\",\"OK\"))))),\"\")","v":""},null,{"$f":"IF(S39<>\"\",IF(S39=\"Victoire\",IF(VLOOKUP(P39,$A$8:$AO$107,19,FALSE)=\"Défaite\",\"OK\",\"ERR\"),IF(S39=\"Défaite\",IF(VLOOKUP(P39,$A$8:$AO$107,19,FALSE)=\"Victoire\",\"OK\",\"ERR\"),IF(S39=\"Nul\",IF(VLOOKUP(P39,$A$8:$AO$107,19,FALSE)=\"Nul\",\"OK\",\"ERR\")))),\"\")","v":""},null,{"$f":"IF(S39=\"Victoire\",100-ROUNDDOWN(20*U39/$H39,0),\nIF(S39=\"Défaite\",10+ROUNDDOWN(20*VLOOKUP(P39,$A$8:$AO$107,21,FALSE)/VLOOKUP(P39,$A$8:$H$107,8,FALSE),0),\nIF(AND(S39=\"Nul\",$U39<>$H39),40+(2*ROUNDDOWN(10*VLOOKUP(P39,$A$8:$AO$107,21,FALSE)/VLOOKUP(P39,$A$8:$H$107,8,FALSE),0)-ROUNDDOWN(10*U39/$H39,0)),IF(AND(S39=\"Nul\",$U39=$H39),58,0))))","v":0},null,{"$f":"IF(W39<>\"\",VLOOKUP(W39,$A$8:$C$107,2,FALSE),\"\")","v":""},{"$f":"IF(W39<>\"\",IF(W39=$A39,\"ERR\",IF(OR(W39=$P39,W39=$I39,W39=$AD39,W39=$AK39),\"DUP\",IF(ISNA(VLOOKUP(W39,$A$8:$A$107,1,FALSE)),\"ERR\",IF(COUNTIF($I$8:$I$107,W39)>1,\"ERR\",IF($D39=VLOOKUP(W39,$A$8:$D$107,4,FALSE),\"CLUB\",\"OK\"))))),\"\")","v":""},null,{"$f":"IF(Z39<>\"\",IF(Z39=\"Victoire\",IF(VLOOKUP(W39,$A$8:$AO$107,26,FALSE)=\"Défaite\",\"OK\",\"ERR\"),IF(Z39=\"Défaite\",IF(VLOOKUP(W39,$A$8:$AO$107,26,FALSE)=\"Victoire\",\"OK\",\"ERR\"),IF(Z39=\"Nul\",IF(VLOOKUP(W39,$A$8:$AO$107,26,FALSE)=\"Nul\",\"OK\",\"ERR\")))),\"\")","v":""},null,{"$f":"IF(Z39=\"Victoire\",100-ROUNDDOWN(20*AB39/$H39,0),\nIF(Z39=\"Défaite\",10+ROUNDDOWN(20*VLOOKUP(W39,$A$8:$AO$107,28,FALSE)/VLOOKUP(W39,$A$8:$H$107,8,FALSE),0),\nIF(AND(Z39=\"Nul\",$AB39<>$H39),40+(2*ROUNDDOWN(10*VLOOKUP(W39,$A$8:$AO$107,28,FALSE)/VLOOKUP(W39,$A$8:$H$107,8,FALSE),0)-ROUNDDOWN(10*AB39/$H39,0)),IF(AND(Z39=\"Nul\",$AB39=$H39),58,0))))","v":0},null,{"$f":"IF(AD39<>\"\",VLOOKUP(AD39,$A$8:$C$107,2,FALSE),\"\")","v":""},{"$f":"IF(AD39<>\"\",IF(AD39=$A39,\"ERR\",IF(OR(AD39=$P39,AD39=$W39,AD39=$I39,AD39=$AK39),\"DUP\",IF(ISNA(VLOOKUP(AD39,$A$8:$A$107,1,FALSE)),\"ERR\",IF(COUNTIF($I$8:$I$107,AD39)>1,\"ERR\",IF($D39=VLOOKUP(AD39,$A$8:$D$107,4,FALSE),\"CLUB\",\"OK\"))))),\"\")","v":""},null,{"$f":"IF(AG39<>\"\",IF(AG39=\"Victoire\",IF(VLOOKUP(AD39,$A$8:$AO$107,33,FALSE)=\"Défaite\",\"OK\",\"ERR\"),IF(AG39=\"Défaite\",IF(VLOOKUP(AD39,$A$8:$AO$107,33,FALSE)=\"Victoire\",\"OK\",\"ERR\"),IF(AG39=\"Nul\",IF(VLOOKUP(AD39,$A$8:$AO$107,33,FALSE)=\"Nul\",\"OK\",\"ERR\")))),\"\")","v":""},null,{"$f":"IF(AG39=\"Victoire\",100-ROUNDDOWN(20*AI39/$H39,0),\nIF(AG39=\"Défaite\",10+ROUNDDOWN(20*VLOOKUP(AD39,$A$8:$AO$107,35,FALSE)/VLOOKUP(AD39,$A$8:$H$107,8,FALSE),0),\nIF(AND(AG39=\"Nul\",$AI39<>$H39),40+(2*ROUNDDOWN(10*VLOOKUP(AD39,$A$8:$AO$107,35,FALSE)/VLOOKUP(AD39,$A$8:$H$107,8,FALSE),0)-ROUNDDOWN(10*AI39/$H39,0)),IF(AND(AG39=\"Nul\",$AI39=$H39),58,0))))","v":0},null,{"$f":"IF(AK39<>\"\",VLOOKUP(AK39,$A$8:$C$107,2,FALSE),\"\")","v":""},{"$f":"IF(AK39<>\"\",IF(AK39=$A39,\"ERR\",IF(OR(AK39=$P39,AK39=$W39,AK39=$AD39,AK39=$I39),\"DUP\",IF(ISNA(VLOOKUP(AK39,$A$8:$A$107,1,FALSE)),\"ERR\",IF(COUNTIF($I$8:$I$107,AK39)>1,\"ERR\",IF($D39=VLOOKUP(AK39,$A$8:$D$107,4,FALSE),\"CLUB\",\"OK\"))))),\"\")","v":""},null,{"$f":"IF(AN39<>\"\",IF(AN39=\"Victoire\",IF(VLOOKUP(AK39,$A$8:$AO$107,40,FALSE)=\"Défaite\",\"OK\",\"ERR\"),IF(AN39=\"Défaite\",IF(VLOOKUP(AK39,$A$8:$AO$107,40,FALSE)=\"Victoire\",\"OK\",\"ERR\"),IF(AN39=\"Nul\",IF(VLOOKUP(AK39,$A$8:$AO$107,40,FALSE)=\"Nul\",\"OK\",\"ERR\")))),\"\")","v":""},null,{"$f":"IF(AN39=\"Victoire\",100-ROUNDDOWN(20*AP39/$H39,0),\nIF(AN39=\"Défaite\",10+ROUNDDOWN(20*VLOOKUP(AK39,$A$8:$CB$107,42,FALSE)/VLOOKUP(AK39,$A$8:$H$107,8,FALSE),0),\nIF(AND(AN39=\"Nul\",$AP39<>$H39),40+(2*ROUNDDOWN(10*VLOOKUP(AK39,$A$8:$CB$107,42,FALSE)/VLOOKUP(AK39,$A$8:$H$107,8,FALSE),0)-ROUNDDOWN(10*AP39/$H39,0)),IF(AND(AN39=\"Nul\",$AP39=$H39),58,0))))","v":0},null,{"$f":"IF(AR39<>\"\",VLOOKUP(AR39,$A$8:$C$107,2,FALSE),\"\")","v":""},{"$f":"IF(AR39<>\"\",IF(AR39=$A39,\"ERR\",IF(OR(AR39=$I39,AR39=$P39,AR39=$W39,AR39=$AD39,AR39=$AK39),\"DUP\",IF(ISNA(VLOOKUP(AR39,$A$8:$A$107,1,FALSE)),\"ERR\",IF(COUNTIF($I$8:$I$107,AR39)>1,\"ERR\",IF($D39=VLOOKUP(AR39,$A$8:$D$107,4,FALSE),\"CLUB\",\"OK\"))))),\"\")","v":""},null,{"$f":"IF(AU39<>\"\",IF(AU39=\"Victoire\",IF(VLOOKUP(AR39,$A$8:$BL$107,47,FALSE)=\"Défaite\",\"OK\",\"ERR\"),IF(AU39=\"Défaite\",IF(VLOOKUP(AR39,$A$8:$BL$107,47,FALSE)=\"Victoire\",\"OK\",\"ERR\"),IF(AU39=\"Nul\",IF(VLOOKUP(AR39,$A$8:$BL$107,47,FALSE)=\"Nul\",\"OK\",\"ERR\")))),\"\")","v":""},null,{"$f":"IF(AU39=\"Victoire\",100-ROUNDDOWN(20*AW39/$H39,0),\nIF(AU39=\"Défaite\",10+ROUNDDOWN(20*VLOOKUP(AR39,$A$8:$CB$107,49,FALSE)/VLOOKUP(AR39,$A$8:$H$107,8,FALSE),0),\nIF(AND(AU39=\"Nul\",$AW39<>$H39),40+(2*ROUNDDOWN(10*VLOOKUP(AR39,$A$8:$CB$107,49,FALSE)/VLOOKUP(AR39,$A$8:$H$107,8,FALSE),0)-ROUNDDOWN(10*AW39/$H39,0)),IF(AND(AU39=\"Nul\",$AW39=$H39),58,0))))","v":0},null,{"$f":"IF(AY39<>\"\",VLOOKUP(AY39,$A$8:$C$107,2,FALSE),\"\")","v":""},{"$f":"IF(AY39<>\"\",IF(AY39=$A39,\"ERR\",IF(OR(AY39=$I39,AY39=$P39,AY39=$W39,AY39=$AD39,AY39=$AK39,AY39=$AR39),\"DUP\",IF(ISNA(VLOOKUP(AY39,$A$8:$A$107,1,FALSE)),\"ERR\",IF(COUNTIF($I$8:$I$107,AY39)>1,\"ERR\",IF($D39=VLOOKUP(AY39,$A$8:$D$107,4,FALSE),\"CLUB\",\"OK\"))))),\"\")","v":""},null,{"$f":"IF(BB39<>\"\",IF(BB39=\"Victoire\",IF(VLOOKUP(AY39,$A$8:$BL$107,54,FALSE)=\"Défaite\",\"OK\",\"ERR\"),IF(BB39=\"Défaite\",IF(VLOOKUP(AY39,$A$8:$BL$107,54,FALSE)=\"Victoire\",\"OK\",\"ERR\"),IF(BB39=\"Nul\",IF(VLOOKUP(AY39,$A$8:$BL$107,54,FALSE)=\"Nul\",\"OK\",\"ERR\")))),\"\")","v":""},null,{"$f":"IF(BB39=\"Victoire\",100-ROUNDDOWN(20*BD39/$H39,0),\nIF(BB39=\"Défaite\",10+ROUNDDOWN(20*VLOOKUP(AY39,$A$8:$CB$107,56,FALSE)/VLOOKUP(AY39,$A$8:$H$107,8,FALSE),0),\nIF(AND(BB39=\"Nul\",$BD39<>$H39),40+(2*ROUNDDOWN(10*VLOOKUP(AY39,$A$8:$CB$107,56,FALSE)/VLOOKUP(AY39,$A$8:$H$107,8,FALSE),0)-ROUNDDOWN(10*BD39/$H39,0)),IF(AND(BB39=\"Nul\",$BD39=$H39),58,0))))","v":0},null,{"$f":"IF(BF39<>\"\",VLOOKUP(BF39,$A$8:$C$107,2,FALSE),\"\")","v":""},{"$f":"IF(BF39<>\"\",IF(BF39=$A39,\"ERR\",IF(OR(BF39=$I39,BF39=$P39,BF39=$W39,BF39=$AD39,BF39=$AK39,BF39=$AR39,BF39=$AY39),\"DUP\",IF(ISNA(VLOOKUP(BF39,$A$8:$A$107,1,FALSE)),\"ERR\",IF(COUNTIF($I$8:$I$107,BF39)>1,\"ERR\",IF($D39=VLOOKUP(BF39,$A$8:$D$107,4,FALSE),\"CLUB\",\"OK\"))))),\"\")","v":""},null,{"$f":"IF(BI39<>\"\",IF(BI39=\"Victoire\",IF(VLOOKUP(BF39,$A$8:$BL$107,61,FALSE)=\"Défaite\",\"OK\",\"ERR\"),IF(BI39=\"Défaite\",IF(VLOOKUP(BF39,$A$8:$BL$107,61,FALSE)=\"Victoire\",\"OK\",\"ERR\"),IF(BI39=\"Nul\",IF(VLOOKUP(BF39,$A$8:$BL$107,61,FALSE)=\"Nul\",\"OK\",\"ERR\")))),\"\")","v":""},null,{"$f":"IF(BI39=\"Victoire\",100-ROUNDDOWN(20*BK39/$H39,0),\nIF(BI39=\"Défaite\",10+ROUNDDOWN(20*VLOOKUP(BF39,$A$8:$CB$107,63,FALSE)/VLOOKUP(BF39,$A$8:$H$107,8,FALSE),0),\nIF(AND(BI39=\"Nul\",$BK39<>$H39),40+(2*ROUNDDOWN(10*VLOOKUP(BF39,$A$8:$CB$107,63,FALSE)/VLOOKUP(BF39,$A$8:$H$107,8,FALSE),0)-ROUNDDOWN(10*BK39/$H39,0)),IF(AND(BI39=\"Nul\",$BK39=$H39),58,0))))","v":0},null,{"$f":"IF(BM39<>\"\",VLOOKUP(BM39,$A$8:$C$107,2,FALSE),\"\")","v":""},{"$f":"IF(BM39<>\"\",IF(BM39=$A39,\"ERR\",IF(OR(BM39=$I39,BM39=$P39,BM39=$W39,BM39=$AD39,BM39=$AK39,BM39=$AR39,BM39=$AY39,BM39=$BF39),\"DUP\",IF(ISNA(VLOOKUP(BM39,$A$8:$A$107,1,FALSE)),\"ERR\",IF(COUNTIF($I$8:$I$107,BM39)>1,\"ERR\",IF($D39=VLOOKUP(BM39,$A$8:$D$107,4,FALSE),\"CLUB\",\"OK\"))))),\"\")","v":""},null,{"$f":"IF(BP39<>\"\",IF(BP39=\"Victoire\",IF(VLOOKUP(BM39,$A$8:$BS$107,68,FALSE)=\"Défaite\",\"OK\",\"ERR\"),IF(BP39=\"Défaite\",IF(VLOOKUP(BM39,$A$8:$BS$107,68,FALSE)=\"Victoire\",\"OK\",\"ERR\"),IF(BP39=\"Nul\",IF(VLOOKUP(BM39,$A$8:$BS$107,68,FALSE)=\"Nul\",\"OK\",\"ERR\")))),\"\")","v":""},null,{"$f":"IF(BP39=\"Victoire\",100-ROUNDDOWN(20*BR39/$H39,0),\nIF(BP39=\"Défaite\",10+ROUNDDOWN(20*VLOOKUP(BM39,$A$8:$CB$107,70,FALSE)/VLOOKUP(BM39,$A$8:$H$107,8,FALSE),0),\nIF(AND(BP39=\"Nul\",$BR39<>$H39),40+(2*ROUNDDOWN(10*VLOOKUP(BM39,$A$8:$CB$107,70,FALSE)/VLOOKUP(BM39,$A$8:$H$107,8,FALSE),0)-ROUNDDOWN(10*BR39/$H39,0)),IF(AND(BP39=\"Nul\",$BR39=$H39),58,0))))","v":0},null,{"$f":"IF($I39<>\"\",VLOOKUP($I39,$A$8:$N$107,5,FALSE),0)+IF($P39<>\"\",VLOOKUP($P39,$A$8:$N$107,5,FALSE),0)+IF($W39<>\"\",VLOOKUP($W39,$A$8:$N$107,5,FALSE),0)+IF($AD39<>\"\",VLOOKUP($AD39,$A$8:$N$107,5,FALSE),0)+IF($AK39<>\"\",VLOOKUP($AK39,$A$8:$N$107,5,FALSE),0)+IF($AR39<>\"\",VLOOKUP($AR39,$A$8:$N$107,5,FALSE),0)+IF($AY39<>\"\",VLOOKUP($AY39,$A$8:$N$107,5,FALSE),0)+IF($BF39<>\"\",VLOOKUP($BF39,$A$8:$N$107,5,FALSE),0)+IF($BM39<>\"\",VLOOKUP($BM39,$A$8:$N$107,5,FALSE),0)","v":0}]
[{"$nulls":4},0,null,{"$f":"IF($F40<>\"\",VLOOKUP(F40,Armies!$A$1:$C$300,3,FALSE),\"\")","v":""},null,null,{"$f":"IF(I40<>\"\",VLOOKUP(I40,$A$8:$C$107,2,FALSE),\"\")","v":""},{"$f":"IF(I40<>\"\",IF(I40=$A40,\"ERR\",IF(OR(I40=$P40,I40=$W40,I40=$AD40,I40=$AK40),\"DUP\",IF(ISNA(VLOOKUP(I40,$A$8:$A$107,1,FALSE)),\"ERR\",IF(COUNTIF($I$8:$I$107,I40)>1,\"ERR\",IF($D40=VLOOKUP(I40,$A$8:$D$107,4,FALSE),\"CLUB\",\"OK\"))))),\"\")","v":""},null,{"$f":"IF(L40<>\"\",IF(L40=\"Victoire\",IF(VLOOKUP(I40,$A$8:$L$107,12,FALSE)=\"Défaite\",\"OK\",\"ERR\"),IF(L40=\"Défaite\",IF(VLOOKUP(I40,$A$8:$L$107,12,FALSE)=\"Victoire\",\"OK\",\"ERR\"),IF(L40=\"Nul\",IF(VLOOKUP(I40,$A$8:$L$107,12,FALSE)=\"Nul\",\"OK\",\"ERR\")))),\"\")","v":""},null,{"$f":"IF(L40=\"Victoire\",100-ROUNDDOWN(20*N40/$H40,0),\nIF(L40=\"Défaite\",10+ROUNDDOWN(20*VLOOKUP(I40,$A$8:$N$107,14,FALSE)/VLOOKUP(I40,$A$8:$H$107,8,FALSE),0),\nIF(AND(L40=\"Nul\",$N40<>$H40),40+(2*ROUNDDOWN(10*VLOOKUP(I40,$A$8:$N$107,14,FALSE)/VLOOKUP(I40,$A$8:$H$107,8,FALSE),0)-ROUNDDOWN(10*N40/$H40,0)),IF(AND(L40=\"Nul\",$N40=$H40),58,0))))","v":0},null,{"$f":"IF(P40<>\"\",VLOOKUP(P40,$A$8:$C$107,2,FALSE),\"\")","v":""},{"$f":"IF(P40<>\"\",IF(P40=$A40,\"ERR\",IF(OR(P40=$I40,P40=$W40,P40=$AD40,P40=$AK40),\"DUP\",IF(ISNA(VLOOKUP(P40,$A$8:$A$107,1,FALSE)),\"ERR\",IF(COUNTIF($I$8:$I$107,P40)>1,\"ERR\",IF($D40=VLOOKUP(P40,$A$8:$D$107,4,FALSE),\"CLUB\",\"OK\"))))),\"\")","v":""},null,{"$f":"IF(S40<>\"\",IF(S40=\"Victoire\",IF(VLOOKUP(P40,$A$8:$AO$107,19,FALSE)=\"Défaite\",\"OK\",\"ERR\"),IF(S40=\"Défaite\",IF(VLOOKUP(P40,$A$8:$AO$107,19,FALSE)=\"Victoire\",\"OK\",\"ERR\"),IF(S40=\"Nul\",IF(VLOOKUP(P40,$A$8:$AO$107,19,FALSE)=\"Nul\",\"OK\",\"ERR\")))),\"\")","v":""},null,{"$f":"IF(S40=\"Victoire\",100-ROUNDDOWN(20*U40/$H40,0),\nIF(S40=\"Défaite\",10+ROUNDDOWN(20*VLOOKUP(P40,$A$8:$AO$107,21,FALSE)/VLOOKUP(P40,$A$8:$H$107,8,FALSE),0),\nIF(AND(S40=\"Nul\",$U40<>$H40),40+(2*ROUNDDOWN(10*VLOOKUP(P40,$A$8:$AO$107,21,FALSE)/VLOOKUP(P40,$A$8:$H$107,8,FALSE),0)-ROUNDDOWN(10*U40/$H40,0)),IF(AND(S40=\"Nul\",$U40=$H40),58,0))))","v":0},null,{"$f":"IF(W40<>\"\",VLOOKUP(W40,$A$8:$C$107,2,FALSE),\"\")","v":""},{"$f":"IF(W40<>\"\",IF(W40=$A40,\"ERR\",IF(OR(W40=$P40,W40=$I40,W40=$AD40,W40=$AK40),\"DUP\",IF(ISNA(VLOOKUP(W40,$A$8:$A$107,1,FALSE)),\"ERR\",IF(COUNTIF($I$8:$I$107,W40)>1,\"ERR\",IF($D40=VLOOKUP(W40,$A$8:$D$107,4,FALSE),\"CLUB\",\"OK\"))))),\"\")","v":""},null,{"$f":"IF(Z40<>\"\",IF(Z40=\"Victoire\",IF(VLOOKUP(W40,$A$8:$AO$107,26,FALSE)=\"Défaite\",\"OK\",\"ERR\"),IF(Z40=\"Défaite\",IF(VLOOKUP(W40,$A$8:$AO$107,26,FALSE)=\"Victoire\",\"OK\",\"ERR\"),IF(Z40=\"Nul\",IF(VLOOKUP(W40,$A$8:$AO$107,26,FALSE)=\"Nul\",\"OK\",\"ERR\")))),\"\")","v":""},null,{"$f":"IF(Z40=\"Victoire\",100-ROUNDDOWN(20*AB40/$H40,0),\nIF(Z40=\"Défaite\",10+ROUNDDOWN(20*VLOOKUP(W40,$A$8:$AO$107,28,FALSE)/VLOOKUP(W40,$A$8:$H$107,8,FALSE),0),\nIF(AND(Z40=\"Nul\",$AB40<>$H40),40+(2*ROUNDDOWN(10*VLOOKUP(W40,$A$8:$AO$107,28,FALSE)/VLOOKUP(W40,$A$8:$H$107,8,FALSE),0)-ROUNDDOWN(10*AB40/$H40,0)),IF(AND(Z40=\"Nul\",$AB40=$H40),58,0))))","v":0},null,{"$f":"IF(AD40<>\"\",VLOOKUP(AD40,$A$8:$C$107,2,FALSE),\"\")","v":""},{"$f":"IF(AD40<>\"\",IF(AD40=$A40,\"ERR\",IF(OR(AD40=$P40,AD40=$W40,AD40=$I40,AD40=$AK40),\"DUP\",IF(ISNA(VLOOKUP(AD40,$A$8:$A$107,1,FALSE)),\"ERR\",IF(COUNTIF($I$8:$I$107,AD40)>1,\"ERR\",IF($D40=VLOOKUP(AD40,$A$8:$D$107,4,FALSE),\"CLUB\",\"OK\"))))),\"\")","v":""},null,{"$f":"IF(AG40<>\"\",IF(AG40=\"Victoire\",IF(VLOOKUP(AD40,$A$8:$AO$107,33,FALSE)=\"Défaite\",\"OK\",\"ERR\"),IF(AG40=\"Défaite\",IF(VLOOKUP(AD40,$A$8:$AO$107,33,FALSE)=\"Victoire\",\"OK\",\"ERR\"),IF(AG40=\"Nul\",IF(VLOOKUP(AD40,$A$8:$AO$107,33,FALSE)=\"Nul\",\"OK\",\"ERR\")))),\"\")","v":""},null,{"$f":"IF(AG40=\"Victoire\",100-ROUNDDOWN(20*AI40/$H40,0),\nIF(AG40=\"Défaite\",10+ROUNDDOWN(20*VLOOKUP(AD40,$A$8:$AO$107,35,FALSE)/VLOOKUP(AD40,$A$8:$H$107,8,FALSE),0),\nIF(AND(AG40=\"Nul\",$AI40<>$H40),40+(2*ROUNDDOWN(10*VLOOKUP(AD40,$A$8:$AO$107,35,FALSE)/VLOOKUP(AD40,$A$8:$H$107,8,FALSE),0)-ROUNDDOWN(10*AI40/$H40,0)),IF(AND(AG40=\"Nul\",$AI40=$H40),58,0))))","v":0},null,{"$f":"IF(AK40<>\"\",VLOOKUP(AK40,$A$8:$C$107,2,FALSE),\"\")","v":""},{"$f":"IF(AK40<>\"\",IF(AK40=$A40,\"ERR\",IF(OR(AK40=$P40,AK40=$W40,AK40=$AD40,AK40=$I40),\"DUP\",IF(ISNA(VLOOKUP(AK40,$A$8:$A$107,1,FALSE)),\"ERR\",IF(COUNTIF($I$8:$I$107,AK40)>1,\"ERR\",IF($D40=VLOOKUP(AK40,$A$8:$D$107,4,FALSE),\"CLUB\",\"OK\"))))),\"\")","v":""},null,{"$f":"IF(AN40<>\"\",IF(AN40=\"Victoire\",IF(VLOOKUP(AK40,$A$8:$AO$107,40,FALSE)=\"Défaite\",\"OK\",\"ERR\"),IF(AN40=\"Défaite\",IF(VLOOKUP(AK40,$A$8:$AO$107,40,FALSE)=\"Victoire\",\"OK\",\"ERR\"),IF(AN40=\"Nul\",IF(VLOOKUP(AK40,$A$8:$AO$107,40,FALSE)=\"Nul\",\"OK\",\"ERR\")))),\"\")","v":""},null,{"$f":"IF(AN40=\"Victoire\",100-ROUNDDOWN(20*AP40/$H40,0),\nIF(AN40=\"Défaite\",10+ROUNDDOWN(20*VLOOKUP(AK40,$A$8:$CB$107,42,FALSE)/VLOOKUP(AK40,$A$8:$H$107,8,FALSE),0),\nIF(AND(AN40=\"Nul\",$AP40<>$H40),40+(2*ROUNDDOWN(10*VLOOKUP(AK40,$A$8:$CB$107,42,FALSE)/VLOOKUP(AK40,$A$8:$H$107,8,FALSE),0)-ROUNDDOWN(10*AP40/$H40,0)),IF(AND(AN40=\"Nul\",$AP40=$H40),58,0))))","v":0},null,{"$f":"IF(AR40<>\"\",VLOOKUP(AR40,$A$8:$C$107,2,FALSE),\"\")","v":""},{"$f":"IF(AR40<>\"\",IF(AR40=$A40,\"ERR\",IF(OR(AR40=$I40,AR40=$P40,AR40=$W40,AR40=$AD40,AR40=$AK40),\"DUP\",IF(ISNA(VLOOKUP(AR40,$A$8:$A$107,1,FALSE)),\"ERR\",IF(COUNTIF($I$8:$I$107,AR40)>1,\"ERR\",IF($D40=VLOOKUP(AR40,$A$8:$D$107,4,FALSE),\"CLUB\",\"OK\"))))),\"\")","v":""},null,{"$f":"IF(AU40<>\"\",IF(AU40=\"Victoire\",IF(VLOOKUP(AR40,$A$8:$BL$107,47,FALSE)=\"Défaite\",\"OK\",\"ERR\"),IF(AU40=\"Défaite\",IF(VLOOKUP(AR40,$A$8:$BL$107,47,FALSE)=\"Victoire\",\"OK\",\"ERR\"),IF(AU40=\"Nul\",IF(VLOOKUP(AR40,$A$8:$BL$107,47,FALSE)=\"Nul\",\"OK\",\"ERR\")))),\"\")","v":""},null,{"$f":"IF(AU40=\"Victoire\",100-ROUNDDOWN(20*AW40/$H40,0),\nIF(AU40=\"Défaite\",10+ROUNDDOWN(20*VLOOKUP(AR40,$A$8:$CB$107,49,FALSE)/VLOOKUP(AR40,$A$8:$H$107,8,FALSE),0),\nIF(AND(AU40=\"Nul\",$AW40<>$H40),40+(2*ROUNDDOWN(10*VLOOKUP(AR40,$A$8:$CB$107,49,FALSE)/VLOOKUP(AR40,$A$8:$H$107,8,FALSE),0)-ROUNDDOWN(10*AW40/$H40,0)),IF(AND(AU40=\"Nul\",$AW40=$H40),58,0))))","v":0},null,{"$f":"IF(AY40<>\"\",VLOOKUP(AY40,$A$8:$C$107,2,FALSE),\"\")","v":""},{"$f":"IF(AY40<>\"\",IF(AY40=$A40,\"ERR\",IF(OR(AY40=$I40,AY40=$P40,AY40=$W40,AY40=$AD40,AY40=$AK40,AY40=$AR40),\"DUP\",IF(ISNA(VLOOKUP(AY40,$A$8:$A$107,1,FALSE)),\"ERR\",IF(COUNTIF($I$8:$I$107,AY40)>1,\"ERR\",IF($D40=VLOOKUP(AY40,$A$8:$D$107,4,FALSE),\"CLUB\",\"OK\"))))),\"\")","v":""},null,{"$f":"IF(BB40<>\"\",IF(BB40=\"Victoire\",IF(VLOOKUP(AY40,$A$8:$BL$107,54,FALSE)=\"Défaite\",\"OK\",\"ERR\"),IF(BB40=\"Défaite\",IF(VLOOKUP(AY40,$A$8:$BL$107,54,FALSE)=\"Victoire\",\"OK\",\"ERR\"),IF(BB40=\"Nul\",IF(VLOOKUP(AY40,$A$8:$BL$107,54,FALSE)=\"Nul\",\"OK\",\"ERR\")))),\"\")","v":""},null,{"$f":"IF(BB40=\"Victoire\",100-ROUNDDOWN(20*BD40/$H40,0),\nIF(BB40=\"Défaite\",10+ROUNDDOWN(20*VLOOKUP(AY40,$A$8:$CB$107,56,FALSE)/VLOOKUP(AY40,$A$8:$H$107,8,FALSE),0),\nIF(AND(BB40=\"Nul\",$BD40<>$H40),40+(2*ROUNDDOWN(10*VLOOKUP(AY40,$A$8:$CB$107,56,FALSE)/VLOOKUP(AY40,$A$8:$H$107,8,FALSE),0)-ROUNDDOWN(10*BD40/$H40,0)),IF(AND(BB40=\"Nul\",$BD40=$H40),58,0))))","v":0},null,{"$f":"IF(BF40<>\"\",VLOOKUP(BF40,$A$8:$C$107,2,FALSE),\"\")","v":""},{"$f":"IF(BF40<>\"\",IF(BF40=$A40,\"ERR\",IF(OR(BF40=$I40,BF40=$P40,BF40=$W40,BF40=$AD40,BF40=$AK40,BF40=$AR40,BF40=$AY40),\"DUP\",IF(ISNA(VLOOKUP(BF40,$A$8:$A$107,1,FALSE)),\"ERR\",IF(COUNTIF($I$8:$I$107,BF40)>1,\"ERR\",IF($D40=VLOOKUP(BF40,$A$8:$D$107,4,FALSE),\"CLUB\",\"OK\"))))),\"\")","v":""},null,{"$f":"IF(BI40<>\"\",IF(BI40=\"Victoire\",IF(VLOOKUP(BF40,$A$8:$BL$107,61,FALSE)=\"Défaite\",\"OK\",\"ERR\"),IF(BI40=\"Défaite\",IF(VLOOKUP(BF40,$A$8:$BL$107,61,FALSE)=\"Victoire\",\"OK\",\"ERR\"),IF(BI40=\"Nul\",IF(VLOOKUP(BF40,$A$8:$BL$107,61,FALSE)=\"Nul\",\"OK\",\"ERR\")))),\"\")","v":""},null,{"$f":"IF(BI40=\"Victoire\",100-ROUNDDOWN(20*BK40/$H40,0),\nIF(BI40=\"Défaite\",10+ROUNDDOWN(20*VLOOKUP(BF40,$A$8:$CB$107,63,FALSE)/VLOOKUP(BF40,$A$8:$H$107,8,FALSE),0),\nIF(AND(BI40=\"Nul\",$BK40<>$H40),40+(2*ROUNDDOWN(10*VLOOKUP(BF40,$A$8:$CB$107,63,FALSE)/VLOOKUP(BF40,$A$8:$H$107,8,FALSE),0)-ROUNDDOWN(10*BK40/$H40,0)),IF(AND(BI40=\"Nul\",$BK40=$H40),58,0))))","v":0},null,{"$f":"IF(BM40<>\"\",VLOOKUP(BM40,$A$8:$C$107,2,FALSE),\"\")","v":""},{"$f":"IF(BM40<>\"\",IF(BM40=$A40,\"ERR\",IF(OR(BM40=$I40,BM40=$P40,BM40=$W40,BM40=$AD40,BM40=$AK40,BM40=$AR40,BM40=$AY40,BM40=$BF40),\"DUP\",IF(ISNA(VLOOKUP(BM40,$A$8:$A$107,1,FALSE)),\"ERR\",IF(COUNTIF($I$8:$I$107,BM40)>1,\"ERR\",IF($D40=VLOOKUP(BM40,$A$8:$D$107,4,FALSE),\"CLUB\",\"OK\"))))),\"\")","v":""},null,{"$f":"IF(BP40<>\"\",IF(BP40=\"Victoire\",IF(VLOOKUP(BM40,$A$8:$BS$107,68,FALSE)=\"Défaite\",\"OK\",\"ERR\"),IF(BP40=\"Défaite\",IF(VLOOKUP(BM40,$A$8:$BS$107,68,FALSE)=\"Victoire\",\"OK\",\"ERR\"),IF(BP40=\"Nul\",IF(VLOOKUP(BM40,$A$8:$BS$107,68,FALSE)=\"Nul\",\"OK\",\"ERR\")))),\"\")","v":""},null,{"$f":"IF(BP40=\"Victoire\",100-ROUNDDOWN(20*BR40/$H40,0),\nIF(BP40=\"Défaite\",10+ROUNDDOWN(20*VLOOKUP(BM40,$A$8:$CB$107,70,FALSE)/VLOOKUP(BM40,$A$8:$H$107,8,FALSE),0),\nIF(AND(BP40=\"Nul\",$BR40<>$H40),40+(2*ROUNDDOWN(10*VLOOKUP(BM40,$A$8:$CB$107,70,FALSE)/VLOOKUP(BM40,$A$8:$H$107,8,FALSE),0)-ROUNDDOWN(10*BR40/$H40,0)),IF(AND(BP40=\"Nul\",$BR40=$H40),58,0))))","v":0},null,{"$f":"IF($I40<>\"\",VLOOKUP($I40,$A$8:$N$107,5,FALSE),0)+IF($P40<>\"\",VLOOKUP($P40,$A$8:$N$107,5,FALSE),0)+IF($W40<>\"\",VLOOKUP($W40,$A$8:$N$107,5,FALSE),0)+IF($AD40<>\"\",VLOOKUP($AD40,$A$8:$N$107,5,FALSE),0)+IF($AK40<>\"\",VLOOKUP($AK40,$A$8:$N$107,5,FALSE),0)+IF($AR40<>\"\",VLOOKUP($AR40,$A$8:$N$107,5,FALSE),0)+IF($AY40<>\"\",VLOOKUP($AY40,$A$8:$N$107,5,FALSE),0)+IF($BF40<>\"\",VLOOKUP($BF40,$A$8:$N$107,5,FALSE),0)+IF($BM40<>\"\",VLOOKUP($BM40,$A$8:$N$107,5,FALSE),0)","v":0}]
[{"$nulls":4},0,null,{"$f":"IF($F41<>\"\",VLOOKUP(F41,Armies!$A$1:$C$300,3,FALSE),\"\")","v":""},null,null,{"$f":"IF(I41<>\"\",VLOOKUP(I41,$A$8:$C$107,2,FALSE),\"\")","v":""},{"$f":"IF(I41<>\"\",IF(I41=$A41,\"ERR\",IF(OR(I41=$P41,I41=$W41,I41=$AD41,I41=$AK41),\"DUP\",IF(ISNA(VLOOKUP(I41,$A$8:$A$107,1,FALSE)),\"ERR\",IF(COUNTIF($I$8:$I$107,I41)>1,\"ERR\",IF($D41=VLOOKUP(I41,$A$8:$D$107,4,FALSE),\"CLUB\",\"OK\"))))),\"\")","v":""},null,{"$f":"IF(L41<>\"\",IF(L41=\"Victoire\",IF(VLOOKUP(I41,$A$8:$L$107,12,FALSE)=\"Défaite\",\"OK\",\"ERR\"),IF(L41=\"Défaite\",IF(VLOOKUP(I41,$A$8:$L$107,12,FALSE)=\"Victoire\",\"OK\",\"ERR\"),IF(L41=\"Nul\",IF(VLOOKUP(I41,$A$8:$L$107,12,FALSE)=\"Nul\",\"OK\",\"ERR\")))),\"\")","v":""},null,{"$f":"IF(L41=\"Victoire\",100-ROUNDDOWN(20*N41/$H41,0),\nIF(L41=\"Défaite\",10+ROUNDDOWN(20*VLOOKUP(I41,$A$8:$N$107,14,FALSE)/VLOOKUP(I41,$A$8:$H$107,8,FALSE),0),\nIF(AND(L41=\"Nul\",$N41<>$H41),40+(2*ROUNDDOWN(10*VLOOKUP(I41,$A$8:$N$107,14,FALSE)/VLOOKUP(I41,$A$8:$H$107,8,FALSE),0)-ROUNDDOWN(10*N41/$H41,0)),IF(AND(L41=\"Nul\",$N41=$H41),58,0))))","v":0},null,{"$f":"IF(P41<>\"\",VLOOKUP(P41,$A$8:$C$107,2,FALSE),\"\")","v":""},{"$f":"IF(P41<>\"\",IF(P41=$A41,\"ERR\",IF(OR(P41=$I41,P41=$W41,P41=$AD41,P41=$AK41),\"DUP\",IF(ISNA(VLOOKUP(P41,$A$8:$A$107,1,FALSE)),\"ERR\",IF(COUNTIF($I$8:$I$107,P41)>1,\"ERR\",IF($D41=VLOOKUP(P41,$A$8:$D$107,4,FALSE),\"CLUB\",\"OK\"))))),\"\")","v":""},null,{"$f":"IF(S41<>\"\",IF(S41=\"Victoire\",IF(VLOOKUP(P41,$A$8:$AO$107,19,FALSE)=\"Défaite\",\"OK\",\"ERR\"),IF(S41=\"Défaite\",IF(VLOOKUP(P41,$A$8:$AO$107,19,FALSE)=\"Victoire\",\"OK\",\"ERR\"),IF(S41=\"Nul\",IF(VLOOKUP(P41,$A$8:$AO$107,19,FALSE)=\"Nul\",\"OK\",\"ERR\")))),\"\")","v":""},null,{"$f":"IF(S41=\"Victoire\",100-ROUNDDOWN(20*U41/$H41,0),\nIF(S41=\"Défaite\",10+ROUNDDOWN(20*VLOOKUP(P41,$A$8:$AO$107,21,FALSE)/VLOOKUP(P41,$A$8:$H$107,8,FALSE),0),\nIF(AND(S41=\"Nul\",$U41<>$H41),40+(2*ROUNDDOWN(10*VLOOKUP(P41,$A$8:$AO$107,21,FALSE)/VLOOKUP(P41,$A$8:$H$107,8,FALSE),0)-ROUNDDOWN(10*U41/$H41,0)),IF(AND(S41=\"Nul\",$U41=$H41),58,0))))","v":0},null,{"$f":"IF(W41<>\"\",VLOOKUP(W41,$A$8:$C$107,2,FALSE),\"\")","v":""},{"$f":"IF(W41<>\"\",IF(W41=$A41,\"ERR\",IF(OR(W41=$P41,W41=$I41,W41=$AD41,W41=$AK41),\"DUP\",IF(ISNA(VLOOKUP(W41,$A$8:$A$107,1,FALSE)),\"ERR\",IF(COUNTIF($I$8:$I$107,W41)>1,\"ERR\",IF($D41=VLOOKUP(W41,$A$8:$D$107,4,FALSE),\"CLUB\",\"OK\"))))),\"\")","v":""},null,{"$f":"IF(Z41<>\"\",IF(Z41=\"Victoire\",IF(VLOOKUP(W41,$A$8:$AO$107,26,FALSE)=\"Défaite\",\"OK\",\"ERR\"),IF(Z41=\"Défaite\",IF(VLOOKUP(W41,$A$8:$AO$107,26,FALSE)=\"Victoire\",\"OK\",\"ERR\"),IF(Z41=\"Nul\",IF(VLOOKUP(W41,$A$8:$AO$107,26,FALSE)=\"Nul\",\"OK\",\"ERR\")))),\"\")","v":""},null,{"$f":"IF(Z41=\"Victoire\",100-ROUNDDOWN(20*AB41/$H41,0),\nIF(Z41=\"Défaite\",10+ROUNDDOWN(20*VLOOKUP(W41,$A$8:$AO$107,28,FALSE)/VLOOKUP(W41,$A$8:$H$107,8,FALSE),0),\nIF(AND(Z41=\"Nul\",$AB41<>$H41),40+(2*ROUNDDOWN(10*VLOOKUP(W41,$A$8:$AO$107,28,FALSE)/VLOOKUP(W41,$A$8:$H$107,8,FALSE),0)-ROUNDDOWN(10*AB41/$H41,0)),IF(AND(Z41=\"Nul\",$AB41=$H41),58,0))))","v":0},null,{"$f":"IF(AD41<>\"\",VLOOKUP(AD41,$A$8:$C$107,2,FALSE),\"\")","v":""},{"$f":"IF(AD41<>\"\",IF(AD41=$A41,\"ERR\",IF(OR(AD41=$P41,AD41=$W41,AD41=$I41,AD41=$AK41),\"DUP\",IF(ISNA(VLOOKUP(AD41,$A$8:$A$107,1,FALSE)),\"ERR\",IF(COUNTIF($I$8:$I$107,AD41)>1,\"ERR\",IF($D41=VLOOKUP(AD41,$A$8:$D$107,4,FALSE),\"CLUB\",\"OK\"))))),\"\")","v":""},null,{"$f":"IF(AG41<>\"\",IF(AG41=\"Victoire\",IF(VLOOKUP(AD41,$A$8:$AO$107,33,FALSE)=\"Défaite\",\"OK\",\"ERR\"),IF(AG41=\"Défaite\",IF(VLOOKUP(AD41,$A$8:$AO$107,33,FALSE)=\"Victoire\",\"OK\",\"ERR\"),IF(AG41=\"Nul\",IF(VLOOKUP(AD41,$A$8:$AO$107,33,FALSE)=\"Nul\",\"OK\",\"ERR\")))),\"\")","v":""},null,{"$f":"IF(AG41=\"Victoire\",100-ROUNDDOWN(20*AI41/$H41,0),\nIF(AG41=\"Défaite\",10+ROUNDDOWN(20*VLOOKUP(AD41,$A$8:$AO$107,35,FALSE)/VLOOKUP(AD41,$A$8:$H$107,8,FALSE),0),\nIF(AND(AG41=\"Nul\",$AI41<>$H41),40+(2*ROUNDDOWN(10*VLOOKUP(AD41,$A$8:$AO$107,35,FALSE)/VLOOKUP(AD41,$A$8:$H$107,8,FALSE),0)-ROUNDDOWN(10*AI41/$H41,0)),IF(AND(AG41=\"Nul\",$AI41=$H41),58,0))))","v":0},null,{"$f":"IF(AK41<>\"\",VLOOKUP(AK41,$A$8:$C$107,2,FALSE),\"\")","v":""},{"$f":"IF(AK41<>\"\",IF(AK41=$A41,\"ERR\",IF(OR(AK41=$P41,AK41=$W41,AK41=$AD41,AK41=$I41),\"DUP\",IF(ISNA(VLOOKUP(AK41,$A$8:$A$107,1,FALSE)),\"ERR\",IF(COUNTIF($I$8:$I$107,AK41)>1,\"ERR\",IF($D41=VLOOKUP(AK41,$A$8:$D$107,4,FALSE),\"CLUB\",\"OK\"))))),\"\")","v":""},null,{"$f":"IF(AN41<>\"\",IF(AN41=\"Victoire\",IF(VLOOKUP(AK41,$A$8:$AO$107,40,FALSE)=\"Défaite\",\"OK\",\"ERR\"),IF(AN41=\"Défaite\",IF(VLOOKUP(AK41,$A$8:$AO$107,40,FALSE)=\"Victoire\",\"OK\",\"ERR\"),IF(AN41=\"Nul\",IF(VLOOKUP(AK41,$A$8:$AO$107,40,FALSE)=\"Nul\",\"OK\",\"ERR\")))),\"\")","v":""},null,{"$f":"IF(AN41=\"Victoire\",100-ROUNDDOWN(20*AP41/$H41,0),\nIF(AN41=\"Défaite\",10+ROUNDDOWN(20*VLOOKUP(AK41,$A$8:$CB$107,42,FALSE)/VLOOKUP(AK41,$A$8:$H$107,8,FALSE),0),\nIF(AND(AN41=\"Nul\",$AP41<>$H41),40+(2*ROUNDDOWN(10*VLOOKUP(AK41,$A$8:$CB$107,42,FALSE)/VLOOKUP(AK41,$A$8:$H$107,8,FALSE),0)-ROUNDDOWN(10*AP41/$H41,0)),IF(AND(AN41=\"Nul\",$AP41=$H41),58,0))))","v":0},null,{"$f":"IF(AR41<>\"\",VLOOKUP(AR41,$A$8:$C$107,2,FALSE),\"\")","v":""},{"$f":"IF(AR41<>\"\",IF(AR41=$A41,\"ERR\",IF(OR(AR41=$I41,AR41=$P41,AR41=$W41,AR41=$AD41,AR41=$AK41),\"DUP\",IF(ISNA(VLOOKUP(AR41,$A$8:$A$107,1,FALSE)),\"ERR\",IF(COUNTIF($I$8:$I$107,AR41)>1,\"ERR\",IF($D41=VLOOKUP(AR41,$A$8:$D$107,4,FALSE),\"CLUB\",\"OK\"))))),\"\")","v":""},null,{"$f":"IF(AU41<>\"\",IF(AU41=\"Victoire\",IF(VLOOKUP(AR41,$A$8:$BL$107,47,FALSE)=\"Défaite\",\"OK\",\"ERR\"),IF(AU41=\"Défaite\",IF(VLOOKUP(AR41,$A$8:$BL$107,47,FALSE)=\"Victoire\",\"OK\",\"ERR\"),IF(AU41=\"Nul\",IF(VLOOKUP(AR41,$A$8:$BL$107,47,FALSE)=\"Nul\",\"OK\",\"ERR\")))),\"\")","v":""},null,{"$f":"IF(AU41=\"Victoire\",100-ROUNDDOWN(20*AW41/$H41,0),\nIF(AU41=\"Défaite\",10+ROUNDDOWN(20*VLOOKUP(AR41,$A$8:$CB$107,49,FALSE)/VLOOKUP(AR41,$A$8:$H$107,8,FALSE),0),\nIF(AND(AU41=\"Nul\",$AW41<>$H41),40+(2*ROUNDDOWN(10*VLOOKUP(AR41,$A$8:$CB$107,49,FALSE)/VLOOKUP(AR41,$A$8:$H$107,8,FALSE),0)-ROUNDDOWN(10*AW41/$H41,0)),IF(AND(AU41=\"Nul\",$AW41=$H41),58,0))))","v":0},null,{"$f":"IF(AY41<>\"\",VLOOKUP(AY41,$A$8:$C$107,2,FALSE),\"\")","v":""},{"$f":"IF(AY41<>\"\",IF(AY41=$A41,\"ERR\",IF(OR(AY41=$I41,AY41=$P41,AY41=$W41,AY41=$AD41,AY41=$AK41,AY41=$AR41),\"DUP\",IF(ISNA(VLOOKUP(AY41,$A$8:$A$107,1,FALSE)),\"ERR\",IF(COUNTIF($I$8:$I$107,AY41)>1,\"ERR\",IF($D41=VLOOKUP(AY41,$A$8:$D$107,4,FALSE),\"CLUB\",\"OK\"))))),\"\")","v":""},null,{"$f":"IF(BB41<>\"\",IF(BB41=\"Victoire\",IF(VLOOKUP(AY41,$A$8:$BL$107,54,FALSE)=\"Défaite\",\"OK\",\"ERR\"),IF(BB41=\"Défaite\",IF(VLOOKUP(AY41,$A$8:$BL$107,54,FALSE)=\"Victoire\",\"OK\",\"ERR\"),IF(BB41=\"Nul\",IF(VLOOKUP(AY41,$A$8:$BL$107,54,FALSE)=\"Nul\",\"OK\",\"ERR\")))),\"\")","v":""},null,{"$f":"IF(BB41=\"Victoire\",100-ROUNDDOWN(20*BD41/$H41,0),\nIF(BB41=\"Défaite\",10+ROUNDDOWN(20*VLOOKUP(AY41,$A$8:$CB$107,56,FALSE)/VLOOKUP(AY41,$A$8:$H$107,8,FALSE),0),\nIF(AND(BB41=\"Nul\",$BD41<>$H41),40+(2*ROUNDDOWN(10*VLOOKUP(AY41,$A$8:$CB$107,56,FALSE)/VLOOKUP(AY41,$A$8:$H$107,8,FALSE),0)-ROUNDDOWN(10*BD41/$H41,0)),IF(AND(BB41=\"Nul\",$BD41=$H41),58,0))))","v":0},null,{"$f":"IF(BF41<>\"\",VLOOKUP(BF41,$A$8:$C$107,2,FALSE),\"\")","v":""},{"$f":"IF(BF41<>\"\",IF(BF41=$A41,\"ERR\",IF(OR(BF41=$I41,BF41=$P41,BF41=$W41,BF41=$AD41,BF41=$AK41,BF41=$AR41,BF41=$AY41),\"DUP\",IF(ISNA(VLOOKUP(BF41,$A$8:$A$107,1,FALSE)),\"ERR\",IF(COUNTIF($I$8:$I$107,BF41)>1,\"ERR\",IF($D41=VLOOKUP(BF41,$A$8:$D$107,4,FALSE),\"CLUB\",\"OK\"))))),\"\")","v":""},null,{"$f":"IF(BI41<>\"\",IF(BI41=\"Victoire\",IF(VLOOKUP(BF41,$A$8:$BL$107,61,FALSE)=\"Défaite\",\"OK\",\"ERR\"),IF(BI41=\"Défaite\",IF(VLOOKUP(BF41,$A$8:$BL$107,61,FALSE)=\"Victoire\",\"OK\",\"ERR\"),IF(BI41=\"Nul\",IF(VLOOKUP(BF41,$A$8:$BL$107,61,FALSE)=\"Nul\",\"OK\",\"ERR\")))),\"\")","v":""},null,{"$f":"IF(BI41=\"Victoire\",100-ROUNDDOWN(20*BK41/$H41,0),\nIF(BI41=\"Défaite\",10+ROUNDDOWN(20*VLOOKUP(BF41,$A$8:$CB$107,63,FALSE)/VLOOKUP(BF41,$A$8:$H$107,8,FALSE),0),\nIF(AND(BI41=\"Nul\",$BK41<>$H41),40+(2*ROUNDDOWN(10*VLOOKUP(BF41,$A$8:$CB$107,63,FALSE)/VLOOKUP(BF41,$A$8:$H$107,8,FALSE),0)-ROUNDDOWN(10*BK41/$H41,0)),IF(AND(BI41=\"Nul\",$BK41=$H41),58,0))))","v":0},null,{"$f":"IF(BM41<>\"\",VLOOKUP(BM41,$A$8:$C$107,2,FALSE),\"\")","v":""},{"$f":"IF(BM41<>\"\",IF(BM41=$A41,\"ERR\",IF(OR(BM41=$I41,BM41=$P41,BM41=$W41,BM41=$AD41,BM41=$AK41,BM41=$AR41,BM41=$AY41,BM41=$BF41),\"DUP\",IF(ISNA(VLOOKUP(BM41,$A$8:$A$107,1,FALSE)),\"ERR\",IF(COUNTIF($I$8:$I$107,BM41)>1,\"ERR\",IF($D41=VLOOKUP(BM41,$A$8:$D$107,4,FALSE),\"CLUB\",\"OK\"))))),\"\")","v":""},null,{"$f":"IF(BP41<>\"\",IF(BP41=\"Victoire\",IF(VLOOKUP(BM41,$A$8:$BS$107,68,FALSE)=\"Défaite\",\"OK\",\"ERR\"),IF(BP41=\"Défaite\",IF(VLOOKUP(BM41,$A$8:$BS$107,68,FALSE)=\"Victoire\",\"OK\",\"ERR\"),IF(BP41=\"Nul\",IF(VLOOKUP(BM41,$A$8:$BS$107,68,FALSE)=\"Nul\",\"OK\",\"ERR\")))),\"\")","v":""},null,{"$f":"IF(BP41=\"Victoire\",100-ROUNDDOWN(20*BR41/$H41,0),\nIF(BP41=\"Défaite\",10+ROUNDDOWN(20*VLOOKUP(BM41,$A$8:$CB$107,70,FALSE)/VLOOKUP(BM41,$A$8:$H$107,8,FALSE),0),\nIF(AND(BP41=\"Nul\",$BR41<>$H41),40+(2*ROUNDDOWN(10*VLOOKUP(BM41,$A$8:$CB$107,70,FALSE)/VLOOKUP(BM41,$A$8:$H$107,8,FALSE),0)-ROUNDDOWN(10*BR41/$H41,0)),IF(AND(BP41=\"Nul\",$BR41=$H41),58,0))))","v":0},null,{"$f":"IF($I41<>\"\",VLOOKUP($I41,$A$8:$N$107,5,FALSE),0)+IF($P41<>\"\",VLOOKUP($P41,$A$8:$N$107,5,FALSE),0)+IF($W41<>\"\",VLOOKUP($W41,$A$8:$N$107,5,FALSE),0)+IF($AD41<>\"\",VLOOKUP($AD41,$A$8:$N$107,5,FALSE),0)+IF($AK41<>\"\",VLOOKUP($AK41,$A$8:$N$107,5,FALSE),0)+IF($AR41<>\"\",VLOOKUP($AR41,$A$8:$N$107,5,FALSE),0)+IF($AY41<>\"\",VLOOKUP($AY41,$A$8:$N$107,5,FALSE),0)+IF($BF41<>\"\",VLOOKUP($BF41,$A$8:$N$107,5,FALSE),0)+IF($BM41<>\"\",VLOOKUP($BM41,$A$8:$N$107,5,FALSE),0)","v":0}]
[{"$nulls":4},0,null,{"$f":"IF($F42<>\"\",VLOOKUP(F42,Armies!$A$1:$C$300,3,FALSE),\"\")","v":""},null,null,{"$f":"IF(I42<>\"\",VLOOKUP(I42,$A$8:$C$107,2,FALSE),\"\")","v":""},{"$f":"IF(I42<>\"\",IF(I42=$A42,\"ERR\",IF(OR(I42=$P42,I42=$W42,I42=$AD42,I42=$AK42),\"DUP\",IF(ISNA(VLOOKUP(I42,$A$8:$A$107,1,FALSE)),\"ERR\",IF(COUNTIF($I$8:$I$107,I42)>1,\"ERR\",IF($D42=VLOOKUP(I42,$A$8:$D$107,4,FALSE),\"CLUB\",\"OK\"))))),\"\")","v":""},null,{"$f":"IF(L42<>\"\",IF(L42=\"Victoire\",IF(VLOOKUP(I42,$A$8:$L$107,12,FALSE)=\"Défaite\",\"OK\",\"ERR\"),IF(L42=\"Défaite\",IF(VLOOKUP(I42,$A$8:$L$107,12,FALSE)=\"Victoire\",\"OK\",\"ERR\"),IF(L42=\"Nul\",IF(VLOOKUP(I42,$A$8:$L$107,12,FALSE)=\"Nul\",\"OK\",\"ERR\")))),\"\")","v":""},null,{"$f":"IF(L42=\"Victoire\",100-ROUNDDOWN(20*N42/$H42,0),\nIF(L42=\"Défaite\",10+ROUNDDOWN(20*VLOOKUP(I42,$A$8:$N$107,14,FALSE)/VLOOKUP(I42,$A$8:$H$107,8,FALSE),0),\nIF(AND(L42=\"Nul\",$N42<>$H42),40+(2*ROUNDDOWN(10*VLOOKUP(I42,$A$8:$N$107,14,FALSE)/VLOOKUP(I42,$A$8:$H$107,8,FALSE),0)-ROUNDDOWN(10*N42/$H42,0)),IF(AND(L42=\"Nul\",$N42=$H42),58,0))))","v":0},null,{"$f":"IF(P42<>\"\",VLOOKUP(P42,$A$8:$C$107,2,FALSE),\"\")","v":""},{"$f":"IF(P42<>\"\",IF(P42=$A42,\"ERR\",IF(OR(P42=$I42,P42=$W42,P42=$AD42,P42=$AK42),\"DUP\",IF(ISNA(VLOOKUP(P42,$A$8:$A$107,1,FALSE)),\"ERR\",IF(COUNTIF($I$8:$I$107,P42)>1,\"ERR\",IF($D42=VLOOKUP(P42,$A$8:$D$107,4,FALSE),\"CLUB\",\"OK\"))))),\"\")","v":""},null,{"$f":"IF(S42<>\"\",IF(S42=\"Victoire\",IF(VLOOKUP(P42,$A$8:$AO$107,19,FALSE)=\"Défaite\",\"OK\",\"ERR\"),IF(S42=\"Défaite\",IF(VLOOKUP(P42,$A$8:$AO$107,19,FALSE)=\"Victoire\",\"OK\",\"ERR\"),IF(S42=\"Nul\",IF(VLOOKUP(P42,$A$8:$AO$107,19,FALSE)=\"Nul\",\"OK\",\"ERR\")))),\"\")","v":""},null,{"$f":"IF(S42=\"Victoire\",100-ROUNDDOWN(20*U42/$H42,0),\nIF(S42=\"Défaite\",10+ROUNDDOWN(20*VLOOKUP(P42,$A$8:$AO$107,21,FALSE)/VLOOKUP(P42,$A$8:$H$107,8,FALSE),0),\nIF(AND(S42=\"Nul\",$U42<>$H42),40+(2*ROUNDDOWN(10*VLOOKUP(P42,$A$8:$AO$107,21,FALSE)/VLOOKUP(P42,$A$8:$H$107,8,FALSE),0)-ROUNDDOWN(10*U42/$H42,0)),IF(AND(S42=\"Nul\",$U42=$H42),58,0))))","v":0},null,{"$f":"IF(W42<>\"\",VLOOKUP(W42,$A$8:$C$107,2,FALSE),\"\")","v":""},{"$f":"IF(W42<>\"\",IF(W42=$A42,\"ERR\",IF(OR(W42=$P42,W42=$I42,W42=$AD42,W42=$AK42),\"DUP\",IF(ISNA(VLOOKUP(W42,$A$8:$A$107,1,FALSE)),\"ERR\",IF(COUNTIF($I$8:$I$107,W42)>1,\"ERR\",IF($D42=VLOOKUP(W42,$A$8:$D$107,4,FALSE),\"CLUB\",\"OK\"))))),\"\")","v":""},null,{"$f":"IF(Z42<>\"\",IF(Z42=\"Victoire\",IF(VLOOKUP(W42,$A$8:$AO$107,26,FALSE)=\"Défaite\",\"OK\",\"ERR\"),IF(Z42=\"Défaite\",IF(VLOOKUP(W42,$A$8:$AO$107,26,FALSE)=\"Victoire\",\"OK\",\"ERR\"),IF(Z42=\"Nul\",IF(VLOOKUP(W42,$A$8:$AO$107,26,FALSE)=\"Nul\",\"OK\",\"ERR\")))),\"\")","v":""},null,{"$f":"IF(Z42=\"Victoire\",100-ROUNDDOWN(20*AB42/$H42,0),\nIF(Z42=\"Défaite\",10+ROUNDDOWN(20*VLOOKUP(W42,$A$8:$AO$107,28,FALSE)/VLOOKUP(W42,$A$8:$H$107,8,FALSE),0),\nIF(AND(Z42=\"Nul\",$AB42<>$H42),40+(2*ROUNDDOWN(10*VLOOKUP(W42,$A$8:$AO$107,28,FALSE)/VLOOKUP(W42,$A$8:$H$107,8,FALSE),0)-ROUNDDOWN(10*AB42/$H42,0)),IF(AND(Z42=\"Nul\",$AB42=$H42),58,0))))","v":0},null,{"$f":"IF(AD42<>\"\",VLOOKUP(AD42,$A$8:$C$107,2,FALSE),\"\")","v":""},{"$f":"IF(AD42<>\"\",IF(AD42=$A42,\"ERR\",IF(OR(AD42=$P42,AD42=$W42,AD42=$I42,AD42=$AK42),\"DUP\",IF(ISNA(VLOOKUP(AD42,$A$8:$A$107,1,FALSE)),\"ERR\",IF(COUNTIF($I$8:$I$107,AD42)>1,\"ERR\",IF($D42=VLOOKUP(AD42,$A$8:$D$107,4,FALSE),\"CLUB\",\"OK\"))))),\"\")","v":""},null,{"$f":"IF(AG42<>\"\",IF(AG42=\"Victoire\",IF(VLOOKUP(AD42,$A$8:$AO$107,33,FALSE)=\"Défaite\",\"OK\",\"ERR\"),IF(AG42=\"Défaite\",IF(VLOOKUP(AD42,$A$8:$AO$107,33,FALSE)=\"Victoire\",\"OK\",\"ERR\"),IF(AG42=\"Nul\",IF(VLOOKUP(AD42,$A$8:$AO$107,33,FALSE)=\"Nul\",\"OK\",\"ERR\")))),\"\")","v":""},null,{"$f":"IF(AG42=\"Victoire\",100-ROUNDDOWN(20*AI42/$H42,0),\nIF(AG42=\"Défaite\",10+ROUNDDOWN(20*VLOOKUP(AD42,$A$8:$AO$107,35,FALSE)/VLOOKUP(AD42,$A$8:$H$107,8,FALSE),0),\nIF(AND(AG42=\"Nul\",$AI42<>$H42),40+(2*ROUNDDOWN(10*VLOOKUP(AD42,$A$8:$AO$107,35,FALSE)/VLOOKUP(AD42,$A$8:$H$107,8,FALSE),0)-ROUNDDOWN(10*AI42/$H42,0)),IF(AND(AG42=\"Nul\",$AI42=$H42),58,0))))","v":0},null,{"$f":"IF(AK42<>\"\",VLOOKUP(AK42,$A$8:$C$107,2,FALSE),\"\")","v":""},{"$f":"IF(AK42<>\"\",IF(AK42=$A42,\"ERR\",IF(OR(AK42=$P42,AK42=$W42,AK42=$AD42,AK42=$I42),\"DUP\",IF(ISNA(VLOOKUP(AK42,$A$8:$A$107,1,FALSE)),\"ERR\",IF(COUNTIF($I$8:$I$107,AK42)>1,\"ERR\",IF($D42=VLOOKUP(AK42,$A$8:$D$107,4,FALSE),\"CLUB\",\"OK\"))))),\"\")","v":""},null,{"$f":"IF(AN42<>\"\",IF(AN42=\"Victoire\",IF(VLOOKUP(AK42,$A$8:$AO$107,40,FALSE)=\"Défaite\",\"OK\",\"ERR\"),IF(AN42=\"Défaite\",IF(VLOOKUP(AK42,$A$8:$AO$107,40,FALSE)=\"Victoire\",\"OK\",\"ERR\"),IF(AN42=\"Nul\",IF(VLOOKUP(AK42,$A$8:$AO$107,40,FALSE)=\"Nul\",\"OK\",\"ERR\")))),\"\")","v":""},null,{"$f":"IF(AN42=\"Victoire\",100-ROUNDDOWN(20*AP42/$H42,0),\nIF(AN42=\"Défaite\",10+ROUNDDOWN(20*VLOOKUP(AK42,$A$8:$CB$107,42,FALSE)/VLOOKUP(AK42,$A$8:$H$107,8,FALSE),0),\nIF(AND(AN42=\"Nul\",$AP42<>$H42),40+(2*ROUNDDOWN(10*VLOOKUP(AK42,$A$8:$CB$107,42,FALSE)/VLOOKUP(AK42,$A$8:$H$107,8,FALSE),0)-ROUNDDOWN(10*AP42/$H42,0)),IF(AND(AN42=\"Nul\",$AP42=$H42),58,0))))","v":0},null,{"$f":"IF(AR42<>\"\",VLOOKUP(AR42,$A$8:$C$107,2,FALSE),\"\")","v":""},{"$f":"IF(AR42<>\"\",IF(AR42=$A42,\"ERR\",IF(OR(AR42=$I42,AR42=$P42,AR42=$W42,AR42=$AD42,AR42=$AK42),\"DUP\",IF(ISNA(VLOOKUP(AR42,$A$8:$A$107,1,FALSE)),\"ERR\",IF(COUNTIF($I$8:$I$107,AR42)>1,\"ERR\",IF($D42=VLOOKUP(AR42,$A$8:$D$107,4,FALSE),\"CLUB\",\"OK\"))))),\"\")","v":""},null,{"$f":"IF(AU42<>\"\",IF(AU42=\"Victoire\",IF(VLOOKUP(AR42,$A$8:$BL$107,47,FALSE)=\"Défaite\",\"OK\",\"ERR\"),IF(AU42=\"Défaite\",IF(VLOOKUP(AR42,$A$8:$BL$107,47,FALSE)=\"Victoire\",\"OK\",\"ERR\"),IF(AU42=\"Nul\",IF(VLOOKUP(AR42,$A$8:$BL$107,47,FALSE)=\"Nul\",\"OK\",\"ERR\")))),\"\")","v":""},null,{"$f":"IF(AU42=\"Victoire\",100-ROUNDDOWN(20*AW42/$H42,0),\nIF(AU42=\"Défaite\",10+ROUNDDOWN(20*VLOOKUP(AR42,$A$8:$CB$107,49,FALSE)/VLOOKUP(AR42,$A$8:$H$107,8,FALSE),0),\nIF(AND(AU42=\"Nul\",$AW42<>$H42),40+(2*ROUNDDOWN(10*VLOOKUP(AR42,$A$8:$CB$107,49,FALSE)/VLOOKUP(AR42,$A$8:$H$107,8,FALSE),0)-ROUNDDOWN(10*AW42/$H42,0)),IF(AND(AU42=\"Nul\",$AW42=$H42),58,0))))","v":0},null,{"$f":"IF(AY42<>\"\",VLOOKUP(AY42,$A$8:$C$107,2,FALSE),\"\")","v":""},{"$f":"IF(AY42<>\"\",IF(AY42=$A42,\"ERR\",IF(OR(AY42=$I42,AY42=$P42,AY42=$W42,AY42=$AD42,AY42=$AK42,AY42=$AR42),\"DUP\",IF(ISNA(VLOOKUP(AY42,$A$8:$A$107,1,FALSE)),\"ERR\",IF(COUNTIF($I$8:$I$107,AY42)>1,\"ERR\",IF($D42=VLOOKUP(AY42,$A$8:$D$107,4,FALSE),\"CLUB\",\"OK\"))))),\"\")","v":""},null,{"$f":"IF(BB42<>\"\",IF(BB42=\"Victoire\",IF(VLOOKUP(AY42,$A$8:$BL$107,54,FALSE)=\"Défaite\",\"OK\",\"ERR\"),IF(BB42=\"Défaite\",IF(VLOOKUP(AY42,$A$8:$BL$107,54,FALSE)=\"Victoire\",\"OK\",\"ERR\"),IF(BB42=\"Nul\",IF(VLOOKUP(AY42,$A$8:$BL$107,54,FALSE)=\"Nul\",\"OK\",\"ERR\")))),\"\")","v":""},null,{"$f":"IF(BB42=\"Victoire\",100-ROUNDDOWN(20*BD42/$H42,0),\nIF(BB42=\"Défaite\",10+ROUNDDOWN(20*VLOOKUP(AY42,$A$8:$CB$107,56,FALSE)/VLOOKUP(AY42,$A$8:$H$107,8,FALSE),0),\nIF(AND(BB42=\"Nul\",$BD42<>$H42),40+(2*ROUNDDOWN(10*VLOOKUP(AY42,$A$8:$CB$107,56,FALSE)/VLOOKUP(AY42,$A$8:$H$107,8,FALSE),0)-ROUNDDOWN(10*BD42/$H42,0)),IF(AND(BB42=\"Nul\",$BD42=$H42),58,0))))","v":0},null,{"$f":"IF(BF42<>\"\",VLOOKUP(BF42,$A$8:$C$107,2,FALSE),\"\")","v":""},{"$f":"IF(BF42<>\"\",IF(BF42=$A42,\"ERR\",IF(OR(BF42=$I42,BF42=$P42,BF42=$W42,BF42=$AD42,BF42=$AK42,BF42=$AR42,BF42=$AY42),\"DUP\",IF(ISNA(VLOOKUP(BF42,$A$8:$A$107,1,FALSE)),\"ERR\",IF(COUNTIF($I$8:$I$107,BF42)>1,\"ERR\",IF($D42=VLOOKUP(BF42,$A$8:$D$107,4,FALSE),\"CLUB\",\"OK\"))))),\"\")","v":""},null,{"$f":"IF(BI42<>\"\",IF(BI42=\"Victoire\",IF(VLOOKUP(BF42,$A$8:$BL$107,61,FALSE)=\"Défaite\",\"OK\",\"ERR\"),IF(BI42=\"Défaite\",IF(VLOOKUP(BF42,$A$8:$BL$107,61,FALSE)=\"Victoire\",\"OK\",\"ERR\"),IF(BI42=\"Nul\",IF(VLOOKUP(BF42,$A$8:$BL$107,61,FALSE)=\"Nul\",\"OK\",\"ERR\")))),\"\")","v":""},null,{"$f":"IF(BI42=\"Victoire\",100-ROUNDDOWN(20*BK42/$H42,0),\nIF(BI42=\"Défaite\",10+ROUNDDOWN(20*VLOOKUP(BF42,$A$8:$CB$107,63,FALSE)/VLOOKUP(BF42,$A$8:$H$107,8,FALSE),0),\nIF(AND(BI42=\"Nul\",$BK42<>$H42),40+(2*ROUNDDOWN(10*VLOOKUP(BF42,$A$8:$CB$107,63,FALSE)/VLOOKUP(BF42,$A$8:$H$107,8,FALSE),0)-ROUNDDOWN(10*BK42/$H42,0)),IF(AND(BI42=\"Nul\",$BK42=$H42),58,0))))","v":0},null,{"$f":"IF(BM42<>\"\",VLOOKUP(BM42,$A$8:$C$107,2,FALSE),\"\")","v":""},{"$f":"IF(BM42<>\"\",IF(BM42=$A42,\"ERR\",IF(OR(BM42=$I42,BM42=$P42,BM42=$W42,BM42=$AD42,BM42=$AK42,BM42=$AR42,BM42=$AY42,BM42=$BF42),\"DUP\",IF(ISNA(VLOOKUP(BM42,$A$8:$A$107,1,FALSE)),\"ERR\",IF(COUNTIF($I$8:$I$107,BM42)>1,\"ERR\",IF($D42=VLOOKUP(BM42,$A$8:$D$107,4,FALSE),\"CLUB\",\"OK\"))))),\"\")","v":""},null,{"$f":"IF(BP42<>\"\",IF(BP42=\"Victoire\",IF(VLOOKUP(BM42,$A$8:$BS$107,68,FALSE)=\"Défaite\",\"OK\",\"ERR\"),IF(BP42=\"Défaite\",IF(VLOOKUP(BM42,$A$8:$BS$107,68,FALSE)=\"Victoire\",\"OK\",\"ERR\"),IF(BP42=\"Nul\",IF(VLOOKUP(BM42,$A$8:$BS$107,68,FALSE)=\"Nul\",\"OK\",\"ERR\")))),\"\")","v":""},null,{"$f":"IF(BP42=\"Victoire\",100-ROUNDDOWN(20*BR42/$H42,0),\nIF(BP42=\"Défaite\",10+ROUNDDOWN(20*VLOOKUP(BM42,$A$8:$CB$107,70,FALSE)/VLOOKUP(BM42,$A$8:$H$107,8,FALSE),0),\nIF(AND(BP42=\"Nul\",$BR42<>$H42),40+(2*ROUNDDOWN(10*VLOOKUP(BM42,$A$8:$CB$107,70,FALSE)/VLOOKUP(BM42,$A$8:$H$107,8,FALSE),0)-ROUNDDOWN(10*BR42/$H42,0)),IF(AND(BP42=\"Nul\",$BR42=$H42),58,0))))","v":0},null,{"$f":"IF($I42<>\"\",VLOOKUP($I42,$A$8:$N$107,5,FALSE),0)+IF($P42<>\"\",VLOOKUP($P42,$A$8:$N$107,5,FALSE),0)+IF($W42<>\"\",VLOOKUP($W42,$A$8:$N$107,5,FALSE),0)+IF($AD42<>\"\",VLOOKUP($AD42,$A$8:$N$107,5,FALSE),0)+IF($AK42<>\"\",VLOOKUP($AK42,$A$8:$N$107,5,FALSE),0)+IF($AR42<>\"\",VLOOKUP($AR42,$A$8:$N$107,5,FALSE),0)+IF($AY42<>\"\",VLOOKUP($AY42,$A$8:$N$107,5,FALSE),0)+IF($BF42<>\"\",VLOOKUP($BF42,$A$8:$N$107,5,FALSE),0)+IF($BM42<>\"\",VLOOKUP($BM42,$A$8:$N$107,5,FALSE),0)","v":0}]
[{"$nulls":4},0,null,{"$f":"IF($F43<>\"\",VLOOKUP(F43,Armies!$A$1:$C$300,3,FALSE),\"\")","v":""},null,null,{"$f":"IF(I43<>\"\",VLOOKUP(I43,$A$8:$C$107,2,FALSE),\"\")","v":""},{"$f":"IF(I43<>\"\",IF(I43=$A43,\"ERR\",IF(OR(I43=$P43,I43=$W43,I43=$AD43,I43=$AK43),\"DUP\",IF(ISNA(VLOOKUP(I43,$A$8:$A$107,1,FALSE)),\"ERR\",IF(COUNTIF($I$8:$I$107,I43)>1,\"ERR\",IF($D43=VLOOKUP(I43,$A$8:$D$107,4,FALSE),\"CLUB\",\"OK\"))))),\"\")","v":""},null,{"$f":"IF(L43<>\"\",IF(L43=\"Victoire\",IF(VLOOKUP(I43,$A$8:$L$107,12,FALSE)=\"Défaite\",\"OK\",\"ERR\"),IF(L43=\"Défaite\",IF(VLOOKUP(I43,$A$8:$L$107,12,FALSE)=\"Victoire\",\"OK\",\"ERR\"),IF(L43=\"Nul\",IF(VLOOKUP(I43,$A$8:$L$107,12,FALSE)=\"Nul\",\"OK\",\"ERR\")))),\"\")","v":""},null,{"$f":"IF(L43=\"Victoire\",100-ROUNDDOWN(20*N43/$H43,0),\nIF(L43=\"Défaite\",10+ROUNDDOWN(20*VLOOKUP(I43,$A$8:$N$107,14,FALSE)/VLOOKUP(I43,$A$8:$H$107,8,FALSE),0),\nIF(AND(L43=\"Nul\",$N43<>$H43),40+(2*ROUNDDOWN(10*VLOOKUP(I43,$A$8:$N$107,14,FALSE)/VLOOKUP(I43,$A$8:$H$107,8,FALSE),0)-ROUNDDOWN(10*N43/$H43,0)),IF(AND(L43=\"Nul\",$N43=$H43),58,0))))","v":0},null,{"$f":"IF(P43<>\"\",VLOOKUP(P43,$A$8:$C$107,2,FALSE),\"\")","v":""},{"$f":"IF(P43<>\"\",IF(P43=$A43,\"ERR\",IF(OR(P43=$I43,P43=$W43,P43=$AD43,P43=$AK43),\"DUP\",IF(ISNA(VLOOKUP(P43,$A$8:$A$107,1,FALSE)),\"ERR\",IF(COUNTIF($I$8:$I$107,P43)>1,\"ERR\",IF($D43=VLOOKUP(P43,$A$8:$D$107,4,FALSE),\"CLUB\",\"OK\"))))),\"\")","v":""},null,{"$f":"IF(S43<>\"\",IF(S43=\"Victoire\",IF(VLOOKUP(P43,$A$8:$AO$107,19,FALSE)=\"Défaite\",\"OK\",\"ERR\"),IF(S43=\"Défaite\",IF(VLOOKUP(P43,$A$8:$AO$107,19,FALSE)=\"Victoire\",\"OK\",\"ERR\"),IF(S43=\"Nul\",IF(VLOOKUP(P43,$A$8:$AO$107,19,FALSE)=\"Nul\",\"OK\",\"ERR\")))),\"\")","v":""},null,{"$f":"IF(S43=\"Victoire\",100-ROUNDDOWN(20*U43/$H43,0),\nIF(S43=\"Défaite\",10+ROUNDDOWN(20*VLOOKUP(P43,$A$8:$AO$107,21,FALSE)/VLOOKUP(P43,$A$8:$H$107,8,FALSE),0),\nIF(AND(S43=\"Nul\",$U43<>$H43),40+(2*ROUNDDOWN(10*VLOOKUP(P43,$A$8:$AO$107,21,FALSE)/VLOOKUP(P43,$A$8:$H$107,8,FALSE),0)-ROUNDDOWN(10*U43/$H43,0)),IF(AND(S43=\"Nul\",$U43=$H43),58,0))))","v":0},null,{"$f":"IF(W43<>\"\",VLOOKUP(W43,$A$8:$C$107,2,FALSE),\"\")","v":""},{"$f":"IF(W43<>\"\",IF(W43=$A43,\"ERR\",IF(OR(W43=$P43,W43=$I43,W43=$AD43,W43=$AK43),\"DUP\",IF(ISNA(VLOOKUP(W43,$A$8:$A$107,1,FALSE)),\"ERR\",IF(COUNTIF($I$8:$I$107,W43)>1,\"ERR\",IF($D43=VLOOKUP(W43,$A$8:$D$107,4,FALSE),\"CLUB\",\"OK\"))))),\"\")","v":""},null,{"$f":"IF(Z43<>\"\",IF(Z43=\"Victoire\",IF(VLOOKUP(W43,$A$8:$AO$107,26,FALSE)=\"Défaite\",\"OK\",\"ERR\"),IF(Z43=\"Défaite\",IF(VLOOKUP(W43,$A$8:$AO$107,26,FALSE)=\"Victoire\",\"OK\",\"ERR\"),IF(Z43=\"Nul\",IF(VLOOKUP(W43,$A$8:$AO$107,26,FALSE)=\"Nul\",\"OK\",\"ERR\")))),\"\")","v":""},null,{"$f":"IF(Z43=\"Victoire\",100-ROUNDDOWN(20*AB43/$H43,0),\nIF(Z43=\"Défaite\",10+ROUNDDOWN(20*VLOOKUP(W43,$A$8:$AO$107,28,FALSE)/VLOOKUP(W43,$A$8:$H$107,8,FALSE),0),\nIF(AND(Z43=\"Nul\",$AB43<>$H43),40+(2*ROUNDDOWN(10*VLOOKUP(W43,$A$8:$AO$107,28,FALSE)/VLOOKUP(W43,$A$8:$H$107,8,FALSE),0)-ROUNDDOWN(10*AB43/$H43,0)),IF(AND(Z43=\"Nul\",$AB43=$H43),58,0))))","v":0},null,{"$f":"IF(AD43<>\"\",VLOOKUP(AD43,$A$8:$C$107,2,FALSE),\"\")","v":""},{"$f":"IF(AD43<>\"\",IF(AD43=$A43,\"ERR\",IF(OR(AD43=$P43,AD43=$W43,AD43=$I43,AD43=$AK43),\"DUP\",IF(ISNA(VLOOKUP(AD43,$A$8:$A$107,1,FALSE)),\"ERR\",IF(COUNTIF($I$8:$I$107,AD43)>1,\"ERR\",IF($D43=VLOOKUP(AD43,$A$8:$D$107,4,FALSE),\"CLUB\",\"OK\"))))),\"\")","v":""},null,{"$f":"IF(AG43<>\"\",IF(AG43=\"Victoire\",IF(VLOOKUP(AD43,$A$8:$AO$107,33,FALSE)=\"Défaite\",\"OK\",\"ERR\"),IF(AG43=\"Défaite\",IF(VLOOKUP(AD43,$A$8:$AO$107,33,FALSE)=\"Victoire\",\"OK\",\"ERR\"),IF(AG43=\"Nul\",IF(VLOOKUP(AD43,$A$8:$AO$107,33,FALSE)=\"Nul\",\"OK\",\"ERR\")))),\"\")","v":""},null,{"$f":"IF(AG43=\"Victoire\",100-ROUNDDOWN(20*AI43/$H43,0),\nIF(AG43=\"Défaite\",10+ROUNDDOWN(20*VLOOKUP(AD43,$A$8:$AO$107,35,FALSE)/VLOOKUP(AD43,$A$8:$H$107,8,FALSE),0),\nIF(AND(AG43=\"Nul\",$AI43<>$H43),40+(2*ROUNDDOWN(10*VLOOKUP(AD43,$A$8:$AO$107,35,FALSE)/VLOOKUP(AD43,$A$8:$H$107,8,FALSE),0)-ROUNDDOWN(10*AI43/$H43,0)),IF(AND(AG43=\"Nul\",$AI43=$H43),58,0))))","v":0},null,{"$f":"IF(AK43<>\"\",VLOOKUP(AK43,$A$8:$C$107,2,FALSE),\"\")","v":""},{"$f":"IF(AK43<>\"\",IF(AK43=$A43,\"ERR\",IF(OR(AK43=$P43,AK43=$W43,AK43=$AD43,AK43=$I43),\"DUP\",IF(ISNA(VLOOKUP(AK43,$A$8:$A$107,1,FALSE)),\"ERR\",IF(COUNTIF($I$8:$I$107,AK43)>1,\"ERR\",IF($D43=VLOOKUP(AK43,$A$8:$D$107,4,FALSE),\"CLUB\",\"OK\"))))),\"\")","v":""},null,{"$f":"IF(AN43<>\"\",IF(AN43=\"Victoire\",IF(VLOOKUP(AK43,$A$8:$AO$107,40,FALSE)=\"Défaite\",\"OK\",\"ERR\"),IF(AN43=\"Défaite\",IF(VLOOKUP(AK43,$A$8:$AO$107,40,FALSE)=\"Victoire\",\"OK\",\"ERR\"),IF(AN43=\"Nul\",IF(VLOOKUP(AK43,$A$8:$AO$107,40,FALSE)=\"Nul\",\"OK\",\"ERR\")))),\"\")","v":""},null,{"$f":"IF(AN43=\"Victoire\",100-ROUNDDOWN(20*AP43/$H43,0),\nIF(AN43=\"Défaite\",10+ROUNDDOWN(20*VLOOKUP(AK43,$A$8:$CB$107,42,FALSE)/VLOOKUP(AK43,$A$8:$H$107,8,FALSE),0),\nIF(AND(AN43=\"Nul\",$AP43<>$H43),40+(2*ROUNDDOWN(10*VLOOKUP(AK43,$A$8:$CB$107,42,FALSE)/VLOOKUP(AK43,$A$8:$H$107,8,FALSE),0)-ROUNDDOWN(10*AP43/$H43,0)),IF(AND(AN43=\"Nul\",$AP43=$H43),58,0))))","v":0},null,{"$f":"IF(AR43<>\"\",VLOOKUP(AR43,$A$8:$C$107,2,FALSE),\"\")","v":""},{"$f":"IF(AR43<>\"\",IF(AR43=$A43,\"ERR\",IF(OR(AR43=$I43,AR43=$P43,AR43=$W43,AR43=$AD43,AR43=$AK43),\"DUP\",IF(ISNA(VLOOKUP(AR43,$A$8:$A$107,1,FALSE)),\"ERR\",IF(COUNTIF($I$8:$I$107,AR43)>1,\"ERR\",IF($D43=VLOOKUP(AR43,$A$8:$D$107,4,FALSE),\"CLUB\",\"OK\"))))),\"\")","v":""},null,{"$f":"IF(AU43<>\"\",IF(AU43=\"Victoire\",IF(VLOOKUP(AR43,$A$8:$BL$107,47,FALSE)=\"Défaite\",\"OK\",\"ERR\"),IF(AU43=\"Défaite\",IF(VLOOKUP(AR43,$A$8:$BL$107,47,FALSE)=\"Victoire\",\"OK\",\"ERR\"),IF(AU43=\"Nul\",IF(VLOOKUP(AR43,$A$8:$BL$107,47,FALSE)=\"Nul\",\"OK\",\"ERR\")))),\"\")","v":""},null,{"$f":"IF(AU43=\"Victoire\",100-ROUNDDOWN(20*AW43/$H43,0),\nIF(AU43=\"Défaite\",10+ROUNDDOWN(20*VLOOKUP(AR43,$A$8:$CB$107,49,FALSE)/VLOOKUP(AR43,$A$8:$H$107,8,FALSE),0),\nIF(AND(AU43=\"Nul\",$AW43<>$H43),40+(2*ROUNDDOWN(10*VLOOKUP(AR43,$A$8:$CB$107,49,FALSE)/VLOOKUP(AR43,$A$8:$H$107,8,FALSE),0)-ROUNDDOWN(10*AW43/$H43,0)),IF(AND(AU43=\"Nul\",$AW43=$H43),58,0))))","v":0},null,{"$f":"IF(AY43<>\"\",VLOOKUP(AY43,$A$8:$C$107,2,FALSE),\"\")","v":""},{"$f":"IF(AY43<>\"\",IF(AY43=$A43,\"ERR\",IF(OR(AY43=$I43,AY43=$P43,AY43=$W43,AY43=$AD43,AY43=$AK43,AY43=$AR43),\"DUP\",IF(ISNA(VLOOKUP(AY43,$A$8:$A$107,1,FALSE)),\"ERR\",IF(COUNTIF($I$8:$I$107,AY43)>1,\"ERR\",IF($D43=VLOOKUP(AY43,$A$8:$D$107,4,FALSE),\"CLUB\",\"OK\"))))),\"\")","v":""},null,{"$f":"IF(BB43<>\"\",IF(BB43=\"Victoire\",IF(VLOOKUP(AY43,$A$8:$BL$107,54,FALSE)=\"Défaite\",\"OK\",\"ERR\"),IF(BB43=\"Défaite\",IF(VLOOKUP(AY43,$A$8:$BL$107,54,FALSE)=\"Victoire\",\"OK\",\"ERR\"),IF(BB43=\"Nul\",IF(VLOOKUP(AY43,$A$8:$BL$107,54,FALSE)=\"Nul\",\"OK\",\"ERR\")))),\"\")","v":""},null,{"$f":"IF(BB43=\"Victoire\",100-ROUNDDOWN(20*BD43/$H43,0),\nIF(BB43=\"Défaite\",10+ROUNDDOWN(20*VLOOKUP(AY43,$A$8:$CB$107,56,FALSE)/VLOOKUP(AY43,$A$8:$H$107,8,FALSE),0),\nIF(AND(BB43=\"Nul\",$BD43<>$H43),40+(2*ROUNDDOWN(10*VLOOKUP(AY43,$A$8:$CB$107,56,FALSE)/VLOOKUP(AY43,$A$8:$H$107,8,FALSE),0)-ROUNDDOWN(10*BD43/$H43,0)),IF(AND(BB43=\"Nul\",$BD43=$H43),58,0))))","v":0},null,{"$f":"IF(BF43<>\"\",VLOOKUP(BF43,$A$8:$C$107,2,FALSE),\"\")","v":""},{"$f":"IF(BF43<>\"\",IF(BF43=$A43,\"ERR\",IF(OR(BF43=$I43,BF43=$P43,BF43=$W43,BF43=$AD43,BF43=$AK43,BF43=$AR43,BF43=$AY43),\"DUP\",IF(ISNA(VLOOKUP(BF43,$A$8:$A$107,1,FALSE)),\"ERR\",IF(COUNTIF($I$8:$I$107,BF43)>1,\"ERR\",IF($D43=VLOOKUP(BF43,$A$8:$D$107,4,FALSE),\"CLUB\",\"OK\"))))),\"\")","v":""},null,{"$f":"IF(BI43<>\"\",IF(BI43=\"Victoire\",IF(VLOOKUP(BF43,$A$8:$BL$107,61,FALSE)=\"Défaite\",\"OK\",\"ERR\"),IF(BI43=\"Défaite\",IF(VLOOKUP(BF43,$A$8:$BL$107,61,FALSE)=\"Victoire\",\"OK\",\"ERR\"),IF(BI43=\"Nul\",IF(VLOOKUP(BF43,$A$8:$BL$107,61,FALSE)=\"Nul\",\"OK\",\"ERR\")))),\"\")","v":""},null,{"$f":"IF(BI43=\"Victoire\",100-ROUNDDOWN(20*BK43/$H43,0),\nIF(BI43=\"Défaite\",10+ROUNDDOWN(20*VLOOKUP(BF43,$A$8:$CB$107,63,FALSE)/VLOOKUP(BF43,$A$8:$H$107,8,FALSE),0),\nIF(AND(BI43=\"Nul\",$BK43<>$H43),40+(2*ROUNDDOWN(10*VLOOKUP(BF43,$A$8:$CB$107,63,FALSE)/VLOOKUP(BF43,$A$8:$H$107,8,FALSE),0)-ROUNDDOWN(10*BK43/$H43,0)),IF(AND(BI43=\"Nul\",$BK43=$H43),58,0))))","v":0},null,{"$f":"IF(BM43<>\"\",VLOOKUP(BM43,$A$8:$C$107,2,FALSE),\"\")","v":""},{"$f":"IF(BM43<>\"\",IF(BM43=$A43,\"ERR\",IF(OR(BM43=$I43,BM43=$P43,BM43=$W43,BM43=$AD43,BM43=$AK43,BM43=$AR43,BM43=$AY43,BM43=$BF43),\"DUP\",IF(ISNA(VLOOKUP(BM43,$A$8:$A$107,1,FALSE)),\"ERR\",IF(COUNTIF($I$8:$I$107,BM43)>1,\"ERR\",IF($D43=VLOOKUP(BM43,$A$8:$D$107,4,FALSE),\"CLUB\",\"OK\"))))),\"\")","v":""},null,{"$f":"IF(BP43<>\"\",IF(BP43=\"Victoire\",IF(VLOOKUP(BM43,$A$8:$BS$107,68,FALSE)=\"Défaite\",\"OK\",\"ERR\"),IF(BP43=\"Défaite\",IF(VLOOKUP(BM43,$A$8:$BS$107,68,FALSE)=\"Victoire\",\"OK\",\"ERR\"),IF(BP43=\"Nul\",IF(VLOOKUP(BM43,$A$8:$BS$107,68,FALSE)=\"Nul\",\"OK\",\"ERR\")))),\"\")","v":""},null,{"$f":"IF(BP43=\"Victoire\",100-ROUNDDOWN(20*BR43/$H43,0),\nIF(BP43=\"Défaite\",10+ROUNDDOWN(20*VLOOKUP(BM43,$A$8:$CB$107,70,FALSE)/VLOOKUP(BM43,$A$8:$H$107,8,FALSE),0),\nIF(AND(BP43=\"Nul\",$BR43<>$H43),40+(2*ROUNDDOWN(10*VLOOKUP(BM43,$A$8:$CB$107,70,FALSE)/VLOOKUP(BM43,$A$8:$H$107,8,FALSE),0)-ROUNDDOWN(10*BR43/$H43,0)),IF(AND(BP43=\"Nul\",$BR43=$H43),58,0))))","v":0},null,{"$f":"IF($I43<>\"\",VLOOKUP($I43,$A$8:$N$107,5,FALSE),0)+IF($P43<>\"\",VLOOKUP($P43,$A$8:$N$107,5,FALSE),0)+IF($W43<>\"\",VLOOKUP($W43,$A$8:$N$107,5,FALSE),0)+IF($AD43<>\"\",VLOOKUP($AD43,$A$8:$N$107,5,FALSE),0)+IF($AK43<>\"\",VLOOKUP($AK43,$A$8:$N$107,5,FALSE),0)+IF($AR43<>\"\",VLOOKUP($AR43,$A$8:$N$107,5,FALSE),0)+IF($AY43<>\"\",VLOOKUP($AY43,$A$8:$N$107,5,FALSE),0)+IF($BF43<>\"\",VLOOKUP($BF43,$A$8:$N$107,5,FALSE),0)+IF($BM43<>\"\",VLOOKUP($BM43,$A$8:$N$107,5,FALSE),0)","v":0}]
[{"$nulls":4},0,null,{"$f":"IF($F44<>\"\",VLOOKUP(F44,Armies!$A$1:$C$300,3,FALSE),\"\")","v":""},null,null,{"$f":"IF(I44<>\"\",VLOOKUP(I44,$A$8:$C$107,2,FALSE),\"\")","v":""},{"$f":"IF(I44<>\"\",IF(I44=$A44,\"ERR\",IF(OR(I44=$P44,I44=$W44,I44=$AD44,I44=$AK44),\"DUP\",IF(ISNA(VLOOKUP(I44,$A$8:$A$107,1,FALSE)),\"ERR\",IF(COUNTIF($I$8:$I$107,I44)>1,\"ERR\",IF($D44=VLOOKUP(I44,$A$8:$D$107,4,FALSE),\"CLUB\",\"OK\"))))),\"\")","v":""},null,{"$f":"IF(L44<>\"\",IF(L44=\"Victoire\",IF(VLOOKUP(I44,$A$8:$L$107,12,FALSE)=\"Défaite\",\"OK\",\"ERR\"),IF(L44=\"Défaite\",IF(VLOOKUP(I44,$A$8:$L$107,12,FALSE)=\"Victoire\",\"OK\",\"ERR\"),IF(L44=\"Nul\",IF(VLOOKUP(I44,$A$8:$L$107,12,FALSE)=\"Nul\",\"OK\",\"ERR\")))),\"\")","v":""},null,{"$f":"IF(L44=\"Victoire\",100-ROUNDDOWN(20*N44/$H44,0),\nIF(L44=\"Défaite\",10+ROUNDDOWN(20*VLOOKUP(I44,$A$8:$N$107,14,FALSE)/VLOOKUP(I44,$A$8:$H$107,8,FALSE),0),\nIF(AND(L44=\"Nul\",$N44<>$H44),40+(2*ROUNDDOWN(10*VLOOKUP(I44,$A$8:$N$107,14,FALSE)/VLOOKUP(I44,$A$8:$H$107,8,FALSE),0)-ROUNDDOWN(10*N44/$H44,0)),IF(AND(L44=\"Nul\",$N44=$H44),58,0))))","v":0},null,{"$f":"IF(P44<>\"\",VLOOKUP(P44,$A$8:$C$107,2,FALSE),\"\")","v":""},{"$f":"IF(P44<>\"\",IF(P44=$A44,\"ERR\",IF(OR(P44=$I44,P44=$W44,P44=$AD44,P44=$AK44),\"DUP\",IF(ISNA(VLOOKUP(P44,$A$8:$A$107,1,FALSE)),\"ERR\",IF(COUNTIF($I$8:$I$107,P44)>1,\"ERR\",IF($D44=VLOOKUP(P44,$A$8:$D$107,4,FALSE),\"CLUB\",\"OK\"))))),\"\")","v":""},null,{"$f":"IF(S44<>\"\",IF(S44=\"Victoire\",IF(VLOOKUP(P44,$A$8:$AO$107,19,FALSE)=\"Défaite\",\"OK\",\"ERR\"),IF(S44=\"Défaite\",IF(VLOOKUP(P44,$A$8:$AO$107,19,FALSE)=\"Victoire\",\"OK\",\"ERR\"),IF(S44=\"Nul\",IF(VLOOKUP(P44,$A$8:$AO$107,19,FALSE)=\"Nul\",\"OK\",\"ERR\")))),\"\")","v":""},null,{"$f":"IF(S44=\"Victoire\",100-ROUNDDOWN(20*U44/$H44,0),\nIF(S44=\"Défaite\",10+ROUNDDOWN(20*VLOOKUP(P44,$A$8:$AO$107,21,FALSE)/VLOOKUP(P44,$A$8:$H$107,8,FALSE),0),\nIF(AND(S44=\"Nul\",$U44<>$H44),40+(2*ROUNDDOWN(10*VLOOKUP(P44,$A$8:$AO$107,21,FALSE)/VLOOKUP(P44,$A$8:$H$107,8,FALSE),0)-ROUNDDOWN(10*U44/$H44,0)),IF(AND(S44=\"Nul\",$U44=$H44),58,0))))","v":0},null,{"$f":"IF(W44<>\"\",VLOOKUP(W44,$A$8:$C$107,2,FALSE),\"\")","v":""},{"$f":"IF(W44<>\"\",IF(W44=$A44,\"ERR\",IF(OR(W44=$P44,W44=$I44,W44=$AD44,W44=$AK44),\"DUP\",IF(ISNA(VLOOKUP(W44,$A$8:$A$107,1,FALSE)),\"ERR\",IF(COUNTIF($I$8:$I$107,W44)>1,\"ERR\",IF($D44=VLOOKUP(W44,$A$8:$D$107,4,FALSE),\"CLUB\",\"OK\"))))),\"\")","v":""},null,{"$f":"IF(Z44<>\"\",IF(Z44=\"Victoire\",IF(VLOOKUP(W44,$A$8:$AO$107,26,FALSE)=\"Défaite\",\"OK\",\"ERR\"),IF(Z44=\"Défaite\",IF(VLOOKUP(W44,$A$8:$AO$107,26,FALSE)=\"Victoire\",\"OK\",\"ERR\"),IF(Z44=\"Nul\",IF(VLOOKUP(W44,$A$8:$AO$107,26,FALSE)=\"Nul\",\"OK\",\"ERR\")))),\"\")","v":""},null,{"$f":"IF(Z44=\"Victoire\",100-ROUNDDOWN(20*AB44/$H44,0),\nIF(Z44=\"Défaite\",10+ROUNDDOWN(20*VLOOKUP(W44,$A$8:$AO$107,28,FALSE)/VLOOKUP(W44,$A$8:$H$107,8,FALSE),0),\nIF(AND(Z44=\"Nul\",$AB44<>$H44),40+(2*ROUNDDOWN(10*VLOOKUP(W44,$A$8:$AO$107,28,FALSE)/VLOOKUP(W44,$A$8:$H$107,8,FALSE),0)-ROUNDDOWN(10*AB44/$H44,0)),IF(AND(Z44=\"Nul\",$AB44=$H44),58,0))))","v":0},null,{"$f":"IF(AD44<>\"\",VLOOKUP(AD44,$A$8:$C$107,2,FALSE),\"\")","v":""},{"$f":"IF(AD44<>\"\",IF(AD44=$A44,\"ERR\",IF(OR(AD44=$P44,AD44=$W44,AD44=$I44,AD44=$AK44),\"DUP\",IF(ISNA(VLOOKUP(AD44,$A$8:$A$107,1,FALSE)),\"ERR\",IF(COUNTIF($I$8:$I$107,AD44)>1,\"ERR\",IF($D44=VLOOKUP(AD44,$A$8:$D$107,4,FALSE),\"CLUB\",\"OK\"))))),\"\")","v":""},null,{"$f":"IF(AG44<>\"\",IF(AG44=\"Victoire\",IF(VLOOKUP(AD44,$A$8:$AO$107,33,FALSE)=\"Défaite\",\"OK\",\"ERR\"),IF(AG44=\"Défaite\",IF(VLOOKUP(AD44,$A$8:$AO$107,33,FALSE)=\"Victoire\",\"OK\",\"ERR\"),IF(AG44=\"Nul\",IF(VLOOKUP(AD44,$A$8:$AO$107,33,FALSE)=\"Nul\",\"OK\",\"ERR\")))),\"\")","v":""},null,{"$f":"IF(AG44=\"Victoire\",100-ROUNDDOWN(20*AI44/$H44,0),\nIF(AG44=\"Défaite\",10+ROUNDDOWN(20*VLOOKUP(AD44,$A$8:$AO$107,35,FALSE)/VLOOKUP(AD44,$A$8:$H$107,8,FALSE),0),\nIF(AND(AG44=\"Nul\",$AI44<>$H44),40+(2*ROUNDDOWN(10*VLOOKUP(AD44,$A$8:$AO$107,35,FALSE)/VLOOKUP(AD44,$A$8:$H$107,8,FALSE),0)-ROUNDDOWN(10*AI44/$H44,0)),IF(AND(AG44=\"Nul\",$AI44=$H44),58,0))))","v":0},null,{"$f":"IF(AK44<>\"\",VLOOKUP(AK44,$A$8:$C$107,2,FALSE),\"\")","v":""},{"$f":"IF(AK44<>\"\",IF(AK44=$A44,\"ERR\",IF(OR(AK44=$P44,AK44=$W44,AK44=$AD44,AK44=$I44),\"DUP\",IF(ISNA(VLOOKUP(AK44,$A$8:$A$107,1,FALSE)),\"ERR\",IF(COUNTIF($I$8:$I$107,AK44)>1,\"ERR\",IF($D44=VLOOKUP(AK44,$A$8:$D$107,4,FALSE),\"CLUB\",\"OK\"))))),\"\")","v":""},null,{"$f":"IF(AN44<>\"\",IF(AN44=\"Victoire\",IF(VLOOKUP(AK44,$A$8:$AO$107,40,FALSE)=\"Défaite\",\"OK\",\"ERR\"),IF(AN44=\"Défaite\",IF(VLOOKUP(AK44,$A$8:$AO$107,40,FALSE)=\"Victoire\",\"OK\",\"ERR\"),IF(AN44=\"Nul\",IF(VLOOKUP(AK44,$A$8:$AO$107,40,FALSE)=\"Nul\",\"OK\",\"ERR\")))),\"\")","v":""},null,{"$f":"IF(AN44=\"Victoire\",100-ROUNDDOWN(20*AP44/$H44,0),\nIF(AN44=\"Défaite\",10+ROUNDDOWN(20*VLOOKUP(AK44,$A$8:$CB$107,42,FALSE)/VLOOKUP(AK44,$A$8:$H$107,8,FALSE),0),\nIF(AND(AN44=\"Nul\",$AP44<>$H44),40+(2*ROUNDDOWN(10*VLOOKUP(AK44,$A$8:$CB$107,42,FALSE)/VLOOKUP(AK44,$A$8:$H$107,8,FALSE),0)-ROUNDDOWN(10*AP44/$H44,0)),IF(AND(AN44=\"Nul\",$AP44=$H44),58,0))))","v":0},null,{"$f":"IF(AR44<>\"\",VLOOKUP(AR44,$A$8:$C$107,2,FALSE),\"\")","v":""},{"$f":"IF(AR44<>\"\",IF(AR44=$A44,\"ERR\",IF(OR(AR44=$I44,AR44=$P44,AR44=$W44,AR44=$AD44,AR44=$AK44),\"DUP\",IF(ISNA(VLOOKUP(AR44,$A$8:$A$107,1,FALSE)),\"ERR\",IF(COUNTIF($I$8:$I$107,AR44)>1,\"ERR\",IF($D44=VLOOKUP(AR44,$A$8:$D$107,4,FALSE),\"CLUB\",\"OK\"))))),\"\")","v":""},null,{"$f":"IF(AU44<>\"\",IF(AU44=\"Victoire\",IF(VLOOKUP(AR44,$A$8:$BL$107,47,FALSE)=\"Défaite\",\"OK\",\"ERR\"),IF(AU44=\"Défaite\",IF(VLOOKUP(AR44,$A$8:$BL$107,47,FALSE)=\"Victoire\",\"OK\",\"ERR\"),IF(AU44=\"Nul\",IF(VLOOKUP(AR44,$A$8:$BL$107,47,FALSE)=\"Nul\",\"OK\",\"ERR\")))),\"\")","v":""},null,{"$f":"IF(AU44=\"Victoire\",100-ROUNDDOWN(20*AW44/$H44,0),\nIF(AU44=\"Défaite\",10+ROUNDDOWN(20*VLOOKUP(AR44,$A$8:$CB$107,49,FALSE)/VLOOKUP(AR44,$A$8:$H$107,8,FALSE),0),\nIF(AND(AU44=\"Nul\",$AW44<>$H44),40+(2*ROUNDDOWN(10*VLOOKUP(AR44,$A$8:$CB$107,49,FALSE)/VLOOKUP(AR44,$A$8:$H$107,8,FALSE),0)-ROUNDDOWN(10*AW44/$H44,0)),IF(AND(AU44=\"Nul\",$AW44=$H44),58,0))))","v":0},null,{"$f":"IF(AY44<>\"\",VLOOKUP(AY44,$A$8:$C$107,2,FALSE),\"\")","v":""},{"$f":"IF(AY44<>\"\",IF(AY44=$A44,\"ERR\",IF(OR(AY44=$I44,AY44=$P44,AY44=$W44,AY44=$AD44,AY44=$AK44,AY44=$AR44),\"DUP\",IF(ISNA(VLOOKUP(AY44,$A$8:$A$107,1,FALSE)),\"ERR\",IF(COUNTIF($I$8:$I$107,AY44)>1,\"ERR\",IF($D44=VLOOKUP(AY44,$A$8:$D$107,4,FALSE),\"CLUB\",\"OK\"))))),\"\")","v":""},null,{"$f":"IF(BB44<>\"\",IF(BB44=\"Victoire\",IF(VLOOKUP(AY44,$A$8:$BL$107,54,FALSE)=\"Défaite\",\"OK\",\"ERR\"),IF(BB44=\"Défaite\",IF(VLOOKUP(AY44,$A$8:$BL$107,54,FALSE)=\"Victoire\",\"OK\",\"ERR\"),IF(BB44=\"Nul\",IF(VLOOKUP(AY44,$A$8:$BL$107,54,FALSE)=\"Nul\",\"OK\",\"ERR\")))),\"\")","v":""},null,{"$f":"IF(BB44=\"Victoire\",100-ROUNDDOWN(20*BD44/$H44,0),\nIF(BB44=\"Défaite\",10+ROUNDDOWN(20*VLOOKUP(AY44,$A$8:$CB$107,56,FALSE)/VLOOKUP(AY44,$A$8:$H$107,8,FALSE),0),\nIF(AND(BB44=\"Nul\",$BD44<>$H44),40+(2*ROUNDDOWN(10*VLOOKUP(AY44,$A$8:$CB$107,56,FALSE)/VLOOKUP(AY44,$A$8:$H$107,8,FALSE),0)-ROUNDDOWN(10*BD44/$H44,0)),IF(AND(BB44=\"Nul\",$BD44=$H44),58,0))))","v":0},null,{"$f":"IF(BF44<>\"\",VLOOKUP(BF44,$A$8:$C$107,2,FALSE),\"\")","v":""},{"$f":"IF(BF44<>\"\",IF(BF44=$A44,\"ERR\",IF(OR(BF44=$I44,BF44=$P44,BF44=$W44,BF44=$AD44,BF44=$AK44,BF44=$AR44,BF44=$AY44),\"DUP\",IF(ISNA(VLOOKUP(BF44,$A$8:$A$107,1,FALSE)),\"ERR\",IF(COUNTIF($I$8:$I$107,BF44)>1,\"ERR\",IF($D44=VLOOKUP(BF44,$A$8:$D$107,4,FALSE),\"CLUB\",\"OK\"))))),\"\")","v":""},null,{"$f":"IF(BI44<>\"\",IF(BI44=\"Victoire\",IF(VLOOKUP(BF44,$A$8:$BL$107,61,FALSE)=\"Défaite\",\"OK\",\"ERR\"),IF(BI44=\"Défaite\",IF(VLOOKUP(BF44,$A$8:$BL$107,61,FALSE)=\"Victoire\",\"OK\",\"ERR\"),IF(BI44=\"Nul\",IF(VLOOKUP(BF44,$A$8:$BL$107,61,FALSE)=\"Nul\",\"OK\",\"ERR\")))),\"\")","v":""},null,{"$f":"IF(BI44=\"Victoire\",100-ROUNDDOWN(20*BK44/$H44,0),\nIF(BI44=\"Défaite\",10+ROUNDDOWN(20*VLOOKUP(BF44,$A$8:$CB$107,63,FALSE)/VLOOKUP(BF44,$A$8:$H$107,8,FALSE),0),\nIF(AND(BI44=\"Nul\",$BK44<>$H44),40+(2*ROUNDDOWN(10*VLOOKUP(BF44,$A$8:$CB$107,63,FALSE)/VLOOKUP(BF44,$A$8:$H$107,8,FALSE),0)-ROUNDDOWN(10*BK44/$H44,0)),IF(AND(BI44=\"Nul\",$BK44=$H44),58,0))))","v":0},null,{"$f":"IF(BM44<>\"\",VLOOKUP(BM44,$A$8:$C$107,2,FALSE),\"\")","v":""},{"$f":"IF(BM44<>\"\",IF(BM44=$A44,\"ERR\",IF(OR(BM44=$I44,BM44=$P44,BM44=$W44,BM44=$AD44,BM44=$AK44,BM44=$AR44,BM44=$AY44,BM44=$BF44),\"DUP\",IF(ISNA(VLOOKUP(BM44,$A$8:$A$107,1,FALSE)),\"ERR\",IF(COUNTIF($I$8:$I$107,BM44)>1,\"ERR\",IF($D44=VLOOKUP(BM44,$A$8:$D$107,4,FALSE),\"CLUB\",\"OK\"))))),\"\")","v":""},null,{"$f":"IF(BP44<>\"\",IF(BP44=\"Victoire\",IF(VLOOKUP(BM44,$A$8:$BS$107,68,FALSE)=\"Défaite\",\"OK\",\"ERR\"),IF(BP44=\"Défaite\",IF(VLOOKUP(BM44,$A$8:$BS$107,68,FALSE)=\"Victoire\",\"OK\",\"ERR\"),IF(BP44=\"Nul\",IF(VLOOKUP(BM44,$A$8:$BS$107,68,FALSE)=\"Nul\",\"OK\",\"ERR\")))),\"\")","v":""},null,{"$f":"IF(BP44=\"Victoire\",100-ROUNDDOWN(20*BR44/$H44,0),\nIF(BP44=\"Défaite\",10+ROUNDDOWN(20*VLOOKUP(BM44,$A$8:$CB$107,70,FALSE)/VLOOKUP(BM44,$A$8:$H$107,8,FALSE),0),\nIF(AND(BP44=\"Nul\",$BR44<>$H44),40+(2*ROUNDDOWN(10*VLOOKUP(BM44,$A$8:$CB$107,70,FALSE)/VLOOKUP(BM44,$A$8:$H$107,8,FALSE),0)-ROUNDDOWN(10*BR44/$H44,0)),IF(AND(BP44=\"Nul\",$BR44=$H44),58,0))))","v":0},null,{"$f":"IF($I44<>\"\",VLOOKUP($I44,$A$8:$N$107,5,FALSE),0)+IF($P44<>\"\",VLOOKUP($P44,$A$8:$N$107,5,FALSE),0)+IF($W44<>\"\",VLOOKUP($W44,$A$8:$N$107,5,FALSE),0)+IF($AD44<>\"\",VLOOKUP($AD44,$A$8:$N$107,5,FALSE),0)+IF($AK44<>\"\",VLOOKUP($AK44,$A$8:$N$107,5,FALSE),0)+IF($AR44<>\"\",VLOOKUP($AR44,$A$8:$N$107,5,FALSE),0)+IF($AY44<>\"\",VLOOKUP($AY44,$A$8:$N$107,5,FALSE),0)+IF($BF44<>\"\",VLOOKUP($BF44,$A$8:$N$107,5,FALSE),0)+IF($BM44<>\"\",VLOOKUP($BM44,$A$8:$N$107,5,FALSE),0)","v":0}]
[{"$nulls":4},0,null,{"$f":"IF($F45<>\"\",VLOOKUP(F45,Armies!$A$1:$C$300,3,FALSE),\"\")","v":""},null,null,{"$f":"IF(I45<>\"\",VLOOKUP(I45,$A$8:$C$107,2,FALSE),\"\")","v":""},{"$f":"IF(I45<>\"\",IF(I45=$A45,\"ERR\",IF(OR(I45=$P45,I45=$W45,I45=$AD45,I45=$AK45),\"DUP\",IF(ISNA(VLOOKUP(I45,$A$8:$A$107,1,FALSE)),\"ERR\",IF(COUNTIF($I$8:$I$107,I45)>1,\"ERR\",IF($D45=VLOOKUP(I45,$A$8:$D$107,4,FALSE),\"CLUB\",\"OK\"))))),\"\")","v":""},null,{"$f":"IF(L45<>\"\",IF(L45=\"Victoire\",IF(VLOOKUP(I45,$A$8:$L$107,12,FALSE)=\"Défaite\",\"OK\",\"ERR\"),IF(L45=\"Défaite\",IF(VLOOKUP(I45,$A$8:$L$107,12,FALSE)=\"Victoire\",\"OK\",\"ERR\"),IF(L45=\"Nul\",IF(VLOOKUP(I45,$A$8:$L$107,12,FALSE)=\"Nul\",\"OK\",\"ERR\")))),\"\")","v":""},null,{"$f":"IF(L45=\"Victoire\",100-ROUNDDOWN(20*N45/$H45,0),\nIF(L45=\"Défaite\",10+ROUNDDOWN(20*VLOOKUP(I45,$A$8:$N$107,14,FALSE)/VLOOKUP(I45,$A$8:$H$107,8,FALSE),0),\nIF(AND(L45=\"Nul\",$N45<>$H45),40+(2*ROUNDDOWN(10*VLOOKUP(I45,$A$8:$N$107,14,FALSE)/VLOOKUP(I45,$A$8:$H$107,8,FALSE),0)-ROUNDDOWN(10*N45/$H45,0)),IF(AND(L45=\"Nul\",$N45=$H45),58,0))))","v":0},null,{"$f":"IF(P45<>\"\",VLOOKUP(P45,$A$8:$C$107,2,FALSE),\"\")","v":""},{"$f":"IF(P45<>\"\",IF(P45=$A45,\"ERR\",IF(OR(P45=$I45,P45=$W45,P45=$AD45,P45=$AK45),\"DUP\",IF(ISNA(VLOOKUP(P45,$A$8:$A$107,1,FALSE)),\"ERR\",IF(COUNTIF($I$8:$I$107,P45)>1,\"ERR\",IF($D45=VLOOKUP(P45,$A$8:$D$107,4,FALSE),\"CLUB\",\"OK\"))))),\"\")","v":""},null,{"$f":"IF(S45<>\"\",IF(S45=\"Victoire\",IF(VLOOKUP(P45,$A$8:$AO$107,19,FALSE)=\"Défaite\",\"OK\",\"ERR\"),IF(S45=\"Défaite\",IF(VLOOKUP(P45,$A$8:$AO$107,19,FALSE)=\"Victoire\",\"OK\",\"ERR\"),IF(S45=\"Nul\",IF(VLOOKUP(P45,$A$8:$AO$107,19,FALSE)=\"Nul\",\"OK\",\"ERR\")))),\"\")","v":""},null,{"$f":"IF(S45=\"Victoire\",100-ROUNDDOWN(20*U45/$H45,0),\nIF(S45=\"Défaite\",10+ROUNDDOWN(20*VLOOKUP(P45,$A$8:$AO$107,21,FALSE)/VLOOKUP(P45,$A$8:$H$107,8,FALSE),0),\nIF(AND(S45=\"Nul\",$U45<>$H45),40+(2*ROUNDDOWN(10*VLOOKUP(P45,$A$8:$AO$107,21,FALSE)/VLOOKUP(P45,$A$8:$H$107,8,FALSE),0)-ROUNDDOWN(10*U45/$H45,0)),IF(AND(S45=\"Nul\",$U45=$H45),58,0))))","v":0},null,{"$f":"IF(W45<>\"\",VLOOKUP(W45,$A$8:$C$107,2,FALSE),\"\")","v":""},{"$f":"IF(W45<>\"\",IF(W45=$A45,\"ERR\",IF(OR(W45=$P45,W45=$I45,W45=$AD45,W45=$AK45),\"DUP\",IF(ISNA(VLOOKUP(W45,$A$8:$A$107,1,FALSE)),\"ERR\",IF(COUNTIF($I$8:$I$107,W45)>1,\"ERR\",IF($D45=VLOOKUP(W45,$A$8:$D$107,4,FALSE),\"CLUB\",\"OK\"))))),\"\")","v":""},null,{"$f":"IF(Z45<>\"\",IF(Z45=\"Victoire\",IF(VLOOKUP(W45,$A$8:$AO$107,26,FALSE)=\"Défaite\",\"OK\",\"ERR\"),IF(Z45=\"Défaite\",IF(VLOOKUP(W45,$A$8:$AO$107,26,FALSE)=\"Victoire\",\"OK\",\"ERR\"),IF(Z45=\"Nul\",IF(VLOOKUP(W45,$A$8:$AO$107,26,FALSE)=\"Nul\",\"OK\",\"ERR\")))),\"\")","v":""},null,{"$f":"IF(Z45=\"Victoire\",100-ROUNDDOWN(20*AB45/$H45,0),\nIF(Z45=\"Défaite\",10+ROUNDDOWN(20*VLOOKUP(W45,$A$8:$AO$107,28,FALSE)/VLOOKUP(W45,$A$8:$H$107,8,FALSE),0),\nIF(AND(Z45=\"Nul\",$AB45<>$H45),40+(2*ROUNDDOWN(10*VLOOKUP(W45,$A$8:$AO$107,28,FALSE)/VLOOKUP(W45,$A$8:$H$107,8,FALSE),0)-ROUNDDOWN(10*AB45/$H45,0)),IF(AND(Z45=\"Nul\",$AB45=$H45),58,0))))","v":0},null,{"$f":"IF(AD45<>\"\",VLOOKUP(AD45,$A$8:$C$107,2,FALSE),\"\")","v":""},{"$f":"IF(AD45<>\"\",IF(AD45=$A45,\"ERR\",IF(OR(AD45=$P45,AD45=$W45,AD45=$I45,AD45=$AK45),\"DUP\",IF(ISNA(VLOOKUP(AD45,$A$8:$A$107,1,FALSE)),\"ERR\",IF(COUNTIF($I$8:$I$107,AD45)>1,\"ERR\",IF($D45=VLOOKUP(AD45,$A$8:$D$107,4,FALSE),\"CLUB\",\"OK\"))))),\"\")","v":""},null,{"$f":"IF(AG45<>\"\",IF(AG45=\"Victoire\",IF(VLOOKUP(AD45,$A$8:$AO$107,33,FALSE)=\"Défaite\",\"OK\",\"ERR\"),IF(AG45=\"Défaite\",IF(VLOOKUP(AD45,$A$8:$AO$107,33,FALSE)=\"Victoire\",\"OK\",\"ERR\"),IF(AG45=\"Nul\",IF(VLOOKUP(AD45,$A$8:$AO$107,33,FALSE)=\"Nul\",\"OK\",\"ERR\")))),\"\")","v":""},null,{"$f":"IF(AG45=\"Victoire\",100-ROUNDDOWN(20*AI45/$H45,0),\nIF(AG45=\"Défaite\",10+ROUNDDOWN(20*VLOOKUP(AD45,$A$8:$AO$107,35,FALSE)/VLOOKUP(AD45,$A$8:$H$107,8,FALSE),0),\nIF(AND(AG45=\"Nul\",$AI45<>$H45),40+(2*ROUNDDOWN(10*VLOOKUP(AD45,$A$8:$AO$107,35,FALSE)/VLOOKUP(AD45,$A$8:$H$107,8,FALSE),0)-ROUNDDOWN(10*AI45/$H45,0)),IF(AND(AG45=\"Nul\",$AI45=$H45),58,0))))","v":0},null,{"$f":"IF(AK45<>\"\",VLOOKUP(AK45,$A$8:$C$107,2,FALSE),\"\")","v":""},{"$f":"IF(AK45<>\"\",IF(AK45=$A45,\"ERR\",IF(OR(AK45=$P45,AK45=$W45,AK45=$AD45,AK45=$I45),\"DUP\",IF(ISNA(VLOOKUP(AK45,$A$8:$A$107,1,FALSE)),\"ERR\",IF(COUNTIF($I$8:$I$107,AK45)>1,\"ERR\",IF($D45=VLOOKUP(AK45,$A$8:$D$107,4,FALSE),\"CLUB\",\"OK\"))))),\"\")","v":""},null,{"$f":"IF(AN45<>\"\",IF(AN45=\"Victoire\",IF(VLOOKUP(AK45,$A$8:$AO$107,40,FALSE)=\"Défaite\",\"OK\",\"ERR\"),IF(AN45=\"Défaite\",IF(VLOOKUP(AK45,$A$8:$AO$107,40,FALSE)=\"Victoire\",\"OK\",\"ERR\"),IF(AN45=\"Nul\",IF(VLOOKUP(AK45,$A$8:$AO$107,40,FALSE)=\"Nul\",\"OK\",\"ERR\")))),\"\")","v":""},null,{"$f":"IF(AN45=\"Victoire\",100-ROUNDDOWN(20*AP45/$H45,0),\nIF(AN45=\"Défaite\",10+ROUNDDOWN(20*VLOOKUP(AK45,$A$8:$CB$107,42,FALSE)/VLOOKUP(AK45,$A$8:$H$107,8,FALSE),0),\nIF(AND(AN45=\"Nul\",$AP45<>$H45),40+(2*ROUNDDOWN(10*VLOOKUP(AK45,$A$8:$CB$107,42,FALSE)/VLOOKUP(AK45,$A$8:$H$107,8,FALSE),0)-ROUNDDOWN(10*AP45/$H45,0)),IF(AND(AN45=\"Nul\",$AP45=$H45),58,0))))","v":0},null,{"$f":"IF(AR45<>\"\",VLOOKUP(AR45,$A$8:$C$107,2,FALSE),\"\")","v":""},{"$f":"IF(AR45<>\"\",IF(AR45=$A45,\"ERR\",IF(OR(AR45=$I45,AR45=$P45,AR45=$W45,AR45=$AD45,AR45=$AK45),\"DUP\",IF(ISNA(VLOOKUP(AR45,$A$8:$A$107,1,FALSE)),\"ERR\",IF(COUNTIF($I$8:$I$107,AR45)>1,\"ERR\",IF($D45=VLOOKUP(AR45,$A$8:$D$107,4,FALSE),\"CLUB\",\"OK\"))))),\"\")","v":""},null,{"$f":"IF(AU45<>\"\",IF(AU45=\"Victoire\",IF(VLOOKUP(AR45,$A$8:$BL$107,47,FALSE)=\"Défaite\",\"OK\",\"ERR\"),IF(AU45=\"Défaite\",IF(VLOOKUP(AR45,$A$8:$BL$107,47,FALSE)=\"Victoire\",\"OK\",\"ERR\"),IF(AU45=\"Nul\",IF(VLOOKUP(AR45,$A$8:$BL$107,47,FALSE)=\"Nul\",\"OK\",\"ERR\")))),\"\")","v":""},null,{"$f":"IF(AU45=\"Victoire\",100-ROUNDDOWN(20*AW45/$H45,0),\nIF(AU45=\"Défaite\",10+ROUNDDOWN(20*VLOOKUP(AR45,$A$8:$CB$107,49,FALSE)/VLOOKUP(AR45,$A$8:$H$107,8,FALSE),0),\nIF(AND(AU45=\"Nul\",$AW45<>$H45),40+(2*ROUNDDOWN(10*VLOOKUP(AR45,$A$8:$CB$107,49,FALSE)/VLOOKUP(AR45,$A$8:$H$107,8,FALSE),0)-ROUNDDOWN(10*AW45/$H45,0)),IF(AND(AU45=\"Nul\",$AW45=$H45),58,0))))","v":0},null,{"$f":"IF(AY45<>\"\",VLOOKUP(AY45,$A$8:$C$107,2,FALSE),\"\")","v":""},{"$f":"IF(AY45<>\"\",IF(AY45=$A45,\"ERR\",IF(OR(AY45=$I45,AY45=$P45,AY45=$W45,AY45=$AD45,AY45=$AK45,AY45=$AR45),\"DUP\",IF(ISNA(VLOOKUP(AY45,$A$8:$A$107,1,FALSE)),\"ERR\",IF(COUNTIF($I$8:$I$107,AY45)>1,\"ERR\",IF($D45=VLOOKUP(AY45,$A$8:$D$107,4,FALSE),\"CLUB\",\"OK\"))))),\"\")","v":""},null,{"$f":"IF(BB45<>\"\",IF(BB45=\"Victoire\",IF(VLOOKUP(AY45,$A$8:$BL$107,54,FALSE)=\"Défaite\",\"OK\",\"ERR\"),IF(BB45=\"Défaite\",IF(VLOOKUP(AY45,$A$8:$BL$107,54,FALSE)=\"Victoire\",\"OK\",\"ERR\"),IF(BB45=\"Nul\",IF(VLOOKUP(AY45,$A$8:$BL$107,54,FALSE)=\"Nul\",\"OK\",\"ERR\")))),\"\")","v":""},null,{"$f":"IF(BB45=\"Victoire\",100-ROUNDDOWN(20*BD45/$H45,0),\nIF(BB45=\"Défaite\",10+ROUNDDOWN(20*VLOOKUP(AY45,$A$8:$CB$107,56,FALSE)/VLOOKUP(AY45,$A$8:$H$107,8,FALSE),0),\nIF(AND(BB45=\"Nul\",$BD45<>$H45),40+(2*ROUNDDOWN(10*VLOOKUP(AY45,$A$8:$CB$107,56,FALSE)/VLOOKUP(AY45,$A$8:$H$107,8,FALSE),0)-ROUNDDOWN(10*BD45/$H45,0)),IF(AND(BB45=\"Nul\",$BD45=$H45),58,0))))","v":0},null,{"$f":"IF(BF45<>\"\",VLOOKUP(BF45,$A$8:$C$107,2,FALSE),\"\")","v":""},{"$f":"IF(BF45<>\"\",IF(BF45=$A45,\"ERR\",IF(OR(BF45=$I45,BF45=$P45,BF45=$W45,BF45=$AD45,BF45=$AK45,BF45=$AR45,BF45=$AY45),\"DUP\",IF(ISNA(VLOOKUP(BF45,$A$8:$A$107,1,FALSE)),\"ERR\",IF(COUNTIF($I$8:$I$107,BF45)>1,\"ERR\",IF($D45=VLOOKUP(BF45,$A$8:$D$107,4,FALSE),\"CLUB\",\"OK\"))))),\"\")","v":""},null,{"$f":"IF(BI45<>\"\",IF(BI45=\"Victoire\",IF(VLOOKUP(BF45,$A$8:$BL$107,61,FALSE)=\"Défaite\",\"OK\",\"ERR\"),IF(BI45=\"Défaite\",IF(VLOOKUP(BF45,$A$8:$BL$107,61,FALSE)=\"Victoire\",\"OK\",\"ERR\"),IF(BI45=\"Nul\",IF(VLOOKUP(BF45,$A$8:$BL$107,61,FALSE)=\"Nul\",\"OK\",\"ERR\")))),\"\")","v":""},null,{"$f":"IF(BI45=\"Victoire\",100-ROUNDDOWN(20*BK45/$H45,0),\nIF(BI45=\"Défaite\",10+ROUNDDOWN(20*VLOOKUP(BF45,$A$8:$CB$107,63,FALSE)/VLOOKUP(BF45,$A$8:$H$107,8,FALSE),0),\nIF(AND(BI45=\"Nul\",$BK45<>$H45),40+(2*ROUNDDOWN(10*VLOOKUP(BF45,$A$8:$CB$107,63,FALSE)/VLOOKUP(BF45,$A$8:$H$107,8,FALSE),0)-ROUNDDOWN(10*BK45/$H45,0)),IF(AND(BI45=\"Nul\",$BK45=$H45),58,0))))","v":0},null,{"$f":"IF(BM45<>\"\",VLOOKUP(BM45,$A$8:$C$107,2,FALSE),\"\")","v":""},{"$f":"IF(BM45<>\"\",IF(BM45=$A45,\"ERR\",IF(OR(BM45=$I45,BM45=$P45,BM45=$W45,BM45=$AD45,BM45=$AK45,BM45=$AR45,BM45=$AY45,BM45=$BF45),\"DUP\",IF(ISNA(VLOOKUP(BM45,$A$8:$A$107,1,FALSE)),\"ERR\",IF(COUNTIF($I$8:$I$107,BM45)>1,\"ERR\",IF($D45=VLOOKUP(BM45,$A$8:$D$107,4,FALSE),\"CLUB\",\"OK\"))))),\"\")","v":""},null,{"$f":"IF(BP45<>\"\",IF(BP45=\"Victoire\",IF(VLOOKUP(BM45,$A$8:$BS$107,68,FALSE)=\"Défaite\",\"OK\",\"ERR\"),IF(BP45=\"Défaite\",IF(VLOOKUP(BM45,$A$8:$BS$107,68,FALSE)=\"Victoire\",\"OK\",\"ERR\"),IF(BP45=\"Nul\",IF(VLOOKUP(BM45,$A$8:$BS$107,68,FALSE)=\"Nul\",\"OK\",\"ERR\")))),\"\")","v":""},null,{"$f":"IF(BP45=\"Victoire\",100-ROUNDDOWN(20*BR45/$H45,0),\nIF(BP45=\"Défaite\",10+ROUNDDOWN(20*VLOOKUP(BM45,$A$8:$CB$107,70,FALSE)/VLOOKUP(BM45,$A$8:$H$107,8,FALSE),0),\nIF(AND(BP45=\"Nul\",$BR45<>$H45),40+(2*ROUNDDOWN(10*VLOOKUP(BM45,$A$8:$CB$107,70,FALSE)/VLOOKUP(BM45,$A$8:$H$107,8,FALSE),0)-ROUNDDOWN(10*BR45/$H45,0)),IF(AND(BP45=\"Nul\",$BR45=$H45),58,0))))","v":0},null,{"$f":"IF($I45<>\"\",VLOOKUP($I45,$A$8:$N$107,5,FALSE),0)+IF($P45<>\"\",VLOOKUP($P45,$A$8:$N$107,5,FALSE),0)+IF($W45<>\"\",VLOOKUP($W45,$A$8:$N$107,5,FALSE),0)+IF($AD45<>\"\",VLOOKUP($AD45,$A$8:$N$107,5,FALSE),0)+IF($AK45<>\"\",VLOOKUP($AK45,$A$8:$N$107,5,FALSE),0)+IF($AR45<>\"\",VLOOKUP($AR45,$A$8:$N$107,5,FALSE),0)+IF($AY45<>\"\",VLOOKUP($AY45,$A$8:$N$107,5,FALSE),0)+IF($BF45<>\"\",VLOOKUP($BF45,$A$8:$N$107,5,FALSE),0)+IF($BM45<>\"\",VLOOKUP($BM45,$A$8:$N$107,5,FALSE),0)","v":0}]
[{"$nulls":4},0,null,{"$f":"IF($F46<>\"\",VLOOKUP(F46,Armies!$A$1:$C$300,3,FALSE),\"\")","v":""},null,null,{"$f":"IF(I46<>\"\",VLOOKUP(I46,$A$8:$C$107,2,FALSE),\"\")","v":""},{"$f":"IF(I46<>\"\",IF(I46=$A46,\"ERR\",IF(OR(I46=$P46,I46=$W46,I46=$AD46,I46=$AK46),\"DUP\",IF(ISNA(VLOOKUP(I46,$A$8:$A$107,1,FALSE)),\"ERR\",IF(COUNTIF($I$8:$I$107,I46)>1,\"ERR\",IF($D46=VLOOKUP(I46,$A$8:$D$107,4,FALSE),\"CLUB\",\"OK\"))))),\"\")","v":""},null,{"$f":"IF(L46<>\"\",IF(L46=\"Victoire\",IF(VLOOKUP(I46,$A$8:$L$107,12,FALSE)=\"Défaite\",\"OK\",\"ERR\"),IF(L46=\"Défaite\",IF(VLOOKUP(I46,$A$8:$L$107,12,FALSE)=\"Victoire\",\"OK\",\"ERR\"),IF(L46=\"Nul\",IF(VLOOKUP(I46,$A$8:$L$107,12,FALSE)=\"Nul\",\"OK\",\"ERR\")))),\"\")","v":""},null,{"$f":"IF(L46=\"Victoire\",100-ROUNDDOWN(20*N46/$H46,0),\nIF(L46=\"Défaite\",10+ROUNDDOWN(20*VLOOKUP(I46,$A$8:$N$107,14,FALSE)/VLOOKUP(I46,$A$8:$H$107,8,FALSE),0),\nIF(AND(L46=\"Nul\",$N46<>$H46),40+(2*ROUNDDOWN(10*VLOOKUP(I46,$A$8:$N$107,14,FALSE)/VLOOKUP(I46,$A$8:$H$107,8,FALSE),0)-ROUNDDOWN(10*N46/$H46,0)),IF(AND(L46=\"Nul\",$N46=$H46),58,0))))","v":0},null,{"$f":"IF(P46<>\"\",VLOOKUP(P46,$A$8:$C$107,2,FALSE),\"\")","v":""},{"$f":"IF(P46<>\"\",IF(P46=$A46,\"ERR\",IF(OR(P46=$I46,P46=$W46,P46=$AD46,P46=$AK46),\"DUP\",IF(ISNA(VLOOKUP(P46,$A$8:$A$107,1,FALSE)),\"ERR\",IF(COUNTIF($I$8:$I$107,P46)>1,\"ERR\",IF($D46=VLOOKUP(P46,$A$8:$D$107,4,FALSE),\"CLUB\",\"OK\"))))),\"\")","v":""},null,{"$f":"IF(S46<>\"\",IF(S46=\"Victoire\",IF(VLOOKUP(P46,$A$8:$AO$107,19,FALSE)=\"Défaite\",\"OK\",\"ERR\"),IF(S46=\"Défaite\",IF(VLOOKUP(P46,$A$8:$AO$107,19,FALSE)=\"Victoire\",\"OK\",\"ERR\"),IF(S46=\"Nul\",IF(VLOOKUP(P46,$A$8:$AO$107,19,FALSE)=\"Nul\",\"OK\",\"ERR\")))),\"\")","v":""},null,{"$f":"IF(S46=\"Victoire\",100-ROUNDDOWN(20*U46/$H46,0),\nIF(S46=\"Défaite\",10+ROUNDDOWN(20*VLOOKUP(P46,$A$8:$AO$107,21,FALSE)/VLOOKUP(P46,$A$8:$H$107,8,FALSE),0),\nIF(AND(S46=\"Nul\",$U46<>$H46),40+(2*ROUNDDOWN(10*VLOOKUP(P46,$A$8:$AO$107,21,FALSE)/VLOOKUP(P46,$A$8:$H$107,8,FALSE),0)-ROUNDDOWN(10*U46/$H46,0)),IF(AND(S46=\"Nul\",$U46=$H46),58,0))))","v":0},null,{"$f":"IF(W46<>\"\",VLOOKUP(W46,$A$8:$C$107,2,FALSE),\"\")","v":""},{"$f":"IF(W46<>\"\",IF(W46=$A46,\"ERR\",IF(OR(W46=$P46,W46=$I46,W46=$AD46,W46=$AK46),\"DUP\",IF(ISNA(VLOOKUP(W46,$A$8:$A$107,1,FALSE)),\"ERR\",IF(COUNTIF($I$8:$I$107,W46)>1,\"ERR\",IF($D46=VLOOKUP(W46,$A$8:$D$107,4,FALSE),\"CLUB\",\"OK\"))))),\"\")","v":""},null,{"$f":"IF(Z46<>\"\",IF(Z46=\"Victoire\",IF(VLOOKUP(W46,$A$8:$AO$107,26,FALSE)=\"Défaite\",\"OK\",\"ERR\"),IF(Z46=\"Défaite\",IF(VLOOKUP(W46,$A$8:$AO$107,26,FALSE)=\"Victoire\",\"OK\",\"ERR\"),IF(Z46=\"Nul\",IF(VLOOKUP(W46,$A$8:$AO$107,26,FALSE)=\"Nul\",\"OK\",\"ERR\")))),\"\")","v":""},null,{"$f":"IF(Z46=\"Victoire\",100-ROUNDDOWN(20*AB46/$H46,0),\nIF(Z46=\"Défaite\",10+ROUNDDOWN(20*VLOOKUP(W46,$A$8:$AO$107,28,FALSE)/VLOOKUP(W46,$A$8:$H$107,8,FALSE),0),\nIF(AND(Z46=\"Nul\",$AB46<>$H46),40+(2*ROUNDDOWN(10*VLOOKUP(W46,$A$8:$AO$107,28,FALSE)/VLOOKUP(W46,$A$8:$H$107,8,FALSE),0)-ROUNDDOWN(10*AB46/$H46,0)),IF(AND(Z46=\"Nul\",$AB46=$H46),58,0))))","v":0},null,{"$f":"IF(AD46<>\"\",VLOOKUP(AD46,$A$8:$C$107,2,FALSE),\"\")","v":""},{"$f":"IF(AD46<>\"\",IF(AD46=$A46,\"ERR\",IF(OR(AD46=$P46,AD46=$W46,AD46=$I46,AD46=$AK46),\"DUP\",IF(ISNA(VLOOKUP(AD46,$A$8:$A$107,1,FALSE)),\"ERR\",IF(COUNTIF($I$8:$I$107,AD46)>1,\"ERR\",IF($D46=VLOOKUP(AD46,$A$8:$D$107,4,FALSE),\"CLUB\",\"OK\"))))),\"\")","v":""},null,{"$f":"IF(AG46<>\"\",IF(AG46=\"Victoire\",IF(VLOOKUP(AD46,$A$8:$AO$107,33,FALSE)=\"Défaite\",\"OK\",\"ERR\"),IF(AG46=\"Défaite\",IF(VLOOKUP(AD46,$A$8:$AO$107,33,FALSE)=\"Victoire\",\"OK\",\"ERR\"),IF(AG46=\"Nul\",IF(VLOOKUP(AD46,$A$8:$AO$107,33,FALSE)=\"Nul\",\"OK\",\"ERR\")))),\"\")","v":""},null,{"$f":"IF(AG46=\"Victoire\",100-ROUNDDOWN(20*AI46/$H46,0),\nIF(AG46=\"Défaite\",10+ROUNDDOWN(20*VLOOKUP(AD46,$A$8:$AO$107,35,FALSE)/VLOOKUP(AD46,$A$8:$H$107,8,FALSE),0),\nIF(AND(AG46=\"Nul\",$AI46<>$H46),40+(2*ROUNDDOWN(10*VLOOKUP(AD46,$A$8:$AO$107,35,FALSE)/VLOOKUP(AD46,$A$8:$H$107,8,FALSE),0)-ROUNDDOWN(10*AI46/$H46,0)),IF(AND(AG46=\"Nul\",$AI46=$H46),58,0))))","v":0},null,{"$f":"IF(AK46<>\"\",VLOOKUP(AK46,$A$8:$C$107,2,FALSE),\"\")","v":""},{"$f":"IF(AK46<>\"\",IF(AK46=$A46,\"ERR\",IF(OR(AK46=$P46,AK46=$W46,AK46=$AD46,AK46=$I46),\"DUP\",IF(ISNA(VLOOKUP(AK46,$A$8:$A$107,1,FALSE)),\"ERR\",IF(COUNTIF($I$8:$I$107,AK46)>1,\"ERR\",IF($D46=VLOOKUP(AK46,$A$8:$D$107,4,FALSE),\"CLUB\",\"OK\"))))),\"\")","v":""},null,{"$f":"IF(AN46<>\"\",IF(AN46=\"Victoire\",IF(VLOOKUP(AK46,$A$8:$AO$107,40,FALSE)=\"Défaite\",\"OK\",\"ERR\"),IF(AN46=\"Défaite\",IF(VLOOKUP(AK46,$A$8:$AO$107,40,FALSE)=\"Victoire\",\"OK\",\"ERR\"),IF(AN46=\"Nul\",IF(VLOOKUP(AK46,$A$8:$AO$107,40,FALSE)=\"Nul\",\"OK\",\"ERR\")))),\"\")","v":""},null,{"$f":"IF(AN46=\"Victoire\",100-ROUNDDOWN(20*AP46/$H46,0),\nIF(AN46=\"Défaite\",10+ROUNDDOWN(20*VLOOKUP(AK46,$A$8:$CB$107,42,FALSE)/VLOOKUP(AK46,$A$8:$H$107,8,FALSE),0),\nIF(AND(AN46=\"Nul\",$AP46<>$H46),40+(2*ROUNDDOWN(10*VLOOKUP(AK46,$A$8:$CB$107,42,FALSE)/VLOOKUP(AK46,$A$8:$H$107,8,FALSE),0)-ROUNDDOWN(10*AP46/$H46,0)),IF(AND(AN46=\"Nul\",$AP46=$H46),58,0))))","v":0},null,{"$f":"IF(AR46<>\"\",VLOOKUP(AR46,$A$8:$C$107,2,FALSE),\"\")","v":""},{"$f":"IF(AR46<>\"\",IF(AR46=$A46,\"ERR\",IF(OR(AR46=$I46,AR46=$P46,AR46=$W46,AR46=$AD46,AR46=$AK46),\"DUP\",IF(ISNA(VLOOKUP(AR46,$A$8:$A$107,1,FALSE)),\"ERR\",IF(COUNTIF($I$8:$I$107,AR46)>1,\"ERR\",IF($D46=VLOOKUP(AR46,$A$8:$D$107,4,FALSE),\"CLUB\",\"OK\"))))),\"\")","v":""},null,{"$f":"IF(AU46<>\"\",IF(AU46=\"Victoire\",IF(VLOOKUP(AR46,$A$8:$BL$107,47,FALSE)=\"Défaite\",\"OK\",\"ERR\"),IF(AU46=\"Défaite\",IF(VLOOKUP(AR46,$A$8:$BL$107,47,FALSE)=\"Victoire\",\"OK\",\"ERR\"),IF(AU46=\"Nul\",IF(VLOOKUP(AR46,$A$8:$BL$107,47,FALSE)=\"Nul\",\"OK\",\"ERR\")))),\"\")","v":""},null,{"$f":"IF(AU46=\"Victoire\",100-ROUNDDOWN(20*AW46/$H46,0),\nIF(AU46=\"Défaite\",10+ROUNDDOWN(20*VLOOKUP(AR46,$A$8:$CB$107,49,FALSE)/VLOOKUP(AR46,$A$8:$H$107,8,FALSE),0),\nIF(AND(AU46=\"Nul\",$AW46<>$H46),40+(2*ROUNDDOWN(10*VLOOKUP(AR46,$A$8:$CB$107,49,FALSE)/VLOOKUP(AR46,$A$8:$H$107,8,FALSE),0)-ROUNDDOWN(10*AW46/$H46,0)),IF(AND(AU46=\"Nul\",$AW46=$H46),58,0))))","v":0},null,{"$f":"IF(AY46<>\"\",VLOOKUP(AY46,$A$8:$C$107,2,FALSE),\"\")","v":""},{"$f":"IF(AY46<>\"\",IF(AY46=$A46,\"ERR\",IF(OR(AY46=$I46,AY46=$P46,AY46=$W46,AY46=$AD46,AY46=$AK46,AY46=$AR46),\"DUP\",IF(ISNA(VLOOKUP(AY46,$A$8:$A$107,1,FALSE)),\"ERR\",IF(COUNTIF($I$8:$I$107,AY46)>1,\"ERR\",IF($D46=VLOOKUP(AY46,$A$8:$D$107,4,FALSE),\"CLUB\",\"OK\"))))),\"\")","v":""},null,{"$f":"IF(BB46<>\"\",IF(BB46=\"Victoire\",IF(VLOOKUP(AY46,$A$8:$BL$107,54,FALSE)=\"Défaite\",\"OK\",\"ERR\"),IF(BB46=\"Défaite\",IF(VLOOKUP(AY46,$A$8:$BL$107,54,FALSE)=\"Victoire\",\"OK\",\"ERR\"),IF(BB46=\"Nul\",IF(VLOOKUP(AY46,$A$8:$BL$107,54,FALSE)=\"Nul\",\"OK\",\"ERR\")))),\"\")","v":""},null,{"$f":"IF(BB46=\"Victoire\",100-ROUNDDOWN(20*BD46/$H46,0),\nIF(BB46=\"Défaite\",10+ROUNDDOWN(20*VLOOKUP(AY46,$A$8:$CB$107,56,FALSE)/VLOOKUP(AY46,$A$8:$H$107,8,FALSE),0),\nIF(AND(BB46=\"Nul\",$BD46<>$H46),40+(2*ROUNDDOWN(10*VLOOKUP(AY46,$A$8:$CB$107,56,FALSE)/VLOOKUP(AY46,$A$8:$H$107,8,FALSE),0)-ROUNDDOWN(10*BD46/$H46,0)),IF(AND(BB46=\"Nul\",$BD46=$H46),58,0))))","v":0},null,{"$f":"IF(BF46<>\"\",VLOOKUP(BF46,$A$8:$C$107,2,FALSE),\"\")","v":""},{"$f":"IF(BF46<>\"\",IF(BF46=$A46,\"ERR\",IF(OR(BF46=$I46,BF46=$P46,BF46=$W46,BF46=$AD46,BF46=$AK46,BF46=$AR46,BF46=$AY46),\"DUP\",IF(ISNA(VLOOKUP(BF46,$A$8:$A$107,1,FALSE)),\"ERR\",IF(COUNTIF($I$8:$I$107,BF46)>1,\"ERR\",IF($D46=VLOOKUP(BF46,$A$8:$D$107,4,FALSE),\"CLUB\",\"OK\"))))),\"\")","v":""},null,{"$f":"IF(BI46<>\"\",IF(BI46=\"Victoire\",IF(VLOOKUP(BF46,$A$8:$BL$107,61,FALSE)=\"Défaite\",\"OK\",\"ERR\"),IF(BI46=\"Défaite\",IF(VLOOKUP(BF46,$A$8:$BL$107,61,FALSE)=\"Victoire\",\"OK\",\"ERR\"),IF(BI46=\"Nul\",IF(VLOOKUP(BF46,$A$8:$BL$107,61,FALSE)=\"Nul\",\"OK\",\"ERR\")))),\"\")","v":""},null,{"$f":"IF(BI46=\"Victoire\",100-ROUNDDOWN(20*BK46/$H46,0),\nIF(BI46=\"Défaite\",10+ROUNDDOWN(20*VLOOKUP(BF46,$A$8:$CB$107,63,FALSE)/VLOOKUP(BF46,$A$8:$H$107,8,FALSE),0),\nIF(AND(BI46=\"Nul\",$BK46<>$H46),40+(2*ROUNDDOWN(10*VLOOKUP(BF46,$A$8:$CB$107,63,FALSE)/VLOOKUP(BF46,$A$8:$H$107,8,FALSE),0)-ROUNDDOWN(10*BK46/$H46,0)),IF(AND(BI46=\"Nul\",$BK46=$H46),58,0))))","v":0},null,{"$f":"IF(BM46<>\"\",VLOOKUP(BM46,$A$8:$C$107,2,FALSE),\"\")","v":""},{"$f":"IF(BM46<>\"\",IF(BM46=$A46,\"ERR\",IF(OR(BM46=$I46,BM46=$P46,BM46=$W46,BM46=$AD46,BM46=$AK46,BM46=$AR46,BM46=$AY46,BM46=$BF46),\"DUP\",IF(ISNA(VLOOKUP(BM46,$A$8:$A$107,1,FALSE)),\"ERR\",IF(COUNTIF($I$8:$I$107,BM46)>1,\"ERR\",IF($D46=VLOOKUP(BM46,$A$8:$D$107,4,FALSE),\"CLUB\",\"OK\"))))),\"\")","v":""},null,{"$f":"IF(BP46<>\"\",IF(BP46=\"Victoire\",IF(VLOOKUP(BM46,$A$8:$BS$107,68,FALSE)=\"Défaite\",\"OK\",\"ERR\"),IF(BP46=\"Défaite\",IF(VLOOKUP(BM46,$A$8:$BS$107,68,FALSE)=\"Victoire\",\"OK\",\"ERR\"),IF(BP46=\"Nul\",IF(VLOOKUP(BM46,$A$8:$BS$107,68,FALSE)=\"Nul\",\"OK\",\"ERR\")))),\"\")","v":""},null,{"$f":"IF(BP46=\"Victoire\",100-ROUNDDOWN(20*BR46/$H46,0),\nIF(BP46=\"Défaite\",10+ROUNDDOWN(20*VLOOKUP(BM46,$A$8:$CB$107,70,FALSE)/VLOOKUP(BM46,$A$8:$H$107,8,FALSE),0),\nIF(AND(BP46=\"Nul\",$BR46<>$H46),40+(2*ROUNDDOWN(10*VLOOKUP(BM46,$A$8:$CB$107,70,FALSE)/VLOOKUP(BM46,$A$8:$H$107,8,FALSE),0)-ROUNDDOWN(10*BR46/$H46,0)),IF(AND(BP46=\"Nul\",$BR46=$H46),58,0))))","v":0},null,{"$f":"IF($I46<>\"\",VLOOKUP($I46,$A$8:$N$107,5,FALSE),0)+IF($P46<>\"\",VLOOKUP($P46,$A$8:$N$107,5,FALSE),0)+IF($W46<>\"\",VLOOKUP($W46,$A$8:$N$107,5,FALSE),0)+IF($AD46<>\"\",VLOOKUP($AD46,$A$8:$N$107,5,FALSE),0)+IF($AK46<>\"\",VLOOKUP($AK46,$A$8:$N$107,5,FALSE),0)+IF($AR46<>\"\",VLOOKUP($AR46,$A$8:$N$107,5,FALSE),0)+IF($AY46<>\"\",VLOOKUP($AY46,$A$8:$N$107,5,FALSE),0)+IF($BF46<>\"\",VLOOKUP($BF46,$A$8:$N$107,5,FALSE),0)+IF($BM46<>\"\",VLOOKUP($BM46,$A$8:$N$107,5,FALSE),0)","v":0}]
[{"$nulls":4},0,null,{"$f":"IF($F47<>\"\",VLOOKUP(F47,Armies!$A$1:$C$300,3,FALSE),\"\")","v":""},null,null,{"$f":"IF(I47<>\"\",VLOOKUP(I47,$A$8:$C$107,2,FALSE),\"\")","v":""},{"$f":"IF(I47<>\"\",IF(I47=$A47,\"ERR\",IF(OR(I47=$P47,I47=$W47,I47=$AD47,I47=$AK47),\"DUP\",IF(ISNA(VLOOKUP(I47,$A$8:$A$107,1,FALSE)),\"ERR\",IF(COUNTIF($I$8:$I$107,I47)>1,\"ERR\",IF($D47=VLOOKUP(I47,$A$8:$D$107,4,FALSE),\"CLUB\",\"OK\"))))),\"\")","v":""},null,{"$f":"IF(L47<>\"\",IF(L47=\"Victoire\",IF(VLOOKUP(I47,$A$8:$L$107,12,FALSE)=\"Défaite\",\"OK\",\"ERR\"),IF(L47=\"Défaite\",IF(VLOOKUP(I47,$A$8:$L$107,12,FALSE)=\"Victoire\",\"OK\",\"ERR\"),IF(L47=\"Nul\",IF(VLOOKUP(I47,$A$8:$L$107,12,FALSE)=\"Nul\",\"OK\",\"ERR\")))),\"\")","v":""},null,{"$f":"IF(L47=\"Victoire\",100-ROUNDDOWN(20*N47/$H47,0),\nIF(L47=\"Défaite\",10+ROUNDDOWN(20*VLOOKUP(I47,$A$8:$N$107,14,FALSE)/VLOOKUP(I47,$A$8:$H$107,8,FALSE),0),\nIF(AND(L47=\"Nul\",$N47<>$H47),40+(2*ROUNDDOWN(10*VLOOKUP(I47,$A$8:$N$107,14,FALSE)/VLOOKUP(I47,$A$8:$H$107,8,FALSE),0)-ROUNDDOWN(10*N47/$H47,0)),IF(AND(L47=\"Nul\",$N47=$H47),58,0))))","v":0},null,{"$f":"IF(P47<>\"\",VLOOKUP(P47,$A$8:$C$107,2,FALSE),\"\")","v":""},{"$f":"IF(P47<>\"\",IF(P47=$A47,\"ERR\",IF(OR(P47=$I47,P47=$W47,P47=$AD47,P47=$AK47),\"DUP\",IF(ISNA(VLOOKUP(P47,$A$8:$A$107,1,FALSE)),\"ERR\",IF(COUNTIF($I$8:$I$107,P47)>1,\"ERR\",IF($D47=VLOOKUP(P47,$A$8:$D$107,4,FALSE),\"CLUB\",\"OK\"))))),\"\")","v":""},null,{"$f":"IF(S47<>\"\",IF(S47=\"Victoire\",IF(VLOOKUP(P47,$A$8:$AO$107,19,FALSE)=\"Défaite\",\"OK\",\"ERR\"),IF(S47=\"Défaite\",IF(VLOOKUP(P47,$A$8:$AO$107,19,FALSE)=\"Victoire\",\"OK\",\"ERR\"),IF(S47=\"Nul\",IF(VLOOKUP(P47,$A$8:$AO$107,19,FALSE)=\"Nul\",\"OK\",\"ERR\")))),\"\")","v":""},null,{"$f":"IF(S47=\"Victoire\",100-ROUNDDOWN(20*U47/$H47,0),\nIF(S47=\"Défaite\",10+ROUNDDOWN(20*VLOOKUP(P47,$A$8:$AO$107,21,FALSE)/VLOOKUP(P47,$A$8:$H$107,8,FALSE),0),\nIF(AND(S47=\"Nul\",$U47<>$H47),40+(2*ROUNDDOWN(10*VLOOKUP(P47,$A$8:$AO$107,21,FALSE)/VLOOKUP(P47,$A$8:$H$107,8,FALSE),0)-ROUNDDOWN(10*U47/$H47,0)),IF(AND(S47=\"Nul\",$U47=$H47),58,0))))","v":0},null,{"$f":"IF(W47<>\"\",VLOOKUP(W47,$A$8:$C$107,2,FALSE),\"\")","v":""},{"$f":"IF(W47<>\"\",IF(W47=$A47,\"ERR\",IF(OR(W47=$P47,W47=$I47,W47=$AD47,W47=$AK47),\"DUP\",IF(ISNA(VLOOKUP(W47,$A$8:$A$107,1,FALSE)),\"ERR\",IF(COUNTIF($I$8:$I$107,W47)>1,\"ERR\",IF($D47=VLOOKUP(W47,$A$8:$D$107,4,FALSE),\"CLUB\",\"OK\"))))),\"\")","v":""},null,{"$f":"IF(Z47<>\"\",IF(Z47=\"Victoire\",IF(VLOOKUP(W47,$A$8:$AO$107,26,FALSE)=\"Défaite\",\"OK\",\"ERR\"),IF(Z47=\"Défaite\",IF(VLOOKUP(W47,$A$8:$AO$107,26,FALSE)=\"Victoire\",\"OK\",\"ERR\"),IF(Z47=\"Nul\",IF(VLOOKUP(W47,$A$8:$AO$107,26,FALSE)=\"Nul\",\"OK\",\"ERR\")))),\"\")","v":""},null,{"$f":"IF(Z47=\"Victoire\",100-ROUNDDOWN(20*AB47/$H47,0),\nIF(Z47=\"Défaite\",10+ROUNDDOWN(20*VLOOKUP(W47,$A$8:$AO$107,28,FALSE)/VLOOKUP(W47,$A$8:$H$107,8,FALSE),0),\nIF(AND(Z47=\"Nul\",$AB47<>$H47),40+(2*ROUNDDOWN(10*VLOOKUP(W47,$A$8:$AO$107,28,FALSE)/VLOOKUP(W47,$A$8:$H$107,8,FALSE),0)-ROUNDDOWN(10*AB47/$H47,0)),IF(AND(Z47=\"Nul\",$AB47=$H47),58,0))))","v":0},null,{"$f":"IF(AD47<>\"\",VLOOKUP(AD47,$A$8:$C$107,2,FALSE),\"\")","v":""},{"$f":"IF(AD47<>\"\",IF(AD47=$A47,\"ERR\",IF(OR(AD47=$P47,AD47=$W47,AD47=$I47,AD47=$AK47),\"DUP\",IF(ISNA(VLOOKUP(AD47,$A$8:$A$107,1,FALSE)),\"ERR\",IF(COUNTIF($I$8:$I$107,AD47)>1,\"ERR\",IF($D47=VLOOKUP(AD47,$A$8:$D$107,4,FALSE),\"CLUB\",\"OK\"))))),\"\")","v":""},null,{"$f":"IF(AG47<>\"\",IF(AG47=\"Victoire\",IF(VLOOKUP(AD47,$A$8:$AO$107,33,FALSE)=\"Défaite\",\"OK\",\"ERR\"),IF(AG47=\"Défaite\",IF(VLOOKUP(AD47,$A$8:$AO$107,33,FALSE)=\"Victoire\",\"OK\",\"ERR\"),IF(AG47=\"Nul\",IF(VLOOKUP(AD47,$A$8:$AO$107,33,FALSE)=\"Nul\",\"OK\",\"ERR\")))),\"\")","v":""},null,{"$f":"IF(AG47=\"Victoire\",100-ROUNDDOWN(20*AI47/$H47,0),\nIF(AG47=\"Défaite\",10+ROUNDDOWN(20*VLOOKUP(AD47,$A$8:$AO$107,35,FALSE)/VLOOKUP(AD47,$A$8:$H$107,8,FALSE),0),\nIF(AND(AG47=\"Nul\",$AI47<>$H47),40+(2*ROUNDDOWN(10*VLOOKUP(AD47,$A$8:$AO$107,35,FALSE)/VLOOKUP(AD47,$A$8:$H$107,8,FALSE),0)-ROUNDDOWN(10*AI47/$H47,0)),IF(AND(AG47=\"Nul\",$AI47=$H47),58,0))))","v":0},null,{"$f":"IF(AK47<>\"\",VLOOKUP(AK47,$A$8:$C$107,2,FALSE),\"\")","v":""},{"$f":"IF(AK47<>\"\",IF(AK47=$A47,\"ERR\",IF(OR(AK47=$P47,AK47=$W47,AK47=$AD47,AK47=$I47),\"DUP\",IF(ISNA(VLOOKUP(AK47,$A$8:$A$107,1,FALSE)),\"ERR\",IF(COUNTIF($I$8:$I$107,AK47)>1,\"ERR\",IF($D47=VLOOKUP(AK47,$A$8:$D$107,4,FALSE),\"CLUB\",\"OK\"))))),\"\")","v":""},null,{"$f":"IF(AN47<>\"\",IF(AN47=\"Victoire\",IF(VLOOKUP(AK47,$A$8:$AO$107,40,FALSE)=\"Défaite\",\"OK\",\"ERR\"),IF(AN47=\"Défaite\",IF(VLOOKUP(AK47,$A$8:$AO$107,40,FALSE)=\"Victoire\",\"OK\",\"ERR\"),IF(AN47=\"Nul\",IF(VLOOKUP(AK47,$A$8:$AO$107,40,FALSE)=\"Nul\",\"OK\",\"ERR\")))),\"\")","v":""},null,{"$f":"IF(AN47=\"Victoire\",100-ROUNDDOWN(20*AP47/$H47,0),\nIF(AN47=\"Défaite\",10+ROUNDDOWN(20*VLOOKUP(AK47,$A$8:$CB$107,42,FALSE)/VLOOKUP(AK47,$A$8:$H$107,8,FALSE),0),\nIF(AND(AN47=\"Nul\",$AP47<>$H47),40+(2*ROUNDDOWN(10*VLOOKUP(AK47,$A$8:$CB$107,42,FALSE)/VLOOKUP(AK47,$A$8:$H$107,8,FALSE),0)-ROUNDDOWN(10*AP47/$H47,0)),IF(AND(AN47=\"Nul\",$AP47=$H47),58,0))))","v":0},null,{"$f":"IF(AR47<>\"\",VLOOKUP(AR47,$A$8:$C$107,2,FALSE),\"\")","v":""},{"$f":"IF(AR47<>\"\",IF(AR47=$A47,\"ERR\",IF(OR(AR47=$I47,AR47=$P47,AR47=$W47,AR47=$AD47,AR47=$AK47),\"DUP\",IF(ISNA(VLOOKUP(AR47,$A$8:$A$107,1,FALSE)),\"ERR\",IF(COUNTIF($I$8:$I$107,AR47)>1,\"ERR\",IF($D47=VLOOKUP(AR47,$A$8:$D$107,4,FALSE),\"CLUB\",\"OK\"))))),\"\")","v":""},null,{"$f":"IF(AU47<>\"\",IF(AU47=\"Victoire\",IF(VLOOKUP(AR47,$A$8:$BL$107,47,FALSE)=\"Défaite\",\"OK\",\"ERR\"),IF(AU47=\"Défaite\",IF(VLOOKUP(AR47,$A$8:$BL$107,47,FALSE)=\"Victoire\",\"OK\",\"ERR\"),IF(AU47=\"Nul\",IF(VLOOKUP(AR47,$A$8:$BL$107,47,FALSE)=\"Nul\",\"OK\",\"ERR\")))),\"\")","v":""},null,{"$f":"IF(AU47=\"Victoire\",100-ROUNDDOWN(20*AW47/$H47,0),\nIF(AU47=\"Défaite\",10+ROUNDDOWN(20*VLOOKUP(AR47,$A$8:$CB$107,49,FALSE)/VLOOKUP(AR47,$A$8:$H$107,8,FALSE),0),\nIF(AND(AU47=\"Nul\",$AW47<>$H47),40+(2*ROUNDDOWN(10*VLOOKUP(AR47,$A$8:$CB$107,49,FALSE)/VLOOKUP(AR47,$A$8:$H$107,8,FALSE),0)-ROUNDDOWN(10*AW47/$H47,0)),IF(AND(AU47=\"Nul\",$AW47=$H47),58,0))))","v":0},null,{"$f":"IF(AY47<>\"\",VLOOKUP(AY47,$A$8:$C$107,2,FALSE),\"\")","v":""},{"$f":"IF(AY47<>\"\",IF(AY47=$A47,\"ERR\",IF(OR(AY47=$I47,AY47=$P47,AY47=$W47,AY47=$AD47,AY47=$AK47,AY47=$AR47),\"DUP\",IF(ISNA(VLOOKUP(AY47,$A$8:$A$107,1,FALSE)),\"ERR\",IF(COUNTIF($I$8:$I$107,AY47)>1,\"ERR\",IF($D47=VLOOKUP(AY47,$A$8:$D$107,4,FALSE),\"CLUB\",\"OK\"))))),\"\")","v":""},null,{"$f":"IF(BB47<>\"\",IF(BB47=\"Victoire\",IF(VLOOKUP(AY47,$A$8:$BL$107,54,FALSE)=\"Défaite\",\"OK\",\"ERR\"),IF(BB47=\"Défaite\",IF(VLOOKUP(AY47,$A$8:$BL$107,54,FALSE)=\"Victoire\",\"OK\",\"ERR\"),IF(BB47=\"Nul\",IF(VLOOKUP(AY47,$A$8:$BL$107,54,FALSE)=\"Nul\",\"OK\",\"ERR\")))),\"\")","v":""},null,{"$f":"IF(BB47=\"Victoire\",100-ROUNDDOWN(20*BD47/$H47,0),\nIF(BB47=\"Défaite\",10+ROUNDDOWN(20*VLOOKUP(AY47,$A$8:$CB$107,56,FALSE)/VLOOKUP(AY47,$A$8:$H$107,8,FALSE),0),\nIF(AND(BB47=\"Nul\",$BD47<>$H47),40+(2*ROUNDDOWN(10*VLOOKUP(AY47,$A$8:$CB$107,56,FALSE)/VLOOKUP(AY47,$A$8:$H$107,8,FALSE),0)-ROUNDDOWN(10*BD47/$H47,0)),IF(AND(BB47=\"Nul\",$BD47=$H47),58,0))))","v":0},null,{"$f":"IF(BF47<>\"\",VLOOKUP(BF47,$A$8:$C$107,2,FALSE),\"\")","v":""},{"$f":"IF(BF47<>\"\",IF(BF47=$A47,\"ERR\",IF(OR(BF47=$I47,BF47=$P47,BF47=$W47,BF47=$AD47,BF47=$AK47,BF47=$AR47,BF47=$AY47),\"DUP\",IF(ISNA(VLOOKUP(BF47,$A$8:$A$107,1,FALSE)),\"ERR\",IF(COUNTIF($I$8:$I$107,BF47)>1,\"ERR\",IF($D47=VLOOKUP(BF47,$A$8:$D$107,4,FALSE),\"CLUB\",\"OK\"))))),\"\")","v":""},null,{"$f":"IF(BI47<>\"\",IF(BI47=\"Victoire\",IF(VLOOKUP(BF47,$A$8:$BL$107,61,FALSE)=\"Défaite\",\"OK\",\"ERR\"),IF(BI47=\"Défaite\",IF(VLOOKUP(BF47,$A$8:$BL$107,61,FALSE)=\"Victoire\",\"OK\",\"ERR\"),IF(BI47=\"Nul\",IF(VLOOKUP(BF47,$A$8:$BL$107,61,FALSE)=\"Nul\",\"OK\",\"ERR\")))),\"\")","v":""},null,{"$f":"IF(BI47=\"Victoire\",100-ROUNDDOWN(20*BK47/$H47,0),\nIF(BI47=\"Défaite\",10+ROUNDDOWN(20*VLOOKUP(BF47,$A$8:$CB$107,63,FALSE)/VLOOKUP(BF47,$A$8:$H$107,8,FALSE),0),\nIF(AND(BI47=\"Nul\",$BK47<>$H47),40+(2*ROUNDDOWN(10*VLOOKUP(BF47,$A$8:$CB$107,63,FALSE)/VLOOKUP(BF47,$A$8:$H$107,8,FALSE),0)-ROUNDDOWN(10*BK47/$H47,0)),IF(AND(BI47=\"Nul\",$BK47=$H47),58,0))))","v":0},null,{"$f":"IF(BM47<>\"\",VLOOKUP(BM47,$A$8:$C$107,2,FALSE),\"\")","v":""},{"$f":"IF(BM47<>\"\",IF(BM47=$A47,\"ERR\",IF(OR(BM47=$I47,BM47=$P47,BM47=$W47,BM47=$AD47,BM47=$AK47,BM47=$AR47,BM47=$AY47,BM47=$BF47),\"DUP\",IF(ISNA(VLOOKUP(BM47,$A$8:$A$107,1,FALSE)),\"ERR\",IF(COUNTIF($I$8:$I$107,BM47)>1,\"ERR\",IF($D47=VLOOKUP(BM47,$A$8:$D$107,4,FALSE),\"CLUB\",\"OK\"))))),\"\")","v":""},null,{"$f":"IF(BP47<>\"\",IF(BP47=\"Victoire\",IF(VLOOKUP(BM47,$A$8:$BS$107,68,FALSE)=\"Défaite\",\"OK\",\"ERR\"),IF(BP47=\"Défaite\",IF(VLOOKUP(BM47,$A$8:$BS$107,68,FALSE)=\"Victoire\",\"OK\",\"ERR\"),IF(BP47=\"Nul\",IF(VLOOKUP(BM47,$A$8:$BS$107,68,FALSE)=\"Nul\",\"OK\",\"ERR\")))),\"\")","v":""},null,{"$f":"IF(BP47=\"Victoire\",100-ROUNDDOWN(20*BR47/$H47,0),\nIF(BP47=\"Défaite\",10+ROUNDDOWN(20*VLOOKUP(BM47,$A$8:$CB$107,70,FALSE)/VLOOKUP(BM47,$A$8:$H$107,8,FALSE),0),\nIF(AND(BP47=\"Nul\",$BR47<>$H47),40+(2*ROUNDDOWN(10*VLOOKUP(BM47,$A$8:$CB$107,70,FALSE)/VLOOKUP(BM47,$A$8:$H$107,8,FALSE),0)-ROUNDDOWN(10*BR47/$H47,0)),IF(AND(BP47=\"Nul\",$BR47=$H47),58,0))))","v":0},null,{"$f":"IF($I47<>\"\",VLOOKUP($I47,$A$8:$N$107,5,FALSE),0)+IF($P47<>\"\",VLOOKUP($P47,$A$8:$N$107,5,FALSE),0)+IF($W47<>\"\",VLOOKUP($W47,$A$8:$N$107,5,FALSE),0)+IF($AD47<>\"\",VLOOKUP($AD47,$A$8:$N$107,5,FALSE),0)+IF($AK47<>\"\",VLOOKUP($AK47,$A$8:$N$107,5,FALSE),0)+IF($AR47<>\"\",VLOOKUP($AR47,$A$8:$N$107,5,FALSE),0)+IF($AY47<>\"\",VLOOKUP($AY47,$A$8:$N$107,5,FALSE),0)+IF($BF47<>\"\",VLOOKUP($BF47,$A$8:$N$107,5,FALSE),0)+IF($BM47<>\"\",VLOOKUP($BM47,$A$8:$N$107,5,FALSE),0)","v":0}]
[{"$nulls":4},0,null,{"$f":"IF($F48<>\"\",VLOOKUP(F48,Armies!$A$1:$C$300,3,FALSE),\"\")","v":""},null,null,{"$f":"IF(I48<>\"\",VLOOKUP(I48,$A$8:$C$107,2,FALSE),\"\")","v":""},{"$f":"IF(I48<>\"\",IF(I48=$A48,\"ERR\",IF(OR(I48=$P48,I48=$W48,I48=$AD48,I48=$AK48),\"DUP\",IF(ISNA(VLOOKUP(I48,$A$8:$A$107,1,FALSE)),\"ERR\",IF(COUNTIF($I$8:$I$107,I48)>1,\"ERR\",IF($D48=VLOOKUP(I48,$A$8:$D$107,4,FALSE),\"CLUB\",\"OK\"))))),\"\")","v":""},null,{"$f":"IF(L48<>\"\",IF(L48=\"Victoire\",IF(VLOOKUP(I48,$A$8:$L$107,12,FALSE)=\"Défaite\",\"OK\",\"ERR\"),IF(L48=\"Défaite\",IF(VLOOKUP(I48,$A$8:$L$107,12,FALSE)=\"Victoire\",\"OK\",\"ERR\"),IF(L48=\"Nul\",IF(VLOOKUP(I48,$A$8:$L$107,12,FALSE)=\"Nul\",\"OK\",\"ERR\")))),\"\")","v":""},null,{"$f":"IF(L48=\"Victoire\",100-ROUNDDOWN(20*N48/$H48,0),\nIF(L48=\"Défaite\",10+ROUNDDOWN(20*VLOOKUP(I48,$A$8:$N$107,14,FALSE)/VLOOKUP(I48,$A$8:$H$107,8,FALSE),0),\nIF(AND(L48=\"Nul\",$N48<>$H48),40+(2*ROUNDDOWN(10*VLOOKUP(I48,$A$8:$N$107,14,FALSE)/VLOOKUP(I48,$A$8:$H$107,8,FALSE),0)-ROUNDDOWN(10*N48/$H48,0)),IF(AND(L48=\"Nul\",$N48=$H48),58,0))))","v":0},null,{"$f":"IF(P48<>\"\",VLOOKUP(P48,$A$8:$C$107,2,FALSE),\"\")","v":""},{"$f":"IF(P48<>\"\",IF(P48=$A48,\"ERR\",IF(OR(P48=$I48,P48=$W48,P48=$AD48,P48=$AK48),\"DUP\",IF(ISNA(VLOOKUP(P48,$A$8:$A$107,1,FALSE)),\"ERR\",IF(COUNTIF($I$8:$I$107,P48)>1,\"ERR\",IF($D48=VLOOKUP(P48,$A$8:$D$107,4,FALSE),\"CLUB\",\"OK\"))))),\"\")","v":""},null,{"$f":"IF(S48<>\"\",IF(S48=\"Victoire\",IF(VLOOKUP(P48,$A$8:$AO$107,19,FALSE)=\"Défaite\",\"OK\",\"ERR\"),IF(S48=\"Défaite\",IF(VLOOKUP(P48,$A$8:$AO$107,19,FALSE)=\"Victoire\",\"OK\",\"ERR\"),IF(S48=\"Nul\",IF(VLOOKUP(P48,$A$8:$AO$107,19,FALSE)=\"Nul\",\"OK\",\"ERR\")))),\"\")","v":""},null,{"$f":"IF(S48=\"Victoire\",100-ROUNDDOWN(20*U48/$H48,0),\nIF(S48=\"Défaite\",10+ROUNDDOWN(20*VLOOKUP(P48,$A$8:$AO$107,21,FALSE)/VLOOKUP(P48,$A$8:$H$107,8,FALSE),0),\nIF(AND(S48=\"Nul\",$U48<>$H48),40+(2*ROUNDDOWN(10*VLOOKUP(P48,$A$8:$AO$107,21,FALSE)/VLOOKUP(P48,$A$8:$H$107,8,FALSE),0)-ROUNDDOWN(10*U48/$H48,0)),IF(AND(S48=\"Nul\",$U48=$H48),58,0))))","v":0},null,{"$f":"IF(W48<>\"\",VLOOKUP(W48,$A$8:$C$107,2,FALSE),\"\")","v":""},{"$f":"IF(W48<>\"\",IF(W48=$A48,\"ERR\",IF(OR(W48=$P48,W48=$I48,W48=$AD48,W48=$AK48),\"DUP\",IF(ISNA(VLOOKUP(W48,$A$8:$A$107,1,FALSE)),\"ERR\",IF(COUNTIF($I$8:$I$107,W48)>1,\"ERR\",IF($D48=VLOOKUP(W48,$A$8:$D$107,4,FALSE),\"CLUB\",\"OK\"))))),\"\")","v":""},null,{"$f":"IF(Z48<>\"\",IF(Z48=\"Victoire\",IF(VLOOKUP(W48,$A$8:$AO$107,26,FALSE)=\"Défaite\",\"OK\",\"ERR\"),IF(Z48=\"Défaite\",IF(VLOOKUP(W48,$A$8:$AO$107,26,FALSE)=\"Victoire\",\"OK\",\"ERR\"),IF(Z48=\"Nul\",IF(VLOOKUP(W48,$A$8:$AO$107,26,FALSE)=\"Nul\",\"OK\",\"ERR\")))),\"\")","v":""},null,{"$f":"IF(Z48=\"Victoire\",100-ROUNDDOWN(20*AB48/$H48,0),\nIF(Z48=\"Défaite\",10+ROUNDDOWN(20*VLOOKUP(W48,$A$8:$AO$107,28,FALSE)/VLOOKUP(W48,$A$8:$H$107,8,FALSE),0),\nIF(AND(Z48=\"Nul\",$AB48<>$H48),40+(2*ROUNDDOWN(10*VLOOKUP(W48,$A$8:$AO$107,28,FALSE)/VLOOKUP(W48,$A$8:$H$107,8,FALSE),0)-ROUNDDOWN(10*AB48/$H48,0)),IF(AND(Z48=\"Nul\",$AB48=$H48),58,0))))","v":0},null,{"$f":"IF(AD48<>\"\",VLOOKUP(AD48,$A$8:$C$107,2,FALSE),\"\")","v":""},{"$f":"IF(AD48<>\"\",IF(AD48=$A48,\"ERR\",IF(OR(AD48=$P48,AD48=$W48,AD48=$I48,AD48=$AK48),\"DUP\",IF(ISNA(VLOOKUP(AD48,$A$8:$A$107,1,FALSE)),\"ERR\",IF(COUNTIF($I$8:$I$107,AD48)>1,\"ERR\",IF($D48=VLOOKUP(AD48,$A$8:$D$107,4,FALSE),\"CLUB\",\"OK\"))))),\"\")","v":""},null,{"$f":"IF(AG48<>\"\",IF(AG48=\"Victoire\",IF(VLOOKUP(AD48,$A$8:$AO$107,33,FALSE)=\"Défaite\",\"OK\",\"ERR\"),IF(AG48=\"Défaite\",IF(VLOOKUP(AD48,$A$8:$AO$107,33,FALSE)=\"Victoire\",\"OK\",\"ERR\"),IF(AG48=\"Nul\",IF(VLOOKUP(AD48,$A$8:$AO$107,33,FALSE)=\"Nul\",\"OK\",\"ERR\")))),\"\")","v":""},null,{"$f":"IF(AG48=\"Victoire\",100-ROUNDDOWN(20*AI48/$H48,0),\nIF(AG48=\"Défaite\",10+ROUNDDOWN(20*VLOOKUP(AD48,$A$8:$AO$107,35,FALSE)/VLOOKUP(AD48,$A$8:$H$107,8,FALSE),0),\nIF(AND(AG48=\"Nul\",$AI48<>$H48),40+(2*ROUNDDOWN(10*VLOOKUP(AD48,$A$8:$AO$107,35,FALSE)/VLOOKUP(AD48,$A$8:$H$107,8,FALSE),0)-ROUNDDOWN(10*AI48/$H48,0)),IF(AND(AG48=\"Nul\",$AI48=$H48),58,0))))","v":0},null,{"$f":"IF(AK48<>\"\",VLOOKUP(AK48,$A$8:$C$107,2,FALSE),\"\")","v":""},{"$f":"IF(AK48<>\"\",IF(AK48=$A48,\"ERR\",IF(OR(AK48=$P48,AK48=$W48,AK48=$AD48,AK48=$I48),\"DUP\",IF(ISNA(VLOOKUP(AK48,$A$8:$A$107,1,FALSE)),\"ERR\",IF(COUNTIF($I$8:$I$107,AK48)>1,\"ERR\",IF($D48=VLOOKUP(AK48,$A$8:$D$107,4,FALSE),\"CLUB\",\"OK\"))))),\"\")","v":""},null,{"$f":"IF(AN48<>\"\",IF(AN48=\"Victoire\",IF(VLOOKUP(AK48,$A$8:$AO$107,40,FALSE)=\"Défaite\",\"OK\",\"ERR\"),IF(AN48=\"Défaite\",IF(VLOOKUP(AK48,$A$8:$AO$107,40,FALSE)=\"Victoire\",\"OK\",\"ERR\"),IF(AN48=\"Nul\",IF(VLOOKUP(AK48,$A$8:$AO$107,40,FALSE)=\"Nul\",\"OK\",\"ERR\")))),\"\")","v":""},null,{"$f":"IF(AN48=\"Victoire\",100-ROUNDDOWN(20*AP48/$H48,0),\nIF(AN48=\"Défaite\",10+ROUNDDOWN(20*VLOOKUP(AK48,$A$8:$CB$107,42,FALSE)/VLOOKUP(AK48,$A$8:$H$107,8,FALSE),0),\nIF(AND(AN48=\"Nul\",$AP48<>$H48),40+(2*ROUNDDOWN(10*VLOOKUP(AK48,$A$8:$CB$107,42,FALSE)/VLOOKUP(AK48,$A$8:$H$107,8,FALSE),0)-ROUNDDOWN(10*AP48/$H48,0)),IF(AND(AN48=\"Nul\",$AP48=$H48),58,0))))","v":0},null,{"$f":"IF(AR48<>\"\",VLOOKUP(AR48,$A$8:$C$107,2,FALSE),\"\")","v":""},{"$f":"IF(AR48<>\"\",IF(AR48=$A48,\"ERR\",IF(OR(AR48=$I48,AR48=$P48,AR48=$W48,AR48=$AD48,AR48=$AK48),\"DUP\",IF(ISNA(VLOOKUP(AR48,$A$8:$A$107,1,FALSE)),\"ERR\",IF(COUNTIF($I$8:$I$107,AR48)>1,\"ERR\",IF($D48=VLOOKUP(AR48,$A$8:$D$107,4,FALSE),\"CLUB\",\"OK\"))))),\"\")","v":""},null,{"$f":"IF(AU48<>\"\",IF(AU48=\"Victoire\",IF(VLOOKUP(AR48,$A$8:$BL$107,47,FALSE)=\"Défaite\",\"OK\",\"ERR\"),IF(AU48=\"Défaite\",IF(VLOOKUP(AR48,$A$8:$BL$107,47,FALSE)=\"Victoire\",\"OK\",\"ERR\"),IF(AU48=\"Nul\",IF(VLOOKUP(AR48,$A$8:$BL$107,47,FALSE)=\"Nul\",\"OK\",\"ERR\")))),\"\")","v":""},null,{"$f":"IF(AU48=\"Victoire\",100-ROUNDDOWN(20*AW48/$H48,0),\nIF(AU48=\"Défaite\",10+ROUNDDOWN(20*VLOOKUP(AR48,$A$8:$CB$107,49,FALSE)/VLOOKUP(AR48,$A$8:$H$107,8,FALSE),0),\nIF(AND(AU48=\"Nul\",$AW48<>$H48),40+(2*ROUNDDOWN(10*VLOOKUP(AR48,$A$8:$CB$107,49,FALSE)/VLOOKUP(AR48,$A$8:$H$107,8,FALSE),0)-ROUNDDOWN(10*AW48/$H48,0)),IF(AND(AU48=\"Nul\",$AW48=$H48),58,0))))","v":0},null,{"$f":"IF(AY48<>\"\",VLOOKUP(AY48,$A$8:$C$107,2,FALSE),\"\")","v":""},{"$f":"IF(AY48<>\"\",IF(AY48=$A48,\"ERR\",IF(OR(AY48=$I48,AY48=$P48,AY48=$W48,AY48=$AD48,AY48=$AK48,AY48=$AR48),\"DUP\",IF(ISNA(VLOOKUP(AY48,$A$8:$A$107,1,FALSE)),\"ERR\",IF(COUNTIF($I$8:$I$107,AY48)>1,\"ERR\",IF($D48=VLOOKUP(AY48,$A$8:$D$107,4,FALSE),\"CLUB\",\"OK\"))))),\"\")","v":""},null,{"$f":"IF(BB48<>\"\",IF(BB48=\"Victoire\",IF(VLOOKUP(AY48,$A$8:$BL$107,54,FALSE)=\"Défaite\",\"OK\",\"ERR\"),IF(BB48=\"Défaite\",IF(VLOOKUP(AY48,$A$8:$BL$107,54,FALSE)=\"Victoire\",\"OK\",\"ERR\"),IF(BB48=\"Nul\",IF(VLOOKUP(AY48,$A$8:$BL$107,54,FALSE)=\"Nul\",\"OK\",\"ERR\")))),\"\")","v":""},null,{"$f":"IF(BB48=\"Victoire\",100-ROUNDDOWN(20*BD48/$H48,0),\nIF(BB48=\"Défaite\",10+ROUNDDOWN(20*VLOOKUP(AY48,$A$8:$CB$107,56,FALSE)/VLOOKUP(AY48,$A$8:$H$107,8,FALSE),0),\nIF(AND(BB48=\"Nul\",$BD48<>$H48),40+(2*ROUNDDOWN(10*VLOOKUP(AY48,$A$8:$CB$107,56,FALSE)/VLOOKUP(AY48,$A$8:$H$107,8,FALSE),0)-ROUNDDOWN(10*BD48/$H48,0)),IF(AND(BB48=\"Nul\",$BD48=$H48),58,0))))","v":0},null,{"$f":"IF(BF48<>\"\",VLOOKUP(BF48,$A$8:$C$107,2,FALSE),\"\")","v":""},{"$f":"IF(BF48<>\"\",IF(BF48=$A48,\"ERR\",IF(OR(BF48=$I48,BF48=$P48,BF48=$W48,BF48=$AD48,BF48=$AK48,BF48=$AR48,BF48=$AY48),\"DUP\",IF(ISNA(VLOOKUP(BF48,$A$8:$A$107,1,FALSE)),\"ERR\",IF(COUNTIF($I$8:$I$107,BF48)>1,\"ERR\",IF($D48=VLOOKUP(BF48,$A$8:$D$107,4,FALSE),\"CLUB\",\"OK\"))))),\"\")","v":""},null,{"$f":"IF(BI48<>\"\",IF(BI48=\"Victoire\",IF(VLOOKUP(BF48,$A$8:$BL$107,61,FALSE)=\"Défaite\",\"OK\",\"ERR\"),IF(BI48=\"Défaite\",IF(VLOOKUP(BF48,$A$8:$BL$107,61,FALSE)=\"Victoire\",\"OK\",\"ERR\"),IF(BI48=\"Nul\",IF(VLOOKUP(BF48,$A$8:$BL$107,61,FALSE)=\"Nul\",\"OK\",\"ERR\")))),\"\")","v":""},null,{"$f":"IF(BI48=\"Victoire\",100-ROUNDDOWN(20*BK48/$H48,0),\nIF(BI48=\"Défaite\",10+ROUNDDOWN(20*VLOOKUP(BF48,$A$8:$CB$107,63,FALSE)/VLOOKUP(BF48,$A$8:$H$107,8,FALSE),0),\nIF(AND(BI48=\"Nul\",$BK48<>$H48),40+(2*ROUNDDOWN(10*VLOOKUP(BF48,$A$8:$CB$107,63,FALSE)/VLOOKUP(BF48,$A$8:$H$107,8,FALSE),0)-ROUNDDOWN(10*BK48/$H48,0)),IF(AND(BI48=\"Nul\",$BK48=$H48),58,0))))","v":0},null,{"$f":"IF(BM48<>\"\",VLOOKUP(BM48,$A$8:$C$107,2,FALSE),\"\")","v":""},{"$f":"IF(BM48<>\"\",IF(BM48=$A48,\"ERR\",IF(OR(BM48=$I48,BM48=$P48,BM48=$W48,BM48=$AD48,BM48=$AK48,BM48=$AR48,BM48=$AY48,BM48=$BF48),\"DUP\",IF(ISNA(VLOOKUP(BM48,$A$8:$A$107,1,FALSE)),\"ERR\",IF(COUNTIF($I$8:$I$107,BM48)>1,\"ERR\",IF($D48=VLOOKUP(BM48,$A$8:$D$107,4,FALSE),\"CLUB\",\"OK\"))))),\"\")","v":""},null,{"$f":"IF(BP48<>\"\",IF(BP48=\"Victoire\",IF(VLOOKUP(BM48,$A$8:$BS$107,68,FALSE)=\"Défaite\",\"OK\",\"ERR\"),IF(BP48=\"Défaite\",IF(VLOOKUP(BM48,$A$8:$BS$107,68,FALSE)=\"Victoire\",\"OK\",\"ERR\"),IF(BP48=\"Nul\",IF(VLOOKUP(BM48,$A$8:$BS$107,68,FALSE)=\"Nul\",\"OK\",\"ERR\")))),\"\")","v":""},null,{"$f":"IF(BP48=\"Victoire\",100-ROUNDDOWN(20*BR48/$H48,0),\nIF(BP48=\"Défaite\",10+ROUNDDOWN(20*VLOOKUP(BM48,$A$8:$CB$107,70,FALSE)/VLOOKUP(BM48,$A$8:$H$107,8,FALSE),0),\nIF(AND(BP48=\"Nul\",$BR48<>$H48),40+(2*ROUNDDOWN(10*VLOOKUP(BM48,$A$8:$CB$107,70,FALSE)/VLOOKUP(BM48,$A$8:$H$107,8,FALSE),0)-ROUNDDOWN(10*BR48/$H48,0)),IF(AND(BP48=\"Nul\",$BR48=$H48),58,0))))","v":0},null,{"$f":"IF($I48<>\"\",VLOOKUP($I48,$A$8:$N$107,5,FALSE),0)+IF($P48<>\"\",VLOOKUP($P48,$A$8:$N$107,5,FALSE),0)+IF($W48<>\"\",VLOOKUP($W48,$A$8:$N$107,5,FALSE),0)+IF($AD48<>\"\",VLOOKUP($AD48,$A$8:$N$107,5,FALSE),0)+IF($AK48<>\"\",VLOOKUP($AK48,$A$8:$N$107,5,FALSE),0)+IF($AR48<>\"\",VLOOKUP($AR48,$A$8:$N$107,5,FALSE),0)+IF($AY48<>\"\",VLOOKUP($AY48,$A$8:$N$107,5,FALSE),0)+IF($BF48<>\"\",VLOOKUP($BF48,$A$8:$N$107,5,FALSE),0)+IF($BM48<>\"\",VLOOKUP($BM48,$A$8:$N$107,5,FALSE),0)","v":0}]
[{"$nulls":4},{"$f":"O49+V49+AC49+AJ49+AQ49+AX49+BE49+BL49+BS49","v":0},null,{"$f":"IF($F49<>\"\",VLOOKUP(F49,Armies!$A$1:$C$300,3,FALSE),\"\")","v":""},null,null,{"$f":"IF(I49<>\"\",VLOOKUP(I49,$A$8:$C$107,2,FALSE),\"\")","v":""},{"$f":"IF(I49<>\"\",IF(I49=$A49,\"ERR\",IF(OR(I49=$P49,I49=$W49,I49=$AD49,I49=$AK49),\"DUP\",IF(ISNA(VLOOKUP(I49,$A$8:$A$107,1,FALSE)),\"ERR\",IF(COUNTIF($I$8:$I$107,I49)>1,\"ERR\",IF($D49=VLOOKUP(I49,$A$8:$D$107,4,FALSE),\"CLUB\",\"OK\"))))),\"\")","v":""},null,{"$f":"IF(L49<>\"\",IF(L49=\"Victoire\",IF(VLOOKUP(I49,$A$8:$L$107,12,FALSE)=\"Défaite\",\"OK\",\"ERR\"),IF(L49=\"Défaite\",IF(VLOOKUP(I49,$A$8:$L$107,12,FALSE)=\"Victoire\",\"OK\",\"ERR\"),IF(L49=\"Nul\",IF(VLOOKUP(I49,$A$8:$L$107,12,FALSE)=\"Nul\",\"OK\",\"ERR\")))),\"\")","v":""},null,{"$f":"IF(L49=\"Victoire\",100-ROUNDDOWN(20*N49/$H49,0),\nIF(L49=\"Défaite\",10+ROUNDDOWN(20*VLOOKUP(I49,$A$8:$N$107,14,FALSE)/VLOOKUP(I49,$A$8:$H$107,8,FALSE),0),\nIF(AND(L49=\"Nul\",$N49<>$H49),40+(2*ROUNDDOWN(10*VLOOKUP(I49,$A$8:$N$107,14,FALSE)/VLOOKUP(I49,$A$8:$H$107,8,FALSE),0)-ROUNDDOWN(10*N49/$H49,0)),IF(AND(L49=\"Nul\",$N49=$H49),58,0))))","v":0},null,{"$f":"IF(P49<>\"\",VLOOKUP(P49,$A$8:$C$107,2,FALSE),\"\")","v":""},{"$f":"IF(P49<>\"\",IF(P49=$A49,\"ERR\",IF(OR(P49=$I49,P49=$W49,P49=$AD49,P49=$AK49),\"DUP\",IF(ISNA(VLOOKUP(P49,$A$8:$A$107,1,FALSE)),\"ERR\",IF(COUNTIF($I$8:$I$107,P49)>1,\"ERR\",IF($D49=VLOOKUP(P49,$A$8:$D$107,4,FALSE),\"CLUB\",\"OK\"))))),\"\")","v":""},null,{"$f":"IF(S49<>\"\",IF(S49=\"Victoire\",IF(VLOOKUP(P49,$A$8:$AO$107,19,FALSE)=\"Défaite\",\"OK\",\"ERR\"),IF(S49=\"Défaite\",IF(VLOOKUP(P49,$A$8:$AO$107,19,FALSE)=\"Victoire\",\"OK\",\"ERR\"),IF(S49=\"Nul\",IF(VLOOKUP(P49,$A$8:$AO$107,19,FALSE)=\"Nul\",\"OK\",\"ERR\")))),\"\")","v":""},null,{"$f":"IF(S49=\"Victoire\",100-ROUNDDOWN(20*U49/$H49,0),\nIF(S49=\"Défaite\",10+ROUNDDOWN(20*VLOOKUP(P49,$A$8:$AO$107,21,FALSE)/VLOOKUP(P49,$A$8:$H$107,8,FALSE),0),\nIF(AND(S49=\"Nul\",$U49<>$H49),40+(2*ROUNDDOWN(10*VLOOKUP(P49,$A$8:$AO$107,21,FALSE)/VLOOKUP(P49,$A$8:$H$107,8,FALSE),0)-ROUNDDOWN(10*U49/$H49,0)),IF(AND(S49=\"Nul\",$U49=$H49),58,0))))","v":0},null,{"$f":"IF(W49<>\"\",VLOOKUP(W49,$A$8:$C$107,2,FALSE),\"\")","v":""},{"$f":"IF(W49<>\"\",IF(W49=$A49,\"ERR\",IF(OR(W49=$P49,W49=$I49,W49=$AD49,W49=$AK49),\"DUP\",IF(ISNA(VLOOKUP(W49,$A$8:$A$107,1,FALSE)),\"ERR\",IF(COUNTIF($I$8:$I$107,W49)>1,\"ERR\",IF($D49=VLOOKUP(W49,$A$8:$D$107,4,FALSE),\"CLUB\",\"OK\"))))),\"\")","v":""},null,{"$f":"IF(Z49<>\"\",IF(Z49=\"Victoire\",IF(VLOOKUP(W49,$A$8:$AO$107,26,FALSE)=\"Défaite\",\"OK\",\"ERR\"),IF(Z49=\"Défaite\",IF(VLOOKUP(W49,$A$8:$AO$107,26,FALSE)=\"Victoire\",\"OK\",\"ERR\"),IF(Z49=\"Nul\",IF(VLOOKUP(W49,$A$8:$AO$107,26,FALSE)=\"Nul\",\"OK\",\"ERR\")))),\"\")","v":""},null,{"$f":"IF(Z49=\"Victoire\",100-ROUNDDOWN(20*AB49/$H49,0),\nIF(Z49=\"Défaite\",10+ROUNDDOWN(20*VLOOKUP(W49,$A$8:$AO$107,28,FALSE)/VLOOKUP(W49,$A$8:$H$107,8,FALSE),0),\nIF(AND(Z49=\"Nul\",$AB49<>$H49),40+(2*ROUNDDOWN(10*VLOOKUP(W49,$A$8:$AO$107,28,FALSE)/VLOOKUP(W49,$A$8:$H$107,8,FALSE),0)-ROUNDDOWN(10*AB49/$H49,0)),IF(AND(Z49=\"Nul\",$AB49=$H49),58,0))))","v":0},null,{"$f":"IF(AD49<>\"\",VLOOKUP(AD49,$A$8:$C$107,2,FALSE),\"\")","v":""},{"$f":"IF(AD49<>\"\",IF(AD49=$A49,\"ERR\",IF(OR(AD49=$P49,AD49=$W49,AD49=$I49,AD49=$AK49),\"DUP\",IF(ISNA(VLOOKUP(AD49,$A$8:$A$107,1,FALSE)),\"ERR\",IF(COUNTIF($I$8:$I$107,AD49)>1,\"ERR\",IF($D49=VLOOKUP(AD49,$A$8:$D$107,4,FALSE),\"CLUB\",\"OK\"))))),\"\")","v":""},null,{"$f":"IF(AG49<>\"\",IF(AG49=\"Victoire\",IF(VLOOKUP(AD49,$A$8:$AO$107,33,FALSE)=\"Défaite\",\"OK\",\"ERR\"),IF(AG49=\"Défaite\",IF(VLOOKUP(AD49,$A$8:$AO$107,33,FALSE)=\"Victoire\",\"OK\",\"ERR\"),IF(AG49=\"Nul\",IF(VLOOKUP(AD49,$A$8:$AO$107,33,FALSE)=\"Nul\",\"OK\",\"ERR\")))),\"\")","v":""},null,{"$f":"IF(AG49=\"Victoire\",100-ROUNDDOWN(20*AI49/$H49,0),\nIF(AG49=\"Défaite\",10+ROUNDDOWN(20*VLOOKUP(AD49,$A$8:$AO$107,35,FALSE)/VLOOKUP(AD49,$A$8:$H$107,8,FALSE),0),\nIF(AND(AG49=\"Nul\",$AI49<>$H49),40+(2*ROUNDDOWN(10*VLOOKUP(AD49,$A$8:$AO$107,35,FALSE)/VLOOKUP(AD49,$A$8:$H$107,8,FALSE),0)-ROUNDDOWN(10*AI49/$H49,0)),IF(AND(AG49=\"Nul\",$AI49=$H49),58,0))))","v":0},null,{"$f":"IF(AK49<>\"\",VLOOKUP(AK49,$A$8:$C$107,2,FALSE),\"\")","v":""},{"$f":"IF(AK49<>\"\",IF(AK49=$A49,\"ERR\",IF(OR(AK49=$P49,AK49=$W49,AK49=$AD49,AK49=$I49),\"DUP\",IF(ISNA(VLOOKUP(AK49,$A$8:$A$107,1,FALSE)),\"ERR\",IF(COUNTIF($I$8:$I$107,AK49)>1,\"ERR\",IF($D49=VLOOKUP(AK49,$A$8:$D$107,4,FALSE),\"CLUB\",\"OK\"))))),\"\")","v":""},null,{"$f":"IF(AN49<>\"\",IF(AN49=\"Victoire\",IF(VLOOKUP(AK49,$A$8:$AO$107,40,FALSE)=\"Défaite\",\"OK\",\"ERR\"),IF(AN49=\"Défaite\",IF(VLOOKUP(AK49,$A$8:$AO$107,40,FALSE)=\"Victoire\",\"OK\",\"ERR\"),IF(AN49=\"Nul\",IF(VLOOKUP(AK49,$A$8:$AO$107,40,FALSE)=\"Nul\",\"OK\",\"ERR\")))),\"\")","v":""},null,{"$f":"IF(AN49=\"Victoire\",100-ROUNDDOWN(20*AP49/$H49,0),\nIF(AN49=\"Défaite\",10+ROUNDDOWN(20*VLOOKUP(AK49,$A$8:$CB$107,42,FALSE)/VLOOKUP(AK49,$A$8:$H$107,8,FALSE),0),\nIF(AND(AN49=\"Nul\",$AP49<>$H49),40+(2*ROUNDDOWN(10*VLOOKUP(AK49,$A$8:$CB$107,42,FALSE)/VLOOKUP(AK49,$A$8:$H$107,8,FALSE),0)-ROUNDDOWN(10*AP49/$H49,0)),IF(AND(AN49=\"Nul\",$AP49=$H49),58,0))))","v":0},null,{"$f":"IF(AR49<>\"\",VLOOKUP(AR49,$A$8:$C$107,2,FALSE),\"\")","v":""},{"$f":"IF(AR49<>\"\",IF(AR49=$A49,\"ERR\",IF(OR(AR49=$I49,AR49=$P49,AR49=$W49,AR49=$AD49,AR49=$AK49),\"DUP\",IF(ISNA(VLOOKUP(AR49,$A$8:$A$107,1,FALSE)),\"ERR\",IF(COUNTIF($I$8:$I$107,AR49)>1,\"ERR\",IF($D49=VLOOKUP(AR49,$A$8:$D$107,4,FALSE),\"CLUB\",\"OK\"))))),\"\")","v":""},null,{"$f":"IF(AU49<>\"\",IF(AU49=\"Victoire\",IF(VLOOKUP(AR49,$A$8:$BL$107,47,FALSE)=\"Défaite\",\"OK\",\"ERR\"),IF(AU49=\"Défaite\",IF(VLOOKUP(AR49,$A$8:$BL$107,47,FALSE)=\"Victoire\",\"OK\",\"ERR\"),IF(AU49=\"Nul\",IF(VLOOKUP(AR49,$A$8:$BL$107,47,FALSE)=\"Nul\",\"OK\",\"ERR\")))),\"\")","v":""},null,{"$f":"IF(AU49=\"Victoire\",100-ROUNDDOWN(20*AW49/$H49,0),\nIF(AU49=\"Défaite\",10+ROUNDDOWN(20*VLOOKUP(AR49,$A$8:$CB$107,49,FALSE)/VLOOKUP(AR49,$A$8:$H$107,8,FALSE),0),\nIF(AND(AU49=\"Nul\",$AW49<>$H49),40+(2*ROUNDDOWN(10*VLOOKUP(AR49,$A$8:$CB$107,49,FALSE)/VLOOKUP(AR49,$A$8:$H$107,8,FALSE),0)-ROUNDDOWN(10*AW49/$H49,0)),IF(AND(AU49=\"Nul\",$AW49=$H49),58,0))))","v":0},null,{"$f":"IF(AY49<>\"\",VLOOKUP(AY49,$A$8:$C$107,2,FALSE),\"\")","v":""},{"$f":"IF(AY49<>\"\",IF(AY49=$A49,\"ERR\",IF(OR(AY49=$I49,AY49=$P49,AY49=$W49,AY49=$AD49,AY49=$AK49,AY49=$AR49),\"DUP\",IF(ISNA(VLOOKUP(AY49,$A$8:$A$107,1,FALSE)),\"ERR\",IF(COUNTIF($I$8:$I$107,AY49)>1,\"ERR\",IF($D49=VLOOKUP(AY49,$A$8:$D$107,4,FALSE),\"CLUB\",\"OK\"))))),\"\")","v":""},null,{"$f":"IF(BB49<>\"\",IF(BB49=\"Victoire\",IF(VLOOKUP(AY49,$A$8:$BL$107,54,FALSE)=\"Défaite\",\"OK\",\"ERR\"),IF(BB49=\"Défaite\",IF(VLOOKUP(AY49,$A$8:$BL$107,54,FALSE)=\"Victoire\",\"OK\",\"ERR\"),IF(BB49=\"Nul\",IF(VLOOKUP(AY49,$A$8:$BL$107,54,FALSE)=\"Nul\",\"OK\",\"ERR\")))),\"\")","v":""},null,{"$f":"IF(BB49=\"Victoire\",100-ROUNDDOWN(20*BD49/$H49,0),\nIF(BB49=\"Défaite\",10+ROUNDDOWN(20*VLOOKUP(AY49,$A$8:$CB$107,56,FALSE)/VLOOKUP(AY49,$A$8:$H$107,8,FALSE),0),\nIF(AND(BB49=\"Nul\",$BD49<>$H49),40+(2*ROUNDDOWN(10*VLOOKUP(AY49,$A$8:$CB$107,56,FALSE)/VLOOKUP(AY49,$A$8:$H$107,8,FALSE),0)-ROUNDDOWN(10*BD49/$H49,0)),IF(AND(BB49=\"Nul\",$BD49=$H49),58,0))))","v":0},null,{"$f":"IF(BF49<>\"\",VLOOKUP(BF49,$A$8:$C$107,2,FALSE),\"\")","v":""},{"$f":"IF(BF49<>\"\",IF(BF49=$A49,\"ERR\",IF(OR(BF49=$I49,BF49=$P49,BF49=$W49,BF49=$AD49,BF49=$AK49,BF49=$AR49,BF49=$AY49),\"DUP\",IF(ISNA(VLOOKUP(BF49,$A$8:$A$107,1,FALSE)),\"ERR\",IF(COUNTIF($I$8:$I$107,BF49)>1,\"ERR\",IF($D49=VLOOKUP(BF49,$A$8:$D$107,4,FALSE),\"CLUB\",\"OK\"))))),\"\")","v":""},null,{"$f":"IF(BI49<>\"\",IF(BI49=\"Victoire\",IF(VLOOKUP(BF49,$A$8:$BL$107,61,FALSE)=\"Défaite\",\"OK\",\"ERR\"),IF(BI49=\"Défaite\",IF(VLOOKUP(BF49,$A$8:$BL$107,61,FALSE)=\"Victoire\",\"OK\",\"ERR\"),IF(BI49=\"Nul\",IF(VLOOKUP(BF49,$A$8:$BL$107,61,FALSE)=\"Nul\",\"OK\",\"ERR\")))),\"\")","v":""},null,{"$f":"IF(BI49=\"Victoire\",100-ROUNDDOWN(20*BK49/$H49,0),\nIF(BI49=\"Défaite\",10+ROUNDDOWN(20*VLOOKUP(BF49,$A$8:$CB$107,63,FALSE)/VLOOKUP(BF49,$A$8:$H$107,8,FALSE),0),\nIF(AND(BI49=\"Nul\",$BK49<>$H49),40+(2*ROUNDDOWN(10*VLOOKUP(BF49,$A$8:$CB$107,63,FALSE)/VLOOKUP(BF49,$A$8:$H$107,8,FALSE),0)-ROUNDDOWN(10*BK49/$H49,0)),IF(AND(BI49=\"Nul\",$BK49=$H49),58,0))))","v":0},null,{"$f":"IF(BM49<>\"\",VLOOKUP(BM49,$A$8:$C$107,2,FALSE),\"\")","v":""},{"$f":"IF(BM49<>\"\",IF(BM49=$A49,\"ERR\",IF(OR(BM49=$I49,BM49=$P49,BM49=$W49,BM49=$AD49,BM49=$AK49,BM49=$AR49,BM49=$AY49,BM49=$BF49),\"DUP\",IF(ISNA(VLOOKUP(BM49,$A$8:$A$107,1,FALSE)),\"ERR\",IF(COUNTIF($I$8:$I$107,BM49)>1,\"ERR\",IF($D49=VLOOKUP(BM49,$A$8:$D$107,4,FALSE),\"CLUB\",\"OK\"))))),\"\")","v":""},null,{"$f":"IF(BP49<>\"\",IF(BP49=\"Victoire\",IF(VLOOKUP(BM49,$A$8:$BS$107,68,FALSE)=\"Défaite\",\"OK\",\"ERR\"),IF(BP49=\"Défaite\",IF(VLOOKUP(BM49,$A$8:$BS$107,68,FALSE)=\"Victoire\",\"OK\",\"ERR\"),IF(BP49=\"Nul\",IF(VLOOKUP(BM49,$A$8:$BS$107,68,FALSE)=\"Nul\",\"OK\",\"ERR\")))),\"\")","v":""},null,{"$f":"IF(BP49=\"Victoire\",100-ROUNDDOWN(20*BR49/$H49,0),\nIF(BP49=\"Défaite\",10+ROUNDDOWN(20*VLOOKUP(BM49,$A$8:$CB$107,70,FALSE)/VLOOKUP(BM49,$A$8:$H$107,8,FALSE),0),\nIF(AND(BP49=\"Nul\",$BR49<>$H49),40+(2*ROUNDDOWN(10*VLOOKUP(BM49,$A$8:$CB$107,70,FALSE)/VLOOKUP(BM49,$A$8:$H$107,8,FALSE),0)-ROUNDDOWN(10*BR49/$H49,0)),IF(AND(BP49=\"Nul\",$BR49=$H49),58,0))))","v":0},null,{"$f":"IF($I49<>\"\",VLOOKUP($I49,$A$8:$N$107,5,FALSE),0)+IF($P49<>\"\",VLOOKUP($P49,$A$8:$N$107,5,FALSE),0)+IF($W49<>\"\",VLOOKUP($W49,$A$8:$N$107,5,FALSE),0)+IF($AD49<>\"\",VLOOKUP($AD49,$A$8:$N$107,5,FALSE),0)+IF($AK49<>\"\",VLOOKUP($AK49,$A$8:$N$107,5,FALSE),0)+IF($AR49<>\"\",VLOOKUP($AR49,$A$8:$N$107,5,FALSE),0)+IF($AY49<>\"\",VLOOKUP($AY49,$A$8:$N$107,5,FALSE),0)+IF($BF49<>\"\",VLOOKUP($BF49,$A$8:$N$107,5,FALSE),0)+IF($BM49<>\"\",VLOOKUP($BM49,$A$8:$N$107,5,FALSE),0)","v":0}]
[{"$nulls":4},0,null,{"$f":"IF($F50<>\"\",VLOOKUP(F50,Armies!$A$1:$C$300,3,FALSE),\"\")","v":""},null,null,{"$f":"IF(I50<>\"\",VLOOKUP(I50,$A$8:$C$107,2,FALSE),\"\")","v":""},{"$f":"IF(I50<>\"\",IF(I50=$A50,\"ERR\",IF(OR(I50=$P50,I50=$W50,I50=$AD50,I50=$AK50),\"DUP\",IF(ISNA(VLOOKUP(I50,$A$8:$A$107,1,FALSE)),\"ERR\",IF(COUNTIF($I$8:$I$107,I50)>1,\"ERR\",IF($D50=VLOOKUP(I50,$A$8:$D$107,4,FALSE),\"CLUB\",\"OK\"))))),\"\")","v":""},null,{"$f":"IF(L50<>\"\",IF(L50=\"Victoire\",IF(VLOOKUP(I50,$A$8:$L$107,12,FALSE)=\"Défaite\",\"OK\",\"ERR\"),IF(L50=\"Défaite\",IF(VLOOKUP(I50,$A$8:$L$107,12,FALSE)=\"Victoire\",\"OK\",\"ERR\"),IF(L50=\"Nul\",IF(VLOOKUP(I50,$A$8:$L$107,12,FALSE)=\"Nul\",\"OK\",\"ERR\")))),\"\")","v":""},null,{"$f":"IF(L50=\"Victoire\",100-ROUNDDOWN(20*N50/$H50,0),\nIF(L50=\"Défaite\",10+ROUNDDOWN(20*VLOOKUP(I50,$A$8:$N$107,14,FALSE)/VLOOKUP(I50,$A$8:$H$107,8,FALSE),0),\nIF(AND(L50=\"Nul\",$N50<>$H50),40+(2*ROUNDDOWN(10*VLOOKUP(I50,$A$8:$N$107,14,FALSE)/VLOOKUP(I50,$A$8:$H$107,8,FALSE),0)-ROUNDDOWN(10*N50/$H50,0)),IF(AND(L50=\"Nul\",$N50=$H50),58,0))))","v":0},null,{"$f":"IF(P50<>\"\",VLOOKUP(P50,$A$8:$C$107,2,FALSE),\"\")","v":""},{"$f":"IF(P50<>\"\",IF(P50=$A50,\"ERR\",IF(OR(P50=$I50,P50=$W50,P50=$AD50,P50=$AK50),\"DUP\",IF(ISNA(VLOOKUP(P50,$A$8:$A$107,1,FALSE)),\"ERR\",IF(COUNTIF($I$8:$I$107,P50)>1,\"ERR\",IF($D50=VLOOKUP(P50,$A$8:$D$107,4,FALSE),\"CLUB\",\"OK\"))))),\"\")","v":""},null,{"$f":"IF(S50<>\"\",IF(S50=\"Victoire\",IF(VLOOKUP(P50,$A$8:$AO$107,19,FALSE)=\"Défaite\",\"OK\",\"ERR\"),IF(S50=\"Défaite\",IF(VLOOKUP(P50,$A$8:$AO$107,19,FALSE)=\"Victoire\",\"OK\",\"ERR\"),IF(S50=\"Nul\",IF(VLOOKUP(P50,$A$8:$AO$107,19,FALSE)=\"Nul\",\"OK\",\"ERR\")))),\"\")","v":""},null,{"$f":"IF(S50=\"Victoire\",100-ROUNDDOWN(20*U50/$H50,0),\nIF(S50=\"Défaite\",10+ROUNDDOWN(20*VLOOKUP(P50,$A$8:$AO$107,21,FALSE)/VLOOKUP(P50,$A$8:$H$107,8,FALSE),0),\nIF(AND(S50=\"Nul\",$U50<>$H50),40+(2*ROUNDDOWN(10*VLOOKUP(P50,$A$8:$AO$107,21,FALSE)/VLOOKUP(P50,$A$8:$H$107,8,FALSE),0)-ROUNDDOWN(10*U50/$H50,0)),IF(AND(S50=\"Nul\",$U50=$H50),58,0))))","v":0},null,{"$f":"IF(W50<>\"\",VLOOKUP(W50,$A$8:$C$107,2,FALSE),\"\")","v":""},{"$f":"IF(W50<>\"\",IF(W50=$A50,\"ERR\",IF(OR(W50=$P50,W50=$I50,W50=$AD50,W50=$AK50),\"DUP\",IF(ISNA(VLOOKUP(W50,$A$8:$A$107,1,FALSE)),\"ERR\",IF(COUNTIF($I$8:$I$107,W50)>1,\"ERR\",IF($D50=VLOOKUP(W50,$A$8:$D$107,4,FALSE),\"CLUB\",\"OK\"))))),\"\")","v":""},null,{"$f":"IF(Z50<>\"\",IF(Z50=\"Victoire\",IF(VLOOKUP(W50,$A$8:$AO$107,26,FALSE)=\"Défaite\",\"OK\",\"ERR\"),IF(Z50=\"Défaite\",IF(VLOOKUP(W50,$A$8:$AO$107,26,FALSE)=\"Victoire\",\"OK\",\"ERR\"),IF(Z50=\"Nul\",IF(VLOOKUP(W50,$A$8:$AO$107,26,FALSE)=\"Nul\",\"OK\",\"ERR\")))),\"\")","v":""},null,{"$f":"IF(Z50=\"Victoire\",100-ROUNDDOWN(20*AB50/$H50,0),\nIF(Z50=\"Défaite\",10+ROUNDDOWN(20*VLOOKUP(W50,$A$8:$AO$107,28,FALSE)/VLOOKUP(W50,$A$8:$H$107,8,FALSE),0),\nIF(AND(Z50=\"Nul\",$AB50<>$H50),40+(2*ROUNDDOWN(10*VLOOKUP(W50,$A$8:$AO$107,28,FALSE)/VLOOKUP(W50,$A$8:$H$107,8,FALSE),0)-ROUNDDOWN(10*AB50/$H50,0)),IF(AND(Z50=\"Nul\",$AB50=$H50),58,0))))","v":0},null,{"$f":"IF(AD50<>\"\",VLOOKUP(AD50,$A$8:$C$107,2,FALSE),\"\")","v":""},{"$f":"IF(AD50<>\"\",IF(AD50=$A50,\"ERR\",IF(OR(AD50=$P50,AD50=$W50,AD50=$I50,AD50=$AK50),\"DUP\",IF(ISNA(VLOOKUP(AD50,$A$8:$A$107,1,FALSE)),\"ERR\",IF(COUNTIF($I$8:$I$107,AD50)>1,\"ERR\",IF($D50=VLOOKUP(AD50,$A$8:$D$107,4,FALSE),\"CLUB\",\"OK\"))))),\"\")","v":""},null,{"$f":"IF(AG50<>\"\",IF(AG50=\"Victoire\",IF(VLOOKUP(AD50,$A$8:$AO$107,33,FALSE)=\"Défaite\",\"OK\",\"ERR\"),IF(AG50=\"Défaite\",IF(VLOOKUP(AD50,$A$8:$AO$107,33,FALSE)=\"Victoire\",\"OK\",\"ERR\"),IF(AG50=\"Nul\",IF(VLOOKUP(AD50,$A$8:$AO$107,33,FALSE)=\"Nul\",\"OK\",\"ERR\")))),\"\")","v":""},null,{"$f":"IF(AG50=\"Victoire\",100-ROUNDDOWN(20*AI50/$H50,0),\nIF(AG50=\"Défaite\",10+ROUNDDOWN(20*VLOOKUP(AD50,$A$8:$AO$107,35,FALSE)/VLOOKUP(AD50,$A$8:$H$107,8,FALSE),0),\nIF(AND(AG50=\"Nul\",$AI50<>$H50),40+(2*ROUNDDOWN(10*VLOOKUP(AD50,$A$8:$AO$107,35,FALSE)/VLOOKUP(AD50,$A$8:$H$107,8,FALSE),0)-ROUNDDOWN(10*AI50/$H50,0)),IF(AND(AG50=\"Nul\",$AI50=$H50),58,0))))","v":0},null,{"$f":"IF(AK50<>\"\",VLOOKUP(AK50,$A$8:$C$107,2,FALSE),\"\")","v":""},{"$f":"IF(AK50<>\"\",IF(AK50=$A50,\"ERR\",IF(OR(AK50=$P50,AK50=$W50,AK50=$AD50,AK50=$I50),\"DUP\",IF(ISNA(VLOOKUP(AK50,$A$8:$A$107,1,FALSE)),\"ERR\",IF(COUNTIF($I$8:$I$107,AK50)>1,\"ERR\",IF($D50=VLOOKUP(AK50,$A$8:$D$107,4,FALSE),\"CLUB\",\"OK\"))))),\"\")","v":""},null,{"$f":"IF(AN50<>\"\",IF(AN50=\"Victoire\",IF(VLOOKUP(AK50,$A$8:$AO$107,40,FALSE)=\"Défaite\",\"OK\",\"ERR\"),IF(AN50=\"Défaite\",IF(VLOOKUP(AK50,$A$8:$AO$107,40,FALSE)=\"Victoire\",\"OK\",\"ERR\"),IF(AN50=\"Nul\",IF(VLOOKUP(AK50,$A$8:$AO$107,40,FALSE)=\"Nul\",\"OK\",\"ERR\")))),\"\")","v":""},null,{"$f":"IF(AN50=\"Victoire\",100-ROUNDDOWN(20*AP50/$H50,0),\nIF(AN50=\"Défaite\",10+ROUNDDOWN(20*VLOOKUP(AK50,$A$8:$CB$107,42,FALSE)/VLOOKUP(AK50,$A$8:$H$107,8,FALSE),0),\nIF(AND(AN50=\"Nul\",$AP50<>$H50),40+(2*ROUNDDOWN(10*VLOOKUP(AK50,$A$8:$CB$107,42,FALSE)/VLOOKUP(AK50,$A$8:$H$107,8,FALSE),0)-ROUNDDOWN(10*AP50/$H50,0)),IF(AND(AN50=\"Nul\",$AP50=$H50),58,0))))","v":0},null,{"$f":"IF(AR50<>\"\",VLOOKUP(AR50,$A$8:$C$107,2,FALSE),\"\")","v":""},{"$f":"IF(AR50<>\"\",IF(AR50=$A50,\"ERR\",IF(OR(AR50=$I50,AR50=$P50,AR50=$W50,AR50=$AD50,AR50=$AK50),\"DUP\",IF(ISNA(VLOOKUP(AR50,$A$8:$A$107,1,FALSE)),\"ERR\",IF(COUNTIF($I$8:$I$107,AR50)>1,\"ERR\",IF($D50=VLOOKUP(AR50,$A$8:$D$107,4,FALSE),\"CLUB\",\"OK\"))))),\"\")","v":""},null,{"$f":"IF(AU50<>\"\",IF(AU50=\"Victoire\",IF(VLOOKUP(AR50,$A$8:$BL$107,47,FALSE)=\"Défaite\",\"OK\",\"ERR\"),IF(AU50=\"Défaite\",IF(VLOOKUP(AR50,$A$8:$BL$107,47,FALSE)=\"Victoire\",\"OK\",\"ERR\"),IF(AU50=\"Nul\",IF(VLOOKUP(AR50,$A$8:$BL$107,47,FALSE)=\"Nul\",\"OK\",\"ERR\")))),\"\")","v":""},null,{"$f":"IF(AU50=\"Victoire\",100-ROUNDDOWN(20*AW50/$H50,0),\nIF(AU50=\"Défaite\",10+ROUNDDOWN(20*VLOOKUP(AR50,$A$8:$CB$107,49,FALSE)/VLOOKUP(AR50,$A$8:$H$107,8,FALSE),0),\nIF(AND(AU50=\"Nul\",$AW50<>$H50),40+(2*ROUNDDOWN(10*VLOOKUP(AR50,$A$8:$CB$107,49,FALSE)/VLOOKUP(AR50,$A$8:$H$107,8,FALSE),0)-ROUNDDOWN(10*AW50/$H50,0)),IF(AND(AU50=\"Nul\",$AW50=$H50),58,0))))","v":0},null,{"$f":"IF(AY50<>\"\",VLOOKUP(AY50,$A$8:$C$107,2,FALSE),\"\")","v":""},{"$f":"IF(AY50<>\"\",IF(AY50=$A50,\"ERR\",IF(OR(AY50=$I50,AY50=$P50,AY50=$W50,AY50=$AD50,AY50=$AK50,AY50=$AR50),\"DUP\",IF(ISNA(VLOOKUP(AY50,$A$8:$A$107,1,FALSE)),\"ERR\",IF(COUNTIF($I$8:$I$107,AY50)>1,\"ERR\",IF($D50=VLOOKUP(AY50,$A$8:$D$107,4,FALSE),\"CLUB\",\"OK\"))))),\"\")","v":""},null,{"$f":"IF(BB50<>\"\",IF(BB50=\"Victoire\",IF(VLOOKUP(AY50,$A$8:$BL$107,54,FALSE)=\"Défaite\",\"OK\",\"ERR\"),IF(BB50=\"Défaite\",IF(VLOOKUP(AY50,$A$8:$BL$107,54,FALSE)=\"Victoire\",\"OK\",\"ERR\"),IF(BB50=\"Nul\",IF(VLOOKUP(AY50,$A$8:$BL$107,54,FALSE)=\"Nul\",\"OK\",\"ERR\")))),\"\")","v":""},null,{"$f":"IF(BB50=\"Victoire\",100-ROUNDDOWN(20*BD50/$H50,0),\nIF(BB50=\"Défaite\",10+ROUNDDOWN(20*VLOOKUP(AY50,$A$8:$CB$107,56,FALSE)/VLOOKUP(AY50,$A$8:$H$107,8,FALSE),0),\nIF(AND(BB50=\"Nul\",$BD50<>$H50),40+(2*ROUNDDOWN(10*VLOOKUP(AY50,$A$8:$CB$107,56,FALSE)/VLOOKUP(AY50,$A$8:$H$107,8,FALSE),0)-ROUNDDOWN(10*BD50/$H50,0)),IF(AND(BB50=\"Nul\",$BD50=$H50),58,0))))","v":0},null,{"$f":"IF(BF50<>\"\",VLOOKUP(BF50,$A$8:$C$107,2,FALSE),\"\")","v":""},{"$f":"IF(BF50<>\"\",IF(BF50=$A50,\"ERR\",IF(OR(BF50=$I50,BF50=$P50,BF50=$W50,BF50=$AD50,BF50=$AK50,BF50=$AR50,BF50=$AY50),\"DUP\",IF(ISNA(VLOOKUP(BF50,$A$8:$A$107,1,FALSE)),\"ERR\",IF(COUNTIF($I$8:$I$107,BF50)>1,\"ERR\",IF($D50=VLOOKUP(BF50,$A$8:$D$107,4,FALSE),\"CLUB\",\"OK\"))))),\"\")","v":""},null,{"$f":"IF(BI50<>\"\",IF(BI50=\"Victoire\",IF(VLOOKUP(BF50,$A$8:$BL$107,61,FALSE)=\"Défaite\",\"OK\",\"ERR\"),IF(BI50=\"Défaite\",IF(VLOOKUP(BF50,$A$8:$BL$107,61,FALSE)=\"Victoire\",\"OK\",\"ERR\"),IF(BI50=\"Nul\",IF(VLOOKUP(BF50,$A$8:$BL$107,61,FALSE)=\"Nul\",\"OK\",\"ERR\")))),\"\")","v":""},null,{"$f":"IF(BI50=\"Victoire\",100-ROUNDDOWN(20*BK50/$H50,0),\nIF(BI50=\"Défaite\",10+ROUNDDOWN(20*VLOOKUP(BF50,$A$8:$CB$107,63,FALSE)/VLOOKUP(BF50,$A$8:$H$107,8,FALSE),0),\nIF(AND(BI50=\"Nul\",$BK50<>$H50),40+(2*ROUNDDOWN(10*VLOOKUP(BF50,$A$8:$CB$107,63,FALSE)/VLOOKUP(BF50,$A$8:$H$107,8,FALSE),0)-ROUNDDOWN(10*BK50/$H50,0)),IF(AND(BI50=\"Nul\",$BK50=$H50),58,0))))","v":0},null,{"$f":"IF(BM50<>\"\",VLOOKUP(BM50,$A$8:$C$107,2,FALSE),\"\")","v":""},{"$f":"IF(BM50<>\"\",IF(BM50=$A50,\"ERR\",IF(OR(BM50=$I50,BM50=$P50,BM50=$W50,BM50=$AD50,BM50=$AK50,BM50=$AR50,BM50=$AY50,BM50=$BF50),\"DUP\",IF(ISNA(VLOOKUP(BM50,$A$8:$A$107,1,FALSE)),\"ERR\",IF(COUNTIF($I$8:$I$107,BM50)>1,\"ERR\",IF($D50=VLOOKUP(BM50,$A$8:$D$107,4,FALSE),\"CLUB\",\"OK\"))))),\"\")","v":""},null,{"$f":"IF(BP50<>\"\",IF(BP50=\"Victoire\",IF(VLOOKUP(BM50,$A$8:$BS$107,68,FALSE)=\"Défaite\",\"OK\",\"ERR\"),IF(BP50=\"Défaite\",IF(VLOOKUP(BM50,$A$8:$BS$107,68,FALSE)=\"Victoire\",\"OK\",\"ERR\"),IF(BP50=\"Nul\",IF(VLOOKUP(BM50,$A$8:$BS$107,68,FALSE)=\"Nul\",\"OK\",\"ERR\")))),\"\")","v":""},null,{"$f":"IF(BP50=\"Victoire\",100-ROUNDDOWN(20*BR50/$H50,0),\nIF(BP50=\"Défaite\",10+ROUNDDOWN(20*VLOOKUP(BM50,$A$8:$CB$107,70,FALSE)/VLOOKUP(BM50,$A$8:$H$107,8,FALSE),0),\nIF(AND(BP50=\"Nul\",$BR50<>$H50),40+(2*ROUNDDOWN(10*VLOOKUP(BM50,$A$8:$CB$107,70,FALSE)/VLOOKUP(BM50,$A$8:$H$107,8,FALSE),0)-ROUNDDOWN(10*BR50/$H50,0)),IF(AND(BP50=\"Nul\",$BR50=$H50),58,0))))","v":0},null,{"$f":"IF($I50<>\"\",VLOOKUP($I50,$A$8:$N$107,5,FALSE),0)+IF($P50<>\"\",VLOOKUP($P50,$A$8:$N$107,5,FALSE),0)+IF($W50<>\"\",VLOOKUP($W50,$A$8:$N$107,5,FALSE),0)+IF($AD50<>\"\",VLOOKUP($AD50,$A$8:$N$107,5,FALSE),0)+IF($AK50<>\"\",VLOOKUP($AK50,$A$8:$N$107,5,FALSE),0)+IF($AR50<>\"\",VLOOKUP($AR50,$A$8:$N$107,5,FALSE),0)+IF($AY50<>\"\",VLOOKUP($AY50,$A$8:$N$107,5,FALSE),0)+IF($BF50<>\"\",VLOOKUP($BF50,$A$8:$N$107,5,FALSE),0)+IF($BM50<>\"\",VLOOKUP($BM50,$A$8:$N$107,5,FALSE),0)","v":0}]
[{"$nulls":4},0,null,{"$f":"IF($F51<>\"\",VLOOKUP(F51,Armies!$A$1:$C$300,3,FALSE),\"\")","v":""},null,null,{"$f":"IF(I51<>\"\",VLOOKUP(I51,$A$8:$C$107,2,FALSE),\"\")","v":""},{"$f":"IF(I51<>\"\",IF(I51=$A51,\"ERR\",IF(OR(I51=$P51,I51=$W51,I51=$AD51,I51=$AK51),\"DUP\",IF(ISNA(VLOOKUP(I51,$A$8:$A$107,1,FALSE)),\"ERR\",IF(COUNTIF($I$8:$I$107,I51)>1,\"ERR\",IF($D51=VLOOKUP(I51,$A$8:$D$107,4,FALSE),\"CLUB\",\"OK\"))))),\"\")","v":""},null,{"$f":"IF(L51<>\"\",IF(L51=\"Victoire\",IF(VLOOKUP(I51,$A$8:$L$107,12,FALSE)=\"Défaite\",\"OK\",\"ERR\"),IF(L51=\"Défaite\",IF(VLOOKUP(I51,$A$8:$L$107,12,FALSE)=\"Victoire\",\"OK\",\"ERR\"),IF(L51=\"Nul\",IF(VLOOKUP(I51,$A$8:$L$107,12,FALSE)=\"Nul\",\"OK\",\"ERR\")))),\"\")","v":""},null,{"$f":"IF(L51=\"Victoire\",100-ROUNDDOWN(20*N51/$H51,0),\nIF(L51=\"Défaite\",10+ROUNDDOWN(20*VLOOKUP(I51,$A$8:$N$107,14,FALSE)/VLOOKUP(I51,$A$8:$H$107,8,FALSE),0),\nIF(AND(L51=\"Nul\",$N51<>$H51),40+(2*ROUNDDOWN(10*VLOOKUP(I51,$A$8:$N$107,14,FALSE)/VLOOKUP(I51,$A$8:$H$107,8,FALSE),0)-ROUNDDOWN(10*N51/$H51,0)),IF(AND(L51=\"Nul\",$N51=$H51),58,0))))","v":0},null,{"$f":"IF(P51<>\"\",VLOOKUP(P51,$A$8:$C$107,2,FALSE),\"\")","v":""},{"$f":"IF(P51<>\"\",IF(P51=$A51,\"ERR\",IF(OR(P51=$I51,P51=$W51,P51=$AD51,P51=$AK51),\"DUP\",IF(ISNA(VLOOKUP(P51,$A$8:$A$107,1,FALSE)),\"ERR\",IF(COUNTIF($I$8:$I$107,P51)>1,\"ERR\",IF($D51=VLOOKUP(P51,$A$8:$D$107,4,FALSE),\"CLUB\",\"OK\"))))),\"\")","v":""},null,{"$f":"IF(S51<>\"\",IF(S51=\"Victoire\",IF(VLOOKUP(P51,$A$8:$AO$107,19,FALSE)=\"Défaite\",\"OK\",\"ERR\"),IF(S51=\"Défaite\",IF(VLOOKUP(P51,$A$8:$AO$107,19,FALSE)=\"Victoire\",\"OK\",\"ERR\"),IF(S51=\"Nul\",IF(VLOOKUP(P51,$A$8:$AO$107,19,FALSE)=\"Nul\",\"OK\",\"ERR\")))),\"\")","v":""},null,{"$f":"IF(S51=\"Victoire\",100-ROUNDDOWN(20*U51/$H51,0),\nIF(S51=\"Défaite\",10+ROUNDDOWN(20*VLOOKUP(P51,$A$8:$AO$107,21,FALSE)/VLOOKUP(P51,$A$8:$H$107,8,FALSE),0),\nIF(AND(S51=\"Nul\",$U51<>$H51),40+(2*ROUNDDOWN(10*VLOOKUP(P51,$A$8:$AO$107,21,FALSE)/VLOOKUP(P51,$A$8:$H$107,8,FALSE),0)-ROUNDDOWN(10*U51/$H51,0)),IF(AND(S51=\"Nul\",$U51=$H51),58,0))))","v":0},null,{"$f":"IF(W51<>\"\",VLOOKUP(W51,$A$8:$C$107,2,FALSE),\"\")","v":""},{"$f":"IF(W51<>\"\",IF(W51=$A51,\"ERR\",IF(OR(W51=$P51,W51=$I51,W51=$AD51,W51=$AK51),\"DUP\",IF(ISNA(VLOOKUP(W51,$A$8:$A$107,1,FALSE)),\"ERR\",IF(COUNTIF($I$8:$I$107,W51)>1,\"ERR\",IF($D51=VLOOKUP(W51,$A$8:$D$107,4,FALSE),\"CLUB\",\"OK\"))))),\"\")","v":""},null,{"$f":"IF(Z51<>\"\",IF(Z51=\"Victoire\",IF(VLOOKUP(W51,$A$8:$AO$107,26,FALSE)=\"Défaite\",\"OK\",\"ERR\"),IF(Z51=\"Défaite\",IF(VLOOKUP(W51,$A$8:$AO$107,26,FALSE)=\"Victoire\",\"OK\",\"ERR\"),IF(Z51=\"Nul\",IF(VLOOKUP(W51,$A$8:$AO$107,26,FALSE)=\"Nul\",\"OK\",\"ERR\")))),\"\")","v":""},null,{"$f":"IF(Z51=\"Victoire\",100-ROUNDDOWN(20*AB51/$H51,0),\nIF(Z51=\"Défaite\",10+ROUNDDOWN(20*VLOOKUP(W51,$A$8:$AO$107,28,FALSE)/VLOOKUP(W51,$A$8:$H$107,8,FALSE),0),\nIF(AND(Z51=\"Nul\",$AB51<>$H51),40+(2*ROUNDDOWN(10*VLOOKUP(W51,$A$8:$AO$107,28,FALSE)/VLOOKUP(W51,$A$8:$H$107,8,FALSE),0)-ROUNDDOWN(10*AB51/$H51,0)),IF(AND(Z51=\"Nul\",$AB51=$H51),58,0))))","v":0},null,{"$f":"IF(AD51<>\"\",VLOOKUP(AD51,$A$8:$C$107,2,FALSE),\"\")","v":""},{"$f":"IF(AD51<>\"\",IF(AD51=$A51,\"ERR\",IF(OR(AD51=$P51,AD51=$W51,AD51=$I51,AD51=$AK51),\"DUP\",IF(ISNA(VLOOKUP(AD51,$A$8:$A$107,1,FALSE)),\"ERR\",IF(COUNTIF($I$8:$I$107,AD51)>1,\"ERR\",IF($D51=VLOOKUP(AD51,$A$8:$D$107,4,FALSE),\"CLUB\",\"OK\"))))),\"\")","v":""},null,{"$f":"IF(AG51<>\"\",IF(AG51=\"Victoire\",IF(VLOOKUP(AD51,$A$8:$AO$107,33,FALSE)=\"Défaite\",\"OK\",\"ERR\"),IF(AG51=\"Défaite\",IF(VLOOKUP(AD51,$A$8:$AO$107,33,FALSE)=\"Victoire\",\"OK\",\"ERR\"),IF(AG51=\"Nul\",IF(VLOOKUP(AD51,$A$8:$AO$107,33,FALSE)=\"Nul\",\"OK\",\"ERR\")))),\"\")","v":""},null,{"$f":"IF(AG51=\"Victoire\",100-ROUNDDOWN(20*AI51/$H51,0),\nIF(AG51=\"Défaite\",10+ROUNDDOWN(20*VLOOKUP(AD51,$A$8:$AO$107,35,FALSE)/VLOOKUP(AD51,$A$8:$H$107,8,FALSE),0),\nIF(AND(AG51=\"Nul\",$AI51<>$H51),40+(2*ROUNDDOWN(10*VLOOKUP(AD51,$A$8:$AO$107,35,FALSE)/VLOOKUP(AD51,$A$8:$H$107,8,FALSE),0)-ROUNDDOWN(10*AI51/$H51,0)),IF(AND(AG51=\"Nul\",$AI51=$H51),58,0))))","v":0},null,{"$f":"IF(AK51<>\"\",VLOOKUP(AK51,$A$8:$C$107,2,FALSE),\"\")","v":""},{"$f":"IF(AK51<>\"\",IF(AK51=$A51,\"ERR\",IF(OR(AK51=$P51,AK51=$W51,AK51=$AD51,AK51=$I51),\"DUP\",IF(ISNA(VLOOKUP(AK51,$A$8:$A$107,1,FALSE)),\"ERR\",IF(COUNTIF($I$8:$I$107,AK51)>1,\"ERR\",IF($D51=VLOOKUP(AK51,$A$8:$D$107,4,FALSE),\"CLUB\",\"OK\"))))),\"\")","v":""},null,{"$f":"IF(AN51<>\"\",IF(AN51=\"Victoire\",IF(VLOOKUP(AK51,$A$8:$AO$107,40,FALSE)=\"Défaite\",\"OK\",\"ERR\"),IF(AN51=\"Défaite\",IF(VLOOKUP(AK51,$A$8:$AO$107,40,FALSE)=\"Victoire\",\"OK\",\"ERR\"),IF(AN51=\"Nul\",IF(VLOOKUP(AK51,$A$8:$AO$107,40,FALSE)=\"Nul\",\"OK\",\"ERR\")))),\"\")","v":""},null,{"$f":"IF(AN51=\"Victoire\",100-ROUNDDOWN(20*AP51/$H51,0),\nIF(AN51=\"Défaite\",10+ROUNDDOWN(20*VLOOKUP(AK51,$A$8:$CB$107,42,FALSE)/VLOOKUP(AK51,$A$8:$H$107,8,FALSE),0),\nIF(AND(AN51=\"Nul\",$AP51<>$H51),40+(2*ROUNDDOWN(10*VLOOKUP(AK51,$A$8:$CB$107,42,FALSE)/VLOOKUP(AK51,$A$8:$H$107,8,FALSE),0)-ROUNDDOWN(10*AP51/$H51,0)),IF(AND(AN51=\"Nul\",$AP51=$H51),58,0))))","v":0},null,{"$f":"IF(AR51<>\"\",VLOOKUP(AR51,$A$8:$C$107,2,FALSE),\"\")","v":""},{"$f":"IF(AR51<>\"\",IF(AR51=$A51,\"ERR\",IF(OR(AR51=$I51,AR51=$P51,AR51=$W51,AR51=$AD51,AR51=$AK51),\"DUP\",IF(ISNA(VLOOKUP(AR51,$A$8:$A$107,1,FALSE)),\"ERR\",IF(COUNTIF($I$8:$I$107,AR51)>1,\"ERR\",IF($D51=VLOOKUP(AR51,$A$8:$D$107,4,FALSE),\"CLUB\",\"OK\"))))),\"\")","v":""},null,{"$f":"IF(AU51<>\"\",IF(AU51=\"Victoire\",IF(VLOOKUP(AR51,$A$8:$BL$107,47,FALSE)=\"Défaite\",\"OK\",\"ERR\"),IF(AU51=\"Défaite\",IF(VLOOKUP(AR51,$A$8:$BL$107,47,FALSE)=\"Victoire\",\"OK\",\"ERR\"),IF(AU51=\"Nul\",IF(VLOOKUP(AR51,$A$8:$BL$107,47,FALSE)=\"Nul\",\"OK\",\"ERR\")))),\"\")","v":""},null,{"$f":"IF(AU51=\"Victoire\",100-ROUNDDOWN(20*AW51/$H51,0),\nIF(AU51=\"Défaite\",10+ROUNDDOWN(20*VLOOKUP(AR51,$A$8:$CB$107,49,FALSE)/VLOOKUP(AR51,$A$8:$H$107,8,FALSE),0),\nIF(AND(AU51=\"Nul\",$AW51<>$H51),40+(2*ROUNDDOWN(10*VLOOKUP(AR51,$A$8:$CB$107,49,FALSE)/VLOOKUP(AR51,$A$8:$H$107,8,FALSE),0)-ROUNDDOWN(10*AW51/$H51,0)),IF(AND(AU51=\"Nul\",$AW51=$H51),58,0))))","v":0},null,{"$f":"IF(AY51<>\"\",VLOOKUP(AY51,$A$8:$C$107,2,FALSE),\"\")","v":""},{"$f":"IF(AY51<>\"\",IF(AY51=$A51,\"ERR\",IF(OR(AY51=$I51,AY51=$P51,AY51=$W51,AY51=$AD51,AY51=$AK51,AY51=$AR51),\"DUP\",IF(ISNA(VLOOKUP(AY51,$A$8:$A$107,1,FALSE)),\"ERR\",IF(COUNTIF($I$8:$I$107,AY51)>1,\"ERR\",IF($D51=VLOOKUP(AY51,$A$8:$D$107,4,FALSE),\"CLUB\",\"OK\"))))),\"\")","v":""},null,{"$f":"IF(BB51<>\"\",IF(BB51=\"Victoire\",IF(VLOOKUP(AY51,$A$8:$BL$107,54,FALSE)=\"Défaite\",\"OK\",\"ERR\"),IF(BB51=\"Défaite\",IF(VLOOKUP(AY51,$A$8:$BL$107,54,FALSE)=\"Victoire\",\"OK\",\"ERR\"),IF(BB51=\"Nul\",IF(VLOOKUP(AY51,$A$8:$BL$107,54,FALSE)=\"Nul\",\"OK\",\"ERR\")))),\"\")","v":""},null,{"$f":"IF(BB51=\"Victoire\",100-ROUNDDOWN(20*BD51/$H51,0),\nIF(BB51=\"Défaite\",10+ROUNDDOWN(20*VLOOKUP(AY51,$A$8:$CB$107,56,FALSE)/VLOOKUP(AY51,$A$8:$H$107,8,FALSE),0),\nIF(AND(BB51=\"Nul\",$BD51<>$H51),40+(2*ROUNDDOWN(10*VLOOKUP(AY51,$A$8:$CB$107,56,FALSE)/VLOOKUP(AY51,$A$8:$H$107,8,FALSE),0)-ROUNDDOWN(10*BD51/$H51,0)),IF(AND(BB51=\"Nul\",$BD51=$H51),58,0))))","v":0},null,{"$f":"IF(BF51<>\"\",VLOOKUP(BF51,$A$8:$C$107,2,FALSE),\"\")","v":""},{"$f":"IF(BF51<>\"\",IF(BF51=$A51,\"ERR\",IF(OR(BF51=$I51,BF51=$P51,BF51=$W51,BF51=$AD51,BF51=$AK51,BF51=$AR51,BF51=$AY51),\"DUP\",IF(ISNA(VLOOKUP(BF51,$A$8:$A$107,1,FALSE)),\"ERR\",IF(COUNTIF($I$8:$I$107,BF51)>1,\"ERR\",IF($D51=VLOOKUP(BF51,$A$8:$D$107,4,FALSE),\"CLUB\",\"OK\"))))),\"\")","v":""},null,{"$f":"IF(BI51<>\"\",IF(BI51=\"Victoire\",IF(VLOOKUP(BF51,$A$8:$BL$107,61,FALSE)=\"Défaite\",\"OK\",\"ERR\"),IF(BI51=\"Défaite\",IF(VLOOKUP(BF51,$A$8:$BL$107,61,FALSE)=\"Victoire\",\"OK\",\"ERR\"),IF(BI51=\"Nul\",IF(VLOOKUP(BF51,$A$8:$BL$107,61,FALSE)=\"Nul\",\"OK\",\"ERR\")))),\"\")","v":""},null,{"$f":"IF(BI51=\"Victoire\",100-ROUNDDOWN(20*BK51/$H51,0),\nIF(BI51=\"Défaite\",10+ROUNDDOWN(20*VLOOKUP(BF51,$A$8:$CB$107,63,FALSE)/VLOOKUP(BF51,$A$8:$H$107,8,FALSE),0),\nIF(AND(BI51=\"Nul\",$BK51<>$H51),40+(2*ROUNDDOWN(10*VLOOKUP(BF51,$A$8:$CB$107,63,FALSE)/VLOOKUP(BF51,$A$8:$H$107,8,FALSE),0)-ROUNDDOWN(10*BK51/$H51,0)),IF(AND(BI51=\"Nul\",$BK51=$H51),58,0))))","v":0},null,{"$f":"IF(BM51<>\"\",VLOOKUP(BM51,$A$8:$C$107,2,FALSE),\"\")","v":""},{"$f":"IF(BM51<>\"\",IF(BM51=$A51,\"ERR\",IF(OR(BM51=$I51,BM51=$P51,BM51=$W51,BM51=$AD51,BM51=$AK51,BM51=$AR51,BM51=$AY51,BM51=$BF51),\"DUP\",IF(ISNA(VLOOKUP(BM51,$A$8:$A$107,1,FALSE)),\"ERR\",IF(COUNTIF($I$8:$I$107,BM51)>1,\"ERR\",IF($D51=VLOOKUP(BM51,$A$8:$D$107,4,FALSE),\"CLUB\",\"OK\"))))),\"\")","v":""},null,{"$f":"IF(BP51<>\"\",IF(BP51=\"Victoire\",IF(VLOOKUP(BM51,$A$8:$BS$107,68,FALSE)=\"Défaite\",\"OK\",\"ERR\"),IF(BP51=\"Défaite\",IF(VLOOKUP(BM51,$A$8:$BS$107,68,FALSE)=\"Victoire\",\"OK\",\"ERR\"),IF(BP51=\"Nul\",IF(VLOOKUP(BM51,$A$8:$BS$107,68,FALSE)=\"Nul\",\"OK\",\"ERR\")))),\"\")","v":""},null,{"$f":"IF(BP51=\"Victoire\",100-ROUNDDOWN(20*BR51/$H51,0),\nIF(BP51=\"Défaite\",10+ROUNDDOWN(20*VLOOKUP(BM51,$A$8:$CB$107,70,FALSE)/VLOOKUP(BM51,$A$8:$H$107,8,FALSE),0),\nIF(AND(BP51=\"Nul\",$BR51<>$H51),40+(2*ROUNDDOWN(10*VLOOKUP(BM51,$A$8:$CB$107,70,FALSE)/VLOOKUP(BM51,$A$8:$H$107,8,FALSE),0)-ROUNDDOWN(10*BR51/$H51,0)),IF(AND(BP51=\"Nul\",$BR51=$H51),58,0))))","v":0},null,{"$f":"IF($I51<>\"\",VLOOKUP($I51,$A$8:$N$107,5,FALSE),0)+IF($P51<>\"\",VLOOKUP($P51,$A$8:$N$107,5,FALSE),0)+IF($W51<>\"\",VLOOKUP($W51,$A$8:$N$107,5,FALSE),0)+IF($AD51<>\"\",VLOOKUP($AD51,$A$8:$N$107,5,FALSE),0)+IF($AK51<>\"\",VLOOKUP($AK51,$A$8:$N$107,5,FALSE),0)+IF($AR51<>\"\",VLOOKUP($AR51,$A$8:$N$107,5,FALSE),0)+IF($AY51<>\"\",VLOOKUP($AY51,$A$8:$N$107,5,FALSE),0)+IF($BF51<>\"\",VLOOKUP($BF51,$A$8:$N$107,5,FALSE),0)+IF($BM51<>\"\",VLOOKUP($BM51,$A$8:$N$107,5,FALSE),0)","v":0}]
[{"$nulls":4},0,null,{"$f":"IF($F52<>\"\",VLOOKUP(F52,Armies!$A$1:$C$300,3,FALSE),\"\")","v":""},null,null,{"$f":"IF(I52<>\"\",VLOOKUP(I52,$A$8:$C$107,2,FALSE),\"\")","v":""},{"$f":"IF(I52<>\"\",IF(I52=$A52,\"ERR\",IF(OR(I52=$P52,I52=$W52,I52=$AD52,I52=$AK52),\"DUP\",IF(ISNA(VLOOKUP(I52,$A$8:$A$107,1,FALSE)),\"ERR\",IF(COUNTIF($I$8:$I$107,I52)>1,\"ERR\",IF($D52=VLOOKUP(I52,$A$8:$D$107,4,FALSE),\"CLUB\",\"OK\"))))),\"\")","v":""},null,{"$f":"IF(L52<>\"\",IF(L52=\"Victoire\",IF(VLOOKUP(I52,$A$8:$L$107,12,FALSE)=\"Défaite\",\"OK\",\"ERR\"),IF(L52=\"Défaite\",IF(VLOOKUP(I52,$A$8:$L$107,12,FALSE)=\"Victoire\",\"OK\",\"ERR\"),IF(L52=\"Nul\",IF(VLOOKUP(I52,$A$8:$L$107,12,FALSE)=\"Nul\",\"OK\",\"ERR\")))),\"\")","v":""},null,{"$f":"IF(L52=\"Victoire\",100-ROUNDDOWN(20*N52/$H52,0),\nIF(L52=\"Défaite\",10+ROUNDDOWN(20*VLOOKUP(I52,$A$8:$N$107,14,FALSE)/VLOOKUP(I52,$A$8:$H$107,8,FALSE),0),\nIF(AND(L52=\"Nul\",$N52<>$H52),40+(2*ROUNDDOWN(10*VLOOKUP(I52,$A$8:$N$107,14,FALSE)/VLOOKUP(I52,$A$8:$H$107,8,FALSE),0)-ROUNDDOWN(10*N52/$H52,0)),IF(AND(L52=\"Nul\",$N52=$H52),58,0))))","v":0},null,{"$f":"IF(P52<>\"\",VLOOKUP(P52,$A$8:$C$107,2,FALSE),\"\")","v":""},{"$f":"IF(P52<>\"\",IF(P52=$A52,\"ERR\",IF(OR(P52=$I52,P52=$W52,P52=$AD52,P52=$AK52),\"DUP\",IF(ISNA(VLOOKUP(P52,$A$8:$A$107,1,FALSE)),\"ERR\",IF(COUNTIF($I$8:$I$107,P52)>1,\"ERR\",IF($D52=VLOOKUP(P52,$A$8:$D$107,4,FALSE),\"CLUB\",\"OK\"))))),\"\")","v":""},null,{"$f":"IF(S52<>\"\",IF(S52=\"Victoire\",IF(VLOOKUP(P52,$A$8:$AO$107,19,FALSE)=\"Défaite\",\"OK\",\"ERR\"),IF(S52=\"Défaite\",IF(VLOOKUP(P52,$A$8:$AO$107,19,FALSE)=\"Victoire\",\"OK\",\"ERR\"),IF(S52=\"Nul\",IF(VLOOKUP(P52,$A$8:$AO$107,19,FALSE)=\"Nul\",\"OK\",\"ERR\")))),\"\")","v":""},null,{"$f":"IF(S52=\"Victoire\",100-ROUNDDOWN(20*U52/$H52,0),\nIF(S52=\"Défaite\",10+ROUNDDOWN(20*VLOOKUP(P52,$A$8:$AO$107,21,FALSE)/VLOOKUP(P52,$A$8:$H$107,8,FALSE),0),\nIF(AND(S52=\"Nul\",$U52<>$H52),40+(2*ROUNDDOWN(10*VLOOKUP(P52,$A$8:$AO$107,21,FALSE)/VLOOKUP(P52,$A$8:$H$107,8,FALSE),0)-ROUNDDOWN(10*U52/$H52,0)),IF(AND(S52=\"Nul\",$U52=$H52),58,0))))","v":0},null,{"$f":"IF(W52<>\"\",VLOOKUP(W52,$A$8:$C$107,2,FALSE),\"\")","v":""},{"$f":"IF(W52<>\"\",IF(W52=$A52,\"ERR\",IF(OR(W52=$P52,W52=$I52,W52=$AD52,W52=$AK52),\"DUP\",IF(ISNA(VLOOKUP(W52,$A$8:$A$107,1,FALSE)),\"ERR\",IF(COUNTIF($I$8:$I$107,W52)>1,\"ERR\",IF($D52=VLOOKUP(W52,$A$8:$D$107,4,FALSE),\"CLUB\",\"OK\"))))),\"\")","v":""},null,{"$f":"IF(Z52<>\"\",IF(Z52=\"Victoire\",IF(VLOOKUP(W52,$A$8:$AO$107,26,FALSE)=\"Défaite\",\"OK\",\"ERR\"),IF(Z52=\"Défaite\",IF(VLOOKUP(W52,$A$8:$AO$107,26,FALSE)=\"Victoire\",\"OK\",\"ERR\"),IF(Z52=\"Nul\",IF(VLOOKUP(W52,$A$8:$AO$107,26,FALSE)=\"Nul\",\"OK\",\"ERR\")))),\"\")","v":""},null,{"$f":"IF(Z52=\"Victoire\",100-ROUNDDOWN(20*AB52/$H52,0),\nIF(Z52=\"Défaite\",10+ROUNDDOWN(20*VLOOKUP(W52,$A$8:$AO$107,28,FALSE)/VLOOKUP(W52,$A$8:$H$107,8,FALSE),0),\nIF(AND(Z52=\"Nul\",$AB52<>$H52),40+(2*ROUNDDOWN(10*VLOOKUP(W52,$A$8:$AO$107,28,FALSE)/VLOOKUP(W52,$A$8:$H$107,8,FALSE),0)-ROUNDDOWN(10*AB52/$H52,0)),IF(AND(Z52=\"Nul\",$AB52=$H52),58,0))))","v":0},null,{"$f":"IF(AD52<>\"\",VLOOKUP(AD52,$A$8:$C$107,2,FALSE),\"\")","v":""},{"$f":"IF(AD52<>\"\",IF(AD52=$A52,\"ERR\",IF(OR(AD52=$P52,AD52=$W52,AD52=$I52,AD52=$AK52),\"DUP\",IF(ISNA(VLOOKUP(AD52,$A$8:$A$107,1,FALSE)),\"ERR\",IF(COUNTIF($I$8:$I$107,AD52)>1,\"ERR\",IF($D52=VLOOKUP(AD52,$A$8:$D$107,4,FALSE),\"CLUB\",\"OK\"))))),\"\")","v":""},null,{"$f":"IF(AG52<>\"\",IF(AG52=\"Victoire\",IF(VLOOKUP(AD52,$A$8:$AO$107,33,FALSE)=\"Défaite\",\"OK\",\"ERR\"),IF(AG52=\"Défaite\",IF(VLOOKUP(AD52,$A$8:$AO$107,33,FALSE)=\"Victoire\",\"OK\",\"ERR\"),IF(AG52=\"Nul\",IF(VLOOKUP(AD52,$A$8:$AO$107,33,FALSE)=\"Nul\",\"OK\",\"ERR\")))),\"\")","v":""},null,{"$f":"IF(AG52=\"Victoire\",100-ROUNDDOWN(20*AI52/$H52,0),\nIF(AG52=\"Défaite\",10+ROUNDDOWN(20*VLOOKUP(AD52,$A$8:$AO$107,35,FALSE)/VLOOKUP(AD52,$A$8:$H$107,8,FALSE),0),\nIF(AND(AG52=\"Nul\",$AI52<>$H52),40+(2*ROUNDDOWN(10*VLOOKUP(AD52,$A$8:$AO$107,35,FALSE)/VLOOKUP(AD52,$A$8:$H$107,8,FALSE),0)-ROUNDDOWN(10*AI52/$H52,0)),IF(AND(AG52=\"Nul\",$AI52=$H52),58,0))))","v":0},null,{"$f":"IF(AK52<>\"\",VLOOKUP(AK52,$A$8:$C$107,2,FALSE),\"\")","v":""},{"$f":"IF(AK52<>\"\",IF(AK52=$A52,\"ERR\",IF(OR(AK52=$P52,AK52=$W52,AK52=$AD52,AK52=$I52),\"DUP\",IF(ISNA(VLOOKUP(AK52,$A$8:$A$107,1,FALSE)),\"ERR\",IF(COUNTIF($I$8:$I$107,AK52)>1,\"ERR\",IF($D52=VLOOKUP(AK52,$A$8:$D$107,4,FALSE),\"CLUB\",\"OK\"))))),\"\")","v":""},null,{"$f":"IF(AN52<>\"\",IF(AN52=\"Victoire\",IF(VLOOKUP(AK52,$A$8:$AO$107,40,FALSE)=\"Défaite\",\"OK\",\"ERR\"),IF(AN52=\"Défaite\",IF(VLOOKUP(AK52,$A$8:$AO$107,40,FALSE)=\"Victoire\",\"OK\",\"ERR\"),IF(AN52=\"Nul\",IF(VLOOKUP(AK52,$A$8:$AO$107,40,FALSE)=\"Nul\",\"OK\",\"ERR\")))),\"\")","v":""},null,{"$f":"IF(AN52=\"Victoire\",100-ROUNDDOWN(20*AP52/$H52,0),\nIF(AN52=\"Défaite\",10+ROUNDDOWN(20*VLOOKUP(AK52,$A$8:$CB$107,42,FALSE)/VLOOKUP(AK52,$A$8:$H$107,8,FALSE),0),\nIF(AND(AN52=\"Nul\",$AP52<>$H52),40+(2*ROUNDDOWN(10*VLOOKUP(AK52,$A$8:$CB$107,42,FALSE)/VLOOKUP(AK52,$A$8:$H$107,8,FALSE),0)-ROUNDDOWN(10*AP52/$H52,0)),IF(AND(AN52=\"Nul\",$AP52=$H52),58,0))))","v":0},null,{"$f":"IF(AR52<>\"\",VLOOKUP(AR52,$A$8:$C$107,2,FALSE),\"\")","v":""},{"$f":"IF(AR52<>\"\",IF(AR52=$A52,\"ERR\",IF(OR(AR52=$I52,AR52=$P52,AR52=$W52,AR52=$AD52,AR52=$AK52),\"DUP\",IF(ISNA(VLOOKUP(AR52,$A$8:$A$107,1,FALSE)),\"ERR\",IF(COUNTIF($I$8:$I$107,AR52)>1,\"ERR\",IF($D52=VLOOKUP(AR52,$A$8:$D$107,4,FALSE),\"CLUB\",\"OK\"))))),\"\")","v":""},null,{"$f":"IF(AU52<>\"\",IF(AU52=\"Victoire\",IF(VLOOKUP(AR52,$A$8:$BL$107,47,FALSE)=\"Défaite\",\"OK\",\"ERR\"),IF(AU52=\"Défaite\",IF(VLOOKUP(AR52,$A$8:$BL$107,47,FALSE)=\"Victoire\",\"OK\",\"ERR\"),IF(AU52=\"Nul\",IF(VLOOKUP(AR52,$A$8:$BL$107,47,FALSE)=\"Nul\",\"OK\",\"ERR\")))),\"\")","v":""},null,{"$f":"IF(AU52=\"Victoire\",100-ROUNDDOWN(20*AW52/$H52,0),\nIF(AU52=\"Défaite\",10+ROUNDDOWN(20*VLOOKUP(AR52,$A$8:$CB$107,49,FALSE)/VLOOKUP(AR52,$A$8:$H$107,8,FALSE),0),\nIF(AND(AU52=\"Nul\",$AW52<>$H52),40+(2*ROUNDDOWN(10*VLOOKUP(AR52,$A$8:$CB$107,49,FALSE)/VLOOKUP(AR52,$A$8:$H$107,8,FALSE),0)-ROUNDDOWN(10*AW52/$H52,0)),IF(AND(AU52=\"Nul\",$AW52=$H52),58,0))))","v":0},null,{"$f":"IF(AY52<>\"\",VLOOKUP(AY52,$A$8:$C$107,2,FALSE),\"\")","v":""},{"$f":"IF(AY52<>\"\",IF(AY52=$A52,\"ERR\",IF(OR(AY52=$I52,AY52=$P52,AY52=$W52,AY52=$AD52,AY52=$AK52,AY52=$AR52),\"DUP\",IF(ISNA(VLOOKUP(AY52,$A$8:$A$107,1,FALSE)),\"ERR\",IF(COUNTIF($I$8:$I$107,AY52)>1,\"ERR\",IF($D52=VLOOKUP(AY52,$A$8:$D$107,4,FALSE),\"CLUB\",\"OK\"))))),\"\")","v":""},null,{"$f":"IF(BB52<>\"\",IF(BB52=\"Victoire\",IF(VLOOKUP(AY52,$A$8:$BL$107,54,FALSE)=\"Défaite\",\"OK\",\"ERR\"),IF(BB52=\"Défaite\",IF(VLOOKUP(AY52,$A$8:$BL$107,54,FALSE)=\"Victoire\",\"OK\",\"ERR\"),IF(BB52=\"Nul\",IF(VLOOKUP(AY52,$A$8:$BL$107,54,FALSE)=\"Nul\",\"OK\",\"ERR\")))),\"\")","v":""},null,{"$f":"IF(BB52=\"Victoire\",100-ROUNDDOWN(20*BD52/$H52,0),\nIF(BB52=\"Défaite\",10+ROUNDDOWN(20*VLOOKUP(AY52,$A$8:$CB$107,56,FALSE)/VLOOKUP(AY52,$A$8:$H$107,8,FALSE),0),\nIF(AND(BB52=\"Nul\",$BD52<>$H52),40+(2*ROUNDDOWN(10*VLOOKUP(AY52,$A$8:$CB$107,56,FALSE)/VLOOKUP(AY52,$A$8:$H$107,8,FALSE),0)-ROUNDDOWN(10*BD52/$H52,0)),IF(AND(BB52=\"Nul\",$BD52=$H52),58,0))))","v":0},null,{"$f":"IF(BF52<>\"\",VLOOKUP(BF52,$A$8:$C$107,2,FALSE),\"\")","v":""},{"$f":"IF(BF52<>\"\",IF(BF52=$A52,\"ERR\",IF(OR(BF52=$I52,BF52=$P52,BF52=$W52,BF52=$AD52,BF52=$AK52,BF52=$AR52,BF52=$AY52),\"DUP\",IF(ISNA(VLOOKUP(BF52,$A$8:$A$107,1,FALSE)),\"ERR\",IF(COUNTIF($I$8:$I$107,BF52)>1,\"ERR\",IF($D52=VLOOKUP(BF52,$A$8:$D$107,4,FALSE),\"CLUB\",\"OK\"))))),\"\")","v":""},null,{"$f":"IF(BI52<>\"\",IF(BI52=\"Victoire\",IF(VLOOKUP(BF52,$A$8:$BL$107,61,FALSE)=\"Défaite\",\"OK\",\"ERR\"),IF(BI52=\"Défaite\",IF(VLOOKUP(BF52,$A$8:$BL$107,61,FALSE)=\"Victoire\",\"OK\",\"ERR\"),IF(BI52=\"Nul\",IF(VLOOKUP(BF52,$A$8:$BL$107,61,FALSE)=\"Nul\",\"OK\",\"ERR\")))),\"\")","v":""},null,{"$f":"IF(BI52=\"Victoire\",100-ROUNDDOWN(20*BK52/$H52,0),\nIF(BI52=\"Défaite\",10+ROUNDDOWN(20*VLOOKUP(BF52,$A$8:$CB$107,63,FALSE)/VLOOKUP(BF52,$A$8:$H$107,8,FALSE),0),\nIF(AND(BI52=\"Nul\",$BK52<>$H52),40+(2*ROUNDDOWN(10*VLOOKUP(BF52,$A$8:$CB$107,63,FALSE)/VLOOKUP(BF52,$A$8:$H$107,8,FALSE),0)-ROUNDDOWN(10*BK52/$H52,0)),IF(AND(BI52=\"Nul\",$BK52=$H52),58,0))))","v":0},null,{"$f":"IF(BM52<>\"\",VLOOKUP(BM52,$A$8:$C$107,2,FALSE),\"\")","v":""},{"$f":"IF(BM52<>\"\",IF(BM52=$A52,\"ERR\",IF(OR(BM52=$I52,BM52=$P52,BM52=$W52,BM52=$AD52,BM52=$AK52,BM52=$AR52,BM52=$AY52,BM52=$BF52),\"DUP\",IF(ISNA(VLOOKUP(BM52,$A$8:$A$107,1,FALSE)),\"ERR\",IF(COUNTIF($I$8:$I$107,BM52)>1,\"ERR\",IF($D52=VLOOKUP(BM52,$A$8:$D$107,4,FALSE),\"CLUB\",\"OK\"))))),\"\")","v":""},null,{"$f":"IF(BP52<>\"\",IF(BP52=\"Victoire\",IF(VLOOKUP(BM52,$A$8:$BS$107,68,FALSE)=\"Défaite\",\"OK\",\"ERR\"),IF(BP52=\"Défaite\",IF(VLOOKUP(BM52,$A$8:$BS$107,68,FALSE)=\"Victoire\",\"OK\",\"ERR\"),IF(BP52=\"Nul\",IF(VLOOKUP(BM52,$A$8:$BS$107,68,FALSE)=\"Nul\",\"OK\",\"ERR\")))),\"\")","v":""},null,{"$f":"IF(BP52=\"Victoire\",100-ROUNDDOWN(20*BR52/$H52,0),\nIF(BP52=\"Défaite\",10+ROUNDDOWN(20*VLOOKUP(BM52,$A$8:$CB$107,70,FALSE)/VLOOKUP(BM52,$A$8:$H$107,8,FALSE),0),\nIF(AND(BP52=\"Nul\",$BR52<>$H52),40+(2*ROUNDDOWN(10*VLOOKUP(BM52,$A$8:$CB$107,70,FALSE)/VLOOKUP(BM52,$A$8:$H$107,8,FALSE),0)-ROUNDDOWN(10*BR52/$H52,0)),IF(AND(BP52=\"Nul\",$BR52=$H52),58,0))))","v":0},null,{"$f":"IF($I52<>\"\",VLOOKUP($I52,$A$8:$N$107,5,FALSE),0)+IF($P52<>\"\",VLOOKUP($P52,$A$8:$N$107,5,FALSE),0)+IF($W52<>\"\",VLOOKUP($W52,$A$8:$N$107,5,FALSE),0)+IF($AD52<>\"\",VLOOKUP($AD52,$A$8:$N$107,5,FALSE),0)+IF($AK52<>\"\",VLOOKUP($AK52,$A$8:$N$107,5,FALSE),0)+IF($AR52<>\"\",VLOOKUP($AR52,$A$8:$N$107,5,FALSE),0)+IF($AY52<>\"\",VLOOKUP($AY52,$A$8:$N$107,5,FALSE),0)+IF($BF52<>\"\",VLOOKUP($BF52,$A$8:$N$107,5,FALSE),0)+IF($BM52<>\"\",VLOOKUP($BM52,$A$8:$N$107,5,FALSE),0)","v":0}]
[{"$nulls":4},0,null,{"$f":"IF($F53<>\"\",VLOOKUP(F53,Armies!$A$1:$C$300,3,FALSE),\"\")","v":""},null,null,{"$f":"IF(I53<>\"\",VLOOKUP(I53,$A$8:$C$107,2,FALSE),\"\")","v":""},{"$f":"IF(I53<>\"\",IF(I53=$A53,\"ERR\",IF(OR(I53=$P53,I53=$W53,I53=$AD53,I53=$AK53),\"DUP\",IF(ISNA(VLOOKUP(I53,$A$8:$A$107,1,FALSE)),\"ERR\",IF(COUNTIF($I$8:$I$107,I53)>1,\"ERR\",IF($D53=VLOOKUP(I53,$A$8:$D$107,4,FALSE),\"CLUB\",\"OK\"))))),\"\")","v":""},null,{"$f":"IF(L53<>\"\",IF(L53=\"Victoire\",IF(VLOOKUP(I53,$A$8:$L$107,12,FALSE)=\"Défaite\",\"OK\",\"ERR\"),IF(L53=\"Défaite\",IF(VLOOKUP(I53,$A$8:$L$107,12,FALSE)=\"Victoire\",\"OK\",\"ERR\"),IF(L53=\"Nul\",IF(VLOOKUP(I53,$A$8:$L$107,12,FALSE)=\"Nul\",\"OK\",\"ERR\")))),\"\")","v":""},null,{"$f":"IF(L53=\"Victoire\",100-ROUNDDOWN(20*N53/$H53,0),\nIF(L53=\"Défaite\",10+ROUNDDOWN(20*VLOOKUP(I53,$A$8:$N$107,14,FALSE)/VLOOKUP(I53,$A$8:$H$107,8,FALSE),0),\nIF(AND(L53=\"Nul\",$N53<>$H53),40+(2*ROUNDDOWN(10*VLOOKUP(I53,$A$8:$N$107,14,FALSE)/VLOOKUP(I53,$A$8:$H$107,8,FALSE),0)-ROUNDDOWN(10*N53/$H53,0)),IF(AND(L53=\"Nul\",$N53=$H53),58,0))))","v":0},null,{"$f":"IF(P53<>\"\",VLOOKUP(P53,$A$8:$C$107,2,FALSE),\"\")","v":""},{"$f":"IF(P53<>\"\",IF(P53=$A53,\"ERR\",IF(OR(P53=$I53,P53=$W53,P53=$AD53,P53=$AK53),\"DUP\",IF(ISNA(VLOOKUP(P53,$A$8:$A$107,1,FALSE)),\"ERR\",IF(COUNTIF($I$8:$I$107,P53)>1,\"ERR\",IF($D53=VLOOKUP(P53,$A$8:$D$107,4,FALSE),\"CLUB\",\"OK\"))))),\"\")","v":""},null,{"$f":"IF(S53<>\"\",IF(S53=\"Victoire\",IF(VLOOKUP(P53,$A$8:$AO$107,19,FALSE)=\"Défaite\",\"OK\",\"ERR\"),IF(S53=\"Défaite\",IF(VLOOKUP(P53,$A$8:$AO$107,19,FALSE)=\"Victoire\",\"OK\",\"ERR\"),IF(S53=\"Nul\",IF(VLOOKUP(P53,$A$8:$AO$107,19,FALSE)=\"Nul\",\"OK\",\"ERR\")))),\"\")","v":""},null,{"$f":"IF(S53=\"Victoire\",100-ROUNDDOWN(20*U53/$H53,0),\nIF(S53=\"Défaite\",10+ROUNDDOWN(20*VLOOKUP(P53,$A$8:$AO$107,21,FALSE)/VLOOKUP(P53,$A$8:$H$107,8,FALSE),0),\nIF(AND(S53=\"Nul\",$U53<>$H53),40+(2*ROUNDDOWN(10*VLOOKUP(P53,$A$8:$AO$107,21,FALSE)/VLOOKUP(P53,$A$8:$H$107,8,FALSE),0)-ROUNDDOWN(10*U53/$H53,0)),IF(AND(S53=\"Nul\",$U53=$H53),58,0))))","v":0},null,{"$f":"IF(W53<>\"\",VLOOKUP(W53,$A$8:$C$107,2,FALSE),\"\")","v":""},{"$f":"IF(W53<>\"\",IF(W53=$A53,\"ERR\",IF(OR(W53=$P53,W53=$I53,W53=$AD53,W53=$AK53),\"DUP\",IF(ISNA(VLOOKUP(W53,$A$8:$A$107,1,FALSE)),\"ERR\",IF(COUNTIF($I$8:$I$107,W53)>1,\"ERR\",IF($D53=VLOOKUP(W53,$A$8:$D$107,4,FALSE),\"CLUB\",\"OK\"))))),\"\")","v":""},null,{"$f":"IF(Z53<>\"\",IF(Z53=\"Victoire\",IF(VLOOKUP(W53,$A$8:$AO$107,26,FALSE)=\"Défaite\",\"OK\",\"ERR\"),IF(Z53=\"Défaite\",IF(VLOOKUP(W53,$A$8:$AO$107,26,FALSE)=\"Victoire\",\"OK\",\"ERR\"),IF(Z53=\"Nul\",IF(VLOOKUP(W53,$A$8:$AO$107,26,FALSE)=\"Nul\",\"OK\",\"ERR\")))),\"\")","v":""},null,{"$f":"IF(Z53=\"Victoire\",100-ROUNDDOWN(20*AB53/$H53,0),\nIF(Z53=\"Défaite\",10+ROUNDDOWN(20*VLOOKUP(W53,$A$8:$AO$107,28,FALSE)/VLOOKUP(W53,$A$8:$H$107,8,FALSE),0),\nIF(AND(Z53=\"Nul\",$AB53<>$H53),40+(2*ROUNDDOWN(10*VLOOKUP(W53,$A$8:$AO$107,28,FALSE)/VLOOKUP(W53,$A$8:$H$107,8,FALSE),0)-ROUNDDOWN(10*AB53/$H53,0)),IF(AND(Z53=\"Nul\",$AB53=$H53),58,0))))","v":0},null,{"$f":"IF(AD53<>\"\",VLOOKUP(AD53,$A$8:$C$107,2,FALSE),\"\")","v":""},{"$f":"IF(AD53<>\"\",IF(AD53=$A53,\"ERR\",IF(OR(AD53=$P53,AD53=$W53,AD53=$I53,AD53=$AK53),\"DUP\",IF(ISNA(VLOOKUP(AD53,$A$8:$A$107,1,FALSE)),\"ERR\",IF(COUNTIF($I$8:$I$107,AD53)>1,\"ERR\",IF($D53=VLOOKUP(AD53,$A$8:$D$107,4,FALSE),\"CLUB\",\"OK\"))))),\"\")","v":""},null,{"$f":"IF(AG53<>\"\",IF(AG53=\"Victoire\",IF(VLOOKUP(AD53,$A$8:$AO$107,33,FALSE)=\"Défaite\",\"OK\",\"ERR\"),IF(AG53=\"Défaite\",IF(VLOOKUP(AD53,$A$8:$AO$107,33,FALSE)=\"Victoire\",\"OK\",\"ERR\"),IF(AG53=\"Nul\",IF(VLOOKUP(AD53,$A$8:$AO$107,33,FALSE)=\"Nul\",\"OK\",\"ERR\")))),\"\")","v":""},null,{"$f":"IF(AG53=\"Victoire\",100-ROUNDDOWN(20*AI53/$H53,0),\nIF(AG53=\"Défaite\",10+ROUNDDOWN(20*VLOOKUP(AD53,$A$8:$AO$107,35,FALSE)/VLOOKUP(AD53,$A$8:$H$107,8,FALSE),0),\nIF(AND(AG53=\"Nul\",$AI53<>$H53),40+(2*ROUNDDOWN(10*VLOOKUP(AD53,$A$8:$AO$107,35,FALSE)/VLOOKUP(AD53,$A$8:$H$107,8,FALSE),0)-ROUNDDOWN(10*AI53/$H53,0)),IF(AND(AG53=\"Nul\",$AI53=$H53),58,0))))","v":0},null,{"$f":"IF(AK53<>\"\",VLOOKUP(AK53,$A$8:$C$107,2,FALSE),\"\")","v":""},{"$f":"IF(AK53<>\"\",IF(AK53=$A53,\"ERR\",IF(OR(AK53=$P53,AK53=$W53,AK53=$AD53,AK53=$I53),\"DUP\",IF(ISNA(VLOOKUP(AK53,$A$8:$A$107,1,FALSE)),\"ERR\",IF(COUNTIF($I$8:$I$107,AK53)>1,\"ERR\",IF($D53=VLOOKUP(AK53,$A$8:$D$107,4,FALSE),\"CLUB\",\"OK\"))))),\"\")","v":""},null,{"$f":"IF(AN53<>\"\",IF(AN53=\"Victoire\",IF(VLOOKUP(AK53,$A$8:$AO$107,40,FALSE)=\"Défaite\",\"OK\",\"ERR\"),IF(AN53=\"Défaite\",IF(VLOOKUP(AK53,$A$8:$AO$107,40,FALSE)=\"Victoire\",\"OK\",\"ERR\"),IF(AN53=\"Nul\",IF(VLOOKUP(AK53,$A$8:$AO$107,40,FALSE)=\"Nul\",\"OK\",\"ERR\")))),\"\")","v":""},null,{"$f":"IF(AN53=\"Victoire\",100-ROUNDDOWN(20*AP53/$H53,0),\nIF(AN53=\"Défaite\",10+ROUNDDOWN(20*VLOOKUP(AK53,$A$8:$CB$107,42,FALSE)/VLOOKUP(AK53,$A$8:$H$107,8,FALSE),0),\nIF(AND(AN53=\"Nul\",$AP53<>$H53),40+(2*ROUNDDOWN(10*VLOOKUP(AK53,$A$8:$CB$107,42,FALSE)/VLOOKUP(AK53,$A$8:$H$107,8,FALSE),0)-ROUNDDOWN(10*AP53/$H53,0)),IF(AND(AN53=\"Nul\",$AP53=$H53),58,0))))","v":0},null,{"$f":"IF(AR53<>\"\",VLOOKUP(AR53,$A$8:$C$107,2,FALSE),\"\")","v":""},{"$f":"IF(AR53<>\"\",IF(AR53=$A53,\"ERR\",IF(OR(AR53=$I53,AR53=$P53,AR53=$W53,AR53=$AD53,AR53=$AK53),\"DUP\",IF(ISNA(VLOOKUP(AR53,$A$8:$A$107,1,FALSE)),\"ERR\",IF(COUNTIF($I$8:$I$107,AR53)>1,\"ERR\",IF($D53=VLOOKUP(AR53,$A$8:$D$107,4,FALSE),\"CLUB\",\"OK\"))))),\"\")","v":""},null,{"$f":"IF(AU53<>\"\",IF(AU53=\"Victoire\",IF(VLOOKUP(AR53,$A$8:$BL$107,47,FALSE)=\"Défaite\",\"OK\",\"ERR\"),IF(AU53=\"Défaite\",IF(VLOOKUP(AR53,$A$8:$BL$107,47,FALSE)=\"Victoire\",\"OK\",\"ERR\"),IF(AU53=\"Nul\",IF(VLOOKUP(AR53,$A$8:$BL$107,47,FALSE)=\"Nul\",\"OK\",\"ERR\")))),\"\")","v":""},null,{"$f":"IF(AU53=\"Victoire\",100-ROUNDDOWN(20*AW53/$H53,0),\nIF(AU53=\"Défaite\",10+ROUNDDOWN(20*VLOOKUP(AR53,$A$8:$CB$107,49,FALSE)/VLOOKUP(AR53,$A$8:$H$107,8,FALSE),0),\nIF(AND(AU53=\"Nul\",$AW53<>$H53),40+(2*ROUNDDOWN(10*VLOOKUP(AR53,$A$8:$CB$107,49,FALSE)/VLOOKUP(AR53,$A$8:$H$107,8,FALSE),0)-ROUNDDOWN(10*AW53/$H53,0)),IF(AND(AU53=\"Nul\",$AW53=$H53),58,0))))","v":0},null,{"$f":"IF(AY53<>\"\",VLOOKUP(AY53,$A$8:$C$107,2,FALSE),\"\")","v":""},{"$f":"IF(AY53<>\"\",IF(AY53=$A53,\"ERR\",IF(OR(AY53=$I53,AY53=$P53,AY53=$W53,AY53=$AD53,AY53=$AK53,AY53=$AR53),\"DUP\",IF(ISNA(VLOOKUP(AY53,$A$8:$A$107,1,FALSE)),\"ERR\",IF(COUNTIF($I$8:$I$107,AY53)>1,\"ERR\",IF($D53=VLOOKUP(AY53,$A$8:$D$107,4,FALSE),\"CLUB\",\"OK\"))))),\"\")","v":""},null,{"$f":"IF(BB53<>\"\",IF(BB53=\"Victoire\",IF(VLOOKUP(AY53,$A$8:$BL$107,54,FALSE)=\"Défaite\",\"OK\",\"ERR\"),IF(BB53=\"Défaite\",IF(VLOOKUP(AY53,$A$8:$BL$107,54,FALSE)=\"Victoire\",\"OK\",\"ERR\"),IF(BB53=\"Nul\",IF(VLOOKUP(AY53,$A$8:$BL$107,54,FALSE)=\"Nul\",\"OK\",\"ERR\")))),\"\")","v":""},null,{"$f":"IF(BB53=\"Victoire\",100-ROUNDDOWN(20*BD53/$H53,0),\nIF(BB53=\"Défaite\",10+ROUNDDOWN(20*VLOOKUP(AY53,$A$8:$CB$107,56,FALSE)/VLOOKUP(AY53,$A$8:$H$107,8,FALSE),0),\nIF(AND(BB53=\"Nul\",$BD53<>$H53),40+(2*ROUNDDOWN(10*VLOOKUP(AY53,$A$8:$CB$107,56,FALSE)/VLOOKUP(AY53,$A$8:$H$107,8,FALSE),0)-ROUNDDOWN(10*BD53/$H53,0)),IF(AND(BB53=\"Nul\",$BD53=$H53),58,0))))","v":0},null,{"$f":"IF(BF53<>\"\",VLOOKUP(BF53,$A$8:$C$107,2,FALSE),\"\")","v":""},{"$f":"IF(BF53<>\"\",IF(BF53=$A53,\"ERR\",IF(OR(BF53=$I53,BF53=$P53,BF53=$W53,BF53=$AD53,BF53=$AK53,BF53=$AR53,BF53=$AY53),\"DUP\",IF(ISNA(VLOOKUP(BF53,$A$8:$A$107,1,FALSE)),\"ERR\",IF(COUNTIF($I$8:$I$107,BF53)>1,\"ERR\",IF($D53=VLOOKUP(BF53,$A$8:$D$107,4,FALSE),\"CLUB\",\"OK\"))))),\"\")","v":""},null,{"$f":"IF(BI53<>\"\",IF(BI53=\"Victoire\",IF(VLOOKUP(BF53,$A$8:$BL$107,61,FALSE)=\"Défaite\",\"OK\",\"ERR\"),IF(BI53=\"Défaite\",IF(VLOOKUP(BF53,$A$8:$BL$107,61,FALSE)=\"Victoire\",\"OK\",\"ERR\"),IF(BI53=\"Nul\",IF(VLOOKUP(BF53,$A$8:$BL$107,61,FALSE)=\"Nul\",\"OK\",\"ERR\")))),\"\")","v":""},null,{"$f":"IF(BI53=\"Victoire\",100-ROUNDDOWN(20*BK53/$H53,0),\nIF(BI53=\"Défaite\",10+ROUNDDOWN(20*VLOOKUP(BF53,$A$8:$CB$107,63,FALSE)/VLOOKUP(BF53,$A$8:$H$107,8,FALSE),0),\nIF(AND(BI53=\"Nul\",$BK53<>$H53),40+(2*ROUNDDOWN(10*VLOOKUP(BF53,$A$8:$CB$107,63,FALSE)/VLOOKUP(BF53,$A$8:$H$107,8,FALSE),0)-ROUNDDOWN(10*BK53/$H53,0)),IF(AND(BI53=\"Nul\",$BK53=$H53),58,0))))","v":0},null,{"$f":"IF(BM53<>\"\",VLOOKUP(BM53,$A$8:$C$107,2,FALSE),\"\")","v":""},{"$f":"IF(BM53<>\"\",IF(BM53=$A53,\"ERR\",IF(OR(BM53=$I53,BM53=$P53,BM53=$W53,BM53=$AD53,BM53=$AK53,BM53=$AR53,BM53=$AY53,BM53=$BF53),\"DUP\",IF(ISNA(VLOOKUP(BM53,$A$8:$A$107,1,FALSE)),\"ERR\",IF(COUNTIF($I$8:$I$107,BM53)>1,\"ERR\",IF($D53=VLOOKUP(BM53,$A$8:$D$107,4,FALSE),\"CLUB\",\"OK\"))))),\"\")","v":""},null,{"$f":"IF(BP53<>\"\",IF(BP53=\"Victoire\",IF(VLOOKUP(BM53,$A$8:$BS$107,68,FALSE)=\"Défaite\",\"OK\",\"ERR\"),IF(BP53=\"Défaite\",IF(VLOOKUP(BM53,$A$8:$BS$107,68,FALSE)=\"Victoire\",\"OK\",\"ERR\"),IF(BP53=\"Nul\",IF(VLOOKUP(BM53,$A$8:$BS$107,68,FALSE)=\"Nul\",\"OK\",\"ERR\")))),\"\")","v":""},null,{"$f":"IF(BP53=\"Victoire\",100-ROUNDDOWN(20*BR53/$H53,0),\nIF(BP53=\"Défaite\",10+ROUNDDOWN(20*VLOOKUP(BM53,$A$8:$CB$107,70,FALSE)/VLOOKUP(BM53,$A$8:$H$107,8,FALSE),0),\nIF(AND(BP53=\"Nul\",$BR53<>$H53),40+(2*ROUNDDOWN(10*VLOOKUP(BM53,$A$8:$CB$107,70,FALSE)/VLOOKUP(BM53,$A$8:$H$107,8,FALSE),0)-ROUNDDOWN(10*BR53/$H53,0)),IF(AND(BP53=\"Nul\",$BR53=$H53),58,0))))","v":0},null,{"$f":"IF($I53<>\"\",VLOOKUP($I53,$A$8:$N$107,5,FALSE),0)+IF($P53<>\"\",VLOOKUP($P53,$A$8:$N$107,5,FALSE),0)+IF($W53<>\"\",VLOOKUP($W53,$A$8:$N$107,5,FALSE),0)+IF($AD53<>\"\",VLOOKUP($AD53,$A$8:$N$107,5,FALSE),0)+IF($AK53<>\"\",VLOOKUP($AK53,$A$8:$N$107,5,FALSE),0)+IF($AR53<>\"\",VLOOKUP($AR53,$A$8:$N$107,5,FALSE),0)+IF($AY53<>\"\",VLOOKUP($AY53,$A$8:$N$107,5,FALSE),0)+IF($BF53<>\"\",VLOOKUP($BF53,$A$8:$N$107,5,FALSE),0)+IF($BM53<>\"\",VLOOKUP($BM53,$A$8:$N$107,5,FALSE),0)","v":0}]
[{"$nulls":4},0,null,{"$f":"IF($F54<>\"\",VLOOKUP(F54,Armies!$A$1:$C$300,3,FALSE),\"\")","v":""},null,null,{"$f":"IF(I54<>\"\",VLOOKUP(I54,$A$8:$C$107,2,FALSE),\"\")","v":""},{"$f":"IF(I54<>\"\",IF(I54=$A54,\"ERR\",IF(OR(I54=$P54,I54=$W54,I54=$AD54,I54=$AK54),\"DUP\",IF(ISNA(VLOOKUP(I54,$A$8:$A$107,1,FALSE)),\"ERR\",IF(COUNTIF($I$8:$I$107,I54)>1,\"ERR\",IF($D54=VLOOKUP(I54,$A$8:$D$107,4,FALSE),\"CLUB\",\"OK\"))))),\"\")","v":""},null,{"$f":"IF(L54<>\"\",IF(L54=\"Victoire\",IF(VLOOKUP(I54,$A$8:$L$107,12,FALSE)=\"Défaite\",\"OK\",\"ERR\"),IF(L54=\"Défaite\",IF(VLOOKUP(I54,$A$8:$L$107,12,FALSE)=\"Victoire\",\"OK\",\"ERR\"),IF(L54=\"Nul\",IF(VLOOKUP(I54,$A$8:$L$107,12,FALSE)=\"Nul\",\"OK\",\"ERR\")))),\"\")","v":""},null,{"$f":"IF(L54=\"Victoire\",100-ROUNDDOWN(20*N54/$H54,0),\nIF(L54=\"Défaite\",10+ROUNDDOWN(20*VLOOKUP(I54,$A$8:$N$107,14,FALSE)/VLOOKUP(I54,$A$8:$H$107,8,FALSE),0),\nIF(AND(L54=\"Nul\",$N54<>$H54),40+(2*ROUNDDOWN(10*VLOOKUP(I54,$A$8:$N$107,14,FALSE)/VLOOKUP(I54,$A$8:$H$107,8,FALSE),0)-ROUNDDOWN(10*N54/$H54,0)),IF(AND(L54=\"Nul\",$N54=$H54),58,0))))","v":0},null,{"$f":"IF(P54<>\"\",VLOOKUP(P54,$A$8:$C$107,2,FALSE),\"\")","v":""},{"$f":"IF(P54<>\"\",IF(P54=$A54,\"ERR\",IF(OR(P54=$I54,P54=$W54,P54=$AD54,P54=$AK54),\"DUP\",IF(ISNA(VLOOKUP(P54,$A$8:$A$107,1,FALSE)),\"ERR\",IF(COUNTIF($I$8:$I$107,P54)>1,\"ERR\",IF($D54=VLOOKUP(P54,$A$8:$D$107,4,FALSE),\"CLUB\",\"OK\"))))),\"\")","v":""},null,{"$f":"IF(S54<>\"\",IF(S54=\"Victoire\",IF(VLOOKUP(P54,$A$8:$AO$107,19,FALSE)=\"Défaite\",\"OK\",\"ERR\"),IF(S54=\"Défaite\",IF(VLOOKUP(P54,$A$8:$AO$107,19,FALSE)=\"Victoire\",\"OK\",\"ERR\"),IF(S54=\"Nul\",IF(VLOOKUP(P54,$A$8:$AO$107,19,FALSE)=\"Nul\",\"OK\",\"ERR\")))),\"\")","v":""},null,{"$f":"IF(S54=\"Victoire\",100-ROUNDDOWN(20*U54/$H54,0),\nIF(S54=\"Défaite\",10+ROUNDDOWN(20*VLOOKUP(P54,$A$8:$AO$107,21,FALSE)/VLOOKUP(P54,$A$8:$H$107,8,FALSE),0),\nIF(AND(S54=\"Nul\",$U54<>$H54),40+(2*ROUNDDOWN(10*VLOOKUP(P54,$A$8:$AO$107,21,FALSE)/VLOOKUP(P54,$A$8:$H$107,8,FALSE),0)-ROUNDDOWN(10*U54/$H54,0)),IF(AND(S54=\"Nul\",$U54=$H54),58,0))))","v":0},null,{"$f":"IF(W54<>\"\",VLOOKUP(W54,$A$8:$C$107,2,FALSE),\"\")","v":""},{"$f":"IF(W54<>\"\",IF(W54=$A54,\"ERR\",IF(OR(W54=$P54,W54=$I54,W54=$AD54,W54=$AK54),\"DUP\",IF(ISNA(VLOOKUP(W54,$A$8:$A$107,1,FALSE)),\"ERR\",IF(COUNTIF($I$8:$I$107,W54)>1,\"ERR\",IF($D54=VLOOKUP(W54,$A$8:$D$107,4,FALSE),\"CLUB\",\"OK\"))))),\"\")","v":""},null,{"$f":"IF(Z54<>\"\",IF(Z54=\"Victoire\",IF(VLOOKUP(W54,$A$8:$AO$107,26,FALSE)=\"Défaite\",\"OK\",\"ERR\"),IF(Z54=\"Défaite\",IF(VLOOKUP(W54,$A$8:$AO$107,26,FALSE)=\"Victoire\",\"OK\",\"ERR\"),IF(Z54=\"Nul\",IF(VLOOKUP(W54,$A$8:$AO$107,26,FALSE)=\"Nul\",\"OK\",\"ERR\")))),\"\")","v":""},null,{"$f":"IF(Z54=\"Victoire\",100-ROUNDDOWN(20*AB54/$H54,0),\nIF(Z54=\"Défaite\",10+ROUNDDOWN(20*VLOOKUP(W54,$A$8:$AO$107,28,FALSE)/VLOOKUP(W54,$A$8:$H$107,8,FALSE),0),\nIF(AND(Z54=\"Nul\",$AB54<>$H54),40+(2*ROUNDDOWN(10*VLOOKUP(W54,$A$8:$AO$107,28,FALSE)/VLOOKUP(W54,$A$8:$H$107,8,FALSE),0)-ROUNDDOWN(10*AB54/$H54,0)),IF(AND(Z54=\"Nul\",$AB54=$H54),58,0))))","v":0},null,{"$f":"IF(AD54<>\"\",VLOOKUP(AD54,$A$8:$C$107,2,FALSE),\"\")","v":""},{"$f":"IF(AD54<>\"\",IF(AD54=$A54,\"ERR\",IF(OR(AD54=$P54,AD54=$W54,AD54=$I54,AD54=$AK54),\"DUP\",IF(ISNA(VLOOKUP(AD54,$A$8:$A$107,1,FALSE)),\"ERR\",IF(COUNTIF($I$8:$I$107,AD54)>1,\"ERR\",IF($D54=VLOOKUP(AD54,$A$8:$D$107,4,FALSE),\"CLUB\",\"OK\"))))),\"\")","v":""},null,{"$f":"IF(AG54<>\"\",IF(AG54=\"Victoire\",IF(VLOOKUP(AD54,$A$8:$AO$107,33,FALSE)=\"Défaite\",\"OK\",\"ERR\"),IF(AG54=\"Défaite\",IF(VLOOKUP(AD54,$A$8:$AO$107,33,FALSE)=\"Victoire\",\"OK\",\"ERR\"),IF(AG54=\"Nul\",IF(VLOOKUP(AD54,$A$8:$AO$107,33,FALSE)=\"Nul\",\"OK\",\"ERR\")))),\"\")","v":""},null,{"$f":"IF(AG54=\"Victoire\",100-ROUNDDOWN(20*AI54/$H54,0),\nIF(AG54=\"Défaite\",10+ROUNDDOWN(20*VLOOKUP(AD54,$A$8:$AO$107,35,FALSE)/VLOOKUP(AD54,$A$8:$H$107,8,FALSE),0),\nIF(AND(AG54=\"Nul\",$AI54<>$H54),40+(2*ROUNDDOWN(10*VLOOKUP(AD54,$A$8:$AO$107,35,FALSE)/VLOOKUP(AD54,$A$8:$H$107,8,FALSE),0)-ROUNDDOWN(10*AI54/$H54,0)),IF(AND(AG54=\"Nul\",$AI54=$H54),58,0))))","v":0},null,{"$f":"IF(AK54<>\"\",VLOOKUP(AK54,$A$8:$C$107,2,FALSE),\"\")","v":""},{"$f":"IF(AK54<>\"\",IF(AK54=$A54,\"ERR\",IF(OR(AK54=$P54,AK54=$W54,AK54=$AD54,AK54=$I54),\"DUP\",IF(ISNA(VLOOKUP(AK54,$A$8:$A$107,1,FALSE)),\"ERR\",IF(COUNTIF($I$8:$I$107,AK54)>1,\"ERR\",IF($D54=VLOOKUP(AK54,$A$8:$D$107,4,FALSE),\"CLUB\",\"OK\"))))),\"\")","v":""},null,{"$f":"IF(AN54<>\"\",IF(AN54=\"Victoire\",IF(VLOOKUP(AK54,$A$8:$AO$107,40,FALSE)=\"Défaite\",\"OK\",\"ERR\"),IF(AN54=\"Défaite\",IF(VLOOKUP(AK54,$A$8:$AO$107,40,FALSE)=\"Victoire\",\"OK\",\"ERR\"),IF(AN54=\"Nul\",IF(VLOOKUP(AK54,$A$8:$AO$107,40,FALSE)=\"Nul\",\"OK\",\"ERR\")))),\"\")","v":""},null,{"$f":"IF(AN54=\"Victoire\",100-ROUNDDOWN(20*AP54/$H54,0),\nIF(AN54=\"Défaite\",10+ROUNDDOWN(20*VLOOKUP(AK54,$A$8:$CB$107,42,FALSE)/VLOOKUP(AK54,$A$8:$H$107,8,FALSE),0),\nIF(AND(AN54=\"Nul\",$AP54<>$H54),40+(2*ROUNDDOWN(10*VLOOKUP(AK54,$A$8:$CB$107,42,FALSE)/VLOOKUP(AK54,$A$8:$H$107,8,FALSE),0)-ROUNDDOWN(10*AP54/$H54,0)),IF(AND(AN54=\"Nul\",$AP54=$H54),58,0))))","v":0},null,{"$f":"IF(AR54<>\"\",VLOOKUP(AR54,$A$8:$C$107,2,FALSE),\"\")","v":""},{"$f":"IF(AR54<>\"\",IF(AR54=$A54,\"ERR\",IF(OR(AR54=$I54,AR54=$P54,AR54=$W54,AR54=$AD54,AR54=$AK54),\"DUP\",IF(ISNA(VLOOKUP(AR54,$A$8:$A$107,1,FALSE)),\"ERR\",IF(COUNTIF($I$8:$I$107,AR54)>1,\"ERR\",IF($D54=VLOOKUP(AR54,$A$8:$D$107,4,FALSE),\"CLUB\",\"OK\"))))),\"\")","v":""},null,{"$f":"IF(AU54<>\"\",IF(AU54=\"Victoire\",IF(VLOOKUP(AR54,$A$8:$BL$107,47,FALSE)=\"Défaite\",\"OK\",\"ERR\"),IF(AU54=\"Défaite\",IF(VLOOKUP(AR54,$A$8:$BL$107,47,FALSE)=\"Victoire\",\"OK\",\"ERR\"),IF(AU54=\"Nul\",IF(VLOOKUP(AR54,$A$8:$BL$107,47,FALSE)=\"Nul\",\"OK\",\"ERR\")))),\"\")","v":""},null,{"$f":"IF(AU54=\"Victoire\",100-ROUNDDOWN(20*AW54/$H54,0),\nIF(AU54=\"Défaite\",10+ROUNDDOWN(20*VLOOKUP(AR54,$A$8:$CB$107,49,FALSE)/VLOOKUP(AR54,$A$8:$H$107,8,FALSE),0),\nIF(AND(AU54=\"Nul\",$AW54<>$H54),40+(2*ROUNDDOWN(10*VLOOKUP(AR54,$A$8:$CB$107,49,FALSE)/VLOOKUP(AR54,$A$8:$H$107,8,FALSE),0)-ROUNDDOWN(10*AW54/$H54,0)),IF(AND(AU54=\"Nul\",$AW54=$H54),58,0))))","v":0},null,{"$f":"IF(AY54<>\"\",VLOOKUP(AY54,$A$8:$C$107,2,FALSE),\"\")","v":""},{"$f":"IF(AY54<>\"\",IF(AY54=$A54,\"ERR\",IF(OR(AY54=$I54,AY54=$P54,AY54=$W54,AY54=$AD54,AY54=$AK54,AY54=$AR54),\"DUP\",IF(ISNA(VLOOKUP(AY54,$A$8:$A$107,1,FALSE)),\"ERR\",IF(COUNTIF($I$8:$I$107,AY54)>1,\"ERR\",IF($D54=VLOOKUP(AY54,$A$8:$D$107,4,FALSE),\"CLUB\",\"OK\"))))),\"\")","v":""},null,{"$f":"IF(BB54<>\"\",IF(BB54=\"Victoire\",IF(VLOOKUP(AY54,$A$8:$BL$107,54,FALSE)=\"Défaite\",\"OK\",\"ERR\"),IF(BB54=\"Défaite\",IF(VLOOKUP(AY54,$A$8:$BL$107,54,FALSE)=\"Victoire\",\"OK\",\"ERR\"),IF(BB54=\"Nul\",IF(VLOOKUP(AY54,$A$8:$BL$107,54,FALSE)=\"Nul\",\"OK\",\"ERR\")))),\"\")","v":""},null,{"$f":"IF(BB54=\"Victoire\",100-ROUNDDOWN(20*BD54/$H54,0),\nIF(BB54=\"Défaite\",10+ROUNDDOWN(20*VLOOKUP(AY54,$A$8:$CB$107,56,FALSE)/VLOOKUP(AY54,$A$8:$H$107,8,FALSE),0),\nIF(AND(BB54=\"Nul\",$BD54<>$H54),40+(2*ROUNDDOWN(10*VLOOKUP(AY54,$A$8:$CB$107,56,FALSE)/VLOOKUP(AY54,$A$8:$H$107,8,FALSE),0)-ROUNDDOWN(10*BD54/$H54,0)),IF(AND(BB54=\"Nul\",$BD54=$H54),58,0))))","v":0},null,{"$f":"IF(BF54<>\"\",VLOOKUP(BF54,$A$8:$C$107,2,FALSE),\"\")","v":""},{"$f":"IF(BF54<>\"\",IF(BF54=$A54,\"ERR\",IF(OR(BF54=$I54,BF54=$P54,BF54=$W54,BF54=$AD54,BF54=$AK54,BF54=$AR54,BF54=$AY54),\"DUP\",IF(ISNA(VLOOKUP(BF54,$A$8:$A$107,1,FALSE)),\"ERR\",IF(COUNTIF($I$8:$I$107,BF54)>1,\"ERR\",IF($D54=VLOOKUP(BF54,$A$8:$D$107,4,FALSE),\"CLUB\",\"OK\"))))),\"\")","v":""},null,{"$f":"IF(BI54<>\"\",IF(BI54=\"Victoire\",IF(VLOOKUP(BF54,$A$8:$BL$107,61,FALSE)=\"Défaite\",\"OK\",\"ERR\"),IF(BI54=\"Défaite\",IF(VLOOKUP(BF54,$A$8:$BL$107,61,FALSE)=\"Victoire\",\"OK\",\"ERR\"),IF(BI54=\"Nul\",IF(VLOOKUP(BF54,$A$8:$BL$107,61,FALSE)=\"Nul\",\"OK\",\"ERR\")))),\"\")","v":""},null,{"$f":"IF(BI54=\"Victoire\",100-ROUNDDOWN(20*BK54/$H54,0),\nIF(BI54=\"Défaite\",10+ROUNDDOWN(20*VLOOKUP(BF54,$A$8:$CB$107,63,FALSE)/VLOOKUP(BF54,$A$8:$H$107,8,FALSE),0),\nIF(AND(BI54=\"Nul\",$BK54<>$H54),40+(2*ROUNDDOWN(10*VLOOKUP(BF54,$A$8:$CB$107,63,FALSE)/VLOOKUP(BF54,$A$8:$H$107,8,FALSE),0)-ROUNDDOWN(10*BK54/$H54,0)),IF(AND(BI54=\"Nul\",$BK54=$H54),58,0))))","v":0},null,{"$f":"IF(BM54<>\"\",VLOOKUP(BM54,$A$8:$C$107,2,FALSE),\"\")","v":""},{"$f":"IF(BM54<>\"\",IF(BM54=$A54,\"ERR\",IF(OR(BM54=$I54,BM54=$P54,BM54=$W54,BM54=$AD54,BM54=$AK54,BM54=$AR54,BM54=$AY54,BM54=$BF54),\"DUP\",IF(ISNA(VLOOKUP(BM54,$A$8:$A$107,1,FALSE)),\"ERR\",IF(COUNTIF($I$8:$I$107,BM54)>1,\"ERR\",IF($D54=VLOOKUP(BM54,$A$8:$D$107,4,FALSE),\"CLUB\",\"OK\"))))),\"\")","v":""},null,{"$f":"IF(BP54<>\"\",IF(BP54=\"Victoire\",IF(VLOOKUP(BM54,$A$8:$BS$107,68,FALSE)=\"Défaite\",\"OK\",\"ERR\"),IF(BP54=\"Défaite\",IF(VLOOKUP(BM54,$A$8:$BS$107,68,FALSE)=\"Victoire\",\"OK\",\"ERR\"),IF(BP54=\"Nul\",IF(VLOOKUP(BM54,$A$8:$BS$107,68,FALSE)=\"Nul\",\"OK\",\"ERR\")))),\"\")","v":""},null,{"$f":"IF(BP54=\"Victoire\",100-ROUNDDOWN(20*BR54/$H54,0),\nIF(BP54=\"Défaite\",10+ROUNDDOWN(20*VLOOKUP(BM54,$A$8:$CB$107,70,FALSE)/VLOOKUP(BM54,$A$8:$H$107,8,FALSE),0),\nIF(AND(BP54=\"Nul\",$BR54<>$H54),40+(2*ROUNDDOWN(10*VLOOKUP(BM54,$A$8:$CB$107,70,FALSE)/VLOOKUP(BM54,$A$8:$H$107,8,FALSE),0)-ROUNDDOWN(10*BR54/$H54,0)),IF(AND(BP54=\"Nul\",$BR54=$H54),58,0))))","v":0},null,{"$f":"IF($I54<>\"\",VLOOKUP($I54,$A$8:$N$107,5,FALSE),0)+IF($P54<>\"\",VLOOKUP($P54,$A$8:$N$107,5,FALSE),0)+IF($W54<>\"\",VLOOKUP($W54,$A$8:$N$107,5,FALSE),0)+IF($AD54<>\"\",VLOOKUP($AD54,$A$8:$N$107,5,FALSE),0)+IF($AK54<>\"\",VLOOKUP($AK54,$A$8:$N$107,5,FALSE),0)+IF($AR54<>\"\",VLOOKUP($AR54,$A$8:$N$107,5,FALSE),0)+IF($AY54<>\"\",VLOOKUP($AY54,$A$8:$N$107,5,FALSE),0)+IF($BF54<>\"\",VLOOKUP($BF54,$A$8:$N$107,5,FALSE),0)+IF($BM54<>\"\",VLOOKUP($BM54,$A$8:$N$107,5,FALSE),0)","v":0}]
[{"$nulls":4},0,null,{"$f":"IF($F55<>\"\",VLOOKUP(F55,Armies!$A$1:$C$300,3,FALSE),\"\")","v":""},null,null,{"$f":"IF(I55<>\"\",VLOOKUP(I55,$A$8:$C$107,2,FALSE),\"\")","v":""},{"$f":"IF(I55<>\"\",IF(I55=$A55,\"ERR\",IF(OR(I55=$P55,I55=$W55,I55=$AD55,I55=$AK55),\"DUP\",IF(ISNA(VLOOKUP(I55,$A$8:$A$107,1,FALSE)),\"ERR\",IF(COUNTIF($I$8:$I$107,I55)>1,\"ERR\",IF($D55=VLOOKUP(I55,$A$8:$D$107,4,FALSE),\"CLUB\",\"OK\"))))),\"\")","v":""},null,{"$f":"IF(L55<>\"\",IF(L55=\"Victoire\",IF(VLOOKUP(I55,$A$8:$L$107,12,FALSE)=\"Défaite\",\"OK\",\"ERR\"),IF(L55=\"Défaite\",IF(VLOOKUP(I55,$A$8:$L$107,12,FALSE)=\"Victoire\",\"OK\",\"ERR\"),IF(L55=\"Nul\",IF(VLOOKUP(I55,$A$8:$L$107,12,FALSE)=\"Nul\",\"OK\",\"ERR\")))),\"\")","v":""},null,{"$f":"IF(L55=\"Victoire\",100-ROUNDDOWN(20*N55/$H55,0),\nIF(L55=\"Défaite\",10+ROUNDDOWN(20*VLOOKUP(I55,$A$8:$N$107,14,FALSE)/VLOOKUP(I55,$A$8:$H$107,8,FALSE),0),\nIF(AND(L55=\"Nul\",$N55<>$H55),40+(2*ROUNDDOWN(10*VLOOKUP(I55,$A$8:$N$107,14,FALSE)/VLOOKUP(I55,$A$8:$H$107,8,FALSE),0)-ROUNDDOWN(10*N55/$H55,0)),IF(AND(L55=\"Nul\",$N55=$H55),58,0))))","v":0},null,{"$f":"IF(P55<>\"\",VLOOKUP(P55,$A$8:$C$107,2,FALSE),\"\")","v":""},{"$f":"IF(P55<>\"\",IF(P55=$A55,\"ERR\",IF(OR(P55=$I55,P55=$W55,P55=$AD55,P55=$AK55),\"DUP\",IF(ISNA(VLOOKUP(P55,$A$8:$A$107,1,FALSE)),\"ERR\",IF(COUNTIF($I$8:$I$107,P55)>1,\"ERR\",IF($D55=VLOOKUP(P55,$A$8:$D$107,4,FALSE),\"CLUB\",\"OK\"))))),\"\")","v":""},null,{"$f":"IF(S55<>\"\",IF(S55=\"Victoire\",IF(VLOOKUP(P55,$A$8:$AO$107,19,FALSE)=\"Défaite\",\"OK\",\"ERR\"),IF(S55=\"Défaite\",IF(VLOOKUP(P55,$A$8:$AO$107,19,FALSE)=\"Victoire\",\"OK\",\"ERR\"),IF(S55=\"Nul\",IF(VLOOKUP(P55,$A$8:$AO$107,19,FALSE)=\"Nul\",\"OK\",\"ERR\")))),\"\")","v":""},null,{"$f":"IF(S55=\"Victoire\",100-ROUNDDOWN(20*U55/$H55,0),\nIF(S55=\"Défaite\",10+ROUNDDOWN(20*VLOOKUP(P55,$A$8:$AO$107,21,FALSE)/VLOOKUP(P55,$A$8:$H$107,8,FALSE),0),\nIF(AND(S55=\"Nul\",$U55<>$H55),40+(2*ROUNDDOWN(10*VLOOKUP(P55,$A$8:$AO$107,21,FALSE)/VLOOKUP(P55,$A$8:$H$107,8,FALSE),0)-ROUNDDOWN(10*U55/$H55,0)),IF(AND(S55=\"Nul\",$U55=$H55),58,0))))","v":0},null,{"$f":"IF(W55<>\"\",VLOOKUP(W55,$A$8:$C$107,2,FALSE),\"\")","v":""},{"$f":"IF(W55<>\"\",IF(W55=$A55,\"ERR\",IF(OR(W55=$P55,W55=$I55,W55=$AD55,W55=$AK55),\"DUP\",IF(ISNA(VLOOKUP(W55,$A$8:$A$107,1,FALSE)),\"ERR\",IF(COUNTIF($I$8:$I$107,W55)>1,\"ERR\",IF($D55=VLOOKUP(W55,$A$8:$D$107,4,FALSE),\"CLUB\",\"OK\"))))),\"\")","v":""},null,{"$f":"IF(Z55<>\"\",IF(Z55=\"Victoire\",IF(VLOOKUP(W55,$A$8:$AO$107,26,FALSE)=\"Défaite\",\"OK\",\"ERR\"),IF(Z55=\"Défaite\",IF(VLOOKUP(W55,$A$8:$AO$107,26,FALSE)=\"Victoire\",\"OK\",\"ERR\"),IF(Z55=\"Nul\",IF(VLOOKUP(W55,$A$8:$AO$107,26,FALSE)=\"Nul\",\"OK\",\"ERR\")))),\"\")","v":""},null,{"$f":"IF(Z55=\"Victoire\",100-ROUNDDOWN(20*AB55/$H55,0),\nIF(Z55=\"Défaite\",10+ROUNDDOWN(20*VLOOKUP(W55,$A$8:$AO$107,28,FALSE)/VLOOKUP(W55,$A$8:$H$107,8,FALSE),0),\nIF(AND(Z55=\"Nul\",$AB55<>$H55),40+(2*ROUNDDOWN(10*VLOOKUP(W55,$A$8:$AO$107,28,FALSE)/VLOOKUP(W55,$A$8:$H$107,8,FALSE),0)-ROUNDDOWN(10*AB55/$H55,0)),IF(AND(Z55=\"Nul\",$AB55=$H55),58,0))))","v":0},null,{"$f":"IF(AD55<>\"\",VLOOKUP(AD55,$A$8:$C$107,2,FALSE),\"\")","v":""},{"$f":"IF(AD55<>\"\",IF(AD55=$A55,\"ERR\",IF(OR(AD55=$P55,AD55=$W55,AD55=$I55,AD55=$AK55),\"DUP\",IF(ISNA(VLOOKUP(AD55,$A$8:$A$107,1,FALSE)),\"ERR\",IF(COUNTIF($I$8:$I$107,AD55)>1,\"ERR\",IF($D55=VLOOKUP(AD55,$A$8:$D$107,4,FALSE),\"CLUB\",\"OK\"))))),\"\")","v":""},null,{"$f":"IF(AG55<>\"\",IF(AG55=\"Victoire\",IF(VLOOKUP(AD55,$A$8:$AO$107,33,FALSE)=\"Défaite\",\"OK\",\"ERR\"),IF(AG55=\"Défaite\",IF(VLOOKUP(AD55,$A$8:$AO$107,33,FALSE)=\"Victoire\",\"OK\",\"ERR\"),IF(AG55=\"Nul\",IF(VLOOKUP(AD55,$A$8:$AO$107,33,FALSE)=\"Nul\",\"OK\",\"ERR\")))),\"\")","v":""},null,{"$f":"IF(AG55=\"Victoire\",100-ROUNDDOWN(20*AI55/$H55,0),\nIF(AG55=\"Défaite\",10+ROUNDDOWN(20*VLOOKUP(AD55,$A$8:$AO$107,35,FALSE)/VLOOKUP(AD55,$A$8:$H$107,8,FALSE),0),\nIF(AND(AG55=\"Nul\",$AI55<>$H55),40+(2*ROUNDDOWN(10*VLOOKUP(AD55,$A$8:$AO$107,35,FALSE)/VLOOKUP(AD55,$A$8:$H$107,8,FALSE),0)-ROUNDDOWN(10*AI55/$H55,0)),IF(AND(AG55=\"Nul\",$AI55=$H55),58,0))))","v":0},null,{"$f":"IF(AK55<>\"\",VLOOKUP(AK55,$A$8:$C$107,2,FALSE),\"\")","v":""},{"$f":"IF(AK55<>\"\",IF(AK55=$A55,\"ERR\",IF(OR(AK55=$P55,AK55=$W55,AK55=$AD55,AK55=$I55),\"DUP\",IF(ISNA(VLOOKUP(AK55,$A$8:$A$107,1,FALSE)),\"ERR\",IF(COUNTIF($I$8:$I$107,AK55)>1,\"ERR\",IF($D55=VLOOKUP(AK55,$A$8:$D$107,4,FALSE),\"CLUB\",\"OK\"))))),\"\")","v":""},null,{"$f":"IF(AN55<>\"\",IF(AN55=\"Victoire\",IF(VLOOKUP(AK55,$A$8:$AO$107,40,FALSE)=\"Défaite\",\"OK\",\"ERR\"),IF(AN55=\"Défaite\",IF(VLOOKUP(AK55,$A$8:$AO$107,40,FALSE)=\"Victoire\",\"OK\",\"ERR\"),IF(AN55=\"Nul\",IF(VLOOKUP(AK55,$A$8:$AO$107,40,FALSE)=\"Nul\",\"OK\",\"ERR\")))),\"\")","v":""},null,{"$f":"IF(AN55=\"Victoire\",100-ROUNDDOWN(20*AP55/$H55,0),\nIF(AN55=\"Défaite\",10+ROUNDDOWN(20*VLOOKUP(AK55,$A$8:$CB$107,42,FALSE)/VLOOKUP(AK55,$A$8:$H$107,8,FALSE),0),\nIF(AND(AN55=\"Nul\",$AP55<>$H55),40+(2*ROUNDDOWN(10*VLOOKUP(AK55,$A$8:$CB$107,42,FALSE)/VLOOKUP(AK55,$A$8:$H$107,8,FALSE),0)-ROUNDDOWN(10*AP55/$H55,0)),IF(AND(AN55=\"Nul\",$AP55=$H55),58,0))))","v":0},null,{"$f":"IF(AR55<>\"\",VLOOKUP(AR55,$A$8:$C$107,2,FALSE),\"\")","v":""},{"$f":"IF(AR55<>\"\",IF(AR55=$A55,\"ERR\",IF(OR(AR55=$I55,AR55=$P55,AR55=$W55,AR55=$AD55,AR55=$AK55),\"DUP\",IF(ISNA(VLOOKUP(AR55,$A$8:$A$107,1,FALSE)),\"ERR\",IF(COUNTIF($I$8:$I$107,AR55)>1,\"ERR\",IF($D55=VLOOKUP(AR55,$A$8:$D$107,4,FALSE),\"CLUB\",\"OK\"))))),\"\")","v":""},null,{"$f":"IF(AU55<>\"\",IF(AU55=\"Victoire\",IF(VLOOKUP(AR55,$A$8:$BL$107,47,FALSE)=\"Défaite\",\"OK\",\"ERR\"),IF(AU55=\"Défaite\",IF(VLOOKUP(AR55,$A$8:$BL$107,47,FALSE)=\"Victoire\",\"OK\",\"ERR\"),IF(AU55=\"Nul\",IF(VLOOKUP(AR55,$A$8:$BL$107,47,FALSE)=\"Nul\",\"OK\",\"ERR\")))),\"\")","v":""},null,{"$f":"IF(AU55=\"Victoire\",100-ROUNDDOWN(20*AW55/$H55,0),\nIF(AU55=\"Défaite\",10+ROUNDDOWN(20*VLOOKUP(AR55,$A$8:$CB$107,49,FALSE)/VLOOKUP(AR55,$A$8:$H$107,8,FALSE),0),\nIF(AND(AU55=\"Nul\",$AW55<>$H55),40+(2*ROUNDDOWN(10*VLOOKUP(AR55,$A$8:$CB$107,49,FALSE)/VLOOKUP(AR55,$A$8:$H$107,8,FALSE),0)-ROUNDDOWN(10*AW55/$H55,0)),IF(AND(AU55=\"Nul\",$AW55=$H55),58,0))))","v":0},null,{"$f":"IF(AY55<>\"\",VLOOKUP(AY55,$A$8:$C$107,2,FALSE),\"\")","v":""},{"$f":"IF(AY55<>\"\",IF(AY55=$A55,\"ERR\",IF(OR(AY55=$I55,AY55=$P55,AY55=$W55,AY55=$AD55,AY55=$AK55,AY55=$AR55),\"DUP\",IF(ISNA(VLOOKUP(AY55,$A$8:$A$107,1,FALSE)),\"ERR\",IF(COUNTIF($I$8:$I$107,AY55)>1,\"ERR\",IF($D55=VLOOKUP(AY55,$A$8:$D$107,4,FALSE),\"CLUB\",\"OK\"))))),\"\")","v":""},null,{"$f":"IF(BB55<>\"\",IF(BB55=\"Victoire\",IF(VLOOKUP(AY55,$A$8:$BL$107,54,FALSE)=\"Défaite\",\"OK\",\"ERR\"),IF(BB55=\"Défaite\",IF(VLOOKUP(AY55,$A$8:$BL$107,54,FALSE)=\"Victoire\",\"OK\",\"ERR\"),IF(BB55=\"Nul\",IF(VLOOKUP(AY55,$A$8:$BL$107,54,FALSE)=\"Nul\",\"OK\",\"ERR\")))),\"\")","v":""},null,{"$f":"IF(BB55=\"Victoire\",100-ROUNDDOWN(20*BD55/$H55,0),\nIF(BB55=\"Défaite\",10+ROUNDDOWN(20*VLOOKUP(AY55,$A$8:$CB$107,56,FALSE)/VLOOKUP(AY55,$A$8:$H$107,8,FALSE),0),\nIF(AND(BB55=\"Nul\",$BD55<>$H55),40+(2*ROUNDDOWN(10*VLOOKUP(AY55,$A$8:$CB$107,56,FALSE)/VLOOKUP(AY55,$A$8:$H$107,8,FALSE),0)-ROUNDDOWN(10*BD55/$H55,0)),IF(AND(BB55=\"Nul\",$BD55=$H55),58,0))))","v":0},null,{"$f":"IF(BF55<>\"\",VLOOKUP(BF55,$A$8:$C$107,2,FALSE),\"\")","v":""},{"$f":"IF(BF55<>\"\",IF(BF55=$A55,\"ERR\",IF(OR(BF55=$I55,BF55=$P55,BF55=$W55,BF55=$AD55,BF55=$AK55,BF55=$AR55,BF55=$AY55),\"DUP\",IF(ISNA(VLOOKUP(BF55,$A$8:$A$107,1,FALSE)),\"ERR\",IF(COUNTIF($I$8:$I$107,BF55)>1,\"ERR\",IF($D55=VLOOKUP(BF55,$A$8:$D$107,4,FALSE),\"CLUB\",\"OK\"))))),\"\")","v":""},null,{"$f":"IF(BI55<>\"\",IF(BI55=\"Victoire\",IF(VLOOKUP(BF55,$A$8:$BL$107,61,FALSE)=\"Défaite\",\"OK\",\"ERR\"),IF(BI55=\"Défaite\",IF(VLOOKUP(BF55,$A$8:$BL$107,61,FALSE)=\"Victoire\",\"OK\",\"ERR\"),IF(BI55=\"Nul\",IF(VLOOKUP(BF55,$A$8:$BL$107,61,FALSE)=\"Nul\",\"OK\",\"ERR\")))),\"\")","v":""},null,{"$f":"IF(BI55=\"Victoire\",100-ROUNDDOWN(20*BK55/$H55,0),\nIF(BI55=\"Défaite\",10+ROUNDDOWN(20*VLOOKUP(BF55,$A$8:$CB$107,63,FALSE)/VLOOKUP(BF55,$A$8:$H$107,8,FALSE),0),\nIF(AND(BI55=\"Nul\",$BK55<>$H55),40+(2*ROUNDDOWN(10*VLOOKUP(BF55,$A$8:$CB$107,63,FALSE)/VLOOKUP(BF55,$A$8:$H$107,8,FALSE),0)-ROUNDDOWN(10*BK55/$H55,0)),IF(AND(BI55=\"Nul\",$BK55=$H55),58,0))))","v":0},null,{"$f":"IF(BM55<>\"\",VLOOKUP(BM55,$A$8:$C$107,2,FALSE),\"\")","v":""},{"$f":"IF(BM55<>\"\",IF(BM55=$A55,\"ERR\",IF(OR(BM55=$I55,BM55=$P55,BM55=$W55,BM55=$AD55,BM55=$AK55,BM55=$AR55,BM55=$AY55,BM55=$BF55),\"DUP\",IF(ISNA(VLOOKUP(BM55,$A$8:$A$107,1,FALSE)),\"ERR\",IF(COUNTIF($I$8:$I$107,BM55)>1,\"ERR\",IF($D55=VLOOKUP(BM55,$A$8:$D$107,4,FALSE),\"CLUB\",\"OK\"))))),\"\")","v":""},null,{"$f":"IF(BP55<>\"\",IF(BP55=\"Victoire\",IF(VLOOKUP(BM55,$A$8:$BS$107,68,FALSE)=\"Défaite\",\"OK\",\"ERR\"),IF(BP55=\"Défaite\",IF(VLOOKUP(BM55,$A$8:$BS$107,68,FALSE)=\"Victoire\",\"OK\",\"ERR\"),IF(BP55=\"Nul\",IF(VLOOKUP(BM55,$A$8:$BS$107,68,FALSE)=\"Nul\",\"OK\",\"ERR\")))),\"\")","v":""},null,{"$f":"IF(BP55=\"Victoire\",100-ROUNDDOWN(20*BR55/$H55,0),\nIF(BP55=\"Défaite\",10+ROUNDDOWN(20*VLOOKUP(BM55,$A$8:$CB$107,70,FALSE)/VLOOKUP(BM55,$A$8:$H$107,8,FALSE),0),\nIF(AND(BP55=\"Nul\",$BR55<>$H55),40+(2*ROUNDDOWN(10*VLOOKUP(BM55,$A$8:$CB$107,70,FALSE)/VLOOKUP(BM55,$A$8:$H$107,8,FALSE),0)-ROUNDDOWN(10*BR55/$H55,0)),IF(AND(BP55=\"Nul\",$BR55=$H55),58,0))))","v":0},null,{"$f":"IF($I55<>\"\",VLOOKUP($I55,$A$8:$N$107,5,FALSE),0)+IF($P55<>\"\",VLOOKUP($P55,$A$8:$N$107,5,FALSE),0)+IF($W55<>\"\",VLOOKUP($W55,$A$8:$N$107,5,FALSE),0)+IF($AD55<>\"\",VLOOKUP($AD55,$A$8:$N$107,5,FALSE),0)+IF($AK55<>\"\",VLOOKUP($AK55,$A$8:$N$107,5,FALSE),0)+IF($AR55<>\"\",VLOOKUP($AR55,$A$8:$N$107,5,FALSE),0)+IF($AY55<>\"\",VLOOKUP($AY55,$A$8:$N$107,5,FALSE),0)+IF($BF55<>\"\",VLOOKUP($BF55,$A$8:$N$107,5,FALSE),0)+IF($BM55<>\"\",VLOOKUP($BM55,$A$8:$N$107,5,FALSE),0)","v":0}]
[{"$nulls":4},0,null,{"$f":"IF($F56<>\"\",VLOOKUP(F56,Armies!$A$1:$C$300,3,FALSE),\"\")","v":""},null,null,{"$f":"IF(I56<>\"\",VLOOKUP(I56,$A$8:$C$107,2,FALSE),\"\")","v":""},{"$f":"IF(I56<>\"\",IF(I56=$A56,\"ERR\",IF(OR(I56=$P56,I56=$W56,I56=$AD56,I56=$AK56),\"DUP\",IF(ISNA(VLOOKUP(I56,$A$8:$A$107,1,FALSE)),\"ERR\",IF(COUNTIF($I$8:$I$107,I56)>1,\"ERR\",IF($D56=VLOOKUP(I56,$A$8:$D$107,4,FALSE),\"CLUB\",\"OK\"))))),\"\")","v":""},null,{"$f":"IF(L56<>\"\",IF(L56=\"Victoire\",IF(VLOOKUP(I56,$A$8:$L$107,12,FALSE)=\"Défaite\",\"OK\",\"ERR\"),IF(L56=\"Défaite\",IF(VLOOKUP(I56,$A$8:$L$107,12,FALSE)=\"Victoire\",\"OK\",\"ERR\"),IF(L56=\"Nul\",IF(VLOOKUP(I56,$A$8:$L$107,12,FALSE)=\"Nul\",\"OK\",\"ERR\")))),\"\")","v":""},null,{"$f":"IF(L56=\"Victoire\",100-ROUNDDOWN(20*N56/$H56,0),\nIF(L56=\"Défaite\",10+ROUNDDOWN(20*VLOOKUP(I56,$A$8:$N$107,14,FALSE)/VLOOKUP(I56,$A$8:$H$107,8,FALSE),0),\nIF(AND(L56=\"Nul\",$N56<>$H56),40+(2*ROUNDDOWN(10*VLOOKUP(I56,$A$8:$N$107,14,FALSE)/VLOOKUP(I56,$A$8:$H$107,8,FALSE),0)-ROUNDDOWN(10*N56/$H56,0)),IF(AND(L56=\"Nul\",$N56=$H56),58,0))))","v":0},null,{"$f":"IF(P56<>\"\",VLOOKUP(P56,$A$8:$C$107,2,FALSE),\"\")","v":""},{"$f":"IF(P56<>\"\",IF(P56=$A56,\"ERR\",IF(OR(P56=$I56,P56=$W56,P56=$AD56,P56=$AK56),\"DUP\",IF(ISNA(VLOOKUP(P56,$A$8:$A$107,1,FALSE)),\"ERR\",IF(COUNTIF($I$8:$I$107,P56)>1,\"ERR\",IF($D56=VLOOKUP(P56,$A$8:$D$107,4,FALSE),\"CLUB\",\"OK\"))))),\"\")","v":""},null,{"$f":"IF(S56<>\"\",IF(S56=\"Victoire\",IF(VLOOKUP(P56,$A$8:$AO$107,19,FALSE)=\"Défaite\",\"OK\",\"ERR\"),IF(S56=\"Défaite\",IF(VLOOKUP(P56,$A$8:$AO$107,19,FALSE)=\"Victoire\",\"OK\",\"ERR\"),IF(S56=\"Nul\",IF(VLOOKUP(P56,$A$8:$AO$107,19,FALSE)=\"Nul\",\"OK\",\"ERR\")))),\"\")","v":""},null,{"$f":"IF(S56=\"Victoire\",100-ROUNDDOWN(20*U56/$H56,0),\nIF(S56=\"Défaite\",10+ROUNDDOWN(20*VLOOKUP(P56,$A$8:$AO$107,21,FALSE)/VLOOKUP(P56,$A$8:$H$107,8,FALSE),0),\nIF(AND(S56=\"Nul\",$U56<>$H56),40+(2*ROUNDDOWN(10*VLOOKUP(P56,$A$8:$AO$107,21,FALSE)/VLOOKUP(P56,$A$8:$H$107,8,FALSE),0)-ROUNDDOWN(10*U56/$H56,0)),IF(AND(S56=\"Nul\",$U56=$H56),58,0))))","v":0},null,{"$f":"IF(W56<>\"\",VLOOKUP(W56,$A$8:$C$107,2,FALSE),\"\")","v":""},{"$f":"IF(W56<>\"\",IF(W56=$A56,\"ERR\",IF(OR(W56=$P56,W56=$I56,W56=$AD56,W56=$AK56),\"DUP\",IF(ISNA(VLOOKUP(W56,$A$8:$A$107,1,FALSE)),\"ERR\",IF(COUNTIF($I$8:$I$107,W56)>1,\"ERR\",IF($D56=VLOOKUP(W56,$A$8:$D$107,4,FALSE),\"CLUB\",\"OK\"))))),\"\")","v":""},null,{"$f":"IF(Z56<>\"\",IF(Z56=\"Victoire\",IF(VLOOKUP(W56,$A$8:$AO$107,26,FALSE)=\"Défaite\",\"OK\",\"ERR\"),IF(Z56=\"Défaite\",IF(VLOOKUP(W56,$A$8:$AO$107,26,FALSE)=\"Victoire\",\"OK\",\"ERR\"),IF(Z56=\"Nul\",IF(VLOOKUP(W56,$A$8:$AO$107,26,FALSE)=\"Nul\",\"OK\",\"ERR\")))),\"\")","v":""},null,{"$f":"IF(Z56=\"Victoire\",100-ROUNDDOWN(20*AB56/$H56,0),\nIF(Z56=\"Défaite\",10+ROUNDDOWN(20*VLOOKUP(W56,$A$8:$AO$107,28,FALSE)/VLOOKUP(W56,$A$8:$H$107,8,FALSE),0),\nIF(AND(Z56=\"Nul\",$AB56<>$H56),40+(2*ROUNDDOWN(10*VLOOKUP(W56,$A$8:$AO$107,28,FALSE)/VLOOKUP(W56,$A$8:$H$107,8,FALSE),0)-ROUNDDOWN(10*AB56/$H56,0)),IF(AND(Z56=\"Nul\",$AB56=$H56),58,0))))","v":0},null,{"$f":"IF(AD56<>\"\",VLOOKUP(AD56,$A$8:$C$107,2,FALSE),\"\")","v":""},{"$f":"IF(AD56<>\"\",IF(AD56=$A56,\"ERR\",IF(OR(AD56=$P56,AD56=$W56,AD56=$I56,AD56=$AK56),\"DUP\",IF(ISNA(VLOOKUP(AD56,$A$8:$A$107,1,FALSE)),\"ERR\",IF(COUNTIF($I$8:$I$107,AD56)>1,\"ERR\",IF($D56=VLOOKUP(AD56,$A$8:$D$107,4,FALSE),\"CLUB\",\"OK\"))))),\"\")","v":""},null,{"$f":"IF(AG56<>\"\",IF(AG56=\"Victoire\",IF(VLOOKUP(AD56,$A$8:$AO$107,33,FALSE)=\"Défaite\",\"OK\",\"ERR\"),IF(AG56=\"Défaite\",IF(VLOOKUP(AD56,$A$8:$AO$107,33,FALSE)=\"Victoire\",\"OK\",\"ERR\"),IF(AG56=\"Nul\",IF(VLOOKUP(AD56,$A$8:$AO$107,33,FALSE)=\"Nul\",\"OK\",\"ERR\")))),\"\")","v":""},null,{"$f":"IF(AG56=\"Victoire\",100-ROUNDDOWN(20*AI56/$H56,0),\nIF(AG56=\"Défaite\",10+ROUNDDOWN(20*VLOOKUP(AD56,$A$8:$AO$107,35,FALSE)/VLOOKUP(AD56,$A$8:$H$107,8,FALSE),0),\nIF(AND(AG56=\"Nul\",$AI56<>$H56),40+(2*ROUNDDOWN(10*VLOOKUP(AD56,$A$8:$AO$107,35,FALSE)/VLOOKUP(AD56,$A$8:$H$107,8,FALSE),0)-ROUNDDOWN(10*AI56/$H56,0)),IF(AND(AG56=\"Nul\",$AI56=$H56),58,0))))","v":0},null,{"$f":"IF(AK56<>\"\",VLOOKUP(AK56,$A$8:$C$107,2,FALSE),\"\")","v":""},{"$f":"IF(AK56<>\"\",IF(AK56=$A56,\"ERR\",IF(OR(AK56=$P56,AK56=$W56,AK56=$AD56,AK56=$I56),\"DUP\",IF(ISNA(VLOOKUP(AK56,$A$8:$A$107,1,FALSE)),\"ERR\",IF(COUNTIF($I$8:$I$107,AK56)>1,\"ERR\",IF($D56=VLOOKUP(AK56,$A$8:$D$107,4,FALSE),\"CLUB\",\"OK\"))))),\"\")","v":""},null,{"$f":"IF(AN56<>\"\",IF(AN56=\"Victoire\",IF(VLOOKUP(AK56,$A$8:$AO$107,40,FALSE)=\"Défaite\",\"OK\",\"ERR\"),IF(AN56=\"Défaite\",IF(VLOOKUP(AK56,$A$8:$AO$107,40,FALSE)=\"Victoire\",\"OK\",\"ERR\"),IF(AN56=\"Nul\",IF(VLOOKUP(AK56,$A$8:$AO$107,40,FALSE)=\"Nul\",\"OK\",\"ERR\")))),\"\")","v":""},null,{"$f":"IF(AN56=\"Victoire\",100-ROUNDDOWN(20*AP56/$H56,0),\nIF(AN56=\"Défaite\",10+ROUNDDOWN(20*VLOOKUP(AK56,$A$8:$CB$107,42,FALSE)/VLOOKUP(AK56,$A$8:$H$107,8,FALSE),0),\nIF(AND(AN56=\"Nul\",$AP56<>$H56),40+(2*ROUNDDOWN(10*VLOOKUP(AK56,$A$8:$CB$107,42,FALSE)/VLOOKUP(AK56,$A$8:$H$107,8,FALSE),0)-ROUNDDOWN(10*AP56/$H56,0)),IF(AND(AN56=\"Nul\",$AP56=$H56),58,0))))","v":0},null,{"$f":"IF(AR56<>\"\",VLOOKUP(AR56,$A$8:$C$107,2,FALSE),\"\")","v":""},{"$f":"IF(AR56<>\"\",IF(AR56=$A56,\"ERR\",IF(OR(AR56=$I56,AR56=$P56,AR56=$W56,AR56=$AD56,AR56=$AK56),\"DUP\",IF(ISNA(VLOOKUP(AR56,$A$8:$A$107,1,FALSE)),\"ERR\",IF(COUNTIF($I$8:$I$107,AR56)>1,\"ERR\",IF($D56=VLOOKUP(AR56,$A$8:$D$107,4,FALSE),\"CLUB\",\"OK\"))))),\"\")","v":""},null,{"$f":"IF(AU56<>\"\",IF(AU56=\"Victoire\",IF(VLOOKUP(AR56,$A$8:$BL$107,47,FALSE)=\"Défaite\",\"OK\",\"ERR\"),IF(AU56=\"Défaite\",IF(VLOOKUP(AR56,$A$8:$BL$107,47,FALSE)=\"Victoire\",\"OK\",\"ERR\"),IF(AU56=\"Nul\",IF(VLOOKUP(AR56,$A$8:$BL$107,47,FALSE)=\"Nul\",\"OK\",\"ERR\")))),\"\")","v":""},null,{"$f":"IF(AU56=\"Victoire\",100-ROUNDDOWN(20*AW56/$H56,0),\nIF(AU56=\"Défaite\",10+ROUNDDOWN(20*VLOOKUP(AR56,$A$8:$CB$107,49,FALSE)/VLOOKUP(AR56,$A$8:$H$107,8,FALSE),0),\nIF(AND(AU56=\"Nul\",$AW56<>$H56),40+(2*ROUNDDOWN(10*VLOOKUP(AR56,$A$8:$CB$107,49,FALSE)/VLOOKUP(AR56,$A$8:$H$107,8,FALSE),0)-ROUNDDOWN(10*AW56/$H56,0)),IF(AND(AU56=\"Nul\",$AW56=$H56),58,0))))","v":0},null,{"$f":"IF(AY56<>\"\",VLOOKUP(AY56,$A$8:$C$107,2,FALSE),\"\")","v":""},{"$f":"IF(AY56<>\"\",IF(AY56=$A56,\"ERR\",IF(OR(AY56=$I56,AY56=$P56,AY56=$W56,AY56=$AD56,AY56=$AK56,AY56=$AR56),\"DUP\",IF(ISNA(VLOOKUP(AY56,$A$8:$A$107,1,FALSE)),\"ERR\",IF(COUNTIF($I$8:$I$107,AY56)>1,\"ERR\",IF($D56=VLOOKUP(AY56,$A$8:$D$107,4,FALSE),\"CLUB\",\"OK\"))))),\"\")","v":""},null,{"$f":"IF(BB56<>\"\",IF(BB56=\"Victoire\",IF(VLOOKUP(AY56,$A$8:$BL$107,54,FALSE)=\"Défaite\",\"OK\",\"ERR\"),IF(BB56=\"Défaite\",IF(VLOOKUP(AY56,$A$8:$BL$107,54,FALSE)=\"Victoire\",\"OK\",\"ERR\"),IF(BB56=\"Nul\",IF(VLOOKUP(AY56,$A$8:$BL$107,54,FALSE)=\"Nul\",\"OK\",\"ERR\")))),\"\")","v":""},null,{"$f":"IF(BB56=\"Victoire\",100-ROUNDDOWN(20*BD56/$H56,0),\nIF(BB56=\"Défaite\",10+ROUNDDOWN(20*VLOOKUP(AY56,$A$8:$CB$107,56,FALSE)/VLOOKUP(AY56,$A$8:$H$107,8,FALSE),0),\nIF(AND(BB56=\"Nul\",$BD56<>$H56),40+(2*ROUNDDOWN(10*VLOOKUP(AY56,$A$8:$CB$107,56,FALSE)/VLOOKUP(AY56,$A$8:$H$107,8,FALSE),0)-ROUNDDOWN(10*BD56/$H56,0)),IF(AND(BB56=\"Nul\",$BD56=$H56),58,0))))","v":0},null,{"$f":"IF(BF56<>\"\",VLOOKUP(BF56,$A$8:$C$107,2,FALSE),\"\")","v":""},{"$f":"IF(BF56<>\"\",IF(BF56=$A56,\"ERR\",IF(OR(BF56=$I56,BF56=$P56,BF56=$W56,BF56=$AD56,BF56=$AK56,BF56=$AR56,BF56=$AY56),\"DUP\",IF(ISNA(VLOOKUP(BF56,$A$8:$A$107,1,FALSE)),\"ERR\",IF(COUNTIF($I$8:$I$107,BF56)>1,\"ERR\",IF($D56=VLOOKUP(BF56,$A$8:$D$107,4,FALSE),\"CLUB\",\"OK\"))))),\"\")","v":""},null,{"$f":"IF(BI56<>\"\",IF(BI56=\"Victoire\",IF(VLOOKUP(BF56,$A$8:$BL$107,61,FALSE)=\"Défaite\",\"OK\",\"ERR\"),IF(BI56=\"Défaite\",IF(VLOOKUP(BF56,$A$8:$BL$107,61,FALSE)=\"Victoire\",\"OK\",\"ERR\"),IF(BI56=\"Nul\",IF(VLOOKUP(BF56,$A$8:$BL$107,61,FALSE)=\"Nul\",\"OK\",\"ERR\")))),\"\")","v":""},null,{"$f":"IF(BI56=\"Victoire\",100-ROUNDDOWN(20*BK56/$H56,0),\nIF(BI56=\"Défaite\",10+ROUNDDOWN(20*VLOOKUP(BF56,$A$8:$CB$107,63,FALSE)/VLOOKUP(BF56,$A$8:$H$107,8,FALSE),0),\nIF(AND(BI56=\"Nul\",$BK56<>$H56),40+(2*ROUNDDOWN(10*VLOOKUP(BF56,$A$8:$CB$107,63,FALSE)/VLOOKUP(BF56,$A$8:$H$107,8,FALSE),0)-ROUNDDOWN(10*BK56/$H56,0)),IF(AND(BI56=\"Nul\",$BK56=$H56),58,0))))","v":0},null,{"$f":"IF(BM56<>\"\",VLOOKUP(BM56,$A$8:$C$107,2,FALSE),\"\")","v":""},{"$f":"IF(BM56<>\"\",IF(BM56=$A56,\"ERR\",IF(OR(BM56=$I56,BM56=$P56,BM56=$W56,BM56=$AD56,BM56=$AK56,BM56=$AR56,BM56=$AY56,BM56=$BF56),\"DUP\",IF(ISNA(VLOOKUP(BM56,$A$8:$A$107,1,FALSE)),\"ERR\",IF(COUNTIF($I$8:$I$107,BM56)>1,\"ERR\",IF($D56=VLOOKUP(BM56,$A$8:$D$107,4,FALSE),\"CLUB\",\"OK\"))))),\"\")","v":""},null,{"$f":"IF(BP56<>\"\",IF(BP56=\"Victoire\",IF(VLOOKUP(BM56,$A$8:$BS$107,68,FALSE)=\"Défaite\",\"OK\",\"ERR\"),IF(BP56=\"Défaite\",IF(VLOOKUP(BM56,$A$8:$BS$107,68,FALSE)=\"Victoire\",\"OK\",\"ERR\"),IF(BP56=\"Nul\",IF(VLOOKUP(BM56,$A$8:$BS$107,68,FALSE)=\"Nul\",\"OK\",\"ERR\")))),\"\")","v":""},null,{"$f":"IF(BP56=\"Victoire\",100-ROUNDDOWN(20*BR56/$H56,0),\nIF(BP56=\"Défaite\",10+ROUNDDOWN(20*VLOOKUP(BM56,$A$8:$CB$107,70,FALSE)/VLOOKUP(BM56,$A$8:$H$107,8,FALSE),0),\nIF(AND(BP56=\"Nul\",$BR56<>$H56),40+(2*ROUNDDOWN(10*VLOOKUP(BM56,$A$8:$CB$107,70,FALSE)/VLOOKUP(BM56,$A$8:$H$107,8,FALSE),0)-ROUNDDOWN(10*BR56/$H56,0)),IF(AND(BP56=\"Nul\",$BR56=$H56),58,0))))","v":0},null,{"$f":"IF($I56<>\"\",VLOOKUP($I56,$A$8:$N$107,5,FALSE),0)+IF($P56<>\"\",VLOOKUP($P56,$A$8:$N$107,5,FALSE),0)+IF($W56<>\"\",VLOOKUP($W56,$A$8:$N$107,5,FALSE),0)+IF($AD56<>\"\",VLOOKUP($AD56,$A$8:$N$107,5,FALSE),0)+IF($AK56<>\"\",VLOOKUP($AK56,$A$8:$N$107,5,FALSE),0)+IF($AR56<>\"\",VLOOKUP($AR56,$A$8:$N$107,5,FALSE),0)+IF($AY56<>\"\",VLOOKUP($AY56,$A$8:$N$107,5,FALSE),0)+IF($BF56<>\"\",VLOOKUP($BF56,$A$8:$N$107,5,FALSE),0)+IF($BM56<>\"\",VLOOKUP($BM56,$A$8:$N$107,5,FALSE),0)","v":0}]
[{"$nulls":4},0,null,{"$f":"IF($F57<>\"\",VLOOKUP(F57,Armies!$A$1:$C$300,3,FALSE),\"\")","v":""},null,null,{"$f":"IF(I57<>\"\",VLOOKUP(I57,$A$8:$C$107,2,FALSE),\"\")","v":""},{"$f":"IF(I57<>\"\",IF(I57=$A57,\"ERR\",IF(OR(I57=$P57,I57=$W57,I57=$AD57,I57=$AK57),\"DUP\",IF(ISNA(VLOOKUP(I57,$A$8:$A$107,1,FALSE)),\"ERR\",IF(COUNTIF($I$8:$I$107,I57)>1,\"ERR\",IF($D57=VLOOKUP(I57,$A$8:$D$107,4,FALSE),\"CLUB\",\"OK\"))))),\"\")","v":""},null,{"$f":"IF(L57<>\"\",IF(L57=\"Victoire\",IF(VLOOKUP(I57,$A$8:$L$107,12,FALSE)=\"Défaite\",\"OK\",\"ERR\"),IF(L57=\"Défaite\",IF(VLOOKUP(I57,$A$8:$L$107,12,FALSE)=\"Victoire\",\"OK\",\"ERR\"),IF(L57=\"Nul\",IF(VLOOKUP(I57,$A$8:$L$107,12,FALSE)=\"Nul\",\"OK\",\"ERR\")))),\"\")","v":""},null,{"$f":"IF(L57=\"Victoire\",100-ROUNDDOWN(20*N57/$H57,0),\nIF(L57=\"Défaite\",10+ROUNDDOWN(20*VLOOKUP(I57,$A$8:$N$107,14,FALSE)/VLOOKUP(I57,$A$8:$H$107,8,FALSE),0),\nIF(AND(L57=\"Nul\",$N57<>$H57),40+(2*ROUNDDOWN(10*VLOOKUP(I57,$A$8:$N$107,14,FALSE)/VLOOKUP(I57,$A$8:$H$107,8,FALSE),0)-ROUNDDOWN(10*N57/$H57,0)),IF(AND(L57=\"Nul\",$N57=$H57),58,0))))","v":0},null,{"$f":"IF(P57<>\"\",VLOOKUP(P57,$A$8:$C$107,2,FALSE),\"\")","v":""},{"$f":"IF(P57<>\"\",IF(P57=$A57,\"ERR\",IF(OR(P57=$I57,P57=$W57,P57=$AD57,P57=$AK57),\"DUP\",IF(ISNA(VLOOKUP(P57,$A$8:$A$107,1,FALSE)),\"ERR\",IF(COUNTIF($I$8:$I$107,P57)>1,\"ERR\",IF($D57=VLOOKUP(P57,$A$8:$D$107,4,FALSE),\"CLUB\",\"OK\"))))),\"\")","v":""},null,{"$f":"IF(S57<>\"\",IF(S57=\"Victoire\",IF(VLOOKUP(P57,$A$8:$AO$107,19,FALSE)=\"Défaite\",\"OK\",\"ERR\"),IF(S57=\"Défaite\",IF(VLOOKUP(P57,$A$8:$AO$107,19,FALSE)=\"Victoire\",\"OK\",\"ERR\"),IF(S57=\"Nul\",IF(VLOOKUP(P57,$A$8:$AO$107,19,FALSE)=\"Nul\",\"OK\",\"ERR\")))),\"\")","v":""},null,{"$f":"IF(S57=\"Victoire\",100-ROUNDDOWN(20*U57/$H57,0),\nIF(S57=\"Défaite\",10+ROUNDDOWN(20*VLOOKUP(P57,$A$8:$AO$107,21,FALSE)/VLOOKUP(P57,$A$8:$H$107,8,FALSE),0),\nIF(AND(S57=\"Nul\",$U57<>$H57),40+(2*ROUNDDOWN(10*VLOOKUP(P57,$A$8:$AO$107,21,FALSE)/VLOOKUP(P57,$A$8:$H$107,8,FALSE),0)-ROUNDDOWN(10*U57/$H57,0)),IF(AND(S57=\"Nul\",$U57=$H57),58,0))))","v":0},null,{"$f":"IF(W57<>\"\",VLOOKUP(W57,$A$8:$C$107,2,FALSE),\"\")","v":""},{"$f":"IF(W57<>\"\",IF(W57=$A57,\"ERR\",IF(OR(W57=$P57,W57=$I57,W57=$AD57,W57=$AK57),\"DUP\",IF(ISNA(VLOOKUP(W57,$A$8:$A$107,1,FALSE)),\"ERR\",IF(COUNTIF($I$8:$I$107,W57)>1,\"ERR\",IF($D57=VLOOKUP(W57,$A$8:$D$107,4,FALSE),\"CLUB\",\"OK\"))))),\"\")","v":""},null,{"$f":"IF(Z57<>\"\",IF(Z57=\"Victoire\",IF(VLOOKUP(W57,$A$8:$AO$107,26,FALSE)=\"Défaite\",\"OK\",\"ERR\"),IF(Z57=\"Défaite\",IF(VLOOKUP(W57,$A$8:$AO$107,26,FALSE)=\"Victoire\",\"OK\",\"ERR\"),IF(Z57=\"Nul\",IF(VLOOKUP(W57,$A$8:$AO$107,26,FALSE)=\"Nul\",\"OK\",\"ERR\")))),\"\")","v":""},null,{"$f":"IF(Z57=\"Victoire\",100-ROUNDDOWN(20*AB57/$H57,0),\nIF(Z57=\"Défaite\",10+ROUNDDOWN(20*VLOOKUP(W57,$A$8:$AO$107,28,FALSE)/VLOOKUP(W57,$A$8:$H$107,8,FALSE),0),\nIF(AND(Z57=\"Nul\",$AB57<>$H57),40+(2*ROUNDDOWN(10*VLOOKUP(W57,$A$8:$AO$107,28,FALSE)/VLOOKUP(W57,$A$8:$H$107,8,FALSE),0)-ROUNDDOWN(10*AB57/$H57,0)),IF(AND(Z57=\"Nul\",$AB57=$H57),58,0))))","v":0},null,{"$f":"IF(AD57<>\"\",VLOOKUP(AD57,$A$8:$C$107,2,FALSE),\"\")","v":""},{"$f":"IF(AD57<>\"\",IF(AD57=$A57,\"ERR\",IF(OR(AD57=$P57,AD57=$W57,AD57=$I57,AD57=$AK57),\"DUP\",IF(ISNA(VLOOKUP(AD57,$A$8:$A$107,1,FALSE)),\"ERR\",IF(COUNTIF($I$8:$I$107,AD57)>1,\"ERR\",IF($D57=VLOOKUP(AD57,$A$8:$D$107,4,FALSE),\"CLUB\",\"OK\"))))),\"\")","v":""},null,{"$f":"IF(AG57<>\"\",IF(AG57=\"Victoire\",IF(VLOOKUP(AD57,$A$8:$AO$107,33,FALSE)=\"Défaite\",\"OK\",\"ERR\"),IF(AG57=\"Défaite\",IF(VLOOKUP(AD57,$A$8:$AO$107,33,FALSE)=\"Victoire\",\"OK\",\"ERR\"),IF(AG57=\"Nul\",IF(VLOOKUP(AD57,$A$8:$AO$107,33,FALSE)=\"Nul\",\"OK\",\"ERR\")))),\"\")","v":""},null,{"$f":"IF(AG57=\"Victoire\",100-ROUNDDOWN(20*AI57/$H57,0),\nIF(AG57=\"Défaite\",10+ROUNDDOWN(20*VLOOKUP(AD57,$A$8:$AO$107,35,FALSE)/VLOOKUP(AD57,$A$8:$H$107,8,FALSE),0),\nIF(AND(AG57=\"Nul\",$AI57<>$H57),40+(2*ROUNDDOWN(10*VLOOKUP(AD57,$A$8:$AO$107,35,FALSE)/VLOOKUP(AD57,$A$8:$H$107,8,FALSE),0)-ROUNDDOWN(10*AI57/$H57,0)),IF(AND(AG57=\"Nul\",$AI57=$H57),58,0))))","v":0},null,{"$f":"IF(AK57<>\"\",VLOOKUP(AK57,$A$8:$C$107,2,FALSE),\"\")","v":""},{"$f":"IF(AK57<>\"\",IF(AK57=$A57,\"ERR\",IF(OR(AK57=$P57,AK57=$W57,AK57=$AD57,AK57=$I57),\"DUP\",IF(ISNA(VLOOKUP(AK57,$A$8:$A$107,1,FALSE)),\"ERR\",IF(COUNTIF($I$8:$I$107,AK57)>1,\"ERR\",IF($D57=VLOOKUP(AK57,$A$8:$D$107,4,FALSE),\"CLUB\",\"OK\"))))),\"\")","v":""},null,{"$f":"IF(AN57<>\"\",IF(AN57=\"Victoire\",IF(VLOOKUP(AK57,$A$8:$AO$107,40,FALSE)=\"Défaite\",\"OK\",\"ERR\"),IF(AN57=\"Défaite\",IF(VLOOKUP(AK57,$A$8:$AO$107,40,FALSE)=\"Victoire\",\"OK\",\"ERR\"),IF(AN57=\"Nul\",IF(VLOOKUP(AK57,$A$8:$AO$107,40,FALSE)=\"Nul\",\"OK\",\"ERR\")))),\"\")","v":""},null,{"$f":"IF(AN57=\"Victoire\",100-ROUNDDOWN(20*AP57/$H57,0),\nIF(AN57=\"Défaite\",10+ROUNDDOWN(20*VLOOKUP(AK57,$A$8:$CB$107,42,FALSE)/VLOOKUP(AK57,$A$8:$H$107,8,FALSE),0),\nIF(AND(AN57=\"Nul\",$AP57<>$H57),40+(2*ROUNDDOWN(10*VLOOKUP(AK57,$A$8:$CB$107,42,FALSE)/VLOOKUP(AK57,$A$8:$H$107,8,FALSE),0)-ROUNDDOWN(10*AP57/$H57,0)),IF(AND(AN57=\"Nul\",$AP57=$H57),58,0))))","v":0},null,{"$f":"IF(AR57<>\"\",VLOOKUP(AR57,$A$8:$C$107,2,FALSE),\"\")","v":""},{"$f":"IF(AR57<>\"\",IF(AR57=$A57,\"ERR\",IF(OR(AR57=$I57,AR57=$P57,AR57=$W57,AR57=$AD57,AR57=$AK57),\"DUP\",IF(ISNA(VLOOKUP(AR57,$A$8:$A$107,1,FALSE)),\"ERR\",IF(COUNTIF($I$8:$I$107,AR57)>1,\"ERR\",IF($D57=VLOOKUP(AR57,$A$8:$D$107,4,FALSE),\"CLUB\",\"OK\"))))),\"\")","v":""},null,{"$f":"IF(AU57<>\"\",IF(AU57=\"Victoire\",IF(VLOOKUP(AR57,$A$8:$BL$107,47,FALSE)=\"Défaite\",\"OK\",\"ERR\"),IF(AU57=\"Défaite\",IF(VLOOKUP(AR57,$A$8:$BL$107,47,FALSE)=\"Victoire\",\"OK\",\"ERR\"),IF(AU57=\"Nul\",IF(VLOOKUP(AR57,$A$8:$BL$107,47,FALSE)=\"Nul\",\"OK\",\"ERR\")))),\"\")","v":""},null,{"$f":"IF(AU57=\"Victoire\",100-ROUNDDOWN(20*AW57/$H57,0),\nIF(AU57=\"Défaite\",10+ROUNDDOWN(20*VLOOKUP(AR57,$A$8:$CB$107,49,FALSE)/VLOOKUP(AR57,$A$8:$H$107,8,FALSE),0),\nIF(AND(AU57=\"Nul\",$AW57<>$H57),40+(2*ROUNDDOWN(10*VLOOKUP(AR57,$A$8:$CB$107,49,FALSE)/VLOOKUP(AR57,$A$8:$H$107,8,FALSE),0)-ROUNDDOWN(10*AW57/$H57,0)),IF(AND(AU57=\"Nul\",$AW57=$H57),58,0))))","v":0},null,{"$f":"IF(AY57<>\"\",VLOOKUP(AY57,$A$8:$C$107,2,FALSE),\"\")","v":""},{"$f":"IF(AY57<>\"\",IF(AY57=$A57,\"ERR\",IF(OR(AY57=$I57,AY57=$P57,AY57=$W57,AY57=$AD57,AY57=$AK57,AY57=$AR57),\"DUP\",IF(ISNA(VLOOKUP(AY57,$A$8:$A$107,1,FALSE)),\"ERR\",IF(COUNTIF($I$8:$I$107,AY57)>1,\"ERR\",IF($D57=VLOOKUP(AY57,$A$8:$D$107,4,FALSE),\"CLUB\",\"OK\"))))),\"\")","v":""},null,{"$f":"IF(BB57<>\"\",IF(BB57=\"Victoire\",IF(VLOOKUP(AY57,$A$8:$BL$107,54,FALSE)=\"Défaite\",\"OK\",\"ERR\"),IF(BB57=\"Défaite\",IF(VLOOKUP(AY57,$A$8:$BL$107,54,FALSE)=\"Victoire\",\"OK\",\"ERR\"),IF(BB57=\"Nul\",IF(VLOOKUP(AY57,$A$8:$BL$107,54,FALSE)=\"Nul\",\"OK\",\"ERR\")))),\"\")","v":""},null,{"$f":"IF(BB57=\"Victoire\",100-ROUNDDOWN(20*BD57/$H57,0),\nIF(BB57=\"Défaite\",10+ROUNDDOWN(20*VLOOKUP(AY57,$A$8:$CB$107,56,FALSE)/VLOOKUP(AY57,$A$8:$H$107,8,FALSE),0),\nIF(AND(BB57=\"Nul\",$BD57<>$H57),40+(2*ROUNDDOWN(10*VLOOKUP(AY57,$A$8:$CB$107,56,FALSE)/VLOOKUP(AY57,$A$8:$H$107,8,FALSE),0)-ROUNDDOWN(10*BD57/$H57,0)),IF(AND(BB57=\"Nul\",$BD57=$H57),58,0))))","v":0},null,{"$f":"IF(BF57<>\"\",VLOOKUP(BF57,$A$8:$C$107,2,FALSE),\"\")","v":""},{"$f":"IF(BF57<>\"\",IF(BF57=$A57,\"ERR\",IF(OR(BF57=$I57,BF57=$P57,BF57=$W57,BF57=$AD57,BF57=$AK57,BF57=$AR57,BF57=$AY57),\"DUP\",IF(ISNA(VLOOKUP(BF57,$A$8:$A$107,1,FALSE)),\"ERR\",IF(COUNTIF($I$8:$I$107,BF57)>1,\"ERR\",IF($D57=VLOOKUP(BF57,$A$8:$D$107,4,FALSE),\"CLUB\",\"OK\"))))),\"\")","v":""},null,{"$f":"IF(BI57<>\"\",IF(BI57=\"Victoire\",IF(VLOOKUP(BF57,$A$8:$BL$107,61,FALSE)=\"Défaite\",\"OK\",\"ERR\"),IF(BI57=\"Défaite\",IF(VLOOKUP(BF57,$A$8:$BL$107,61,FALSE)=\"Victoire\",\"OK\",\"ERR\"),IF(BI57=\"Nul\",IF(VLOOKUP(BF57,$A$8:$BL$107,61,FALSE)=\"Nul\",\"OK\",\"ERR\")))),\"\")","v":""},null,{"$f":"IF(BI57=\"Victoire\",100-ROUNDDOWN(20*BK57/$H57,0),\nIF(BI57=\"Défaite\",10+ROUNDDOWN(20*VLOOKUP(BF57,$A$8:$CB$107,63,FALSE)/VLOOKUP(BF57,$A$8:$H$107,8,FALSE),0),\nIF(AND(BI57=\"Nul\",$BK57<>$H57),40+(2*ROUNDDOWN(10*VLOOKUP(BF57,$A$8:$CB$107,63,FALSE)/VLOOKUP(BF57,$A$8:$H$107,8,FALSE),0)-ROUNDDOWN(10*BK57/$H57,0)),IF(AND(BI57=\"Nul\",$BK57=$H57),58,0))))","v":0},null,{"$f":"IF(BM57<>\"\",VLOOKUP(BM57,$A$8:$C$107,2,FALSE),\"\")","v":""},{"$f":"IF(BM57<>\"\",IF(BM57=$A57,\"ERR\",IF(OR(BM57=$I57,BM57=$P57,BM57=$W57,BM57=$AD57,BM57=$AK57,BM57=$AR57,BM57=$AY57,BM57=$BF57),\"DUP\",IF(ISNA(VLOOKUP(BM57,$A$8:$A$107,1,FALSE)),\"ERR\",IF(COUNTIF($I$8:$I$107,BM57)>1,\"ERR\",IF($D57=VLOOKUP(BM57,$A$8:$D$107,4,FALSE),\"CLUB\",\"OK\"))))),\"\")","v":""},null,{"$f":"IF(BP57<>\"\",IF(BP57=\"Victoire\",IF(VLOOKUP(BM57,$A$8:$BS$107,68,FALSE)=\"Défaite\",\"OK\",\"ERR\"),IF(BP57=\"Défaite\",IF(VLOOKUP(BM57,$A$8:$BS$107,68,FALSE)=\"Victoire\",\"OK\",\"ERR\"),IF(BP57=\"Nul\",IF(VLOOKUP(BM57,$A$8:$BS$107,68,FALSE)=\"Nul\",\"OK\",\"ERR\")))),\"\")","v":""},null,{"$f":"IF(BP57=\"Victoire\",100-ROUNDDOWN(20*BR57/$H57,0),\nIF(BP57=\"Défaite\",10+ROUNDDOWN(20*VLOOKUP(BM57,$A$8:$CB$107,70,FALSE)/VLOOKUP(BM57,$A$8:$H$107,8,FALSE),0),\nIF(AND(BP57=\"Nul\",$BR57<>$H57),40+(2*ROUNDDOWN(10*VLOOKUP(BM57,$A$8:$CB$107,70,FALSE)/VLOOKUP(BM57,$A$8:$H$107,8,FALSE),0)-ROUNDDOWN(10*BR57/$H57,0)),IF(AND(BP57=\"Nul\",$BR57=$H57),58,0))))","v":0},null,{"$f":"IF($I57<>\"\",VLOOKUP($I57,$A$8:$N$107,5,FALSE),0)+IF($P57<>\"\",VLOOKUP($P57,$A$8:$N$107,5,FALSE),0)+IF($W57<>\"\",VLOOKUP($W57,$A$8:$N$107,5,FALSE),0)+IF($AD57<>\"\",VLOOKUP($AD57,$A$8:$N$107,5,FALSE),0)+IF($AK57<>\"\",VLOOKUP($AK57,$A$8:$N$107,5,FALSE),0)+IF($AR57<>\"\",VLOOKUP($AR57,$A$8:$N$107,5,FALSE),0)+IF($AY57<>\"\",VLOOKUP($AY57,$A$8:$N$107,5,FALSE),0)+IF($BF57<>\"\",VLOOKUP($BF57,$A$8:$N$107,5,FALSE),0)+IF($BM57<>\"\",VLOOKUP($BM57,$A$8:$N$107,5,FALSE),0)","v":0}]
[{"$nulls":4},0,null,{"$f":"IF($F58<>\"\",VLOOKUP(F58,Armies!$A$1:$C$300,3,FALSE),\"\")","v":""},null,null,{"$f":"IF(I58<>\"\",VLOOKUP(I58,$A$8:$C$107,2,FALSE),\"\")","v":""},{"$f":"IF(I58<>\"\",IF(I58=$A58,\"ERR\",IF(OR(I58=$P58,I58=$W58,I58=$AD58,I58=$AK58),\"DUP\",IF(ISNA(VLOOKUP(I58,$A$8:$A$107,1,FALSE)),\"ERR\",IF(COUNTIF($I$8:$I$107,I58)>1,\"ERR\",IF($D58=VLOOKUP(I58,$A$8:$D$107,4,FALSE),\"CLUB\",\"OK\"))))),\"\")","v":""},null,{"$f":"IF(L58<>\"\",IF(L58=\"Victoire\",IF(VLOOKUP(I58,$A$8:$L$107,12,FALSE)=\"Défaite\",\"OK\",\"ERR\"),IF(L58=\"Défaite\",IF(VLOOKUP(I58,$A$8:$L$107,12,FALSE)=\"Victoire\",\"OK\",\"ERR\"),IF(L58=\"Nul\",IF(VLOOKUP(I58,$A$8:$L$107,12,FALSE)=\"Nul\",\"OK\",\"ERR\")))),\"\")","v":""},null,{"$f":"IF(L58=\"Victoire\",100-ROUNDDOWN(20*N58/$H58,0),\nIF(L58=\"Défaite\",10+ROUNDDOWN(20*VLOOKUP(I58,$A$8:$N$107,14,FALSE)/VLOOKUP(I58,$A$8:$H$107,8,FALSE),0),\nIF(AND(L58=\"Nul\",$N58<>$H58),40+(2*ROUNDDOWN(10*VLOOKUP(I58,$A$8:$N$107,14,FALSE)/VLOOKUP(I58,$A$8:$H$107,8,FALSE),0)-ROUNDDOWN(10*N58/$H58,0)),IF(AND(L58=\"Nul\",$N58=$H58),58,0))))","v":0},null,{"$f":"IF(P58<>\"\",VLOOKUP(P58,$A$8:$C$107,2,FALSE),\"\")","v":""},{"$f":"IF(P58<>\"\",IF(P58=$A58,\"ERR\",IF(OR(P58=$I58,P58=$W58,P58=$AD58,P58=$AK58),\"DUP\",IF(ISNA(VLOOKUP(P58,$A$8:$A$107,1,FALSE)),\"ERR\",IF(COUNTIF($I$8:$I$107,P58)>1,\"ERR\",IF($D58=VLOOKUP(P58,$A$8:$D$107,4,FALSE),\"CLUB\",\"OK\"))))),\"\")","v":""},null,{"$f":"IF(S58<>\"\",IF(S58=\"Victoire\",IF(VLOOKUP(P58,$A$8:$AO$107,19,FALSE)=\"Défaite\",\"OK\",\"ERR\"),IF(S58=\"Défaite\",IF(VLOOKUP(P58,$A$8:$AO$107,19,FALSE)=\"Victoire\",\"OK\",\"ERR\"),IF(S58=\"Nul\",IF(VLOOKUP(P58,$A$8:$AO$107,19,FALSE)=\"Nul\",\"OK\",\"ERR\")))),\"\")","v":""},null,{"$f":"IF(S58=\"Victoire\",100-ROUNDDOWN(20*U58/$H58,0),\nIF(S58=\"Défaite\",10+ROUNDDOWN(20*VLOOKUP(P58,$A$8:$AO$107,21,FALSE)/VLOOKUP(P58,$A$8:$H$107,8,FALSE),0),\nIF(AND(S58=\"Nul\",$U58<>$H58),40+(2*ROUNDDOWN(10*VLOOKUP(P58,$A$8:$AO$107,21,FALSE)/VLOOKUP(P58,$A$8:$H$107,8,FALSE),0)-ROUNDDOWN(10*U58/$H58,0)),IF(AND(S58=\"Nul\",$U58=$H58),58,0))))","v":0},null,{"$f":"IF(W58<>\"\",VLOOKUP(W58,$A$8:$C$107,2,FALSE),\"\")","v":""},{"$f":"IF(W58<>\"\",IF(W58=$A58,\"ERR\",IF(OR(W58=$P58,W58=$I58,W58=$AD58,W58=$AK58),\"DUP\",IF(ISNA(VLOOKUP(W58,$A$8:$A$107,1,FALSE)),\"ERR\",IF(COUNTIF($I$8:$I$107,W58)>1,\"ERR\",IF($D58=VLOOKUP(W58,$A$8:$D$107,4,FALSE),\"CLUB\",\"OK\"))))),\"\")","v":""},null,{"$f":"IF(Z58<>\"\",IF(Z58=\"Victoire\",IF(VLOOKUP(W58,$A$8:$AO$107,26,FALSE)=\"Défaite\",\"OK\",\"ERR\"),IF(Z58=\"Défaite\",IF(VLOOKUP(W58,$A$8:$AO$107,26,FALSE)=\"Victoire\",\"OK\",\"ERR\"),IF(Z58=\"Nul\",IF(VLOOKUP(W58,$A$8:$AO$107,26,FALSE)=\"Nul\",\"OK\",\"ERR\")))),\"\")","v":""},null,{"$f":"IF(Z58=\"Victoire\",100-ROUNDDOWN(20*AB58/$H58,0),\nIF(Z58=\"Défaite\",10+ROUNDDOWN(20*VLOOKUP(W58,$A$8:$AO$107,28,FALSE)/VLOOKUP(W58,$A$8:$H$107,8,FALSE),0),\nIF(AND(Z58=\"Nul\",$AB58<>$H58),40+(2*ROUNDDOWN(10*VLOOKUP(W58,$A$8:$AO$107,28,FALSE)/VLOOKUP(W58,$A$8:$H$107,8,FALSE),0)-ROUNDDOWN(10*AB58/$H58,0)),IF(AND(Z58=\"Nul\",$AB58=$H58),58,0))))","v":0},null,{"$f":"IF(AD58<>\"\",VLOOKUP(AD58,$A$8:$C$107,2,FALSE),\"\")","v":""},{"$f":"IF(AD58<>\"\",IF(AD58=$A58,\"ERR\",IF(OR(AD58=$P58,AD58=$W58,AD58=$I58,AD58=$AK58),\"DUP\",IF(ISNA(VLOOKUP(AD58,$A$8:$A$107,1,FALSE)),\"ERR\",IF(COUNTIF($I$8:$I$107,AD58)>1,\"ERR\",IF($D58=VLOOKUP(AD58,$A$8:$D$107,4,FALSE),\"CLUB\",\"OK\"))))),\"\")","v":""},null,{"$f":"IF(AG58<>\"\",IF(AG58=\"Victoire\",IF(VLOOKUP(AD58,$A$8:$AO$107,33,FALSE)=\"Défaite\",\"OK\",\"ERR\"),IF(AG58=\"Défaite\",IF(VLOOKUP(AD58,$A$8:$AO$107,33,FALSE)=\"Victoire\",\"OK\",\"ERR\"),IF(AG58=\"Nul\",IF(VLOOKUP(AD58,$A$8:$AO$107,33,FALSE)=\"Nul\",\"OK\",\"ERR\")))),\"\")","v":""},null,{"$f":"IF(AG58=\"Victoire\",100-ROUNDDOWN(20*AI58/$H58,0),\nIF(AG58=\"Défaite\",10+ROUNDDOWN(20*VLOOKUP(AD58,$A$8:$AO$107,35,FALSE)/VLOOKUP(AD58,$A$8:$H$107,8,FALSE),0),\nIF(AND(AG58=\"Nul\",$AI58<>$H58),40+(2*ROUNDDOWN(10*VLOOKUP(AD58,$A$8:$AO$107,35,FALSE)/VLOOKUP(AD58,$A$8:$H$107,8,FALSE),0)-ROUNDDOWN(10*AI58/$H58,0)),IF(AND(AG58=\"Nul\",$AI58=$H58),58,0))))","v":0},null,{"$f":"IF(AK58<>\"\",VLOOKUP(AK58,$A$8:$C$107,2,FALSE),\"\")","v":""},{"$f":"IF(AK58<>\"\",IF(AK58=$A58,\"ERR\",IF(OR(AK58=$P58,AK58=$W58,AK58=$AD58,AK58=$I58),\"DUP\",IF(ISNA(VLOOKUP(AK58,$A$8:$A$107,1,FALSE)),\"ERR\",IF(COUNTIF($I$8:$I$107,AK58)>1,\"ERR\",IF($D58=VLOOKUP(AK58,$A$8:$D$107,4,FALSE),\"CLUB\",\"OK\"))))),\"\")","v":""},null,{"$f":"IF(AN58<>\"\",IF(AN58=\"Victoire\",IF(VLOOKUP(AK58,$A$8:$AO$107,40,FALSE)=\"Défaite\",\"OK\",\"ERR\"),IF(AN58=\"Défaite\",IF(VLOOKUP(AK58,$A$8:$AO$107,40,FALSE)=\"Victoire\",\"OK\",\"ERR\"),IF(AN58=\"Nul\",IF(VLOOKUP(AK58,$A$8:$AO$107,40,FALSE)=\"Nul\",\"OK\",\"ERR\")))),\"\")","v":""},null,{"$f":"IF(AN58=\"Victoire\",100-ROUNDDOWN(20*AP58/$H58,0),\nIF(AN58=\"Défaite\",10+ROUNDDOWN(20*VLOOKUP(AK58,$A$8:$CB$107,42,FALSE)/VLOOKUP(AK58,$A$8:$H$107,8,FALSE),0),\nIF(AND(AN58=\"Nul\",$AP58<>$H58),40+(2*ROUNDDOWN(10*VLOOKUP(AK58,$A$8:$CB$107,42,FALSE)/VLOOKUP(AK58,$A$8:$H$107,8,FALSE),0)-ROUNDDOWN(10*AP58/$H58,0)),IF(AND(AN58=\"Nul\",$AP58=$H58),58,0))))","v":0},null,{"$f":"IF(AR58<>\"\",VLOOKUP(AR58,$A$8:$C$107,2,FALSE),\"\")","v":""},{"$f":"IF(AR58<>\"\",IF(AR58=$A58,\"ERR\",IF(OR(AR58=$I58,AR58=$P58,AR58=$W58,AR58=$AD58,AR58=$AK58),\"DUP\",IF(ISNA(VLOOKUP(AR58,$A$8:$A$107,1,FALSE)),\"ERR\",IF(COUNTIF($I$8:$I$107,AR58)>1,\"ERR\",IF($D58=VLOOKUP(AR58,$A$8:$D$107,4,FALSE),\"CLUB\",\"OK\"))))),\"\")","v":""},null,{"$f":"IF(AU58<>\"\",IF(AU58=\"Victoire\",IF(VLOOKUP(AR58,$A$8:$BL$107,47,FALSE)=\"Défaite\",\"OK\",\"ERR\"),IF(AU58=\"Défaite\",IF(VLOOKUP(AR58,$A$8:$BL$107,47,FALSE)=\"Victoire\",\"OK\",\"ERR\"),IF(AU58=\"Nul\",IF(VLOOKUP(AR58,$A$8:$BL$107,47,FALSE)=\"Nul\",\"OK\",\"ERR\")))),\"\")","v":""},null,{"$f":"IF(AU58=\"Victoire\",100-ROUNDDOWN(20*AW58/$H58,0),\nIF(AU58=\"Défaite\",10+ROUNDDOWN(20*VLOOKUP(AR58,$A$8:$CB$107,49,FALSE)/VLOOKUP(AR58,$A$8:$H$107,8,FALSE),0),\nIF(AND(AU58=\"Nul\",$AW58<>$H58),40+(2*ROUNDDOWN(10*VLOOKUP(AR58,$A$8:$CB$107,49,FALSE)/VLOOKUP(AR58,$A$8:$H$107,8,FALSE),0)-ROUNDDOWN(10*AW58/$H58,0)),IF(AND(AU58=\"Nul\",$AW58=$H58),58,0))))","v":0},null,{"$f":"IF(AY58<>\"\",VLOOKUP(AY58,$A$8:$C$107,2,FALSE),\"\")","v":""},{"$f":"IF(AY58<>\"\",IF(AY58=$A58,\"ERR\",IF(OR(AY58=$I58,AY58=$P58,AY58=$W58,AY58=$AD58,AY58=$AK58,AY58=$AR58),\"DUP\",IF(ISNA(VLOOKUP(AY58,$A$8:$A$107,1,FALSE)),\"ERR\",IF(COUNTIF($I$8:$I$107,AY58)>1,\"ERR\",IF($D58=VLOOKUP(AY58,$A$8:$D$107,4,FALSE),\"CLUB\",\"OK\"))))),\"\")","v":""},null,{"$f":"IF(BB58<>\"\",IF(BB58=\"Victoire\",IF(VLOOKUP(AY58,$A$8:$BL$107,54,FALSE)=\"Défaite\",\"OK\",\"ERR\"),IF(BB58=\"Défaite\",IF(VLOOKUP(AY58,$A$8:$BL$107,54,FALSE)=\"Victoire\",\"OK\",\"ERR\"),IF(BB58=\"Nul\",IF(VLOOKUP(AY58,$A$8:$BL$107,54,FALSE)=\"Nul\",\"OK\",\"ERR\")))),\"\")","v":""},null,{"$f":"IF(BB58=\"Victoire\",100-ROUNDDOWN(20*BD58/$H58,0),\nIF(BB58=\"Défaite\",10+ROUNDDOWN(20*VLOOKUP(AY58,$A$8:$CB$107,56,FALSE)/VLOOKUP(AY58,$A$8:$H$107,8,FALSE),0),\nIF(AND(BB58=\"Nul\",$BD58<>$H58),40+(2*ROUNDDOWN(10*VLOOKUP(AY58,$A$8:$CB$107,56,FALSE)/VLOOKUP(AY58,$A$8:$H$107,8,FALSE),0)-ROUNDDOWN(10*BD58/$H58,0)),IF(AND(BB58=\"Nul\",$BD58=$H58),58,0))))","v":0},null,{"$f":"IF(BF58<>\"\",VLOOKUP(BF58,$A$8:$C$107,2,FALSE),\"\")","v":""},{"$f":"IF(BF58<>\"\",IF(BF58=$A58,\"ERR\",IF(OR(BF58=$I58,BF58=$P58,BF58=$W58,BF58=$AD58,BF58=$AK58,BF58=$AR58,BF58=$AY58),\"DUP\",IF(ISNA(VLOOKUP(BF58,$A$8:$A$107,1,FALSE)),\"ERR\",IF(COUNTIF($I$8:$I$107,BF58)>1,\"ERR\",IF($D58=VLOOKUP(BF58,$A$8:$D$107,4,FALSE),\"CLUB\",\"OK\"))))),\"\")","v":""},null,{"$f":"IF(BI58<>\"\",IF(BI58=\"Victoire\",IF(VLOOKUP(BF58,$A$8:$BL$107,61,FALSE)=\"Défaite\",\"OK\",\"ERR\"),IF(BI58=\"Défaite\",IF(VLOOKUP(BF58,$A$8:$BL$107,61,FALSE)=\"Victoire\",\"OK\",\"ERR\"),IF(BI58=\"Nul\",IF(VLOOKUP(BF58,$A$8:$BL$107,61,FALSE)=\"Nul\",\"OK\",\"ERR\")))),\"\")","v":""},null,{"$f":"IF(BI58=\"Victoire\",100-ROUNDDOWN(20*BK58/$H58,0),\nIF(BI58=\"Défaite\",10+ROUNDDOWN(20*VLOOKUP(BF58,$A$8:$CB$107,63,FALSE)/VLOOKUP(BF58,$A$8:$H$107,8,FALSE),0),\nIF(AND(BI58=\"Nul\",$BK58<>$H58),40+(2*ROUNDDOWN(10*VLOOKUP(BF58,$A$8:$CB$107,63,FALSE)/VLOOKUP(BF58,$A$8:$H$107,8,FALSE),0)-ROUNDDOWN(10*BK58/$H58,0)),IF(AND(BI58=\"Nul\",$BK58=$H58),58,0))))","v":0},null,{"$f":"IF(BM58<>\"\",VLOOKUP(BM58,$A$8:$C$107,2,FALSE),\"\")","v":""},{"$f":"IF(BM58<>\"\",IF(BM58=$A58,\"ERR\",IF(OR(BM58=$I58,BM58=$P58,BM58=$W58,BM58=$AD58,BM58=$AK58,BM58=$AR58,BM58=$AY58,BM58=$BF58),\"DUP\",IF(ISNA(VLOOKUP(BM58,$A$8:$A$107,1,FALSE)),\"ERR\",IF(COUNTIF($I$8:$I$107,BM58)>1,\"ERR\",IF($D58=VLOOKUP(BM58,$A$8:$D$107,4,FALSE),\"CLUB\",\"OK\"))))),\"\")","v":""},null,{"$f":"IF(BP58<>\"\",IF(BP58=\"Victoire\",IF(VLOOKUP(BM58,$A$8:$BS$107,68,FALSE)=\"Défaite\",\"OK\",\"ERR\"),IF(BP58=\"Défaite\",IF(VLOOKUP(BM58,$A$8:$BS$107,68,FALSE)=\"Victoire\",\"OK\",\"ERR\"),IF(BP58=\"Nul\",IF(VLOOKUP(BM58,$A$8:$BS$107,68,FALSE)=\"Nul\",\"OK\",\"ERR\")))),\"\")","v":""},null,{"$f":"IF(BP58=\"Victoire\",100-ROUNDDOWN(20*BR58/$H58,0),\nIF(BP58=\"Défaite\",10+ROUNDDOWN(20*VLOOKUP(BM58,$A$8:$CB$107,70,FALSE)/VLOOKUP(BM58,$A$8:$H$107,8,FALSE),0),\nIF(AND(BP58=\"Nul\",$BR58<>$H58),40+(2*ROUNDDOWN(10*VLOOKUP(BM58,$A$8:$CB$107,70,FALSE)/VLOOKUP(BM58,$A$8:$H$107,8,FALSE),0)-ROUNDDOWN(10*BR58/$H58,0)),IF(AND(BP58=\"Nul\",$BR58=$H58),58,0))))","v":0},null,{"$f":"IF($I58<>\"\",VLOOKUP($I58,$A$8:$N$107,5,FALSE),0)+IF($P58<>\"\",VLOOKUP($P58,$A$8:$N$107,5,FALSE),0)+IF($W58<>\"\",VLOOKUP($W58,$A$8:$N$107,5,FALSE),0)+IF($AD58<>\"\",VLOOKUP($AD58,$A$8:$N$107,5,FALSE),0)+IF($AK58<>\"\",VLOOKUP($AK58,$A$8:$N$107,5,FALSE),0)+IF($AR58<>\"\",VLOOKUP($AR58,$A$8:$N$107,5,FALSE),0)+IF($AY58<>\"\",VLOOKUP($AY58,$A$8:$N$107,5,FALSE),0)+IF($BF58<>\"\",VLOOKUP($BF58,$A$8:$N$107,5,FALSE),0)+IF($BM58<>\"\",VLOOKUP($BM58,$A$8:$N$107,5,FALSE),0)","v":0}]
[{"$nulls":4},0,null,{"$f":"IF($F59<>\"\",VLOOKUP(F59,Armies!$A$1:$C$300,3,FALSE),\"\")","v":""},null,null,{"$f":"IF(I59<>\"\",VLOOKUP(I59,$A$8:$C$107,2,FALSE),\"\")","v":""},{"$f":"IF(I59<>\"\",IF(I59=$A59,\"ERR\",IF(OR(I59=$P59,I59=$W59,I59=$AD59,I59=$AK59),\"DUP\",IF(ISNA(VLOOKUP(I59,$A$8:$A$107,1,FALSE)),\"ERR\",IF(COUNTIF($I$8:$I$107,I59)>1,\"ERR\",IF($D59=VLOOKUP(I59,$A$8:$D$107,4,FALSE),\"CLUB\",\"OK\"))))),\"\")","v":""},null,{"$f":"IF(L59<>\"\",IF(L59=\"Victoire\",IF(VLOOKUP(I59,$A$8:$L$107,12,FALSE)=\"Défaite\",\"OK\",\"ERR\"),IF(L59=\"Défaite\",IF(VLOOKUP(I59,$A$8:$L$107,12,FALSE)=\"Victoire\",\"OK\",\"ERR\"),IF(L59=\"Nul\",IF(VLOOKUP(I59,$A$8:$L$107,12,FALSE)=\"Nul\",\"OK\",\"ERR\")))),\"\")","v":""},null,{"$f":"IF(L59=\"Victoire\",100-ROUNDDOWN(20*N59/$H59,0),\nIF(L59=\"Défaite\",10+ROUNDDOWN(20*VLOOKUP(I59,$A$8:$N$107,14,FALSE)/VLOOKUP(I59,$A$8:$H$107,8,FALSE),0),\nIF(AND(L59=\"Nul\",$N59<>$H59),40+(2*ROUNDDOWN(10*VLOOKUP(I59,$A$8:$N$107,14,FALSE)/VLOOKUP(I59,$A$8:$H$107,8,FALSE),0)-ROUNDDOWN(10*N59/$H59,0)),IF(AND(L59=\"Nul\",$N59=$H59),58,0))))","v":0},null,{"$f":"IF(P59<>\"\",VLOOKUP(P59,$A$8:$C$107,2,FALSE),\"\")","v":""},{"$f":"IF(P59<>\"\",IF(P59=$A59,\"ERR\",IF(OR(P59=$I59,P59=$W59,P59=$AD59,P59=$AK59),\"DUP\",IF(ISNA(VLOOKUP(P59,$A$8:$A$107,1,FALSE)),\"ERR\",IF(COUNTIF($I$8:$I$107,P59)>1,\"ERR\",IF($D59=VLOOKUP(P59,$A$8:$D$107,4,FALSE),\"CLUB\",\"OK\"))))),\"\")","v":""},null,{"$f":"IF(S59<>\"\",IF(S59=\"Victoire\",IF(VLOOKUP(P59,$A$8:$AO$107,19,FALSE)=\"Défaite\",\"OK\",\"ERR\"),IF(S59=\"Défaite\",IF(VLOOKUP(P59,$A$8:$AO$107,19,FALSE)=\"Victoire\",\"OK\",\"ERR\"),IF(S59=\"Nul\",IF(VLOOKUP(P59,$A$8:$AO$107,19,FALSE)=\"Nul\",\"OK\",\"ERR\")))),\"\")","v":""},null,{"$f":"IF(S59=\"Victoire\",100-ROUNDDOWN(20*U59/$H59,0),\nIF(S59=\"Défaite\",10+ROUNDDOWN(20*VLOOKUP(P59,$A$8:$AO$107,21,FALSE)/VLOOKUP(P59,$A$8:$H$107,8,FALSE),0),\nIF(AND(S59=\"Nul\",$U59<>$H59),40+(2*ROUNDDOWN(10*VLOOKUP(P59,$A$8:$AO$107,21,FALSE)/VLOOKUP(P59,$A$8:$H$107,8,FALSE),0)-ROUNDDOWN(10*U59/$H59,0)),IF(AND(S59=\"Nul\",$U59=$H59),58,0))))","v":0},null,{"$f":"IF(W59<>\"\",VLOOKUP(W59,$A$8:$C$107,2,FALSE),\"\")","v":""},{"$f":"IF(W59<>\"\",IF(W59=$A59,\"ERR\",IF(OR(W59=$P59,W59=$I59,W59=$AD59,W59=$AK59),\"DUP\",IF(ISNA(VLOOKUP(W59,$A$8:$A$107,1,FALSE)),\"ERR\",IF(COUNTIF($I$8:$I$107,W59)>1,\"ERR\",IF($D59=VLOOKUP(W59,$A$8:$D$107,4,FALSE),\"CLUB\",\"OK\"))))),\"\")","v":""},null,{"$f":"IF(Z59<>\"\",IF(Z59=\"Victoire\",IF(VLOOKUP(W59,$A$8:$AO$107,26,FALSE)=\"Défaite\",\"OK\",\"ERR\"),IF(Z59=\"Défaite\",IF(VLOOKUP(W59,$A$8:$AO$107,26,FALSE)=\"Victoire\",\"OK\",\"ERR\"),IF(Z59=\"Nul\",IF(VLOOKUP(W59,$A$8:$AO$107,26,FALSE)=\"Nul\",\"OK\",\"ERR\")))),\"\")","v":""},null,{"$f":"IF(Z59=\"Victoire\",100-ROUNDDOWN(20*AB59/$H59,0),\nIF(Z59=\"Défaite\",10+ROUNDDOWN(20*VLOOKUP(W59,$A$8:$AO$107,28,FALSE)/VLOOKUP(W59,$A$8:$H$107,8,FALSE),0),\nIF(AND(Z59=\"Nul\",$AB59<>$H59),40+(2*ROUNDDOWN(10*VLOOKUP(W59,$A$8:$AO$107,28,FALSE)/VLOOKUP(W59,$A$8:$H$107,8,FALSE),0)-ROUNDDOWN(10*AB59/$H59,0)),IF(AND(Z59=\"Nul\",$AB59=$H59),58,0))))","v":0},null,{"$f":"IF(AD59<>\"\",VLOOKUP(AD59,$A$8:$C$107,2,FALSE),\"\")","v":""},{"$f":"IF(AD59<>\"\",IF(AD59=$A59,\"ERR\",IF(OR(AD59=$P59,AD59=$W59,AD59=$I59,AD59=$AK59),\"DUP\",IF(ISNA(VLOOKUP(AD59,$A$8:$A$107,1,FALSE)),\"ERR\",IF(COUNTIF($I$8:$I$107,AD59)>1,\"ERR\",IF($D59=VLOOKUP(AD59,$A$8:$D$107,4,FALSE),\"CLUB\",\"OK\"))))),\"\")","v":""},null,{"$f":"IF(AG59<>\"\",IF(AG59=\"Victoire\",IF(VLOOKUP(AD59,$A$8:$AO$107,33,FALSE)=\"Défaite\",\"OK\",\"ERR\"),IF(AG59=\"Défaite\",IF(VLOOKUP(AD59,$A$8:$AO$107,33,FALSE)=\"Victoire\",\"OK\",\"ERR\"),IF(AG59=\"Nul\",IF(VLOOKUP(AD59,$A$8:$AO$107,33,FALSE)=\"Nul\",\"OK\",\"ERR\")))),\"\")","v":""},null,{"$f":"IF(AG59=\"Victoire\",100-ROUNDDOWN(20*AI59/$H59,0),\nIF(AG59=\"Défaite\",10+ROUNDDOWN(20*VLOOKUP(AD59,$A$8:$AO$107,35,FALSE)/VLOOKUP(AD59,$A$8:$H$107,8,FALSE),0),\nIF(AND(AG59=\"Nul\",$AI59<>$H59),40+(2*ROUNDDOWN(10*VLOOKUP(AD59,$A$8:$AO$107,35,FALSE)/VLOOKUP(AD59,$A$8:$H$107,8,FALSE),0)-ROUNDDOWN(10*AI59/$H59,0)),IF(AND(AG59=\"Nul\",$AI59=$H59),58,0))))","v":0},null,{"$f":"IF(AK59<>\"\",VLOOKUP(AK59,$A$8:$C$107,2,FALSE),\"\")","v":""},{"$f":"IF(AK59<>\"\",IF(AK59=$A59,\"ERR\",IF(OR(AK59=$P59,AK59=$W59,AK59=$AD59,AK59=$I59),\"DUP\",IF(ISNA(VLOOKUP(AK59,$A$8:$A$107,1,FALSE)),\"ERR\",IF(COUNTIF($I$8:$I$107,AK59)>1,\"ERR\",IF($D59=VLOOKUP(AK59,$A$8:$D$107,4,FALSE),\"CLUB\",\"OK\"))))),\"\")","v":""},null,{"$f":"IF(AN59<>\"\",IF(AN59=\"Victoire\",IF(VLOOKUP(AK59,$A$8:$AO$107,40,FALSE)=\"Défaite\",\"OK\",\"ERR\"),IF(AN59=\"Défaite\",IF(VLOOKUP(AK59,$A$8:$AO$107,40,FALSE)=\"Victoire\",\"OK\",\"ERR\"),IF(AN59=\"Nul\",IF(VLOOKUP(AK59,$A$8:$AO$107,40,FALSE)=\"Nul\",\"OK\",\"ERR\")))),\"\")","v":""},null,{"$f":"IF(AN59=\"Victoire\",100-ROUNDDOWN(20*AP59/$H59,0),\nIF(AN59=\"Défaite\",10+ROUNDDOWN(20*VLOOKUP(AK59,$A$8:$CB$107,42,FALSE)/VLOOKUP(AK59,$A$8:$H$107,8,FALSE),0),\nIF(AND(AN59=\"Nul\",$AP59<>$H59),40+(2*ROUNDDOWN(10*VLOOKUP(AK59,$A$8:$CB$107,42,FALSE)/VLOOKUP(AK59,$A$8:$H$107,8,FALSE),0)-ROUNDDOWN(10*AP59/$H59,0)),IF(AND(AN59=\"Nul\",$AP59=$H59),58,0))))","v":0},null,{"$f":"IF(AR59<>\"\",VLOOKUP(AR59,$A$8:$C$107,2,FALSE),\"\")","v":""},{"$f":"IF(AR59<>\"\",IF(AR59=$A59,\"ERR\",IF(OR(AR59=$I59,AR59=$P59,AR59=$W59,AR59=$AD59,AR59=$AK59),\"DUP\",IF(ISNA(VLOOKUP(AR59,$A$8:$A$107,1,FALSE)),\"ERR\",IF(COUNTIF($I$8:$I$107,AR59)>1,\"ERR\",IF($D59=VLOOKUP(AR59,$A$8:$D$107,4,FALSE),\"CLUB\",\"OK\"))))),\"\")","v":""},null,{"$f":"IF(AU59<>\"\",IF(AU59=\"Victoire\",IF(VLOOKUP(AR59,$A$8:$BL$107,47,FALSE)=\"Défaite\",\"OK\",\"ERR\"),IF(AU59=\"Défaite\",IF(VLOOKUP(AR59,$A$8:$BL$107,47,FALSE)=\"Victoire\",\"OK\",\"ERR\"),IF(AU59=\"Nul\",IF(VLOOKUP(AR59,$A$8:$BL$107,47,FALSE)=\"Nul\",\"OK\",\"ERR\")))),\"\")","v":""},null,{"$f":"IF(AU59=\"Victoire\",100-ROUNDDOWN(20*AW59/$H59,0),\nIF(AU59=\"Défaite\",10+ROUNDDOWN(20*VLOOKUP(AR59,$A$8:$CB$107,49,FALSE)/VLOOKUP(AR59,$A$8:$H$107,8,FALSE),0),\nIF(AND(AU59=\"Nul\",$AW59<>$H59),40+(2*ROUNDDOWN(10*VLOOKUP(AR59,$A$8:$CB$107,49,FALSE)/VLOOKUP(AR59,$A$8:$H$107,8,FALSE),0)-ROUNDDOWN(10*AW59/$H59,0)),IF(AND(AU59=\"Nul\",$AW59=$H59),58,0))))","v":0},null,{"$f":"IF(AY59<>\"\",VLOOKUP(AY59,$A$8:$C$107,2,FALSE),\"\")","v":""},{"$f":"IF(AY59<>\"\",IF(AY59=$A59,\"ERR\",IF(OR(AY59=$I59,AY59=$P59,AY59=$W59,AY59=$AD59,AY59=$AK59,AY59=$AR59),\"DUP\",IF(ISNA(VLOOKUP(AY59,$A$8:$A$107,1,FALSE)),\"ERR\",IF(COUNTIF($I$8:$I$107,AY59)>1,\"ERR\",IF($D59=VLOOKUP(AY59,$A$8:$D$107,4,FALSE),\"CLUB\",\"OK\"))))),\"\")","v":""},null,{"$f":"IF(BB59<>\"\",IF(BB59=\"Victoire\",IF(VLOOKUP(AY59,$A$8:$BL$107,54,FALSE)=\"Défaite\",\"OK\",\"ERR\"),IF(BB59=\"Défaite\",IF(VLOOKUP(AY59,$A$8:$BL$107,54,FALSE)=\"Victoire\",\"OK\",\"ERR\"),IF(BB59=\"Nul\",IF(VLOOKUP(AY59,$A$8:$BL$107,54,FALSE)=\"Nul\",\"OK\",\"ERR\")))),\"\")","v":""},null,{"$f":"IF(BB59=\"Victoire\",100-ROUNDDOWN(20*BD59/$H59,0),\nIF(BB59=\"Défaite\",10+ROUNDDOWN(20*VLOOKUP(AY59,$A$8:$CB$107,56,FALSE)/VLOOKUP(AY59,$A$8:$H$107,8,FALSE),0),\nIF(AND(BB59=\"Nul\",$BD59<>$H59),40+(2*ROUNDDOWN(10*VLOOKUP(AY59,$A$8:$CB$107,56,FALSE)/VLOOKUP(AY59,$A$8:$H$107,8,FALSE),0)-ROUNDDOWN(10*BD59/$H59,0)),IF(AND(BB59=\"Nul\",$BD59=$H59),58,0))))","v":0},null,{"$f":"IF(BF59<>\"\",VLOOKUP(BF59,$A$8:$C$107,2,FALSE),\"\")","v":""},{"$f":"IF(BF59<>\"\",IF(BF59=$A59,\"ERR\",IF(OR(BF59=$I59,BF59=$P59,BF59=$W59,BF59=$AD59,BF59=$AK59,BF59=$AR59,BF59=$AY59),\"DUP\",IF(ISNA(VLOOKUP(BF59,$A$8:$A$107,1,FALSE)),\"ERR\",IF(COUNTIF($I$8:$I$107,BF59)>1,\"ERR\",IF($D59=VLOOKUP(BF59,$A$8:$D$107,4,FALSE),\"CLUB\",\"OK\"))))),\"\")","v":""},null,{"$f":"IF(BI59<>\"\",IF(BI59=\"Victoire\",IF(VLOOKUP(BF59,$A$8:$BL$107,61,FALSE)=\"Défaite\",\"OK\",\"ERR\"),IF(BI59=\"Défaite\",IF(VLOOKUP(BF59,$A$8:$BL$107,61,FALSE)=\"Victoire\",\"OK\",\"ERR\"),IF(BI59=\"Nul\",IF(VLOOKUP(BF59,$A$8:$BL$107,61,FALSE)=\"Nul\",\"OK\",\"ERR\")))),\"\")","v":""},null,{"$f":"IF(BI59=\"Victoire\",100-ROUNDDOWN(20*BK59/$H59,0),\nIF(BI59=\"Défaite\",10+ROUNDDOWN(20*VLOOKUP(BF59,$A$8:$CB$107,63,FALSE)/VLOOKUP(BF59,$A$8:$H$107,8,FALSE),0),\nIF(AND(BI59=\"Nul\",$BK59<>$H59),40+(2*ROUNDDOWN(10*VLOOKUP(BF59,$A$8:$CB$107,63,FALSE)/VLOOKUP(BF59,$A$8:$H$107,8,FALSE),0)-ROUNDDOWN(10*BK59/$H59,0)),IF(AND(BI59=\"Nul\",$BK59=$H59),58,0))))","v":0},null,{"$f":"IF(BM59<>\"\",VLOOKUP(BM59,$A$8:$C$107,2,FALSE),\"\")","v":""},{"$f":"IF(BM59<>\"\",IF(BM59=$A59,\"ERR\",IF(OR(BM59=$I59,BM59=$P59,BM59=$W59,BM59=$AD59,BM59=$AK59,BM59=$AR59,BM59=$AY59,BM59=$BF59),\"DUP\",IF(ISNA(VLOOKUP(BM59,$A$8:$A$107,1,FALSE)),\"ERR\",IF(COUNTIF($I$8:$I$107,BM59)>1,\"ERR\",IF($D59=VLOOKUP(BM59,$A$8:$D$107,4,FALSE),\"CLUB\",\"OK\"))))),\"\")","v":""},null,{"$f":"IF(BP59<>\"\",IF(BP59=\"Victoire\",IF(VLOOKUP(BM59,$A$8:$BS$107,68,FALSE)=\"Défaite\",\"OK\",\"ERR\"),IF(BP59=\"Défaite\",IF(VLOOKUP(BM59,$A$8:$BS$107,68,FALSE)=\"Victoire\",\"OK\",\"ERR\"),IF(BP59=\"Nul\",IF(VLOOKUP(BM59,$A$8:$BS$107,68,FALSE)=\"Nul\",\"OK\",\"ERR\")))),\"\")","v":""},null,{"$f":"IF(BP59=\"Victoire\",100-ROUNDDOWN(20*BR59/$H59,0),\nIF(BP59=\"Défaite\",10+ROUNDDOWN(20*VLOOKUP(BM59,$A$8:$CB$107,70,FALSE)/VLOOKUP(BM59,$A$8:$H$107,8,FALSE),0),\nIF(AND(BP59=\"Nul\",$BR59<>$H59),40+(2*ROUNDDOWN(10*VLOOKUP(BM59,$A$8:$CB$107,70,FALSE)/VLOOKUP(BM59,$A$8:$H$107,8,FALSE),0)-ROUNDDOWN(10*BR59/$H59,0)),IF(AND(BP59=\"Nul\",$BR59=$H59),58,0))))","v":0},null,{"$f":"IF($I59<>\"\",VLOOKUP($I59,$A$8:$N$107,5,FALSE),0)+IF($P59<>\"\",VLOOKUP($P59,$A$8:$N$107,5,FALSE),0)+IF($W59<>\"\",VLOOKUP($W59,$A$8:$N$107,5,FALSE),0)+IF($AD59<>\"\",VLOOKUP($AD59,$A$8:$N$107,5,FALSE),0)+IF($AK59<>\"\",VLOOKUP($AK59,$A$8:$N$107,5,FALSE),0)+IF($AR59<>\"\",VLOOKUP($AR59,$A$8:$N$107,5,FALSE),0)+IF($AY59<>\"\",VLOOKUP($AY59,$A$8:$N$107,5,FALSE),0)+IF($BF59<>\"\",VLOOKUP($BF59,$A$8:$N$107,5,FALSE),0)+IF($BM59<>\"\",VLOOKUP($BM59,$A$8:$N$107,5,FALSE),0)","v":0}]
[{"$nulls":4},0,null,{"$f":"IF($F60<>\"\",VLOOKUP(F60,Armies!$A$1:$C$300,3,FALSE),\"\")","v":""},null,null,{"$f":"IF(I60<>\"\",VLOOKUP(I60,$A$8:$C$107,2,FALSE),\"\")","v":""},{"$f":"IF(I60<>\"\",IF(I60=$A60,\"ERR\",IF(OR(I60=$P60,I60=$W60,I60=$AD60,I60=$AK60),\"DUP\",IF(ISNA(VLOOKUP(I60,$A$8:$A$107,1,FALSE)),\"ERR\",IF(COUNTIF($I$8:$I$107,I60)>1,\"ERR\",IF($D60=VLOOKUP(I60,$A$8:$D$107,4,FALSE),\"CLUB\",\"OK\"))))),\"\")","v":""},null,{"$f":"IF(L60<>\"\",IF(L60=\"Victoire\",IF(VLOOKUP(I60,$A$8:$L$107,12,FALSE)=\"Défaite\",\"OK\",\"ERR\"),IF(L60=\"Défaite\",IF(VLOOKUP(I60,$A$8:$L$107,12,FALSE)=\"Victoire\",\"OK\",\"ERR\"),IF(L60=\"Nul\",IF(VLOOKUP(I60,$A$8:$L$107,12,FALSE)=\"Nul\",\"OK\",\"ERR\")))),\"\")","v":""},null,{"$f":"IF(L60=\"Victoire\",100-ROUNDDOWN(20*N60/$H60,0),\nIF(L60=\"Défaite\",10+ROUNDDOWN(20*VLOOKUP(I60,$A$8:$N$107,14,FALSE)/VLOOKUP(I60,$A$8:$H$107,8,FALSE),0),\nIF(AND(L60=\"Nul\",$N60<>$H60),40+(2*ROUNDDOWN(10*VLOOKUP(I60,$A$8:$N$107,14,FALSE)/VLOOKUP(I60,$A$8:$H$107,8,FALSE),0)-ROUNDDOWN(10*N60/$H60,0)),IF(AND(L60=\"Nul\",$N60=$H60),58,0))))","v":0},null,{"$f":"IF(P60<>\"\",VLOOKUP(P60,$A$8:$C$107,2,FALSE),\"\")","v":""},{"$f":"IF(P60<>\"\",IF(P60=$A60,\"ERR\",IF(OR(P60=$I60,P60=$W60,P60=$AD60,P60=$AK60),\"DUP\",IF(ISNA(VLOOKUP(P60,$A$8:$A$107,1,FALSE)),\"ERR\",IF(COUNTIF($I$8:$I$107,P60)>1,\"ERR\",IF($D60=VLOOKUP(P60,$A$8:$D$107,4,FALSE),\"CLUB\",\"OK\"))))),\"\")","v":""},null,{"$f":"IF(S60<>\"\",IF(S60=\"Victoire\",IF(VLOOKUP(P60,$A$8:$AO$107,19,FALSE)=\"Défaite\",\"OK\",\"ERR\"),IF(S60=\"Défaite\",IF(VLOOKUP(P60,$A$8:$AO$107,19,FALSE)=\"Victoire\",\"OK\",\"ERR\"),IF(S60=\"Nul\",IF(VLOOKUP(P60,$A$8:$AO$107,19,FALSE)=\"Nul\",\"OK\",\"ERR\")))),\"\")","v":""},null,{"$f":"IF(S60=\"Victoire\",100-ROUNDDOWN(20*U60/$H60,0),\nIF(S60=\"Défaite\",10+ROUNDDOWN(20*VLOOKUP(P60,$A$8:$AO$107,21,FALSE)/VLOOKUP(P60,$A$8:$H$107,8,FALSE),0),\nIF(AND(S60=\"Nul\",$U60<>$H60),40+(2*ROUNDDOWN(10*VLOOKUP(P60,$A$8:$AO$107,21,FALSE)/VLOOKUP(P60,$A$8:$H$107,8,FALSE),0)-ROUNDDOWN(10*U60/$H60,0)),IF(AND(S60=\"Nul\",$U60=$H60),58,0))))","v":0},null,{"$f":"IF(W60<>\"\",VLOOKUP(W60,$A$8:$C$107,2,FALSE),\"\")","v":""},{"$f":"IF(W60<>\"\",IF(W60=$A60,\"ERR\",IF(OR(W60=$P60,W60=$I60,W60=$AD60,W60=$AK60),\"DUP\",IF(ISNA(VLOOKUP(W60,$A$8:$A$107,1,FALSE)),\"ERR\",IF(COUNTIF($I$8:$I$107,W60)>1,\"ERR\",IF($D60=VLOOKUP(W60,$A$8:$D$107,4,FALSE),\"CLUB\",\"OK\"))))),\"\")","v":""},null,{"$f":"IF(Z60<>\"\",IF(Z60=\"Victoire\",IF(VLOOKUP(W60,$A$8:$AO$107,26,FALSE)=\"Défaite\",\"OK\",\"ERR\"),IF(Z60=\"Défaite\",IF(VLOOKUP(W60,$A$8:$AO$107,26,FALSE)=\"Victoire\",\"OK\",\"ERR\"),IF(Z60=\"Nul\",IF(VLOOKUP(W60,$A$8:$AO$107,26,FALSE)=\"Nul\",\"OK\",\"ERR\")))),\"\")","v":""},null,{"$f":"IF(Z60=\"Victoire\",100-ROUNDDOWN(20*AB60/$H60,0),\nIF(Z60=\"Défaite\",10+ROUNDDOWN(20*VLOOKUP(W60,$A$8:$AO$107,28,FALSE)/VLOOKUP(W60,$A$8:$H$107,8,FALSE),0),\nIF(AND(Z60=\"Nul\",$AB60<>$H60),40+(2*ROUNDDOWN(10*VLOOKUP(W60,$A$8:$AO$107,28,FALSE)/VLOOKUP(W60,$A$8:$H$107,8,FALSE),0)-ROUNDDOWN(10*AB60/$H60,0)),IF(AND(Z60=\"Nul\",$AB60=$H60),58,0))))","v":0},null,{"$f":"IF(AD60<>\"\",VLOOKUP(AD60,$A$8:$C$107,2,FALSE),\"\")","v":""},{"$f":"IF(AD60<>\"\",IF(AD60=$A60,\"ERR\",IF(OR(AD60=$P60,AD60=$W60,AD60=$I60,AD60=$AK60),\"DUP\",IF(ISNA(VLOOKUP(AD60,$A$8:$A$107,1,FALSE)),\"ERR\",IF(COUNTIF($I$8:$I$107,AD60)>1,\"ERR\",IF($D60=VLOOKUP(AD60,$A$8:$D$107,4,FALSE),\"CLUB\",\"OK\"))))),\"\")","v":""},null,{"$f":"IF(AG60<>\"\",IF(AG60=\"Victoire\",IF(VLOOKUP(AD60,$A$8:$AO$107,33,FALSE)=\"Défaite\",\"OK\",\"ERR\"),IF(AG60=\"Défaite\",IF(VLOOKUP(AD60,$A$8:$AO$107,33,FALSE)=\"Victoire\",\"OK\",\"ERR\"),IF(AG60=\"Nul\",IF(VLOOKUP(AD60,$A$8:$AO$107,33,FALSE)=\"Nul\",\"OK\",\"ERR\")))),\"\")","v":""},null,{"$f":"IF(AG60=\"Victoire\",100-ROUNDDOWN(20*AI60/$H60,0),\nIF(AG60=\"Défaite\",10+ROUNDDOWN(20*VLOOKUP(AD60,$A$8:$AO$107,35,FALSE)/VLOOKUP(AD60,$A$8:$H$107,8,FALSE),0),\nIF(AND(AG60=\"Nul\",$AI60<>$H60),40+(2*ROUNDDOWN(10*VLOOKUP(AD60,$A$8:$AO$107,35,FALSE)/VLOOKUP(AD60,$A$8:$H$107,8,FALSE),0)-ROUNDDOWN(10*AI60/$H60,0)),IF(AND(AG60=\"Nul\",$AI60=$H60),58,0))))","v":0},null,{"$f":"IF(AK60<>\"\",VLOOKUP(AK60,$A$8:$C$107,2,FALSE),\"\")","v":""},{"$f":"IF(AK60<>\"\",IF(AK60=$A60,\"ERR\",IF(OR(AK60=$P60,AK60=$W60,AK60=$AD60,AK60=$I60),\"DUP\",IF(ISNA(VLOOKUP(AK60,$A$8:$A$107,1,FALSE)),\"ERR\",IF(COUNTIF($I$8:$I$107,AK60)>1,\"ERR\",IF($D60=VLOOKUP(AK60,$A$8:$D$107,4,FALSE),\"CLUB\",\"OK\"))))),\"\")","v":""},null,{"$f":"IF(AN60<>\"\",IF(AN60=\"Victoire\",IF(VLOOKUP(AK60,$A$8:$AO$107,40,FALSE)=\"Défaite\",\"OK\",\"ERR\"),IF(AN60=\"Défaite\",IF(VLOOKUP(AK60,$A$8:$AO$107,40,FALSE)=\"Victoire\",\"OK\",\"ERR\"),IF(AN60=\"Nul\",IF(VLOOKUP(AK60,$A$8:$AO$107,40,FALSE)=\"Nul\",\"OK\",\"ERR\")))),\"\")","v":""},null,{"$f":"IF(AN60=\"Victoire\",100-ROUNDDOWN(20*AP60/$H60,0),\nIF(AN60=\"Défaite\",10+ROUNDDOWN(20*VLOOKUP(AK60,$A$8:$CB$107,42,FALSE)/VLOOKUP(AK60,$A$8:$H$107,8,FALSE),0),\nIF(AND(AN60=\"Nul\",$AP60<>$H60),40+(2*ROUNDDOWN(10*VLOOKUP(AK60,$A$8:$CB$107,42,FALSE)/VLOOKUP(AK60,$A$8:$H$107,8,FALSE),0)-ROUNDDOWN(10*AP60/$H60,0)),IF(AND(AN60=\"Nul\",$AP60=$H60),58,0))))","v":0},null,{"$f":"IF(AR60<>\"\",VLOOKUP(AR60,$A$8:$C$107,2,FALSE),\"\")","v":""},{"$f":"IF(AR60<>\"\",IF(AR60=$A60,\"ERR\",IF(OR(AR60=$I60,AR60=$P60,AR60=$W60,AR60=$AD60,AR60=$AK60),\"DUP\",IF(ISNA(VLOOKUP(AR60,$A$8:$A$107,1,FALSE)),\"ERR\",IF(COUNTIF($I$8:$I$107,AR60)>1,\"ERR\",IF($D60=VLOOKUP(AR60,$A$8:$D$107,4,FALSE),\"CLUB\",\"OK\"))))),\"\")","v":""},null,{"$f":"IF(AU60<>\"\",IF(AU60=\"Victoire\",IF(VLOOKUP(AR60,$A$8:$BL$107,47,FALSE)=\"Défaite\",\"OK\",\"ERR\"),IF(AU60=\"Défaite\",IF(VLOOKUP(AR60,$A$8:$BL$107,47,FALSE)=\"Victoire\",\"OK\",\"ERR\"),IF(AU60=\"Nul\",IF(VLOOKUP(AR60,$A$8:$BL$107,47,FALSE)=\"Nul\",\"OK\",\"ERR\")))),\"\")","v":""},null,{"$f":"IF(AU60=\"Victoire\",100-ROUNDDOWN(20*AW60/$H60,0),\nIF(AU60=\"Défaite\",10+ROUNDDOWN(20*VLOOKUP(AR60,$A$8:$CB$107,49,FALSE)/VLOOKUP(AR60,$A$8:$H$107,8,FALSE),0),\nIF(AND(AU60=\"Nul\",$AW60<>$H60),40+(2*ROUNDDOWN(10*VLOOKUP(AR60,$A$8:$CB$107,49,FALSE)/VLOOKUP(AR60,$A$8:$H$107,8,FALSE),0)-ROUNDDOWN(10*AW60/$H60,0)),IF(AND(AU60=\"Nul\",$AW60=$H60),58,0))))","v":0},null,{"$f":"IF(AY60<>\"\",VLOOKUP(AY60,$A$8:$C$107,2,FALSE),\"\")","v":""},{"$f":"IF(AY60<>\"\",IF(AY60=$A60,\"ERR\",IF(OR(AY60=$I60,AY60=$P60,AY60=$W60,AY60=$AD60,AY60=$AK60,AY60=$AR60),\"DUP\",IF(ISNA(VLOOKUP(AY60,$A$8:$A$107,1,FALSE)),\"ERR\",IF(COUNTIF($I$8:$I$107,AY60)>1,\"ERR\",IF($D60=VLOOKUP(AY60,$A$8:$D$107,4,FALSE),\"CLUB\",\"OK\"))))),\"\")","v":""},null,{"$f":"IF(BB60<>\"\",IF(BB60=\"Victoire\",IF(VLOOKUP(AY60,$A$8:$BL$107,54,FALSE)=\"Défaite\",\"OK\",\"ERR\"),IF(BB60=\"Défaite\",IF(VLOOKUP(AY60,$A$8:$BL$107,54,FALSE)=\"Victoire\",\"OK\",\"ERR\"),IF(BB60=\"Nul\",IF(VLOOKUP(AY60,$A$8:$BL$107,54,FALSE)=\"Nul\",\"OK\",\"ERR\")))),\"\")","v":""},null,{"$f":"IF(BB60=\"Victoire\",100-ROUNDDOWN(20*BD60/$H60,0),\nIF(BB60=\"Défaite\",10+ROUNDDOWN(20*VLOOKUP(AY60,$A$8:$CB$107,56,FALSE)/VLOOKUP(AY60,$A$8:$H$107,8,FALSE),0),\nIF(AND(BB60=\"Nul\",$BD60<>$H60),40+(2*ROUNDDOWN(10*VLOOKUP(AY60,$A$8:$CB$107,56,FALSE)/VLOOKUP(AY60,$A$8:$H$107,8,FALSE),0)-ROUNDDOWN(10*BD60/$H60,0)),IF(AND(BB60=\"Nul\",$BD60=$H60),58,0))))","v":0},null,{"$f":"IF(BF60<>\"\",VLOOKUP(BF60,$A$8:$C$107,2,FALSE),\"\")","v":""},{"$f":"IF(BF60<>\"\",IF(BF60=$A60,\"ERR\",IF(OR(BF60=$I60,BF60=$P60,BF60=$W60,BF60=$AD60,BF60=$AK60,BF60=$AR60,BF60=$AY60),\"DUP\",IF(ISNA(VLOOKUP(BF60,$A$8:$A$107,1,FALSE)),\"ERR\",IF(COUNTIF($I$8:$I$107,BF60)>1,\"ERR\",IF($D60=VLOOKUP(BF60,$A$8:$D$107,4,FALSE),\"CLUB\",\"OK\"))))),\"\")","v":""},null,{"$f":"IF(BI60<>\"\",IF(BI60=\"Victoire\",IF(VLOOKUP(BF60,$A$8:$BL$107,61,FALSE)=\"Défaite\",\"OK\",\"ERR\"),IF(BI60=\"Défaite\",IF(VLOOKUP(BF60,$A$8:$BL$107,61,FALSE)=\"Victoire\",\"OK\",\"ERR\"),IF(BI60=\"Nul\",IF(VLOOKUP(BF60,$A$8:$BL$107,61,FALSE)=\"Nul\",\"OK\",\"ERR\")))),\"\")","v":""},null,{"$f":"IF(BI60=\"Victoire\",100-ROUNDDOWN(20*BK60/$H60,0),\nIF(BI60=\"Défaite\",10+ROUNDDOWN(20*VLOOKUP(BF60,$A$8:$CB$107,63,FALSE)/VLOOKUP(BF60,$A$8:$H$107,8,FALSE),0),\nIF(AND(BI60=\"Nul\",$BK60<>$H60),40+(2*ROUNDDOWN(10*VLOOKUP(BF60,$A$8:$CB$107,63,FALSE)/VLOOKUP(BF60,$A$8:$H$107,8,FALSE),0)-ROUNDDOWN(10*BK60/$H60,0)),IF(AND(BI60=\"Nul\",$BK60=$H60),58,0))))","v":0},null,{"$f":"IF(BM60<>\"\",VLOOKUP(BM60,$A$8:$C$107,2,FALSE),\"\")","v":""},{"$f":"IF(BM60<>\"\",IF(BM60=$A60,\"ERR\",IF(OR(BM60=$I60,BM60=$P60,BM60=$W60,BM60=$AD60,BM60=$AK60,BM60=$AR60,BM60=$AY60,BM60=$BF60),\"DUP\",IF(ISNA(VLOOKUP(BM60,$A$8:$A$107,1,FALSE)),\"ERR\",IF(COUNTIF($I$8:$I$107,BM60)>1,\"ERR\",IF($D60=VLOOKUP(BM60,$A$8:$D$107,4,FALSE),\"CLUB\",\"OK\"))))),\"\")","v":""},null,{"$f":"IF(BP60<>\"\",IF(BP60=\"Victoire\",IF(VLOOKUP(BM60,$A$8:$BS$107,68,FALSE)=\"Défaite\",\"OK\",\"ERR\"),IF(BP60=\"Défaite\",IF(VLOOKUP(BM60,$A$8:$BS$107,68,FALSE)=\"Victoire\",\"OK\",\"ERR\"),IF(BP60=\"Nul\",IF(VLOOKUP(BM60,$A$8:$BS$107,68,FALSE)=\"Nul\",\"OK\",\"ERR\")))),\"\")","v":""},null,{"$f":"IF(BP60=\"Victoire\",100-ROUNDDOWN(20*BR60/$H60,0),\nIF(BP60=\"Défaite\",10+ROUNDDOWN(20*VLOOKUP(BM60,$A$8:$CB$107,70,FALSE)/VLOOKUP(BM60,$A$8:$H$107,8,FALSE),0),\nIF(AND(BP60=\"Nul\",$BR60<>$H60),40+(2*ROUNDDOWN(10*VLOOKUP(BM60,$A$8:$CB$107,70,FALSE)/VLOOKUP(BM60,$A$8:$H$107,8,FALSE),0)-ROUNDDOWN(10*BR60/$H60,0)),IF(AND(BP60=\"Nul\",$BR60=$H60),58,0))))","v":0},null,{"$f":"IF($I60<>\"\",VLOOKUP($I60,$A$8:$N$107,5,FALSE),0)+IF($P60<>\"\",VLOOKUP($P60,$A$8:$N$107,5,FALSE),0)+IF($W60<>\"\",VLOOKUP($W60,$A$8:$N$107,5,FALSE),0)+IF($AD60<>\"\",VLOOKUP($AD60,$A$8:$N$107,5,FALSE),0)+IF($AK60<>\"\",VLOOKUP($AK60,$A$8:$N$107,5,FALSE),0)+IF($AR60<>\"\",VLOOKUP($AR60,$A$8:$N$107,5,FALSE),0)+IF($AY60<>\"\",VLOOKUP($AY60,$A$8:$N$107,5,FALSE),0)+IF($BF60<>\"\",VLOOKUP($BF60,$A$8:$N$107,5,FALSE),0)+IF($BM60<>\"\",VLOOKUP($BM60,$A$8:$N$107,5,FALSE),0)","v":0}]
[{"$nulls":4},0,null,{"$f":"IF($F61<>\"\",VLOOKUP(F61,Armies!$A$1:$C$300,3,FALSE),\"\")","v":""},null,null,{"$f":"IF(I61<>\"\",VLOOKUP(I61,$A$8:$C$107,2,FALSE),\"\")","v":""},{"$f":"IF(I61<>\"\",IF(I61=$A61,\"ERR\",IF(OR(I61=$P61,I61=$W61,I61=$AD61,I61=$AK61),\"DUP\",IF(ISNA(VLOOKUP(I61,$A$8:$A$107,1,FALSE)),\"ERR\",IF(COUNTIF($I$8:$I$107,I61)>1,\"ERR\",IF($D61=VLOOKUP(I61,$A$8:$D$107,4,FALSE),\"CLUB\",\"OK\"))))),\"\")","v":""},null,{"$f":"IF(L61<>\"\",IF(L61=\"Victoire\",IF(VLOOKUP(I61,$A$8:$L$107,12,FALSE)=\"Défaite\",\"OK\",\"ERR\"),IF(L61=\"Défaite\",IF(VLOOKUP(I61,$A$8:$L$107,12,FALSE)=\"Victoire\",\"OK\",\"ERR\"),IF(L61=\"Nul\",IF(VLOOKUP(I61,$A$8:$L$107,12,FALSE)=\"Nul\",\"OK\",\"ERR\")))),\"\")","v":""},null,{"$f":"IF(L61=\"Victoire\",100-ROUNDDOWN(20*N61/$H61,0),\nIF(L61=\"Défaite\",10+ROUNDDOWN(20*VLOOKUP(I61,$A$8:$N$107,14,FALSE)/VLOOKUP(I61,$A$8:$H$107,8,FALSE),0),\nIF(AND(L61=\"Nul\",$N61<>$H61),40+(2*ROUNDDOWN(10*VLOOKUP(I61,$A$8:$N$107,14,FALSE)/VLOOKUP(I61,$A$8:$H$107,8,FALSE),0)-ROUNDDOWN(10*N61/$H61,0)),IF(AND(L61=\"Nul\",$N61=$H61),58,0))))","v":0},null,{"$f":"IF(P61<>\"\",VLOOKUP(P61,$A$8:$C$107,2,FALSE),\"\")","v":""},{"$f":"IF(P61<>\"\",IF(P61=$A61,\"ERR\",IF(OR(P61=$I61,P61=$W61,P61=$AD61,P61=$AK61),\"DUP\",IF(ISNA(VLOOKUP(P61,$A$8:$A$107,1,FALSE)),\"ERR\",IF(COUNTIF($I$8:$I$107,P61)>1,\"ERR\",IF($D61=VLOOKUP(P61,$A$8:$D$107,4,FALSE),\"CLUB\",\"OK\"))))),\"\")","v":""},null,{"$f":"IF(S61<>\"\",IF(S61=\"Victoire\",IF(VLOOKUP(P61,$A$8:$AO$107,19,FALSE)=\"Défaite\",\"OK\",\"ERR\"),IF(S61=\"Défaite\",IF(VLOOKUP(P61,$A$8:$AO$107,19,FALSE)=\"Victoire\",\"OK\",\"ERR\"),IF(S61=\"Nul\",IF(VLOOKUP(P61,$A$8:$AO$107,19,FALSE)=\"Nul\",\"OK\",\"ERR\")))),\"\")","v":""},null,{"$f":"IF(S61=\"Victoire\",100-ROUNDDOWN(20*U61/$H61,0),\nIF(S61=\"Défaite\",10+ROUNDDOWN(20*VLOOKUP(P61,$A$8:$AO$107,21,FALSE)/VLOOKUP(P61,$A$8:$H$107,8,FALSE),0),\nIF(AND(S61=\"Nul\",$U61<>$H61),40+(2*ROUNDDOWN(10*VLOOKUP(P61,$A$8:$AO$107,21,FALSE)/VLOOKUP(P61,$A$8:$H$107,8,FALSE),0)-ROUNDDOWN(10*U61/$H61,0)),IF(AND(S61=\"Nul\",$U61=$H61),58,0))))","v":0},null,{"$f":"IF(W61<>\"\",VLOOKUP(W61,$A$8:$C$107,2,FALSE),\"\")","v":""},{"$f":"IF(W61<>\"\",IF(W61=$A61,\"ERR\",IF(OR(W61=$P61,W61=$I61,W61=$AD61,W61=$AK61),\"DUP\",IF(ISNA(VLOOKUP(W61,$A$8:$A$107,1,FALSE)),\"ERR\",IF(COUNTIF($I$8:$I$107,W61)>1,\"ERR\",IF($D61=VLOOKUP(W61,$A$8:$D$107,4,FALSE),\"CLUB\",\"OK\"))))),\"\")","v":""},null,{"$f":"IF(Z61<>\"\",IF(Z61=\"Victoire\",IF(VLOOKUP(W61,$A$8:$AO$107,26,FALSE)=\"Défaite\",\"OK\",\"ERR\"),IF(Z61=\"Défaite\",IF(VLOOKUP(W61,$A$8:$AO$107,26,FALSE)=\"Victoire\",\"OK\",\"ERR\"),IF(Z61=\"Nul\",IF(VLOOKUP(W61,$A$8:$AO$107,26,FALSE)=\"Nul\",\"OK\",\"ERR\")))),\"\")","v":""},null,{"$f":"IF(Z61=\"Victoire\",100-ROUNDDOWN(20*AB61/$H61,0),\nIF(Z61=\"Défaite\",10+ROUNDDOWN(20*VLOOKUP(W61,$A$8:$AO$107,28,FALSE)/VLOOKUP(W61,$A$8:$H$107,8,FALSE),0),\nIF(AND(Z61=\"Nul\",$AB61<>$H61),40+(2*ROUNDDOWN(10*VLOOKUP(W61,$A$8:$AO$107,28,FALSE)/VLOOKUP(W61,$A$8:$H$107,8,FALSE),0)-ROUNDDOWN(10*AB61/$H61,0)),IF(AND(Z61=\"Nul\",$AB61=$H61),58,0))))","v":0},null,{"$f":"IF(AD61<>\"\",VLOOKUP(AD61,$A$8:$C$107,2,FALSE),\"\")","v":""},{"$f":"IF(AD61<>\"\",IF(AD61=$A61,\"ERR\",IF(OR(AD61=$P61,AD61=$W61,AD61=$I61,AD61=$AK61),\"DUP\",IF(ISNA(VLOOKUP(AD61,$A$8:$A$107,1,FALSE)),\"ERR\",IF(COUNTIF($I$8:$I$107,AD61)>1,\"ERR\",IF($D61=VLOOKUP(AD61,$A$8:$D$107,4,FALSE),\"CLUB\",\"OK\"))))),\"\")","v":""},null,{"$f":"IF(AG61<>\"\",IF(AG61=\"Victoire\",IF(VLOOKUP(AD61,$A$8:$AO$107,33,FALSE)=\"Défaite\",\"OK\",\"ERR\"),IF(AG61=\"Défaite\",IF(VLOOKUP(AD61,$A$8:$AO$107,33,FALSE)=\"Victoire\",\"OK\",\"ERR\"),IF(AG61=\"Nul\",IF(VLOOKUP(AD61,$A$8:$AO$107,33,FALSE)=\"Nul\",\"OK\",\"ERR\")))),\"\")","v":""},null,{"$f":"IF(AG61=\"Victoire\",100-ROUNDDOWN(20*AI61/$H61,0),\nIF(AG61=\"Défaite\",10+ROUNDDOWN(20*VLOOKUP(AD61,$A$8:$AO$107,35,FALSE)/VLOOKUP(AD61,$A$8:$H$107,8,FALSE),0),\nIF(AND(AG61=\"Nul\",$AI61<>$H61),40+(2*ROUNDDOWN(10*VLOOKUP(AD61,$A$8:$AO$107,35,FALSE)/VLOOKUP(AD61,$A$8:$H$107,8,FALSE),0)-ROUNDDOWN(10*AI61/$H61,0)),IF(AND(AG61=\"Nul\",$AI61=$H61),58,0))))","v":0},null,{"$f":"IF(AK61<>\"\",VLOOKUP(AK61,$A$8:$C$107,2,FALSE),\"\")","v":""},{"$f":"IF(AK61<>\"\",IF(AK61=$A61,\"ERR\",IF(OR(AK61=$P61,AK61=$W61,AK61=$AD61,AK61=$I61),\"DUP\",IF(ISNA(VLOOKUP(AK61,$A$8:$A$107,1,FALSE)),\"ERR\",IF(COUNTIF($I$8:$I$107,AK61)>1,\"ERR\",IF($D61=VLOOKUP(AK61,$A$8:$D$107,4,FALSE),\"CLUB\",\"OK\"))))),\"\")","v":""},null,{"$f":"IF(AN61<>\"\",IF(AN61=\"Victoire\",IF(VLOOKUP(AK61,$A$8:$AO$107,40,FALSE)=\"Défaite\",\"OK\",\"ERR\"),IF(AN61=\"Défaite\",IF(VLOOKUP(AK61,$A$8:$AO$107,40,FALSE)=\"Victoire\",\"OK\",\"ERR\"),IF(AN61=\"Nul\",IF(VLOOKUP(AK61,$A$8:$AO$107,40,FALSE)=\"Nul\",\"OK\",\"ERR\")))),\"\")","v":""},null,{"$f":"IF(AN61=\"Victoire\",100-ROUNDDOWN(20*AP61/$H61,0),\nIF(AN61=\"Défaite\",10+ROUNDDOWN(20*VLOOKUP(AK61,$A$8:$CB$107,42,FALSE)/VLOOKUP(AK61,$A$8:$H$107,8,FALSE),0),\nIF(AND(AN61=\"Nul\",$AP61<>$H61),40+(2*ROUNDDOWN(10*VLOOKUP(AK61,$A$8:$CB$107,42,FALSE)/VLOOKUP(AK61,$A$8:$H$107,8,FALSE),0)-ROUNDDOWN(10*AP61/$H61,0)),IF(AND(AN61=\"Nul\",$AP61=$H61),58,0))))","v":0},null,{"$f":"IF(AR61<>\"\",VLOOKUP(AR61,$A$8:$C$107,2,FALSE),\"\")","v":""},{"$f":"IF(AR61<>\"\",IF(AR61=$A61,\"ERR\",IF(OR(AR61=$I61,AR61=$P61,AR61=$W61,AR61=$AD61,AR61=$AK61),\"DUP\",IF(ISNA(VLOOKUP(AR61,$A$8:$A$107,1,FALSE)),\"ERR\",IF(COUNTIF($I$8:$I$107,AR61)>1,\"ERR\",IF($D61=VLOOKUP(AR61,$A$8:$D$107,4,FALSE),\"CLUB\",\"OK\"))))),\"\")","v":""},null,{"$f":"IF(AU61<>\"\",IF(AU61=\"Victoire\",IF(VLOOKUP(AR61,$A$8:$BL$107,47,FALSE)=\"Défaite\",\"OK\",\"ERR\"),IF(AU61=\"Défaite\",IF(VLOOKUP(AR61,$A$8:$BL$107,47,FALSE)=\"Victoire\",\"OK\",\"ERR\"),IF(AU61=\"Nul\",IF(VLOOKUP(AR61,$A$8:$BL$107,47,FALSE)=\"Nul\",\"OK\",\"ERR\")))),\"\")","v":""},null,{"$f":"IF(AU61=\"Victoire\",100-ROUNDDOWN(20*AW61/$H61,0),\nIF(AU61=\"Défaite\",10+ROUNDDOWN(20*VLOOKUP(AR61,$A$8:$CB$107,49,FALSE)/VLOOKUP(AR61,$A$8:$H$107,8,FALSE),0),\nIF(AND(AU61=\"Nul\",$AW61<>$H61),40+(2*ROUNDDOWN(10*VLOOKUP(AR61,$A$8:$CB$107,49,FALSE)/VLOOKUP(AR61,$A$8:$H$107,8,FALSE),0)-ROUNDDOWN(10*AW61/$H61,0)),IF(AND(AU61=\"Nul\",$AW61=$H61),58,0))))","v":0},null,{"$f":"IF(AY61<>\"\",VLOOKUP(AY61,$A$8:$C$107,2,FALSE),\"\")","v":""},{"$f":"IF(AY61<>\"\",IF(AY61=$A61,\"ERR\",IF(OR(AY61=$I61,AY61=$P61,AY61=$W61,AY61=$AD61,AY61=$AK61,AY61=$AR61),\"DUP\",IF(ISNA(VLOOKUP(AY61,$A$8:$A$107,1,FALSE)),\"ERR\",IF(COUNTIF($I$8:$I$107,AY61)>1,\"ERR\",IF($D61=VLOOKUP(AY61,$A$8:$D$107,4,FALSE),\"CLUB\",\"OK\"))))),\"\")","v":""},null,{"$f":"IF(BB61<>\"\",IF(BB61=\"Victoire\",IF(VLOOKUP(AY61,$A$8:$BL$107,54,FALSE)=\"Défaite\",\"OK\",\"ERR\"),IF(BB61=\"Défaite\",IF(VLOOKUP(AY61,$A$8:$BL$107,54,FALSE)=\"Victoire\",\"OK\",\"ERR\"),IF(BB61=\"Nul\",IF(VLOOKUP(AY61,$A$8:$BL$107,54,FALSE)=\"Nul\",\"OK\",\"ERR\")))),\"\")","v":""},null,{"$f":"IF(BB61=\"Victoire\",100-ROUNDDOWN(20*BD61/$H61,0),\nIF(BB61=\"Défaite\",10+ROUNDDOWN(20*VLOOKUP(AY61,$A$8:$CB$107,56,FALSE)/VLOOKUP(AY61,$A$8:$H$107,8,FALSE),0),\nIF(AND(BB61=\"Nul\",$BD61<>$H61),40+(2*ROUNDDOWN(10*VLOOKUP(AY61,$A$8:$CB$107,56,FALSE)/VLOOKUP(AY61,$A$8:$H$107,8,FALSE),0)-ROUNDDOWN(10*BD61/$H61,0)),IF(AND(BB61=\"Nul\",$BD61=$H61),58,0))))","v":0},null,{"$f":"IF(BF61<>\"\",VLOOKUP(BF61,$A$8:$C$107,2,FALSE),\"\")","v":""},{"$f":"IF(BF61<>\"\",IF(BF61=$A61,\"ERR\",IF(OR(BF61=$I61,BF61=$P61,BF61=$W61,BF61=$AD61,BF61=$AK61,BF61=$AR61,BF61=$AY61),\"DUP\",IF(ISNA(VLOOKUP(BF61,$A$8:$A$107,1,FALSE)),\"ERR\",IF(COUNTIF($I$8:$I$107,BF61)>1,\"ERR\",IF($D61=VLOOKUP(BF61,$A$8:$D$107,4,FALSE),\"CLUB\",\"OK\"))))),\"\")","v":""},null,{"$f":"IF(BI61<>\"\",IF(BI61=\"Victoire\",IF(VLOOKUP(BF61,$A$8:$BL$107,61,FALSE)=\"Défaite\",\"OK\",\"ERR\"),IF(BI61=\"Défaite\",IF(VLOOKUP(BF61,$A$8:$BL$107,61,FALSE)=\"Victoire\",\"OK\",\"ERR\"),IF(BI61=\"Nul\",IF(VLOOKUP(BF61,$A$8:$BL$107,61,FALSE)=\"Nul\",\"OK\",\"ERR\")))),\"\")","v":""},null,{"$f":"IF(BI61=\"Victoire\",100-ROUNDDOWN(20*BK61/$H61,0),\nIF(BI61=\"Défaite\",10+ROUNDDOWN(20*VLOOKUP(BF61,$A$8:$CB$107,63,FALSE)/VLOOKUP(BF61,$A$8:$H$107,8,FALSE),0),\nIF(AND(BI61=\"Nul\",$BK61<>$H61),40+(2*ROUNDDOWN(10*VLOOKUP(BF61,$A$8:$CB$107,63,FALSE)/VLOOKUP(BF61,$A$8:$H$107,8,FALSE),0)-ROUNDDOWN(10*BK61/$H61,0)),IF(AND(BI61=\"Nul\",$BK61=$H61),58,0))))","v":0},null,{"$f":"IF(BM61<>\"\",VLOOKUP(BM61,$A$8:$C$107,2,FALSE),\"\")","v":""},{"$f":"IF(BM61<>\"\",IF(BM61=$A61,\"ERR\",IF(OR(BM61=$I61,BM61=$P61,BM61=$W61,BM61=$AD61,BM61=$AK61,BM61=$AR61,BM61=$AY61,BM61=$BF61),\"DUP\",IF(ISNA(VLOOKUP(BM61,$A$8:$A$107,1,FALSE)),\"ERR\",IF(COUNTIF($I$8:$I$107,BM61)>1,\"ERR\",IF($D61=VLOOKUP(BM61,$A$8:$D$107,4,FALSE),\"CLUB\",\"OK\"))))),\"\")","v":""},null,{"$f":"IF(BP61<>\"\",IF(BP61=\"Victoire\",IF(VLOOKUP(BM61,$A$8:$BS$107,68,FALSE)=\"Défaite\",\"OK\",\"ERR\"),IF(BP61=\"Défaite\",IF(VLOOKUP(BM61,$A$8:$BS$107,68,FALSE)=\"Victoire\",\"OK\",\"ERR\"),IF(BP61=\"Nul\",IF(VLOOKUP(BM61,$A$8:$BS$107,68,FALSE)=\"Nul\",\"OK\",\"ERR\")))),\"\")","v":""},null,{"$f":"IF(BP61=\"Victoire\",100-ROUNDDOWN(20*BR61/$H61,0),\nIF(BP61=\"Défaite\",10+ROUNDDOWN(20*VLOOKUP(BM61,$A$8:$CB$107,70,FALSE)/VLOOKUP(BM61,$A$8:$H$107,8,FALSE),0),\nIF(AND(BP61=\"Nul\",$BR61<>$H61),40+(2*ROUNDDOWN(10*VLOOKUP(BM61,$A$8:$CB$107,70,FALSE)/VLOOKUP(BM61,$A$8:$H$107,8,FALSE),0)-ROUNDDOWN(10*BR61/$H61,0)),IF(AND(BP61=\"Nul\",$BR61=$H61),58,0))))","v":0},null,{"$f":"IF($I61<>\"\",VLOOKUP($I61,$A$8:$N$107,5,FALSE),0)+IF($P61<>\"\",VLOOKUP($P61,$A$8:$N$107,5,FALSE),0)+IF($W61<>\"\",VLOOKUP($W61,$A$8:$N$107,5,FALSE),0)+IF($AD61<>\"\",VLOOKUP($AD61,$A$8:$N$107,5,FALSE),0)+IF($AK61<>\"\",VLOOKUP($AK61,$A$8:$N$107,5,FALSE),0)+IF($AR61<>\"\",VLOOKUP($AR61,$A$8:$N$107,5,FALSE),0)+IF($AY61<>\"\",VLOOKUP($AY61,$A$8:$N$107,5,FALSE),0)+IF($BF61<>\"\",VLOOKUP($BF61,$A$8:$N$107,5,FALSE),0)+IF($BM61<>\"\",VLOOKUP($BM61,$A$8:$N$107,5,FALSE),0)","v":0}]
[{"$nulls":4},0,null,{"$f":"IF($F62<>\"\",VLOOKUP(F62,Armies!$A$1:$C$300,3,FALSE),\"\")","v":""},null,null,{"$f":"IF(I62<>\"\",VLOOKUP(I62,$A$8:$C$107,2,FALSE),\"\")","v":""},{"$f":"IF(I62<>\"\",IF(I62=$A62,\"ERR\",IF(OR(I62=$P62,I62=$W62,I62=$AD62,I62=$AK62),\"DUP\",IF(ISNA(VLOOKUP(I62,$A$8:$A$107,1,FALSE)),\"ERR\",IF(COUNTIF($I$8:$I$107,I62)>1,\"ERR\",IF($D62=VLOOKUP(I62,$A$8:$D$107,4,FALSE),\"CLUB\",\"OK\"))))),\"\")","v":""},null,{"$f":"IF(L62<>\"\",IF(L62=\"Victoire\",IF(VLOOKUP(I62,$A$8:$L$107,12,FALSE)=\"Défaite\",\"OK\",\"ERR\"),IF(L62=\"Défaite\",IF(VLOOKUP(I62,$A$8:$L$107,12,FALSE)=\"Victoire\",\"OK\",\"ERR\"),IF(L62=\"Nul\",IF(VLOOKUP(I62,$A$8:$L$107,12,FALSE)=\"Nul\",\"OK\",\"ERR\")))),\"\")","v":""},null,{"$f":"IF(L62=\"Victoire\",100-ROUNDDOWN(20*N62/$H62,0),\nIF(L62=\"Défaite\",10+ROUNDDOWN(20*VLOOKUP(I62,$A$8:$N$107,14,FALSE)/VLOOKUP(I62,$A$8:$H$107,8,FALSE),0),\nIF(AND(L62=\"Nul\",$N62<>$H62),40+(2*ROUNDDOWN(10*VLOOKUP(I62,$A$8:$N$107,14,FALSE)/VLOOKUP(I62,$A$8:$H$107,8,FALSE),0)-ROUNDDOWN(10*N62/$H62,0)),IF(AND(L62=\"Nul\",$N62=$H62),58,0))))","v":0},null,{"$f":"IF(P62<>\"\",VLOOKUP(P62,$A$8:$C$107,2,FALSE),\"\")","v":""},{"$f":"IF(P62<>\"\",IF(P62=$A62,\"ERR\",IF(OR(P62=$I62,P62=$W62,P62=$AD62,P62=$AK62),\"DUP\",IF(ISNA(VLOOKUP(P62,$A$8:$A$107,1,FALSE)),\"ERR\",IF(COUNTIF($I$8:$I$107,P62)>1,\"ERR\",IF($D62=VLOOKUP(P62,$A$8:$D$107,4,FALSE),\"CLUB\",\"OK\"))))),\"\")","v":""},null,{"$f":"IF(S62<>\"\",IF(S62=\"Victoire\",IF(VLOOKUP(P62,$A$8:$AO$107,19,FALSE)=\"Défaite\",\"OK\",\"ERR\"),IF(S62=\"Défaite\",IF(VLOOKUP(P62,$A$8:$AO$107,19,FALSE)=\"Victoire\",\"OK\",\"ERR\"),IF(S62=\"Nul\",IF(VLOOKUP(P62,$A$8:$AO$107,19,FALSE)=\"Nul\",\"OK\",\"ERR\")))),\"\")","v":""},null,{"$f":"IF(S62=\"Victoire\",100-ROUNDDOWN(20*U62/$H62,0),\nIF(S62=\"Défaite\",10+ROUNDDOWN(20*VLOOKUP(P62,$A$8:$AO$107,21,FALSE)/VLOOKUP(P62,$A$8:$H$107,8,FALSE),0),\nIF(AND(S62=\"Nul\",$U62<>$H62),40+(2*ROUNDDOWN(10*VLOOKUP(P62,$A$8:$AO$107,21,FALSE)/VLOOKUP(P62,$A$8:$H$107,8,FALSE),0)-ROUNDDOWN(10*U62/$H62,0)),IF(AND(S62=\"Nul\",$U62=$H62),58,0))))","v":0},null,{"$f":"IF(W62<>\"\",VLOOKUP(W62,$A$8:$C$107,2,FALSE),\"\")","v":""},{"$f":"IF(W62<>\"\",IF(W62=$A62,\"ERR\",IF(OR(W62=$P62,W62=$I62,W62=$AD62,W62=$AK62),\"DUP\",IF(ISNA(VLOOKUP(W62,$A$8:$A$107,1,FALSE)),\"ERR\",IF(COUNTIF($I$8:$I$107,W62)>1,\"ERR\",IF($D62=VLOOKUP(W62,$A$8:$D$107,4,FALSE),\"CLUB\",\"OK\"))))),\"\")","v":""},null,{"$f":"IF(Z62<>\"\",IF(Z62=\"Victoire\",IF(VLOOKUP(W62,$A$8:$AO$107,26,FALSE)=\"Défaite\",\"OK\",\"ERR\"),IF(Z62=\"Défaite\",IF(VLOOKUP(W62,$A$8:$AO$107,26,FALSE)=\"Victoire\",\"OK\",\"ERR\"),IF(Z62=\"Nul\",IF(VLOOKUP(W62,$A$8:$AO$107,26,FALSE)=\"Nul\",\"OK\",\"ERR\")))),\"\")","v":""},null,{"$f":"IF(Z62=\"Victoire\",100-ROUNDDOWN(20*AB62/$H62,0),\nIF(Z62=\"Défaite\",10+ROUNDDOWN(20*VLOOKUP(W62,$A$8:$AO$107,28,FALSE)/VLOOKUP(W62,$A$8:$H$107,8,FALSE),0),\nIF(AND(Z62=\"Nul\",$AB62<>$H62),40+(2*ROUNDDOWN(10*VLOOKUP(W62,$A$8:$AO$107,28,FALSE)/VLOOKUP(W62,$A$8:$H$107,8,FALSE),0)-ROUNDDOWN(10*AB62/$H62,0)),IF(AND(Z62=\"Nul\",$AB62=$H62),58,0))))","v":0},null,{"$f":"IF(AD62<>\"\",VLOOKUP(AD62,$A$8:$C$107,2,FALSE),\"\")","v":""},{"$f":"IF(AD62<>\"\",IF(AD62=$A62,\"ERR\",IF(OR(AD62=$P62,AD62=$W62,AD62=$I62,AD62=$AK62),\"DUP\",IF(ISNA(VLOOKUP(AD62,$A$8:$A$107,1,FALSE)),\"ERR\",IF(COUNTIF($I$8:$I$107,AD62)>1,\"ERR\",IF($D62=VLOOKUP(AD62,$A$8:$D$107,4,FALSE),\"CLUB\",\"OK\"))))),\"\")","v":""},null,{"$f":"IF(AG62<>\"\",IF(AG62=\"Victoire\",IF(VLOOKUP(AD62,$A$8:$AO$107,33,FALSE)=\"Défaite\",\"OK\",\"ERR\"),IF(AG62=\"Défaite\",IF(VLOOKUP(AD62,$A$8:$AO$107,33,FALSE)=\"Victoire\",\"OK\",\"ERR\"),IF(AG62=\"Nul\",IF(VLOOKUP(AD62,$A$8:$AO$107,33,FALSE)=\"Nul\",\"OK\",\"ERR\")))),\"\")","v":""},null,{"$f":"IF(AG62=\"Victoire\",100-ROUNDDOWN(20*AI62/$H62,0),\nIF(AG62=\"Défaite\",10+ROUNDDOWN(20*VLOOKUP(AD62,$A$8:$AO$107,35,FALSE)/VLOOKUP(AD62,$A$8:$H$107,8,FALSE),0),\nIF(AND(AG62=\"Nul\",$AI62<>$H62),40+(2*ROUNDDOWN(10*VLOOKUP(AD62,$A$8:$AO$107,35,FALSE)/VLOOKUP(AD62,$A$8:$H$107,8,FALSE),0)-ROUNDDOWN(10*AI62/$H62,0)),IF(AND(AG62=\"Nul\",$AI62=$H62),58,0))))","v":0},null,{"$f":"IF(AK62<>\"\",VLOOKUP(AK62,$A$8:$C$107,2,FALSE),\"\")","v":""},{"$f":"IF(AK62<>\"\",IF(AK62=$A62,\"ERR\",IF(OR(AK62=$P62,AK62=$W62,AK62=$AD62,AK62=$I62),\"DUP\",IF(ISNA(VLOOKUP(AK62,$A$8:$A$107,1,FALSE)),\"ERR\",IF(COUNTIF($I$8:$I$107,AK62)>1,\"ERR\",IF($D62=VLOOKUP(AK62,$A$8:$D$107,4,FALSE),\"CLUB\",\"OK\"))))),\"\")","v":""},null,{"$f":"IF(AN62<>\"\",IF(AN62=\"Victoire\",IF(VLOOKUP(AK62,$A$8:$AO$107,40,FALSE)=\"Défaite\",\"OK\",\"ERR\"),IF(AN62=\"Défaite\",IF(VLOOKUP(AK62,$A$8:$AO$107,40,FALSE)=\"Victoire\",\"OK\",\"ERR\"),IF(AN62=\"Nul\",IF(VLOOKUP(AK62,$A$8:$AO$107,40,FALSE)=\"Nul\",\"OK\",\"ERR\")))),\"\")","v":""},null,{"$f":"IF(AN62=\"Victoire\",100-ROUNDDOWN(20*AP62/$H62,0),\nIF(AN62=\"Défaite\",10+ROUNDDOWN(20*VLOOKUP(AK62,$A$8:$CB$107,42,FALSE)/VLOOKUP(AK62,$A$8:$H$107,8,FALSE),0),\nIF(AND(AN62=\"Nul\",$AP62<>$H62),40+(2*ROUNDDOWN(10*VLOOKUP(AK62,$A$8:$CB$107,42,FALSE)/VLOOKUP(AK62,$A$8:$H$107,8,FALSE),0)-ROUNDDOWN(10*AP62/$H62,0)),IF(AND(AN62=\"Nul\",$AP62=$H62),58,0))))","v":0},null,{"$f":"IF(AR62<>\"\",VLOOKUP(AR62,$A$8:$C$107,2,FALSE),\"\")","v":""},{"$f":"IF(AR62<>\"\",IF(AR62=$A62,\"ERR\",IF(OR(AR62=$I62,AR62=$P62,AR62=$W62,AR62=$AD62,AR62=$AK62),\"DUP\",IF(ISNA(VLOOKUP(AR62,$A$8:$A$107,1,FALSE)),\"ERR\",IF(COUNTIF($I$8:$I$107,AR62)>1,\"ERR\",IF($D62=VLOOKUP(AR62,$A$8:$D$107,4,FALSE),\"CLUB\",\"OK\"))))),\"\")","v":""},null,{"$f":"IF(AU62<>\"\",IF(AU62=\"Victoire\",IF(VLOOKUP(AR62,$A$8:$BL$107,47,FALSE)=\"Défaite\",\"OK\",\"ERR\"),IF(AU62=\"Défaite\",IF(VLOOKUP(AR62,$A$8:$BL$107,47,FALSE)=\"Victoire\",\"OK\",\"ERR\"),IF(AU62=\"Nul\",IF(VLOOKUP(AR62,$A$8:$BL$107,47,FALSE)=\"Nul\",\"OK\",\"ERR\")))),\"\")","v":""},null,{"$f":"IF(AU62=\"Victoire\",100-ROUNDDOWN(20*AW62/$H62,0),\nIF(AU62=\"Défaite\",10+ROUNDDOWN(20*VLOOKUP(AR62,$A$8:$CB$107,49,FALSE)/VLOOKUP(AR62,$A$8:$H$107,8,FALSE),0),\nIF(AND(AU62=\"Nul\",$AW62<>$H62),40+(2*ROUNDDOWN(10*VLOOKUP(AR62,$A$8:$CB$107,49,FALSE)/VLOOKUP(AR62,$A$8:$H$107,8,FALSE),0)-ROUNDDOWN(10*AW62/$H62,0)),IF(AND(AU62=\"Nul\",$AW62=$H62),58,0))))","v":0},null,{"$f":"IF(AY62<>\"\",VLOOKUP(AY62,$A$8:$C$107,2,FALSE),\"\")","v":""},{"$f":"IF(AY62<>\"\",IF(AY62=$A62,\"ERR\",IF(OR(AY62=$I62,AY62=$P62,AY62=$W62,AY62=$AD62,AY62=$AK62,AY62=$AR62),\"DUP\",IF(ISNA(VLOOKUP(AY62,$A$8:$A$107,1,FALSE)),\"ERR\",IF(COUNTIF($I$8:$I$107,AY62)>1,\"ERR\",IF($D62=VLOOKUP(AY62,$A$8:$D$107,4,FALSE),\"CLUB\",\"OK\"))))),\"\")","v":""},null,{"$f":"IF(BB62<>\"\",IF(BB62=\"Victoire\",IF(VLOOKUP(AY62,$A$8:$BL$107,54,FALSE)=\"Défaite\",\"OK\",\"ERR\"),IF(BB62=\"Défaite\",IF(VLOOKUP(AY62,$A$8:$BL$107,54,FALSE)=\"Victoire\",\"OK\",\"ERR\"),IF(BB62=\"Nul\",IF(VLOOKUP(AY62,$A$8:$BL$107,54,FALSE)=\"Nul\",\"OK\",\"ERR\")))),\"\")","v":""},null,{"$f":"IF(BB62=\"Victoire\",100-ROUNDDOWN(20*BD62/$H62,0),\nIF(BB62=\"Défaite\",10+ROUNDDOWN(20*VLOOKUP(AY62,$A$8:$CB$107,56,FALSE)/VLOOKUP(AY62,$A$8:$H$107,8,FALSE),0),\nIF(AND(BB62=\"Nul\",$BD62<>$H62),40+(2*ROUNDDOWN(10*VLOOKUP(AY62,$A$8:$CB$107,56,FALSE)/VLOOKUP(AY62,$A$8:$H$107,8,FALSE),0)-ROUNDDOWN(10*BD62/$H62,0)),IF(AND(BB62=\"Nul\",$BD62=$H62),58,0))))","v":0},null,{"$f":"IF(BF62<>\"\",VLOOKUP(BF62,$A$8:$C$107,2,FALSE),\"\")","v":""},{"$f":"IF(BF62<>\"\",IF(BF62=$A62,\"ERR\",IF(OR(BF62=$I62,BF62=$P62,BF62=$W62,BF62=$AD62,BF62=$AK62,BF62=$AR62,BF62=$AY62),\"DUP\",IF(ISNA(VLOOKUP(BF62,$A$8:$A$107,1,FALSE)),\"ERR\",IF(COUNTIF($I$8:$I$107,BF62)>1,\"ERR\",IF($D62=VLOOKUP(BF62,$A$8:$D$107,4,FALSE),\"CLUB\",\"OK\"))))),\"\")","v":""},null,{"$f":"IF(BI62<>\"\",IF(BI62=\"Victoire\",IF(VLOOKUP(BF62,$A$8:$BL$107,61,FALSE)=\"Défaite\",\"OK\",\"ERR\"),IF(BI62=\"Défaite\",IF(VLOOKUP(BF62,$A$8:$BL$107,61,FALSE)=\"Victoire\",\"OK\",\"ERR\"),IF(BI62=\"Nul\",IF(VLOOKUP(BF62,$A$8:$BL$107,61,FALSE)=\"Nul\",\"OK\",\"ERR\")))),\"\")","v":""},null,{"$f":"IF(BI62=\"Victoire\",100-ROUNDDOWN(20*BK62/$H62,0),\nIF(BI62=\"Défaite\",10+ROUNDDOWN(20*VLOOKUP(BF62,$A$8:$CB$107,63,FALSE)/VLOOKUP(BF62,$A$8:$H$107,8,FALSE),0),\nIF(AND(BI62=\"Nul\",$BK62<>$H62),40+(2*ROUNDDOWN(10*VLOOKUP(BF62,$A$8:$CB$107,63,FALSE)/VLOOKUP(BF62,$A$8:$H$107,8,FALSE),0)-ROUNDDOWN(10*BK62/$H62,0)),IF(AND(BI62=\"Nul\",$BK62=$H62),58,0))))","v":0},null,{"$f":"IF(BM62<>\"\",VLOOKUP(BM62,$A$8:$C$107,2,FALSE),\"\")","v":""},{"$f":"IF(BM62<>\"\",IF(BM62=$A62,\"ERR\",IF(OR(BM62=$I62,BM62=$P62,BM62=$W62,BM62=$AD62,BM62=$AK62,BM62=$AR62,BM62=$AY62,BM62=$BF62),\"DUP\",IF(ISNA(VLOOKUP(BM62,$A$8:$A$107,1,FALSE)),\"ERR\",IF(COUNTIF($I$8:$I$107,BM62)>1,\"ERR\",IF($D62=VLOOKUP(BM62,$A$8:$D$107,4,FALSE),\"CLUB\",\"OK\"))))),\"\")","v":""},null,{"$f":"IF(BP62<>\"\",IF(BP62=\"Victoire\",IF(VLOOKUP(BM62,$A$8:$BS$107,68,FALSE)=\"Défaite\",\"OK\",\"ERR\"),IF(BP62=\"Défaite\",IF(VLOOKUP(BM62,$A$8:$BS$107,68,FALSE)=\"Victoire\",\"OK\",\"ERR\"),IF(BP62=\"Nul\",IF(VLOOKUP(BM62,$A$8:$BS$107,68,FALSE)=\"Nul\",\"OK\",\"ERR\")))),\"\")","v":""},null,{"$f":"IF(BP62=\"Victoire\",100-ROUNDDOWN(20*BR62/$H62,0),\nIF(BP62=\"Défaite\",10+ROUNDDOWN(20*VLOOKUP(BM62,$A$8:$CB$107,70,FALSE)/VLOOKUP(BM62,$A$8:$H$107,8,FALSE),0),\nIF(AND(BP62=\"Nul\",$BR62<>$H62),40+(2*ROUNDDOWN(10*VLOOKUP(BM62,$A$8:$CB$107,70,FALSE)/VLOOKUP(BM62,$A$8:$H$107,8,FALSE),0)-ROUNDDOWN(10*BR62/$H62,0)),IF(AND(BP62=\"Nul\",$BR62=$H62),58,0))))","v":0},null,{"$f":"IF($I62<>\"\",VLOOKUP($I62,$A$8:$N$107,5,FALSE),0)+IF($P62<>\"\",VLOOKUP($P62,$A$8:$N$107,5,FALSE),0)+IF($W62<>\"\",VLOOKUP($W62,$A$8:$N$107,5,FALSE),0)+IF($AD62<>\"\",VLOOKUP($AD62,$A$8:$N$107,5,FALSE),0)+IF($AK62<>\"\",VLOOKUP($AK62,$A$8:$N$107,5,FALSE),0)+IF($AR62<>\"\",VLOOKUP($AR62,$A$8:$N$107,5,FALSE),0)+IF($AY62<>\"\",VLOOKUP($AY62,$A$8:$N$107,5,FALSE),0)+IF($BF62<>\"\",VLOOKUP($BF62,$A$8:$N$107,5,FALSE),0)+IF($BM62<>\"\",VLOOKUP($BM62,$A$8:$N$107,5,FALSE),0)","v":0}]
[{"$nulls":4},0,null,{"$f":"IF($F63<>\"\",VLOOKUP(F63,Armies!$A$1:$C$300,3,FALSE),\"\")","v":""},null,null,{"$f":"IF(I63<>\"\",VLOOKUP(I63,$A$8:$C$107,2,FALSE),\"\")","v":""},{"$f":"IF(I63<>\"\",IF(I63=$A63,\"ERR\",IF(OR(I63=$P63,I63=$W63,I63=$AD63,I63=$AK63),\"DUP\",IF(ISNA(VLOOKUP(I63,$A$8:$A$107,1,FALSE)),\"ERR\",IF(COUNTIF($I$8:$I$107,I63)>1,\"ERR\",IF($D63=VLOOKUP(I63,$A$8:$D$107,4,FALSE),\"CLUB\",\"OK\"))))),\"\")","v":""},null,{"$f":"IF(L63<>\"\",IF(L63=\"Victoire\",IF(VLOOKUP(I63,$A$8:$L$107,12,FALSE)=\"Défaite\",\"OK\",\"ERR\"),IF(L63=\"Défaite\",IF(VLOOKUP(I63,$A$8:$L$107,12,FALSE)=\"Victoire\",\"OK\",\"ERR\"),IF(L63=\"Nul\",IF(VLOOKUP(I63,$A$8:$L$107,12,FALSE)=\"Nul\",\"OK\",\"ERR\")))),\"\")","v":""},null,{"$f":"IF(L63=\"Victoire\",100-ROUNDDOWN(20*N63/$H63,0),\nIF(L63=\"Défaite\",10+ROUNDDOWN(20*VLOOKUP(I63,$A$8:$N$107,14,FALSE)/VLOOKUP(I63,$A$8:$H$107,8,FALSE),0),\nIF(AND(L63=\"Nul\",$N63<>$H63),40+(2*ROUNDDOWN(10*VLOOKUP(I63,$A$8:$N$107,14,FALSE)/VLOOKUP(I63,$A$8:$H$107,8,FALSE),0)-ROUNDDOWN(10*N63/$H63,0)),IF(AND(L63=\"Nul\",$N63=$H63),58,0))))","v":0},null,{"$f":"IF(P63<>\"\",VLOOKUP(P63,$A$8:$C$107,2,FALSE),\"\")","v":""},{"$f":"IF(P63<>\"\",IF(P63=$A63,\"ERR\",IF(OR(P63=$I63,P63=$W63,P63=$AD63,P63=$AK63),\"DUP\",IF(ISNA(VLOOKUP(P63,$A$8:$A$107,1,FALSE)),\"ERR\",IF(COUNTIF($I$8:$I$107,P63)>1,\"ERR\",IF($D63=VLOOKUP(P63,$A$8:$D$107,4,FALSE),\"CLUB\",\"OK\"))))),\"\")","v":""},null,{"$f":"IF(S63<>\"\",IF(S63=\"Victoire\",IF(VLOOKUP(P63,$A$8:$AO$107,19,FALSE)=\"Défaite\",\"OK\",\"ERR\"),IF(S63=\"Défaite\",IF(VLOOKUP(P63,$A$8:$AO$107,19,FALSE)=\"Victoire\",\"OK\",\"ERR\"),IF(S63=\"Nul\",IF(VLOOKUP(P63,$A$8:$AO$107,19,FALSE)=\"Nul\",\"OK\",\"ERR\")))),\"\")","v":""},null,{"$f":"IF(S63=\"Victoire\",100-ROUNDDOWN(20*U63/$H63,0),\nIF(S63=\"Défaite\",10+ROUNDDOWN(20*VLOOKUP(P63,$A$8:$AO$107,21,FALSE)/VLOOKUP(P63,$A$8:$H$107,8,FALSE),0),\nIF(AND(S63=\"Nul\",$U63<>$H63),40+(2*ROUNDDOWN(10*VLOOKUP(P63,$A$8:$AO$107,21,FALSE)/VLOOKUP(P63,$A$8:$H$107,8,FALSE),0)-ROUNDDOWN(10*U63/$H63,0)),IF(AND(S63=\"Nul\",$U63=$H63),58,0))))","v":0},null,{"$f":"IF(W63<>\"\",VLOOKUP(W63,$A$8:$C$107,2,FALSE),\"\")","v":""},{"$f":"IF(W63<>\"\",IF(W63=$A63,\"ERR\",IF(OR(W63=$P63,W63=$I63,W63=$AD63,W63=$AK63),\"DUP\",IF(ISNA(VLOOKUP(W63,$A$8:$A$107,1,FALSE)),\"ERR\",IF(COUNTIF($I$8:$I$107,W63)>1,\"ERR\",IF($D63=VLOOKUP(W63,$A$8:$D$107,4,FALSE),\"CLUB\",\"OK\"))))),\"\")","v":""},null,{"$f":"IF(Z63<>\"\",IF(Z63=\"Victoire\",IF(VLOOKUP(W63,$A$8:$AO$107,26,FALSE)=\"Défaite\",\"OK\",\"ERR\"),IF(Z63=\"Défaite\",IF(VLOOKUP(W63,$A$8:$AO$107,26,FALSE)=\"Victoire\",\"OK\",\"ERR\"),IF(Z63=\"Nul\",IF(VLOOKUP(W63,$A$8:$AO$107,26,FALSE)=\"Nul\",\"OK\",\"ERR\")))),\"\")","v":""},null,{"$f":"IF(Z63=\"Victoire\",100-ROUNDDOWN(20*AB63/$H63,0),\nIF(Z63=\"Défaite\",10+ROUNDDOWN(20*VLOOKUP(W63,$A$8:$AO$107,28,FALSE)/VLOOKUP(W63,$A$8:$H$107,8,FALSE),0),\nIF(AND(Z63=\"Nul\",$AB63<>$H63),40+(2*ROUNDDOWN(10*VLOOKUP(W63,$A$8:$AO$107,28,FALSE)/VLOOKUP(W63,$A$8:$H$107,8,FALSE),0)-ROUNDDOWN(10*AB63/$H63,0)),IF(AND(Z63=\"Nul\",$AB63=$H63),58,0))))","v":0},null,{"$f":"IF(AD63<>\"\",VLOOKUP(AD63,$A$8:$C$107,2,FALSE),\"\")","v":""},{"$f":"IF(AD63<>\"\",IF(AD63=$A63,\"ERR\",IF(OR(AD63=$P63,AD63=$W63,AD63=$I63,AD63=$AK63),\"DUP\",IF(ISNA(VLOOKUP(AD63,$A$8:$A$107,1,FALSE)),\"ERR\",IF(COUNTIF($I$8:$I$107,AD63)>1,\"ERR\",IF($D63=VLOOKUP(AD63,$A$8:$D$107,4,FALSE),\"CLUB\",\"OK\"))))),\"\")","v":""},null,{"$f":"IF(AG63<>\"\",IF(AG63=\"Victoire\",IF(VLOOKUP(AD63,$A$8:$AO$107,33,FALSE)=\"Défaite\",\"OK\",\"ERR\"),IF(AG63=\"Défaite\",IF(VLOOKUP(AD63,$A$8:$AO$107,33,FALSE)=\"Victoire\",\"OK\",\"ERR\"),IF(AG63=\"Nul\",IF(VLOOKUP(AD63,$A$8:$AO$107,33,FALSE)=\"Nul\",\"OK\",\"ERR\")))),\"\")","v":""},null,{"$f":"IF(AG63=\"Victoire\",100-ROUNDDOWN(20*AI63/$H63,0),\nIF(AG63=\"Défaite\",10+ROUNDDOWN(20*VLOOKUP(AD63,$A$8:$AO$107,35,FALSE)/VLOOKUP(AD63,$A$8:$H$107,8,FALSE),0),\nIF(AND(AG63=\"Nul\",$AI63<>$H63),40+(2*ROUNDDOWN(10*VLOOKUP(AD63,$A$8:$AO$107,35,FALSE)/VLOOKUP(AD63,$A$8:$H$107,8,FALSE),0)-ROUNDDOWN(10*AI63/$H63,0)),IF(AND(AG63=\"Nul\",$AI63=$H63),58,0))))","v":0},null,{"$f":"IF(AK63<>\"\",VLOOKUP(AK63,$A$8:$C$107,2,FALSE),\"\")","v":""},{"$f":"IF(AK63<>\"\",IF(AK63=$A63,\"ERR\",IF(OR(AK63=$P63,AK63=$W63,AK63=$AD63,AK63=$I63),\"DUP\",IF(ISNA(VLOOKUP(AK63,$A$8:$A$107,1,FALSE)),\"ERR\",IF(COUNTIF($I$8:$I$107,AK63)>1,\"ERR\",IF($D63=VLOOKUP(AK63,$A$8:$D$107,4,FALSE),\"CLUB\",\"OK\"))))),\"\")","v":""},null,{"$f":"IF(AN63<>\"\",IF(AN63=\"Victoire\",IF(VLOOKUP(AK63,$A$8:$AO$107,40,FALSE)=\"Défaite\",\"OK\",\"ERR\"),IF(AN63=\"Défaite\",IF(VLOOKUP(AK63,$A$8:$AO$107,40,FALSE)=\"Victoire\",\"OK\",\"ERR\"),IF(AN63=\"Nul\",IF(VLOOKUP(AK63,$A$8:$AO$107,40,FALSE)=\"Nul\",\"OK\",\"ERR\")))),\"\")","v":""},null,{"$f":"IF(AN63=\"Victoire\",100-ROUNDDOWN(20*AP63/$H63,0),\nIF(AN63=\"Défaite\",10+ROUNDDOWN(20*VLOOKUP(AK63,$A$8:$CB$107,42,FALSE)/VLOOKUP(AK63,$A$8:$H$107,8,FALSE),0),\nIF(AND(AN63=\"Nul\",$AP63<>$H63),40+(2*ROUNDDOWN(10*VLOOKUP(AK63,$A$8:$CB$107,42,FALSE)/VLOOKUP(AK63,$A$8:$H$107,8,FALSE),0)-ROUNDDOWN(10*AP63/$H63,0)),IF(AND(AN63=\"Nul\",$AP63=$H63),58,0))))","v":0},null,{"$f":"IF(AR63<>\"\",VLOOKUP(AR63,$A$8:$C$107,2,FALSE),\"\")","v":""},{"$f":"IF(AR63<>\"\",IF(AR63=$A63,\"ERR\",IF(OR(AR63=$I63,AR63=$P63,AR63=$W63,AR63=$AD63,AR63=$AK63),\"DUP\",IF(ISNA(VLOOKUP(AR63,$A$8:$A$107,1,FALSE)),\"ERR\",IF(COUNTIF($I$8:$I$107,AR63)>1,\"ERR\",IF($D63=VLOOKUP(AR63,$A$8:$D$107,4,FALSE),\"CLUB\",\"OK\"))))),\"\")","v":""},null,{"$f":"IF(AU63<>\"\",IF(AU63=\"Victoire\",IF(VLOOKUP(AR63,$A$8:$BL$107,47,FALSE)=\"Défaite\",\"OK\",\"ERR\"),IF(AU63=\"Défaite\",IF(VLOOKUP(AR63,$A$8:$BL$107,47,FALSE)=\"Victoire\",\"OK\",\"ERR\"),IF(AU63=\"Nul\",IF(VLOOKUP(AR63,$A$8:$BL$107,47,FALSE)=\"Nul\",\"OK\",\"ERR\")))),\"\")","v":""},null,{"$f":"IF(AU63=\"Victoire\",100-ROUNDDOWN(20*AW63/$H63,0),\nIF(AU63=\"Défaite\",10+ROUNDDOWN(20*VLOOKUP(AR63,$A$8:$CB$107,49,FALSE)/VLOOKUP(AR63,$A$8:$H$107,8,FALSE),0),\nIF(AND(AU63=\"Nul\",$AW63<>$H63),40+(2*ROUNDDOWN(10*VLOOKUP(AR63,$A$8:$CB$107,49,FALSE)/VLOOKUP(AR63,$A$8:$H$107,8,FALSE),0)-ROUNDDOWN(10*AW63/$H63,0)),IF(AND(AU63=\"Nul\",$AW63=$H63),58,0))))","v":0},null,{"$f":"IF(AY63<>\"\",VLOOKUP(AY63,$A$8:$C$107,2,FALSE),\"\")","v":""},{"$f":"IF(AY63<>\"\",IF(AY63=$A63,\"ERR\",IF(OR(AY63=$I63,AY63=$P63,AY63=$W63,AY63=$AD63,AY63=$AK63,AY63=$AR63),\"DUP\",IF(ISNA(VLOOKUP(AY63,$A$8:$A$107,1,FALSE)),\"ERR\",IF(COUNTIF($I$8:$I$107,AY63)>1,\"ERR\",IF($D63=VLOOKUP(AY63,$A$8:$D$107,4,FALSE),\"CLUB\",\"OK\"))))),\"\")","v":""},null,{"$f":"IF(BB63<>\"\",IF(BB63=\"Victoire\",IF(VLOOKUP(AY63,$A$8:$BL$107,54,FALSE)=\"Défaite\",\"OK\",\"ERR\"),IF(BB63=\"Défaite\",IF(VLOOKUP(AY63,$A$8:$BL$107,54,FALSE)=\"Victoire\",\"OK\",\"ERR\"),IF(BB63=\"Nul\",IF(VLOOKUP(AY63,$A$8:$BL$107,54,FALSE)=\"Nul\",\"OK\",\"ERR\")))),\"\")","v":""},null,{"$f":"IF(BB63=\"Victoire\",100-ROUNDDOWN(20*BD63/$H63,0),\nIF(BB63=\"Défaite\",10+ROUNDDOWN(20*VLOOKUP(AY63,$A$8:$CB$107,56,FALSE)/VLOOKUP(AY63,$A$8:$H$107,8,FALSE),0),\nIF(AND(BB63=\"Nul\",$BD63<>$H63),40+(2*ROUNDDOWN(10*VLOOKUP(AY63,$A$8:$CB$107,56,FALSE)/VLOOKUP(AY63,$A$8:$H$107,8,FALSE),0)-ROUNDDOWN(10*BD63/$H63,0)),IF(AND(BB63=\"Nul\",$BD63=$H63),58,0))))","v":0},null,{"$f":"IF(BF63<>\"\",VLOOKUP(BF63,$A$8:$C$107,2,FALSE),\"\")","v":""},{"$f":"IF(BF63<>\"\",IF(BF63=$A63,\"ERR\",IF(OR(BF63=$I63,BF63=$P63,BF63=$W63,BF63=$AD63,BF63=$AK63,BF63=$AR63,BF63=$AY63),\"DUP\",IF(ISNA(VLOOKUP(BF63,$A$8:$A$107,1,FALSE)),\"ERR\",IF(COUNTIF($I$8:$I$107,BF63)>1,\"ERR\",IF($D63=VLOOKUP(BF63,$A$8:$D$107,4,FALSE),\"CLUB\",\"OK\"))))),\"\")","v":""},null,{"$f":"IF(BI63<>\"\",IF(BI63=\"Victoire\",IF(VLOOKUP(BF63,$A$8:$BL$107,61,FALSE)=\"Défaite\",\"OK\",\"ERR\"),IF(BI63=\"Défaite\",IF(VLOOKUP(BF63,$A$8:$BL$107,61,FALSE)=\"Victoire\",\"OK\",\"ERR\"),IF(BI63=\"Nul\",IF(VLOOKUP(BF63,$A$8:$BL$107,61,FALSE)=\"Nul\",\"OK\",\"ERR\")))),\"\")","v":""},null,{"$f":"IF(BI63=\"Victoire\",100-ROUNDDOWN(20*BK63/$H63,0),\nIF(BI63=\"Défaite\",10+ROUNDDOWN(20*VLOOKUP(BF63,$A$8:$CB$107,63,FALSE)/VLOOKUP(BF63,$A$8:$H$107,8,FALSE),0),\nIF(AND(BI63=\"Nul\",$BK63<>$H63),40+(2*ROUNDDOWN(10*VLOOKUP(BF63,$A$8:$CB$107,63,FALSE)/VLOOKUP(BF63,$A$8:$H$107,8,FALSE),0)-ROUNDDOWN(10*BK63/$H63,0)),IF(AND(BI63=\"Nul\",$BK63=$H63),58,0))))","v":0},null,{"$f":"IF(BM63<>\"\",VLOOKUP(BM63,$A$8:$C$107,2,FALSE),\"\")","v":""},{"$f":"IF(BM63<>\"\",IF(BM63=$A63,\"ERR\",IF(OR(BM63=$I63,BM63=$P63,BM63=$W63,BM63=$AD63,BM63=$AK63,BM63=$AR63,BM63=$AY63,BM63=$BF63),\"DUP\",IF(ISNA(VLOOKUP(BM63,$A$8:$A$107,1,FALSE)),\"ERR\",IF(COUNTIF($I$8:$I$107,BM63)>1,\"ERR\",IF($D63=VLOOKUP(BM63,$A$8:$D$107,4,FALSE),\"CLUB\",\"OK\"))))),\"\")","v":""},null,{"$f":"IF(BP63<>\"\",IF(BP63=\"Victoire\",IF(VLOOKUP(BM63,$A$8:$BS$107,68,FALSE)=\"Défaite\",\"OK\",\"ERR\"),IF(BP63=\"Défaite\",IF(VLOOKUP(BM63,$A$8:$BS$107,68,FALSE)=\"Victoire\",\"OK\",\"ERR\"),IF(BP63=\"Nul\",IF(VLOOKUP(BM63,$A$8:$BS$107,68,FALSE)=\"Nul\",\"OK\",\"ERR\")))),\"\")","v":""},null,{"$f":"IF(BP63=\"Victoire\",100-ROUNDDOWN(20*BR63/$H63,0),\nIF(BP63=\"Défaite\",10+ROUNDDOWN(20*VLOOKUP(BM63,$A$8:$CB$107,70,FALSE)/VLOOKUP(BM63,$A$8:$H$107,8,FALSE),0),\nIF(AND(BP63=\"Nul\",$BR63<>$H63),40+(2*ROUNDDOWN(10*VLOOKUP(BM63,$A$8:$CB$107,70,FALSE)/VLOOKUP(BM63,$A$8:$H$107,8,FALSE),0)-ROUNDDOWN(10*BR63/$H63,0)),IF(AND(BP63=\"Nul\",$BR63=$H63),58,0))))","v":0},null,{"$f":"IF($I63<>\"\",VLOOKUP($I63,$A$8:$N$107,5,FALSE),0)+IF($P63<>\"\",VLOOKUP($P63,$A$8:$N$107,5,FALSE),0)+IF($W63<>\"\",VLOOKUP($W63,$A$8:$N$107,5,FALSE),0)+IF($AD63<>\"\",VLOOKUP($AD63,$A$8:$N$107,5,FALSE),0)+IF($AK63<>\"\",VLOOKUP($AK63,$A$8:$N$107,5,FALSE),0)+IF($AR63<>\"\",VLOOKUP($AR63,$A$8:$N$107,5,FALSE),0)+IF($AY63<>\"\",VLOOKUP($AY63,$A$8:$N$107,5,FALSE),0)+IF($BF63<>\"\",VLOOKUP($BF63,$A$8:$N$107,5,FALSE),0)+IF($BM63<>\"\",VLOOKUP($BM63,$A$8:$N$107,5,FALSE),0)","v":0}]
[{"$nulls":4},0,null,{"$f":"IF($F64<>\"\",VLOOKUP(F64,Armies!$A$1:$C$300,3,FALSE),\"\")","v":""},null,null,{"$f":"IF(I64<>\"\",VLOOKUP(I64,$A$8:$C$107,2,FALSE),\"\")","v":""},{"$f":"IF(I64<>\"\",IF(I64=$A64,\"ERR\",IF(OR(I64=$P64,I64=$W64,I64=$AD64,I64=$AK64),\"DUP\",IF(ISNA(VLOOKUP(I64,$A$8:$A$107,1,FALSE)),\"ERR\",IF(COUNTIF($I$8:$I$107,I64)>1,\"ERR\",IF($D64=VLOOKUP(I64,$A$8:$D$107,4,FALSE),\"CLUB\",\"OK\"))))),\"\")","v":""},null,{"$f":"IF(L64<>\"\",IF(L64=\"Victoire\",IF(VLOOKUP(I64,$A$8:$L$107,12,FALSE)=\"Défaite\",\"OK\",\"ERR\"),IF(L64=\"Défaite\",IF(VLOOKUP(I64,$A$8:$L$107,12,FALSE)=\"Victoire\",\"OK\",\"ERR\"),IF(L64=\"Nul\",IF(VLOOKUP(I64,$A$8:$L$107,12,FALSE)=\"Nul\",\"OK\",\"ERR\")))),\"\")","v":""},null,{"$f":"IF(L64=\"Victoire\",100-ROUNDDOWN(20*N64/$H64,0),\nIF(L64=\"Défaite\",10+ROUNDDOWN(20*VLOOKUP(I64,$A$8:$N$107,14,FALSE)/VLOOKUP(I64,$A$8:$H$107,8,FALSE),0),\nIF(AND(L64=\"Nul\",$N64<>$H64),40+(2*ROUNDDOWN(10*VLOOKUP(I64,$A$8:$N$107,14,FALSE)/VLOOKUP(I64,$A$8:$H$107,8,FALSE),0)-ROUNDDOWN(10*N64/$H64,0)),IF(AND(L64=\"Nul\",$N64=$H64),58,0))))","v":0},null,{"$f":"IF(P64<>\"\",VLOOKUP(P64,$A$8:$C$107,2,FALSE),\"\")","v":""},{"$f":"IF(P64<>\"\",IF(P64=$A64,\"ERR\",IF(OR(P64=$I64,P64=$W64,P64=$AD64,P64=$AK64),\"DUP\",IF(ISNA(VLOOKUP(P64,$A$8:$A$107,1,FALSE)),\"ERR\",IF(COUNTIF($I$8:$I$107,P64)>1,\"ERR\",IF($D64=VLOOKUP(P64,$A$8:$D$107,4,FALSE),\"CLUB\",\"OK\"))))),\"\")","v":""},null,{"$f":"IF(S64<>\"\",IF(S64=\"Victoire\",IF(VLOOKUP(P64,$A$8:$AO$107,19,FALSE)=\"Défaite\",\"OK\",\"ERR\"),IF(S64=\"Défaite\",IF(VLOOKUP(P64,$A$8:$AO$107,19,FALSE)=\"Victoire\",\"OK\",\"ERR\"),IF(S64=\"Nul\",IF(VLOOKUP(P64,$A$8:$AO$107,19,FALSE)=\"Nul\",\"OK\",\"ERR\")))),\"\")","v":""},null,{"$f":"IF(S64=\"Victoire\",100-ROUNDDOWN(20*U64/$H64,0),\nIF(S64=\"Défaite\",10+ROUNDDOWN(20*VLOOKUP(P64,$A$8:$AO$107,21,FALSE)/VLOOKUP(P64,$A$8:$H$107,8,FALSE),0),\nIF(AND(S64=\"Nul\",$U64<>$H64),40+(2*ROUNDDOWN(10*VLOOKUP(P64,$A$8:$AO$107,21,FALSE)/VLOOKUP(P64,$A$8:$H$107,8,FALSE),0)-ROUNDDOWN(10*U64/$H64,0)),IF(AND(S64=\"Nul\",$U64=$H64),58,0))))","v":0},null,{"$f":"IF(W64<>\"\",VLOOKUP(W64,$A$8:$C$107,2,FALSE),\"\")","v":""},{"$f":"IF(W64<>\"\",IF(W64=$A64,\"ERR\",IF(OR(W64=$P64,W64=$I64,W64=$AD64,W64=$AK64),\"DUP\",IF(ISNA(VLOOKUP(W64,$A$8:$A$107,1,FALSE)),\"ERR\",IF(COUNTIF($I$8:$I$107,W64)>1,\"ERR\",IF($D64=VLOOKUP(W64,$A$8:$D$107,4,FALSE),\"CLUB\",\"OK\"))))),\"\")","v":""},null,{"$f":"IF(Z64<>\"\",IF(Z64=\"Victoire\",IF(VLOOKUP(W64,$A$8:$AO$107,26,FALSE)=\"Défaite\",\"OK\",\"ERR\"),IF(Z64=\"Défaite\",IF(VLOOKUP(W64,$A$8:$AO$107,26,FALSE)=\"Victoire\",\"OK\",\"ERR\"),IF(Z64=\"Nul\",IF(VLOOKUP(W64,$A$8:$AO$107,26,FALSE)=\"Nul\",\"OK\",\"ERR\")))),\"\")","v":""},null,{"$f":"IF(Z64=\"Victoire\",100-ROUNDDOWN(20*AB64/$H64,0),\nIF(Z64=\"Défaite\",10+ROUNDDOWN(20*VLOOKUP(W64,$A$8:$AO$107,28,FALSE)/VLOOKUP(W64,$A$8:$H$107,8,FALSE),0),\nIF(AND(Z64=\"Nul\",$AB64<>$H64),40+(2*ROUNDDOWN(10*VLOOKUP(W64,$A$8:$AO$107,28,FALSE)/VLOOKUP(W64,$A$8:$H$107,8,FALSE),0)-ROUNDDOWN(10*AB64/$H64,0)),IF(AND(Z64=\"Nul\",$AB64=$H64),58,0))))","v":0},null,{"$f":"IF(AD64<>\"\",VLOOKUP(AD64,$A$8:$C$107,2,FALSE),\"\")","v":""},{"$f":"IF(AD64<>\"\",IF(AD64=$A64,\"ERR\",IF(OR(AD64=$P64,AD64=$W64,AD64=$I64,AD64=$AK64),\"DUP\",IF(ISNA(VLOOKUP(AD64,$A$8:$A$107,1,FALSE)),\"ERR\",IF(COUNTIF($I$8:$I$107,AD64)>1,\"ERR\",IF($D64=VLOOKUP(AD64,$A$8:$D$107,4,FALSE),\"CLUB\",\"OK\"))))),\"\")","v":""},null,{"$f":"IF(AG64<>\"\",IF(AG64=\"Victoire\",IF(VLOOKUP(AD64,$A$8:$AO$107,33,FALSE)=\"Défaite\",\"OK\",\"ERR\"),IF(AG64=\"Défaite\",IF(VLOOKUP(AD64,$A$8:$AO$107,33,FALSE)=\"Victoire\",\"OK\",\"ERR\"),IF(AG64=\"Nul\",IF(VLOOKUP(AD64,$A$8:$AO$107,33,FALSE)=\"Nul\",\"OK\",\"ERR\")))),\"\")","v":""},null,{"$f":"IF(AG64=\"Victoire\",100-ROUNDDOWN(20*AI64/$H64,0),\nIF(AG64=\"Défaite\",10+ROUNDDOWN(20*VLOOKUP(AD64,$A$8:$AO$107,35,FALSE)/VLOOKUP(AD64,$A$8:$H$107,8,FALSE),0),\nIF(AND(AG64=\"Nul\",$AI64<>$H64),40+(2*ROUNDDOWN(10*VLOOKUP(AD64,$A$8:$AO$107,35,FALSE)/VLOOKUP(AD64,$A$8:$H$107,8,FALSE),0)-ROUNDDOWN(10*AI64/$H64,0)),IF(AND(AG64=\"Nul\",$AI64=$H64),58,0))))","v":0},null,{"$f":"IF(AK64<>\"\",VLOOKUP(AK64,$A$8:$C$107,2,FALSE),\"\")","v":""},{"$f":"IF(AK64<>\"\",IF(AK64=$A64,\"ERR\",IF(OR(AK64=$P64,AK64=$W64,AK64=$AD64,AK64=$I64),\"DUP\",IF(ISNA(VLOOKUP(AK64,$A$8:$A$107,1,FALSE)),\"ERR\",IF(COUNTIF($I$8:$I$107,AK64)>1,\"ERR\",IF($D64=VLOOKUP(AK64,$A$8:$D$107,4,FALSE),\"CLUB\",\"OK\"))))),\"\")","v":""},null,{"$f":"IF(AN64<>\"\",IF(AN64=\"Victoire\",IF(VLOOKUP(AK64,$A$8:$AO$107,40,FALSE)=\"Défaite\",\"OK\",\"ERR\"),IF(AN64=\"Défaite\",IF(VLOOKUP(AK64,$A$8:$AO$107,40,FALSE)=\"Victoire\",\"OK\",\"ERR\"),IF(AN64=\"Nul\",IF(VLOOKUP(AK64,$A$8:$AO$107,40,FALSE)=\"Nul\",\"OK\",\"ERR\")))),\"\")","v":""},null,{"$f":"IF(AN64=\"Victoire\",100-ROUNDDOWN(20*AP64/$H64,0),\nIF(AN64=\"Défaite\",10+ROUNDDOWN(20*VLOOKUP(AK64,$A$8:$CB$107,42,FALSE)/VLOOKUP(AK64,$A$8:$H$107,8,FALSE),0),\nIF(AND(AN64=\"Nul\",$AP64<>$H64),40+(2*ROUNDDOWN(10*VLOOKUP(AK64,$A$8:$CB$107,42,FALSE)/VLOOKUP(AK64,$A$8:$H$107,8,FALSE),0)-ROUNDDOWN(10*AP64/$H64,0)),IF(AND(AN64=\"Nul\",$AP64=$H64),58,0))))","v":0},null,{"$f":"IF(AR64<>\"\",VLOOKUP(AR64,$A$8:$C$107,2,FALSE),\"\")","v":""},{"$f":"IF(AR64<>\"\",IF(AR64=$A64,\"ERR\",IF(OR(AR64=$I64,AR64=$P64,AR64=$W64,AR64=$AD64,AR64=$AK64),\"DUP\",IF(ISNA(VLOOKUP(AR64,$A$8:$A$107,1,FALSE)),\"ERR\",IF(COUNTIF($I$8:$I$107,AR64)>1,\"ERR\",IF($D64=VLOOKUP(AR64,$A$8:$D$107,4,FALSE),\"CLUB\",\"OK\"))))),\"\")","v":""},null,{"$f":"IF(AU64<>\"\",IF(AU64=\"Victoire\",IF(VLOOKUP(AR64,$A$8:$BL$107,47,FALSE)=\"Défaite\",\"OK\",\"ERR\"),IF(AU64=\"Défaite\",IF(VLOOKUP(AR64,$A$8:$BL$107,47,FALSE)=\"Victoire\",\"OK\",\"ERR\"),IF(AU64=\"Nul\",IF(VLOOKUP(AR64,$A$8:$BL$107,47,FALSE)=\"Nul\",\"OK\",\"ERR\")))),\"\")","v":""},null,{"$f":"IF(AU64=\"Victoire\",100-ROUNDDOWN(20*AW64/$H64,0),\nIF(AU64=\"Défaite\",10+ROUNDDOWN(20*VLOOKUP(AR64,$A$8:$CB$107,49,FALSE)/VLOOKUP(AR64,$A$8:$H$107,8,FALSE),0),\nIF(AND(AU64=\"Nul\",$AW64<>$H64),40+(2*ROUNDDOWN(10*VLOOKUP(AR64,$A$8:$CB$107,49,FALSE)/VLOOKUP(AR64,$A$8:$H$107,8,FALSE),0)-ROUNDDOWN(10*AW64/$H64,0)),IF(AND(AU64=\"Nul\",$AW64=$H64),58,0))))","v":0},null,{"$f":"IF(AY64<>\"\",VLOOKUP(AY64,$A$8:$C$107,2,FALSE),\"\")","v":""},{"$f":"IF(AY64<>\"\",IF(AY64=$A64,\"ERR\",IF(OR(AY64=$I64,AY64=$P64,AY64=$W64,AY64=$AD64,AY64=$AK64,AY64=$AR64),\"DUP\",IF(ISNA(VLOOKUP(AY64,$A$8:$A$107,1,FALSE)),\"ERR\",IF(COUNTIF($I$8:$I$107,AY64)>1,\"ERR\",IF($D64=VLOOKUP(AY64,$A$8:$D$107,4,FALSE),\"CLUB\",\"OK\"))))),\"\")","v":""},null,{"$f":"IF(BB64<>\"\",IF(BB64=\"Victoire\",IF(VLOOKUP(AY64,$A$8:$BL$107,54,FALSE)=\"Défaite\",\"OK\",\"ERR\"),IF(BB64=\"Défaite\",IF(VLOOKUP(AY64,$A$8:$BL$107,54,FALSE)=\"Victoire\",\"OK\",\"ERR\"),IF(BB64=\"Nul\",IF(VLOOKUP(AY64,$A$8:$BL$107,54,FALSE)=\"Nul\",\"OK\",\"ERR\")))),\"\")","v":""},null,{"$f":"IF(BB64=\"Victoire\",100-ROUNDDOWN(20*BD64/$H64,0),\nIF(BB64=\"Défaite\",10+ROUNDDOWN(20*VLOOKUP(AY64,$A$8:$CB$107,56,FALSE)/VLOOKUP(AY64,$A$8:$H$107,8,FALSE),0),\nIF(AND(BB64=\"Nul\",$BD64<>$H64),40+(2*ROUNDDOWN(10*VLOOKUP(AY64,$A$8:$CB$107,56,FALSE)/VLOOKUP(AY64,$A$8:$H$107,8,FALSE),0)-ROUNDDOWN(10*BD64/$H64,0)),IF(AND(BB64=\"Nul\",$BD64=$H64),58,0))))","v":0},null,{"$f":"IF(BF64<>\"\",VLOOKUP(BF64,$A$8:$C$107,2,FALSE),\"\")","v":""},{"$f":"IF(BF64<>\"\",IF(BF64=$A64,\"ERR\",IF(OR(BF64=$I64,BF64=$P64,BF64=$W64,BF64=$AD64,BF64=$AK64,BF64=$AR64,BF64=$AY64),\"DUP\",IF(ISNA(VLOOKUP(BF64,$A$8:$A$107,1,FALSE)),\"ERR\",IF(COUNTIF($I$8:$I$107,BF64)>1,\"ERR\",IF($D64=VLOOKUP(BF64,$A$8:$D$107,4,FALSE),\"CLUB\",\"OK\"))))),\"\")","v":""},null,{"$f":"IF(BI64<>\"\",IF(BI64=\"Victoire\",IF(VLOOKUP(BF64,$A$8:$BL$107,61,FALSE)=\"Défaite\",\"OK\",\"ERR\"),IF(BI64=\"Défaite\",IF(VLOOKUP(BF64,$A$8:$BL$107,61,FALSE)=\"Victoire\",\"OK\",\"ERR\"),IF(BI64=\"Nul\",IF(VLOOKUP(BF64,$A$8:$BL$107,61,FALSE)=\"Nul\",\"OK\",\"ERR\")))),\"\")","v":""},null,{"$f":"IF(BI64=\"Victoire\",100-ROUNDDOWN(20*BK64/$H64,0),\nIF(BI64=\"Défaite\",10+ROUNDDOWN(20*VLOOKUP(BF64,$A$8:$CB$107,63,FALSE)/VLOOKUP(BF64,$A$8:$H$107,8,FALSE),0),\nIF(AND(BI64=\"Nul\",$BK64<>$H64),40+(2*ROUNDDOWN(10*VLOOKUP(BF64,$A$8:$CB$107,63,FALSE)/VLOOKUP(BF64,$A$8:$H$107,8,FALSE),0)-ROUNDDOWN(10*BK64/$H64,0)),IF(AND(BI64=\"Nul\",$BK64=$H64),58,0))))","v":0},null,{"$f":"IF(BM64<>\"\",VLOOKUP(BM64,$A$8:$C$107,2,FALSE),\"\")","v":""},{"$f":"IF(BM64<>\"\",IF(BM64=$A64,\"ERR\",IF(OR(BM64=$I64,BM64=$P64,BM64=$W64,BM64=$AD64,BM64=$AK64,BM64=$AR64,BM64=$AY64,BM64=$BF64),\"DUP\",IF(ISNA(VLOOKUP(BM64,$A$8:$A$107,1,FALSE)),\"ERR\",IF(COUNTIF($I$8:$I$107,BM64)>1,\"ERR\",IF($D64=VLOOKUP(BM64,$A$8:$D$107,4,FALSE),\"CLUB\",\"OK\"))))),\"\")","v":""},null,{"$f":"IF(BP64<>\"\",IF(BP64=\"Victoire\",IF(VLOOKUP(BM64,$A$8:$BS$107,68,FALSE)=\"Défaite\",\"OK\",\"ERR\"),IF(BP64=\"Défaite\",IF(VLOOKUP(BM64,$A$8:$BS$107,68,FALSE)=\"Victoire\",\"OK\",\"ERR\"),IF(BP64=\"Nul\",IF(VLOOKUP(BM64,$A$8:$BS$107,68,FALSE)=\"Nul\",\"OK\",\"ERR\")))),\"\")","v":""},null,{"$f":"IF(BP64=\"Victoire\",100-ROUNDDOWN(20*BR64/$H64,0),\nIF(BP64=\"Défaite\",10+ROUNDDOWN(20*VLOOKUP(BM64,$A$8:$CB$107,70,FALSE)/VLOOKUP(BM64,$A$8:$H$107,8,FALSE),0),\nIF(AND(BP64=\"Nul\",$BR64<>$H64),40+(2*ROUNDDOWN(10*VLOOKUP(BM64,$A$8:$CB$107,70,FALSE)/VLOOKUP(BM64,$A$8:$H$107,8,FALSE),0)-ROUNDDOWN(10*BR64/$H64,0)),IF(AND(BP64=\"Nul\",$BR64=$H64),58,0))))","v":0},null,{"$f":"IF($I64<>\"\",VLOOKUP($I64,$A$8:$N$107,5,FALSE),0)+IF($P64<>\"\",VLOOKUP($P64,$A$8:$N$107,5,FALSE),0)+IF($W64<>\"\",VLOOKUP($W64,$A$8:$N$107,5,FALSE),0)+IF($AD64<>\"\",VLOOKUP($AD64,$A$8:$N$107,5,FALSE),0)+IF($AK64<>\"\",VLOOKUP($AK64,$A$8:$N$107,5,FALSE),0)+IF($AR64<>\"\",VLOOKUP($AR64,$A$8:$N$107,5,FALSE),0)+IF($AY64<>\"\",VLOOKUP($AY64,$A$8:$N$107,5,FALSE),0)+IF($BF64<>\"\",VLOOKUP($BF64,$A$8:$N$107,5,FALSE),0)+IF($BM64<>\"\",VLOOKUP($BM64,$A$8:$N$107,5,FALSE),0)","v":0}]
[{"$nulls":4},0,null,{"$f":"IF($F65<>\"\",VLOOKUP(F65,Armies!$A$1:$C$300,3,FALSE),\"\")","v":""},null,null,{"$f":"IF(I65<>\"\",VLOOKUP(I65,$A$8:$C$107,2,FALSE),\"\")","v":""},{"$f":"IF(I65<>\"\",IF(I65=$A65,\"ERR\",IF(OR(I65=$P65,I65=$W65,I65=$AD65,I65=$AK65),\"DUP\",IF(ISNA(VLOOKUP(I65,$A$8:$A$107,1,FALSE)),\"ERR\",IF(COUNTIF($I$8:$I$107,I65)>1,\"ERR\",IF($D65=VLOOKUP(I65,$A$8:$D$107,4,FALSE),\"CLUB\",\"OK\"))))),\"\")","v":""},null,{"$f":"IF(L65<>\"\",IF(L65=\"Victoire\",IF(VLOOKUP(I65,$A$8:$L$107,12,FALSE)=\"Défaite\",\"OK\",\"ERR\"),IF(L65=\"Défaite\",IF(VLOOKUP(I65,$A$8:$L$107,12,FALSE)=\"Victoire\",\"OK\",\"ERR\"),IF(L65=\"Nul\",IF(VLOOKUP(I65,$A$8:$L$107,12,FALSE)=\"Nul\",\"OK\",\"ERR\")))),\"\")","v":""},null,{"$f":"IF(L65=\"Victoire\",100-ROUNDDOWN(20*N65/$H65,0),\nIF(L65=\"Défaite\",10+ROUNDDOWN(20*VLOOKUP(I65,$A$8:$N$107,14,FALSE)/VLOOKUP(I65,$A$8:$H$107,8,FALSE),0),\nIF(AND(L65=\"Nul\",$N65<>$H65),40+(2*ROUNDDOWN(10*VLOOKUP(I65,$A$8:$N$107,14,FALSE)/VLOOKUP(I65,$A$8:$H$107,8,FALSE),0)-ROUNDDOWN(10*N65/$H65,0)),IF(AND(L65=\"Nul\",$N65=$H65),58,0))))","v":0},null,{"$f":"IF(P65<>\"\",VLOOKUP(P65,$A$8:$C$107,2,FALSE),\"\")","v":""},{"$f":"IF(P65<>\"\",IF(P65=$A65,\"ERR\",IF(OR(P65=$I65,P65=$W65,P65=$AD65,P65=$AK65),\"DUP\",IF(ISNA(VLOOKUP(P65,$A$8:$A$107,1,FALSE)),\"ERR\",IF(COUNTIF($I$8:$I$107,P65)>1,\"ERR\",IF($D65=VLOOKUP(P65,$A$8:$D$107,4,FALSE),\"CLUB\",\"OK\"))))),\"\")","v":""},null,{"$f":"IF(S65<>\"\",IF(S65=\"Victoire\",IF(VLOOKUP(P65,$A$8:$AO$107,19,FALSE)=\"Défaite\",\"OK\",\"ERR\"),IF(S65=\"Défaite\",IF(VLOOKUP(P65,$A$8:$AO$107,19,FALSE)=\"Victoire\",\"OK\",\"ERR\"),IF(S65=\"Nul\",IF(VLOOKUP(P65,$A$8:$AO$107,19,FALSE)=\"Nul\",\"OK\",\"ERR\")))),\"\")","v":""},null,{"$f":"IF(S65=\"Victoire\",100-ROUNDDOWN(20*U65/$H65,0),\nIF(S65=\"Défaite\",10+ROUNDDOWN(20*VLOOKUP(P65,$A$8:$AO$107,21,FALSE)/VLOOKUP(P65,$A$8:$H$107,8,FALSE),0),\nIF(AND(S65=\"Nul\",$U65<>$H65),40+(2*ROUNDDOWN(10*VLOOKUP(P65,$A$8:$AO$107,21,FALSE)/VLOOKUP(P65,$A$8:$H$107,8,FALSE),0)-ROUNDDOWN(10*U65/$H65,0)),IF(AND(S65=\"Nul\",$U65=$H65),58,0))))","v":0},null,{"$f":"IF(W65<>\"\",VLOOKUP(W65,$A$8:$C$107,2,FALSE),\"\")","v":""},{"$f":"IF(W65<>\"\",IF(W65=$A65,\"ERR\",IF(OR(W65=$P65,W65=$I65,W65=$AD65,W65=$AK65),\"DUP\",IF(ISNA(VLOOKUP(W65,$A$8:$A$107,1,FALSE)),\"ERR\",IF(COUNTIF($I$8:$I$107,W65)>1,\"ERR\",IF($D65=VLOOKUP(W65,$A$8:$D$107,4,FALSE),\"CLUB\",\"OK\"))))),\"\")","v":""},null,{"$f":"IF(Z65<>\"\",IF(Z65=\"Victoire\",IF(VLOOKUP(W65,$A$8:$AO$107,26,FALSE)=\"Défaite\",\"OK\",\"ERR\"),IF(Z65=\"Défaite\",IF(VLOOKUP(W65,$A$8:$AO$107,26,FALSE)=\"Victoire\",\"OK\",\"ERR\"),IF(Z65=\"Nul\",IF(VLOOKUP(W65,$A$8:$AO$107,26,FALSE)=\"Nul\",\"OK\",\"ERR\")))),\"\")","v":""},null,{"$f":"IF(Z65=\"Victoire\",100-ROUNDDOWN(20*AB65/$H65,0),\nIF(Z65=\"Défaite\",10+ROUNDDOWN(20*VLOOKUP(W65,$A$8:$AO$107,28,FALSE)/VLOOKUP(W65,$A$8:$H$107,8,FALSE),0),\nIF(AND(Z65=\"Nul\",$AB65<>$H65),40+(2*ROUNDDOWN(10*VLOOKUP(W65,$A$8:$AO$107,28,FALSE)/VLOOKUP(W65,$A$8:$H$107,8,FALSE),0)-ROUNDDOWN(10*AB65/$H65,0)),IF(AND(Z65=\"Nul\",$AB65=$H65),58,0))))","v":0},null,{"$f":"IF(AD65<>\"\",VLOOKUP(AD65,$A$8:$C$107,2,FALSE),\"\")","v":""},{"$f":"IF(AD65<>\"\",IF(AD65=$A65,\"ERR\",IF(OR(AD65=$P65,AD65=$W65,AD65=$I65,AD65=$AK65),\"DUP\",IF(ISNA(VLOOKUP(AD65,$A$8:$A$107,1,FALSE)),\"ERR\",IF(COUNTIF($I$8:$I$107,AD65)>1,\"ERR\",IF($D65=VLOOKUP(AD65,$A$8:$D$107,4,FALSE),\"CLUB\",\"OK\"))))),\"\")","v":""},null,{"$f":"IF(AG65<>\"\",IF(AG65=\"Victoire\",IF(VLOOKUP(AD65,$A$8:$AO$107,33,FALSE)=\"Défaite\",\"OK\",\"ERR\"),IF(AG65=\"Défaite\",IF(VLOOKUP(AD65,$A$8:$AO$107,33,FALSE)=\"Victoire\",\"OK\",\"ERR\"),IF(AG65=\"Nul\",IF(VLOOKUP(AD65,$A$8:$AO$107,33,FALSE)=\"Nul\",\"OK\",\"ERR\")))),\"\")","v":""},null,{"$f":"IF(AG65=\"Victoire\",100-ROUNDDOWN(20*AI65/$H65,0),\nIF(AG65=\"Défaite\",10+ROUNDDOWN(20*VLOOKUP(AD65,$A$8:$AO$107,35,FALSE)/VLOOKUP(AD65,$A$8:$H$107,8,FALSE),0),\nIF(AND(AG65=\"Nul\",$AI65<>$H65),40+(2*ROUNDDOWN(10*VLOOKUP(AD65,$A$8:$AO$107,35,FALSE)/VLOOKUP(AD65,$A$8:$H$107,8,FALSE),0)-ROUNDDOWN(10*AI65/$H65,0)),IF(AND(AG65=\"Nul\",$AI65=$H65),58,0))))","v":0},null,{"$f":"IF(AK65<>\"\",VLOOKUP(AK65,$A$8:$C$107,2,FALSE),\"\")","v":""},{"$f":"IF(AK65<>\"\",IF(AK65=$A65,\"ERR\",IF(OR(AK65=$P65,AK65=$W65,AK65=$AD65,AK65=$I65),\"DUP\",IF(ISNA(VLOOKUP(AK65,$A$8:$A$107,1,FALSE)),\"ERR\",IF(COUNTIF($I$8:$I$107,AK65)>1,\"ERR\",IF($D65=VLOOKUP(AK65,$A$8:$D$107,4,FALSE),\"CLUB\",\"OK\"))))),\"\")","v":""},null,{"$f":"IF(AN65<>\"\",IF(AN65=\"Victoire\",IF(VLOOKUP(AK65,$A$8:$AO$107,40,FALSE)=\"Défaite\",\"OK\",\"ERR\"),IF(AN65=\"Défaite\",IF(VLOOKUP(AK65,$A$8:$AO$107,40,FALSE)=\"Victoire\",\"OK\",\"ERR\"),IF(AN65=\"Nul\",IF(VLOOKUP(AK65,$A$8:$AO$107,40,FALSE)=\"Nul\",\"OK\",\"ERR\")))),\"\")","v":""},null,{"$f":"IF(AN65=\"Victoire\",100-ROUNDDOWN(20*AP65/$H65,0),\nIF(AN65=\"Défaite\",10+ROUNDDOWN(20*VLOOKUP(AK65,$A$8:$CB$107,42,FALSE)/VLOOKUP(AK65,$A$8:$H$107,8,FALSE),0),\nIF(AND(AN65=\"Nul\",$AP65<>$H65),40+(2*ROUNDDOWN(10*VLOOKUP(AK65,$A$8:$CB$107,42,FALSE)/VLOOKUP(AK65,$A$8:$H$107,8,FALSE),0)-ROUNDDOWN(10*AP65/$H65,0)),IF(AND(AN65=\"Nul\",$AP65=$H65),58,0))))","v":0},null,{"$f":"IF(AR65<>\"\",VLOOKUP(AR65,$A$8:$C$107,2,FALSE),\"\")","v":""},{"$f":"IF(AR65<>\"\",IF(AR65=$A65,\"ERR\",IF(OR(AR65=$I65,AR65=$P65,AR65=$W65,AR65=$AD65,AR65=$AK65),\"DUP\",IF(ISNA(VLOOKUP(AR65,$A$8:$A$107,1,FALSE)),\"ERR\",IF(COUNTIF($I$8:$I$107,AR65)>1,\"ERR\",IF($D65=VLOOKUP(AR65,$A$8:$D$107,4,FALSE),\"CLUB\",\"OK\"))))),\"\")","v":""},null,{"$f":"IF(AU65<>\"\",IF(AU65=\"Victoire\",IF(VLOOKUP(AR65,$A$8:$BL$107,47,FALSE)=\"Défaite\",\"OK\",\"ERR\"),IF(AU65=\"Défaite\",IF(VLOOKUP(AR65,$A$8:$BL$107,47,FALSE)=\"Victoire\",\"OK\",\"ERR\"),IF(AU65=\"Nul\",IF(VLOOKUP(AR65,$A$8:$BL$107,47,FALSE)=\"Nul\",\"OK\",\"ERR\")))),\"\")","v":""},null,{"$f":"IF(AU65=\"Victoire\",100-ROUNDDOWN(20*AW65/$H65,0),\nIF(AU65=\"Défaite\",10+ROUNDDOWN(20*VLOOKUP(AR65,$A$8:$CB$107,49,FALSE)/VLOOKUP(AR65,$A$8:$H$107,8,FALSE),0),\nIF(AND(AU65=\"Nul\",$AW65<>$H65),40+(2*ROUNDDOWN(10*VLOOKUP(AR65,$A$8:$CB$107,49,FALSE)/VLOOKUP(AR65,$A$8:$H$107,8,FALSE),0)-ROUNDDOWN(10*AW65/$H65,0)),IF(AND(AU65=\"Nul\",$AW65=$H65),58,0))))","v":0},null,{"$f":"IF(AY65<>\"\",VLOOKUP(AY65,$A$8:$C$107,2,FALSE),\"\")","v":""},{"$f":"IF(AY65<>\"\",IF(AY65=$A65,\"ERR\",IF(OR(AY65=$I65,AY65=$P65,AY65=$W65,AY65=$AD65,AY65=$AK65,AY65=$AR65),\"DUP\",IF(ISNA(VLOOKUP(AY65,$A$8:$A$107,1,FALSE)),\"ERR\",IF(COUNTIF($I$8:$I$107,AY65)>1,\"ERR\",IF($D65=VLOOKUP(AY65,$A$8:$D$107,4,FALSE),\"CLUB\",\"OK\"))))),\"\")","v":""},null,{"$f":"IF(BB65<>\"\",IF(BB65=\"Victoire\",IF(VLOOKUP(AY65,$A$8:$BL$107,54,FALSE)=\"Défaite\",\"OK\",\"ERR\"),IF(BB65=\"Défaite\",IF(VLOOKUP(AY65,$A$8:$BL$107,54,FALSE)=\"Victoire\",\"OK\",\"ERR\"),IF(BB65=\"Nul\",IF(VLOOKUP(AY65,$A$8:$BL$107,54,FALSE)=\"Nul\",\"OK\",\"ERR\")))),\"\")","v":""},null,{"$f":"IF(BB65=\"Victoire\",100-ROUNDDOWN(20*BD65/$H65,0),\nIF(BB65=\"Défaite\",10+ROUNDDOWN(20*VLOOKUP(AY65,$A$8:$CB$107,56,FALSE)/VLOOKUP(AY65,$A$8:$H$107,8,FALSE),0),\nIF(AND(BB65=\"Nul\",$BD65<>$H65),40+(2*ROUNDDOWN(10*VLOOKUP(AY65,$A$8:$CB$107,56,FALSE)/VLOOKUP(AY65,$A$8:$H$107,8,FALSE),0)-ROUNDDOWN(10*BD65/$H65,0)),IF(AND(BB65=\"Nul\",$BD65=$H65),58,0))))","v":0},null,{"$f":"IF(BF65<>\"\",VLOOKUP(BF65,$A$8:$C$107,2,FALSE),\"\")","v":""},{"$f":"IF(BF65<>\"\",IF(BF65=$A65,\"ERR\",IF(OR(BF65=$I65,BF65=$P65,BF65=$W65,BF65=$AD65,BF65=$AK65,BF65=$AR65,BF65=$AY65),\"DUP\",IF(ISNA(VLOOKUP(BF65,$A$8:$A$107,1,FALSE)),\"ERR\",IF(COUNTIF($I$8:$I$107,BF65)>1,\"ERR\",IF($D65=VLOOKUP(BF65,$A$8:$D$107,4,FALSE),\"CLUB\",\"OK\"))))),\"\")","v":""},null,{"$f":"IF(BI65<>\"\",IF(BI65=\"Victoire\",IF(VLOOKUP(BF65,$A$8:$BL$107,61,FALSE)=\"Défaite\",\"OK\",\"ERR\"),IF(BI65=\"Défaite\",IF(VLOOKUP(BF65,$A$8:$BL$107,61,FALSE)=\"Victoire\",\"OK\",\"ERR\"),IF(BI65=\"Nul\",IF(VLOOKUP(BF65,$A$8:$BL$107,61,FALSE)=\"Nul\",\"OK\",\"ERR\")))),\"\")","v":""},null,{"$f":"IF(BI65=\"Victoire\",100-ROUNDDOWN(20*BK65/$H65,0),\nIF(BI65=\"Défaite\",10+ROUNDDOWN(20*VLOOKUP(BF65,$A$8:$CB$107,63,FALSE)/VLOOKUP(BF65,$A$8:$H$107,8,FALSE),0),\nIF(AND(BI65=\"Nul\",$BK65<>$H65),40+(2*ROUNDDOWN(10*VLOOKUP(BF65,$A$8:$CB$107,63,FALSE)/VLOOKUP(BF65,$A$8:$H$107,8,FALSE),0)-ROUNDDOWN(10*BK65/$H65,0)),IF(AND(BI65=\"Nul\",$BK65=$H65),58,0))))","v":0},null,{"$f":"IF(BM65<>\"\",VLOOKUP(BM65,$A$8:$C$107,2,FALSE),\"\")","v":""},{"$f":"IF(BM65<>\"\",IF(BM65=$A65,\"ERR\",IF(OR(BM65=$I65,BM65=$P65,BM65=$W65,BM65=$AD65,BM65=$AK65,BM65=$AR65,BM65=$AY65,BM65=$BF65),\"DUP\",IF(ISNA(VLOOKUP(BM65,$A$8:$A$107,1,FALSE)),\"ERR\",IF(COUNTIF($I$8:$I$107,BM65)>1,\"ERR\",IF($D65=VLOOKUP(BM65,$A$8:$D$107,4,FALSE),\"CLUB\",\"OK\"))))),\"\")","v":""},null,{"$f":"IF(BP65<>\"\",IF(BP65=\"Victoire\",IF(VLOOKUP(BM65,$A$8:$BS$107,68,FALSE)=\"Défaite\",\"OK\",\"ERR\"),IF(BP65=\"Défaite\",IF(VLOOKUP(BM65,$A$8:$BS$107,68,FALSE)=\"Victoire\",\"OK\",\"ERR\"),IF(BP65=\"Nul\",IF(VLOOKUP(BM65,$A$8:$BS$107,68,FALSE)=\"Nul\",\"OK\",\"ERR\")))),\"\")","v":""},null,{"$f":"IF(BP65=\"Victoire\",100-ROUNDDOWN(20*BR65/$H65,0),\nIF(BP65=\"Défaite\",10+ROUNDDOWN(20*VLOOKUP(BM65,$A$8:$CB$107,70,FALSE)/VLOOKUP(BM65,$A$8:$H$107,8,FALSE),0),\nIF(AND(BP65=\"Nul\",$BR65<>$H65),40+(2*ROUNDDOWN(10*VLOOKUP(BM65,$A$8:$CB$107,70,FALSE)/VLOOKUP(BM65,$A$8:$H$107,8,FALSE),0)-ROUNDDOWN(10*BR65/$H65,0)),IF(AND(BP65=\"Nul\",$BR65=$H65),58,0))))","v":0},null,{"$f":"IF($I65<>\"\",VLOOKUP($I65,$A$8:$N$107,5,FALSE),0)+IF($P65<>\"\",VLOOKUP($P65,$A$8:$N$107,5,FALSE),0)+IF($W65<>\"\",VLOOKUP($W65,$A$8:$N$107,5,FALSE),0)+IF($AD65<>\"\",VLOOKUP($AD65,$A$8:$N$107,5,FALSE),0)+IF($AK65<>\"\",VLOOKUP($AK65,$A$8:$N$107,5,FALSE),0)+IF($AR65<>\"\",VLOOKUP($AR65,$A$8:$N$107,5,FALSE),0)+IF($AY65<>\"\",VLOOKUP($AY65,$A$8:$N$107,5,FALSE),0)+IF($BF65<>\"\",VLOOKUP($BF65,$A$8:$N$107,5,FALSE),0)+IF($BM65<>\"\",VLOOKUP($BM65,$A$8:$N$107,5,FALSE),0)","v":0}]
[{"$nulls":4},0,null,{"$f":"IF($F66<>\"\",VLOOKUP(F66,Armies!$A$1:$C$300,3,FALSE),\"\")","v":""},null,null,{"$f":"IF(I66<>\"\",VLOOKUP(I66,$A$8:$C$107,2,FALSE),\"\")","v":""},{"$f":"IF(I66<>\"\",IF(I66=$A66,\"ERR\",IF(OR(I66=$P66,I66=$W66,I66=$AD66,I66=$AK66),\"DUP\",IF(ISNA(VLOOKUP(I66,$A$8:$A$107,1,FALSE)),\"ERR\",IF(COUNTIF($I$8:$I$107,I66)>1,\"ERR\",IF($D66=VLOOKUP(I66,$A$8:$D$107,4,FALSE),\"CLUB\",\"OK\"))))),\"\")","v":""},null,{"$f":"IF(L66<>\"\",IF(L66=\"Victoire\",IF(VLOOKUP(I66,$A$8:$L$107,12,FALSE)=\"Défaite\",\"OK\",\"ERR\"),IF(L66=\"Défaite\",IF(VLOOKUP(I66,$A$8:$L$107,12,FALSE)=\"Victoire\",\"OK\",\"ERR\"),IF(L66=\"Nul\",IF(VLOOKUP(I66,$A$8:$L$107,12,FALSE)=\"Nul\",\"OK\",\"ERR\")))),\"\")","v":""},null,{"$f":"IF(L66=\"Victoire\",100-ROUNDDOWN(20*N66/$H66,0),\nIF(L66=\"Défaite\",10+ROUNDDOWN(20*VLOOKUP(I66,$A$8:$N$107,14,FALSE)/VLOOKUP(I66,$A$8:$H$107,8,FALSE),0),\nIF(AND(L66=\"Nul\",$N66<>$H66),40+(2*ROUNDDOWN(10*VLOOKUP(I66,$A$8:$N$107,14,FALSE)/VLOOKUP(I66,$A$8:$H$107,8,FALSE),0)-ROUNDDOWN(10*N66/$H66,0)),IF(AND(L66=\"Nul\",$N66=$H66),58,0))))","v":0},null,{"$f":"IF(P66<>\"\",VLOOKUP(P66,$A$8:$C$107,2,FALSE),\"\")","v":""},{"$f":"IF(P66<>\"\",IF(P66=$A66,\"ERR\",IF(OR(P66=$I66,P66=$W66,P66=$AD66,P66=$AK66),\"DUP\",IF(ISNA(VLOOKUP(P66,$A$8:$A$107,1,FALSE)),\"ERR\",IF(COUNTIF($I$8:$I$107,P66)>1,\"ERR\",IF($D66=VLOOKUP(P66,$A$8:$D$107,4,FALSE),\"CLUB\",\"OK\"))))),\"\")","v":""},null,{"$f":"IF(S66<>\"\",IF(S66=\"Victoire\",IF(VLOOKUP(P66,$A$8:$AO$107,19,FALSE)=\"Défaite\",\"OK\",\"ERR\"),IF(S66=\"Défaite\",IF(VLOOKUP(P66,$A$8:$AO$107,19,FALSE)=\"Victoire\",\"OK\",\"ERR\"),IF(S66=\"Nul\",IF(VLOOKUP(P66,$A$8:$AO$107,19,FALSE)=\"Nul\",\"OK\",\"ERR\")))),\"\")","v":""},null,{"$f":"IF(S66=\"Victoire\",100-ROUNDDOWN(20*U66/$H66,0),\nIF(S66=\"Défaite\",10+ROUNDDOWN(20*VLOOKUP(P66,$A$8:$AO$107,21,FALSE)/VLOOKUP(P66,$A$8:$H$107,8,FALSE),0),\nIF(AND(S66=\"Nul\",$U66<>$H66),40+(2*ROUNDDOWN(10*VLOOKUP(P66,$A$8:$AO$107,21,FALSE)/VLOOKUP(P66,$A$8:$H$107,8,FALSE),0)-ROUNDDOWN(10*U66/$H66,0)),IF(AND(S66=\"Nul\",$U66=$H66),58,0))))","v":0},null,{"$f":"IF(W66<>\"\",VLOOKUP(W66,$A$8:$C$107,2,FALSE),\"\")","v":""},{"$f":"IF(W66<>\"\",IF(W66=$A66,\"ERR\",IF(OR(W66=$P66,W66=$I66,W66=$AD66,W66=$AK66),\"DUP\",IF(ISNA(VLOOKUP(W66,$A$8:$A$107,1,FALSE)),\"ERR\",IF(COUNTIF($I$8:$I$107,W66)>1,\"ERR\",IF($D66=VLOOKUP(W66,$A$8:$D$107,4,FALSE),\"CLUB\",\"OK\"))))),\"\")","v":""},null,{"$f":"IF(Z66<>\"\",IF(Z66=\"Victoire\",IF(VLOOKUP(W66,$A$8:$AO$107,26,FALSE)=\"Défaite\",\"OK\",\"ERR\"),IF(Z66=\"Défaite\",IF(VLOOKUP(W66,$A$8:$AO$107,26,FALSE)=\"Victoire\",\"OK\",\"ERR\"),IF(Z66=\"Nul\",IF(VLOOKUP(W66,$A$8:$AO$107,26,FALSE)=\"Nul\",\"OK\",\"ERR\")))),\"\")","v":""},null,{"$f":"IF(Z66=\"Victoire\",100-ROUNDDOWN(20*AB66/$H66,0),\nIF(Z66=\"Défaite\",10+ROUNDDOWN(20*VLOOKUP(W66,$A$8:$AO$107,28,FALSE)/VLOOKUP(W66,$A$8:$H$107,8,FALSE),0),\nIF(AND(Z66=\"Nul\",$AB66<>$H66),40+(2*ROUNDDOWN(10*VLOOKUP(W66,$A$8:$AO$107,28,FALSE)/VLOOKUP(W66,$A$8:$H$107,8,FALSE),0)-ROUNDDOWN(10*AB66/$H66,0)),IF(AND(Z66=\"Nul\",$AB66=$H66),58,0))))","v":0},null,{"$f":"IF(AD66<>\"\",VLOOKUP(AD66,$A$8:$C$107,2,FALSE),\"\")","v":""},{"$f":"IF(AD66<>\"\",IF(AD66=$A66,\"ERR\",IF(OR(AD66=$P66,AD66=$W66,AD66=$I66,AD66=$AK66),\"DUP\",IF(ISNA(VLOOKUP(AD66,$A$8:$A$107,1,FALSE)),\"ERR\",IF(COUNTIF($I$8:$I$107,AD66)>1,\"ERR\",IF($D66=VLOOKUP(AD66,$A$8:$D$107,4,FALSE),\"CLUB\",\"OK\"))))),\"\")","v":""},null,{"$f":"IF(AG66<>\"\",IF(AG66=\"Victoire\",IF(VLOOKUP(AD66,$A$8:$AO$107,33,FALSE)=\"Défaite\",\"OK\",\"ERR\"),IF(AG66=\"Défaite\",IF(VLOOKUP(AD66,$A$8:$AO$107,33,FALSE)=\"Victoire\",\"OK\",\"ERR\"),IF(AG66=\"Nul\",IF(VLOOKUP(AD66,$A$8:$AO$107,33,FALSE)=\"Nul\",\"OK\",\"ERR\")))),\"\")","v":""},null,{"$f":"IF(AG66=\"Victoire\",100-ROUNDDOWN(20*AI66/$H66,0),\nIF(AG66=\"Défaite\",10+ROUNDDOWN(20*VLOOKUP(AD66,$A$8:$AO$107,35,FALSE)/VLOOKUP(AD66,$A$8:$H$107,8,FALSE),0),\nIF(AND(AG66=\"Nul\",$AI66<>$H66),40+(2*ROUNDDOWN(10*VLOOKUP(AD66,$A$8:$AO$107,35,FALSE)/VLOOKUP(AD66,$A$8:$H$107,8,FALSE),0)-ROUNDDOWN(10*AI66/$H66,0)),IF(AND(AG66=\"Nul\",$AI66=$H66),58,0))))","v":0},null,{"$f":"IF(AK66<>\"\",VLOOKUP(AK66,$A$8:$C$107,2,FALSE),\"\")","v":""},{"$f":"IF(AK66<>\"\",IF(AK66=$A66,\"ERR\",IF(OR(AK66=$P66,AK66=$W66,AK66=$AD66,AK66=$I66),\"DUP\",IF(ISNA(VLOOKUP(AK66,$A$8:$A$107,1,FALSE)),\"ERR\",IF(COUNTIF($I$8:$I$107,AK66)>1,\"ERR\",IF($D66=VLOOKUP(AK66,$A$8:$D$107,4,FALSE),\"CLUB\",\"OK\"))))),\"\")","v":""},null,{"$f":"IF(AN66<>\"\",IF(AN66=\"Victoire\",IF(VLOOKUP(AK66,$A$8:$AO$107,40,FALSE)=\"Défaite\",\"OK\",\"ERR\"),IF(AN66=\"Défaite\",IF(VLOOKUP(AK66,$A$8:$AO$107,40,FALSE)=\"Victoire\",\"OK\",\"ERR\"),IF(AN66=\"Nul\",IF(VLOOKUP(AK66,$A$8:$AO$107,40,FALSE)=\"Nul\",\"OK\",\"ERR\")))),\"\")","v":""},null,{"$f":"IF(AN66=\"Victoire\",100-ROUNDDOWN(20*AP66/$H66,0),\nIF(AN66=\"Défaite\",10+ROUNDDOWN(20*VLOOKUP(AK66,$A$8:$CB$107,42,FALSE)/VLOOKUP(AK66,$A$8:$H$107,8,FALSE),0),\nIF(AND(AN66=\"Nul\",$AP66<>$H66),40+(2*ROUNDDOWN(10*VLOOKUP(AK66,$A$8:$CB$107,42,FALSE)/VLOOKUP(AK66,$A$8:$H$107,8,FALSE),0)-ROUNDDOWN(10*AP66/$H66,0)),IF(AND(AN66=\"Nul\",$AP66=$H66),58,0))))","v":0},null,{"$f":"IF(AR66<>\"\",VLOOKUP(AR66,$A$8:$C$107,2,FALSE),\"\")","v":""},{"$f":"IF(AR66<>\"\",IF(AR66=$A66,\"ERR\",IF(OR(AR66=$I66,AR66=$P66,AR66=$W66,AR66=$AD66,AR66=$AK66),\"DUP\",IF(ISNA(VLOOKUP(AR66,$A$8:$A$107,1,FALSE)),\"ERR\",IF(COUNTIF($I$8:$I$107,AR66)>1,\"ERR\",IF($D66=VLOOKUP(AR66,$A$8:$D$107,4,FALSE),\"CLUB\",\"OK\"))))),\"\")","v":""},null,{"$f":"IF(AU66<>\"\",IF(AU66=\"Victoire\",IF(VLOOKUP(AR66,$A$8:$BL$107,47,FALSE)=\"Défaite\",\"OK\",\"ERR\"),IF(AU66=\"Défaite\",IF(VLOOKUP(AR66,$A$8:$BL$107,47,FALSE)=\"Victoire\",\"OK\",\"ERR\"),IF(AU66=\"Nul\",IF(VLOOKUP(AR66,$A$8:$BL$107,47,FALSE)=\"Nul\",\"OK\",\"ERR\")))),\"\")","v":""},null,{"$f":"IF(AU66=\"Victoire\",100-ROUNDDOWN(20*AW66/$H66,0),\nIF(AU66=\"Défaite\",10+ROUNDDOWN(20*VLOOKUP(AR66,$A$8:$CB$107,49,FALSE)/VLOOKUP(AR66,$A$8:$H$107,8,FALSE),0),\nIF(AND(AU66=\"Nul\",$AW66<>$H66),40+(2*ROUNDDOWN(10*VLOOKUP(AR66,$A$8:$CB$107,49,FALSE)/VLOOKUP(AR66,$A$8:$H$107,8,FALSE),0)-ROUNDDOWN(10*AW66/$H66,0)),IF(AND(AU66=\"Nul\",$AW66=$H66),58,0))))","v":0},null,{"$f":"IF(AY66<>\"\",VLOOKUP(AY66,$A$8:$C$107,2,FALSE),\"\")","v":""},{"$f":"IF(AY66<>\"\",IF(AY66=$A66,\"ERR\",IF(OR(AY66=$I66,AY66=$P66,AY66=$W66,AY66=$AD66,AY66=$AK66,AY66=$AR66),\"DUP\",IF(ISNA(VLOOKUP(AY66,$A$8:$A$107,1,FALSE)),\"ERR\",IF(COUNTIF($I$8:$I$107,AY66)>1,\"ERR\",IF($D66=VLOOKUP(AY66,$A$8:$D$107,4,FALSE),\"CLUB\",\"OK\"))))),\"\")","v":""},null,{"$f":"IF(BB66<>\"\",IF(BB66=\"Victoire\",IF(VLOOKUP(AY66,$A$8:$BL$107,54,FALSE)=\"Défaite\",\"OK\",\"ERR\"),IF(BB66=\"Défaite\",IF(VLOOKUP(AY66,$A$8:$BL$107,54,FALSE)=\"Victoire\",\"OK\",\"ERR\"),IF(BB66=\"Nul\",IF(VLOOKUP(AY66,$A$8:$BL$107,54,FALSE)=\"Nul\",\"OK\",\"ERR\")))),\"\")","v":""},null,{"$f":"IF(BB66=\"Victoire\",100-ROUNDDOWN(20*BD66/$H66,0),\nIF(BB66=\"Défaite\",10+ROUNDDOWN(20*VLOOKUP(AY66,$A$8:$CB$107,56,FALSE)/VLOOKUP(AY66,$A$8:$H$107,8,FALSE),0),\nIF(AND(BB66=\"Nul\",$BD66<>$H66),40+(2*ROUNDDOWN(10*VLOOKUP(AY66,$A$8:$CB$107,56,FALSE)/VLOOKUP(AY66,$A$8:$H$107,8,FALSE),0)-ROUNDDOWN(10*BD66/$H66,0)),IF(AND(BB66=\"Nul\",$BD66=$H66),58,0))))","v":0},null,{"$f":"IF(BF66<>\"\",VLOOKUP(BF66,$A$8:$C$107,2,FALSE),\"\")","v":""},{"$f":"IF(BF66<>\"\",IF(BF66=$A66,\"ERR\",IF(OR(BF66=$I66,BF66=$P66,BF66=$W66,BF66=$AD66,BF66=$AK66,BF66=$AR66,BF66=$AY66),\"DUP\",IF(ISNA(VLOOKUP(BF66,$A$8:$A$107,1,FALSE)),\"ERR\",IF(COUNTIF($I$8:$I$107,BF66)>1,\"ERR\",IF($D66=VLOOKUP(BF66,$A$8:$D$107,4,FALSE),\"CLUB\",\"OK\"))))),\"\")","v":""},null,{"$f":"IF(BI66<>\"\",IF(BI66=\"Victoire\",IF(VLOOKUP(BF66,$A$8:$BL$107,61,FALSE)=\"Défaite\",\"OK\",\"ERR\"),IF(BI66=\"Défaite\",IF(VLOOKUP(BF66,$A$8:$BL$107,61,FALSE)=\"Victoire\",\"OK\",\"ERR\"),IF(BI66=\"Nul\",IF(VLOOKUP(BF66,$A$8:$BL$107,61,FALSE)=\"Nul\",\"OK\",\"ERR\")))),\"\")","v":""},null,{"$f":"IF(BI66=\"Victoire\",100-ROUNDDOWN(20*BK66/$H66,0),\nIF(BI66=\"Défaite\",10+ROUNDDOWN(20*VLOOKUP(BF66,$A$8:$CB$107,63,FALSE)/VLOOKUP(BF66,$A$8:$H$107,8,FALSE),0),\nIF(AND(BI66=\"Nul\",$BK66<>$H66),40+(2*ROUNDDOWN(10*VLOOKUP(BF66,$A$8:$CB$107,63,FALSE)/VLOOKUP(BF66,$A$8:$H$107,8,FALSE),0)-ROUNDDOWN(10*BK66/$H66,0)),IF(AND(BI66=\"Nul\",$BK66=$H66),58,0))))","v":0},null,{"$f":"IF(BM66<>\"\",VLOOKUP(BM66,$A$8:$C$107,2,FALSE),\"\")","v":""},{"$f":"IF(BM66<>\"\",IF(BM66=$A66,\"ERR\",IF(OR(BM66=$I66,BM66=$P66,BM66=$W66,BM66=$AD66,BM66=$AK66,BM66=$AR66,BM66=$AY66,BM66=$BF66),\"DUP\",IF(ISNA(VLOOKUP(BM66,$A$8:$A$107,1,FALSE)),\"ERR\",IF(COUNTIF($I$8:$I$107,BM66)>1,\"ERR\",IF($D66=VLOOKUP(BM66,$A$8:$D$107,4,FALSE),\"CLUB\",\"OK\"))))),\"\")","v":""},null,{"$f":"IF(BP66<>\"\",IF(BP66=\"Victoire\",IF(VLOOKUP(BM66,$A$8:$BS$107,68,FALSE)=\"Défaite\",\"OK\",\"ERR\"),IF(BP66=\"Défaite\",IF(VLOOKUP(BM66,$A$8:$BS$107,68,FALSE)=\"Victoire\",\"OK\",\"ERR\"),IF(BP66=\"Nul\",IF(VLOOKUP(BM66,$A$8:$BS$107,68,FALSE)=\"Nul\",\"OK\",\"ERR\")))),\"\")","v":""},null,{"$f":"IF(BP66=\"Victoire\",100-ROUNDDOWN(20*BR66/$H66,0),\nIF(BP66=\"Défaite\",10+ROUNDDOWN(20*VLOOKUP(BM66,$A$8:$CB$107,70,FALSE)/VLOOKUP(BM66,$A$8:$H$107,8,FALSE),0),\nIF(AND(BP66=\"Nul\",$BR66<>$H66),40+(2*ROUNDDOWN(10*VLOOKUP(BM66,$A$8:$CB$107,70,FALSE)/VLOOKUP(BM66,$A$8:$H$107,8,FALSE),0)-ROUNDDOWN(10*BR66/$H66,0)),IF(AND(BP66=\"Nul\",$BR66=$H66),58,0))))","v":0},null,{"$f":"IF($I66<>\"\",VLOOKUP($I66,$A$8:$N$107,5,FALSE),0)+IF($P66<>\"\",VLOOKUP($P66,$A$8:$N$107,5,FALSE),0)+IF($W66<>\"\",VLOOKUP($W66,$A$8:$N$107,5,FALSE),0)+IF($AD66<>\"\",VLOOKUP($AD66,$A$8:$N$107,5,FALSE),0)+IF($AK66<>\"\",VLOOKUP($AK66,$A$8:$N$107,5,FALSE),0)+IF($AR66<>\"\",VLOOKUP($AR66,$A$8:$N$107,5,FALSE),0)+IF($AY66<>\"\",VLOOKUP($AY66,$A$8:$N$107,5,FALSE),0)+IF($BF66<>\"\",VLOOKUP($BF66,$A$8:$N$107,5,FALSE),0)+IF($BM66<>\"\",VLOOKUP($BM66,$A$8:$N$107,5,FALSE),0)","v":0}]
[{"$nulls":4},0,null,{"$f":"IF($F67<>\"\",VLOOKUP(F67,Armies!$A$1:$C$300,3,FALSE),\"\")","v":""},null,null,{"$f":"IF(I67<>\"\",VLOOKUP(I67,$A$8:$C$107,2,FALSE),\"\")","v":""},{"$f":"IF(I67<>\"\",IF(I67=$A67,\"ERR\",IF(OR(I67=$P67,I67=$W67,I67=$AD67,I67=$AK67),\"DUP\",IF(ISNA(VLOOKUP(I67,$A$8:$A$107,1,FALSE)),\"ERR\",IF(COUNTIF($I$8:$I$107,I67)>1,\"ERR\",IF($D67=VLOOKUP(I67,$A$8:$D$107,4,FALSE),\"CLUB\",\"OK\"))))),\"\")","v":""},null,{"$f":"IF(L67<>\"\",IF(L67=\"Victoire\",IF(VLOOKUP(I67,$A$8:$L$107,12,FALSE)=\"Défaite\",\"OK\",\"ERR\"),IF(L67=\"Défaite\",IF(VLOOKUP(I67,$A$8:$L$107,12,FALSE)=\"Victoire\",\"OK\",\"ERR\"),IF(L67=\"Nul\",IF(VLOOKUP(I67,$A$8:$L$107,12,FALSE)=\"Nul\",\"OK\",\"ERR\")))),\"\")","v":""},null,{"$f":"IF(L67=\"Victoire\",100-ROUNDDOWN(20*N67/$H67,0),\nIF(L67=\"Défaite\",10+ROUNDDOWN(20*VLOOKUP(I67,$A$8:$N$107,14,FALSE)/VLOOKUP(I67,$A$8:$H$107,8,FALSE),0),\nIF(AND(L67=\"Nul\",$N67<>$H67),40+(2*ROUNDDOWN(10*VLOOKUP(I67,$A$8:$N$107,14,FALSE)/VLOOKUP(I67,$A$8:$H$107,8,FALSE),0)-ROUNDDOWN(10*N67/$H67,0)),IF(AND(L67=\"Nul\",$N67=$H67),58,0))))","v":0},null,{"$f":"IF(P67<>\"\",VLOOKUP(P67,$A$8:$C$107,2,FALSE),\"\")","v":""},{"$f":"IF(P67<>\"\",IF(P67=$A67,\"ERR\",IF(OR(P67=$I67,P67=$W67,P67=$AD67,P67=$AK67),\"DUP\",IF(ISNA(VLOOKUP(P67,$A$8:$A$107,1,FALSE)),\"ERR\",IF(COUNTIF($I$8:$I$107,P67)>1,\"ERR\",IF($D67=VLOOKUP(P67,$A$8:$D$107,4,FALSE),\"CLUB\",\"OK\"))))),\"\")","v":""},null,{"$f":"IF(S67<>\"\",IF(S67=\"Victoire\",IF(VLOOKUP(P67,$A$8:$AO$107,19,FALSE)=\"Défaite\",\"OK\",\"ERR\"),IF(S67=\"Défaite\",IF(VLOOKUP(P67,$A$8:$AO$107,19,FALSE)=\"Victoire\",\"OK\",\"ERR\"),IF(S67=\"Nul\",IF(VLOOKUP(P67,$A$8:$AO$107,19,FALSE)=\"Nul\",\"OK\",\"ERR\")))),\"\")","v":""},null,{"$f":"IF(S67=\"Victoire\",100-ROUNDDOWN(20*U67/$H67,0),\nIF(S67=\"Défaite\",10+ROUNDDOWN(20*VLOOKUP(P67,$A$8:$AO$107,21,FALSE)/VLOOKUP(P67,$A$8:$H$107,8,FALSE),0),\nIF(AND(S67=\"Nul\",$U67<>$H67),40+(2*ROUNDDOWN(10*VLOOKUP(P67,$A$8:$AO$107,21,FALSE)/VLOOKUP(P67,$A$8:$H$107,8,FALSE),0)-ROUNDDOWN(10*U67/$H67,0)),IF(AND(S67=\"Nul\",$U67=$H67),58,0))))","v":0},null,{"$f":"IF(W67<>\"\",VLOOKUP(W67,$A$8:$C$107,2,FALSE),\"\")","v":""},{"$f":"IF(W67<>\"\",IF(W67=$A67,\"ERR\",IF(OR(W67=$P67,W67=$I67,W67=$AD67,W67=$AK67),\"DUP\",IF(ISNA(VLOOKUP(W67,$A$8:$A$107,1,FALSE)),\"ERR\",IF(COUNTIF($I$8:$I$107,W67)>1,\"ERR\",IF($D67=VLOOKUP(W67,$A$8:$D$107,4,FALSE),\"CLUB\",\"OK\"))))),\"\")","v":""},null,{"$f":"IF(Z67<>\"\",IF(Z67=\"Victoire\",IF(VLOOKUP(W67,$A$8:$AO$107,26,FALSE)=\"Défaite\",\"OK\",\"ERR\"),IF(Z67=\"Défaite\",IF(VLOOKUP(W67,$A$8:$AO$107,26,FALSE)=\"Victoire\",\"OK\",\"ERR\"),IF(Z67=\"Nul\",IF(VLOOKUP(W67,$A$8:$AO$107,26,FALSE)=\"Nul\",\"OK\",\"ERR\")))),\"\")","v":""},null,{"$f":"IF(Z67=\"Victoire\",100-ROUNDDOWN(20*AB67/$H67,0),\nIF(Z67=\"Défaite\",10+ROUNDDOWN(20*VLOOKUP(W67,$A$8:$AO$107,28,FALSE)/VLOOKUP(W67,$A$8:$H$107,8,FALSE),0),\nIF(AND(Z67=\"Nul\",$AB67<>$H67),40+(2*ROUNDDOWN(10*VLOOKUP(W67,$A$8:$AO$107,28,FALSE)/VLOOKUP(W67,$A$8:$H$107,8,FALSE),0)-ROUNDDOWN(10*AB67/$H67,0)),IF(AND(Z67=\"Nul\",$AB67=$H67),58,0))))","v":0},null,{"$f":"IF(AD67<>\"\",VLOOKUP(AD67,$A$8:$C$107,2,FALSE),\"\")","v":""},{"$f":"IF(AD67<>\"\",IF(AD67=$A67,\"ERR\",IF(OR(AD67=$P67,AD67=$W67,AD67=$I67,AD67=$AK67),\"DUP\",IF(ISNA(VLOOKUP(AD67,$A$8:$A$107,1,FALSE)),\"ERR\",IF(COUNTIF($I$8:$I$107,AD67)>1,\"ERR\",IF($D67=VLOOKUP(AD67,$A$8:$D$107,4,FALSE),\"CLUB\",\"OK\"))))),\"\")","v":""},null,{"$f":"IF(AG67<>\"\",IF(AG67=\"Victoire\",IF(VLOOKUP(AD67,$A$8:$AO$107,33,FALSE)=\"Défaite\",\"OK\",\"ERR\"),IF(AG67=\"Défaite\",IF(VLOOKUP(AD67,$A$8:$AO$107,33,FALSE)=\"Victoire\",\"OK\",\"ERR\"),IF(AG67=\"Nul\",IF(VLOOKUP(AD67,$A$8:$AO$107,33,FALSE)=\"Nul\",\"OK\",\"ERR\")))),\"\")","v":""},null,{"$f":"IF(AG67=\"Victoire\",100-ROUNDDOWN(20*AI67/$H67,0),\nIF(AG67=\"Défaite\",10+ROUNDDOWN(20*VLOOKUP(AD67,$A$8:$AO$107,35,FALSE)/VLOOKUP(AD67,$A$8:$H$107,8,FALSE),0),\nIF(AND(AG67=\"Nul\",$AI67<>$H67),40+(2*ROUNDDOWN(10*VLOOKUP(AD67,$A$8:$AO$107,35,FALSE)/VLOOKUP(AD67,$A$8:$H$107,8,FALSE),0)-ROUNDDOWN(10*AI67/$H67,0)),IF(AND(AG67=\"Nul\",$AI67=$H67),58,0))))","v":0},null,{"$f":"IF(AK67<>\"\",VLOOKUP(AK67,$A$8:$C$107,2,FALSE),\"\")","v":""},{"$f":"IF(AK67<>\"\",IF(AK67=$A67,\"ERR\",IF(OR(AK67=$P67,AK67=$W67,AK67=$AD67,AK67=$I67),\"DUP\",IF(ISNA(VLOOKUP(AK67,$A$8:$A$107,1,FALSE)),\"ERR\",IF(COUNTIF($I$8:$I$107,AK67)>1,\"ERR\",IF($D67=VLOOKUP(AK67,$A$8:$D$107,4,FALSE),\"CLUB\",\"OK\"))))),\"\")","v":""},null,{"$f":"IF(AN67<>\"\",IF(AN67=\"Victoire\",IF(VLOOKUP(AK67,$A$8:$AO$107,40,FALSE)=\"Défaite\",\"OK\",\"ERR\"),IF(AN67=\"Défaite\",IF(VLOOKUP(AK67,$A$8:$AO$107,40,FALSE)=\"Victoire\",\"OK\",\"ERR\"),IF(AN67=\"Nul\",IF(VLOOKUP(AK67,$A$8:$AO$107,40,FALSE)=\"Nul\",\"OK\",\"ERR\")))),\"\")","v":""},null,{"$f":"IF(AN67=\"Victoire\",100-ROUNDDOWN(20*AP67/$H67,0),\nIF(AN67=\"Défaite\",10+ROUNDDOWN(20*VLOOKUP(AK67,$A$8:$CB$107,42,FALSE)/VLOOKUP(AK67,$A$8:$H$107,8,FALSE),0),\nIF(AND(AN67=\"Nul\",$AP67<>$H67),40+(2*ROUNDDOWN(10*VLOOKUP(AK67,$A$8:$CB$107,42,FALSE)/VLOOKUP(AK67,$A$8:$H$107,8,FALSE),0)-ROUNDDOWN(10*AP67/$H67,0)),IF(AND(AN67=\"Nul\",$AP67=$H67),58,0))))","v":0},null,{"$f":"IF(AR67<>\"\",VLOOKUP(AR67,$A$8:$C$107,2,FALSE),\"\")","v":""},{"$f":"IF(AR67<>\"\",IF(AR67=$A67,\"ERR\",IF(OR(AR67=$I67,AR67=$P67,AR67=$W67,AR67=$AD67,AR67=$AK67),\"DUP\",IF(ISNA(VLOOKUP(AR67,$A$8:$A$107,1,FALSE)),\"ERR\",IF(COUNTIF($I$8:$I$107,AR67)>1,\"ERR\",IF($D67=VLOOKUP(AR67,$A$8:$D$107,4,FALSE),\"CLUB\",\"OK\"))))),\"\")","v":""},null,{"$f":"IF(AU67<>\"\",IF(AU67=\"Victoire\",IF(VLOOKUP(AR67,$A$8:$BL$107,47,FALSE)=\"Défaite\",\"OK\",\"ERR\"),IF(AU67=\"Défaite\",IF(VLOOKUP(AR67,$A$8:$BL$107,47,FALSE)=\"Victoire\",\"OK\",\"ERR\"),IF(AU67=\"Nul\",IF(VLOOKUP(AR67,$A$8:$BL$107,47,FALSE)=\"Nul\",\"OK\",\"ERR\")))),\"\")","v":""},null,{"$f":"IF(AU67=\"Victoire\",100-ROUNDDOWN(20*AW67/$H67,0),\nIF(AU67=\"Défaite\",10+ROUNDDOWN(20*VLOOKUP(AR67,$A$8:$CB$107,49,FALSE)/VLOOKUP(AR67,$A$8:$H$107,8,FALSE),0),\nIF(AND(AU67=\"Nul\",$AW67<>$H67),40+(2*ROUNDDOWN(10*VLOOKUP(AR67,$A$8:$CB$107,49,FALSE)/VLOOKUP(AR67,$A$8:$H$107,8,FALSE),0)-ROUNDDOWN(10*AW67/$H67,0)),IF(AND(AU67=\"Nul\",$AW67=$H67),58,0))))","v":0},null,{"$f":"IF(AY67<>\"\",VLOOKUP(AY67,$A$8:$C$107,2,FALSE),\"\")","v":""},{"$f":"IF(AY67<>\"\",IF(AY67=$A67,\"ERR\",IF(OR(AY67=$I67,AY67=$P67,AY67=$W67,AY67=$AD67,AY67=$AK67,AY67=$AR67),\"DUP\",IF(ISNA(VLOOKUP(AY67,$A$8:$A$107,1,FALSE)),\"ERR\",IF(COUNTIF($I$8:$I$107,AY67)>1,\"ERR\",IF($D67=VLOOKUP(AY67,$A$8:$D$107,4,FALSE),\"CLUB\",\"OK\"))))),\"\")","v":""},null,{"$f":"IF(BB67<>\"\",IF(BB67=\"Victoire\",IF(VLOOKUP(AY67,$A$8:$BL$107,54,FALSE)=\"Défaite\",\"OK\",\"ERR\"),IF(BB67=\"Défaite\",IF(VLOOKUP(AY67,$A$8:$BL$107,54,FALSE)=\"Victoire\",\"OK\",\"ERR\"),IF(BB67=\"Nul\",IF(VLOOKUP(AY67,$A$8:$BL$107,54,FALSE)=\"Nul\",\"OK\",\"ERR\")))),\"\")","v":""},null,{"$f":"IF(BB67=\"Victoire\",100-ROUNDDOWN(20*BD67/$H67,0),\nIF(BB67=\"Défaite\",10+ROUNDDOWN(20*VLOOKUP(AY67,$A$8:$CB$107,56,FALSE)/VLOOKUP(AY67,$A$8:$H$107,8,FALSE),0),\nIF(AND(BB67=\"Nul\",$BD67<>$H67),40+(2*ROUNDDOWN(10*VLOOKUP(AY67,$A$8:$CB$107,56,FALSE)/VLOOKUP(AY67,$A$8:$H$107,8,FALSE),0)-ROUNDDOWN(10*BD67/$H67,0)),IF(AND(BB67=\"Nul\",$BD67=$H67),58,0))))","v":0},null,{"$f":"IF(BF67<>\"\",VLOOKUP(BF67,$A$8:$C$107,2,FALSE),\"\")","v":""},{"$f":"IF(BF67<>\"\",IF(BF67=$A67,\"ERR\",IF(OR(BF67=$I67,BF67=$P67,BF67=$W67,BF67=$AD67,BF67=$AK67,BF67=$AR67,BF67=$AY67),\"DUP\",IF(ISNA(VLOOKUP(BF67,$A$8:$A$107,1,FALSE)),\"ERR\",IF(COUNTIF($I$8:$I$107,BF67)>1,\"ERR\",IF($D67=VLOOKUP(BF67,$A$8:$D$107,4,FALSE),\"CLUB\",\"OK\"))))),\"\")","v":""},null,{"$f":"IF(BI67<>\"\",IF(BI67=\"Victoire\",IF(VLOOKUP(BF67,$A$8:$BL$107,61,FALSE)=\"Défaite\",\"OK\",\"ERR\"),IF(BI67=\"Défaite\",IF(VLOOKUP(BF67,$A$8:$BL$107,61,FALSE)=\"Victoire\",\"OK\",\"ERR\"),IF(BI67=\"Nul\",IF(VLOOKUP(BF67,$A$8:$BL$107,61,FALSE)=\"Nul\",\"OK\",\"ERR\")))),\"\")","v":""},null,{"$f":"IF(BI67=\"Victoire\",100-ROUNDDOWN(20*BK67/$H67,0),\nIF(BI67=\"Défaite\",10+ROUNDDOWN(20*VLOOKUP(BF67,$A$8:$CB$107,63,FALSE)/VLOOKUP(BF67,$A$8:$H$107,8,FALSE),0),\nIF(AND(BI67=\"Nul\",$BK67<>$H67),40+(2*ROUNDDOWN(10*VLOOKUP(BF67,$A$8:$CB$107,63,FALSE)/VLOOKUP(BF67,$A$8:$H$107,8,FALSE),0)-ROUNDDOWN(10*BK67/$H67,0)),IF(AND(BI67=\"Nul\",$BK67=$H67),58,0))))","v":0},null,{"$f":"IF(BM67<>\"\",VLOOKUP(BM67,$A$8:$C$107,2,FALSE),\"\")","v":""},{"$f":"IF(BM67<>\"\",IF(BM67=$A67,\"ERR\",IF(OR(BM67=$I67,BM67=$P67,BM67=$W67,BM67=$AD67,BM67=$AK67,BM67=$AR67,BM67=$AY67,BM67=$BF67),\"DUP\",IF(ISNA(VLOOKUP(BM67,$A$8:$A$107,1,FALSE)),\"ERR\",IF(COUNTIF($I$8:$I$107,BM67)>1,\"ERR\",IF($D67=VLOOKUP(BM67,$A$8:$D$107,4,FALSE),\"CLUB\",\"OK\"))))),\"\")","v":""},null,{"$f":"IF(BP67<>\"\",IF(BP67=\"Victoire\",IF(VLOOKUP(BM67,$A$8:$BS$107,68,FALSE)=\"Défaite\",\"OK\",\"ERR\"),IF(BP67=\"Défaite\",IF(VLOOKUP(BM67,$A$8:$BS$107,68,FALSE)=\"Victoire\",\"OK\",\"ERR\"),IF(BP67=\"Nul\",IF(VLOOKUP(BM67,$A$8:$BS$107,68,FALSE)=\"Nul\",\"OK\",\"ERR\")))),\"\")","v":""},null,{"$f":"IF(BP67=\"Victoire\",100-ROUNDDOWN(20*BR67/$H67,0),\nIF(BP67=\"Défaite\",10+ROUNDDOWN(20*VLOOKUP(BM67,$A$8:$CB$107,70,FALSE)/VLOOKUP(BM67,$A$8:$H$107,8,FALSE),0),\nIF(AND(BP67=\"Nul\",$BR67<>$H67),40+(2*ROUNDDOWN(10*VLOOKUP(BM67,$A$8:$CB$107,70,FALSE)/VLOOKUP(BM67,$A$8:$H$107,8,FALSE),0)-ROUNDDOWN(10*BR67/$H67,0)),IF(AND(BP67=\"Nul\",$BR67=$H67),58,0))))","v":0},null,{"$f":"IF($I67<>\"\",VLOOKUP($I67,$A$8:$N$107,5,FALSE),0)+IF($P67<>\"\",VLOOKUP($P67,$A$8:$N$107,5,FALSE),0)+IF($W67<>\"\",VLOOKUP($W67,$A$8:$N$107,5,FALSE),0)+IF($AD67<>\"\",VLOOKUP($AD67,$A$8:$N$107,5,FALSE),0)+IF($AK67<>\"\",VLOOKUP($AK67,$A$8:$N$107,5,FALSE),0)+IF($AR67<>\"\",VLOOKUP($AR67,$A$8:$N$107,5,FALSE),0)+IF($AY67<>\"\",VLOOKUP($AY67,$A$8:$N$107,5,FALSE),0)+IF($BF67<>\"\",VLOOKUP($BF67,$A$8:$N$107,5,FALSE),0)+IF($BM67<>\"\",VLOOKUP($BM67,$A$8:$N$107,5,FALSE),0)","v":0}]
[{"$nulls":4},0,null,{"$f":"IF($F68<>\"\",VLOOKUP(F68,Armies!$A$1:$C$300,3,FALSE),\"\")","v":""},null,null,{"$f":"IF(I68<>\"\",VLOOKUP(I68,$A$8:$C$107,2,FALSE),\"\")","v":""},{"$f":"IF(I68<>\"\",IF(I68=$A68,\"ERR\",IF(OR(I68=$P68,I68=$W68,I68=$AD68,I68=$AK68),\"DUP\",IF(ISNA(VLOOKUP(I68,$A$8:$A$107,1,FALSE)),\"ERR\",IF(COUNTIF($I$8:$I$107,I68)>1,\"ERR\",IF($D68=VLOOKUP(I68,$A$8:$D$107,4,FALSE),\"CLUB\",\"OK\"))))),\"\")","v":""},null,{"$f":"IF(L68<>\"\",IF(L68=\"Victoire\",IF(VLOOKUP(I68,$A$8:$L$107,12,FALSE)=\"Défaite\",\"OK\",\"ERR\"),IF(L68=\"Défaite\",IF(VLOOKUP(I68,$A$8:$L$107,12,FALSE)=\"Victoire\",\"OK\",\"ERR\"),IF(L68=\"Nul\",IF(VLOOKUP(I68,$A$8:$L$107,12,FALSE)=\"Nul\",\"OK\",\"ERR\")))),\"\")","v":""},null,{"$f":"IF(L68=\"Victoire\",100-ROUNDDOWN(20*N68/$H68,0),\nIF(L68=\"Défaite\",10+ROUNDDOWN(20*VLOOKUP(I68,$A$8:$N$107,14,FALSE)/VLOOKUP(I68,$A$8:$H$107,8,FALSE),0),\nIF(AND(L68=\"Nul\",$N68<>$H68),40+(2*ROUNDDOWN(10*VLOOKUP(I68,$A$8:$N$107,14,FALSE)/VLOOKUP(I68,$A$8:$H$107,8,FALSE),0)-ROUNDDOWN(10*N68/$H68,0)),IF(AND(L68=\"Nul\",$N68=$H68),58,0))))","v":0},null,{"$f":"IF(P68<>\"\",VLOOKUP(P68,$A$8:$C$107,2,FALSE),\"\")","v":""},{"$f":"IF(P68<>\"\",IF(P68=$A68,\"ERR\",IF(OR(P68=$I68,P68=$W68,P68=$AD68,P68=$AK68),\"DUP\",IF(ISNA(VLOOKUP(P68,$A$8:$A$107,1,FALSE)),\"ERR\",IF(COUNTIF($I$8:$I$107,P68)>1,\"ERR\",IF($D68=VLOOKUP(P68,$A$8:$D$107,4,FALSE),\"CLUB\",\"OK\"))))),\"\")","v":""},null,{"$f":"IF(S68<>\"\",IF(S68=\"Victoire\",IF(VLOOKUP(P68,$A$8:$AO$107,19,FALSE)=\"Défaite\",\"OK\",\"ERR\"),IF(S68=\"Défaite\",IF(VLOOKUP(P68,$A$8:$AO$107,19,FALSE)=\"Victoire\",\"OK\",\"ERR\"),IF(S68=\"Nul\",IF(VLOOKUP(P68,$A$8:$AO$107,19,FALSE)=\"Nul\",\"OK\",\"ERR\")))),\"\")","v":""},null,{"$f":"IF(S68=\"Victoire\",100-ROUNDDOWN(20*U68/$H68,0),\nIF(S68=\"Défaite\",10+ROUNDDOWN(20*VLOOKUP(P68,$A$8:$AO$107,21,FALSE)/VLOOKUP(P68,$A$8:$H$107,8,FALSE),0),\nIF(AND(S68=\"Nul\",$U68<>$H68),40+(2*ROUNDDOWN(10*VLOOKUP(P68,$A$8:$AO$107,21,FALSE)/VLOOKUP(P68,$A$8:$H$107,8,FALSE),0)-ROUNDDOWN(10*U68/$H68,0)),IF(AND(S68=\"Nul\",$U68=$H68),58,0))))","v":0},null,{"$f":"IF(W68<>\"\",VLOOKUP(W68,$A$8:$C$107,2,FALSE),\"\")","v":""},{"$f":"IF(W68<>\"\",IF(W68=$A68,\"ERR\",IF(OR(W68=$P68,W68=$I68,W68=$AD68,W68=$AK68),\"DUP\",IF(ISNA(VLOOKUP(W68,$A$8:$A$107,1,FALSE)),\"ERR\",IF(COUNTIF($I$8:$I$107,W68)>1,\"ERR\",IF($D68=VLOOKUP(W68,$A$8:$D$107,4,FALSE),\"CLUB\",\"OK\"))))),\"\")","v":""},null,{"$f":"IF(Z68<>\"\",IF(Z68=\"Victoire\",IF(VLOOKUP(W68,$A$8:$AO$107,26,FALSE)=\"Défaite\",\"OK\",\"ERR\"),IF(Z68=\"Défaite\",IF(VLOOKUP(W68,$A$8:$AO$107,26,FALSE)=\"Victoire\",\"OK\",\"ERR\"),IF(Z68=\"Nul\",IF(VLOOKUP(W68,$A$8:$AO$107,26,FALSE)=\"Nul\",\"OK\",\"ERR\")))),\"\")","v":""},null,{"$f":"IF(Z68=\"Victoire\",100-ROUNDDOWN(20*AB68/$H68,0),\nIF(Z68=\"Défaite\",10+ROUNDDOWN(20*VLOOKUP(W68,$A$8:$AO$107,28,FALSE)/VLOOKUP(W68,$A$8:$H$107,8,FALSE),0),\nIF(AND(Z68=\"Nul\",$AB68<>$H68),40+(2*ROUNDDOWN(10*VLOOKUP(W68,$A$8:$AO$107,28,FALSE)/VLOOKUP(W68,$A$8:$H$107,8,FALSE),0)-ROUNDDOWN(10*AB68/$H68,0)),IF(AND(Z68=\"Nul\",$AB68=$H68),58,0))))","v":0},null,{"$f":"IF(AD68<>\"\",VLOOKUP(AD68,$A$8:$C$107,2,FALSE),\"\")","v":""},{"$f":"IF(AD68<>\"\",IF(AD68=$A68,\"ERR\",IF(OR(AD68=$P68,AD68=$W68,AD68=$I68,AD68=$AK68),\"DUP\",IF(ISNA(VLOOKUP(AD68,$A$8:$A$107,1,FALSE)),\"ERR\",IF(COUNTIF($I$8:$I$107,AD68)>1,\"ERR\",IF($D68=VLOOKUP(AD68,$A$8:$D$107,4,FALSE),\"CLUB\",\"OK\"))))),\"\")","v":""},null,{"$f":"IF(AG68<>\"\",IF(AG68=\"Victoire\",IF(VLOOKUP(AD68,$A$8:$AO$107,33,FALSE)=\"Défaite\",\"OK\",\"ERR\"),IF(AG68=\"Défaite\",IF(VLOOKUP(AD68,$A$8:$AO$107,33,FALSE)=\"Victoire\",\"OK\",\"ERR\"),IF(AG68=\"Nul\",IF(VLOOKUP(AD68,$A$8:$AO$107,33,FALSE)=\"Nul\",\"OK\",\"ERR\")))),\"\")","v":""},null,{"$f":"IF(AG68=\"Victoire\",100-ROUNDDOWN(20*AI68/$H68,0),\nIF(AG68=\"Défaite\",10+ROUNDDOWN(20*VLOOKUP(AD68,$A$8:$AO$107,35,FALSE)/VLOOKUP(AD68,$A$8:$H$107,8,FALSE),0),\nIF(AND(AG68=\"Nul\",$AI68<>$H68),40+(2*ROUNDDOWN(10*VLOOKUP(AD68,$A$8:$AO$107,35,FALSE)/VLOOKUP(AD68,$A$8:$H$107,8,FALSE),0)-ROUNDDOWN(10*AI68/$H68,0)),IF(AND(AG68=\"Nul\",$AI68=$H68),58,0))))","v":0},null,{"$f":"IF(AK68<>\"\",VLOOKUP(AK68,$A$8:$C$107,2,FALSE),\"\")","v":""},{"$f":"IF(AK68<>\"\",IF(AK68=$A68,\"ERR\",IF(OR(AK68=$P68,AK68=$W68,AK68=$AD68,AK68=$I68),\"DUP\",IF(ISNA(VLOOKUP(AK68,$A$8:$A$107,1,FALSE)),\"ERR\",IF(COUNTIF($I$8:$I$107,AK68)>1,\"ERR\",IF($D68=VLOOKUP(AK68,$A$8:$D$107,4,FALSE),\"CLUB\",\"OK\"))))),\"\")","v":""},null,{"$f":"IF(AN68<>\"\",IF(AN68=\"Victoire\",IF(VLOOKUP(AK68,$A$8:$AO$107,40,FALSE)=\"Défaite\",\"OK\",\"ERR\"),IF(AN68=\"Défaite\",IF(VLOOKUP(AK68,$A$8:$AO$107,40,FALSE)=\"Victoire\",\"OK\",\"ERR\"),IF(AN68=\"Nul\",IF(VLOOKUP(AK68,$A$8:$AO$107,40,FALSE)=\"Nul\",\"OK\",\"ERR\")))),\"\")","v":""},null,{"$f":"IF(AN68=\"Victoire\",100-ROUNDDOWN(20*AP68/$H68,0),\nIF(AN68=\"Défaite\",10+ROUNDDOWN(20*VLOOKUP(AK68,$A$8:$CB$107,42,FALSE)/VLOOKUP(AK68,$A$8:$H$107,8,FALSE),0),\nIF(AND(AN68=\"Nul\",$AP68<>$H68),40+(2*ROUNDDOWN(10*VLOOKUP(AK68,$A$8:$CB$107,42,FALSE)/VLOOKUP(AK68,$A$8:$H$107,8,FALSE),0)-ROUNDDOWN(10*AP68/$H68,0)),IF(AND(AN68=\"Nul\",$AP68=$H68),58,0))))","v":0},null,{"$f":"IF(AR68<>\"\",VLOOKUP(AR68,$A$8:$C$107,2,FALSE),\"\")","v":""},{"$f":"IF(AR68<>\"\",IF(AR68=$A68,\"ERR\",IF(OR(AR68=$I68,AR68=$P68,AR68=$W68,AR68=$AD68,AR68=$AK68),\"DUP\",IF(ISNA(VLOOKUP(AR68,$A$8:$A$107,1,FALSE)),\"ERR\",IF(COUNTIF($I$8:$I$107,AR68)>1,\"ERR\",IF($D68=VLOOKUP(AR68,$A$8:$D$107,4,FALSE),\"CLUB\",\"OK\"))))),\"\")","v":""},null,{"$f":"IF(AU68<>\"\",IF(AU68=\"Victoire\",IF(VLOOKUP(AR68,$A$8:$BL$107,47,FALSE)=\"Défaite\",\"OK\",\"ERR\"),IF(AU68=\"Défaite\",IF(VLOOKUP(AR68,$A$8:$BL$107,47,FALSE)=\"Victoire\",\"OK\",\"ERR\"),IF(AU68=\"Nul\",IF(VLOOKUP(AR68,$A$8:$BL$107,47,FALSE)=\"Nul\",\"OK\",\"ERR\")))),\"\")","v":""},null,{"$f":"IF(AU68=\"Victoire\",100-ROUNDDOWN(20*AW68/$H68,0),\nIF(AU68=\"Défaite\",10+ROUNDDOWN(20*VLOOKUP(AR68,$A$8:$CB$107,49,FALSE)/VLOOKUP(AR68,$A$8:$H$107,8,FALSE),0),\nIF(AND(AU68=\"Nul\",$AW68<>$H68),40+(2*ROUNDDOWN(10*VLOOKUP(AR68,$A$8:$CB$107,49,FALSE)/VLOOKUP(AR68,$A$8:$H$107,8,FALSE),0)-ROUNDDOWN(10*AW68/$H68,0)),IF(AND(AU68=\"Nul\",$AW68=$H68),58,0))))","v":0},null,{"$f":"IF(AY68<>\"\",VLOOKUP(AY68,$A$8:$C$107,2,FALSE),\"\")","v":""},{"$f":"IF(AY68<>\"\",IF(AY68=$A68,\"ERR\",IF(OR(AY68=$I68,AY68=$P68,AY68=$W68,AY68=$AD68,AY68=$AK68,AY68=$AR68),\"DUP\",IF(ISNA(VLOOKUP(AY68,$A$8:$A$107,1,FALSE)),\"ERR\",IF(COUNTIF($I$8:$I$107,AY68)>1,\"ERR\",IF($D68=VLOOKUP(AY68,$A$8:$D$107,4,FALSE),\"CLUB\",\"OK\"))))),\"\")","v":""},null,{"$f":"IF(BB68<>\"\",IF(BB68=\"Victoire\",IF(VLOOKUP(AY68,$A$8:$BL$107,54,FALSE)=\"Défaite\",\"OK\",\"ERR\"),IF(BB68=\"Défaite\",IF(VLOOKUP(AY68,$A$8:$BL$107,54,FALSE)=\"Victoire\",\"OK\",\"ERR\"),IF(BB68=\"Nul\",IF(VLOOKUP(AY68,$A$8:$BL$107,54,FALSE)=\"Nul\",\"OK\",\"ERR\")))),\"\")","v":""},null,{"$f":"IF(BB68=\"Victoire\",100-ROUNDDOWN(20*BD68/$H68,0),\nIF(BB68=\"Défaite\",10+ROUNDDOWN(20*VLOOKUP(AY68,$A$8:$CB$107,56,FALSE)/VLOOKUP(AY68,$A$8:$H$107,8,FALSE),0),\nIF(AND(BB68=\"Nul\",$BD68<>$H68),40+(2*ROUNDDOWN(10*VLOOKUP(AY68,$A$8:$CB$107,56,FALSE)/VLOOKUP(AY68,$A$8:$H$107,8,FALSE),0)-ROUNDDOWN(10*BD68/$H68,0)),IF(AND(BB68=\"Nul\",$BD68=$H68),58,0))))","v":0},null,{"$f":"IF(BF68<>\"\",VLOOKUP(BF68,$A$8:$C$107,2,FALSE),\"\")","v":""},{"$f":"IF(BF68<>\"\",IF(BF68=$A68,\"ERR\",IF(OR(BF68=$I68,BF68=$P68,BF68=$W68,BF68=$AD68,BF68=$AK68,BF68=$AR68,BF68=$AY68),\"DUP\",IF(ISNA(VLOOKUP(BF68,$A$8:$A$107,1,FALSE)),\"ERR\",IF(COUNTIF($I$8:$I$107,BF68)>1,\"ERR\",IF($D68=VLOOKUP(BF68,$A$8:$D$107,4,FALSE),\"CLUB\",\"OK\"))))),\"\")","v":""},null,{"$f":"IF(BI68<>\"\",IF(BI68=\"Victoire\",IF(VLOOKUP(BF68,$A$8:$BL$107,61,FALSE)=\"Défaite\",\"OK\",\"ERR\"),IF(BI68=\"Défaite\",IF(VLOOKUP(BF68,$A$8:$BL$107,61,FALSE)=\"Victoire\",\"OK\",\"ERR\"),IF(BI68=\"Nul\",IF(VLOOKUP(BF68,$A$8:$BL$107,61,FALSE)=\"Nul\",\"OK\",\"ERR\")))),\"\")","v":""},null,{"$f":"IF(BI68=\"Victoire\",100-ROUNDDOWN(20*BK68/$H68,0),\nIF(BI68=\"Défaite\",10+ROUNDDOWN(20*VLOOKUP(BF68,$A$8:$CB$107,63,FALSE)/VLOOKUP(BF68,$A$8:$H$107,8,FALSE),0),\nIF(AND(BI68=\"Nul\",$BK68<>$H68),40+(2*ROUNDDOWN(10*VLOOKUP(BF68,$A$8:$CB$107,63,FALSE)/VLOOKUP(BF68,$A$8:$H$107,8,FALSE),0)-ROUNDDOWN(10*BK68/$H68,0)),IF(AND(BI68=\"Nul\",$BK68=$H68),58,0))))","v":0},null,{"$f":"IF(BM68<>\"\",VLOOKUP(BM68,$A$8:$C$107,2,FALSE),\"\")","v":""},{"$f":"IF(BM68<>\"\",IF(BM68=$A68,\"ERR\",IF(OR(BM68=$I68,BM68=$P68,BM68=$W68,BM68=$AD68,BM68=$AK68,BM68=$AR68,BM68=$AY68,BM68=$BF68),\"DUP\",IF(ISNA(VLOOKUP(BM68,$A$8:$A$107,1,FALSE)),\"ERR\",IF(COUNTIF($I$8:$I$107,BM68)>1,\"ERR\",IF($D68=VLOOKUP(BM68,$A$8:$D$107,4,FALSE),\"CLUB\",\"OK\"))))),\"\")","v":""},null,{"$f":"IF(BP68<>\"\",IF(BP68=\"Victoire\",IF(VLOOKUP(BM68,$A$8:$BS$107,68,FALSE)=\"Défaite\",\"OK\",\"ERR\"),IF(BP68=\"Défaite\",IF(VLOOKUP(BM68,$A$8:$BS$107,68,FALSE)=\"Victoire\",\"OK\",\"ERR\"),IF(BP68=\"Nul\",IF(VLOOKUP(BM68,$A$8:$BS$107,68,FALSE)=\"Nul\",\"OK\",\"ERR\")))),\"\")","v":""},null,{"$f":"IF(BP68=\"Victoire\",100-ROUNDDOWN(20*BR68/$H68,0),\nIF(BP68=\"Défaite\",10+ROUNDDOWN(20*VLOOKUP(BM68,$A$8:$CB$107,70,FALSE)/VLOOKUP(BM68,$A$8:$H$107,8,FALSE),0),\nIF(AND(BP68=\"Nul\",$BR68<>$H68),40+(2*ROUNDDOWN(10*VLOOKUP(BM68,$A$8:$CB$107,70,FALSE)/VLOOKUP(BM68,$A$8:$H$107,8,FALSE),0)-ROUNDDOWN(10*BR68/$H68,0)),IF(AND(BP68=\"Nul\",$BR68=$H68),58,0))))","v":0},null,{"$f":"IF($I68<>\"\",VLOOKUP($I68,$A$8:$N$107,5,FALSE),0)+IF($P68<>\"\",VLOOKUP($P68,$A$8:$N$107,5,FALSE),0)+IF($W68<>\"\",VLOOKUP($W68,$A$8:$N$107,5,FALSE),0)+IF($AD68<>\"\",VLOOKUP($AD68,$A$8:$N$107,5,FALSE),0)+IF($AK68<>\"\",VLOOKUP($AK68,$A$8:$N$107,5,FALSE),0)+IF($AR68<>\"\",VLOOKUP($AR68,$A$8:$N$107,5,FALSE),0)+IF($AY68<>\"\",VLOOKUP($AY68,$A$8:$N$107,5,FALSE),0)+IF($BF68<>\"\",VLOOKUP($BF68,$A$8:$N$107,5,FALSE),0)+IF($BM68<>\"\",VLOOKUP($BM68,$A$8:$N$107,5,FALSE),0)","v":0}]
[{"$nulls":4},0,null,{"$f":"IF($F69<>\"\",VLOOKUP(F69,Armies!$A$1:$C$300,3,FALSE),\"\")","v":""},null,null,{"$f":"IF(I69<>\"\",VLOOKUP(I69,$A$8:$C$107,2,FALSE),\"\")","v":""},{"$f":"IF(I69<>\"\",IF(I69=$A69,\"ERR\",IF(OR(I69=$P69,I69=$W69,I69=$AD69,I69=$AK69),\"DUP\",IF(ISNA(VLOOKUP(I69,$A$8:$A$107,1,FALSE)),\"ERR\",IF(COUNTIF($I$8:$I$107,I69)>1,\"ERR\",IF($D69=VLOOKUP(I69,$A$8:$D$107,4,FALSE),\"CLUB\",\"OK\"))))),\"\")","v":""},null,{"$f":"IF(L69<>\"\",IF(L69=\"Victoire\",IF(VLOOKUP(I69,$A$8:$L$107,12,FALSE)=\"Défaite\",\"OK\",\"ERR\"),IF(L69=\"Défaite\",IF(VLOOKUP(I69,$A$8:$L$107,12,FALSE)=\"Victoire\",\"OK\",\"ERR\"),IF(L69=\"Nul\",IF(VLOOKUP(I69,$A$8:$L$107,12,FALSE)=\"Nul\",\"OK\",\"ERR\")))),\"\")","v":""},null,{"$f":"IF(L69=\"Victoire\",100-ROUNDDOWN(20*N69/$H69,0),\nIF(L69=\"Défaite\",10+ROUNDDOWN(20*VLOOKUP(I69,$A$8:$N$107,14,FALSE)/VLOOKUP(I69,$A$8:$H$107,8,FALSE),0),\nIF(AND(L69=\"Nul\",$N69<>$H69),40+(2*ROUNDDOWN(10*VLOOKUP(I69,$A$8:$N$107,14,FALSE)/VLOOKUP(I69,$A$8:$H$107,8,FALSE),0)-ROUNDDOWN(10*N69/$H69,0)),IF(AND(L69=\"Nul\",$N69=$H69),58,0))))","v":0},null,{"$f":"IF(P69<>\"\",VLOOKUP(P69,$A$8:$C$107,2,FALSE),\"\")","v":""},{"$f":"IF(P69<>\"\",IF(P69=$A69,\"ERR\",IF(OR(P69=$I69,P69=$W69,P69=$AD69,P69=$AK69),\"DUP\",IF(ISNA(VLOOKUP(P69,$A$8:$A$107,1,FALSE)),\"ERR\",IF(COUNTIF($I$8:$I$107,P69)>1,\"ERR\",IF($D69=VLOOKUP(P69,$A$8:$D$107,4,FALSE),\"CLUB\",\"OK\"))))),\"\")","v":""},null,{"$f":"IF(S69<>\"\",IF(S69=\"Victoire\",IF(VLOOKUP(P69,$A$8:$AO$107,19,FALSE)=\"Défaite\",\"OK\",\"ERR\"),IF(S69=\"Défaite\",IF(VLOOKUP(P69,$A$8:$AO$107,19,FALSE)=\"Victoire\",\"OK\",\"ERR\"),IF(S69=\"Nul\",IF(VLOOKUP(P69,$A$8:$AO$107,19,FALSE)=\"Nul\",\"OK\",\"ERR\")))),\"\")","v":""},null,{"$f":"IF(S69=\"Victoire\",100-ROUNDDOWN(20*U69/$H69,0),\nIF(S69=\"Défaite\",10+ROUNDDOWN(20*VLOOKUP(P69,$A$8:$AO$107,21,FALSE)/VLOOKUP(P69,$A$8:$H$107,8,FALSE),0),\nIF(AND(S69=\"Nul\",$U69<>$H69),40+(2*ROUNDDOWN(10*VLOOKUP(P69,$A$8:$AO$107,21,FALSE)/VLOOKUP(P69,$A$8:$H$107,8,FALSE),0)-ROUNDDOWN(10*U69/$H69,0)),IF(AND(S69=\"Nul\",$U69=$H69),58,0))))","v":0},null,{"$f":"IF(W69<>\"\",VLOOKUP(W69,$A$8:$C$107,2,FALSE),\"\")","v":""},{"$f":"IF(W69<>\"\",IF(W69=$A69,\"ERR\",IF(OR(W69=$P69,W69=$I69,W69=$AD69,W69=$AK69),\"DUP\",IF(ISNA(VLOOKUP(W69,$A$8:$A$107,1,FALSE)),\"ERR\",IF(COUNTIF($I$8:$I$107,W69)>1,\"ERR\",IF($D69=VLOOKUP(W69,$A$8:$D$107,4,FALSE),\"CLUB\",\"OK\"))))),\"\")","v":""},null,{"$f":"IF(Z69<>\"\",IF(Z69=\"Victoire\",IF(VLOOKUP(W69,$A$8:$AO$107,26,FALSE)=\"Défaite\",\"OK\",\"ERR\"),IF(Z69=\"Défaite\",IF(VLOOKUP(W69,$A$8:$AO$107,26,FALSE)=\"Victoire\",\"OK\",\"ERR\"),IF(Z69=\"Nul\",IF(VLOOKUP(W69,$A$8:$AO$107,26,FALSE)=\"Nul\",\"OK\",\"ERR\")))),\"\")","v":""},null,{"$f":"IF(Z69=\"Victoire\",100-ROUNDDOWN(20*AB69/$H69,0),\nIF(Z69=\"Défaite\",10+ROUNDDOWN(20*VLOOKUP(W69,$A$8:$AO$107,28,FALSE)/VLOOKUP(W69,$A$8:$H$107,8,FALSE),0),\nIF(AND(Z69=\"Nul\",$AB69<>$H69),40+(2*ROUNDDOWN(10*VLOOKUP(W69,$A$8:$AO$107,28,FALSE)/VLOOKUP(W69,$A$8:$H$107,8,FALSE),0)-ROUNDDOWN(10*AB69/$H69,0)),IF(AND(Z69=\"Nul\",$AB69=$H69),58,0))))","v":0},null,{"$f":"IF(AD69<>\"\",VLOOKUP(AD69,$A$8:$C$107,2,FALSE),\"\")","v":""},{"$f":"IF(AD69<>\"\",IF(AD69=$A69,\"ERR\",IF(OR(AD69=$P69,AD69=$W69,AD69=$I69,AD69=$AK69),\"DUP\",IF(ISNA(VLOOKUP(AD69,$A$8:$A$107,1,FALSE)),\"ERR\",IF(COUNTIF($I$8:$I$107,AD69)>1,\"ERR\",IF($D69=VLOOKUP(AD69,$A$8:$D$107,4,FALSE),\"CLUB\",\"OK\"))))),\"\")","v":""},null,{"$f":"IF(AG69<>\"\",IF(AG69=\"Victoire\",IF(VLOOKUP(AD69,$A$8:$AO$107,33,FALSE)=\"Défaite\",\"OK\",\"ERR\"),IF(AG69=\"Défaite\",IF(VLOOKUP(AD69,$A$8:$AO$107,33,FALSE)=\"Victoire\",\"OK\",\"ERR\"),IF(AG69=\"Nul\",IF(VLOOKUP(AD69,$A$8:$AO$107,33,FALSE)=\"Nul\",\"OK\",\"ERR\")))),\"\")","v":""},null,{"$f":"IF(AG69=\"Victoire\",100-ROUNDDOWN(20*AI69/$H69,0),\nIF(AG69=\"Défaite\",10+ROUNDDOWN(20*VLOOKUP(AD69,$A$8:$AO$107,35,FALSE)/VLOOKUP(AD69,$A$8:$H$107,8,FALSE),0),\nIF(AND(AG69=\"Nul\",$AI69<>$H69),40+(2*ROUNDDOWN(10*VLOOKUP(AD69,$A$8:$AO$107,35,FALSE)/VLOOKUP(AD69,$A$8:$H$107,8,FALSE),0)-ROUNDDOWN(10*AI69/$H69,0)),IF(AND(AG69=\"Nul\",$AI69=$H69),58,0))))","v":0},null,{"$f":"IF(AK69<>\"\",VLOOKUP(AK69,$A$8:$C$107,2,FALSE),\"\")","v":""},{"$f":"IF(AK69<>\"\",IF(AK69=$A69,\"ERR\",IF(OR(AK69=$P69,AK69=$W69,AK69=$AD69,AK69=$I69),\"DUP\",IF(ISNA(VLOOKUP(AK69,$A$8:$A$107,1,FALSE)),\"ERR\",IF(COUNTIF($I$8:$I$107,AK69)>1,\"ERR\",IF($D69=VLOOKUP(AK69,$A$8:$D$107,4,FALSE),\"CLUB\",\"OK\"))))),\"\")","v":""},null,{"$f":"IF(AN69<>\"\",IF(AN69=\"Victoire\",IF(VLOOKUP(AK69,$A$8:$AO$107,40,FALSE)=\"Défaite\",\"OK\",\"ERR\"),IF(AN69=\"Défaite\",IF(VLOOKUP(AK69,$A$8:$AO$107,40,FALSE)=\"Victoire\",\"OK\",\"ERR\"),IF(AN69=\"Nul\",IF(VLOOKUP(AK69,$A$8:$AO$107,40,FALSE)=\"Nul\",\"OK\",\"ERR\")))),\"\")","v":""},null,{"$f":"IF(AN69=\"Victoire\",100-ROUNDDOWN(20*AP69/$H69,0),\nIF(AN69=\"Défaite\",10+ROUNDDOWN(20*VLOOKUP(AK69,$A$8:$CB$107,42,FALSE)/VLOOKUP(AK69,$A$8:$H$107,8,FALSE),0),\nIF(AND(AN69=\"Nul\",$AP69<>$H69),40+(2*ROUNDDOWN(10*VLOOKUP(AK69,$A$8:$CB$107,42,FALSE)/VLOOKUP(AK69,$A$8:$H$107,8,FALSE),0)-ROUNDDOWN(10*AP69/$H69,0)),IF(AND(AN69=\"Nul\",$AP69=$H69),58,0))))","v":0},null,{"$f":"IF(AR69<>\"\",VLOOKUP(AR69,$A$8:$C$107,2,FALSE),\"\")","v":""},{"$f":"IF(AR69<>\"\",IF(AR69=$A69,\"ERR\",IF(OR(AR69=$I69,AR69=$P69,AR69=$W69,AR69=$AD69,AR69=$AK69),\"DUP\",IF(ISNA(VLOOKUP(AR69,$A$8:$A$107,1,FALSE)),\"ERR\",IF(COUNTIF($I$8:$I$107,AR69)>1,\"ERR\",IF($D69=VLOOKUP(AR69,$A$8:$D$107,4,FALSE),\"CLUB\",\"OK\"))))),\"\")","v":""},null,{"$f":"IF(AU69<>\"\",IF(AU69=\"Victoire\",IF(VLOOKUP(AR69,$A$8:$BL$107,47,FALSE)=\"Défaite\",\"OK\",\"ERR\"),IF(AU69=\"Défaite\",IF(VLOOKUP(AR69,$A$8:$BL$107,47,FALSE)=\"Victoire\",\"OK\",\"ERR\"),IF(AU69=\"Nul\",IF(VLOOKUP(AR69,$A$8:$BL$107,47,FALSE)=\"Nul\",\"OK\",\"ERR\")))),\"\")","v":""},null,{"$f":"IF(AU69=\"Victoire\",100-ROUNDDOWN(20*AW69/$H69,0),\nIF(AU69=\"Défaite\",10+ROUNDDOWN(20*VLOOKUP(AR69,$A$8:$CB$107,49,FALSE)/VLOOKUP(AR69,$A$8:$H$107,8,FALSE),0),\nIF(AND(AU69=\"Nul\",$AW69<>$H69),40+(2*ROUNDDOWN(10*VLOOKUP(AR69,$A$8:$CB$107,49,FALSE)/VLOOKUP(AR69,$A$8:$H$107,8,FALSE),0)-ROUNDDOWN(10*AW69/$H69,0)),IF(AND(AU69=\"Nul\",$AW69=$H69),58,0))))","v":0},null,{"$f":"IF(AY69<>\"\",VLOOKUP(AY69,$A$8:$C$107,2,FALSE),\"\")","v":""},{"$f":"IF(AY69<>\"\",IF(AY69=$A69,\"ERR\",IF(OR(AY69=$I69,AY69=$P69,AY69=$W69,AY69=$AD69,AY69=$AK69,AY69=$AR69),\"DUP\",IF(ISNA(VLOOKUP(AY69,$A$8:$A$107,1,FALSE)),\"ERR\",IF(COUNTIF($I$8:$I$107,AY69)>1,\"ERR\",IF($D69=VLOOKUP(AY69,$A$8:$D$107,4,FALSE),\"CLUB\",\"OK\"))))),\"\")","v":""},null,{"$f":"IF(BB69<>\"\",IF(BB69=\"Victoire\",IF(VLOOKUP(AY69,$A$8:$BL$107,54,FALSE)=\"Défaite\",\"OK\",\"ERR\"),IF(BB69=\"Défaite\",IF(VLOOKUP(AY69,$A$8:$BL$107,54,FALSE)=\"Victoire\",\"OK\",\"ERR\"),IF(BB69=\"Nul\",IF(VLOOKUP(AY69,$A$8:$BL$107,54,FALSE)=\"Nul\",\"OK\",\"ERR\")))),\"\")","v":""},null,{"$f":"IF(BB69=\"Victoire\",100-ROUNDDOWN(20*BD69/$H69,0),\nIF(BB69=\"Défaite\",10+ROUNDDOWN(20*VLOOKUP(AY69,$A$8:$CB$107,56,FALSE)/VLOOKUP(AY69,$A$8:$H$107,8,FALSE),0),\nIF(AND(BB69=\"Nul\",$BD69<>$H69),40+(2*ROUNDDOWN(10*VLOOKUP(AY69,$A$8:$CB$107,56,FALSE)/VLOOKUP(AY69,$A$8:$H$107,8,FALSE),0)-ROUNDDOWN(10*BD69/$H69,0)),IF(AND(BB69=\"Nul\",$BD69=$H69),58,0))))","v":0},null,{"$f":"IF(BF69<>\"\",VLOOKUP(BF69,$A$8:$C$107,2,FALSE),\"\")","v":""},{"$f":"IF(BF69<>\"\",IF(BF69=$A69,\"ERR\",IF(OR(BF69=$I69,BF69=$P69,BF69=$W69,BF69=$AD69,BF69=$AK69,BF69=$AR69,BF69=$AY69),\"DUP\",IF(ISNA(VLOOKUP(BF69,$A$8:$A$107,1,FALSE)),\"ERR\",IF(COUNTIF($I$8:$I$107,BF69)>1,\"ERR\",IF($D69=VLOOKUP(BF69,$A$8:$D$107,4,FALSE),\"CLUB\",\"OK\"))))),\"\")","v":""},null,{"$f":"IF(BI69<>\"\",IF(BI69=\"Victoire\",IF(VLOOKUP(BF69,$A$8:$BL$107,61,FALSE)=\"Défaite\",\"OK\",\"ERR\"),IF(BI69=\"Défaite\",IF(VLOOKUP(BF69,$A$8:$BL$107,61,FALSE)=\"Victoire\",\"OK\",\"ERR\"),IF(BI69=\"Nul\",IF(VLOOKUP(BF69,$A$8:$BL$107,61,FALSE)=\"Nul\",\"OK\",\"ERR\")))),\"\")","v":""},null,{"$f":"IF(BI69=\"Victoire\",100-ROUNDDOWN(20*BK69/$H69,0),\nIF(BI69=\"Défaite\",10+ROUNDDOWN(20*VLOOKUP(BF69,$A$8:$CB$107,63,FALSE)/VLOOKUP(BF69,$A$8:$H$107,8,FALSE),0),\nIF(AND(BI69=\"Nul\",$BK69<>$H69),40+(2*ROUNDDOWN(10*VLOOKUP(BF69,$A$8:$CB$107,63,FALSE)/VLOOKUP(BF69,$A$8:$H$107,8,FALSE),0)-ROUNDDOWN(10*BK69/$H69,0)),IF(AND(BI69=\"Nul\",$BK69=$H69),58,0))))","v":0},null,{"$f":"IF(BM69<>\"\",VLOOKUP(BM69,$A$8:$C$107,2,FALSE),\"\")","v":""},{"$f":"IF(BM69<>\"\",IF(BM69=$A69,\"ERR\",IF(OR(BM69=$I69,BM69=$P69,BM69=$W69,BM69=$AD69,BM69=$AK69,BM69=$AR69,BM69=$AY69,BM69=$BF69),\"DUP\",IF(ISNA(VLOOKUP(BM69,$A$8:$A$107,1,FALSE)),\"ERR\",IF(COUNTIF($I$8:$I$107,BM69)>1,\"ERR\",IF($D69=VLOOKUP(BM69,$A$8:$D$107,4,FALSE),\"CLUB\",\"OK\"))))),\"\")","v":""},null,{"$f":"IF(BP69<>\"\",IF(BP69=\"Victoire\",IF(VLOOKUP(BM69,$A$8:$BS$107,68,FALSE)=\"Défaite\",\"OK\",\"ERR\"),IF(BP69=\"Défaite\",IF(VLOOKUP(BM69,$A$8:$BS$107,68,FALSE)=\"Victoire\",\"OK\",\"ERR\"),IF(BP69=\"Nul\",IF(VLOOKUP(BM69,$A$8:$BS$107,68,FALSE)=\"Nul\",\"OK\",\"ERR\")))),\"\")","v":""},null,{"$f":"IF(BP69=\"Victoire\",100-ROUNDDOWN(20*BR69/$H69,0),\nIF(BP69=\"Défaite\",10+ROUNDDOWN(20*VLOOKUP(BM69,$A$8:$CB$107,70,FALSE)/VLOOKUP(BM69,$A$8:$H$107,8,FALSE),0),\nIF(AND(BP69=\"Nul\",$BR69<>$H69),40+(2*ROUNDDOWN(10*VLOOKUP(BM69,$A$8:$CB$107,70,FALSE)/VLOOKUP(BM69,$A$8:$H$107,8,FALSE),0)-ROUNDDOWN(10*BR69/$H69,0)),IF(AND(BP69=\"Nul\",$BR69=$H69),58,0))))","v":0},null,{"$f":"IF($I69<>\"\",VLOOKUP($I69,$A$8:$N$107,5,FALSE),0)+IF($P69<>\"\",VLOOKUP($P69,$A$8:$N$107,5,FALSE),0)+IF($W69<>\"\",VLOOKUP($W69,$A$8:$N$107,5,FALSE),0)+IF($AD69<>\"\",VLOOKUP($AD69,$A$8:$N$107,5,FALSE),0)+IF($AK69<>\"\",VLOOKUP($AK69,$A$8:$N$107,5,FALSE),0)+IF($AR69<>\"\",VLOOKUP($AR69,$A$8:$N$107,5,FALSE),0)+IF($AY69<>\"\",VLOOKUP($AY69,$A$8:$N$107,5,FALSE),0)+IF($BF69<>\"\",VLOOKUP($BF69,$A$8:$N$107,5,FALSE),0)+IF($BM69<>\"\",VLOOKUP($BM69,$A$8:$N$107,5,FALSE),0)","v":0}]
[{"$nulls":4},0,null,{"$f":"IF($F70<>\"\",VLOOKUP(F70,Armies!$A$1:$C$300,3,FALSE),\"\")","v":""},null,null,{"$f":"IF(I70<>\"\",VLOOKUP(I70,$A$8:$C$107,2,FALSE),\"\")","v":""},{"$f":"IF(I70<>\"\",IF(I70=$A70,\"ERR\",IF(OR(I70=$P70,I70=$W70,I70=$AD70,I70=$AK70),\"DUP\",IF(ISNA(VLOOKUP(I70,$A$8:$A$107,1,FALSE)),\"ERR\",IF(COUNTIF($I$8:$I$107,I70)>1,\"ERR\",IF($D70=VLOOKUP(I70,$A$8:$D$107,4,FALSE),\"CLUB\",\"OK\"))))),\"\")","v":""},null,{"$f":"IF(L70<>\"\",IF(L70=\"Victoire\",IF(VLOOKUP(I70,$A$8:$L$107,12,FALSE)=\"Défaite\",\"OK\",\"ERR\"),IF(L70=\"Défaite\",IF(VLOOKUP(I70,$A$8:$L$107,12,FALSE)=\"Victoire\",\"OK\",\"ERR\"),IF(L70=\"Nul\",IF(VLOOKUP(I70,$A$8:$L$107,12,FALSE)=\"Nul\",\"OK\",\"ERR\")))),\"\")","v":""},null,{"$f":"IF(L70=\"Victoire\",100-ROUNDDOWN(20*N70/$H70,0),\nIF(L70=\"Défaite\",10+ROUNDDOWN(20*VLOOKUP(I70,$A$8:$N$107,14,FALSE)/VLOOKUP(I70,$A$8:$H$107,8,FALSE),0),\nIF(AND(L70=\"Nul\",$N70<>$H70),40+(2*ROUNDDOWN(10*VLOOKUP(I70,$A$8:$N$107,14,FALSE)/VLOOKUP(I70,$A$8:$H$107,8,FALSE),0)-ROUNDDOWN(10*N70/$H70,0)),IF(AND(L70=\"Nul\",$N70=$H70),58,0))))","v":0},null,{"$f":"IF(P70<>\"\",VLOOKUP(P70,$A$8:$C$107,2,FALSE),\"\")","v":""},{"$f":"IF(P70<>\"\",IF(P70=$A70,\"ERR\",IF(OR(P70=$I70,P70=$W70,P70=$AD70,P70=$AK70),\"DUP\",IF(ISNA(VLOOKUP(P70,$A$8:$A$107,1,FALSE)),\"ERR\",IF(COUNTIF($I$8:$I$107,P70)>1,\"ERR\",IF($D70=VLOOKUP(P70,$A$8:$D$107,4,FALSE),\"CLUB\",\"OK\"))))),\"\")","v":""},null,{"$f":"IF(S70<>\"\",IF(S70=\"Victoire\",IF(VLOOKUP(P70,$A$8:$AO$107,19,FALSE)=\"Défaite\",\"OK\",\"ERR\"),IF(S70=\"Défaite\",IF(VLOOKUP(P70,$A$8:$AO$107,19,FALSE)=\"Victoire\",\"OK\",\"ERR\"),IF(S70=\"Nul\",IF(VLOOKUP(P70,$A$8:$AO$107,19,FALSE)=\"Nul\",\"OK\",\"ERR\")))),\"\")","v":""},null,{"$f":"IF(S70=\"Victoire\",100-ROUNDDOWN(20*U70/$H70,0),\nIF(S70=\"Défaite\",10+ROUNDDOWN(20*VLOOKUP(P70,$A$8:$AO$107,21,FALSE)/VLOOKUP(P70,$A$8:$H$107,8,FALSE),0),\nIF(AND(S70=\"Nul\",$U70<>$H70),40+(2*ROUNDDOWN(10*VLOOKUP(P70,$A$8:$AO$107,21,FALSE)/VLOOKUP(P70,$A$8:$H$107,8,FALSE),0)-ROUNDDOWN(10*U70/$H70,0)),IF(AND(S70=\"Nul\",$U70=$H70),58,0))))","v":0},null,{"$f":"IF(W70<>\"\",VLOOKUP(W70,$A$8:$C$107,2,FALSE),\"\")","v":""},{"$f":"IF(W70<>\"\",IF(W70=$A70,\"ERR\",IF(OR(W70=$P70,W70=$I70,W70=$AD70,W70=$AK70),\"DUP\",IF(ISNA(VLOOKUP(W70,$A$8:$A$107,1,FALSE)),\"ERR\",IF(COUNTIF($I$8:$I$107,W70)>1,\"ERR\",IF($D70=VLOOKUP(W70,$A$8:$D$107,4,FALSE),\"CLUB\",\"OK\"))))),\"\")","v":""},null,{"$f":"IF(Z70<>\"\",IF(Z70=\"Victoire\",IF(VLOOKUP(W70,$A$8:$AO$107,26,FALSE)=\"Défaite\",\"OK\",\"ERR\"),IF(Z70=\"Défaite\",IF(VLOOKUP(W70,$A$8:$AO$107,26,FALSE)=\"Victoire\",\"OK\",\"ERR\"),IF(Z70=\"Nul\",IF(VLOOKUP(W70,$A$8:$AO$107,26,FALSE)=\"Nul\",\"OK\",\"ERR\")))),\"\")","v":""},null,{"$f":"IF(Z70=\"Victoire\",100-ROUNDDOWN(20*AB70/$H70,0),\nIF(Z70=\"Défaite\",10+ROUNDDOWN(20*VLOOKUP(W70,$A$8:$AO$107,28,FALSE)/VLOOKUP(W70,$A$8:$H$107,8,FALSE),0),\nIF(AND(Z70=\"Nul\",$AB70<>$H70),40+(2*ROUNDDOWN(10*VLOOKUP(W70,$A$8:$AO$107,28,FALSE)/VLOOKUP(W70,$A$8:$H$107,8,FALSE),0)-ROUNDDOWN(10*AB70/$H70,0)),IF(AND(Z70=\"Nul\",$AB70=$H70),58,0))))","v":0},null,{"$f":"IF(AD70<>\"\",VLOOKUP(AD70,$A$8:$C$107,2,FALSE),\"\")","v":""},{"$f":"IF(AD70<>\"\",IF(AD70=$A70,\"ERR\",IF(OR(AD70=$P70,AD70=$W70,AD70=$I70,AD70=$AK70),\"DUP\",IF(ISNA(VLOOKUP(AD70,$A$8:$A$107,1,FALSE)),\"ERR\",IF(COUNTIF($I$8:$I$107,AD70)>1,\"ERR\",IF($D70=VLOOKUP(AD70,$A$8:$D$107,4,FALSE),\"CLUB\",\"OK\"))))),\"\")","v":""},null,{"$f":"IF(AG70<>\"\",IF(AG70=\"Victoire\",IF(VLOOKUP(AD70,$A$8:$AO$107,33,FALSE)=\"Défaite\",\"OK\",\"ERR\"),IF(AG70=\"Défaite\",IF(VLOOKUP(AD70,$A$8:$AO$107,33,FALSE)=\"Victoire\",\"OK\",\"ERR\"),IF(AG70=\"Nul\",IF(VLOOKUP(AD70,$A$8:$AO$107,33,FALSE)=\"Nul\",\"OK\",\"ERR\")))),\"\")","v":""},null,{"$f":"IF(AG70=\"Victoire\",100-ROUNDDOWN(20*AI70/$H70,0),\nIF(AG70=\"Défaite\",10+ROUNDDOWN(20*VLOOKUP(AD70,$A$8:$AO$107,35,FALSE)/VLOOKUP(AD70,$A$8:$H$107,8,FALSE),0),\nIF(AND(AG70=\"Nul\",$AI70<>$H70),40+(2*ROUNDDOWN(10*VLOOKUP(AD70,$A$8:$AO$107,35,FALSE)/VLOOKUP(AD70,$A$8:$H$107,8,FALSE),0)-ROUNDDOWN(10*AI70/$H70,0)),IF(AND(AG70=\"Nul\",$AI70=$H70),58,0))))","v":0},null,{"$f":"IF(AK70<>\"\",VLOOKUP(AK70,$A$8:$C$107,2,FALSE),\"\")","v":""},{"$f":"IF(AK70<>\"\",IF(AK70=$A70,\"ERR\",IF(OR(AK70=$P70,AK70=$W70,AK70=$AD70,AK70=$I70),\"DUP\",IF(ISNA(VLOOKUP(AK70,$A$8:$A$107,1,FALSE)),\"ERR\",IF(COUNTIF($I$8:$I$107,AK70)>1,\"ERR\",IF($D70=VLOOKUP(AK70,$A$8:$D$107,4,FALSE),\"CLUB\",\"OK\"))))),\"\")","v":""},null,{"$f":"IF(AN70<>\"\",IF(AN70=\"Victoire\",IF(VLOOKUP(AK70,$A$8:$AO$107,40,FALSE)=\"Défaite\",\"OK\",\"ERR\"),IF(AN70=\"Défaite\",IF(VLOOKUP(AK70,$A$8:$AO$107,40,FALSE)=\"Victoire\",\"OK\",\"ERR\"),IF(AN70=\"Nul\",IF(VLOOKUP(AK70,$A$8:$AO$107,40,FALSE)=\"Nul\",\"OK\",\"ERR\")))),\"\")","v":""},null,{"$f":"IF(AN70=\"Victoire\",100-ROUNDDOWN(20*AP70/$H70,0),\nIF(AN70=\"Défaite\",10+ROUNDDOWN(20*VLOOKUP(AK70,$A$8:$CB$107,42,FALSE)/VLOOKUP(AK70,$A$8:$H$107,8,FALSE),0),\nIF(AND(AN70=\"Nul\",$AP70<>$H70),40+(2*ROUNDDOWN(10*VLOOKUP(AK70,$A$8:$CB$107,42,FALSE)/VLOOKUP(AK70,$A$8:$H$107,8,FALSE),0)-ROUNDDOWN(10*AP70/$H70,0)),IF(AND(AN70=\"Nul\",$AP70=$H70),58,0))))","v":0},null,{"$f":"IF(AR70<>\"\",VLOOKUP(AR70,$A$8:$C$107,2,FALSE),\"\")","v":""},{"$f":"IF(AR70<>\"\",IF(AR70=$A70,\"ERR\",IF(OR(AR70=$I70,AR70=$P70,AR70=$W70,AR70=$AD70,AR70=$AK70),\"DUP\",IF(ISNA(VLOOKUP(AR70,$A$8:$A$107,1,FALSE)),\"ERR\",IF(COUNTIF($I$8:$I$107,AR70)>1,\"ERR\",IF($D70=VLOOKUP(AR70,$A$8:$D$107,4,FALSE),\"CLUB\",\"OK\"))))),\"\")","v":""},null,{"$f":"IF(AU70<>\"\",IF(AU70=\"Victoire\",IF(VLOOKUP(AR70,$A$8:$BL$107,47,FALSE)=\"Défaite\",\"OK\",\"ERR\"),IF(AU70=\"Défaite\",IF(VLOOKUP(AR70,$A$8:$BL$107,47,FALSE)=\"Victoire\",\"OK\",\"ERR\"),IF(AU70=\"Nul\",IF(VLOOKUP(AR70,$A$8:$BL$107,47,FALSE)=\"Nul\",\"OK\",\"ERR\")))),\"\")","v":""},null,{"$f":"IF(AU70=\"Victoire\",100-ROUNDDOWN(20*AW70/$H70,0),\nIF(AU70=\"Défaite\",10+ROUNDDOWN(20*VLOOKUP(AR70,$A$8:$CB$107,49,FALSE)/VLOOKUP(AR70,$A$8:$H$107,8,FALSE),0),\nIF(AND(AU70=\"Nul\",$AW70<>$H70),40+(2*ROUNDDOWN(10*VLOOKUP(AR70,$A$8:$CB$107,49,FALSE)/VLOOKUP(AR70,$A$8:$H$107,8,FALSE),0)-ROUNDDOWN(10*AW70/$H70,0)),IF(AND(AU70=\"Nul\",$AW70=$H70),58,0))))","v":0},null,{"$f":"IF(AY70<>\"\",VLOOKUP(AY70,$A$8:$C$107,2,FALSE),\"\")","v":""},{"$f":"IF(AY70<>\"\",IF(AY70=$A70,\"ERR\",IF(OR(AY70=$I70,AY70=$P70,AY70=$W70,AY70=$AD70,AY70=$AK70,AY70=$AR70),\"DUP\",IF(ISNA(VLOOKUP(AY70,$A$8:$A$107,1,FALSE)),\"ERR\",IF(COUNTIF($I$8:$I$107,AY70)>1,\"ERR\",IF($D70=VLOOKUP(AY70,$A$8:$D$107,4,FALSE),\"CLUB\",\"OK\"))))),\"\")","v":""},null,{"$f":"IF(BB70<>\"\",IF(BB70=\"Victoire\",IF(VLOOKUP(AY70,$A$8:$BL$107,54,FALSE)=\"Défaite\",\"OK\",\"ERR\"),IF(BB70=\"Défaite\",IF(VLOOKUP(AY70,$A$8:$BL$107,54,FALSE)=\"Victoire\",\"OK\",\"ERR\"),IF(BB70=\"Nul\",IF(VLOOKUP(AY70,$A$8:$BL$107,54,FALSE)=\"Nul\",\"OK\",\"ERR\")))),\"\")","v":""},null,{"$f":"IF(BB70=\"Victoire\",100-ROUNDDOWN(20*BD70/$H70,0),\nIF(BB70=\"Défaite\",10+ROUNDDOWN(20*VLOOKUP(AY70,$A$8:$CB$107,56,FALSE)/VLOOKUP(AY70,$A$8:$H$107,8,FALSE),0),\nIF(AND(BB70=\"Nul\",$BD70<>$H70),40+(2*ROUNDDOWN(10*VLOOKUP(AY70,$A$8:$CB$107,56,FALSE)/VLOOKUP(AY70,$A$8:$H$107,8,FALSE),0)-ROUNDDOWN(10*BD70/$H70,0)),IF(AND(BB70=\"Nul\",$BD70=$H70),58,0))))","v":0},null,{"$f":"IF(BF70<>\"\",VLOOKUP(BF70,$A$8:$C$107,2,FALSE),\"\")","v":""},{"$f":"IF(BF70<>\"\",IF(BF70=$A70,\"ERR\",IF(OR(BF70=$I70,BF70=$P70,BF70=$W70,BF70=$AD70,BF70=$AK70,BF70=$AR70,BF70=$AY70),\"DUP\",IF(ISNA(VLOOKUP(BF70,$A$8:$A$107,1,FALSE)),\"ERR\",IF(COUNTIF($I$8:$I$107,BF70)>1,\"ERR\",IF($D70=VLOOKUP(BF70,$A$8:$D$107,4,FALSE),\"CLUB\",\"OK\"))))),\"\")","v":""},null,{"$f":"IF(BI70<>\"\",IF(BI70=\"Victoire\",IF(VLOOKUP(BF70,$A$8:$BL$107,61,FALSE)=\"Défaite\",\"OK\",\"ERR\"),IF(BI70=\"Défaite\",IF(VLOOKUP(BF70,$A$8:$BL$107,61,FALSE)=\"Victoire\",\"OK\",\"ERR\"),IF(BI70=\"Nul\",IF(VLOOKUP(BF70,$A$8:$BL$107,61,FALSE)=\"Nul\",\"OK\",\"ERR\")))),\"\")","v":""},null,{"$f":"IF(BI70=\"Victoire\",100-ROUNDDOWN(20*BK70/$H70,0),\nIF(BI70=\"Défaite\",10+ROUNDDOWN(20*VLOOKUP(BF70,$A$8:$CB$107,63,FALSE)/VLOOKUP(BF70,$A$8:$H$107,8,FALSE),0),\nIF(AND(BI70=\"Nul\",$BK70<>$H70),40+(2*ROUNDDOWN(10*VLOOKUP(BF70,$A$8:$CB$107,63,FALSE)/VLOOKUP(BF70,$A$8:$H$107,8,FALSE),0)-ROUNDDOWN(10*BK70/$H70,0)),IF(AND(BI70=\"Nul\",$BK70=$H70),58,0))))","v":0},null,{"$f":"IF(BM70<>\"\",VLOOKUP(BM70,$A$8:$C$107,2,FALSE),\"\")","v":""},{"$f":"IF(BM70<>\"\",IF(BM70=$A70,\"ERR\",IF(OR(BM70=$I70,BM70=$P70,BM70=$W70,BM70=$AD70,BM70=$AK70,BM70=$AR70,BM70=$AY70,BM70=$BF70),\"DUP\",IF(ISNA(VLOOKUP(BM70,$A$8:$A$107,1,FALSE)),\"ERR\",IF(COUNTIF($I$8:$I$107,BM70)>1,\"ERR\",IF($D70=VLOOKUP(BM70,$A$8:$D$107,4,FALSE),\"CLUB\",\"OK\"))))),\"\")","v":""},null,{"$f":"IF(BP70<>\"\",IF(BP70=\"Victoire\",IF(VLOOKUP(BM70,$A$8:$BS$107,68,FALSE)=\"Défaite\",\"OK\",\"ERR\"),IF(BP70=\"Défaite\",IF(VLOOKUP(BM70,$A$8:$BS$107,68,FALSE)=\"Victoire\",\"OK\",\"ERR\"),IF(BP70=\"Nul\",IF(VLOOKUP(BM70,$A$8:$BS$107,68,FALSE)=\"Nul\",\"OK\",\"ERR\")))),\"\")","v":""},null,{"$f":"IF(BP70=\"Victoire\",100-ROUNDDOWN(20*BR70/$H70,0),\nIF(BP70=\"Défaite\",10+ROUNDDOWN(20*VLOOKUP(BM70,$A$8:$CB$107,70,FALSE)/VLOOKUP(BM70,$A$8:$H$107,8,FALSE),0),\nIF(AND(BP70=\"Nul\",$BR70<>$H70),40+(2*ROUNDDOWN(10*VLOOKUP(BM70,$A$8:$CB$107,70,FALSE)/VLOOKUP(BM70,$A$8:$H$107,8,FALSE),0)-ROUNDDOWN(10*BR70/$H70,0)),IF(AND(BP70=\"Nul\",$BR70=$H70),58,0))))","v":0},null,{"$f":"IF($I70<>\"\",VLOOKUP($I70,$A$8:$N$107,5,FALSE),0)+IF($P70<>\"\",VLOOKUP($P70,$A$8:$N$107,5,FALSE),0)+IF($W70<>\"\",VLOOKUP($W70,$A$8:$N$107,5,FALSE),0)+IF($AD70<>\"\",VLOOKUP($AD70,$A$8:$N$107,5,FALSE),0)+IF($AK70<>\"\",VLOOKUP($AK70,$A$8:$N$107,5,FALSE),0)+IF($AR70<>\"\",VLOOKUP($AR70,$A$8:$N$107,5,FALSE),0)+IF($AY70<>\"\",VLOOKUP($AY70,$A$8:$N$107,5,FALSE),0)+IF($BF70<>\"\",VLOOKUP($BF70,$A$8:$N$107,5,FALSE),0)+IF($BM70<>\"\",VLOOKUP($BM70,$A$8:$N$107,5,FALSE),0)","v":0}]
[{"$nulls":4},0,null,{"$f":"IF($F71<>\"\",VLOOKUP(F71,Armies!$A$1:$C$300,3,FALSE),\"\")","v":""},null,null,{"$f":"IF(I71<>\"\",VLOOKUP(I71,$A$8:$C$107,2,FALSE),\"\")","v":""},{"$f":"IF(I71<>\"\",IF(I71=$A71,\"ERR\",IF(OR(I71=$P71,I71=$W71,I71=$AD71,I71=$AK71),\"DUP\",IF(ISNA(VLOOKUP(I71,$A$8:$A$107,1,FALSE)),\"ERR\",IF(COUNTIF($I$8:$I$107,I71)>1,\"ERR\",IF($D71=VLOOKUP(I71,$A$8:$D$107,4,FALSE),\"CLUB\",\"OK\"))))),\"\")","v":""},null,{"$f":"IF(L71<>\"\",IF(L71=\"Victoire\",IF(VLOOKUP(I71,$A$8:$L$107,12,FALSE)=\"Défaite\",\"OK\",\"ERR\"),IF(L71=\"Défaite\",IF(VLOOKUP(I71,$A$8:$L$107,12,FALSE)=\"Victoire\",\"OK\",\"ERR\"),IF(L71=\"Nul\",IF(VLOOKUP(I71,$A$8:$L$107,12,FALSE)=\"Nul\",\"OK\",\"ERR\")))),\"\")","v":""},null,{"$f":"IF(L71=\"Victoire\",100-ROUNDDOWN(20*N71/$H71,0),\nIF(L71=\"Défaite\",10+ROUNDDOWN(20*VLOOKUP(I71,$A$8:$N$107,14,FALSE)/VLOOKUP(I71,$A$8:$H$107,8,FALSE),0),\nIF(AND(L71=\"Nul\",$N71<>$H71),40+(2*ROUNDDOWN(10*VLOOKUP(I71,$A$8:$N$107,14,FALSE)/VLOOKUP(I71,$A$8:$H$107,8,FALSE),0)-ROUNDDOWN(10*N71/$H71,0)),IF(AND(L71=\"Nul\",$N71=$H71),58,0))))","v":0},null,{"$f":"IF(P71<>\"\",VLOOKUP(P71,$A$8:$C$107,2,FALSE),\"\")","v":""},{"$f":"IF(P71<>\"\",IF(P71=$A71,\"ERR\",IF(OR(P71=$I71,P71=$W71,P71=$AD71,P71=$AK71),\"DUP\",IF(ISNA(VLOOKUP(P71,$A$8:$A$107,1,FALSE)),\"ERR\",IF(COUNTIF($I$8:$I$107,P71)>1,\"ERR\",IF($D71=VLOOKUP(P71,$A$8:$D$107,4,FALSE),\"CLUB\",\"OK\"))))),\"\")","v":""},null,{"$f":"IF(S71<>\"\",IF(S71=\"Victoire\",IF(VLOOKUP(P71,$A$8:$AO$107,19,FALSE)=\"Défaite\",\"OK\",\"ERR\"),IF(S71=\"Défaite\",IF(VLOOKUP(P71,$A$8:$AO$107,19,FALSE)=\"Victoire\",\"OK\",\"ERR\"),IF(S71=\"Nul\",IF(VLOOKUP(P71,$A$8:$AO$107,19,FALSE)=\"Nul\",\"OK\",\"ERR\")))),\"\")","v":""},null,{"$f":"IF(S71=\"Victoire\",100-ROUNDDOWN(20*U71/$H71,0),\nIF(S71=\"Défaite\",10+ROUNDDOWN(20*VLOOKUP(P71,$A$8:$AO$107,21,FALSE)/VLOOKUP(P71,$A$8:$H$107,8,FALSE),0),\nIF(AND(S71=\"Nul\",$U71<>$H71),40+(2*ROUNDDOWN(10*VLOOKUP(P71,$A$8:$AO$107,21,FALSE)/VLOOKUP(P71,$A$8:$H$107,8,FALSE),0)-ROUNDDOWN(10*U71/$H71,0)),IF(AND(S71=\"Nul\",$U71=$H71),58,0))))","v":0},null,{"$f":"IF(W71<>\"\",VLOOKUP(W71,$A$8:$C$107,2,FALSE),\"\")","v":""},{"$f":"IF(W71<>\"\",IF(W71=$A71,\"ERR\",IF(OR(W71=$P71,W71=$I71,W71=$AD71,W71=$AK71),\"DUP\",IF(ISNA(VLOOKUP(W71,$A$8:$A$107,1,FALSE)),\"ERR\",IF(COUNTIF($I$8:$I$107,W71)>1,\"ERR\",IF($D71=VLOOKUP(W71,$A$8:$D$107,4,FALSE),\"CLUB\",\"OK\"))))),\"\")","v":""},null,{"$f":"IF(Z71<>\"\",IF(Z71=\"Victoire\",IF(VLOOKUP(W71,$A$8:$AO$107,26,FALSE)=\"Défaite\",\"OK\",\"ERR\"),IF(Z71=\"Défaite\",IF(VLOOKUP(W71,$A$8:$AO$107,26,FALSE)=\"Victoire\",\"OK\",\"ERR\"),IF(Z71=\"Nul\",IF(VLOOKUP(W71,$A$8:$AO$107,26,FALSE)=\"Nul\",\"OK\",\"ERR\")))),\"\")","v":""},null,{"$f":"IF(Z71=\"Victoire\",100-ROUNDDOWN(20*AB71/$H71,0),\nIF(Z71=\"Défaite\",10+ROUNDDOWN(20*VLOOKUP(W71,$A$8:$AO$107,28,FALSE)/VLOOKUP(W71,$A$8:$H$107,8,FALSE),0),\nIF(AND(Z71=\"Nul\",$AB71<>$H71),40+(2*ROUNDDOWN(10*VLOOKUP(W71,$A$8:$AO$107,28,FALSE)/VLOOKUP(W71,$A$8:$H$107,8,FALSE),0)-ROUNDDOWN(10*AB71/$H71,0)),IF(AND(Z71=\"Nul\",$AB71=$H71),58,0))))","v":0},null,{"$f":"IF(AD71<>\"\",VLOOKUP(AD71,$A$8:$C$107,2,FALSE),\"\")","v":""},{"$f":"IF(AD71<>\"\",IF(AD71=$A71,\"ERR\",IF(OR(AD71=$P71,AD71=$W71,AD71=$I71,AD71=$AK71),\"DUP\",IF(ISNA(VLOOKUP(AD71,$A$8:$A$107,1,FALSE)),\"ERR\",IF(COUNTIF($I$8:$I$107,AD71)>1,\"ERR\",IF($D71=VLOOKUP(AD71,$A$8:$D$107,4,FALSE),\"CLUB\",\"OK\"))))),\"\")","v":""},null,{"$f":"IF(AG71<>\"\",IF(AG71=\"Victoire\",IF(VLOOKUP(AD71,$A$8:$AO$107,33,FALSE)=\"Défaite\",\"OK\",\"ERR\"),IF(AG71=\"Défaite\",IF(VLOOKUP(AD71,$A$8:$AO$107,33,FALSE)=\"Victoire\",\"OK\",\"ERR\"),IF(AG71=\"Nul\",IF(VLOOKUP(AD71,$A$8:$AO$107,33,FALSE)=\"Nul\",\"OK\",\"ERR\")))),\"\")","v":""},null,{"$f":"IF(AG71=\"Victoire\",100-ROUNDDOWN(20*AI71/$H71,0),\nIF(AG71=\"Défaite\",10+ROUNDDOWN(20*VLOOKUP(AD71,$A$8:$AO$107,35,FALSE)/VLOOKUP(AD71,$A$8:$H$107,8,FALSE),0),\nIF(AND(AG71=\"Nul\",$AI71<>$H71),40+(2*ROUNDDOWN(10*VLOOKUP(AD71,$A$8:$AO$107,35,FALSE)/VLOOKUP(AD71,$A$8:$H$107,8,FALSE),0)-ROUNDDOWN(10*AI71/$H71,0)),IF(AND(AG71=\"Nul\",$AI71=$H71),58,0))))","v":0},null,{"$f":"IF(AK71<>\"\",VLOOKUP(AK71,$A$8:$C$107,2,FALSE),\"\")","v":""},{"$f":"IF(AK71<>\"\",IF(AK71=$A71,\"ERR\",IF(OR(AK71=$P71,AK71=$W71,AK71=$AD71,AK71=$I71),\"DUP\",IF(ISNA(VLOOKUP(AK71,$A$8:$A$107,1,FALSE)),\"ERR\",IF(COUNTIF($I$8:$I$107,AK71)>1,\"ERR\",IF($D71=VLOOKUP(AK71,$A$8:$D$107,4,FALSE),\"CLUB\",\"OK\"))))),\"\")","v":""},null,{"$f":"IF(AN71<>\"\",IF(AN71=\"Victoire\",IF(VLOOKUP(AK71,$A$8:$AO$107,40,FALSE)=\"Défaite\",\"OK\",\"ERR\"),IF(AN71=\"Défaite\",IF(VLOOKUP(AK71,$A$8:$AO$107,40,FALSE)=\"Victoire\",\"OK\",\"ERR\"),IF(AN71=\"Nul\",IF(VLOOKUP(AK71,$A$8:$AO$107,40,FALSE)=\"Nul\",\"OK\",\"ERR\")))),\"\")","v":""},null,{"$f":"IF(AN71=\"Victoire\",100-ROUNDDOWN(20*AP71/$H71,0),\nIF(AN71=\"Défaite\",10+ROUNDDOWN(20*VLOOKUP(AK71,$A$8:$CB$107,42,FALSE)/VLOOKUP(AK71,$A$8:$H$107,8,FALSE),0),\nIF(AND(AN71=\"Nul\",$AP71<>$H71),40+(2*ROUNDDOWN(10*VLOOKUP(AK71,$A$8:$CB$107,42,FALSE)/VLOOKUP(AK71,$A$8:$H$107,8,FALSE),0)-ROUNDDOWN(10*AP71/$H71,0)),IF(AND(AN71=\"Nul\",$AP71=$H71),58,0))))","v":0},null,{"$f":"IF(AR71<>\"\",VLOOKUP(AR71,$A$8:$C$107,2,FALSE),\"\")","v":""},{"$f":"IF(AR71<>\"\",IF(AR71=$A71,\"ERR\",IF(OR(AR71=$I71,AR71=$P71,AR71=$W71,AR71=$AD71,AR71=$AK71),\"DUP\",IF(ISNA(VLOOKUP(AR71,$A$8:$A$107,1,FALSE)),\"ERR\",IF(COUNTIF($I$8:$I$107,AR71)>1,\"ERR\",IF($D71=VLOOKUP(AR71,$A$8:$D$107,4,FALSE),\"CLUB\",\"OK\"))))),\"\")","v":""},null,{"$f":"IF(AU71<>\"\",IF(AU71=\"Victoire\",IF(VLOOKUP(AR71,$A$8:$BL$107,47,FALSE)=\"Défaite\",\"OK\",\"ERR\"),IF(AU71=\"Défaite\",IF(VLOOKUP(AR71,$A$8:$BL$107,47,FALSE)=\"Victoire\",\"OK\",\"ERR\"),IF(AU71=\"Nul\",IF(VLOOKUP(AR71,$A$8:$BL$107,47,FALSE)=\"Nul\",\"OK\",\"ERR\")))),\"\")","v":""},null,{"$f":"IF(AU71=\"Victoire\",100-ROUNDDOWN(20*AW71/$H71,0),\nIF(AU71=\"Défaite\",10+ROUNDDOWN(20*VLOOKUP(AR71,$A$8:$CB$107,49,FALSE)/VLOOKUP(AR71,$A$8:$H$107,8,FALSE),0),\nIF(AND(AU71=\"Nul\",$AW71<>$H71),40+(2*ROUNDDOWN(10*VLOOKUP(AR71,$A$8:$CB$107,49,FALSE)/VLOOKUP(AR71,$A$8:$H$107,8,FALSE),0)-ROUNDDOWN(10*AW71/$H71,0)),IF(AND(AU71=\"Nul\",$AW71=$H71),58,0))))","v":0},null,{"$f":"IF(AY71<>\"\",VLOOKUP(AY71,$A$8:$C$107,2,FALSE),\"\")","v":""},{"$f":"IF(AY71<>\"\",IF(AY71=$A71,\"ERR\",IF(OR(AY71=$I71,AY71=$P71,AY71=$W71,AY71=$AD71,AY71=$AK71,AY71=$AR71),\"DUP\",IF(ISNA(VLOOKUP(AY71,$A$8:$A$107,1,FALSE)),\"ERR\",IF(COUNTIF($I$8:$I$107,AY71)>1,\"ERR\",IF($D71=VLOOKUP(AY71,$A$8:$D$107,4,FALSE),\"CLUB\",\"OK\"))))),\"\")","v":""},null,{"$f":"IF(BB71<>\"\",IF(BB71=\"Victoire\",IF(VLOOKUP(AY71,$A$8:$BL$107,54,FALSE)=\"Défaite\",\"OK\",\"ERR\"),IF(BB71=\"Défaite\",IF(VLOOKUP(AY71,$A$8:$BL$107,54,FALSE)=\"Victoire\",\"OK\",\"ERR\"),IF(BB71=\"Nul\",IF(VLOOKUP(AY71,$A$8:$BL$107,54,FALSE)=\"Nul\",\"OK\",\"ERR\")))),\"\")","v":""},null,{"$f":"IF(BB71=\"Victoire\",100-ROUNDDOWN(20*BD71/$H71,0),\nIF(BB71=\"Défaite\",10+ROUNDDOWN(20*VLOOKUP(AY71,$A$8:$CB$107,56,FALSE)/VLOOKUP(AY71,$A$8:$H$107,8,FALSE),0),\nIF(AND(BB71=\"Nul\",$BD71<>$H71),40+(2*ROUNDDOWN(10*VLOOKUP(AY71,$A$8:$CB$107,56,FALSE)/VLOOKUP(AY71,$A$8:$H$107,8,FALSE),0)-ROUNDDOWN(10*BD71/$H71,0)),IF(AND(BB71=\"Nul\",$BD71=$H71),58,0))))","v":0},null,{"$f":"IF(BF71<>\"\",VLOOKUP(BF71,$A$8:$C$107,2,FALSE),\"\")","v":""},{"$f":"IF(BF71<>\"\",IF(BF71=$A71,\"ERR\",IF(OR(BF71=$I71,BF71=$P71,BF71=$W71,BF71=$AD71,BF71=$AK71,BF71=$AR71,BF71=$AY71),\"DUP\",IF(ISNA(VLOOKUP(BF71,$A$8:$A$107,1,FALSE)),\"ERR\",IF(COUNTIF($I$8:$I$107,BF71)>1,\"ERR\",IF($D71=VLOOKUP(BF71,$A$8:$D$107,4,FALSE),\"CLUB\",\"OK\"))))),\"\")","v":""},null,{"$f":"IF(BI71<>\"\",IF(BI71=\"Victoire\",IF(VLOOKUP(BF71,$A$8:$BL$107,61,FALSE)=\"Défaite\",\"OK\",\"ERR\"),IF(BI71=\"Défaite\",IF(VLOOKUP(BF71,$A$8:$BL$107,61,FALSE)=\"Victoire\",\"OK\",\"ERR\"),IF(BI71=\"Nul\",IF(VLOOKUP(BF71,$A$8:$BL$107,61,FALSE)=\"Nul\",\"OK\",\"ERR\")))),\"\")","v":""},null,{"$f":"IF(BI71=\"Victoire\",100-ROUNDDOWN(20*BK71/$H71,0),\nIF(BI71=\"Défaite\",10+ROUNDDOWN(20*VLOOKUP(BF71,$A$8:$CB$107,63,FALSE)/VLOOKUP(BF71,$A$8:$H$107,8,FALSE),0),\nIF(AND(BI71=\"Nul\",$BK71<>$H71),40+(2*ROUNDDOWN(10*VLOOKUP(BF71,$A$8:$CB$107,63,FALSE)/VLOOKUP(BF71,$A$8:$H$107,8,FALSE),0)-ROUNDDOWN(10*BK71/$H71,0)),IF(AND(BI71=\"Nul\",$BK71=$H71),58,0))))","v":0},null,{"$f":"IF(BM71<>\"\",VLOOKUP(BM71,$A$8:$C$107,2,FALSE),\"\")","v":""},{"$f":"IF(BM71<>\"\",IF(BM71=$A71,\"ERR\",IF(OR(BM71=$I71,BM71=$P71,BM71=$W71,BM71=$AD71,BM71=$AK71,BM71=$AR71,BM71=$AY71,BM71=$BF71),\"DUP\",IF(ISNA(VLOOKUP(BM71,$A$8:$A$107,1,FALSE)),\"ERR\",IF(COUNTIF($I$8:$I$107,BM71)>1,\"ERR\",IF($D71=VLOOKUP(BM71,$A$8:$D$107,4,FALSE),\"CLUB\",\"OK\"))))),\"\")","v":""},null,{"$f":"IF(BP71<>\"\",IF(BP71=\"Victoire\",IF(VLOOKUP(BM71,$A$8:$BS$107,68,FALSE)=\"Défaite\",\"OK\",\"ERR\"),IF(BP71=\"Défaite\",IF(VLOOKUP(BM71,$A$8:$BS$107,68,FALSE)=\"Victoire\",\"OK\",\"ERR\"),IF(BP71=\"Nul\",IF(VLOOKUP(BM71,$A$8:$BS$107,68,FALSE)=\"Nul\",\"OK\",\"ERR\")))),\"\")","v":""},null,{"$f":"IF(BP71=\"Victoire\",100-ROUNDDOWN(20*BR71/$H71,0),\nIF(BP71=\"Défaite\",10+ROUNDDOWN(20*VLOOKUP(BM71,$A$8:$CB$107,70,FALSE)/VLOOKUP(BM71,$A$8:$H$107,8,FALSE),0),\nIF(AND(BP71=\"Nul\",$BR71<>$H71),40+(2*ROUNDDOWN(10*VLOOKUP(BM71,$A$8:$CB$107,70,FALSE)/VLOOKUP(BM71,$A$8:$H$107,8,FALSE),0)-ROUNDDOWN(10*BR71/$H71,0)),IF(AND(BP71=\"Nul\",$BR71=$H71),58,0))))","v":0},null,{"$f":"IF($I71<>\"\",VLOOKUP($I71,$A$8:$N$107,5,FALSE),0)+IF($P71<>\"\",VLOOKUP($P71,$A$8:$N$107,5,FALSE),0)+IF($W71<>\"\",VLOOKUP($W71,$A$8:$N$107,5,FALSE),0)+IF($AD71<>\"\",VLOOKUP($AD71,$A$8:$N$107,5,FALSE),0)+IF($AK71<>\"\",VLOOKUP($AK71,$A$8:$N$107,5,FALSE),0)+IF($AR71<>\"\",VLOOKUP($AR71,$A$8:$N$107,5,FALSE),0)+IF($AY71<>\"\",VLOOKUP($AY71,$A$8:$N$107,5,FALSE),0)+IF($BF71<>\"\",VLOOKUP($BF71,$A$8:$N$107,5,FALSE),0)+IF($BM71<>\"\",VLOOKUP($BM71,$A$8:$N$107,5,FALSE),0)","v":0}]
[{"$nulls":4},0,null,{"$f":"IF($F72<>\"\",VLOOKUP(F72,Armies!$A$1:$C$300,3,FALSE),\"\")","v":""},null,null,{"$f":"IF(I72<>\"\",VLOOKUP(I72,$A$8:$C$107,2,FALSE),\"\")","v":""},{"$f":"IF(I72<>\"\",IF(I72=$A72,\"ERR\",IF(OR(I72=$P72,I72=$W72,I72=$AD72,I72=$AK72),\"DUP\",IF(ISNA(VLOOKUP(I72,$A$8:$A$107,1,FALSE)),\"ERR\",IF(COUNTIF($I$8:$I$107,I72)>1,\"ERR\",IF($D72=VLOOKUP(I72,$A$8:$D$107,4,FALSE),\"CLUB\",\"OK\"))))),\"\")","v":""},null,{"$f":"IF(L72<>\"\",IF(L72=\"Victoire\",IF(VLOOKUP(I72,$A$8:$L$107,12,FALSE)=\"Défaite\",\"OK\",\"ERR\"),IF(L72=\"Défaite\",IF(VLOOKUP(I72,$A$8:$L$107,12,FALSE)=\"Victoire\",\"OK\",\"ERR\"),IF(L72=\"Nul\",IF(VLOOKUP(I72,$A$8:$L$107,12,FALSE)=\"Nul\",\"OK\",\"ERR\")))),\"\")","v":""},null,{"$f":"IF(L72=\"Victoire\",100-ROUNDDOWN(20*N72/$H72,0),\nIF(L72=\"Défaite\",10+ROUNDDOWN(20*VLOOKUP(I72,$A$8:$N$107,14,FALSE)/VLOOKUP(I72,$A$8:$H$107,8,FALSE),0),\nIF(AND(L72=\"Nul\",$N72<>$H72),40+(2*ROUNDDOWN(10*VLOOKUP(I72,$A$8:$N$107,14,FALSE)/VLOOKUP(I72,$A$8:$H$107,8,FALSE),0)-ROUNDDOWN(10*N72/$H72,0)),IF(AND(L72=\"Nul\",$N72=$H72),58,0))))","v":0},null,{"$f":"IF(P72<>\"\",VLOOKUP(P72,$A$8:$C$107,2,FALSE),\"\")","v":""},{"$f":"IF(P72<>\"\",IF(P72=$A72,\"ERR\",IF(OR(P72=$I72,P72=$W72,P72=$AD72,P72=$AK72),\"DUP\",IF(ISNA(VLOOKUP(P72,$A$8:$A$107,1,FALSE)),\"ERR\",IF(COUNTIF($I$8:$I$107,P72)>1,\"ERR\",IF($D72=VLOOKUP(P72,$A$8:$D$107,4,FALSE),\"CLUB\",\"OK\"))))),\"\")","v":""},null,{"$f":"IF(S72<>\"\",IF(S72=\"Victoire\",IF(VLOOKUP(P72,$A$8:$AO$107,19,FALSE)=\"Défaite\",\"OK\",\"ERR\"),IF(S72=\"Défaite\",IF(VLOOKUP(P72,$A$8:$AO$107,19,FALSE)=\"Victoire\",\"OK\",\"ERR\"),IF(S72=\"Nul\",IF(VLOOKUP(P72,$A$8:$AO$107,19,FALSE)=\"Nul\",\"OK\",\"ERR\")))),\"\")","v":""},null,{"$f":"IF(S72=\"Victoire\",100-ROUNDDOWN(20*U72/$H72,0),\nIF(S72=\"Défaite\",10+ROUNDDOWN(20*VLOOKUP(P72,$A$8:$AO$107,21,FALSE)/VLOOKUP(P72,$A$8:$H$107,8,FALSE),0),\nIF(AND(S72=\"Nul\",$U72<>$H72),40+(2*ROUNDDOWN(10*VLOOKUP(P72,$A$8:$AO$107,21,FALSE)/VLOOKUP(P72,$A$8:$H$107,8,FALSE),0)-ROUNDDOWN(10*U72/$H72,0)),IF(AND(S72=\"Nul\",$U72=$H72),58,0))))","v":0},null,{"$f":"IF(W72<>\"\",VLOOKUP(W72,$A$8:$C$107,2,FALSE),\"\")","v":""},{"$f":"IF(W72<>\"\",IF(W72=$A72,\"ERR\",IF(OR(W72=$P72,W72=$I72,W72=$AD72,W72=$AK72),\"DUP\",IF(ISNA(VLOOKUP(W72,$A$8:$A$107,1,FALSE)),\"ERR\",IF(COUNTIF($I$8:$I$107,W72)>1,\"ERR\",IF($D72=VLOOKUP(W72,$A$8:$D$107,4,FALSE),\"CLUB\",\"OK\"))))),\"\")","v":""},null,{"$f":"IF(Z72<>\"\",IF(Z72=\"Victoire\",IF(VLOOKUP(W72,$A$8:$AO$107,26,FALSE)=\"Défaite\",\"OK\",\"ERR\"),IF(Z72=\"Défaite\",IF(VLOOKUP(W72,$A$8:$AO$107,26,FALSE)=\"Victoire\",\"OK\",\"ERR\"),IF(Z72=\"Nul\",IF(VLOOKUP(W72,$A$8:$AO$107,26,FALSE)=\"Nul\",\"OK\",\"ERR\")))),\"\")","v":""},null,{"$f":"IF(Z72=\"Victoire\",100-ROUNDDOWN(20*AB72/$H72,0),\nIF(Z72=\"Défaite\",10+ROUNDDOWN(20*VLOOKUP(W72,$A$8:$AO$107,28,FALSE)/VLOOKUP(W72,$A$8:$H$107,8,FALSE),0),\nIF(AND(Z72=\"Nul\",$AB72<>$H72),40+(2*ROUNDDOWN(10*VLOOKUP(W72,$A$8:$AO$107,28,FALSE)/VLOOKUP(W72,$A$8:$H$107,8,FALSE),0)-ROUNDDOWN(10*AB72/$H72,0)),IF(AND(Z72=\"Nul\",$AB72=$H72),58,0))))","v":0},null,{"$f":"IF(AD72<>\"\",VLOOKUP(AD72,$A$8:$C$107,2,FALSE),\"\")","v":""},{"$f":"IF(AD72<>\"\",IF(AD72=$A72,\"ERR\",IF(OR(AD72=$P72,AD72=$W72,AD72=$I72,AD72=$AK72),\"DUP\",IF(ISNA(VLOOKUP(AD72,$A$8:$A$107,1,FALSE)),\"ERR\",IF(COUNTIF($I$8:$I$107,AD72)>1,\"ERR\",IF($D72=VLOOKUP(AD72,$A$8:$D$107,4,FALSE),\"CLUB\",\"OK\"))))),\"\")","v":""},null,{"$f":"IF(AG72<>\"\",IF(AG72=\"Victoire\",IF(VLOOKUP(AD72,$A$8:$AO$107,33,FALSE)=\"Défaite\",\"OK\",\"ERR\"),IF(AG72=\"Défaite\",IF(VLOOKUP(AD72,$A$8:$AO$107,33,FALSE)=\"Victoire\",\"OK\",\"ERR\"),IF(AG72=\"Nul\",IF(VLOOKUP(AD72,$A$8:$AO$107,33,FALSE)=\"Nul\",\"OK\",\"ERR\")))),\"\")","v":""},null,{"$f":"IF(AG72=\"Victoire\",100-ROUNDDOWN(20*AI72/$H72,0),\nIF(AG72=\"Défaite\",10+ROUNDDOWN(20*VLOOKUP(AD72,$A$8:$AO$107,35,FALSE)/VLOOKUP(AD72,$A$8:$H$107,8,FALSE),0),\nIF(AND(AG72=\"Nul\",$AI72<>$H72),40+(2*ROUNDDOWN(10*VLOOKUP(AD72,$A$8:$AO$107,35,FALSE)/VLOOKUP(AD72,$A$8:$H$107,8,FALSE),0)-ROUNDDOWN(10*AI72/$H72,0)),IF(AND(AG72=\"Nul\",$AI72=$H72),58,0))))","v":0},null,{"$f":"IF(AK72<>\"\",VLOOKUP(AK72,$A$8:$C$107,2,FALSE),\"\")","v":""},{"$f":"IF(AK72<>\"\",IF(AK72=$A72,\"ERR\",IF(OR(AK72=$P72,AK72=$W72,AK72=$AD72,AK72=$I72),\"DUP\",IF(ISNA(VLOOKUP(AK72,$A$8:$A$107,1,FALSE)),\"ERR\",IF(COUNTIF($I$8:$I$107,AK72)>1,\"ERR\",IF($D72=VLOOKUP(AK72,$A$8:$D$107,4,FALSE),\"CLUB\",\"OK\"))))),\"\")","v":""},null,{"$f":"IF(AN72<>\"\",IF(AN72=\"Victoire\",IF(VLOOKUP(AK72,$A$8:$AO$107,40,FALSE)=\"Défaite\",\"OK\",\"ERR\"),IF(AN72=\"Défaite\",IF(VLOOKUP(AK72,$A$8:$AO$107,40,FALSE)=\"Victoire\",\"OK\",\"ERR\"),IF(AN72=\"Nul\",IF(VLOOKUP(AK72,$A$8:$AO$107,40,FALSE)=\"Nul\",\"OK\",\"ERR\")))),\"\")","v":""},null,{"$f":"IF(AN72=\"Victoire\",100-ROUNDDOWN(20*AP72/$H72,0),\nIF(AN72=\"Défaite\",10+ROUNDDOWN(20*VLOOKUP(AK72,$A$8:$CB$107,42,FALSE)/VLOOKUP(AK72,$A$8:$H$107,8,FALSE),0),\nIF(AND(AN72=\"Nul\",$AP72<>$H72),40+(2*ROUNDDOWN(10*VLOOKUP(AK72,$A$8:$CB$107,42,FALSE)/VLOOKUP(AK72,$A$8:$H$107,8,FALSE),0)-ROUNDDOWN(10*AP72/$H72,0)),IF(AND(AN72=\"Nul\",$AP72=$H72),58,0))))","v":0},null,{"$f":"IF(AR72<>\"\",VLOOKUP(AR72,$A$8:$C$107,2,FALSE),\"\")","v":""},{"$f":"IF(AR72<>\"\",IF(AR72=$A72,\"ERR\",IF(OR(AR72=$I72,AR72=$P72,AR72=$W72,AR72=$AD72,AR72=$AK72),\"DUP\",IF(ISNA(VLOOKUP(AR72,$A$8:$A$107,1,FALSE)),\"ERR\",IF(COUNTIF($I$8:$I$107,AR72)>1,\"ERR\",IF($D72=VLOOKUP(AR72,$A$8:$D$107,4,FALSE),\"CLUB\",\"OK\"))))),\"\")","v":""},null,{"$f":"IF(AU72<>\"\",IF(AU72=\"Victoire\",IF(VLOOKUP(AR72,$A$8:$BL$107,47,FALSE)=\"Défaite\",\"OK\",\"ERR\"),IF(AU72=\"Défaite\",IF(VLOOKUP(AR72,$A$8:$BL$107,47,FALSE)=\"Victoire\",\"OK\",\"ERR\"),IF(AU72=\"Nul\",IF(VLOOKUP(AR72,$A$8:$BL$107,47,FALSE)=\"Nul\",\"OK\",\"ERR\")))),\"\")","v":""},null,{"$f":"IF(AU72=\"Victoire\",100-ROUNDDOWN(20*AW72/$H72,0),\nIF(AU72=\"Défaite\",10+ROUNDDOWN(20*VLOOKUP(AR72,$A$8:$CB$107,49,FALSE)/VLOOKUP(AR72,$A$8:$H$107,8,FALSE),0),\nIF(AND(AU72=\"Nul\",$AW72<>$H72),40+(2*ROUNDDOWN(10*VLOOKUP(AR72,$A$8:$CB$107,49,FALSE)/VLOOKUP(AR72,$A$8:$H$107,8,FALSE),0)-ROUNDDOWN(10*AW72/$H72,0)),IF(AND(AU72=\"Nul\",$AW72=$H72),58,0))))","v":0},null,{"$f":"IF(AY72<>\"\",VLOOKUP(AY72,$A$8:$C$107,2,FALSE),\"\")","v":""},{"$f":"IF(AY72<>\"\",IF(AY72=$A72,\"ERR\",IF(OR(AY72=$I72,AY72=$P72,AY72=$W72,AY72=$AD72,AY72=$AK72,AY72=$AR72),\"DUP\",IF(ISNA(VLOOKUP(AY72,$A$8:$A$107,1,FALSE)),\"ERR\",IF(COUNTIF($I$8:$I$107,AY72)>1,\"ERR\",IF($D72=VLOOKUP(AY72,$A$8:$D$107,4,FALSE),\"CLUB\",\"OK\"))))),\"\")","v":""},null,{"$f":"IF(BB72<>\"\",IF(BB72=\"Victoire\",IF(VLOOKUP(AY72,$A$8:$BL$107,54,FALSE)=\"Défaite\",\"OK\",\"ERR\"),IF(BB72=\"Défaite\",IF(VLOOKUP(AY72,$A$8:$BL$107,54,FALSE)=\"Victoire\",\"OK\",\"ERR\"),IF(BB72=\"Nul\",IF(VLOOKUP(AY72,$A$8:$BL$107,54,FALSE)=\"Nul\",\"OK\",\"ERR\")))),\"\")","v":""},null,{"$f":"IF(BB72=\"Victoire\",100-ROUNDDOWN(20*BD72/$H72,0),\nIF(BB72=\"Défaite\",10+ROUNDDOWN(20*VLOOKUP(AY72,$A$8:$CB$107,56,FALSE)/VLOOKUP(AY72,$A$8:$H$107,8,FALSE),0),\nIF(AND(BB72=\"Nul\",$BD72<>$H72),40+(2*ROUNDDOWN(10*VLOOKUP(AY72,$A$8:$CB$107,56,FALSE)/VLOOKUP(AY72,$A$8:$H$107,8,FALSE),0)-ROUNDDOWN(10*BD72/$H72,0)),IF(AND(BB72=\"Nul\",$BD72=$H72),58,0))))","v":0},null,{"$f":"IF(BF72<>\"\",VLOOKUP(BF72,$A$8:$C$107,2,FALSE),\"\")","v":""},{"$f":"IF(BF72<>\"\",IF(BF72=$A72,\"ERR\",IF(OR(BF72=$I72,BF72=$P72,BF72=$W72,BF72=$AD72,BF72=$AK72,BF72=$AR72,BF72=$AY72),\"DUP\",IF(ISNA(VLOOKUP(BF72,$A$8:$A$107,1,FALSE)),\"ERR\",IF(COUNTIF($I$8:$I$107,BF72)>1,\"ERR\",IF($D72=VLOOKUP(BF72,$A$8:$D$107,4,FALSE),\"CLUB\",\"OK\"))))),\"\")","v":""},null,{"$f":"IF(BI72<>\"\",IF(BI72=\"Victoire\",IF(VLOOKUP(BF72,$A$8:$BL$107,61,FALSE)=\"Défaite\",\"OK\",\"ERR\"),IF(BI72=\"Défaite\",IF(VLOOKUP(BF72,$A$8:$BL$107,61,FALSE)=\"Victoire\",\"OK\",\"ERR\"),IF(BI72=\"Nul\",IF(VLOOKUP(BF72,$A$8:$BL$107,61,FALSE)=\"Nul\",\"OK\",\"ERR\")))),\"\")","v":""},null,{"$f":"IF(BI72=\"Victoire\",100-ROUNDDOWN(20*BK72/$H72,0),\nIF(BI72=\"Défaite\",10+ROUNDDOWN(20*VLOOKUP(BF72,$A$8:$CB$107,63,FALSE)/VLOOKUP(BF72,$A$8:$H$107,8,FALSE),0),\nIF(AND(BI72=\"Nul\",$BK72<>$H72),40+(2*ROUNDDOWN(10*VLOOKUP(BF72,$A$8:$CB$107,63,FALSE)/VLOOKUP(BF72,$A$8:$H$107,8,FALSE),0)-ROUNDDOWN(10*BK72/$H72,0)),IF(AND(BI72=\"Nul\",$BK72=$H72),58,0))))","v":0},null,{"$f":"IF(BM72<>\"\",VLOOKUP(BM72,$A$8:$C$107,2,FALSE),\"\")","v":""},{"$f":"IF(BM72<>\"\",IF(BM72=$A72,\"ERR\",IF(OR(BM72=$I72,BM72=$P72,BM72=$W72,BM72=$AD72,BM72=$AK72,BM72=$AR72,BM72=$AY72,BM72=$BF72),\"DUP\",IF(ISNA(VLOOKUP(BM72,$A$8:$A$107,1,FALSE)),\"ERR\",IF(COUNTIF($I$8:$I$107,BM72)>1,\"ERR\",IF($D72=VLOOKUP(BM72,$A$8:$D$107,4,FALSE),\"CLUB\",\"OK\"))))),\"\")","v":""},null,{"$f":"IF(BP72<>\"\",IF(BP72=\"Victoire\",IF(VLOOKUP(BM72,$A$8:$BS$107,68,FALSE)=\"Défaite\",\"OK\",\"ERR\"),IF(BP72=\"Défaite\",IF(VLOOKUP(BM72,$A$8:$BS$107,68,FALSE)=\"Victoire\",\"OK\",\"ERR\"),IF(BP72=\"Nul\",IF(VLOOKUP(BM72,$A$8:$BS$107,68,FALSE)=\"Nul\",\"OK\",\"ERR\")))),\"\")","v":""},null,{"$f":"IF(BP72=\"Victoire\",100-ROUNDDOWN(20*BR72/$H72,0),\nIF(BP72=\"Défaite\",10+ROUNDDOWN(20*VLOOKUP(BM72,$A$8:$CB$107,70,FALSE)/VLOOKUP(BM72,$A$8:$H$107,8,FALSE),0),\nIF(AND(BP72=\"Nul\",$BR72<>$H72),40+(2*ROUNDDOWN(10*VLOOKUP(BM72,$A$8:$CB$107,70,FALSE)/VLOOKUP(BM72,$A$8:$H$107,8,FALSE),0)-ROUNDDOWN(10*BR72/$H72,0)),IF(AND(BP72=\"Nul\",$BR72=$H72),58,0))))","v":0},null,{"$f":"IF($I72<>\"\",VLOOKUP($I72,$A$8:$N$107,5,FALSE),0)+IF($P72<>\"\",VLOOKUP($P72,$A$8:$N$107,5,FALSE),0)+IF($W72<>\"\",VLOOKUP($W72,$A$8:$N$107,5,FALSE),0)+IF($AD72<>\"\",VLOOKUP($AD72,$A$8:$N$107,5,FALSE),0)+IF($AK72<>\"\",VLOOKUP($AK72,$A$8:$N$107,5,FALSE),0)+IF($AR72<>\"\",VLOOKUP($AR72,$A$8:$N$107,5,FALSE),0)+IF($AY72<>\"\",VLOOKUP($AY72,$A$8:$N$107,5,FALSE),0)+IF($BF72<>\"\",VLOOKUP($BF72,$A$8:$N$107,5,FALSE),0)+IF($BM72<>\"\",VLOOKUP($BM72,$A$8:$N$107,5,FALSE),0)","v":0}]
[{"$nulls":4},0,null,{"$f":"IF($F73<>\"\",VLOOKUP(F73,Armies!$A$1:$C$300,3,FALSE),\"\")","v":""},null,null,{"$f":"IF(I73<>\"\",VLOOKUP(I73,$A$8:$C$107,2,FALSE),\"\")","v":""},{"$f":"IF(I73<>\"\",IF(I73=$A73,\"ERR\",IF(OR(I73=$P73,I73=$W73,I73=$AD73,I73=$AK73),\"DUP\",IF(ISNA(VLOOKUP(I73,$A$8:$A$107,1,FALSE)),\"ERR\",IF(COUNTIF($I$8:$I$107,I73)>1,\"ERR\",IF($D73=VLOOKUP(I73,$A$8:$D$107,4,FALSE),\"CLUB\",\"OK\"))))),\"\")","v":""},null,{"$f":"IF(L73<>\"\",IF(L73=\"Victoire\",IF(VLOOKUP(I73,$A$8:$L$107,12,FALSE)=\"Défaite\",\"OK\",\"ERR\"),IF(L73=\"Défaite\",IF(VLOOKUP(I73,$A$8:$L$107,12,FALSE)=\"Victoire\",\"OK\",\"ERR\"),IF(L73=\"Nul\",IF(VLOOKUP(I73,$A$8:$L$107,12,FALSE)=\"Nul\",\"OK\",\"ERR\")))),\"\")","v":""},null,{"$f":"IF(L73=\"Victoire\",100-ROUNDDOWN(20*N73/$H73,0),\nIF(L73=\"Défaite\",10+ROUNDDOWN(20*VLOOKUP(I73,$A$8:$N$107,14,FALSE)/VLOOKUP(I73,$A$8:$H$107,8,FALSE),0),\nIF(AND(L73=\"Nul\",$N73<>$H73),40+(2*ROUNDDOWN(10*VLOOKUP(I73,$A$8:$N$107,14,FALSE)/VLOOKUP(I73,$A$8:$H$107,8,FALSE),0)-ROUNDDOWN(10*N73/$H73,0)),IF(AND(L73=\"Nul\",$N73=$H73),58,0))))","v":0},null,{"$f":"IF(P73<>\"\",VLOOKUP(P73,$A$8:$C$107,2,FALSE),\"\")","v":""},{"$f":"IF(P73<>\"\",IF(P73=$A73,\"ERR\",IF(OR(P73=$I73,P73=$W73,P73=$AD73,P73=$AK73),\"DUP\",IF(ISNA(VLOOKUP(P73,$A$8:$A$107,1,FALSE)),\"ERR\",IF(COUNTIF($I$8:$I$107,P73)>1,\"ERR\",IF($D73=VLOOKUP(P73,$A$8:$D$107,4,FALSE),\"CLUB\",\"OK\"))))),\"\")","v":""},null,{"$f":"IF(S73<>\"\",IF(S73=\"Victoire\",IF(VLOOKUP(P73,$A$8:$AO$107,19,FALSE)=\"Défaite\",\"OK\",\"ERR\"),IF(S73=\"Défaite\",IF(VLOOKUP(P73,$A$8:$AO$107,19,FALSE)=\"Victoire\",\"OK\",\"ERR\"),IF(S73=\"Nul\",IF(VLOOKUP(P73,$A$8:$AO$107,19,FALSE)=\"Nul\",\"OK\",\"ERR\")))),\"\")","v":""},null,{"$f":"IF(S73=\"Victoire\",100-ROUNDDOWN(20*U73/$H73,0),\nIF(S73=\"Défaite\",10+ROUNDDOWN(20*VLOOKUP(P73,$A$8:$AO$107,21,FALSE)/VLOOKUP(P73,$A$8:$H$107,8,FALSE),0),\nIF(AND(S73=\"Nul\",$U73<>$H73),40+(2*ROUNDDOWN(10*VLOOKUP(P73,$A$8:$AO$107,21,FALSE)/VLOOKUP(P73,$A$8:$H$107,8,FALSE),0)-ROUNDDOWN(10*U73/$H73,0)),IF(AND(S73=\"Nul\",$U73=$H73),58,0))))","v":0},null,{"$f":"IF(W73<>\"\",VLOOKUP(W73,$A$8:$C$107,2,FALSE),\"\")","v":""},{"$f":"IF(W73<>\"\",IF(W73=$A73,\"ERR\",IF(OR(W73=$P73,W73=$I73,W73=$AD73,W73=$AK73),\"DUP\",IF(ISNA(VLOOKUP(W73,$A$8:$A$107,1,FALSE)),\"ERR\",IF(COUNTIF($I$8:$I$107,W73)>1,\"ERR\",IF($D73=VLOOKUP(W73,$A$8:$D$107,4,FALSE),\"CLUB\",\"OK\"))))),\"\")","v":""},null,{"$f":"IF(Z73<>\"\",IF(Z73=\"Victoire\",IF(VLOOKUP(W73,$A$8:$AO$107,26,FALSE)=\"Défaite\",\"OK\",\"ERR\"),IF(Z73=\"Défaite\",IF(VLOOKUP(W73,$A$8:$AO$107,26,FALSE)=\"Victoire\",\"OK\",\"ERR\"),IF(Z73=\"Nul\",IF(VLOOKUP(W73,$A$8:$AO$107,26,FALSE)=\"Nul\",\"OK\",\"ERR\")))),\"\")","v":""},null,{"$f":"IF(Z73=\"Victoire\",100-ROUNDDOWN(20*AB73/$H73,0),\nIF(Z73=\"Défaite\",10+ROUNDDOWN(20*VLOOKUP(W73,$A$8:$AO$107,28,FALSE)/VLOOKUP(W73,$A$8:$H$107,8,FALSE),0),\nIF(AND(Z73=\"Nul\",$AB73<>$H73),40+(2*ROUNDDOWN(10*VLOOKUP(W73,$A$8:$AO$107,28,FALSE)/VLOOKUP(W73,$A$8:$H$107,8,FALSE),0)-ROUNDDOWN(10*AB73/$H73,0)),IF(AND(Z73=\"Nul\",$AB73=$H73),58,0))))","v":0},null,{"$f":"IF(AD73<>\"\",VLOOKUP(AD73,$A$8:$C$107,2,FALSE),\"\")","v":""},{"$f":"IF(AD73<>\"\",IF(AD73=$A73,\"ERR\",IF(OR(AD73=$P73,AD73=$W73,AD73=$I73,AD73=$AK73),\"DUP\",IF(ISNA(VLOOKUP(AD73,$A$8:$A$107,1,FALSE)),\"ERR\",IF(COUNTIF($I$8:$I$107,AD73)>1,\"ERR\",IF($D73=VLOOKUP(AD73,$A$8:$D$107,4,FALSE),\"CLUB\",\"OK\"))))),\"\")","v":""},null,{"$f":"IF(AG73<>\"\",IF(AG73=\"Victoire\",IF(VLOOKUP(AD73,$A$8:$AO$107,33,FALSE)=\"Défaite\",\"OK\",\"ERR\"),IF(AG73=\"Défaite\",IF(VLOOKUP(AD73,$A$8:$AO$107,33,FALSE)=\"Victoire\",\"OK\",\"ERR\"),IF(AG73=\"Nul\",IF(VLOOKUP(AD73,$A$8:$AO$107,33,FALSE)=\"Nul\",\"OK\",\"ERR\")))),\"\")","v":""},null,{"$f":"IF(AG73=\"Victoire\",100-ROUNDDOWN(20*AI73/$H73,0),\nIF(AG73=\"Défaite\",10+ROUNDDOWN(20*VLOOKUP(AD73,$A$8:$AO$107,35,FALSE)/VLOOKUP(AD73,$A$8:$H$107,8,FALSE),0),\nIF(AND(AG73=\"Nul\",$AI73<>$H73),40+(2*ROUNDDOWN(10*VLOOKUP(AD73,$A$8:$AO$107,35,FALSE)/VLOOKUP(AD73,$A$8:$H$107,8,FALSE),0)-ROUNDDOWN(10*AI73/$H73,0)),IF(AND(AG73=\"Nul\",$AI73=$H73),58,0))))","v":0},null,{"$f":"IF(AK73<>\"\",VLOOKUP(AK73,$A$8:$C$107,2,FALSE),\"\")","v":""},{"$f":"IF(AK73<>\"\",IF(AK73=$A73,\"ERR\",IF(OR(AK73=$P73,AK73=$W73,AK73=$AD73,AK73=$I73),\"DUP\",IF(ISNA(VLOOKUP(AK73,$A$8:$A$107,1,FALSE)),\"ERR\",IF(COUNTIF($I$8:$I$107,AK73)>1,\"ERR\",IF($D73=VLOOKUP(AK73,$A$8:$D$107,4,FALSE),\"CLUB\",\"OK\"))))),\"\")","v":""},null,{"$f":"IF(AN73<>\"\",IF(AN73=\"Victoire\",IF(VLOOKUP(AK73,$A$8:$AO$107,40,FALSE)=\"Défaite\",\"OK\",\"ERR\"),IF(AN73=\"Défaite\",IF(VLOOKUP(AK73,$A$8:$AO$107,40,FALSE)=\"Victoire\",\"OK\",\"ERR\"),IF(AN73=\"Nul\",IF(VLOOKUP(AK73,$A$8:$AO$107,40,FALSE)=\"Nul\",\"OK\",\"ERR\")))),\"\")","v":""},null,{"$f":"IF(AN73=\"Victoire\",100-ROUNDDOWN(20*AP73/$H73,0),\nIF(AN73=\"Défaite\",10+ROUNDDOWN(20*VLOOKUP(AK73,$A$8:$CB$107,42,FALSE)/VLOOKUP(AK73,$A$8:$H$107,8,FALSE),0),\nIF(AND(AN73=\"Nul\",$AP73<>$H73),40+(2*ROUNDDOWN(10*VLOOKUP(AK73,$A$8:$CB$107,42,FALSE)/VLOOKUP(AK73,$A$8:$H$107,8,FALSE),0)-ROUNDDOWN(10*AP73/$H73,0)),IF(AND(AN73=\"Nul\",$AP73=$H73),58,0))))","v":0},null,{"$f":"IF(AR73<>\"\",VLOOKUP(AR73,$A$8:$C$107,2,FALSE),\"\")","v":""},{"$f":"IF(AR73<>\"\",IF(AR73=$A73,\"ERR\",IF(OR(AR73=$I73,AR73=$P73,AR73=$W73,AR73=$AD73,AR73=$AK73),\"DUP\",IF(ISNA(VLOOKUP(AR73,$A$8:$A$107,1,FALSE)),\"ERR\",IF(COUNTIF($I$8:$I$107,AR73)>1,\"ERR\",IF($D73=VLOOKUP(AR73,$A$8:$D$107,4,FALSE),\"CLUB\",\"OK\"))))),\"\")","v":""},null,{"$f":"IF(AU73<>\"\",IF(AU73=\"Victoire\",IF(VLOOKUP(AR73,$A$8:$BL$107,47,FALSE)=\"Défaite\",\"OK\",\"ERR\"),IF(AU73=\"Défaite\",IF(VLOOKUP(AR73,$A$8:$BL$107,47,FALSE)=\"Victoire\",\"OK\",\"ERR\"),IF(AU73=\"Nul\",IF(VLOOKUP(AR73,$A$8:$BL$107,47,FALSE)=\"Nul\",\"OK\",\"ERR\")))),\"\")","v":""},null,{"$f":"IF(AU73=\"Victoire\",100-ROUNDDOWN(20*AW73/$H73,0),\nIF(AU73=\"Défaite\",10+ROUNDDOWN(20*VLOOKUP(AR73,$A$8:$CB$107,49,FALSE)/VLOOKUP(AR73,$A$8:$H$107,8,FALSE),0),\nIF(AND(AU73=\"Nul\",$AW73<>$H73),40+(2*ROUNDDOWN(10*VLOOKUP(AR73,$A$8:$CB$107,49,FALSE)/VLOOKUP(AR73,$A$8:$H$107,8,FALSE),0)-ROUNDDOWN(10*AW73/$H73,0)),IF(AND(AU73=\"Nul\",$AW73=$H73),58,0))))","v":0},null,{"$f":"IF(AY73<>\"\",VLOOKUP(AY73,$A$8:$C$107,2,FALSE),\"\")","v":""},{"$f":"IF(AY73<>\"\",IF(AY73=$A73,\"ERR\",IF(OR(AY73=$I73,AY73=$P73,AY73=$W73,AY73=$AD73,AY73=$AK73,AY73=$AR73),\"DUP\",IF(ISNA(VLOOKUP(AY73,$A$8:$A$107,1,FALSE)),\"ERR\",IF(COUNTIF($I$8:$I$107,AY73)>1,\"ERR\",IF($D73=VLOOKUP(AY73,$A$8:$D$107,4,FALSE),\"CLUB\",\"OK\"))))),\"\")","v":""},null,{"$f":"IF(BB73<>\"\",IF(BB73=\"Victoire\",IF(VLOOKUP(AY73,$A$8:$BL$107,54,FALSE)=\"Défaite\",\"OK\",\"ERR\"),IF(BB73=\"Défaite\",IF(VLOOKUP(AY73,$A$8:$BL$107,54,FALSE)=\"Victoire\",\"OK\",\"ERR\"),IF(BB73=\"Nul\",IF(VLOOKUP(AY73,$A$8:$BL$107,54,FALSE)=\"Nul\",\"OK\",\"ERR\")))),\"\")","v":""},null,{"$f":"IF(BB73=\"Victoire\",100-ROUNDDOWN(20*BD73/$H73,0),\nIF(BB73=\"Défaite\",10+ROUNDDOWN(20*VLOOKUP(AY73,$A$8:$CB$107,56,FALSE)/VLOOKUP(AY73,$A$8:$H$107,8,FALSE),0),\nIF(AND(BB73=\"Nul\",$BD73<>$H73),40+(2*ROUNDDOWN(10*VLOOKUP(AY73,$A$8:$CB$107,56,FALSE)/VLOOKUP(AY73,$A$8:$H$107,8,FALSE),0)-ROUNDDOWN(10*BD73/$H73,0)),IF(AND(BB73=\"Nul\",$BD73=$H73),58,0))))","v":0},null,{"$f":"IF(BF73<>\"\",VLOOKUP(BF73,$A$8:$C$107,2,FALSE),\"\")","v":""},{"$f":"IF(BF73<>\"\",IF(BF73=$A73,\"ERR\",IF(OR(BF73=$I73,BF73=$P73,BF73=$W73,BF73=$AD73,BF73=$AK73,BF73=$AR73,BF73=$AY73),\"DUP\",IF(ISNA(VLOOKUP(BF73,$A$8:$A$107,1,FALSE)),\"ERR\",IF(COUNTIF($I$8:$I$107,BF73)>1,\"ERR\",IF($D73=VLOOKUP(BF73,$A$8:$D$107,4,FALSE),\"CLUB\",\"OK\"))))),\"\")","v":""},null,{"$f":"IF(BI73<>\"\",IF(BI73=\"Victoire\",IF(VLOOKUP(BF73,$A$8:$BL$107,61,FALSE)=\"Défaite\",\"OK\",\"ERR\"),IF(BI73=\"Défaite\",IF(VLOOKUP(BF73,$A$8:$BL$107,61,FALSE)=\"Victoire\",\"OK\",\"ERR\"),IF(BI73=\"Nul\",IF(VLOOKUP(BF73,$A$8:$BL$107,61,FALSE)=\"Nul\",\"OK\",\"ERR\")))),\"\")","v":""},null,{"$f":"IF(BI73=\"Victoire\",100-ROUNDDOWN(20*BK73/$H73,0),\nIF(BI73=\"Défaite\",10+ROUNDDOWN(20*VLOOKUP(BF73,$A$8:$CB$107,63,FALSE)/VLOOKUP(BF73,$A$8:$H$107,8,FALSE),0),\nIF(AND(BI73=\"Nul\",$BK73<>$H73),40+(2*ROUNDDOWN(10*VLOOKUP(BF73,$A$8:$CB$107,63,FALSE)/VLOOKUP(BF73,$A$8:$H$107,8,FALSE),0)-ROUNDDOWN(10*BK73/$H73,0)),IF(AND(BI73=\"Nul\",$BK73=$H73),58,0))))","v":0},null,{"$f":"IF(BM73<>\"\",VLOOKUP(BM73,$A$8:$C$107,2,FALSE),\"\")","v":""},{"$f":"IF(BM73<>\"\",IF(BM73=$A73,\"ERR\",IF(OR(BM73=$I73,BM73=$P73,BM73=$W73,BM73=$AD73,BM73=$AK73,BM73=$AR73,BM73=$AY73,BM73=$BF73),\"DUP\",IF(ISNA(VLOOKUP(BM73,$A$8:$A$107,1,FALSE)),\"ERR\",IF(COUNTIF($I$8:$I$107,BM73)>1,\"ERR\",IF($D73=VLOOKUP(BM73,$A$8:$D$107,4,FALSE),\"CLUB\",\"OK\"))))),\"\")","v":""},null,{"$f":"IF(BP73<>\"\",IF(BP73=\"Victoire\",IF(VLOOKUP(BM73,$A$8:$BS$107,68,FALSE)=\"Défaite\",\"OK\",\"ERR\"),IF(BP73=\"Défaite\",IF(VLOOKUP(BM73,$A$8:$BS$107,68,FALSE)=\"Victoire\",\"OK\",\"ERR\"),IF(BP73=\"Nul\",IF(VLOOKUP(BM73,$A$8:$BS$107,68,FALSE)=\"Nul\",\"OK\",\"ERR\")))),\"\")","v":""},null,{"$f":"IF(BP73=\"Victoire\",100-ROUNDDOWN(20*BR73/$H73,0),\nIF(BP73=\"Défaite\",10+ROUNDDOWN(20*VLOOKUP(BM73,$A$8:$CB$107,70,FALSE)/VLOOKUP(BM73,$A$8:$H$107,8,FALSE),0),\nIF(AND(BP73=\"Nul\",$BR73<>$H73),40+(2*ROUNDDOWN(10*VLOOKUP(BM73,$A$8:$CB$107,70,FALSE)/VLOOKUP(BM73,$A$8:$H$107,8,FALSE),0)-ROUNDDOWN(10*BR73/$H73,0)),IF(AND(BP73=\"Nul\",$BR73=$H73),58,0))))","v":0},null,{"$f":"IF($I73<>\"\",VLOOKUP($I73,$A$8:$N$107,5,FALSE),0)+IF($P73<>\"\",VLOOKUP($P73,$A$8:$N$107,5,FALSE),0)+IF($W73<>\"\",VLOOKUP($W73,$A$8:$N$107,5,FALSE),0)+IF($AD73<>\"\",VLOOKUP($AD73,$A$8:$N$107,5,FALSE),0)+IF($AK73<>\"\",VLOOKUP($AK73,$A$8:$N$107,5,FALSE),0)+IF($AR73<>\"\",VLOOKUP($AR73,$A$8:$N$107,5,FALSE),0)+IF($AY73<>\"\",VLOOKUP($AY73,$A$8:$N$107,5,FALSE),0)+IF($BF73<>\"\",VLOOKUP($BF73,$A$8:$N$107,5,FALSE),0)+IF($BM73<>\"\",VLOOKUP($BM73,$A$8:$N$107,5,FALSE),0)","v":0}]
[{"$nulls":4},0,null,{"$f":"IF($F74<>\"\",VLOOKUP(F74,Armies!$A$1:$C$300,3,FALSE),\"\")","v":""},null,null,{"$f":"IF(I74<>\"\",VLOOKUP(I74,$A$8:$C$107,2,FALSE),\"\")","v":""},{"$f":"IF(I74<>\"\",IF(I74=$A74,\"ERR\",IF(OR(I74=$P74,I74=$W74,I74=$AD74,I74=$AK74),\"DUP\",IF(ISNA(VLOOKUP(I74,$A$8:$A$107,1,FALSE)),\"ERR\",IF(COUNTIF($I$8:$I$107,I74)>1,\"ERR\",IF($D74=VLOOKUP(I74,$A$8:$D$107,4,FALSE),\"CLUB\",\"OK\"))))),\"\")","v":""},null,{"$f":"IF(L74<>\"\",IF(L74=\"Victoire\",IF(VLOOKUP(I74,$A$8:$L$107,12,FALSE)=\"Défaite\",\"OK\",\"ERR\"),IF(L74=\"Défaite\",IF(VLOOKUP(I74,$A$8:$L$107,12,FALSE)=\"Victoire\",\"OK\",\"ERR\"),IF(L74=\"Nul\",IF(VLOOKUP(I74,$A$8:$L$107,12,FALSE)=\"Nul\",\"OK\",\"ERR\")))),\"\")","v":""},null,{"$f":"IF(L74=\"Victoire\",100-ROUNDDOWN(20*N74/$H74,0),\nIF(L74=\"Défaite\",10+ROUNDDOWN(20*VLOOKUP(I74,$A$8:$N$107,14,FALSE)/VLOOKUP(I74,$A$8:$H$107,8,FALSE),0),\nIF(AND(L74=\"Nul\",$N74<>$H74),40+(2*ROUNDDOWN(10*VLOOKUP(I74,$A$8:$N$107,14,FALSE)/VLOOKUP(I74,$A$8:$H$107,8,FALSE),0)-ROUNDDOWN(10*N74/$H74,0)),IF(AND(L74=\"Nul\",$N74=$H74),58,0))))","v":0},null,{"$f":"IF(P74<>\"\",VLOOKUP(P74,$A$8:$C$107,2,FALSE),\"\")","v":""},{"$f":"IF(P74<>\"\",IF(P74=$A74,\"ERR\",IF(OR(P74=$I74,P74=$W74,P74=$AD74,P74=$AK74),\"DUP\",IF(ISNA(VLOOKUP(P74,$A$8:$A$107,1,FALSE)),\"ERR\",IF(COUNTIF($I$8:$I$107,P74)>1,\"ERR\",IF($D74=VLOOKUP(P74,$A$8:$D$107,4,FALSE),\"CLUB\",\"OK\"))))),\"\")","v":""},null,{"$f":"IF(S74<>\"\",IF(S74=\"Victoire\",IF(VLOOKUP(P74,$A$8:$AO$107,19,FALSE)=\"Défaite\",\"OK\",\"ERR\"),IF(S74=\"Défaite\",IF(VLOOKUP(P74,$A$8:$AO$107,19,FALSE)=\"Victoire\",\"OK\",\"ERR\"),IF(S74=\"Nul\",IF(VLOOKUP(P74,$A$8:$AO$107,19,FALSE)=\"Nul\",\"OK\",\"ERR\")))),\"\")","v":""},null,{"$f":"IF(S74=\"Victoire\",100-ROUNDDOWN(20*U74/$H74,0),\nIF(S74=\"Défaite\",10+ROUNDDOWN(20*VLOOKUP(P74,$A$8:$AO$107,21,FALSE)/VLOOKUP(P74,$A$8:$H$107,8,FALSE),0),\nIF(AND(S74=\"Nul\",$U74<>$H74),40+(2*ROUNDDOWN(10*VLOOKUP(P74,$A$8:$AO$107,21,FALSE)/VLOOKUP(P74,$A$8:$H$107,8,FALSE),0)-ROUNDDOWN(10*U74/$H74,0)),IF(AND(S74=\"Nul\",$U74=$H74),58,0))))","v":0},null,{"$f":"IF(W74<>\"\",VLOOKUP(W74,$A$8:$C$107,2,FALSE),\"\")","v":""},{"$f":"IF(W74<>\"\",IF(W74=$A74,\"ERR\",IF(OR(W74=$P74,W74=$I74,W74=$AD74,W74=$AK74),\"DUP\",IF(ISNA(VLOOKUP(W74,$A$8:$A$107,1,FALSE)),\"ERR\",IF(COUNTIF($I$8:$I$107,W74)>1,\"ERR\",IF($D74=VLOOKUP(W74,$A$8:$D$107,4,FALSE),\"CLUB\",\"OK\"))))),\"\")","v":""},null,{"$f":"IF(Z74<>\"\",IF(Z74=\"Victoire\",IF(VLOOKUP(W74,$A$8:$AO$107,26,FALSE)=\"Défaite\",\"OK\",\"ERR\"),IF(Z74=\"Défaite\",IF(VLOOKUP(W74,$A$8:$AO$107,26,FALSE)=\"Victoire\",\"OK\",\"ERR\"),IF(Z74=\"Nul\",IF(VLOOKUP(W74,$A$8:$AO$107,26,FALSE)=\"Nul\",\"OK\",\"ERR\")))),\"\")","v":""},null,{"$f":"IF(Z74=\"Victoire\",100-ROUNDDOWN(20*AB74/$H74,0),\nIF(Z74=\"Défaite\",10+ROUNDDOWN(20*VLOOKUP(W74,$A$8:$AO$107,28,FALSE)/VLOOKUP(W74,$A$8:$H$107,8,FALSE),0),\nIF(AND(Z74=\"Nul\",$AB74<>$H74),40+(2*ROUNDDOWN(10*VLOOKUP(W74,$A$8:$AO$107,28,FALSE)/VLOOKUP(W74,$A$8:$H$107,8,FALSE),0)-ROUNDDOWN(10*AB74/$H74,0)),IF(AND(Z74=\"Nul\",$AB74=$H74),58,0))))","v":0},null,{"$f":"IF(AD74<>\"\",VLOOKUP(AD74,$A$8:$C$107,2,FALSE),\"\")","v":""},{"$f":"IF(AD74<>\"\",IF(AD74=$A74,\"ERR\",IF(OR(AD74=$P74,AD74=$W74,AD74=$I74,AD74=$AK74),\"DUP\",IF(ISNA(VLOOKUP(AD74,$A$8:$A$107,1,FALSE)),\"ERR\",IF(COUNTIF($I$8:$I$107,AD74)>1,\"ERR\",IF($D74=VLOOKUP(AD74,$A$8:$D$107,4,FALSE),\"CLUB\",\"OK\"))))),\"\")","v":""},null,{"$f":"IF(AG74<>\"\",IF(AG74=\"Victoire\",IF(VLOOKUP(AD74,$A$8:$AO$107,33,FALSE)=\"Défaite\",\"OK\",\"ERR\"),IF(AG74=\"Défaite\",IF(VLOOKUP(AD74,$A$8:$AO$107,33,FALSE)=\"Victoire\",\"OK\",\"ERR\"),IF(AG74=\"Nul\",IF(VLOOKUP(AD74,$A$8:$AO$107,33,FALSE)=\"Nul\",\"OK\",\"ERR\")))),\"\")","v":""},null,{"$f":"IF(AG74=\"Victoire\",100-ROUNDDOWN(20*AI74/$H74,0),\nIF(AG74=\"Défaite\",10+ROUNDDOWN(20*VLOOKUP(AD74,$A$8:$AO$107,35,FALSE)/VLOOKUP(AD74,$A$8:$H$107,8,FALSE),0),\nIF(AND(AG74=\"Nul\",$AI74<>$H74),40+(2*ROUNDDOWN(10*VLOOKUP(AD74,$A$8:$AO$107,35,FALSE)/VLOOKUP(AD74,$A$8:$H$107,8,FALSE),0)-ROUNDDOWN(10*AI74/$H74,0)),IF(AND(AG74=\"Nul\",$AI74=$H74),58,0))))","v":0},null,{"$f":"IF(AK74<>\"\",VLOOKUP(AK74,$A$8:$C$107,2,FALSE),\"\")","v":""},{"$f":"IF(AK74<>\"\",IF(AK74=$A74,\"ERR\",IF(OR(AK74=$P74,AK74=$W74,AK74=$AD74,AK74=$I74),\"DUP\",IF(ISNA(VLOOKUP(AK74,$A$8:$A$107,1,FALSE)),\"ERR\",IF(COUNTIF($I$8:$I$107,AK74)>1,\"ERR\",IF($D74=VLOOKUP(AK74,$A$8:$D$107,4,FALSE),\"CLUB\",\"OK\"))))),\"\")","v":""},null,{"$f":"IF(AN74<>\"\",IF(AN74=\"Victoire\",IF(VLOOKUP(AK74,$A$8:$AO$107,40,FALSE)=\"Défaite\",\"OK\",\"ERR\"),IF(AN74=\"Défaite\",IF(VLOOKUP(AK74,$A$8:$AO$107,40,FALSE)=\"Victoire\",\"OK\",\"ERR\"),IF(AN74=\"Nul\",IF(VLOOKUP(AK74,$A$8:$AO$107,40,FALSE)=\"Nul\",\"OK\",\"ERR\")))),\"\")","v":""},null,{"$f":"IF(AN74=\"Victoire\",100-ROUNDDOWN(20*AP74/$H74,0),\nIF(AN74=\"Défaite\",10+ROUNDDOWN(20*VLOOKUP(AK74,$A$8:$CB$107,42,FALSE)/VLOOKUP(AK74,$A$8:$H$107,8,FALSE),0),\nIF(AND(AN74=\"Nul\",$AP74<>$H74),40+(2*ROUNDDOWN(10*VLOOKUP(AK74,$A$8:$CB$107,42,FALSE)/VLOOKUP(AK74,$A$8:$H$107,8,FALSE),0)-ROUNDDOWN(10*AP74/$H74,0)),IF(AND(AN74=\"Nul\",$AP74=$H74),58,0))))","v":0},null,{"$f":"IF(AR74<>\"\",VLOOKUP(AR74,$A$8:$C$107,2,FALSE),\"\")","v":""},{"$f":"IF(AR74<>\"\",IF(AR74=$A74,\"ERR\",IF(OR(AR74=$I74,AR74=$P74,AR74=$W74,AR74=$AD74,AR74=$AK74),\"DUP\",IF(ISNA(VLOOKUP(AR74,$A$8:$A$107,1,FALSE)),\"ERR\",IF(COUNTIF($I$8:$I$107,AR74)>1,\"ERR\",IF($D74=VLOOKUP(AR74,$A$8:$D$107,4,FALSE),\"CLUB\",\"OK\"))))),\"\")","v":""},null,{"$f":"IF(AU74<>\"\",IF(AU74=\"Victoire\",IF(VLOOKUP(AR74,$A$8:$BL$107,47,FALSE)=\"Défaite\",\"OK\",\"ERR\"),IF(AU74=\"Défaite\",IF(VLOOKUP(AR74,$A$8:$BL$107,47,FALSE)=\"Victoire\",\"OK\",\"ERR\"),IF(AU74=\"Nul\",IF(VLOOKUP(AR74,$A$8:$BL$107,47,FALSE)=\"Nul\",\"OK\",\"ERR\")))),\"\")","v":""},null,{"$f":"IF(AU74=\"Victoire\",100-ROUNDDOWN(20*AW74/$H74,0),\nIF(AU74=\"Défaite\",10+ROUNDDOWN(20*VLOOKUP(AR74,$A$8:$CB$107,49,FALSE)/VLOOKUP(AR74,$A$8:$H$107,8,FALSE),0),\nIF(AND(AU74=\"Nul\",$AW74<>$H74),40+(2*ROUNDDOWN(10*VLOOKUP(AR74,$A$8:$CB$107,49,FALSE)/VLOOKUP(AR74,$A$8:$H$107,8,FALSE),0)-ROUNDDOWN(10*AW74/$H74,0)),IF(AND(AU74=\"Nul\",$AW74=$H74),58,0))))","v":0},null,{"$f":"IF(AY74<>\"\",VLOOKUP(AY74,$A$8:$C$107,2,FALSE),\"\")","v":""},{"$f":"IF(AY74<>\"\",IF(AY74=$A74,\"ERR\",IF(OR(AY74=$I74,AY74=$P74,AY74=$W74,AY74=$AD74,AY74=$AK74,AY74=$AR74),\"DUP\",IF(ISNA(VLOOKUP(AY74,$A$8:$A$107,1,FALSE)),\"ERR\",IF(COUNTIF($I$8:$I$107,AY74)>1,\"ERR\",IF($D74=VLOOKUP(AY74,$A$8:$D$107,4,FALSE),\"CLUB\",\"OK\"))))),\"\")","v":""},null,{"$f":"IF(BB74<>\"\",IF(BB74=\"Victoire\",IF(VLOOKUP(AY74,$A$8:$BL$107,54,FALSE)=\"Défaite\",\"OK\",\"ERR\"),IF(BB74=\"Défaite\",IF(VLOOKUP(AY74,$A$8:$BL$107,54,FALSE)=\"Victoire\",\"OK\",\"ERR\"),IF(BB74=\"Nul\",IF(VLOOKUP(AY74,$A$8:$BL$107,54,FALSE)=\"Nul\",\"OK\",\"ERR\")))),\"\")","v":""},null,{"$f":"IF(BB74=\"Victoire\",100-ROUNDDOWN(20*BD74/$H74,0),\nIF(BB74=\"Défaite\",10+ROUNDDOWN(20*VLOOKUP(AY74,$A$8:$CB$107,56,FALSE)/VLOOKUP(AY74,$A$8:$H$107,8,FALSE),0),\nIF(AND(BB74=\"Nul\",$BD74<>$H74),40+(2*ROUNDDOWN(10*VLOOKUP(AY74,$A$8:$CB$107,56,FALSE)/VLOOKUP(AY74,$A$8:$H$107,8,FALSE),0)-ROUNDDOWN(10*BD74/$H74,0)),IF(AND(BB74=\"Nul\",$BD74=$H74),58,0))))","v":0},null,{"$f":"IF(BF74<>\"\",VLOOKUP(BF74,$A$8:$C$107,2,FALSE),\"\")","v":""},{"$f":"IF(BF74<>\"\",IF(BF74=$A74,\"ERR\",IF(OR(BF74=$I74,BF74=$P74,BF74=$W74,BF74=$AD74,BF74=$AK74,BF74=$AR74,BF74=$AY74),\"DUP\",IF(ISNA(VLOOKUP(BF74,$A$8:$A$107,1,FALSE)),\"ERR\",IF(COUNTIF($I$8:$I$107,BF74)>1,\"ERR\",IF($D74=VLOOKUP(BF74,$A$8:$D$107,4,FALSE),\"CLUB\",\"OK\"))))),\"\")","v":""},null,{"$f":"IF(BI74<>\"\",IF(BI74=\"Victoire\",IF(VLOOKUP(BF74,$A$8:$BL$107,61,FALSE)=\"Défaite\",\"OK\",\"ERR\"),IF(BI74=\"Défaite\",IF(VLOOKUP(BF74,$A$8:$BL$107,61,FALSE)=\"Victoire\",\"OK\",\"ERR\"),IF(BI74=\"Nul\",IF(VLOOKUP(BF74,$A$8:$BL$107,61,FALSE)=\"Nul\",\"OK\",\"ERR\")))),\"\")","v":""},null,{"$f":"IF(BI74=\"Victoire\",100-ROUNDDOWN(20*BK74/$H74,0),\nIF(BI74=\"Défaite\",10+ROUNDDOWN(20*VLOOKUP(BF74,$A$8:$CB$107,63,FALSE)/VLOOKUP(BF74,$A$8:$H$107,8,FALSE),0),\nIF(AND(BI74=\"Nul\",$BK74<>$H74),40+(2*ROUNDDOWN(10*VLOOKUP(BF74,$A$8:$CB$107,63,FALSE)/VLOOKUP(BF74,$A$8:$H$107,8,FALSE),0)-ROUNDDOWN(10*BK74/$H74,0)),IF(AND(BI74=\"Nul\",$BK74=$H74),58,0))))","v":0},null,{"$f":"IF(BM74<>\"\",VLOOKUP(BM74,$A$8:$C$107,2,FALSE),\"\")","v":""},{"$f":"IF(BM74<>\"\",IF(BM74=$A74,\"ERR\",IF(OR(BM74=$I74,BM74=$P74,BM74=$W74,BM74=$AD74,BM74=$AK74,BM74=$AR74,BM74=$AY74,BM74=$BF74),\"DUP\",IF(ISNA(VLOOKUP(BM74,$A$8:$A$107,1,FALSE)),\"ERR\",IF(COUNTIF($I$8:$I$107,BM74)>1,\"ERR\",IF($D74=VLOOKUP(BM74,$A$8:$D$107,4,FALSE),\"CLUB\",\"OK\"))))),\"\")","v":""},null,{"$f":"IF(BP74<>\"\",IF(BP74=\"Victoire\",IF(VLOOKUP(BM74,$A$8:$BS$107,68,FALSE)=\"Défaite\",\"OK\",\"ERR\"),IF(BP74=\"Défaite\",IF(VLOOKUP(BM74,$A$8:$BS$107,68,FALSE)=\"Victoire\",\"OK\",\"ERR\"),IF(BP74=\"Nul\",IF(VLOOKUP(BM74,$A$8:$BS$107,68,FALSE)=\"Nul\",\"OK\",\"ERR\")))),\"\")","v":""},null,{"$f":"IF(BP74=\"Victoire\",100-ROUNDDOWN(20*BR74/$H74,0),\nIF(BP74=\"Défaite\",10+ROUNDDOWN(20*VLOOKUP(BM74,$A$8:$CB$107,70,FALSE)/VLOOKUP(BM74,$A$8:$H$107,8,FALSE),0),\nIF(AND(BP74=\"Nul\",$BR74<>$H74),40+(2*ROUNDDOWN(10*VLOOKUP(BM74,$A$8:$CB$107,70,FALSE)/VLOOKUP(BM74,$A$8:$H$107,8,FALSE),0)-ROUNDDOWN(10*BR74/$H74,0)),IF(AND(BP74=\"Nul\",$BR74=$H74),58,0))))","v":0},null,{"$f":"IF($I74<>\"\",VLOOKUP($I74,$A$8:$N$107,5,FALSE),0)+IF($P74<>\"\",VLOOKUP($P74,$A$8:$N$107,5,FALSE),0)+IF($W74<>\"\",VLOOKUP($W74,$A$8:$N$107,5,FALSE),0)+IF($AD74<>\"\",VLOOKUP($AD74,$A$8:$N$107,5,FALSE),0)+IF($AK74<>\"\",VLOOKUP($AK74,$A$8:$N$107,5,FALSE),0)+IF($AR74<>\"\",VLOOKUP($AR74,$A$8:$N$107,5,FALSE),0)+IF($AY74<>\"\",VLOOKUP($AY74,$A$8:$N$107,5,FALSE),0)+IF($BF74<>\"\",VLOOKUP($BF74,$A$8:$N$107,5,FALSE),0)+IF($BM74<>\"\",VLOOKUP($BM74,$A$8:$N$107,5,FALSE),0)","v":0}]
[{"$nulls":4},0,null,{"$f":"IF($F75<>\"\",VLOOKUP(F75,Armies!$A$1:$C$300,3,FALSE),\"\")","v":""},null,null,{"$f":"IF(I75<>\"\",VLOOKUP(I75,$A$8:$C$107,2,FALSE),\"\")","v":""},{"$f":"IF(I75<>\"\",IF(I75=$A75,\"ERR\",IF(OR(I75=$P75,I75=$W75,I75=$AD75,I75=$AK75),\"DUP\",IF(ISNA(VLOOKUP(I75,$A$8:$A$107,1,FALSE)),\"ERR\",IF(COUNTIF($I$8:$I$107,I75)>1,\"ERR\",IF($D75=VLOOKUP(I75,$A$8:$D$107,4,FALSE),\"CLUB\",\"OK\"))))),\"\")","v":""},null,{"$f":"IF(L75<>\"\",IF(L75=\"Victoire\",IF(VLOOKUP(I75,$A$8:$L$107,12,FALSE)=\"Défaite\",\"OK\",\"ERR\"),IF(L75=\"Défaite\",IF(VLOOKUP(I75,$A$8:$L$107,12,FALSE)=\"Victoire\",\"OK\",\"ERR\"),IF(L75=\"Nul\",IF(VLOOKUP(I75,$A$8:$L$107,12,FALSE)=\"Nul\",\"OK\",\"ERR\")))),\"\")","v":""},null,{"$f":"IF(L75=\"Victoire\",100-ROUNDDOWN(20*N75/$H75,0),\nIF(L75=\"Défaite\",10+ROUNDDOWN(20*VLOOKUP(I75,$A$8:$N$107,14,FALSE)/VLOOKUP(I75,$A$8:$H$107,8,FALSE),0),\nIF(AND(L75=\"Nul\",$N75<>$H75),40+(2*ROUNDDOWN(10*VLOOKUP(I75,$A$8:$N$107,14,FALSE)/VLOOKUP(I75,$A$8:$H$107,8,FALSE),0)-ROUNDDOWN(10*N75/$H75,0)),IF(AND(L75=\"Nul\",$N75=$H75),58,0))))","v":0},null,{"$f":"IF(P75<>\"\",VLOOKUP(P75,$A$8:$C$107,2,FALSE),\"\")","v":""},{"$f":"IF(P75<>\"\",IF(P75=$A75,\"ERR\",IF(OR(P75=$I75,P75=$W75,P75=$AD75,P75=$AK75),\"DUP\",IF(ISNA(VLOOKUP(P75,$A$8:$A$107,1,FALSE)),\"ERR\",IF(COUNTIF($I$8:$I$107,P75)>1,\"ERR\",IF($D75=VLOOKUP(P75,$A$8:$D$107,4,FALSE),\"CLUB\",\"OK\"))))),\"\")","v":""},null,{"$f":"IF(S75<>\"\",IF(S75=\"Victoire\",IF(VLOOKUP(P75,$A$8:$AO$107,19,FALSE)=\"Défaite\",\"OK\",\"ERR\"),IF(S75=\"Défaite\",IF(VLOOKUP(P75,$A$8:$AO$107,19,FALSE)=\"Victoire\",\"OK\",\"ERR\"),IF(S75=\"Nul\",IF(VLOOKUP(P75,$A$8:$AO$107,19,FALSE)=\"Nul\",\"OK\",\"ERR\")))),\"\")","v":""},null,{"$f":"IF(S75=\"Victoire\",100-ROUNDDOWN(20*U75/$H75,0),\nIF(S75=\"Défaite\",10+ROUNDDOWN(20*VLOOKUP(P75,$A$8:$AO$107,21,FALSE)/VLOOKUP(P75,$A$8:$H$107,8,FALSE),0),\nIF(AND(S75=\"Nul\",$U75<>$H75),40+(2*ROUNDDOWN(10*VLOOKUP(P75,$A$8:$AO$107,21,FALSE)/VLOOKUP(P75,$A$8:$H$107,8,FALSE),0)-ROUNDDOWN(10*U75/$H75,0)),IF(AND(S75=\"Nul\",$U75=$H75),58,0))))","v":0},null,{"$f":"IF(W75<>\"\",VLOOKUP(W75,$A$8:$C$107,2,FALSE),\"\")","v":""},{"$f":"IF(W75<>\"\",IF(W75=$A75,\"ERR\",IF(OR(W75=$P75,W75=$I75,W75=$AD75,W75=$AK75),\"DUP\",IF(ISNA(VLOOKUP(W75,$A$8:$A$107,1,FALSE)),\"ERR\",IF(COUNTIF($I$8:$I$107,W75)>1,\"ERR\",IF($D75=VLOOKUP(W75,$A$8:$D$107,4,FALSE),\"CLUB\",\"OK\"))))),\"\")","v":""},null,{"$f":"IF(Z75<>\"\",IF(Z75=\"Victoire\",IF(VLOOKUP(W75,$A$8:$AO$107,26,FALSE)=\"Défaite\",\"OK\",\"ERR\"),IF(Z75=\"Défaite\",IF(VLOOKUP(W75,$A$8:$AO$107,26,FALSE)=\"Victoire\",\"OK\",\"ERR\"),IF(Z75=\"Nul\",IF(VLOOKUP(W75,$A$8:$AO$107,26,FALSE)=\"Nul\",\"OK\",\"ERR\")))),\"\")","v":""},null,{"$f":"IF(Z75=\"Victoire\",100-ROUNDDOWN(20*AB75/$H75,0),\nIF(Z75=\"Défaite\",10+ROUNDDOWN(20*VLOOKUP(W75,$A$8:$AO$107,28,FALSE)/VLOOKUP(W75,$A$8:$H$107,8,FALSE),0),\nIF(AND(Z75=\"Nul\",$AB75<>$H75),40+(2*ROUNDDOWN(10*VLOOKUP(W75,$A$8:$AO$107,28,FALSE)/VLOOKUP(W75,$A$8:$H$107,8,FALSE),0)-ROUNDDOWN(10*AB75/$H75,0)),IF(AND(Z75=\"Nul\",$AB75=$H75),58,0))))","v":0},null,{"$f":"IF(AD75<>\"\",VLOOKUP(AD75,$A$8:$C$107,2,FALSE),\"\")","v":""},{"$f":"IF(AD75<>\"\",IF(AD75=$A75,\"ERR\",IF(OR(AD75=$P75,AD75=$W75,AD75=$I75,AD75=$AK75),\"DUP\",IF(ISNA(VLOOKUP(AD75,$A$8:$A$107,1,FALSE)),\"ERR\",IF(COUNTIF($I$8:$I$107,AD75)>1,\"ERR\",IF($D75=VLOOKUP(AD75,$A$8:$D$107,4,FALSE),\"CLUB\",\"OK\"))))),\"\")","v":""},null,{"$f":"IF(AG75<>\"\",IF(AG75=\"Victoire\",IF(VLOOKUP(AD75,$A$8:$AO$107,33,FALSE)=\"Défaite\",\"OK\",\"ERR\"),IF(AG75=\"Défaite\",IF(VLOOKUP(AD75,$A$8:$AO$107,33,FALSE)=\"Victoire\",\"OK\",\"ERR\"),IF(AG75=\"Nul\",IF(VLOOKUP(AD75,$A$8:$AO$107,33,FALSE)=\"Nul\",\"OK\",\"ERR\")))),\"\")","v":""},null,{"$f":"IF(AG75=\"Victoire\",100-ROUNDDOWN(20*AI75/$H75,0),\nIF(AG75=\"Défaite\",10+ROUNDDOWN(20*VLOOKUP(AD75,$A$8:$AO$107,35,FALSE)/VLOOKUP(AD75,$A$8:$H$107,8,FALSE),0),\nIF(AND(AG75=\"Nul\",$AI75<>$H75),40+(2*ROUNDDOWN(10*VLOOKUP(AD75,$A$8:$AO$107,35,FALSE)/VLOOKUP(AD75,$A$8:$H$107,8,FALSE),0)-ROUNDDOWN(10*AI75/$H75,0)),IF(AND(AG75=\"Nul\",$AI75=$H75),58,0))))","v":0},null,{"$f":"IF(AK75<>\"\",VLOOKUP(AK75,$A$8:$C$107,2,FALSE),\"\")","v":""},{"$f":"IF(AK75<>\"\",IF(AK75=$A75,\"ERR\",IF(OR(AK75=$P75,AK75=$W75,AK75=$AD75,AK75=$I75),\"DUP\",IF(ISNA(VLOOKUP(AK75,$A$8:$A$107,1,FALSE)),\"ERR\",IF(COUNTIF($I$8:$I$107,AK75)>1,\"ERR\",IF($D75=VLOOKUP(AK75,$A$8:$D$107,4,FALSE),\"CLUB\",\"OK\"))))),\"\")","v":""},null,{"$f":"IF(AN75<>\"\",IF(AN75=\"Victoire\",IF(VLOOKUP(AK75,$A$8:$AO$107,40,FALSE)=\"Défaite\",\"OK\",\"ERR\"),IF(AN75=\"Défaite\",IF(VLOOKUP(AK75,$A$8:$AO$107,40,FALSE)=\"Victoire\",\"OK\",\"ERR\"),IF(AN75=\"Nul\",IF(VLOOKUP(AK75,$A$8:$AO$107,40,FALSE)=\"Nul\",\"OK\",\"ERR\")))),\"\")","v":""},null,{"$f":"IF(AN75=\"Victoire\",100-ROUNDDOWN(20*AP75/$H75,0),\nIF(AN75=\"Défaite\",10+ROUNDDOWN(20*VLOOKUP(AK75,$A$8:$CB$107,42,FALSE)/VLOOKUP(AK75,$A$8:$H$107,8,FALSE),0),\nIF(AND(AN75=\"Nul\",$AP75<>$H75),40+(2*ROUNDDOWN(10*VLOOKUP(AK75,$A$8:$CB$107,42,FALSE)/VLOOKUP(AK75,$A$8:$H$107,8,FALSE),0)-ROUNDDOWN(10*AP75/$H75,0)),IF(AND(AN75=\"Nul\",$AP75=$H75),58,0))))","v":0},null,{"$f":"IF(AR75<>\"\",VLOOKUP(AR75,$A$8:$C$107,2,FALSE),\"\")","v":""},{"$f":"IF(AR75<>\"\",IF(AR75=$A75,\"ERR\",IF(OR(AR75=$I75,AR75=$P75,AR75=$W75,AR75=$AD75,AR75=$AK75),\"DUP\",IF(ISNA(VLOOKUP(AR75,$A$8:$A$107,1,FALSE)),\"ERR\",IF(COUNTIF($I$8:$I$107,AR75)>1,\"ERR\",IF($D75=VLOOKUP(AR75,$A$8:$D$107,4,FALSE),\"CLUB\",\"OK\"))))),\"\")","v":""},null,{"$f":"IF(AU75<>\"\",IF(AU75=\"Victoire\",IF(VLOOKUP(AR75,$A$8:$BL$107,47,FALSE)=\"Défaite\",\"OK\",\"ERR\"),IF(AU75=\"Défaite\",IF(VLOOKUP(AR75,$A$8:$BL$107,47,FALSE)=\"Victoire\",\"OK\",\"ERR\"),IF(AU75=\"Nul\",IF(VLOOKUP(AR75,$A$8:$BL$107,47,FALSE)=\"Nul\",\"OK\",\"ERR\")))),\"\")","v":""},null,{"$f":"IF(AU75=\"Victoire\",100-ROUNDDOWN(20*AW75/$H75,0),\nIF(AU75=\"Défaite\",10+ROUNDDOWN(20*VLOOKUP(AR75,$A$8:$CB$107,49,FALSE)/VLOOKUP(AR75,$A$8:$H$107,8,FALSE),0),\nIF(AND(AU75=\"Nul\",$AW75<>$H75),40+(2*ROUNDDOWN(10*VLOOKUP(AR75,$A$8:$CB$107,49,FALSE)/VLOOKUP(AR75,$A$8:$H$107,8,FALSE),0)-ROUNDDOWN(10*AW75/$H75,0)),IF(AND(AU75=\"Nul\",$AW75=$H75),58,0))))","v":0},null,{"$f":"IF(AY75<>\"\",VLOOKUP(AY75,$A$8:$C$107,2,FALSE),\"\")","v":""},{"$f":"IF(AY75<>\"\",IF(AY75=$A75,\"ERR\",IF(OR(AY75=$I75,AY75=$P75,AY75=$W75,AY75=$AD75,AY75=$AK75,AY75=$AR75),\"DUP\",IF(ISNA(VLOOKUP(AY75,$A$8:$A$107,1,FALSE)),\"ERR\",IF(COUNTIF($I$8:$I$107,AY75)>1,\"ERR\",IF($D75=VLOOKUP(AY75,$A$8:$D$107,4,FALSE),\"CLUB\",\"OK\"))))),\"\")","v":""},null,{"$f":"IF(BB75<>\"\",IF(BB75=\"Victoire\",IF(VLOOKUP(AY75,$A$8:$BL$107,54,FALSE)=\"Défaite\",\"OK\",\"ERR\"),IF(BB75=\"Défaite\",IF(VLOOKUP(AY75,$A$8:$BL$107,54,FALSE)=\"Victoire\",\"OK\",\"ERR\"),IF(BB75=\"Nul\",IF(VLOOKUP(AY75,$A$8:$BL$107,54,FALSE)=\"Nul\",\"OK\",\"ERR\")))),\"\")","v":""},null,{"$f":"IF(BB75=\"Victoire\",100-ROUNDDOWN(20*BD75/$H75,0),\nIF(BB75=\"Défaite\",10+ROUNDDOWN(20*VLOOKUP(AY75,$A$8:$CB$107,56,FALSE)/VLOOKUP(AY75,$A$8:$H$107,8,FALSE),0),\nIF(AND(BB75=\"Nul\",$BD75<>$H75),40+(2*ROUNDDOWN(10*VLOOKUP(AY75,$A$8:$CB$107,56,FALSE)/VLOOKUP(AY75,$A$8:$H$107,8,FALSE),0)-ROUNDDOWN(10*BD75/$H75,0)),IF(AND(BB75=\"Nul\",$BD75=$H75),58,0))))","v":0},null,{"$f":"IF(BF75<>\"\",VLOOKUP(BF75,$A$8:$C$107,2,FALSE),\"\")","v":""},{"$f":"IF(BF75<>\"\",IF(BF75=$A75,\"ERR\",IF(OR(BF75=$I75,BF75=$P75,BF75=$W75,BF75=$AD75,BF75=$AK75,BF75=$AR75,BF75=$AY75),\"DUP\",IF(ISNA(VLOOKUP(BF75,$A$8:$A$107,1,FALSE)),\"ERR\",IF(COUNTIF($I$8:$I$107,BF75)>1,\"ERR\",IF($D75=VLOOKUP(BF75,$A$8:$D$107,4,FALSE),\"CLUB\",\"OK\"))))),\"\")","v":""},null,{"$f":"IF(BI75<>\"\",IF(BI75=\"Victoire\",IF(VLOOKUP(BF75,$A$8:$BL$107,61,FALSE)=\"Défaite\",\"OK\",\"ERR\"),IF(BI75=\"Défaite\",IF(VLOOKUP(BF75,$A$8:$BL$107,61,FALSE)=\"Victoire\",\"OK\",\"ERR\"),IF(BI75=\"Nul\",IF(VLOOKUP(BF75,$A$8:$BL$107,61,FALSE)=\"Nul\",\"OK\",\"ERR\")))),\"\")","v":""},null,{"$f":"IF(BI75=\"Victoire\",100-ROUNDDOWN(20*BK75/$H75,0),\nIF(BI75=\"Défaite\",10+ROUNDDOWN(20*VLOOKUP(BF75,$A$8:$CB$107,63,FALSE)/VLOOKUP(BF75,$A$8:$H$107,8,FALSE),0),\nIF(AND(BI75=\"Nul\",$BK75<>$H75),40+(2*ROUNDDOWN(10*VLOOKUP(BF75,$A$8:$CB$107,63,FALSE)/VLOOKUP(BF75,$A$8:$H$107,8,FALSE),0)-ROUNDDOWN(10*BK75/$H75,0)),IF(AND(BI75=\"Nul\",$BK75=$H75),58,0))))","v":0},null,{"$f":"IF(BM75<>\"\",VLOOKUP(BM75,$A$8:$C$107,2,FALSE),\"\")","v":""},{"$f":"IF(BM75<>\"\",IF(BM75=$A75,\"ERR\",IF(OR(BM75=$I75,BM75=$P75,BM75=$W75,BM75=$AD75,BM75=$AK75,BM75=$AR75,BM75=$AY75,BM75=$BF75),\"DUP\",IF(ISNA(VLOOKUP(BM75,$A$8:$A$107,1,FALSE)),\"ERR\",IF(COUNTIF($I$8:$I$107,BM75)>1,\"ERR\",IF($D75=VLOOKUP(BM75,$A$8:$D$107,4,FALSE),\"CLUB\",\"OK\"))))),\"\")","v":""},null,{"$f":"IF(BP75<>\"\",IF(BP75=\"Victoire\",IF(VLOOKUP(BM75,$A$8:$BS$107,68,FALSE)=\"Défaite\",\"OK\",\"ERR\"),IF(BP75=\"Défaite\",IF(VLOOKUP(BM75,$A$8:$BS$107,68,FALSE)=\"Victoire\",\"OK\",\"ERR\"),IF(BP75=\"Nul\",IF(VLOOKUP(BM75,$A$8:$BS$107,68,FALSE)=\"Nul\",\"OK\",\"ERR\")))),\"\")","v":""},null,{"$f":"IF(BP75=\"Victoire\",100-ROUNDDOWN(20*BR75/$H75,0),\nIF(BP75=\"Défaite\",10+ROUNDDOWN(20*VLOOKUP(BM75,$A$8:$CB$107,70,FALSE)/VLOOKUP(BM75,$A$8:$H$107,8,FALSE),0),\nIF(AND(BP75=\"Nul\",$BR75<>$H75),40+(2*ROUNDDOWN(10*VLOOKUP(BM75,$A$8:$CB$107,70,FALSE)/VLOOKUP(BM75,$A$8:$H$107,8,FALSE),0)-ROUNDDOWN(10*BR75/$H75,0)),IF(AND(BP75=\"Nul\",$BR75=$H75),58,0))))","v":0},null,{"$f":"IF($I75<>\"\",VLOOKUP($I75,$A$8:$N$107,5,FALSE),0)+IF($P75<>\"\",VLOOKUP($P75,$A$8:$N$107,5,FALSE),0)+IF($W75<>\"\",VLOOKUP($W75,$A$8:$N$107,5,FALSE),0)+IF($AD75<>\"\",VLOOKUP($AD75,$A$8:$N$107,5,FALSE),0)+IF($AK75<>\"\",VLOOKUP($AK75,$A$8:$N$107,5,FALSE),0)+IF($AR75<>\"\",VLOOKUP($AR75,$A$8:$N$107,5,FALSE),0)+IF($AY75<>\"\",VLOOKUP($AY75,$A$8:$N$107,5,FALSE),0)+IF($BF75<>\"\",VLOOKUP($BF75,$A$8:$N$107,5,FALSE),0)+IF($BM75<>\"\",VLOOKUP($BM75,$A$8:$N$107,5,FALSE),0)","v":0}]
[{"$nulls":4},0,null,{"$f":"IF($F76<>\"\",VLOOKUP(F76,Armies!$A$1:$C$300,3,FALSE),\"\")","v":""},null,null,{"$f":"IF(I76<>\"\",VLOOKUP(I76,$A$8:$C$107,2,FALSE),\"\")","v":""},{"$f":"IF(I76<>\"\",IF(I76=$A76,\"ERR\",IF(OR(I76=$P76,I76=$W76,I76=$AD76,I76=$AK76),\"DUP\",IF(ISNA(VLOOKUP(I76,$A$8:$A$107,1,FALSE)),\"ERR\",IF(COUNTIF($I$8:$I$107,I76)>1,\"ERR\",IF($D76=VLOOKUP(I76,$A$8:$D$107,4,FALSE),\"CLUB\",\"OK\"))))),\"\")","v":""},null,{"$f":"IF(L76<>\"\",IF(L76=\"Victoire\",IF(VLOOKUP(I76,$A$8:$L$107,12,FALSE)=\"Défaite\",\"OK\",\"ERR\"),IF(L76=\"Défaite\",IF(VLOOKUP(I76,$A$8:$L$107,12,FALSE)=\"Victoire\",\"OK\",\"ERR\"),IF(L76=\"Nul\",IF(VLOOKUP(I76,$A$8:$L$107,12,FALSE)=\"Nul\",\"OK\",\"ERR\")))),\"\")","v":""},null,{"$f":"IF(L76=\"Victoire\",100-ROUNDDOWN(20*N76/$H76,0),\nIF(L76=\"Défaite\",10+ROUNDDOWN(20*VLOOKUP(I76,$A$8:$N$107,14,FALSE)/VLOOKUP(I76,$A$8:$H$107,8,FALSE),0),\nIF(AND(L76=\"Nul\",$N76<>$H76),40+(2*ROUNDDOWN(10*VLOOKUP(I76,$A$8:$N$107,14,FALSE)/VLOOKUP(I76,$A$8:$H$107,8,FALSE),0)-ROUNDDOWN(10*N76/$H76,0)),IF(AND(L76=\"Nul\",$N76=$H76),58,0))))","v":0},null,{"$f":"IF(P76<>\"\",VLOOKUP(P76,$A$8:$C$107,2,FALSE),\"\")","v":""},{"$f":"IF(P76<>\"\",IF(P76=$A76,\"ERR\",IF(OR(P76=$I76,P76=$W76,P76=$AD76,P76=$AK76),\"DUP\",IF(ISNA(VLOOKUP(P76,$A$8:$A$107,1,FALSE)),\"ERR\",IF(COUNTIF($I$8:$I$107,P76)>1,\"ERR\",IF($D76=VLOOKUP(P76,$A$8:$D$107,4,FALSE),\"CLUB\",\"OK\"))))),\"\")","v":""},null,{"$f":"IF(S76<>\"\",IF(S76=\"Victoire\",IF(VLOOKUP(P76,$A$8:$AO$107,19,FALSE)=\"Défaite\",\"OK\",\"ERR\"),IF(S76=\"Défaite\",IF(VLOOKUP(P76,$A$8:$AO$107,19,FALSE)=\"Victoire\",\"OK\",\"ERR\"),IF(S76=\"Nul\",IF(VLOOKUP(P76,$A$8:$AO$107,19,FALSE)=\"Nul\",\"OK\",\"ERR\")))),\"\")","v":""},null,{"$f":"IF(S76=\"Victoire\",100-ROUNDDOWN(20*U76/$H76,0),\nIF(S76=\"Défaite\",10+ROUNDDOWN(20*VLOOKUP(P76,$A$8:$AO$107,21,FALSE)/VLOOKUP(P76,$A$8:$H$107,8,FALSE),0),\nIF(AND(S76=\"Nul\",$U76<>$H76),40+(2*ROUNDDOWN(10*VLOOKUP(P76,$A$8:$AO$107,21,FALSE)/VLOOKUP(P76,$A$8:$H$107,8,FALSE),0)-ROUNDDOWN(10*U76/$H76,0)),IF(AND(S76=\"Nul\",$U76=$H76),58,0))))","v":0},null,{"$f":"IF(W76<>\"\",VLOOKUP(W76,$A$8:$C$107,2,FALSE),\"\")","v":""},{"$f":"IF(W76<>\"\",IF(W76=$A76,\"ERR\",IF(OR(W76=$P76,W76=$I76,W76=$AD76,W76=$AK76),\"DUP\",IF(ISNA(VLOOKUP(W76,$A$8:$A$107,1,FALSE)),\"ERR\",IF(COUNTIF($I$8:$I$107,W76)>1,\"ERR\",IF($D76=VLOOKUP(W76,$A$8:$D$107,4,FALSE),\"CLUB\",\"OK\"))))),\"\")","v":""},null,{"$f":"IF(Z76<>\"\",IF(Z76=\"Victoire\",IF(VLOOKUP(W76,$A$8:$AO$107,26,FALSE)=\"Défaite\",\"OK\",\"ERR\"),IF(Z76=\"Défaite\",IF(VLOOKUP(W76,$A$8:$AO$107,26,FALSE)=\"Victoire\",\"OK\",\"ERR\"),IF(Z76=\"Nul\",IF(VLOOKUP(W76,$A$8:$AO$107,26,FALSE)=\"Nul\",\"OK\",\"ERR\")))),\"\")","v":""},null,{"$f":"IF(Z76=\"Victoire\",100-ROUNDDOWN(20*AB76/$H76,0),\nIF(Z76=\"Défaite\",10+ROUNDDOWN(20*VLOOKUP(W76,$A$8:$AO$107,28,FALSE)/VLOOKUP(W76,$A$8:$H$107,8,FALSE),0),\nIF(AND(Z76=\"Nul\",$AB76<>$H76),40+(2*ROUNDDOWN(10*VLOOKUP(W76,$A$8:$AO$107,28,FALSE)/VLOOKUP(W76,$A$8:$H$107,8,FALSE),0)-ROUNDDOWN(10*AB76/$H76,0)),IF(AND(Z76=\"Nul\",$AB76=$H76),58,0))))","v":0},null,{"$f":"IF(AD76<>\"\",VLOOKUP(AD76,$A$8:$C$107,2,FALSE),\"\")","v":""},{"$f":"IF(AD76<>\"\",IF(AD76=$A76,\"ERR\",IF(OR(AD76=$P76,AD76=$W76,AD76=$I76,AD76=$AK76),\"DUP\",IF(ISNA(VLOOKUP(AD76,$A$8:$A$107,1,FALSE)),\"ERR\",IF(COUNTIF($I$8:$I$107,AD76)>1,\"ERR\",IF($D76=VLOOKUP(AD76,$A$8:$D$107,4,FALSE),\"CLUB\",\"OK\"))))),\"\")","v":""},null,{"$f":"IF(AG76<>\"\",IF(AG76=\"Victoire\",IF(VLOOKUP(AD76,$A$8:$AO$107,33,FALSE)=\"Défaite\",\"OK\",\"ERR\"),IF(AG76=\"Défaite\",IF(VLOOKUP(AD76,$A$8:$AO$107,33,FALSE)=\"Victoire\",\"OK\",\"ERR\"),IF(AG76=\"Nul\",IF(VLOOKUP(AD76,$A$8:$AO$107,33,FALSE)=\"Nul\",\"OK\",\"ERR\")))),\"\")","v":""},null,{"$f":"IF(AG76=\"Victoire\",100-ROUNDDOWN(20*AI76/$H76,0),\nIF(AG76=\"Défaite\",10+ROUNDDOWN(20*VLOOKUP(AD76,$A$8:$AO$107,35,FALSE)/VLOOKUP(AD76,$A$8:$H$107,8,FALSE),0),\nIF(AND(AG76=\"Nul\",$AI76<>$H76),40+(2*ROUNDDOWN(10*VLOOKUP(AD76,$A$8:$AO$107,35,FALSE)/VLOOKUP(AD76,$A$8:$H$107,8,FALSE),0)-ROUNDDOWN(10*AI76/$H76,0)),IF(AND(AG76=\"Nul\",$AI76=$H76),58,0))))","v":0},null,{"$f":"IF(AK76<>\"\",VLOOKUP(AK76,$A$8:$C$107,2,FALSE),\"\")","v":""},{"$f":"IF(AK76<>\"\",IF(AK76=$A76,\"ERR\",IF(OR(AK76=$P76,AK76=$W76,AK76=$AD76,AK76=$I76),\"DUP\",IF(ISNA(VLOOKUP(AK76,$A$8:$A$107,1,FALSE)),\"ERR\",IF(COUNTIF($I$8:$I$107,AK76)>1,\"ERR\",IF($D76=VLOOKUP(AK76,$A$8:$D$107,4,FALSE),\"CLUB\",\"OK\"))))),\"\")","v":""},null,{"$f":"IF(AN76<>\"\",IF(AN76=\"Victoire\",IF(VLOOKUP(AK76,$A$8:$AO$107,40,FALSE)=\"Défaite\",\"OK\",\"ERR\"),IF(AN76=\"Défaite\",IF(VLOOKUP(AK76,$A$8:$AO$107,40,FALSE)=\"Victoire\",\"OK\",\"ERR\"),IF(AN76=\"Nul\",IF(VLOOKUP(AK76,$A$8:$AO$107,40,FALSE)=\"Nul\",\"OK\",\"ERR\")))),\"\")","v":""},null,{"$f":"IF(AN76=\"Victoire\",100-ROUNDDOWN(20*AP76/$H76,0),\nIF(AN76=\"Défaite\",10+ROUNDDOWN(20*VLOOKUP(AK76,$A$8:$CB$107,42,FALSE)/VLOOKUP(AK76,$A$8:$H$107,8,FALSE),0),\nIF(AND(AN76=\"Nul\",$AP76<>$H76),40+(2*ROUNDDOWN(10*VLOOKUP(AK76,$A$8:$CB$107,42,FALSE)/VLOOKUP(AK76,$A$8:$H$107,8,FALSE),0)-ROUNDDOWN(10*AP76/$H76,0)),IF(AND(AN76=\"Nul\",$AP76=$H76),58,0))))","v":0},null,{"$f":"IF(AR76<>\"\",VLOOKUP(AR76,$A$8:$C$107,2,FALSE),\"\")","v":""},{"$f":"IF(AR76<>\"\",IF(AR76=$A76,\"ERR\",IF(OR(AR76=$I76,AR76=$P76,AR76=$W76,AR76=$AD76,AR76=$AK76),\"DUP\",IF(ISNA(VLOOKUP(AR76,$A$8:$A$107,1,FALSE)),\"ERR\",IF(COUNTIF($I$8:$I$107,AR76)>1,\"ERR\",IF($D76=VLOOKUP(AR76,$A$8:$D$107,4,FALSE),\"CLUB\",\"OK\"))))),\"\")","v":""},null,{"$f":"IF(AU76<>\"\",IF(AU76=\"Victoire\",IF(VLOOKUP(AR76,$A$8:$BL$107,47,FALSE)=\"Défaite\",\"OK\",\"ERR\"),IF(AU76=\"Défaite\",IF(VLOOKUP(AR76,$A$8:$BL$107,47,FALSE)=\"Victoire\",\"OK\",\"ERR\"),IF(AU76=\"Nul\",IF(VLOOKUP(AR76,$A$8:$BL$107,47,FALSE)=\"Nul\",\"OK\",\"ERR\")))),\"\")","v":""},null,{"$f":"IF(AU76=\"Victoire\",100-ROUNDDOWN(20*AW76/$H76,0),\nIF(AU76=\"Défaite\",10+ROUNDDOWN(20*VLOOKUP(AR76,$A$8:$CB$107,49,FALSE)/VLOOKUP(AR76,$A$8:$H$107,8,FALSE),0),\nIF(AND(AU76=\"Nul\",$AW76<>$H76),40+(2*ROUNDDOWN(10*VLOOKUP(AR76,$A$8:$CB$107,49,FALSE)/VLOOKUP(AR76,$A$8:$H$107,8,FALSE),0)-ROUNDDOWN(10*AW76/$H76,0)),IF(AND(AU76=\"Nul\",$AW76=$H76),58,0))))","v":0},null,{"$f":"IF(AY76<>\"\",VLOOKUP(AY76,$A$8:$C$107,2,FALSE),\"\")","v":""},{"$f":"IF(AY76<>\"\",IF(AY76=$A76,\"ERR\",IF(OR(AY76=$I76,AY76=$P76,AY76=$W76,AY76=$AD76,AY76=$AK76,AY76=$AR76),\"DUP\",IF(ISNA(VLOOKUP(AY76,$A$8:$A$107,1,FALSE)),\"ERR\",IF(COUNTIF($I$8:$I$107,AY76)>1,\"ERR\",IF($D76=VLOOKUP(AY76,$A$8:$D$107,4,FALSE),\"CLUB\",\"OK\"))))),\"\")","v":""},null,{"$f":"IF(BB76<>\"\",IF(BB76=\"Victoire\",IF(VLOOKUP(AY76,$A$8:$BL$107,54,FALSE)=\"Défaite\",\"OK\",\"ERR\"),IF(BB76=\"Défaite\",IF(VLOOKUP(AY76,$A$8:$BL$107,54,FALSE)=\"Victoire\",\"OK\",\"ERR\"),IF(BB76=\"Nul\",IF(VLOOKUP(AY76,$A$8:$BL$107,54,FALSE)=\"Nul\",\"OK\",\"ERR\")))),\"\")","v":""},null,{"$f":"IF(BB76=\"Victoire\",100-ROUNDDOWN(20*BD76/$H76,0),\nIF(BB76=\"Défaite\",10+ROUNDDOWN(20*VLOOKUP(AY76,$A$8:$CB$107,56,FALSE)/VLOOKUP(AY76,$A$8:$H$107,8,FALSE),0),\nIF(AND(BB76=\"Nul\",$BD76<>$H76),40+(2*ROUNDDOWN(10*VLOOKUP(AY76,$A$8:$CB$107,56,FALSE)/VLOOKUP(AY76,$A$8:$H$107,8,FALSE),0)-ROUNDDOWN(10*BD76/$H76,0)),IF(AND(BB76=\"Nul\",$BD76=$H76),58,0))))","v":0},null,{"$f":"IF(BF76<>\"\",VLOOKUP(BF76,$A$8:$C$107,2,FALSE),\"\")","v":""},{"$f":"IF(BF76<>\"\",IF(BF76=$A76,\"ERR\",IF(OR(BF76=$I76,BF76=$P76,BF76=$W76,BF76=$AD76,BF76=$AK76,BF76=$AR76,BF76=$AY76),\"DUP\",IF(ISNA(VLOOKUP(BF76,$A$8:$A$107,1,FALSE)),\"ERR\",IF(COUNTIF($I$8:$I$107,BF76)>1,\"ERR\",IF($D76=VLOOKUP(BF76,$A$8:$D$107,4,FALSE),\"CLUB\",\"OK\"))))),\"\")","v":""},null,{"$f":"IF(BI76<>\"\",IF(BI76=\"Victoire\",IF(VLOOKUP(BF76,$A$8:$BL$107,61,FALSE)=\"Défaite\",\"OK\",\"ERR\"),IF(BI76=\"Défaite\",IF(VLOOKUP(BF76,$A$8:$BL$107,61,FALSE)=\"Victoire\",\"OK\",\"ERR\"),IF(BI76=\"Nul\",IF(VLOOKUP(BF76,$A$8:$BL$107,61,FALSE)=\"Nul\",\"OK\",\"ERR\")))),\"\")","v":""},null,{"$f":"IF(BI76=\"Victoire\",100-ROUNDDOWN(20*BK76/$H76,0),\nIF(BI76=\"Défaite\",10+ROUNDDOWN(20*VLOOKUP(BF76,$A$8:$CB$107,63,FALSE)/VLOOKUP(BF76,$A$8:$H$107,8,FALSE),0),\nIF(AND(BI76=\"Nul\",$BK76<>$H76),40+(2*ROUNDDOWN(10*VLOOKUP(BF76,$A$8:$CB$107,63,FALSE)/VLOOKUP(BF76,$A$8:$H$107,8,FALSE),0)-ROUNDDOWN(10*BK76/$H76,0)),IF(AND(BI76=\"Nul\",$BK76=$H76),58,0))))","v":0},null,{"$f":"IF(BM76<>\"\",VLOOKUP(BM76,$A$8:$C$107,2,FALSE),\"\")","v":""},{"$f":"IF(BM76<>\"\",IF(BM76=$A76,\"ERR\",IF(OR(BM76=$I76,BM76=$P76,BM76=$W76,BM76=$AD76,BM76=$AK76,BM76=$AR76,BM76=$AY76,BM76=$BF76),\"DUP\",IF(ISNA(VLOOKUP(BM76,$A$8:$A$107,1,FALSE)),\"ERR\",IF(COUNTIF($I$8:$I$107,BM76)>1,\"ERR\",IF($D76=VLOOKUP(BM76,$A$8:$D$107,4,FALSE),\"CLUB\",\"OK\"))))),\"\")","v":""},null,{"$f":"IF(BP76<>\"\",IF(BP76=\"Victoire\",IF(VLOOKUP(BM76,$A$8:$BS$107,68,FALSE)=\"Défaite\",\"OK\",\"ERR\"),IF(BP76=\"Défaite\",IF(VLOOKUP(BM76,$A$8:$BS$107,68,FALSE)=\"Victoire\",\"OK\",\"ERR\"),IF(BP76=\"Nul\",IF(VLOOKUP(BM76,$A$8:$BS$107,68,FALSE)=\"Nul\",\"OK\",\"ERR\")))),\"\")","v":""},null,{"$f":"IF(BP76=\"Victoire\",100-ROUNDDOWN(20*BR76/$H76,0),\nIF(BP76=\"Défaite\",10+ROUNDDOWN(20*VLOOKUP(BM76,$A$8:$CB$107,70,FALSE)/VLOOKUP(BM76,$A$8:$H$107,8,FALSE),0),\nIF(AND(BP76=\"Nul\",$BR76<>$H76),40+(2*ROUNDDOWN(10*VLOOKUP(BM76,$A$8:$CB$107,70,FALSE)/VLOOKUP(BM76,$A$8:$H$107,8,FALSE),0)-ROUNDDOWN(10*BR76/$H76,0)),IF(AND(BP76=\"Nul\",$BR76=$H76),58,0))))","v":0},null,{"$f":"IF($I76<>\"\",VLOOKUP($I76,$A$8:$N$107,5,FALSE),0)+IF($P76<>\"\",VLOOKUP($P76,$A$8:$N$107,5,FALSE),0)+IF($W76<>\"\",VLOOKUP($W76,$A$8:$N$107,5,FALSE),0)+IF($AD76<>\"\",VLOOKUP($AD76,$A$8:$N$107,5,FALSE),0)+IF($AK76<>\"\",VLOOKUP($AK76,$A$8:$N$107,5,FALSE),0)+IF($AR76<>\"\",VLOOKUP($AR76,$A$8:$N$107,5,FALSE),0)+IF($AY76<>\"\",VLOOKUP($AY76,$A$8:$N$107,5,FALSE),0)+IF($BF76<>\"\",VLOOKUP($BF76,$A$8:$N$107,5,FALSE),0)+IF($BM76<>\"\",VLOOKUP($BM76,$A$8:$N$107,5,FALSE),0)","v":0}]
[{"$nulls":4},0,null,{"$f":"IF($F77<>\"\",VLOOKUP(F77,Armies!$A$1:$C$300,3,FALSE),\"\")","v":""},null,null,{"$f":"IF(I77<>\"\",VLOOKUP(I77,$A$8:$C$107,2,FALSE),\"\")","v":""},{"$f":"IF(I77<>\"\",IF(I77=$A77,\"ERR\",IF(OR(I77=$P77,I77=$W77,I77=$AD77,I77=$AK77),\"DUP\",IF(ISNA(VLOOKUP(I77,$A$8:$A$107,1,FALSE)),\"ERR\",IF(COUNTIF($I$8:$I$107,I77)>1,\"ERR\",IF($D77=VLOOKUP(I77,$A$8:$D$107,4,FALSE),\"CLUB\",\"OK\"))))),\"\")","v":""},null,{"$f":"IF(L77<>\"\",IF(L77=\"Victoire\",IF(VLOOKUP(I77,$A$8:$L$107,12,FALSE)=\"Défaite\",\"OK\",\"ERR\"),IF(L77=\"Défaite\",IF(VLOOKUP(I77,$A$8:$L$107,12,FALSE)=\"Victoire\",\"OK\",\"ERR\"),IF(L77=\"Nul\",IF(VLOOKUP(I77,$A$8:$L$107,12,FALSE)=\"Nul\",\"OK\",\"ERR\")))),\"\")","v":""},null,{"$f":"IF(L77=\"Victoire\",100-ROUNDDOWN(20*N77/$H77,0),\nIF(L77=\"Défaite\",10+ROUNDDOWN(20*VLOOKUP(I77,$A$8:$N$107,14,FALSE)/VLOOKUP(I77,$A$8:$H$107,8,FALSE),0),\nIF(AND(L77=\"Nul\",$N77<>$H77),40+(2*ROUNDDOWN(10*VLOOKUP(I77,$A$8:$N$107,14,FALSE)/VLOOKUP(I77,$A$8:$H$107,8,FALSE),0)-ROUNDDOWN(10*N77/$H77,0)),IF(AND(L77=\"Nul\",$N77=$H77),58,0))))","v":0},null,{"$f":"IF(P77<>\"\",VLOOKUP(P77,$A$8:$C$107,2,FALSE),\"\")","v":""},{"$f":"IF(P77<>\"\",IF(P77=$A77,\"ERR\",IF(OR(P77=$I77,P77=$W77,P77=$AD77,P77=$AK77),\"DUP\",IF(ISNA(VLOOKUP(P77,$A$8:$A$107,1,FALSE)),\"ERR\",IF(COUNTIF($I$8:$I$107,P77)>1,\"ERR\",IF($D77=VLOOKUP(P77,$A$8:$D$107,4,FALSE),\"CLUB\",\"OK\"))))),\"\")","v":""},null,{"$f":"IF(S77<>\"\",IF(S77=\"Victoire\",IF(VLOOKUP(P77,$A$8:$AO$107,19,FALSE)=\"Défaite\",\"OK\",\"ERR\"),IF(S77=\"Défaite\",IF(VLOOKUP(P77,$A$8:$AO$107,19,FALSE)=\"Victoire\",\"OK\",\"ERR\"),IF(S77=\"Nul\",IF(VLOOKUP(P77,$A$8:$AO$107,19,FALSE)=\"Nul\",\"OK\",\"ERR\")))),\"\")","v":""},null,{"$f":"IF(S77=\"Victoire\",100-ROUNDDOWN(20*U77/$H77,0),\nIF(S77=\"Défaite\",10+ROUNDDOWN(20*VLOOKUP(P77,$A$8:$AO$107,21,FALSE)/VLOOKUP(P77,$A$8:$H$107,8,FALSE),0),\nIF(AND(S77=\"Nul\",$U77<>$H77),40+(2*ROUNDDOWN(10*VLOOKUP(P77,$A$8:$AO$107,21,FALSE)/VLOOKUP(P77,$A$8:$H$107,8,FALSE),0)-ROUNDDOWN(10*U77/$H77,0)),IF(AND(S77=\"Nul\",$U77=$H77),58,0))))","v":0},null,{"$f":"IF(W77<>\"\",VLOOKUP(W77,$A$8:$C$107,2,FALSE),\"\")","v":""},{"$f":"IF(W77<>\"\",IF(W77=$A77,\"ERR\",IF(OR(W77=$P77,W77=$I77,W77=$AD77,W77=$AK77),\"DUP\",IF(ISNA(VLOOKUP(W77,$A$8:$A$107,1,FALSE)),\"ERR\",IF(COUNTIF($I$8:$I$107,W77)>1,\"ERR\",IF($D77=VLOOKUP(W77,$A$8:$D$107,4,FALSE),\"CLUB\",\"OK\"))))),\"\")","v":""},null,{"$f":"IF(Z77<>\"\",IF(Z77=\"Victoire\",IF(VLOOKUP(W77,$A$8:$AO$107,26,FALSE)=\"Défaite\",\"OK\",\"ERR\"),IF(Z77=\"Défaite\",IF(VLOOKUP(W77,$A$8:$AO$107,26,FALSE)=\"Victoire\",\"OK\",\"ERR\"),IF(Z77=\"Nul\",IF(VLOOKUP(W77,$A$8:$AO$107,26,FALSE)=\"Nul\",\"OK\",\"ERR\")))),\"\")","v":""},null,{"$f":"IF(Z77=\"Victoire\",100-ROUNDDOWN(20*AB77/$H77,0),\nIF(Z77=\"Défaite\",10+ROUNDDOWN(20*VLOOKUP(W77,$A$8:$AO$107,28,FALSE)/VLOOKUP(W77,$A$8:$H$107,8,FALSE),0),\nIF(AND(Z77=\"Nul\",$AB77<>$H77),40+(2*ROUNDDOWN(10*VLOOKUP(W77,$A$8:$AO$107,28,FALSE)/VLOOKUP(W77,$A$8:$H$107,8,FALSE),0)-ROUNDDOWN(10*AB77/$H77,0)),IF(AND(Z77=\"Nul\",$AB77=$H77),58,0))))","v":0},null,{"$f":"IF(AD77<>\"\",VLOOKUP(AD77,$A$8:$C$107,2,FALSE),\"\")","v":""},{"$f":"IF(AD77<>\"\",IF(AD77=$A77,\"ERR\",IF(OR(AD77=$P77,AD77=$W77,AD77=$I77,AD77=$AK77),\"DUP\",IF(ISNA(VLOOKUP(AD77,$A$8:$A$107,1,FALSE)),\"ERR\",IF(COUNTIF($I$8:$I$107,AD77)>1,\"ERR\",IF($D77=VLOOKUP(AD77,$A$8:$D$107,4,FALSE),\"CLUB\",\"OK\"))))),\"\")","v":""},null,{"$f":"IF(AG77<>\"\",IF(AG77=\"Victoire\",IF(VLOOKUP(AD77,$A$8:$AO$107,33,FALSE)=\"Défaite\",\"OK\",\"ERR\"),IF(AG77=\"Défaite\",IF(VLOOKUP(AD77,$A$8:$AO$107,33,FALSE)=\"Victoire\",\"OK\",\"ERR\"),IF(AG77=\"Nul\",IF(VLOOKUP(AD77,$A$8:$AO$107,33,FALSE)=\"Nul\",\"OK\",\"ERR\")))),\"\")","v":""},null,{"$f":"IF(AG77=\"Victoire\",100-ROUNDDOWN(20*AI77/$H77,0),\nIF(AG77=\"Défaite\",10+ROUNDDOWN(20*VLOOKUP(AD77,$A$8:$AO$107,35,FALSE)/VLOOKUP(AD77,$A$8:$H$107,8,FALSE),0),\nIF(AND(AG77=\"Nul\",$AI77<>$H77),40+(2*ROUNDDOWN(10*VLOOKUP(AD77,$A$8:$AO$107,35,FALSE)/VLOOKUP(AD77,$A$8:$H$107,8,FALSE),0)-ROUNDDOWN(10*AI77/$H77,0)),IF(AND(AG77=\"Nul\",$AI77=$H77),58,0))))","v":0},null,{"$f":"IF(AK77<>\"\",VLOOKUP(AK77,$A$8:$C$107,2,FALSE),\"\")","v":""},{"$f":"IF(AK77<>\"\",IF(AK77=$A77,\"ERR\",IF(OR(AK77=$P77,AK77=$W77,AK77=$AD77,AK77=$I77),\"DUP\",IF(ISNA(VLOOKUP(AK77,$A$8:$A$107,1,FALSE)),\"ERR\",IF(COUNTIF($I$8:$I$107,AK77)>1,\"ERR\",IF($D77=VLOOKUP(AK77,$A$8:$D$107,4,FALSE),\"CLUB\",\"OK\"))))),\"\")","v":""},null,{"$f":"IF(AN77<>\"\",IF(AN77=\"Victoire\",IF(VLOOKUP(AK77,$A$8:$AO$107,40,FALSE)=\"Défaite\",\"OK\",\"ERR\"),IF(AN77=\"Défaite\",IF(VLOOKUP(AK77,$A$8:$AO$107,40,FALSE)=\"Victoire\",\"OK\",\"ERR\"),IF(AN77=\"Nul\",IF(VLOOKUP(AK77,$A$8:$AO$107,40,FALSE)=\"Nul\",\"OK\",\"ERR\")))),\"\")","v":""},null,{"$f":"IF(AN77=\"Victoire\",100-ROUNDDOWN(20*AP77/$H77,0),\nIF(AN77=\"Défaite\",10+ROUNDDOWN(20*VLOOKUP(AK77,$A$8:$CB$107,42,FALSE)/VLOOKUP(AK77,$A$8:$H$107,8,FALSE),0),\nIF(AND(AN77=\"Nul\",$AP77<>$H77),40+(2*ROUNDDOWN(10*VLOOKUP(AK77,$A$8:$CB$107,42,FALSE)/VLOOKUP(AK77,$A$8:$H$107,8,FALSE),0)-ROUNDDOWN(10*AP77/$H77,0)),IF(AND(AN77=\"Nul\",$AP77=$H77),58,0))))","v":0},null,{"$f":"IF(AR77<>\"\",VLOOKUP(AR77,$A$8:$C$107,2,FALSE),\"\")","v":""},{"$f":"IF(AR77<>\"\",IF(AR77=$A77,\"ERR\",IF(OR(AR77=$I77,AR77=$P77,AR77=$W77,AR77=$AD77,AR77=$AK77),\"DUP\",IF(ISNA(VLOOKUP(AR77,$A$8:$A$107,1,FALSE)),\"ERR\",IF(COUNTIF($I$8:$I$107,AR77)>1,\"ERR\",IF($D77=VLOOKUP(AR77,$A$8:$D$107,4,FALSE),\"CLUB\",\"OK\"))))),\"\")","v":""},null,{"$f":"IF(AU77<>\"\",IF(AU77=\"Victoire\",IF(VLOOKUP(AR77,$A$8:$BL$107,47,FALSE)=\"Défaite\",\"OK\",\"ERR\"),IF(AU77=\"Défaite\",IF(VLOOKUP(AR77,$A$8:$BL$107,47,FALSE)=\"Victoire\",\"OK\",\"ERR\"),IF(AU77=\"Nul\",IF(VLOOKUP(AR77,$A$8:$BL$107,47,FALSE)=\"Nul\",\"OK\",\"ERR\")))),\"\")","v":""},null,{"$f":"IF(AU77=\"Victoire\",100-ROUNDDOWN(20*AW77/$H77,0),\nIF(AU77=\"Défaite\",10+ROUNDDOWN(20*VLOOKUP(AR77,$A$8:$CB$107,49,FALSE)/VLOOKUP(AR77,$A$8:$H$107,8,FALSE),0),\nIF(AND(AU77=\"Nul\",$AW77<>$H77),40+(2*ROUNDDOWN(10*VLOOKUP(AR77,$A$8:$CB$107,49,FALSE)/VLOOKUP(AR77,$A$8:$H$107,8,FALSE),0)-ROUNDDOWN(10*AW77/$H77,0)),IF(AND(AU77=\"Nul\",$AW77=$H77),58,0))))","v":0},null,{"$f":"IF(AY77<>\"\",VLOOKUP(AY77,$A$8:$C$107,2,FALSE),\"\")","v":""},{"$f":"IF(AY77<>\"\",IF(AY77=$A77,\"ERR\",IF(OR(AY77=$I77,AY77=$P77,AY77=$W77,AY77=$AD77,AY77=$AK77,AY77=$AR77),\"DUP\",IF(ISNA(VLOOKUP(AY77,$A$8:$A$107,1,FALSE)),\"ERR\",IF(COUNTIF($I$8:$I$107,AY77)>1,\"ERR\",IF($D77=VLOOKUP(AY77,$A$8:$D$107,4,FALSE),\"CLUB\",\"OK\"))))),\"\")","v":""},null,{"$f":"IF(BB77<>\"\",IF(BB77=\"Victoire\",IF(VLOOKUP(AY77,$A$8:$BL$107,54,FALSE)=\"Défaite\",\"OK\",\"ERR\"),IF(BB77=\"Défaite\",IF(VLOOKUP(AY77,$A$8:$BL$107,54,FALSE)=\"Victoire\",\"OK\",\"ERR\"),IF(BB77=\"Nul\",IF(VLOOKUP(AY77,$A$8:$BL$107,54,FALSE)=\"Nul\",\"OK\",\"ERR\")))),\"\")","v":""},null,{"$f":"IF(BB77=\"Victoire\",100-ROUNDDOWN(20*BD77/$H77,0),\nIF(BB77=\"Défaite\",10+ROUNDDOWN(20*VLOOKUP(AY77,$A$8:$CB$107,56,FALSE)/VLOOKUP(AY77,$A$8:$H$107,8,FALSE),0),\nIF(AND(BB77=\"Nul\",$BD77<>$H77),40+(2*ROUNDDOWN(10*VLOOKUP(AY77,$A$8:$CB$107,56,FALSE)/VLOOKUP(AY77,$A$8:$H$107,8,FALSE),0)-ROUNDDOWN(10*BD77/$H77,0)),IF(AND(BB77=\"Nul\",$BD77=$H77),58,0))))","v":0},null,{"$f":"IF(BF77<>\"\",VLOOKUP(BF77,$A$8:$C$107,2,FALSE),\"\")","v":""},{"$f":"IF(BF77<>\"\",IF(BF77=$A77,\"ERR\",IF(OR(BF77=$I77,BF77=$P77,BF77=$W77,BF77=$AD77,BF77=$AK77,BF77=$AR77,BF77=$AY77),\"DUP\",IF(ISNA(VLOOKUP(BF77,$A$8:$A$107,1,FALSE)),\"ERR\",IF(COUNTIF($I$8:$I$107,BF77)>1,\"ERR\",IF($D77=VLOOKUP(BF77,$A$8:$D$107,4,FALSE),\"CLUB\",\"OK\"))))),\"\")","v":""},null,{"$f":"IF(BI77<>\"\",IF(BI77=\"Victoire\",IF(VLOOKUP(BF77,$A$8:$BL$107,61,FALSE)=\"Défaite\",\"OK\",\"ERR\"),IF(BI77=\"Défaite\",IF(VLOOKUP(BF77,$A$8:$BL$107,61,FALSE)=\"Victoire\",\"OK\",\"ERR\"),IF(BI77=\"Nul\",IF(VLOOKUP(BF77,$A$8:$BL$107,61,FALSE)=\"Nul\",\"OK\",\"ERR\")))),\"\")","v":""},null,{"$f":"IF(BI77=\"Victoire\",100-ROUNDDOWN(20*BK77/$H77,0),\nIF(BI77=\"Défaite\",10+ROUNDDOWN(20*VLOOKUP(BF77,$A$8:$CB$107,63,FALSE)/VLOOKUP(BF77,$A$8:$H$107,8,FALSE),0),\nIF(AND(BI77=\"Nul\",$BK77<>$H77),40+(2*ROUNDDOWN(10*VLOOKUP(BF77,$A$8:$CB$107,63,FALSE)/VLOOKUP(BF77,$A$8:$H$107,8,FALSE),0)-ROUNDDOWN(10*BK77/$H77,0)),IF(AND(BI77=\"Nul\",$BK77=$H77),58,0))))","v":0},null,{"$f":"IF(BM77<>\"\",VLOOKUP(BM77,$A$8:$C$107,2,FALSE),\"\")","v":""},{"$f":"IF(BM77<>\"\",IF(BM77=$A77,\"ERR\",IF(OR(BM77=$I77,BM77=$P77,BM77=$W77,BM77=$AD77,BM77=$AK77,BM77=$AR77,BM77=$AY77,BM77=$BF77),\"DUP\",IF(ISNA(VLOOKUP(BM77,$A$8:$A$107,1,FALSE)),\"ERR\",IF(COUNTIF($I$8:$I$107,BM77)>1,\"ERR\",IF($D77=VLOOKUP(BM77,$A$8:$D$107,4,FALSE),\"CLUB\",\"OK\"))))),\"\")","v":""},null,{"$f":"IF(BP77<>\"\",IF(BP77=\"Victoire\",IF(VLOOKUP(BM77,$A$8:$BS$107,68,FALSE)=\"Défaite\",\"OK\",\"ERR\"),IF(BP77=\"Défaite\",IF(VLOOKUP(BM77,$A$8:$BS$107,68,FALSE)=\"Victoire\",\"OK\",\"ERR\"),IF(BP77=\"Nul\",IF(VLOOKUP(BM77,$A$8:$BS$107,68,FALSE)=\"Nul\",\"OK\",\"ERR\")))),\"\")","v":""},null,{"$f":"IF(BP77=\"Victoire\",100-ROUNDDOWN(20*BR77/$H77,0),\nIF(BP77=\"Défaite\",10+ROUNDDOWN(20*VLOOKUP(BM77,$A$8:$CB$107,70,FALSE)/VLOOKUP(BM77,$A$8:$H$107,8,FALSE),0),\nIF(AND(BP77=\"Nul\",$BR77<>$H77),40+(2*ROUNDDOWN(10*VLOOKUP(BM77,$A$8:$CB$107,70,FALSE)/VLOOKUP(BM77,$A$8:$H$107,8,FALSE),0)-ROUNDDOWN(10*BR77/$H77,0)),IF(AND(BP77=\"Nul\",$BR77=$H77),58,0))))","v":0},null,{"$f":"IF($I77<>\"\",VLOOKUP($I77,$A$8:$N$107,5,FALSE),0)+IF($P77<>\"\",VLOOKUP($P77,$A$8:$N$107,5,FALSE),0)+IF($W77<>\"\",VLOOKUP($W77,$A$8:$N$107,5,FALSE),0)+IF($AD77<>\"\",VLOOKUP($AD77,$A$8:$N$107,5,FALSE),0)+IF($AK77<>\"\",VLOOKUP($AK77,$A$8:$N$107,5,FALSE),0)+IF($AR77<>\"\",VLOOKUP($AR77,$A$8:$N$107,5,FALSE),0)+IF($AY77<>\"\",VLOOKUP($AY77,$A$8:$N$107,5,FALSE),0)+IF($BF77<>\"\",VLOOKUP($BF77,$A$8:$N$107,5,FALSE),0)+IF($BM77<>\"\",VLOOKUP($BM77,$A$8:$N$107,5,FALSE),0)","v":0}]
[{"$nulls":4},0,null,{"$f":"IF($F78<>\"\",VLOOKUP(F78,Armies!$A$1:$C$300,3,FALSE),\"\")","v":""},null,null,{"$f":"IF(I78<>\"\",VLOOKUP(I78,$A$8:$C$107,2,FALSE),\"\")","v":""},{"$f":"IF(I78<>\"\",IF(I78=$A78,\"ERR\",IF(OR(I78=$P78,I78=$W78,I78=$AD78,I78=$AK78),\"DUP\",IF(ISNA(VLOOKUP(I78,$A$8:$A$107,1,FALSE)),\"ERR\",IF(COUNTIF($I$8:$I$107,I78)>1,\"ERR\",IF($D78=VLOOKUP(I78,$A$8:$D$107,4,FALSE),\"CLUB\",\"OK\"))))),\"\")","v":""},null,{"$f":"IF(L78<>\"\",IF(L78=\"Victoire\",IF(VLOOKUP(I78,$A$8:$L$107,12,FALSE)=\"Défaite\",\"OK\",\"ERR\"),IF(L78=\"Défaite\",IF(VLOOKUP(I78,$A$8:$L$107,12,FALSE)=\"Victoire\",\"OK\",\"ERR\"),IF(L78=\"Nul\",IF(VLOOKUP(I78,$A$8:$L$107,12,FALSE)=\"Nul\",\"OK\",\"ERR\")))),\"\")","v":""},null,{"$f":"IF(L78=\"Victoire\",100-ROUNDDOWN(20*N78/$H78,0),\nIF(L78=\"Défaite\",10+ROUNDDOWN(20*VLOOKUP(I78,$A$8:$N$107,14,FALSE)/VLOOKUP(I78,$A$8:$H$107,8,FALSE),0),\nIF(AND(L78=\"Nul\",$N78<>$H78),40+(2*ROUNDDOWN(10*VLOOKUP(I78,$A$8:$N$107,14,FALSE)/VLOOKUP(I78,$A$8:$H$107,8,FALSE),0)-ROUNDDOWN(10*N78/$H78,0)),IF(AND(L78=\"Nul\",$N78=$H78),58,0))))","v":0},null,{"$f":"IF(P78<>\"\",VLOOKUP(P78,$A$8:$C$107,2,FALSE),\"\")","v":""},{"$f":"IF(P78<>\"\",IF(P78=$A78,\"ERR\",IF(OR(P78=$I78,P78=$W78,P78=$AD78,P78=$AK78),\"DUP\",IF(ISNA(VLOOKUP(P78,$A$8:$A$107,1,FALSE)),\"ERR\",IF(COUNTIF($I$8:$I$107,P78)>1,\"ERR\",IF($D78=VLOOKUP(P78,$A$8:$D$107,4,FALSE),\"CLUB\",\"OK\"))))),\"\")","v":""},null,{"$f":"IF(S78<>\"\",IF(S78=\"Victoire\",IF(VLOOKUP(P78,$A$8:$AO$107,19,FALSE)=\"Défaite\",\"OK\",\"ERR\"),IF(S78=\"Défaite\",IF(VLOOKUP(P78,$A$8:$AO$107,19,FALSE)=\"Victoire\",\"OK\",\"ERR\"),IF(S78=\"Nul\",IF(VLOOKUP(P78,$A$8:$AO$107,19,FALSE)=\"Nul\",\"OK\",\"ERR\")))),\"\")","v":""},null,{"$f":"IF(S78=\"Victoire\",100-ROUNDDOWN(20*U78/$H78,0),\nIF(S78=\"Défaite\",10+ROUNDDOWN(20*VLOOKUP(P78,$A$8:$AO$107,21,FALSE)/VLOOKUP(P78,$A$8:$H$107,8,FALSE),0),\nIF(AND(S78=\"Nul\",$U78<>$H78),40+(2*ROUNDDOWN(10*VLOOKUP(P78,$A$8:$AO$107,21,FALSE)/VLOOKUP(P78,$A$8:$H$107,8,FALSE),0)-ROUNDDOWN(10*U78/$H78,0)),IF(AND(S78=\"Nul\",$U78=$H78),58,0))))","v":0},null,{"$f":"IF(W78<>\"\",VLOOKUP(W78,$A$8:$C$107,2,FALSE),\"\")","v":""},{"$f":"IF(W78<>\"\",IF(W78=$A78,\"ERR\",IF(OR(W78=$P78,W78=$I78,W78=$AD78,W78=$AK78),\"DUP\",IF(ISNA(VLOOKUP(W78,$A$8:$A$107,1,FALSE)),\"ERR\",IF(COUNTIF($I$8:$I$107,W78)>1,\"ERR\",IF($D78=VLOOKUP(W78,$A$8:$D$107,4,FALSE),\"CLUB\",\"OK\"))))),\"\")","v":""},null,{"$f":"IF(Z78<>\"\",IF(Z78=\"Victoire\",IF(VLOOKUP(W78,$A$8:$AO$107,26,FALSE)=\"Défaite\",\"OK\",\"ERR\"),IF(Z78=\"Défaite\",IF(VLOOKUP(W78,$A$8:$AO$107,26,FALSE)=\"Victoire\",\"OK\",\"ERR\"),IF(Z78=\"Nul\",IF(VLOOKUP(W78,$A$8:$AO$107,26,FALSE)=\"Nul\",\"OK\",\"ERR\")))),\"\")","v":""},null,{"$f":"IF(Z78=\"Victoire\",100-ROUNDDOWN(20*AB78/$H78,0),\nIF(Z78=\"Défaite\",10+ROUNDDOWN(20*VLOOKUP(W78,$A$8:$AO$107,28,FALSE)/VLOOKUP(W78,$A$8:$H$107,8,FALSE),0),\nIF(AND(Z78=\"Nul\",$AB78<>$H78),40+(2*ROUNDDOWN(10*VLOOKUP(W78,$A$8:$AO$107,28,FALSE)/VLOOKUP(W78,$A$8:$H$107,8,FALSE),0)-ROUNDDOWN(10*AB78/$H78,0)),IF(AND(Z78=\"Nul\",$AB78=$H78),58,0))))","v":0},null,{"$f":"IF(AD78<>\"\",VLOOKUP(AD78,$A$8:$C$107,2,FALSE),\"\")","v":""},{"$f":"IF(AD78<>\"\",IF(AD78=$A78,\"ERR\",IF(OR(AD78=$P78,AD78=$W78,AD78=$I78,AD78=$AK78),\"DUP\",IF(ISNA(VLOOKUP(AD78,$A$8:$A$107,1,FALSE)),\"ERR\",IF(COUNTIF($I$8:$I$107,AD78)>1,\"ERR\",IF($D78=VLOOKUP(AD78,$A$8:$D$107,4,FALSE),\"CLUB\",\"OK\"))))),\"\")","v":""},null,{"$f":"IF(AG78<>\"\",IF(AG78=\"Victoire\",IF(VLOOKUP(AD78,$A$8:$AO$107,33,FALSE)=\"Défaite\",\"OK\",\"ERR\"),IF(AG78=\"Défaite\",IF(VLOOKUP(AD78,$A$8:$AO$107,33,FALSE)=\"Victoire\",\"OK\",\"ERR\"),IF(AG78=\"Nul\",IF(VLOOKUP(AD78,$A$8:$AO$107,33,FALSE)=\"Nul\",\"OK\",\"ERR\")))),\"\")","v":""},null,{"$f":"IF(AG78=\"Victoire\",100-ROUNDDOWN(20*AI78/$H78,0),\nIF(AG78=\"Défaite\",10+ROUNDDOWN(20*VLOOKUP(AD78,$A$8:$AO$107,35,FALSE)/VLOOKUP(AD78,$A$8:$H$107,8,FALSE),0),\nIF(AND(AG78=\"Nul\",$AI78<>$H78),40+(2*ROUNDDOWN(10*VLOOKUP(AD78,$A$8:$AO$107,35,FALSE)/VLOOKUP(AD78,$A$8:$H$107,8,FALSE),0)-ROUNDDOWN(10*AI78/$H78,0)),IF(AND(AG78=\"Nul\",$AI78=$H78),58,0))))","v":0},null,{"$f":"IF(AK78<>\"\",VLOOKUP(AK78,$A$8:$C$107,2,FALSE),\"\")","v":""},{"$f":"IF(AK78<>\"\",IF(AK78=$A78,\"ERR\",IF(OR(AK78=$P78,AK78=$W78,AK78=$AD78,AK78=$I78),\"DUP\",IF(ISNA(VLOOKUP(AK78,$A$8:$A$107,1,FALSE)),\"ERR\",IF(COUNTIF($I$8:$I$107,AK78)>1,\"ERR\",IF($D78=VLOOKUP(AK78,$A$8:$D$107,4,FALSE),\"CLUB\",\"OK\"))))),\"\")","v":""},null,{"$f":"IF(AN78<>\"\",IF(AN78=\"Victoire\",IF(VLOOKUP(AK78,$A$8:$AO$107,40,FALSE)=\"Défaite\",\"OK\",\"ERR\"),IF(AN78=\"Défaite\",IF(VLOOKUP(AK78,$A$8:$AO$107,40,FALSE)=\"Victoire\",\"OK\",\"ERR\"),IF(AN78=\"Nul\",IF(VLOOKUP(AK78,$A$8:$AO$107,40,FALSE)=\"Nul\",\"OK\",\"ERR\")))),\"\")","v":""},null,{"$f":"IF(AN78=\"Victoire\",100-ROUNDDOWN(20*AP78/$H78,0),\nIF(AN78=\"Défaite\",10+ROUNDDOWN(20*VLOOKUP(AK78,$A$8:$CB$107,42,FALSE)/VLOOKUP(AK78,$A$8:$H$107,8,FALSE),0),\nIF(AND(AN78=\"Nul\",$AP78<>$H78),40+(2*ROUNDDOWN(10*VLOOKUP(AK78,$A$8:$CB$107,42,FALSE)/VLOOKUP(AK78,$A$8:$H$107,8,FALSE),0)-ROUNDDOWN(10*AP78/$H78,0)),IF(AND(AN78=\"Nul\",$AP78=$H78),58,0))))","v":0},null,{"$f":"IF(AR78<>\"\",VLOOKUP(AR78,$A$8:$C$107,2,FALSE),\"\")","v":""},{"$f":"IF(AR78<>\"\",IF(AR78=$A78,\"ERR\",IF(OR(AR78=$I78,AR78=$P78,AR78=$W78,AR78=$AD78,AR78=$AK78),\"DUP\",IF(ISNA(VLOOKUP(AR78,$A$8:$A$107,1,FALSE)),\"ERR\",IF(COUNTIF($I$8:$I$107,AR78)>1,\"ERR\",IF($D78=VLOOKUP(AR78,$A$8:$D$107,4,FALSE),\"CLUB\",\"OK\"))))),\"\")","v":""},null,{"$f":"IF(AU78<>\"\",IF(AU78=\"Victoire\",IF(VLOOKUP(AR78,$A$8:$BL$107,47,FALSE)=\"Défaite\",\"OK\",\"ERR\"),IF(AU78=\"Défaite\",IF(VLOOKUP(AR78,$A$8:$BL$107,47,FALSE)=\"Victoire\",\"OK\",\"ERR\"),IF(AU78=\"Nul\",IF(VLOOKUP(AR78,$A$8:$BL$107,47,FALSE)=\"Nul\",\"OK\",\"ERR\")))),\"\")","v":""},null,{"$f":"IF(AU78=\"Victoire\",100-ROUNDDOWN(20*AW78/$H78,0),\nIF(AU78=\"Défaite\",10+ROUNDDOWN(20*VLOOKUP(AR78,$A$8:$CB$107,49,FALSE)/VLOOKUP(AR78,$A$8:$H$107,8,FALSE),0),\nIF(AND(AU78=\"Nul\",$AW78<>$H78),40+(2*ROUNDDOWN(10*VLOOKUP(AR78,$A$8:$CB$107,49,FALSE)/VLOOKUP(AR78,$A$8:$H$107,8,FALSE),0)-ROUNDDOWN(10*AW78/$H78,0)),IF(AND(AU78=\"Nul\",$AW78=$H78),58,0))))","v":0},null,{"$f":"IF(AY78<>\"\",VLOOKUP(AY78,$A$8:$C$107,2,FALSE),\"\")","v":""},{"$f":"IF(AY78<>\"\",IF(AY78=$A78,\"ERR\",IF(OR(AY78=$I78,AY78=$P78,AY78=$W78,AY78=$AD78,AY78=$AK78,AY78=$AR78),\"DUP\",IF(ISNA(VLOOKUP(AY78,$A$8:$A$107,1,FALSE)),\"ERR\",IF(COUNTIF($I$8:$I$107,AY78)>1,\"ERR\",IF($D78=VLOOKUP(AY78,$A$8:$D$107,4,FALSE),\"CLUB\",\"OK\"))))),\"\")","v":""},null,{"$f":"IF(BB78<>\"\",IF(BB78=\"Victoire\",IF(VLOOKUP(AY78,$A$8:$BL$107,54,FALSE)=\"Défaite\",\"OK\",\"ERR\"),IF(BB78=\"Défaite\",IF(VLOOKUP(AY78,$A$8:$BL$107,54,FALSE)=\"Victoire\",\"OK\",\"ERR\"),IF(BB78=\"Nul\",IF(VLOOKUP(AY78,$A$8:$BL$107,54,FALSE)=\"Nul\",\"OK\",\"ERR\")))),\"\")","v":""},null,{"$f":"IF(BB78=\"Victoire\",100-ROUNDDOWN(20*BD78/$H78,0),\nIF(BB78=\"Défaite\",10+ROUNDDOWN(20*VLOOKUP(AY78,$A$8:$CB$107,56,FALSE)/VLOOKUP(AY78,$A$8:$H$107,8,FALSE),0),\nIF(AND(BB78=\"Nul\",$BD78<>$H78),40+(2*ROUNDDOWN(10*VLOOKUP(AY78,$A$8:$CB$107,56,FALSE)/VLOOKUP(AY78,$A$8:$H$107,8,FALSE),0)-ROUNDDOWN(10*BD78/$H78,0)),IF(AND(BB78=\"Nul\",$BD78=$H78),58,0))))","v":0},null,{"$f":"IF(BF78<>\"\",VLOOKUP(BF78,$A$8:$C$107,2,FALSE),\"\")","v":""},{"$f":"IF(BF78<>\"\",IF(BF78=$A78,\"ERR\",IF(OR(BF78=$I78,BF78=$P78,BF78=$W78,BF78=$AD78,BF78=$AK78,BF78=$AR78,BF78=$AY78),\"DUP\",IF(ISNA(VLOOKUP(BF78,$A$8:$A$107,1,FALSE)),\"ERR\",IF(COUNTIF($I$8:$I$107,BF78)>1,\"ERR\",IF($D78=VLOOKUP(BF78,$A$8:$D$107,4,FALSE),\"CLUB\",\"OK\"))))),\"\")","v":""},null,{"$f":"IF(BI78<>\"\",IF(BI78=\"Victoire\",IF(VLOOKUP(BF78,$A$8:$BL$107,61,FALSE)=\"Défaite\",\"OK\",\"ERR\"),IF(BI78=\"Défaite\",IF(VLOOKUP(BF78,$A$8:$BL$107,61,FALSE)=\"Victoire\",\"OK\",\"ERR\"),IF(BI78=\"Nul\",IF(VLOOKUP(BF78,$A$8:$BL$107,61,FALSE)=\"Nul\",\"OK\",\"ERR\")))),\"\")","v":""},null,{"$f":"IF(BI78=\"Victoire\",100-ROUNDDOWN(20*BK78/$H78,0),\nIF(BI78=\"Défaite\",10+ROUNDDOWN(20*VLOOKUP(BF78,$A$8:$CB$107,63,FALSE)/VLOOKUP(BF78,$A$8:$H$107,8,FALSE),0),\nIF(AND(BI78=\"Nul\",$BK78<>$H78),40+(2*ROUNDDOWN(10*VLOOKUP(BF78,$A$8:$CB$107,63,FALSE)/VLOOKUP(BF78,$A$8:$H$107,8,FALSE),0)-ROUNDDOWN(10*BK78/$H78,0)),IF(AND(BI78=\"Nul\",$BK78=$H78),58,0))))","v":0},null,{"$f":"IF(BM78<>\"\",VLOOKUP(BM78,$A$8:$C$107,2,FALSE),\"\")","v":""},{"$f":"IF(BM78<>\"\",IF(BM78=$A78,\"ERR\",IF(OR(BM78=$I78,BM78=$P78,BM78=$W78,BM78=$AD78,BM78=$AK78,BM78=$AR78,BM78=$AY78,BM78=$BF78),\"DUP\",IF(ISNA(VLOOKUP(BM78,$A$8:$A$107,1,FALSE)),\"ERR\",IF(COUNTIF($I$8:$I$107,BM78)>1,\"ERR\",IF($D78=VLOOKUP(BM78,$A$8:$D$107,4,FALSE),\"CLUB\",\"OK\"))))),\"\")","v":""},null,{"$f":"IF(BP78<>\"\",IF(BP78=\"Victoire\",IF(VLOOKUP(BM78,$A$8:$BS$107,68,FALSE)=\"Défaite\",\"OK\",\"ERR\"),IF(BP78=\"Défaite\",IF(VLOOKUP(BM78,$A$8:$BS$107,68,FALSE)=\"Victoire\",\"OK\",\"ERR\"),IF(BP78=\"Nul\",IF(VLOOKUP(BM78,$A$8:$BS$107,68,FALSE)=\"Nul\",\"OK\",\"ERR\")))),\"\")","v":""},null,{"$f":"IF(BP78=\"Victoire\",100-ROUNDDOWN(20*BR78/$H78,0),\nIF(BP78=\"Défaite\",10+ROUNDDOWN(20*VLOOKUP(BM78,$A$8:$CB$107,70,FALSE)/VLOOKUP(BM78,$A$8:$H$107,8,FALSE),0),\nIF(AND(BP78=\"Nul\",$BR78<>$H78),40+(2*ROUNDDOWN(10*VLOOKUP(BM78,$A$8:$CB$107,70,FALSE)/VLOOKUP(BM78,$A$8:$H$107,8,FALSE),0)-ROUNDDOWN(10*BR78/$H78,0)),IF(AND(BP78=\"Nul\",$BR78=$H78),58,0))))","v":0},null,{"$f":"IF($I78<>\"\",VLOOKUP($I78,$A$8:$N$107,5,FALSE),0)+IF($P78<>\"\",VLOOKUP($P78,$A$8:$N$107,5,FALSE),0)+IF($W78<>\"\",VLOOKUP($W78,$A$8:$N$107,5,FALSE),0)+IF($AD78<>\"\",VLOOKUP($AD78,$A$8:$N$107,5,FALSE),0)+IF($AK78<>\"\",VLOOKUP($AK78,$A$8:$N$107,5,FALSE),0)+IF($AR78<>\"\",VLOOKUP($AR78,$A$8:$N$107,5,FALSE),0)+IF($AY78<>\"\",VLOOKUP($AY78,$A$8:$N$107,5,FALSE),0)+IF($BF78<>\"\",VLOOKUP($BF78,$A$8:$N$107,5,FALSE),0)+IF($BM78<>\"\",VLOOKUP($BM78,$A$8:$N$107,5,FALSE),0)","v":0}]
[{"$nulls":4},0,null,{"$f":"IF($F79<>\"\",VLOOKUP(F79,Armies!$A$1:$C$300,3,FALSE),\"\")","v":""},null,null,{"$f":"IF(I79<>\"\",VLOOKUP(I79,$A$8:$C$107,2,FALSE),\"\")","v":""},{"$f":"IF(I79<>\"\",IF(I79=$A79,\"ERR\",IF(OR(I79=$P79,I79=$W79,I79=$AD79,I79=$AK79),\"DUP\",IF(ISNA(VLOOKUP(I79,$A$8:$A$107,1,FALSE)),\"ERR\",IF(COUNTIF($I$8:$I$107,I79)>1,\"ERR\",IF($D79=VLOOKUP(I79,$A$8:$D$107,4,FALSE),\"CLUB\",\"OK\"))))),\"\")","v":""},null,{"$f":"IF(L79<>\"\",IF(L79=\"Victoire\",IF(VLOOKUP(I79,$A$8:$L$107,12,FALSE)=\"Défaite\",\"OK\",\"ERR\"),IF(L79=\"Défaite\",IF(VLOOKUP(I79,$A$8:$L$107,12,FALSE)=\"Victoire\",\"OK\",\"ERR\"),IF(L79=\"Nul\",IF(VLOOKUP(I79,$A$8:$L$107,12,FALSE)=\"Nul\",\"OK\",\"ERR\")))),\"\")","v":""},null,{"$f":"IF(L79=\"Victoire\",100-ROUNDDOWN(20*N79/$H79,0),\nIF(L79=\"Défaite\",10+ROUNDDOWN(20*VLOOKUP(I79,$A$8:$N$107,14,FALSE)/VLOOKUP(I79,$A$8:$H$107,8,FALSE),0),\nIF(AND(L79=\"Nul\",$N79<>$H79),40+(2*ROUNDDOWN(10*VLOOKUP(I79,$A$8:$N$107,14,FALSE)/VLOOKUP(I79,$A$8:$H$107,8,FALSE),0)-ROUNDDOWN(10*N79/$H79,0)),IF(AND(L79=\"Nul\",$N79=$H79),58,0))))","v":0},null,{"$f":"IF(P79<>\"\",VLOOKUP(P79,$A$8:$C$107,2,FALSE),\"\")","v":""},{"$f":"IF(P79<>\"\",IF(P79=$A79,\"ERR\",IF(OR(P79=$I79,P79=$W79,P79=$AD79,P79=$AK79),\"DUP\",IF(ISNA(VLOOKUP(P79,$A$8:$A$107,1,FALSE)),\"ERR\",IF(COUNTIF($I$8:$I$107,P79)>1,\"ERR\",IF($D79=VLOOKUP(P79,$A$8:$D$107,4,FALSE),\"CLUB\",\"OK\"))))),\"\")","v":""},null,{"$f":"IF(S79<>\"\",IF(S79=\"Victoire\",IF(VLOOKUP(P79,$A$8:$AO$107,19,FALSE)=\"Défaite\",\"OK\",\"ERR\"),IF(S79=\"Défaite\",IF(VLOOKUP(P79,$A$8:$AO$107,19,FALSE)=\"Victoire\",\"OK\",\"ERR\"),IF(S79=\"Nul\",IF(VLOOKUP(P79,$A$8:$AO$107,19,FALSE)=\"Nul\",\"OK\",\"ERR\")))),\"\")","v":""},null,{"$f":"IF(S79=\"Victoire\",100-ROUNDDOWN(20*U79/$H79,0),\nIF(S79=\"Défaite\",10+ROUNDDOWN(20*VLOOKUP(P79,$A$8:$AO$107,21,FALSE)/VLOOKUP(P79,$A$8:$H$107,8,FALSE),0),\nIF(AND(S79=\"Nul\",$U79<>$H79),40+(2*ROUNDDOWN(10*VLOOKUP(P79,$A$8:$AO$107,21,FALSE)/VLOOKUP(P79,$A$8:$H$107,8,FALSE),0)-ROUNDDOWN(10*U79/$H79,0)),IF(AND(S79=\"Nul\",$U79=$H79),58,0))))","v":0},null,{"$f":"IF(W79<>\"\",VLOOKUP(W79,$A$8:$C$107,2,FALSE),\"\")","v":""},{"$f":"IF(W79<>\"\",IF(W79=$A79,\"ERR\",IF(OR(W79=$P79,W79=$I79,W79=$AD79,W79=$AK79),\"DUP\",IF(ISNA(VLOOKUP(W79,$A$8:$A$107,1,FALSE)),\"ERR\",IF(COUNTIF($I$8:$I$107,W79)>1,\"ERR\",IF($D79=VLOOKUP(W79,$A$8:$D$107,4,FALSE),\"CLUB\",\"OK\"))))),\"\")","v":""},null,{"$f":"IF(Z79<>\"\",IF(Z79=\"Victoire\",IF(VLOOKUP(W79,$A$8:$AO$107,26,FALSE)=\"Défaite\",\"OK\",\"ERR\"),IF(Z79=\"Défaite\",IF(VLOOKUP(W79,$A$8:$AO$107,26,FALSE)=\"Victoire\",\"OK\",\"ERR\"),IF(Z79=\"Nul\",IF(VLOOKUP(W79,$A$8:$AO$107,26,FALSE)=\"Nul\",\"OK\",\"ERR\")))),\"\")","v":""},null,{"$f":"IF(Z79=\"Victoire\",100-ROUNDDOWN(20*AB79/$H79,0),\nIF(Z79=\"Défaite\",10+ROUNDDOWN(20*VLOOKUP(W79,$A$8:$AO$107,28,FALSE)/VLOOKUP(W79,$A$8:$H$107,8,FALSE),0),\nIF(AND(Z79=\"Nul\",$AB79<>$H79),40+(2*ROUNDDOWN(10*VLOOKUP(W79,$A$8:$AO$107,28,FALSE)/VLOOKUP(W79,$A$8:$H$107,8,FALSE),0)-ROUNDDOWN(10*AB79/$H79,0)),IF(AND(Z79=\"Nul\",$AB79=$H79),58,0))))","v":0},null,{"$f":"IF(AD79<>\"\",VLOOKUP(AD79,$A$8:$C$107,2,FALSE),\"\")","v":""},{"$f":"IF(AD79<>\"\",IF(AD79=$A79,\"ERR\",IF(OR(AD79=$P79,AD79=$W79,AD79=$I79,AD79=$AK79),\"DUP\",IF(ISNA(VLOOKUP(AD79,$A$8:$A$107,1,FALSE)),\"ERR\",IF(COUNTIF($I$8:$I$107,AD79)>1,\"ERR\",IF($D79=VLOOKUP(AD79,$A$8:$D$107,4,FALSE),\"CLUB\",\"OK\"))))),\"\")","v":""},null,{"$f":"IF(AG79<>\"\",IF(AG79=\"Victoire\",IF(VLOOKUP(AD79,$A$8:$AO$107,33,FALSE)=\"Défaite\",\"OK\",\"ERR\"),IF(AG79=\"Défaite\",IF(VLOOKUP(AD79,$A$8:$AO$107,33,FALSE)=\"Victoire\",\"OK\",\"ERR\"),IF(AG79=\"Nul\",IF(VLOOKUP(AD79,$A$8:$AO$107,33,FALSE)=\"Nul\",\"OK\",\"ERR\")))),\"\")","v":""},null,{"$f":"IF(AG79=\"Victoire\",100-ROUNDDOWN(20*AI79/$H79,0),\nIF(AG79=\"Défaite\",10+ROUNDDOWN(20*VLOOKUP(AD79,$A$8:$AO$107,35,FALSE)/VLOOKUP(AD79,$A$8:$H$107,8,FALSE),0),\nIF(AND(AG79=\"Nul\",$AI79<>$H79),40+(2*ROUNDDOWN(10*VLOOKUP(AD79,$A$8:$AO$107,35,FALSE)/VLOOKUP(AD79,$A$8:$H$107,8,FALSE),0)-ROUNDDOWN(10*AI79/$H79,0)),IF(AND(AG79=\"Nul\",$AI79=$H79),58,0))))","v":0},null,{"$f":"IF(AK79<>\"\",VLOOKUP(AK79,$A$8:$C$107,2,FALSE),\"\")","v":""},{"$f":"IF(AK79<>\"\",IF(AK79=$A79,\"ERR\",IF(OR(AK79=$P79,AK79=$W79,AK79=$AD79,AK79=$I79),\"DUP\",IF(ISNA(VLOOKUP(AK79,$A$8:$A$107,1,FALSE)),\"ERR\",IF(COUNTIF($I$8:$I$107,AK79)>1,\"ERR\",IF($D79=VLOOKUP(AK79,$A$8:$D$107,4,FALSE),\"CLUB\",\"OK\"))))),\"\")","v":""},null,{"$f":"IF(AN79<>\"\",IF(AN79=\"Victoire\",IF(VLOOKUP(AK79,$A$8:$AO$107,40,FALSE)=\"Défaite\",\"OK\",\"ERR\"),IF(AN79=\"Défaite\",IF(VLOOKUP(AK79,$A$8:$AO$107,40,FALSE)=\"Victoire\",\"OK\",\"ERR\"),IF(AN79=\"Nul\",IF(VLOOKUP(AK79,$A$8:$AO$107,40,FALSE)=\"Nul\",\"OK\",\"ERR\")))),\"\")","v":""},null,{"$f":"IF(AN79=\"Victoire\",100-ROUNDDOWN(20*AP79/$H79,0),\nIF(AN79=\"Défaite\",10+ROUNDDOWN(20*VLOOKUP(AK79,$A$8:$CB$107,42,FALSE)/VLOOKUP(AK79,$A$8:$H$107,8,FALSE),0),\nIF(AND(AN79=\"Nul\",$AP79<>$H79),40+(2*ROUNDDOWN(10*VLOOKUP(AK79,$A$8:$CB$107,42,FALSE)/VLOOKUP(AK79,$A$8:$H$107,8,FALSE),0)-ROUNDDOWN(10*AP79/$H79,0)),IF(AND(AN79=\"Nul\",$AP79=$H79),58,0))))","v":0},null,{"$f":"IF(AR79<>\"\",VLOOKUP(AR79,$A$8:$C$107,2,FALSE),\"\")","v":""},{"$f":"IF(AR79<>\"\",IF(AR79=$A79,\"ERR\",IF(OR(AR79=$I79,AR79=$P79,AR79=$W79,AR79=$AD79,AR79=$AK79),\"DUP\",IF(ISNA(VLOOKUP(AR79,$A$8:$A$107,1,FALSE)),\"ERR\",IF(COUNTIF($I$8:$I$107,AR79)>1,\"ERR\",IF($D79=VLOOKUP(AR79,$A$8:$D$107,4,FALSE),\"CLUB\",\"OK\"))))),\"\")","v":""},null,{"$f":"IF(AU79<>\"\",IF(AU79=\"Victoire\",IF(VLOOKUP(AR79,$A$8:$BL$107,47,FALSE)=\"Défaite\",\"OK\",\"ERR\"),IF(AU79=\"Défaite\",IF(VLOOKUP(AR79,$A$8:$BL$107,47,FALSE)=\"Victoire\",\"OK\",\"ERR\"),IF(AU79=\"Nul\",IF(VLOOKUP(AR79,$A$8:$BL$107,47,FALSE)=\"Nul\",\"OK\",\"ERR\")))),\"\")","v":""},null,{"$f":"IF(AU79=\"Victoire\",100-ROUNDDOWN(20*AW79/$H79,0),\nIF(AU79=\"Défaite\",10+ROUNDDOWN(20*VLOOKUP(AR79,$A$8:$CB$107,49,FALSE)/VLOOKUP(AR79,$A$8:$H$107,8,FALSE),0),\nIF(AND(AU79=\"Nul\",$AW79<>$H79),40+(2*ROUNDDOWN(10*VLOOKUP(AR79,$A$8:$CB$107,49,FALSE)/VLOOKUP(AR79,$A$8:$H$107,8,FALSE),0)-ROUNDDOWN(10*AW79/$H79,0)),IF(AND(AU79=\"Nul\",$AW79=$H79),58,0))))","v":0},null,{"$f":"IF(AY79<>\"\",VLOOKUP(AY79,$A$8:$C$107,2,FALSE),\"\")","v":""},{"$f":"IF(AY79<>\"\",IF(AY79=$A79,\"ERR\",IF(OR(AY79=$I79,AY79=$P79,AY79=$W79,AY79=$AD79,AY79=$AK79,AY79=$AR79),\"DUP\",IF(ISNA(VLOOKUP(AY79,$A$8:$A$107,1,FALSE)),\"ERR\",IF(COUNTIF($I$8:$I$107,AY79)>1,\"ERR\",IF($D79=VLOOKUP(AY79,$A$8:$D$107,4,FALSE),\"CLUB\",\"OK\"))))),\"\")","v":""},null,{"$f":"IF(BB79<>\"\",IF(BB79=\"Victoire\",IF(VLOOKUP(AY79,$A$8:$BL$107,54,FALSE)=\"Défaite\",\"OK\",\"ERR\"),IF(BB79=\"Défaite\",IF(VLOOKUP(AY79,$A$8:$BL$107,54,FALSE)=\"Victoire\",\"OK\",\"ERR\"),IF(BB79=\"Nul\",IF(VLOOKUP(AY79,$A$8:$BL$107,54,FALSE)=\"Nul\",\"OK\",\"ERR\")))),\"\")","v":""},null,{"$f":"IF(BB79=\"Victoire\",100-ROUNDDOWN(20*BD79/$H79,0),\nIF(BB79=\"Défaite\",10+ROUNDDOWN(20*VLOOKUP(AY79,$A$8:$CB$107,56,FALSE)/VLOOKUP(AY79,$A$8:$H$107,8,FALSE),0),\nIF(AND(BB79=\"Nul\",$BD79<>$H79),40+(2*ROUNDDOWN(10*VLOOKUP(AY79,$A$8:$CB$107,56,FALSE)/VLOOKUP(AY79,$A$8:$H$107,8,FALSE),0)-ROUNDDOWN(10*BD79/$H79,0)),IF(AND(BB79=\"Nul\",$BD79=$H79),58,0))))","v":0},null,{"$f":"IF(BF79<>\"\",VLOOKUP(BF79,$A$8:$C$107,2,FALSE),\"\")","v":""},{"$f":"IF(BF79<>\"\",IF(BF79=$A79,\"ERR\",IF(OR(BF79=$I79,BF79=$P79,BF79=$W79,BF79=$AD79,BF79=$AK79,BF79=$AR79,BF79=$AY79),\"DUP\",IF(ISNA(VLOOKUP(BF79,$A$8:$A$107,1,FALSE)),\"ERR\",IF(COUNTIF($I$8:$I$107,BF79)>1,\"ERR\",IF($D79=VLOOKUP(BF79,$A$8:$D$107,4,FALSE),\"CLUB\",\"OK\"))))),\"\")","v":""},null,{"$f":"IF(BI79<>\"\",IF(BI79=\"Victoire\",IF(VLOOKUP(BF79,$A$8:$BL$107,61,FALSE)=\"Défaite\",\"OK\",\"ERR\"),IF(BI79=\"Défaite\",IF(VLOOKUP(BF79,$A$8:$BL$107,61,FALSE)=\"Victoire\",\"OK\",\"ERR\"),IF(BI79=\"Nul\",IF(VLOOKUP(BF79,$A$8:$BL$107,61,FALSE)=\"Nul\",\"OK\",\"ERR\")))),\"\")","v":""},null,{"$f":"IF(BI79=\"Victoire\",100-ROUNDDOWN(20*BK79/$H79,0),\nIF(BI79=\"Défaite\",10+ROUNDDOWN(20*VLOOKUP(BF79,$A$8:$CB$107,63,FALSE)/VLOOKUP(BF79,$A$8:$H$107,8,FALSE),0),\nIF(AND(BI79=\"Nul\",$BK79<>$H79),40+(2*ROUNDDOWN(10*VLOOKUP(BF79,$A$8:$CB$107,63,FALSE)/VLOOKUP(BF79,$A$8:$H$107,8,FALSE),0)-ROUNDDOWN(10*BK79/$H79,0)),IF(AND(BI79=\"Nul\",$BK79=$H79),58,0))))","v":0},null,{"$f":"IF(BM79<>\"\",VLOOKUP(BM79,$A$8:$C$107,2,FALSE),\"\")","v":""},{"$f":"IF(BM79<>\"\",IF(BM79=$A79,\"ERR\",IF(OR(BM79=$I79,BM79=$P79,BM79=$W79,BM79=$AD79,BM79=$AK79,BM79=$AR79,BM79=$AY79,BM79=$BF79),\"DUP\",IF(ISNA(VLOOKUP(BM79,$A$8:$A$107,1,FALSE)),\"ERR\",IF(COUNTIF($I$8:$I$107,BM79)>1,\"ERR\",IF($D79=VLOOKUP(BM79,$A$8:$D$107,4,FALSE),\"CLUB\",\"OK\"))))),\"\")","v":""},null,{"$f":"IF(BP79<>\"\",IF(BP79=\"Victoire\",IF(VLOOKUP(BM79,$A$8:$BS$107,68,FALSE)=\"Défaite\",\"OK\",\"ERR\"),IF(BP79=\"Défaite\",IF(VLOOKUP(BM79,$A$8:$BS$107,68,FALSE)=\"Victoire\",\"OK\",\"ERR\"),IF(BP79=\"Nul\",IF(VLOOKUP(BM79,$A$8:$BS$107,68,FALSE)=\"Nul\",\"OK\",\"ERR\")))),\"\")","v":""},null,{"$f":"IF(BP79=\"Victoire\",100-ROUNDDOWN(20*BR79/$H79,0),\nIF(BP79=\"Défaite\",10+ROUNDDOWN(20*VLOOKUP(BM79,$A$8:$CB$107,70,FALSE)/VLOOKUP(BM79,$A$8:$H$107,8,FALSE),0),\nIF(AND(BP79=\"Nul\",$BR79<>$H79),40+(2*ROUNDDOWN(10*VLOOKUP(BM79,$A$8:$CB$107,70,FALSE)/VLOOKUP(BM79,$A$8:$H$107,8,FALSE),0)-ROUNDDOWN(10*BR79/$H79,0)),IF(AND(BP79=\"Nul\",$BR79=$H79),58,0))))","v":0},null,{"$f":"IF($I79<>\"\",VLOOKUP($I79,$A$8:$N$107,5,FALSE),0)+IF($P79<>\"\",VLOOKUP($P79,$A$8:$N$107,5,FALSE),0)+IF($W79<>\"\",VLOOKUP($W79,$A$8:$N$107,5,FALSE),0)+IF($AD79<>\"\",VLOOKUP($AD79,$A$8:$N$107,5,FALSE),0)+IF($AK79<>\"\",VLOOKUP($AK79,$A$8:$N$107,5,FALSE),0)+IF($AR79<>\"\",VLOOKUP($AR79,$A$8:$N$107,5,FALSE),0)+IF($AY79<>\"\",VLOOKUP($AY79,$A$8:$N$107,5,FALSE),0)+IF($BF79<>\"\",VLOOKUP($BF79,$A$8:$N$107,5,FALSE),0)+IF($BM79<>\"\",VLOOKUP($BM79,$A$8:$N$107,5,FALSE),0)","v":0}]
[{"$nulls":4},0,null,{"$f":"IF($F80<>\"\",VLOOKUP(F80,Armies!$A$1:$C$300,3,FALSE),\"\")","v":""},null,null,{"$f":"IF(I80<>\"\",VLOOKUP(I80,$A$8:$C$107,2,FALSE),\"\")","v":""},{"$f":"IF(I80<>\"\",IF(I80=$A80,\"ERR\",IF(OR(I80=$P80,I80=$W80,I80=$AD80,I80=$AK80),\"DUP\",IF(ISNA(VLOOKUP(I80,$A$8:$A$107,1,FALSE)),\"ERR\",IF(COUNTIF($I$8:$I$107,I80)>1,\"ERR\",IF($D80=VLOOKUP(I80,$A$8:$D$107,4,FALSE),\"CLUB\",\"OK\"))))),\"\")","v":""},null,{"$f":"IF(L80<>\"\",IF(L80=\"Victoire\",IF(VLOOKUP(I80,$A$8:$L$107,12,FALSE)=\"Défaite\",\"OK\",\"ERR\"),IF(L80=\"Défaite\",IF(VLOOKUP(I80,$A$8:$L$107,12,FALSE)=\"Victoire\",\"OK\",\"ERR\"),IF(L80=\"Nul\",IF(VLOOKUP(I80,$A$8:$L$107,12,FALSE)=\"Nul\",\"OK\",\"ERR\")))),\"\")","v":""},null,{"$f":"IF(L80=\"Victoire\",100-ROUNDDOWN(20*N80/$H80,0),\nIF(L80=\"Défaite\",10+ROUNDDOWN(20*VLOOKUP(I80,$A$8:$N$107,14,FALSE)/VLOOKUP(I80,$A$8:$H$107,8,FALSE),0),\nIF(AND(L80=\"Nul\",$N80<>$H80),40+(2*ROUNDDOWN(10*VLOOKUP(I80,$A$8:$N$107,14,FALSE)/VLOOKUP(I80,$A$8:$H$107,8,FALSE),0)-ROUNDDOWN(10*N80/$H80,0)),IF(AND(L80=\"Nul\",$N80=$H80),58,0))))","v":0},null,{"$f":"IF(P80<>\"\",VLOOKUP(P80,$A$8:$C$107,2,FALSE),\"\")","v":""},{"$f":"IF(P80<>\"\",IF(P80=$A80,\"ERR\",IF(OR(P80=$I80,P80=$W80,P80=$AD80,P80=$AK80),\"DUP\",IF(ISNA(VLOOKUP(P80,$A$8:$A$107,1,FALSE)),\"ERR\",IF(COUNTIF($I$8:$I$107,P80)>1,\"ERR\",IF($D80=VLOOKUP(P80,$A$8:$D$107,4,FALSE),\"CLUB\",\"OK\"))))),\"\")","v":""},null,{"$f":"IF(S80<>\"\",IF(S80=\"Victoire\",IF(VLOOKUP(P80,$A$8:$AO$107,19,FALSE)=\"Défaite\",\"OK\",\"ERR\"),IF(S80=\"Défaite\",IF(VLOOKUP(P80,$A$8:$AO$107,19,FALSE)=\"Victoire\",\"OK\",\"ERR\"),IF(S80=\"Nul\",IF(VLOOKUP(P80,$A$8:$AO$107,19,FALSE)=\"Nul\",\"OK\",\"ERR\")))),\"\")","v":""},null,{"$f":"IF(S80=\"Victoire\",100-ROUNDDOWN(20*U80/$H80,0),\nIF(S80=\"Défaite\",10+ROUNDDOWN(20*VLOOKUP(P80,$A$8:$AO$107,21,FALSE)/VLOOKUP(P80,$A$8:$H$107,8,FALSE),0),\nIF(AND(S80=\"Nul\",$U80<>$H80),40+(2*ROUNDDOWN(10*VLOOKUP(P80,$A$8:$AO$107,21,FALSE)/VLOOKUP(P80,$A$8:$H$107,8,FALSE),0)-ROUNDDOWN(10*U80/$H80,0)),IF(AND(S80=\"Nul\",$U80=$H80),58,0))))","v":0},null,{"$f":"IF(W80<>\"\",VLOOKUP(W80,$A$8:$C$107,2,FALSE),\"\")","v":""},{"$f":"IF(W80<>\"\",IF(W80=$A80,\"ERR\",IF(OR(W80=$P80,W80=$I80,W80=$AD80,W80=$AK80),\"DUP\",IF(ISNA(VLOOKUP(W80,$A$8:$A$107,1,FALSE)),\"ERR\",IF(COUNTIF($I$8:$I$107,W80)>1,\"ERR\",IF($D80=VLOOKUP(W80,$A$8:$D$107,4,FALSE),\"CLUB\",\"OK\"))))),\"\")","v":""},null,{"$f":"IF(Z80<>\"\",IF(Z80=\"Victoire\",IF(VLOOKUP(W80,$A$8:$AO$107,26,FALSE)=\"Défaite\",\"OK\",\"ERR\"),IF(Z80=\"Défaite\",IF(VLOOKUP(W80,$A$8:$AO$107,26,FALSE)=\"Victoire\",\"OK\",\"ERR\"),IF(Z80=\"Nul\",IF(VLOOKUP(W80,$A$8:$AO$107,26,FALSE)=\"Nul\",\"OK\",\"ERR\")))),\"\")","v":""},null,{"$f":"IF(Z80=\"Victoire\",100-ROUNDDOWN(20*AB80/$H80,0),\nIF(Z80=\"Défaite\",10+ROUNDDOWN(20*VLOOKUP(W80,$A$8:$AO$107,28,FALSE)/VLOOKUP(W80,$A$8:$H$107,8,FALSE),0),\nIF(AND(Z80=\"Nul\",$AB80<>$H80),40+(2*ROUNDDOWN(10*VLOOKUP(W80,$A$8:$AO$107,28,FALSE)/VLOOKUP(W80,$A$8:$H$107,8,FALSE),0)-ROUNDDOWN(10*AB80/$H80,0)),IF(AND(Z80=\"Nul\",$AB80=$H80),58,0))))","v":0},null,{"$f":"IF(AD80<>\"\",VLOOKUP(AD80,$A$8:$C$107,2,FALSE),\"\")","v":""},{"$f":"IF(AD80<>\"\",IF(AD80=$A80,\"ERR\",IF(OR(AD80=$P80,AD80=$W80,AD80=$I80,AD80=$AK80),\"DUP\",IF(ISNA(VLOOKUP(AD80,$A$8:$A$107,1,FALSE)),\"ERR\",IF(COUNTIF($I$8:$I$107,AD80)>1,\"ERR\",IF($D80=VLOOKUP(AD80,$A$8:$D$107,4,FALSE),\"CLUB\",\"OK\"))))),\"\")","v":""},null,{"$f":"IF(AG80<>\"\",IF(AG80=\"Victoire\",IF(VLOOKUP(AD80,$A$8:$AO$107,33,FALSE)=\"Défaite\",\"OK\",\"ERR\"),IF(AG80=\"Défaite\",IF(VLOOKUP(AD80,$A$8:$AO$107,33,FALSE)=\"Victoire\",\"OK\",\"ERR\"),IF(AG80=\"Nul\",IF(VLOOKUP(AD80,$A$8:$AO$107,33,FALSE)=\"Nul\",\"OK\",\"ERR\")))),\"\")","v":""},null,{"$f":"IF(AG80=\"Victoire\",100-ROUNDDOWN(20*AI80/$H80,0),\nIF(AG80=\"Défaite\",10+ROUNDDOWN(20*VLOOKUP(AD80,$A$8:$AO$107,35,FALSE)/VLOOKUP(AD80,$A$8:$H$107,8,FALSE),0),\nIF(AND(AG80=\"Nul\",$AI80<>$H80),40+(2*ROUNDDOWN(10*VLOOKUP(AD80,$A$8:$AO$107,35,FALSE)/VLOOKUP(AD80,$A$8:$H$107,8,FALSE),0)-ROUNDDOWN(10*AI80/$H80,0)),IF(AND(AG80=\"Nul\",$AI80=$H80),58,0))))","v":0},null,{"$f":"IF(AK80<>\"\",VLOOKUP(AK80,$A$8:$C$107,2,FALSE),\"\")","v":""},{"$f":"IF(AK80<>\"\",IF(AK80=$A80,\"ERR\",IF(OR(AK80=$P80,AK80=$W80,AK80=$AD80,AK80=$I80),\"DUP\",IF(ISNA(VLOOKUP(AK80,$A$8:$A$107,1,FALSE)),\"ERR\",IF(COUNTIF($I$8:$I$107,AK80)>1,\"ERR\",IF($D80=VLOOKUP(AK80,$A$8:$D$107,4,FALSE),\"CLUB\",\"OK\"))))),\"\")","v":""},null,{"$f":"IF(AN80<>\"\",IF(AN80=\"Victoire\",IF(VLOOKUP(AK80,$A$8:$AO$107,40,FALSE)=\"Défaite\",\"OK\",\"ERR\"),IF(AN80=\"Défaite\",IF(VLOOKUP(AK80,$A$8:$AO$107,40,FALSE)=\"Victoire\",\"OK\",\"ERR\"),IF(AN80=\"Nul\",IF(VLOOKUP(AK80,$A$8:$AO$107,40,FALSE)=\"Nul\",\"OK\",\"ERR\")))),\"\")","v":""},null,{"$f":"IF(AN80=\"Victoire\",100-ROUNDDOWN(20*AP80/$H80,0),\nIF(AN80=\"Défaite\",10+ROUNDDOWN(20*VLOOKUP(AK80,$A$8:$CB$107,42,FALSE)/VLOOKUP(AK80,$A$8:$H$107,8,FALSE),0),\nIF(AND(AN80=\"Nul\",$AP80<>$H80),40+(2*ROUNDDOWN(10*VLOOKUP(AK80,$A$8:$CB$107,42,FALSE)/VLOOKUP(AK80,$A$8:$H$107,8,FALSE),0)-ROUNDDOWN(10*AP80/$H80,0)),IF(AND(AN80=\"Nul\",$AP80=$H80),58,0))))","v":0},null,{"$f":"IF(AR80<>\"\",VLOOKUP(AR80,$A$8:$C$107,2,FALSE),\"\")","v":""},{"$f":"IF(AR80<>\"\",IF(AR80=$A80,\"ERR\",IF(OR(AR80=$I80,AR80=$P80,AR80=$W80,AR80=$AD80,AR80=$AK80),\"DUP\",IF(ISNA(VLOOKUP(AR80,$A$8:$A$107,1,FALSE)),\"ERR\",IF(COUNTIF($I$8:$I$107,AR80)>1,\"ERR\",IF($D80=VLOOKUP(AR80,$A$8:$D$107,4,FALSE),\"CLUB\",\"OK\"))))),\"\")","v":""},null,{"$f":"IF(AU80<>\"\",IF(AU80=\"Victoire\",IF(VLOOKUP(AR80,$A$8:$BL$107,47,FALSE)=\"Défaite\",\"OK\",\"ERR\"),IF(AU80=\"Défaite\",IF(VLOOKUP(AR80,$A$8:$BL$107,47,FALSE)=\"Victoire\",\"OK\",\"ERR\"),IF(AU80=\"Nul\",IF(VLOOKUP(AR80,$A$8:$BL$107,47,FALSE)=\"Nul\",\"OK\",\"ERR\")))),\"\")","v":""},null,{"$f":"IF(AU80=\"Victoire\",100-ROUNDDOWN(20*AW80/$H80,0),\nIF(AU80=\"Défaite\",10+ROUNDDOWN(20*VLOOKUP(AR80,$A$8:$CB$107,49,FALSE)/VLOOKUP(AR80,$A$8:$H$107,8,FALSE),0),\nIF(AND(AU80=\"Nul\",$AW80<>$H80),40+(2*ROUNDDOWN(10*VLOOKUP(AR80,$A$8:$CB$107,49,FALSE)/VLOOKUP(AR80,$A$8:$H$107,8,FALSE),0)-ROUNDDOWN(10*AW80/$H80,0)),IF(AND(AU80=\"Nul\",$AW80=$H80),58,0))))","v":0},null,{"$f":"IF(AY80<>\"\",VLOOKUP(AY80,$A$8:$C$107,2,FALSE),\"\")","v":""},{"$f":"IF(AY80<>\"\",IF(AY80=$A80,\"ERR\",IF(OR(AY80=$I80,AY80=$P80,AY80=$W80,AY80=$AD80,AY80=$AK80,AY80=$AR80),\"DUP\",IF(ISNA(VLOOKUP(AY80,$A$8:$A$107,1,FALSE)),\"ERR\",IF(COUNTIF($I$8:$I$107,AY80)>1,\"ERR\",IF($D80=VLOOKUP(AY80,$A$8:$D$107,4,FALSE),\"CLUB\",\"OK\"))))),\"\")","v":""},null,{"$f":"IF(BB80<>\"\",IF(BB80=\"Victoire\",IF(VLOOKUP(AY80,$A$8:$BL$107,54,FALSE)=\"Défaite\",\"OK\",\"ERR\"),IF(BB80=\"Défaite\",IF(VLOOKUP(AY80,$A$8:$BL$107,54,FALSE)=\"Victoire\",\"OK\",\"ERR\"),IF(BB80=\"Nul\",IF(VLOOKUP(AY80,$A$8:$BL$107,54,FALSE)=\"Nul\",\"OK\",\"ERR\")))),\"\")","v":""},null,{"$f":"IF(BB80=\"Victoire\",100-ROUNDDOWN(20*BD80/$H80,0),\nIF(BB80=\"Défaite\",10+ROUNDDOWN(20*VLOOKUP(AY80,$A$8:$CB$107,56,FALSE)/VLOOKUP(AY80,$A$8:$H$107,8,FALSE),0),\nIF(AND(BB80=\"Nul\",$BD80<>$H80),40+(2*ROUNDDOWN(10*VLOOKUP(AY80,$A$8:$CB$107,56,FALSE)/VLOOKUP(AY80,$A$8:$H$107,8,FALSE),0)-ROUNDDOWN(10*BD80/$H80,0)),IF(AND(BB80=\"Nul\",$BD80=$H80),58,0))))","v":0},null,{"$f":"IF(BF80<>\"\",VLOOKUP(BF80,$A$8:$C$107,2,FALSE),\"\")","v":""},{"$f":"IF(BF80<>\"\",IF(BF80=$A80,\"ERR\",IF(OR(BF80=$I80,BF80=$P80,BF80=$W80,BF80=$AD80,BF80=$AK80,BF80=$AR80,BF80=$AY80),\"DUP\",IF(ISNA(VLOOKUP(BF80,$A$8:$A$107,1,FALSE)),\"ERR\",IF(COUNTIF($I$8:$I$107,BF80)>1,\"ERR\",IF($D80=VLOOKUP(BF80,$A$8:$D$107,4,FALSE),\"CLUB\",\"OK\"))))),\"\")","v":""},null,{"$f":"IF(BI80<>\"\",IF(BI80=\"Victoire\",IF(VLOOKUP(BF80,$A$8:$BL$107,61,FALSE)=\"Défaite\",\"OK\",\"ERR\"),IF(BI80=\"Défaite\",IF(VLOOKUP(BF80,$A$8:$BL$107,61,FALSE)=\"Victoire\",\"OK\",\"ERR\"),IF(BI80=\"Nul\",IF(VLOOKUP(BF80,$A$8:$BL$107,61,FALSE)=\"Nul\",\"OK\",\"ERR\")))),\"\")","v":""},null,{"$f":"IF(BI80=\"Victoire\",100-ROUNDDOWN(20*BK80/$H80,0),\nIF(BI80=\"Défaite\",10+ROUNDDOWN(20*VLOOKUP(BF80,$A$8:$CB$107,63,FALSE)/VLOOKUP(BF80,$A$8:$H$107,8,FALSE),0),\nIF(AND(BI80=\"Nul\",$BK80<>$H80),40+(2*ROUNDDOWN(10*VLOOKUP(BF80,$A$8:$CB$107,63,FALSE)/VLOOKUP(BF80,$A$8:$H$107,8,FALSE),0)-ROUNDDOWN(10*BK80/$H80,0)),IF(AND(BI80=\"Nul\",$BK80=$H80),58,0))))","v":0},null,{"$f":"IF(BM80<>\"\",VLOOKUP(BM80,$A$8:$C$107,2,FALSE),\"\")","v":""},{"$f":"IF(BM80<>\"\",IF(BM80=$A80,\"ERR\",IF(OR(BM80=$I80,BM80=$P80,BM80=$W80,BM80=$AD80,BM80=$AK80,BM80=$AR80,BM80=$AY80,BM80=$BF80),\"DUP\",IF(ISNA(VLOOKUP(BM80,$A$8:$A$107,1,FALSE)),\"ERR\",IF(COUNTIF($I$8:$I$107,BM80)>1,\"ERR\",IF($D80=VLOOKUP(BM80,$A$8:$D$107,4,FALSE),\"CLUB\",\"OK\"))))),\"\")","v":""},null,{"$f":"IF(BP80<>\"\",IF(BP80=\"Victoire\",IF(VLOOKUP(BM80,$A$8:$BS$107,68,FALSE)=\"Défaite\",\"OK\",\"ERR\"),IF(BP80=\"Défaite\",IF(VLOOKUP(BM80,$A$8:$BS$107,68,FALSE)=\"Victoire\",\"OK\",\"ERR\"),IF(BP80=\"Nul\",IF(VLOOKUP(BM80,$A$8:$BS$107,68,FALSE)=\"Nul\",\"OK\",\"ERR\")))),\"\")","v":""},null,{"$f":"IF(BP80=\"Victoire\",100-ROUNDDOWN(20*BR80/$H80,0),\nIF(BP80=\"Défaite\",10+ROUNDDOWN(20*VLOOKUP(BM80,$A$8:$CB$107,70,FALSE)/VLOOKUP(BM80,$A$8:$H$107,8,FALSE),0),\nIF(AND(BP80=\"Nul\",$BR80<>$H80),40+(2*ROUNDDOWN(10*VLOOKUP(BM80,$A$8:$CB$107,70,FALSE)/VLOOKUP(BM80,$A$8:$H$107,8,FALSE),0)-ROUNDDOWN(10*BR80/$H80,0)),IF(AND(BP80=\"Nul\",$BR80=$H80),58,0))))","v":0},null,{"$f":"IF($I80<>\"\",VLOOKUP($I80,$A$8:$N$107,5,FALSE),0)+IF($P80<>\"\",VLOOKUP($P80,$A$8:$N$107,5,FALSE),0)+IF($W80<>\"\",VLOOKUP($W80,$A$8:$N$107,5,FALSE),0)+IF($AD80<>\"\",VLOOKUP($AD80,$A$8:$N$107,5,FALSE),0)+IF($AK80<>\"\",VLOOKUP($AK80,$A$8:$N$107,5,FALSE),0)+IF($AR80<>\"\",VLOOKUP($AR80,$A$8:$N$107,5,FALSE),0)+IF($AY80<>\"\",VLOOKUP($AY80,$A$8:$N$107,5,FALSE),0)+IF($BF80<>\"\",VLOOKUP($BF80,$A$8:$N$107,5,FALSE),0)+IF($BM80<>\"\",VLOOKUP($BM80,$A$8:$N$107,5,FALSE),0)","v":0}]
[{"$nulls":4},0,null,{"$f":"IF($F81<>\"\",VLOOKUP(F81,Armies!$A$1:$C$300,3,FALSE),\"\")","v":""},null,null,{"$f":"IF(I81<>\"\",VLOOKUP(I81,$A$8:$C$107,2,FALSE),\"\")","v":""},{"$f":"IF(I81<>\"\",IF(I81=$A81,\"ERR\",IF(OR(I81=$P81,I81=$W81,I81=$AD81,I81=$AK81),\"DUP\",IF(ISNA(VLOOKUP(I81,$A$8:$A$107,1,FALSE)),\"ERR\",IF(COUNTIF($I$8:$I$107,I81)>1,\"ERR\",IF($D81=VLOOKUP(I81,$A$8:$D$107,4,FALSE),\"CLUB\",\"OK\"))))),\"\")","v":""},null,{"$f":"IF(L81<>\"\",IF(L81=\"Victoire\",IF(VLOOKUP(I81,$A$8:$L$107,12,FALSE)=\"Défaite\",\"OK\",\"ERR\"),IF(L81=\"Défaite\",IF(VLOOKUP(I81,$A$8:$L$107,12,FALSE)=\"Victoire\",\"OK\",\"ERR\"),IF(L81=\"Nul\",IF(VLOOKUP(I81,$A$8:$L$107,12,FALSE)=\"Nul\",\"OK\",\"ERR\")))),\"\")","v":""},null,{"$f":"IF(L81=\"Victoire\",100-ROUNDDOWN(20*N81/$H81,0),\nIF(L81=\"Défaite\",10+ROUNDDOWN(20*VLOOKUP(I81,$A$8:$N$107,14,FALSE)/VLOOKUP(I81,$A$8:$H$107,8,FALSE),0),\nIF(AND(L81=\"Nul\",$N81<>$H81),40+(2*ROUNDDOWN(10*VLOOKUP(I81,$A$8:$N$107,14,FALSE)/VLOOKUP(I81,$A$8:$H$107,8,FALSE),0)-ROUNDDOWN(10*N81/$H81,0)),IF(AND(L81=\"Nul\",$N81=$H81),58,0))))","v":0},null,{"$f":"IF(P81<>\"\",VLOOKUP(P81,$A$8:$C$107,2,FALSE),\"\")","v":""},{"$f":"IF(P81<>\"\",IF(P81=$A81,\"ERR\",IF(OR(P81=$I81,P81=$W81,P81=$AD81,P81=$AK81),\"DUP\",IF(ISNA(VLOOKUP(P81,$A$8:$A$107,1,FALSE)),\"ERR\",IF(COUNTIF($I$8:$I$107,P81)>1,\"ERR\",IF($D81=VLOOKUP(P81,$A$8:$D$107,4,FALSE),\"CLUB\",\"OK\"))))),\"\")","v":""},null,{"$f":"IF(S81<>\"\",IF(S81=\"Victoire\",IF(VLOOKUP(P81,$A$8:$AO$107,19,FALSE)=\"Défaite\",\"OK\",\"ERR\"),IF(S81=\"Défaite\",IF(VLOOKUP(P81,$A$8:$AO$107,19,FALSE)=\"Victoire\",\"OK\",\"ERR\"),IF(S81=\"Nul\",IF(VLOOKUP(P81,$A$8:$AO$107,19,FALSE)=\"Nul\",\"OK\",\"ERR\")))),\"\")","v":""},null,{"$f":"IF(S81=\"Victoire\",100-ROUNDDOWN(20*U81/$H81,0),\nIF(S81=\"Défaite\",10+ROUNDDOWN(20*VLOOKUP(P81,$A$8:$AO$107,21,FALSE)/VLOOKUP(P81,$A$8:$H$107,8,FALSE),0),\nIF(AND(S81=\"Nul\",$U81<>$H81),40+(2*ROUNDDOWN(10*VLOOKUP(P81,$A$8:$AO$107,21,FALSE)/VLOOKUP(P81,$A$8:$H$107,8,FALSE),0)-ROUNDDOWN(10*U81/$H81,0)),IF(AND(S81=\"Nul\",$U81=$H81),58,0))))","v":0},null,{"$f":"IF(W81<>\"\",VLOOKUP(W81,$A$8:$C$107,2,FALSE),\"\")","v":""},{"$f":"IF(W81<>\"\",IF(W81=$A81,\"ERR\",IF(OR(W81=$P81,W81=$I81,W81=$AD81,W81=$AK81),\"DUP\",IF(ISNA(VLOOKUP(W81,$A$8:$A$107,1,FALSE)),\"ERR\",IF(COUNTIF($I$8:$I$107,W81)>1,\"ERR\",IF($D81=VLOOKUP(W81,$A$8:$D$107,4,FALSE),\"CLUB\",\"OK\"))))),\"\")","v":""},null,{"$f":"IF(Z81<>\"\",IF(Z81=\"Victoire\",IF(VLOOKUP(W81,$A$8:$AO$107,26,FALSE)=\"Défaite\",\"OK\",\"ERR\"),IF(Z81=\"Défaite\",IF(VLOOKUP(W81,$A$8:$AO$107,26,FALSE)=\"Victoire\",\"OK\",\"ERR\"),IF(Z81=\"Nul\",IF(VLOOKUP(W81,$A$8:$AO$107,26,FALSE)=\"Nul\",\"OK\",\"ERR\")))),\"\")","v":""},null,{"$f":"IF(Z81=\"Victoire\",100-ROUNDDOWN(20*AB81/$H81,0),\nIF(Z81=\"Défaite\",10+ROUNDDOWN(20*VLOOKUP(W81,$A$8:$AO$107,28,FALSE)/VLOOKUP(W81,$A$8:$H$107,8,FALSE),0),\nIF(AND(Z81=\"Nul\",$AB81<>$H81),40+(2*ROUNDDOWN(10*VLOOKUP(W81,$A$8:$AO$107,28,FALSE)/VLOOKUP(W81,$A$8:$H$107,8,FALSE),0)-ROUNDDOWN(10*AB81/$H81,0)),IF(AND(Z81=\"Nul\",$AB81=$H81),58,0))))","v":0},null,{"$f":"IF(AD81<>\"\",VLOOKUP(AD81,$A$8:$C$107,2,FALSE),\"\")","v":""},{"$f":"IF(AD81<>\"\",IF(AD81=$A81,\"ERR\",IF(OR(AD81=$P81,AD81=$W81,AD81=$I81,AD81=$AK81),\"DUP\",IF(ISNA(VLOOKUP(AD81,$A$8:$A$107,1,FALSE)),\"ERR\",IF(COUNTIF($I$8:$I$107,AD81)>1,\"ERR\",IF($D81=VLOOKUP(AD81,$A$8:$D$107,4,FALSE),\"CLUB\",\"OK\"))))),\"\")","v":""},null,{"$f":"IF(AG81<>\"\",IF(AG81=\"Victoire\",IF(VLOOKUP(AD81,$A$8:$AO$107,33,FALSE)=\"Défaite\",\"OK\",\"ERR\"),IF(AG81=\"Défaite\",IF(VLOOKUP(AD81,$A$8:$AO$107,33,FALSE)=\"Victoire\",\"OK\",\"ERR\"),IF(AG81=\"Nul\",IF(VLOOKUP(AD81,$A$8:$AO$107,33,FALSE)=\"Nul\",\"OK\",\"ERR\")))),\"\")","v":""},null,{"$f":"IF(AG81=\"Victoire\",100-ROUNDDOWN(20*AI81/$H81,0),\nIF(AG81=\"Défaite\",10+ROUNDDOWN(20*VLOOKUP(AD81,$A$8:$AO$107,35,FALSE)/VLOOKUP(AD81,$A$8:$H$107,8,FALSE),0),\nIF(AND(AG81=\"Nul\",$AI81<>$H81),40+(2*ROUNDDOWN(10*VLOOKUP(AD81,$A$8:$AO$107,35,FALSE)/VLOOKUP(AD81,$A$8:$H$107,8,FALSE),0)-ROUNDDOWN(10*AI81/$H81,0)),IF(AND(AG81=\"Nul\",$AI81=$H81),58,0))))","v":0},null,{"$f":"IF(AK81<>\"\",VLOOKUP(AK81,$A$8:$C$107,2,FALSE),\"\")","v":""},{"$f":"IF(AK81<>\"\",IF(AK81=$A81,\"ERR\",IF(OR(AK81=$P81,AK81=$W81,AK81=$AD81,AK81=$I81),\"DUP\",IF(ISNA(VLOOKUP(AK81,$A$8:$A$107,1,FALSE)),\"ERR\",IF(COUNTIF($I$8:$I$107,AK81)>1,\"ERR\",IF($D81=VLOOKUP(AK81,$A$8:$D$107,4,FALSE),\"CLUB\",\"OK\"))))),\"\")","v":""},null,{"$f":"IF(AN81<>\"\",IF(AN81=\"Victoire\",IF(VLOOKUP(AK81,$A$8:$AO$107,40,FALSE)=\"Défaite\",\"OK\",\"ERR\"),IF(AN81=\"Défaite\",IF(VLOOKUP(AK81,$A$8:$AO$107,40,FALSE)=\"Victoire\",\"OK\",\"ERR\"),IF(AN81=\"Nul\",IF(VLOOKUP(AK81,$A$8:$AO$107,40,FALSE)=\"Nul\",\"OK\",\"ERR\")))),\"\")","v":""},null,{"$f":"IF(AN81=\"Victoire\",100-ROUNDDOWN(20*AP81/$H81,0),\nIF(AN81=\"Défaite\",10+ROUNDDOWN(20*VLOOKUP(AK81,$A$8:$CB$107,42,FALSE)/VLOOKUP(AK81,$A$8:$H$107,8,FALSE),0),\nIF(AND(AN81=\"Nul\",$AP81<>$H81),40+(2*ROUNDDOWN(10*VLOOKUP(AK81,$A$8:$CB$107,42,FALSE)/VLOOKUP(AK81,$A$8:$H$107,8,FALSE),0)-ROUNDDOWN(10*AP81/$H81,0)),IF(AND(AN81=\"Nul\",$AP81=$H81),58,0))))","v":0},null,{"$f":"IF(AR81<>\"\",VLOOKUP(AR81,$A$8:$C$107,2,FALSE),\"\")","v":""},{"$f":"IF(AR81<>\"\",IF(AR81=$A81,\"ERR\",IF(OR(AR81=$I81,AR81=$P81,AR81=$W81,AR81=$AD81,AR81=$AK81),\"DUP\",IF(ISNA(VLOOKUP(AR81,$A$8:$A$107,1,FALSE)),\"ERR\",IF(COUNTIF($I$8:$I$107,AR81)>1,\"ERR\",IF($D81=VLOOKUP(AR81,$A$8:$D$107,4,FALSE),\"CLUB\",\"OK\"))))),\"\")","v":""},null,{"$f":"IF(AU81<>\"\",IF(AU81=\"Victoire\",IF(VLOOKUP(AR81,$A$8:$BL$107,47,FALSE)=\"Défaite\",\"OK\",\"ERR\"),IF(AU81=\"Défaite\",IF(VLOOKUP(AR81,$A$8:$BL$107,47,FALSE)=\"Victoire\",\"OK\",\"ERR\"),IF(AU81=\"Nul\",IF(VLOOKUP(AR81,$A$8:$BL$107,47,FALSE)=\"Nul\",\"OK\",\"ERR\")))),\"\")","v":""},null,{"$f":"IF(AU81=\"Victoire\",100-ROUNDDOWN(20*AW81/$H81,0),\nIF(AU81=\"Défaite\",10+ROUNDDOWN(20*VLOOKUP(AR81,$A$8:$CB$107,49,FALSE)/VLOOKUP(AR81,$A$8:$H$107,8,FALSE),0),\nIF(AND(AU81=\"Nul\",$AW81<>$H81),40+(2*ROUNDDOWN(10*VLOOKUP(AR81,$A$8:$CB$107,49,FALSE)/VLOOKUP(AR81,$A$8:$H$107,8,FALSE),0)-ROUNDDOWN(10*AW81/$H81,0)),IF(AND(AU81=\"Nul\",$AW81=$H81),58,0))))","v":0},null,{"$f":"IF(AY81<>\"\",VLOOKUP(AY81,$A$8:$C$107,2,FALSE),\"\")","v":""},{"$f":"IF(AY81<>\"\",IF(AY81=$A81,\"ERR\",IF(OR(AY81=$I81,AY81=$P81,AY81=$W81,AY81=$AD81,AY81=$AK81,AY81=$AR81),\"DUP\",IF(ISNA(VLOOKUP(AY81,$A$8:$A$107,1,FALSE)),\"ERR\",IF(COUNTIF($I$8:$I$107,AY81)>1,\"ERR\",IF($D81=VLOOKUP(AY81,$A$8:$D$107,4,FALSE),\"CLUB\",\"OK\"))))),\"\")","v":""},null,{"$f":"IF(BB81<>\"\",IF(BB81=\"Victoire\",IF(VLOOKUP(AY81,$A$8:$BL$107,54,FALSE)=\"Défaite\",\"OK\",\"ERR\"),IF(BB81=\"Défaite\",IF(VLOOKUP(AY81,$A$8:$BL$107,54,FALSE)=\"Victoire\",\"OK\",\"ERR\"),IF(BB81=\"Nul\",IF(VLOOKUP(AY81,$A$8:$BL$107,54,FALSE)=\"Nul\",\"OK\",\"ERR\")))),\"\")","v":""},null,{"$f":"IF(BB81=\"Victoire\",100-ROUNDDOWN(20*BD81/$H81,0),\nIF(BB81=\"Défaite\",10+ROUNDDOWN(20*VLOOKUP(AY81,$A$8:$CB$107,56,FALSE)/VLOOKUP(AY81,$A$8:$H$107,8,FALSE),0),\nIF(AND(BB81=\"Nul\",$BD81<>$H81),40+(2*ROUNDDOWN(10*VLOOKUP(AY81,$A$8:$CB$107,56,FALSE)/VLOOKUP(AY81,$A$8:$H$107,8,FALSE),0)-ROUNDDOWN(10*BD81/$H81,0)),IF(AND(BB81=\"Nul\",$BD81=$H81),58,0))))","v":0},null,{"$f":"IF(BF81<>\"\",VLOOKUP(BF81,$A$8:$C$107,2,FALSE),\"\")","v":""},{"$f":"IF(BF81<>\"\",IF(BF81=$A81,\"ERR\",IF(OR(BF81=$I81,BF81=$P81,BF81=$W81,BF81=$AD81,BF81=$AK81,BF81=$AR81,BF81=$AY81),\"DUP\",IF(ISNA(VLOOKUP(BF81,$A$8:$A$107,1,FALSE)),\"ERR\",IF(COUNTIF($I$8:$I$107,BF81)>1,\"ERR\",IF($D81=VLOOKUP(BF81,$A$8:$D$107,4,FALSE),\"CLUB\",\"OK\"))))),\"\")","v":""},null,{"$f":"IF(BI81<>\"\",IF(BI81=\"Victoire\",IF(VLOOKUP(BF81,$A$8:$BL$107,61,FALSE)=\"Défaite\",\"OK\",\"ERR\"),IF(BI81=\"Défaite\",IF(VLOOKUP(BF81,$A$8:$BL$107,61,FALSE)=\"Victoire\",\"OK\",\"ERR\"),IF(BI81=\"Nul\",IF(VLOOKUP(BF81,$A$8:$BL$107,61,FALSE)=\"Nul\",\"OK\",\"ERR\")))),\"\")","v":""},null,{"$f":"IF(BI81=\"Victoire\",100-ROUNDDOWN(20*BK81/$H81,0),\nIF(BI81=\"Défaite\",10+ROUNDDOWN(20*VLOOKUP(BF81,$A$8:$CB$107,63,FALSE)/VLOOKUP(BF81,$A$8:$H$107,8,FALSE),0),\nIF(AND(BI81=\"Nul\",$BK81<>$H81),40+(2*ROUNDDOWN(10*VLOOKUP(BF81,$A$8:$CB$107,63,FALSE)/VLOOKUP(BF81,$A$8:$H$107,8,FALSE),0)-ROUNDDOWN(10*BK81/$H81,0)),IF(AND(BI81=\"Nul\",$BK81=$H81),58,0))))","v":0},null,{"$f":"IF(BM81<>\"\",VLOOKUP(BM81,$A$8:$C$107,2,FALSE),\"\")","v":""},{"$f":"IF(BM81<>\"\",IF(BM81=$A81,\"ERR\",IF(OR(BM81=$I81,BM81=$P81,BM81=$W81,BM81=$AD81,BM81=$AK81,BM81=$AR81,BM81=$AY81,BM81=$BF81),\"DUP\",IF(ISNA(VLOOKUP(BM81,$A$8:$A$107,1,FALSE)),\"ERR\",IF(COUNTIF($I$8:$I$107,BM81)>1,\"ERR\",IF($D81=VLOOKUP(BM81,$A$8:$D$107,4,FALSE),\"CLUB\",\"OK\"))))),\"\")","v":""},null,{"$f":"IF(BP81<>\"\",IF(BP81=\"Victoire\",IF(VLOOKUP(BM81,$A$8:$BS$107,68,FALSE)=\"Défaite\",\"OK\",\"ERR\"),IF(BP81=\"Défaite\",IF(VLOOKUP(BM81,$A$8:$BS$107,68,FALSE)=\"Victoire\",\"OK\",\"ERR\"),IF(BP81=\"Nul\",IF(VLOOKUP(BM81,$A$8:$BS$107,68,FALSE)=\"Nul\",\"OK\",\"ERR\")))),\"\")","v":""},null,{"$f":"IF(BP81=\"Victoire\",100-ROUNDDOWN(20*BR81/$H81,0),\nIF(BP81=\"Défaite\",10+ROUNDDOWN(20*VLOOKUP(BM81,$A$8:$CB$107,70,FALSE)/VLOOKUP(BM81,$A$8:$H$107,8,FALSE),0),\nIF(AND(BP81=\"Nul\",$BR81<>$H81),40+(2*ROUNDDOWN(10*VLOOKUP(BM81,$A$8:$CB$107,70,FALSE)/VLOOKUP(BM81,$A$8:$H$107,8,FALSE),0)-ROUNDDOWN(10*BR81/$H81,0)),IF(AND(BP81=\"Nul\",$BR81=$H81),58,0))))","v":0},null,{"$f":"IF($I81<>\"\",VLOOKUP($I81,$A$8:$N$107,5,FALSE),0)+IF($P81<>\"\",VLOOKUP($P81,$A$8:$N$107,5,FALSE),0)+IF($W81<>\"\",VLOOKUP($W81,$A$8:$N$107,5,FALSE),0)+IF($AD81<>\"\",VLOOKUP($AD81,$A$8:$N$107,5,FALSE),0)+IF($AK81<>\"\",VLOOKUP($AK81,$A$8:$N$107,5,FALSE),0)+IF($AR81<>\"\",VLOOKUP($AR81,$A$8:$N$107,5,FALSE),0)+IF($AY81<>\"\",VLOOKUP($AY81,$A$8:$N$107,5,FALSE),0)+IF($BF81<>\"\",VLOOKUP($BF81,$A$8:$N$107,5,FALSE),0)+IF($BM81<>\"\",VLOOKUP($BM81,$A$8:$N$107,5,FALSE),0)","v":0}]
[{"$nulls":4},0,null,{"$f":"IF($F82<>\"\",VLOOKUP(F82,Armies!$A$1:$C$300,3,FALSE),\"\")","v":""},null,null,{"$f":"IF(I82<>\"\",VLOOKUP(I82,$A$8:$C$107,2,FALSE),\"\")","v":""},{"$f":"IF(I82<>\"\",IF(I82=$A82,\"ERR\",IF(OR(I82=$P82,I82=$W82,I82=$AD82,I82=$AK82),\"DUP\",IF(ISNA(VLOOKUP(I82,$A$8:$A$107,1,FALSE)),\"ERR\",IF(COUNTIF($I$8:$I$107,I82)>1,\"ERR\",IF($D82=VLOOKUP(I82,$A$8:$D$107,4,FALSE),\"CLUB\",\"OK\"))))),\"\")","v":""},null,{"$f":"IF(L82<>\"\",IF(L82=\"Victoire\",IF(VLOOKUP(I82,$A$8:$L$107,12,FALSE)=\"Défaite\",\"OK\",\"ERR\"),IF(L82=\"Défaite\",IF(VLOOKUP(I82,$A$8:$L$107,12,FALSE)=\"Victoire\",\"OK\",\"ERR\"),IF(L82=\"Nul\",IF(VLOOKUP(I82,$A$8:$L$107,12,FALSE)=\"Nul\",\"OK\",\"ERR\")))),\"\")","v":""},null,{"$f":"IF(L82=\"Victoire\",100-ROUNDDOWN(20*N82/$H82,0),\nIF(L82=\"Défaite\",10+ROUNDDOWN(20*VLOOKUP(I82,$A$8:$N$107,14,FALSE)/VLOOKUP(I82,$A$8:$H$107,8,FALSE),0),\nIF(AND(L82=\"Nul\",$N82<>$H82),40+(2*ROUNDDOWN(10*VLOOKUP(I82,$A$8:$N$107,14,FALSE)/VLOOKUP(I82,$A$8:$H$107,8,FALSE),0)-ROUNDDOWN(10*N82/$H82,0)),IF(AND(L82=\"Nul\",$N82=$H82),58,0))))","v":0},null,{"$f":"IF(P82<>\"\",VLOOKUP(P82,$A$8:$C$107,2,FALSE),\"\")","v":""},{"$f":"IF(P82<>\"\",IF(P82=$A82,\"ERR\",IF(OR(P82=$I82,P82=$W82,P82=$AD82,P82=$AK82),\"DUP\",IF(ISNA(VLOOKUP(P82,$A$8:$A$107,1,FALSE)),\"ERR\",IF(COUNTIF($I$8:$I$107,P82)>1,\"ERR\",IF($D82=VLOOKUP(P82,$A$8:$D$107,4,FALSE),\"CLUB\",\"OK\"))))),\"\")","v":""},null,{"$f":"IF(S82<>\"\",IF(S82=\"Victoire\",IF(VLOOKUP(P82,$A$8:$AO$107,19,FALSE)=\"Défaite\",\"OK\",\"ERR\"),IF(S82=\"Défaite\",IF(VLOOKUP(P82,$A$8:$AO$107,19,FALSE)=\"Victoire\",\"OK\",\"ERR\"),IF(S82=\"Nul\",IF(VLOOKUP(P82,$A$8:$AO$107,19,FALSE)=\"Nul\",\"OK\",\"ERR\")))),\"\")","v":""},null,{"$f":"IF(S82=\"Victoire\",100-ROUNDDOWN(20*U82/$H82,0),\nIF(S82=\"Défaite\",10+ROUNDDOWN(20*VLOOKUP(P82,$A$8:$AO$107,21,FALSE)/VLOOKUP(P82,$A$8:$H$107,8,FALSE),0),\nIF(AND(S82=\"Nul\",$U82<>$H82),40+(2*ROUNDDOWN(10*VLOOKUP(P82,$A$8:$AO$107,21,FALSE)/VLOOKUP(P82,$A$8:$H$107,8,FALSE),0)-ROUNDDOWN(10*U82/$H82,0)),IF(AND(S82=\"Nul\",$U82=$H82),58,0))))","v":0},null,{"$f":"IF(W82<>\"\",VLOOKUP(W82,$A$8:$C$107,2,FALSE),\"\")","v":""},{"$f":"IF(W82<>\"\",IF(W82=$A82,\"ERR\",IF(OR(W82=$P82,W82=$I82,W82=$AD82,W82=$AK82),\"DUP\",IF(ISNA(VLOOKUP(W82,$A$8:$A$107,1,FALSE)),\"ERR\",IF(COUNTIF($I$8:$I$107,W82)>1,\"ERR\",IF($D82=VLOOKUP(W82,$A$8:$D$107,4,FALSE),\"CLUB\",\"OK\"))))),\"\")","v":""},null,{"$f":"IF(Z82<>\"\",IF(Z82=\"Victoire\",IF(VLOOKUP(W82,$A$8:$AO$107,26,FALSE)=\"Défaite\",\"OK\",\"ERR\"),IF(Z82=\"Défaite\",IF(VLOOKUP(W82,$A$8:$AO$107,26,FALSE)=\"Victoire\",\"OK\",\"ERR\"),IF(Z82=\"Nul\",IF(VLOOKUP(W82,$A$8:$AO$107,26,FALSE)=\"Nul\",\"OK\",\"ERR\")))),\"\")","v":""},null,{"$f":"IF(Z82=\"Victoire\",100-ROUNDDOWN(20*AB82/$H82,0),\nIF(Z82=\"Défaite\",10+ROUNDDOWN(20*VLOOKUP(W82,$A$8:$AO$107,28,FALSE)/VLOOKUP(W82,$A$8:$H$107,8,FALSE),0),\nIF(AND(Z82=\"Nul\",$AB82<>$H82),40+(2*ROUNDDOWN(10*VLOOKUP(W82,$A$8:$AO$107,28,FALSE)/VLOOKUP(W82,$A$8:$H$107,8,FALSE),0)-ROUNDDOWN(10*AB82/$H82,0)),IF(AND(Z82=\"Nul\",$AB82=$H82),58,0))))","v":0},null,{"$f":"IF(AD82<>\"\",VLOOKUP(AD82,$A$8:$C$107,2,FALSE),\"\")","v":""},{"$f":"IF(AD82<>\"\",IF(AD82=$A82,\"ERR\",IF(OR(AD82=$P82,AD82=$W82,AD82=$I82,AD82=$AK82),\"DUP\",IF(ISNA(VLOOKUP(AD82,$A$8:$A$107,1,FALSE)),\"ERR\",IF(COUNTIF($I$8:$I$107,AD82)>1,\"ERR\",IF($D82=VLOOKUP(AD82,$A$8:$D$107,4,FALSE),\"CLUB\",\"OK\"))))),\"\")","v":""},null,{"$f":"IF(AG82<>\"\",IF(AG82=\"Victoire\",IF(VLOOKUP(AD82,$A$8:$AO$107,33,FALSE)=\"Défaite\",\"OK\",\"ERR\"),IF(AG82=\"Défaite\",IF(VLOOKUP(AD82,$A$8:$AO$107,33,FALSE)=\"Victoire\",\"OK\",\"ERR\"),IF(AG82=\"Nul\",IF(VLOOKUP(AD82,$A$8:$AO$107,33,FALSE)=\"Nul\",\"OK\",\"ERR\")))),\"\")","v":""},null,{"$f":"IF(AG82=\"Victoire\",100-ROUNDDOWN(20*AI82/$H82,0),\nIF(AG82=\"Défaite\",10+ROUNDDOWN(20*VLOOKUP(AD82,$A$8:$AO$107,35,FALSE)/VLOOKUP(AD82,$A$8:$H$107,8,FALSE),0),\nIF(AND(AG82=\"Nul\",$AI82<>$H82),40+(2*ROUNDDOWN(10*VLOOKUP(AD82,$A$8:$AO$107,35,FALSE)/VLOOKUP(AD82,$A$8:$H$107,8,FALSE),0)-ROUNDDOWN(10*AI82/$H82,0)),IF(AND(AG82=\"Nul\",$AI82=$H82),58,0))))","v":0},null,{"$f":"IF(AK82<>\"\",VLOOKUP(AK82,$A$8:$C$107,2,FALSE),\"\")","v":""},{"$f":"IF(AK82<>\"\",IF(AK82=$A82,\"ERR\",IF(OR(AK82=$P82,AK82=$W82,AK82=$AD82,AK82=$I82),\"DUP\",IF(ISNA(VLOOKUP(AK82,$A$8:$A$107,1,FALSE)),\"ERR\",IF(COUNTIF($I$8:$I$107,AK82)>1,\"ERR\",IF($D82=VLOOKUP(AK82,$A$8:$D$107,4,FALSE),\"CLUB\",\"OK\"))))),\"\")","v":""},null,{"$f":"IF(AN82<>\"\",IF(AN82=\"Victoire\",IF(VLOOKUP(AK82,$A$8:$AO$107,40,FALSE)=\"Défaite\",\"OK\",\"ERR\"),IF(AN82=\"Défaite\",IF(VLOOKUP(AK82,$A$8:$AO$107,40,FALSE)=\"Victoire\",\"OK\",\"ERR\"),IF(AN82=\"Nul\",IF(VLOOKUP(AK82,$A$8:$AO$107,40,FALSE)=\"Nul\",\"OK\",\"ERR\")))),\"\")","v":""},null,{"$f":"IF(AN82=\"Victoire\",100-ROUNDDOWN(20*AP82/$H82,0),\nIF(AN82=\"Défaite\",10+ROUNDDOWN(20*VLOOKUP(AK82,$A$8:$CB$107,42,FALSE)/VLOOKUP(AK82,$A$8:$H$107,8,FALSE),0),\nIF(AND(AN82=\"Nul\",$AP82<>$H82),40+(2*ROUNDDOWN(10*VLOOKUP(AK82,$A$8:$CB$107,42,FALSE)/VLOOKUP(AK82,$A$8:$H$107,8,FALSE),0)-ROUNDDOWN(10*AP82/$H82,0)),IF(AND(AN82=\"Nul\",$AP82=$H82),58,0))))","v":0},null,{"$f":"IF(AR82<>\"\",VLOOKUP(AR82,$A$8:$C$107,2,FALSE),\"\")","v":""},{"$f":"IF(AR82<>\"\",IF(AR82=$A82,\"ERR\",IF(OR(AR82=$I82,AR82=$P82,AR82=$W82,AR82=$AD82,AR82=$AK82),\"DUP\",IF(ISNA(VLOOKUP(AR82,$A$8:$A$107,1,FALSE)),\"ERR\",IF(COUNTIF($I$8:$I$107,AR82)>1,\"ERR\",IF($D82=VLOOKUP(AR82,$A$8:$D$107,4,FALSE),\"CLUB\",\"OK\"))))),\"\")","v":""},null,{"$f":"IF(AU82<>\"\",IF(AU82=\"Victoire\",IF(VLOOKUP(AR82,$A$8:$BL$107,47,FALSE)=\"Défaite\",\"OK\",\"ERR\"),IF(AU82=\"Défaite\",IF(VLOOKUP(AR82,$A$8:$BL$107,47,FALSE)=\"Victoire\",\"OK\",\"ERR\"),IF(AU82=\"Nul\",IF(VLOOKUP(AR82,$A$8:$BL$107,47,FALSE)=\"Nul\",\"OK\",\"ERR\")))),\"\")","v":""},null,{"$f":"IF(AU82=\"Victoire\",100-ROUNDDOWN(20*AW82/$H82,0),\nIF(AU82=\"Défaite\",10+ROUNDDOWN(20*VLOOKUP(AR82,$A$8:$CB$107,49,FALSE)/VLOOKUP(AR82,$A$8:$H$107,8,FALSE),0),\nIF(AND(AU82=\"Nul\",$AW82<>$H82),40+(2*ROUNDDOWN(10*VLOOKUP(AR82,$A$8:$CB$107,49,FALSE)/VLOOKUP(AR82,$A$8:$H$107,8,FALSE),0)-ROUNDDOWN(10*AW82/$H82,0)),IF(AND(AU82=\"Nul\",$AW82=$H82),58,0))))","v":0},null,{"$f":"IF(AY82<>\"\",VLOOKUP(AY82,$A$8:$C$107,2,FALSE),\"\")","v":""},{"$f":"IF(AY82<>\"\",IF(AY82=$A82,\"ERR\",IF(OR(AY82=$I82,AY82=$P82,AY82=$W82,AY82=$AD82,AY82=$AK82,AY82=$AR82),\"DUP\",IF(ISNA(VLOOKUP(AY82,$A$8:$A$107,1,FALSE)),\"ERR\",IF(COUNTIF($I$8:$I$107,AY82)>1,\"ERR\",IF($D82=VLOOKUP(AY82,$A$8:$D$107,4,FALSE),\"CLUB\",\"OK\"))))),\"\")","v":""},null,{"$f":"IF(BB82<>\"\",IF(BB82=\"Victoire\",IF(VLOOKUP(AY82,$A$8:$BL$107,54,FALSE)=\"Défaite\",\"OK\",\"ERR\"),IF(BB82=\"Défaite\",IF(VLOOKUP(AY82,$A$8:$BL$107,54,FALSE)=\"Victoire\",\"OK\",\"ERR\"),IF(BB82=\"Nul\",IF(VLOOKUP(AY82,$A$8:$BL$107,54,FALSE)=\"Nul\",\"OK\",\"ERR\")))),\"\")","v":""},null,{"$f":"IF(BB82=\"Victoire\",100-ROUNDDOWN(20*BD82/$H82,0),\nIF(BB82=\"Défaite\",10+ROUNDDOWN(20*VLOOKUP(AY82,$A$8:$CB$107,56,FALSE)/VLOOKUP(AY82,$A$8:$H$107,8,FALSE),0),\nIF(AND(BB82=\"Nul\",$BD82<>$H82),40+(2*ROUNDDOWN(10*VLOOKUP(AY82,$A$8:$CB$107,56,FALSE)/VLOOKUP(AY82,$A$8:$H$107,8,FALSE),0)-ROUNDDOWN(10*BD82/$H82,0)),IF(AND(BB82=\"Nul\",$BD82=$H82),58,0))))","v":0},null,{"$f":"IF(BF82<>\"\",VLOOKUP(BF82,$A$8:$C$107,2,FALSE),\"\")","v":""},{"$f":"IF(BF82<>\"\",IF(BF82=$A82,\"ERR\",IF(OR(BF82=$I82,BF82=$P82,BF82=$W82,BF82=$AD82,BF82=$AK82,BF82=$AR82,BF82=$AY82),\"DUP\",IF(ISNA(VLOOKUP(BF82,$A$8:$A$107,1,FALSE)),\"ERR\",IF(COUNTIF($I$8:$I$107,BF82)>1,\"ERR\",IF($D82=VLOOKUP(BF82,$A$8:$D$107,4,FALSE),\"CLUB\",\"OK\"))))),\"\")","v":""},null,{"$f":"IF(BI82<>\"\",IF(BI82=\"Victoire\",IF(VLOOKUP(BF82,$A$8:$BL$107,61,FALSE)=\"Défaite\",\"OK\",\"ERR\"),IF(BI82=\"Défaite\",IF(VLOOKUP(BF82,$A$8:$BL$107,61,FALSE)=\"Victoire\",\"OK\",\"ERR\"),IF(BI82=\"Nul\",IF(VLOOKUP(BF82,$A$8:$BL$107,61,FALSE)=\"Nul\",\"OK\",\"ERR\")))),\"\")","v":""},null,{"$f":"IF(BI82=\"Victoire\",100-ROUNDDOWN(20*BK82/$H82,0),\nIF(BI82=\"Défaite\",10+ROUNDDOWN(20*VLOOKUP(BF82,$A$8:$CB$107,63,FALSE)/VLOOKUP(BF82,$A$8:$H$107,8,FALSE),0),\nIF(AND(BI82=\"Nul\",$BK82<>$H82),40+(2*ROUNDDOWN(10*VLOOKUP(BF82,$A$8:$CB$107,63,FALSE)/VLOOKUP(BF82,$A$8:$H$107,8,FALSE),0)-ROUNDDOWN(10*BK82/$H82,0)),IF(AND(BI82=\"Nul\",$BK82=$H82),58,0))))","v":0},null,{"$f":"IF(BM82<>\"\",VLOOKUP(BM82,$A$8:$C$107,2,FALSE),\"\")","v":""},{"$f":"IF(BM82<>\"\",IF(BM82=$A82,\"ERR\",IF(OR(BM82=$I82,BM82=$P82,BM82=$W82,BM82=$AD82,BM82=$AK82,BM82=$AR82,BM82=$AY82,BM82=$BF82),\"DUP\",IF(ISNA(VLOOKUP(BM82,$A$8:$A$107,1,FALSE)),\"ERR\",IF(COUNTIF($I$8:$I$107,BM82)>1,\"ERR\",IF($D82=VLOOKUP(BM82,$A$8:$D$107,4,FALSE),\"CLUB\",\"OK\"))))),\"\")","v":""},null,{"$f":"IF(BP82<>\"\",IF(BP82=\"Victoire\",IF(VLOOKUP(BM82,$A$8:$BS$107,68,FALSE)=\"Défaite\",\"OK\",\"ERR\"),IF(BP82=\"Défaite\",IF(VLOOKUP(BM82,$A$8:$BS$107,68,FALSE)=\"Victoire\",\"OK\",\"ERR\"),IF(BP82=\"Nul\",IF(VLOOKUP(BM82,$A$8:$BS$107,68,FALSE)=\"Nul\",\"OK\",\"ERR\")))),\"\")","v":""},null,{"$f":"IF(BP82=\"Victoire\",100-ROUNDDOWN(20*BR82/$H82,0),\nIF(BP82=\"Défaite\",10+ROUNDDOWN(20*VLOOKUP(BM82,$A$8:$CB$107,70,FALSE)/VLOOKUP(BM82,$A$8:$H$107,8,FALSE),0),\nIF(AND(BP82=\"Nul\",$BR82<>$H82),40+(2*ROUNDDOWN(10*VLOOKUP(BM82,$A$8:$CB$107,70,FALSE)/VLOOKUP(BM82,$A$8:$H$107,8,FALSE),0)-ROUNDDOWN(10*BR82/$H82,0)),IF(AND(BP82=\"Nul\",$BR82=$H82),58,0))))","v":0},null,{"$f":"IF($I82<>\"\",VLOOKUP($I82,$A$8:$N$107,5,FALSE),0)+IF($P82<>\"\",VLOOKUP($P82,$A$8:$N$107,5,FALSE),0)+IF($W82<>\"\",VLOOKUP($W82,$A$8:$N$107,5,FALSE),0)+IF($AD82<>\"\",VLOOKUP($AD82,$A$8:$N$107,5,FALSE),0)+IF($AK82<>\"\",VLOOKUP($AK82,$A$8:$N$107,5,FALSE),0)+IF($AR82<>\"\",VLOOKUP($AR82,$A$8:$N$107,5,FALSE),0)+IF($AY82<>\"\",VLOOKUP($AY82,$A$8:$N$107,5,FALSE),0)+IF($BF82<>\"\",VLOOKUP($BF82,$A$8:$N$107,5,FALSE),0)+IF($BM82<>\"\",VLOOKUP($BM82,$A$8:$N$107,5,FALSE),0)","v":0}]
[{"$nulls":4},0,null,{"$f":"IF($F83<>\"\",VLOOKUP(F83,Armies!$A$1:$C$300,3,FALSE),\"\")","v":""},null,null,{"$f":"IF(I83<>\"\",VLOOKUP(I83,$A$8:$C$107,2,FALSE),\"\")","v":""},{"$f":"IF(I83<>\"\",IF(I83=$A83,\"ERR\",IF(OR(I83=$P83,I83=$W83,I83=$AD83,I83=$AK83),\"DUP\",IF(ISNA(VLOOKUP(I83,$A$8:$A$107,1,FALSE)),\"ERR\",IF(COUNTIF($I$8:$I$107,I83)>1,\"ERR\",IF($D83=VLOOKUP(I83,$A$8:$D$107,4,FALSE),\"CLUB\",\"OK\"))))),\"\")","v":""},null,{"$f":"IF(L83<>\"\",IF(L83=\"Victoire\",IF(VLOOKUP(I83,$A$8:$L$107,12,FALSE)=\"Défaite\",\"OK\",\"ERR\"),IF(L83=\"Défaite\",IF(VLOOKUP(I83,$A$8:$L$107,12,FALSE)=\"Victoire\",\"OK\",\"ERR\"),IF(L83=\"Nul\",IF(VLOOKUP(I83,$A$8:$L$107,12,FALSE)=\"Nul\",\"OK\",\"ERR\")))),\"\")","v":""},null,{"$f":"IF(L83=\"Victoire\",100-ROUNDDOWN(20*N83/$H83,0),\nIF(L83=\"Défaite\",10+ROUNDDOWN(20*VLOOKUP(I83,$A$8:$N$107,14,FALSE)/VLOOKUP(I83,$A$8:$H$107,8,FALSE),0),\nIF(AND(L83=\"Nul\",$N83<>$H83),40+(2*ROUNDDOWN(10*VLOOKUP(I83,$A$8:$N$107,14,FALSE)/VLOOKUP(I83,$A$8:$H$107,8,FALSE),0)-ROUNDDOWN(10*N83/$H83,0)),IF(AND(L83=\"Nul\",$N83=$H83),58,0))))","v":0},null,{"$f":"IF(P83<>\"\",VLOOKUP(P83,$A$8:$C$107,2,FALSE),\"\")","v":""},{"$f":"IF(P83<>\"\",IF(P83=$A83,\"ERR\",IF(OR(P83=$I83,P83=$W83,P83=$AD83,P83=$AK83),\"DUP\",IF(ISNA(VLOOKUP(P83,$A$8:$A$107,1,FALSE)),\"ERR\",IF(COUNTIF($I$8:$I$107,P83)>1,\"ERR\",IF($D83=VLOOKUP(P83,$A$8:$D$107,4,FALSE),\"CLUB\",\"OK\"))))),\"\")","v":""},null,{"$f":"IF(S83<>\"\",IF(S83=\"Victoire\",IF(VLOOKUP(P83,$A$8:$AO$107,19,FALSE)=\"Défaite\",\"OK\",\"ERR\"),IF(S83=\"Défaite\",IF(VLOOKUP(P83,$A$8:$AO$107,19,FALSE)=\"Victoire\",\"OK\",\"ERR\"),IF(S83=\"Nul\",IF(VLOOKUP(P83,$A$8:$AO$107,19,FALSE)=\"Nul\",\"OK\",\"ERR\")))),\"\")","v":""},null,{"$f":"IF(S83=\"Victoire\",100-ROUNDDOWN(20*U83/$H83,0),\nIF(S83=\"Défaite\",10+ROUNDDOWN(20*VLOOKUP(P83,$A$8:$AO$107,21,FALSE)/VLOOKUP(P83,$A$8:$H$107,8,FALSE),0),\nIF(AND(S83=\"Nul\",$U83<>$H83),40+(2*ROUNDDOWN(10*VLOOKUP(P83,$A$8:$AO$107,21,FALSE)/VLOOKUP(P83,$A$8:$H$107,8,FALSE),0)-ROUNDDOWN(10*U83/$H83,0)),IF(AND(S83=\"Nul\",$U83=$H83),58,0))))","v":0},null,{"$f":"IF(W83<>\"\",VLOOKUP(W83,$A$8:$C$107,2,FALSE),\"\")","v":""},{"$f":"IF(W83<>\"\",IF(W83=$A83,\"ERR\",IF(OR(W83=$P83,W83=$I83,W83=$AD83,W83=$AK83),\"DUP\",IF(ISNA(VLOOKUP(W83,$A$8:$A$107,1,FALSE)),\"ERR\",IF(COUNTIF($I$8:$I$107,W83)>1,\"ERR\",IF($D83=VLOOKUP(W83,$A$8:$D$107,4,FALSE),\"CLUB\",\"OK\"))))),\"\")","v":""},null,{"$f":"IF(Z83<>\"\",IF(Z83=\"Victoire\",IF(VLOOKUP(W83,$A$8:$AO$107,26,FALSE)=\"Défaite\",\"OK\",\"ERR\"),IF(Z83=\"Défaite\",IF(VLOOKUP(W83,$A$8:$AO$107,26,FALSE)=\"Victoire\",\"OK\",\"ERR\"),IF(Z83=\"Nul\",IF(VLOOKUP(W83,$A$8:$AO$107,26,FALSE)=\"Nul\",\"OK\",\"ERR\")))),\"\")","v":""},null,{"$f":"IF(Z83=\"Victoire\",100-ROUNDDOWN(20*AB83/$H83,0),\nIF(Z83=\"Défaite\",10+ROUNDDOWN(20*VLOOKUP(W83,$A$8:$AO$107,28,FALSE)/VLOOKUP(W83,$A$8:$H$107,8,FALSE),0),\nIF(AND(Z83=\"Nul\",$AB83<>$H83),40+(2*ROUNDDOWN(10*VLOOKUP(W83,$A$8:$AO$107,28,FALSE)/VLOOKUP(W83,$A$8:$H$107,8,FALSE),0)-ROUNDDOWN(10*AB83/$H83,0)),IF(AND(Z83=\"Nul\",$AB83=$H83),58,0))))","v":0},null,{"$f":"IF(AD83<>\"\",VLOOKUP(AD83,$A$8:$C$107,2,FALSE),\"\")","v":""},{"$f":"IF(AD83<>\"\",IF(AD83=$A83,\"ERR\",IF(OR(AD83=$P83,AD83=$W83,AD83=$I83,AD83=$AK83),\"DUP\",IF(ISNA(VLOOKUP(AD83,$A$8:$A$107,1,FALSE)),\"ERR\",IF(COUNTIF($I$8:$I$107,AD83)>1,\"ERR\",IF($D83=VLOOKUP(AD83,$A$8:$D$107,4,FALSE),\"CLUB\",\"OK\"))))),\"\")","v":""},null,{"$f":"IF(AG83<>\"\",IF(AG83=\"Victoire\",IF(VLOOKUP(AD83,$A$8:$AO$107,33,FALSE)=\"Défaite\",\"OK\",\"ERR\"),IF(AG83=\"Défaite\",IF(VLOOKUP(AD83,$A$8:$AO$107,33,FALSE)=\"Victoire\",\"OK\",\"ERR\"),IF(AG83=\"Nul\",IF(VLOOKUP(AD83,$A$8:$AO$107,33,FALSE)=\"Nul\",\"OK\",\"ERR\")))),\"\")","v":""},null,{"$f":"IF(AG83=\"Victoire\",100-ROUNDDOWN(20*AI83/$H83,0),\nIF(AG83=\"Défaite\",10+ROUNDDOWN(20*VLOOKUP(AD83,$A$8:$AO$107,35,FALSE)/VLOOKUP(AD83,$A$8:$H$107,8,FALSE),0),\nIF(AND(AG83=\"Nul\",$AI83<>$H83),40+(2*ROUNDDOWN(10*VLOOKUP(AD83,$A$8:$AO$107,35,FALSE)/VLOOKUP(AD83,$A$8:$H$107,8,FALSE),0)-ROUNDDOWN(10*AI83/$H83,0)),IF(AND(AG83=\"Nul\",$AI83=$H83),58,0))))","v":0},null,{"$f":"IF(AK83<>\"\",VLOOKUP(AK83,$A$8:$C$107,2,FALSE),\"\")","v":""},{"$f":"IF(AK83<>\"\",IF(AK83=$A83,\"ERR\",IF(OR(AK83=$P83,AK83=$W83,AK83=$AD83,AK83=$I83),\"DUP\",IF(ISNA(VLOOKUP(AK83,$A$8:$A$107,1,FALSE)),\"ERR\",IF(COUNTIF($I$8:$I$107,AK83)>1,\"ERR\",IF($D83=VLOOKUP(AK83,$A$8:$D$107,4,FALSE),\"CLUB\",\"OK\"))))),\"\")","v":""},null,{"$f":"IF(AN83<>\"\",IF(AN83=\"Victoire\",IF(VLOOKUP(AK83,$A$8:$AO$107,40,FALSE)=\"Défaite\",\"OK\",\"ERR\"),IF(AN83=\"Défaite\",IF(VLOOKUP(AK83,$A$8:$AO$107,40,FALSE)=\"Victoire\",\"OK\",\"ERR\"),IF(AN83=\"Nul\",IF(VLOOKUP(AK83,$A$8:$AO$107,40,FALSE)=\"Nul\",\"OK\",\"ERR\")))),\"\")","v":""},null,{"$f":"IF(AN83=\"Victoire\",100-ROUNDDOWN(20*AP83/$H83,0),\nIF(AN83=\"Défaite\",10+ROUNDDOWN(20*VLOOKUP(AK83,$A$8:$CB$107,42,FALSE)/VLOOKUP(AK83,$A$8:$H$107,8,FALSE),0),\nIF(AND(AN83=\"Nul\",$AP83<>$H83),40+(2*ROUNDDOWN(10*VLOOKUP(AK83,$A$8:$CB$107,42,FALSE)/VLOOKUP(AK83,$A$8:$H$107,8,FALSE),0)-ROUNDDOWN(10*AP83/$H83,0)),IF(AND(AN83=\"Nul\",$AP83=$H83),58,0))))","v":0},null,{"$f":"IF(AR83<>\"\",VLOOKUP(AR83,$A$8:$C$107,2,FALSE),\"\")","v":""},{"$f":"IF(AR83<>\"\",IF(AR83=$A83,\"ERR\",IF(OR(AR83=$I83,AR83=$P83,AR83=$W83,AR83=$AD83,AR83=$AK83),\"DUP\",IF(ISNA(VLOOKUP(AR83,$A$8:$A$107,1,FALSE)),\"ERR\",IF(COUNTIF($I$8:$I$107,AR83)>1,\"ERR\",IF($D83=VLOOKUP(AR83,$A$8:$D$107,4,FALSE),\"CLUB\",\"OK\"))))),\"\")","v":""},null,{"$f":"IF(AU83<>\"\",IF(AU83=\"Victoire\",IF(VLOOKUP(AR83,$A$8:$BL$107,47,FALSE)=\"Défaite\",\"OK\",\"ERR\"),IF(AU83=\"Défaite\",IF(VLOOKUP(AR83,$A$8:$BL$107,47,FALSE)=\"Victoire\",\"OK\",\"ERR\"),IF(AU83=\"Nul\",IF(VLOOKUP(AR83,$A$8:$BL$107,47,FALSE)=\"Nul\",\"OK\",\"ERR\")))),\"\")","v":""},null,{"$f":"IF(AU83=\"Victoire\",100-ROUNDDOWN(20*AW83/$H83,0),\nIF(AU83=\"Défaite\",10+ROUNDDOWN(20*VLOOKUP(AR83,$A$8:$CB$107,49,FALSE)/VLOOKUP(AR83,$A$8:$H$107,8,FALSE),0),\nIF(AND(AU83=\"Nul\",$AW83<>$H83),40+(2*ROUNDDOWN(10*VLOOKUP(AR83,$A$8:$CB$107,49,FALSE)/VLOOKUP(AR83,$A$8:$H$107,8,FALSE),0)-ROUNDDOWN(10*AW83/$H83,0)),IF(AND(AU83=\"Nul\",$AW83=$H83),58,0))))","v":0},null,{"$f":"IF(AY83<>\"\",VLOOKUP(AY83,$A$8:$C$107,2,FALSE),\"\")","v":""},{"$f":"IF(AY83<>\"\",IF(AY83=$A83,\"ERR\",IF(OR(AY83=$I83,AY83=$P83,AY83=$W83,AY83=$AD83,AY83=$AK83,AY83=$AR83),\"DUP\",IF(ISNA(VLOOKUP(AY83,$A$8:$A$107,1,FALSE)),\"ERR\",IF(COUNTIF($I$8:$I$107,AY83)>1,\"ERR\",IF($D83=VLOOKUP(AY83,$A$8:$D$107,4,FALSE),\"CLUB\",\"OK\"))))),\"\")","v":""},null,{"$f":"IF(BB83<>\"\",IF(BB83=\"Victoire\",IF(VLOOKUP(AY83,$A$8:$BL$107,54,FALSE)=\"Défaite\",\"OK\",\"ERR\"),IF(BB83=\"Défaite\",IF(VLOOKUP(AY83,$A$8:$BL$107,54,FALSE)=\"Victoire\",\"OK\",\"ERR\"),IF(BB83=\"Nul\",IF(VLOOKUP(AY83,$A$8:$BL$107,54,FALSE)=\"Nul\",\"OK\",\"ERR\")))),\"\")","v":""},null,{"$f":"IF(BB83=\"Victoire\",100-ROUNDDOWN(20*BD83/$H83,0),\nIF(BB83=\"Défaite\",10+ROUNDDOWN(20*VLOOKUP(AY83,$A$8:$CB$107,56,FALSE)/VLOOKUP(AY83,$A$8:$H$107,8,FALSE),0),\nIF(AND(BB83=\"Nul\",$BD83<>$H83),40+(2*ROUNDDOWN(10*VLOOKUP(AY83,$A$8:$CB$107,56,FALSE)/VLOOKUP(AY83,$A$8:$H$107,8,FALSE),0)-ROUNDDOWN(10*BD83/$H83,0)),IF(AND(BB83=\"Nul\",$BD83=$H83),58,0))))","v":0},null,{"$f":"IF(BF83<>\"\",VLOOKUP(BF83,$A$8:$C$107,2,FALSE),\"\")","v":""},{"$f":"IF(BF83<>\"\",IF(BF83=$A83,\"ERR\",IF(OR(BF83=$I83,BF83=$P83,BF83=$W83,BF83=$AD83,BF83=$AK83,BF83=$AR83,BF83=$AY83),\"DUP\",IF(ISNA(VLOOKUP(BF83,$A$8:$A$107,1,FALSE)),\"ERR\",IF(COUNTIF($I$8:$I$107,BF83)>1,\"ERR\",IF($D83=VLOOKUP(BF83,$A$8:$D$107,4,FALSE),\"CLUB\",\"OK\"))))),\"\")","v":""},null,{"$f":"IF(BI83<>\"\",IF(BI83=\"Victoire\",IF(VLOOKUP(BF83,$A$8:$BL$107,61,FALSE)=\"Défaite\",\"OK\",\"ERR\"),IF(BI83=\"Défaite\",IF(VLOOKUP(BF83,$A$8:$BL$107,61,FALSE)=\"Victoire\",\"OK\",\"ERR\"),IF(BI83=\"Nul\",IF(VLOOKUP(BF83,$A$8:$BL$107,61,FALSE)=\"Nul\",\"OK\",\"ERR\")))),\"\")","v":""},null,{"$f":"IF(BI83=\"Victoire\",100-ROUNDDOWN(20*BK83/$H83,0),\nIF(BI83=\"Défaite\",10+ROUNDDOWN(20*VLOOKUP(BF83,$A$8:$CB$107,63,FALSE)/VLOOKUP(BF83,$A$8:$H$107,8,FALSE),0),\nIF(AND(BI83=\"Nul\",$BK83<>$H83),40+(2*ROUNDDOWN(10*VLOOKUP(BF83,$A$8:$CB$107,63,FALSE)/VLOOKUP(BF83,$A$8:$H$107,8,FALSE),0)-ROUNDDOWN(10*BK83/$H83,0)),IF(AND(BI83=\"Nul\",$BK83=$H83),58,0))))","v":0},null,{"$f":"IF(BM83<>\"\",VLOOKUP(BM83,$A$8:$C$107,2,FALSE),\"\")","v":""},{"$f":"IF(BM83<>\"\",IF(BM83=$A83,\"ERR\",IF(OR(BM83=$I83,BM83=$P83,BM83=$W83,BM83=$AD83,BM83=$AK83,BM83=$AR83,BM83=$AY83,BM83=$BF83),\"DUP\",IF(ISNA(VLOOKUP(BM83,$A$8:$A$107,1,FALSE)),\"ERR\",IF(COUNTIF($I$8:$I$107,BM83)>1,\"ERR\",IF($D83=VLOOKUP(BM83,$A$8:$D$107,4,FALSE),\"CLUB\",\"OK\"))))),\"\")","v":""},null,{"$f":"IF(BP83<>\"\",IF(BP83=\"Victoire\",IF(VLOOKUP(BM83,$A$8:$BS$107,68,FALSE)=\"Défaite\",\"OK\",\"ERR\"),IF(BP83=\"Défaite\",IF(VLOOKUP(BM83,$A$8:$BS$107,68,FALSE)=\"Victoire\",\"OK\",\"ERR\"),IF(BP83=\"Nul\",IF(VLOOKUP(BM83,$A$8:$BS$107,68,FALSE)=\"Nul\",\"OK\",\"ERR\")))),\"\")","v":""},null,{"$f":"IF(BP83=\"Victoire\",100-ROUNDDOWN(20*BR83/$H83,0),\nIF(BP83=\"Défaite\",10+ROUNDDOWN(20*VLOOKUP(BM83,$A$8:$CB$107,70,FALSE)/VLOOKUP(BM83,$A$8:$H$107,8,FALSE),0),\nIF(AND(BP83=\"Nul\",$BR83<>$H83),40+(2*ROUNDDOWN(10*VLOOKUP(BM83,$A$8:$CB$107,70,FALSE)/VLOOKUP(BM83,$A$8:$H$107,8,FALSE),0)-ROUNDDOWN(10*BR83/$H83,0)),IF(AND(BP83=\"Nul\",$BR83=$H83),58,0))))","v":0},null,{"$f":"IF($I83<>\"\",VLOOKUP($I83,$A$8:$N$107,5,FALSE),0)+IF($P83<>\"\",VLOOKUP($P83,$A$8:$N$107,5,FALSE),0)+IF($W83<>\"\",VLOOKUP($W83,$A$8:$N$107,5,FALSE),0)+IF($AD83<>\"\",VLOOKUP($AD83,$A$8:$N$107,5,FALSE),0)+IF($AK83<>\"\",VLOOKUP($AK83,$A$8:$N$107,5,FALSE),0)+IF($AR83<>\"\",VLOOKUP($AR83,$A$8:$N$107,5,FALSE),0)+IF($AY83<>\"\",VLOOKUP($AY83,$A$8:$N$107,5,FALSE),0)+IF($BF83<>\"\",VLOOKUP($BF83,$A$8:$N$107,5,FALSE),0)+IF($BM83<>\"\",VLOOKUP($BM83,$A$8:$N$107,5,FALSE),0)","v":0}]
[{"$nulls":4},0,null,{"$f":"IF($F84<>\"\",VLOOKUP(F84,Armies!$A$1:$C$300,3,FALSE),\"\")","v":""},null,null,{"$f":"IF(I84<>\"\",VLOOKUP(I84,$A$8:$C$107,2,FALSE),\"\")","v":""},{"$f":"IF(I84<>\"\",IF(I84=$A84,\"ERR\",IF(OR(I84=$P84,I84=$W84,I84=$AD84,I84=$AK84),\"DUP\",IF(ISNA(VLOOKUP(I84,$A$8:$A$107,1,FALSE)),\"ERR\",IF(COUNTIF($I$8:$I$107,I84)>1,\"ERR\",IF($D84=VLOOKUP(I84,$A$8:$D$107,4,FALSE),\"CLUB\",\"OK\"))))),\"\")","v":""},null,{"$f":"IF(L84<>\"\",IF(L84=\"Victoire\",IF(VLOOKUP(I84,$A$8:$L$107,12,FALSE)=\"Défaite\",\"OK\",\"ERR\"),IF(L84=\"Défaite\",IF(VLOOKUP(I84,$A$8:$L$107,12,FALSE)=\"Victoire\",\"OK\",\"ERR\"),IF(L84=\"Nul\",IF(VLOOKUP(I84,$A$8:$L$107,12,FALSE)=\"Nul\",\"OK\",\"ERR\")))),\"\")","v":""},null,{"$f":"IF(L84=\"Victoire\",100-ROUNDDOWN(20*N84/$H84,0),\nIF(L84=\"Défaite\",10+ROUNDDOWN(20*VLOOKUP(I84,$A$8:$N$107,14,FALSE)/VLOOKUP(I84,$A$8:$H$107,8,FALSE),0),\nIF(AND(L84=\"Nul\",$N84<>$H84),40+(2*ROUNDDOWN(10*VLOOKUP(I84,$A$8:$N$107,14,FALSE)/VLOOKUP(I84,$A$8:$H$107,8,FALSE),0)-ROUNDDOWN(10*N84/$H84,0)),IF(AND(L84=\"Nul\",$N84=$H84),58,0))))","v":0},null,{"$f":"IF(P84<>\"\",VLOOKUP(P84,$A$8:$C$107,2,FALSE),\"\")","v":""},{"$f":"IF(P84<>\"\",IF(P84=$A84,\"ERR\",IF(OR(P84=$I84,P84=$W84,P84=$AD84,P84=$AK84),\"DUP\",IF(ISNA(VLOOKUP(P84,$A$8:$A$107,1,FALSE)),\"ERR\",IF(COUNTIF($I$8:$I$107,P84)>1,\"ERR\",IF($D84=VLOOKUP(P84,$A$8:$D$107,4,FALSE),\"CLUB\",\"OK\"))))),\"\")","v":""},null,{"$f":"IF(S84<>\"\",IF(S84=\"Victoire\",IF(VLOOKUP(P84,$A$8:$AO$107,19,FALSE)=\"Défaite\",\"OK\",\"ERR\"),IF(S84=\"Défaite\",IF(VLOOKUP(P84,$A$8:$AO$107,19,FALSE)=\"Victoire\",\"OK\",\"ERR\"),IF(S84=\"Nul\",IF(VLOOKUP(P84,$A$8:$AO$107,19,FALSE)=\"Nul\",\"OK\",\"ERR\")))),\"\")","v":""},null,{"$f":"IF(S84=\"Victoire\",100-ROUNDDOWN(20*U84/$H84,0),\nIF(S84=\"Défaite\",10+ROUNDDOWN(20*VLOOKUP(P84,$A$8:$AO$107,21,FALSE)/VLOOKUP(P84,$A$8:$H$107,8,FALSE),0),\nIF(AND(S84=\"Nul\",$U84<>$H84),40+(2*ROUNDDOWN(10*VLOOKUP(P84,$A$8:$AO$107,21,FALSE)/VLOOKUP(P84,$A$8:$H$107,8,FALSE),0)-ROUNDDOWN(10*U84/$H84,0)),IF(AND(S84=\"Nul\",$U84=$H84),58,0))))","v":0},null,{"$f":"IF(W84<>\"\",VLOOKUP(W84,$A$8:$C$107,2,FALSE),\"\")","v":""},{"$f":"IF(W84<>\"\",IF(W84=$A84,\"ERR\",IF(OR(W84=$P84,W84=$I84,W84=$AD84,W84=$AK84),\"DUP\",IF(ISNA(VLOOKUP(W84,$A$8:$A$107,1,FALSE)),\"ERR\",IF(COUNTIF($I$8:$I$107,W84)>1,\"ERR\",IF($D84=VLOOKUP(W84,$A$8:$D$107,4,FALSE),\"CLUB\",\"OK\"))))),\"\")","v":""},null,{"$f":"IF(Z84<>\"\",IF(Z84=\"Victoire\",IF(VLOOKUP(W84,$A$8:$AO$107,26,FALSE)=\"Défaite\",\"OK\",\"ERR\"),IF(Z84=\"Défaite\",IF(VLOOKUP(W84,$A$8:$AO$107,26,FALSE)=\"Victoire\",\"OK\",\"ERR\"),IF(Z84=\"Nul\",IF(VLOOKUP(W84,$A$8:$AO$107,26,FALSE)=\"Nul\",\"OK\",\"ERR\")))),\"\")","v":""},null,{"$f":"IF(Z84=\"Victoire\",100-ROUNDDOWN(20*AB84/$H84,0),\nIF(Z84=\"Défaite\",10+ROUNDDOWN(20*VLOOKUP(W84,$A$8:$AO$107,28,FALSE)/VLOOKUP(W84,$A$8:$H$107,8,FALSE),0),\nIF(AND(Z84=\"Nul\",$AB84<>$H84),40+(2*ROUNDDOWN(10*VLOOKUP(W84,$A$8:$AO$107,28,FALSE)/VLOOKUP(W84,$A$8:$H$107,8,FALSE),0)-ROUNDDOWN(10*AB84/$H84,0)),IF(AND(Z84=\"Nul\",$AB84=$H84),58,0))))","v":0},null,{"$f":"IF(AD84<>\"\",VLOOKUP(AD84,$A$8:$C$107,2,FALSE),\"\")","v":""},{"$f":"IF(AD84<>\"\",IF(AD84=$A84,\"ERR\",IF(OR(AD84=$P84,AD84=$W84,AD84=$I84,AD84=$AK84),\"DUP\",IF(ISNA(VLOOKUP(AD84,$A$8:$A$107,1,FALSE)),\"ERR\",IF(COUNTIF($I$8:$I$107,AD84)>1,\"ERR\",IF($D84=VLOOKUP(AD84,$A$8:$D$107,4,FALSE),\"CLUB\",\"OK\"))))),\"\")","v":""},null,{"$f":"IF(AG84<>\"\",IF(AG84=\"Victoire\",IF(VLOOKUP(AD84,$A$8:$AO$107,33,FALSE)=\"Défaite\",\"OK\",\"ERR\"),IF(AG84=\"Défaite\",IF(VLOOKUP(AD84,$A$8:$AO$107,33,FALSE)=\"Victoire\",\"OK\",\"ERR\"),IF(AG84=\"Nul\",IF(VLOOKUP(AD84,$A$8:$AO$107,33,FALSE)=\"Nul\",\"OK\",\"ERR\")))),\"\")","v":""},null,{"$f":"IF(AG84=\"Victoire\",100-ROUNDDOWN(20*AI84/$H84,0),\nIF(AG84=\"Défaite\",10+ROUNDDOWN(20*VLOOKUP(AD84,$A$8:$AO$107,35,FALSE)/VLOOKUP(AD84,$A$8:$H$107,8,FALSE),0),\nIF(AND(AG84=\"Nul\",$AI84<>$H84),40+(2*ROUNDDOWN(10*VLOOKUP(AD84,$A$8:$AO$107,35,FALSE)/VLOOKUP(AD84,$A$8:$H$107,8,FALSE),0)-ROUNDDOWN(10*AI84/$H84,0)),IF(AND(AG84=\"Nul\",$AI84=$H84),58,0))))","v":0},null,{"$f":"IF(AK84<>\"\",VLOOKUP(AK84,$A$8:$C$107,2,FALSE),\"\")","v":""},{"$f":"IF(AK84<>\"\",IF(AK84=$A84,\"ERR\",IF(OR(AK84=$P84,AK84=$W84,AK84=$AD84,AK84=$I84),\"DUP\",IF(ISNA(VLOOKUP(AK84,$A$8:$A$107,1,FALSE)),\"ERR\",IF(COUNTIF($I$8:$I$107,AK84)>1,\"ERR\",IF($D84=VLOOKUP(AK84,$A$8:$D$107,4,FALSE),\"CLUB\",\"OK\"))))),\"\")","v":""},null,{"$f":"IF(AN84<>\"\",IF(AN84=\"Victoire\",IF(VLOOKUP(AK84,$A$8:$AO$107,40,FALSE)=\"Défaite\",\"OK\",\"ERR\"),IF(AN84=\"Défaite\",IF(VLOOKUP(AK84,$A$8:$AO$107,40,FALSE)=\"Victoire\",\"OK\",\"ERR\"),IF(AN84=\"Nul\",IF(VLOOKUP(AK84,$A$8:$AO$107,40,FALSE)=\"Nul\",\"OK\",\"ERR\")))),\"\")","v":""},null,{"$f":"IF(AN84=\"Victoire\",100-ROUNDDOWN(20*AP84/$H84,0),\nIF(AN84=\"Défaite\",10+ROUNDDOWN(20*VLOOKUP(AK84,$A$8:$CB$107,42,FALSE)/VLOOKUP(AK84,$A$8:$H$107,8,FALSE),0),\nIF(AND(AN84=\"Nul\",$AP84<>$H84),40+(2*ROUNDDOWN(10*VLOOKUP(AK84,$A$8:$CB$107,42,FALSE)/VLOOKUP(AK84,$A$8:$H$107,8,FALSE),0)-ROUNDDOWN(10*AP84/$H84,0)),IF(AND(AN84=\"Nul\",$AP84=$H84),58,0))))","v":0},null,{"$f":"IF(AR84<>\"\",VLOOKUP(AR84,$A$8:$C$107,2,FALSE),\"\")","v":""},{"$f":"IF(AR84<>\"\",IF(AR84=$A84,\"ERR\",IF(OR(AR84=$I84,AR84=$P84,AR84=$W84,AR84=$AD84,AR84=$AK84),\"DUP\",IF(ISNA(VLOOKUP(AR84,$A$8:$A$107,1,FALSE)),\"ERR\",IF(COUNTIF($I$8:$I$107,AR84)>1,\"ERR\",IF($D84=VLOOKUP(AR84,$A$8:$D$107,4,FALSE),\"CLUB\",\"OK\"))))),\"\")","v":""},null,{"$f":"IF(AU84<>\"\",IF(AU84=\"Victoire\",IF(VLOOKUP(AR84,$A$8:$BL$107,47,FALSE)=\"Défaite\",\"OK\",\"ERR\"),IF(AU84=\"Défaite\",IF(VLOOKUP(AR84,$A$8:$BL$107,47,FALSE)=\"Victoire\",\"OK\",\"ERR\"),IF(AU84=\"Nul\",IF(VLOOKUP(AR84,$A$8:$BL$107,47,FALSE)=\"Nul\",\"OK\",\"ERR\")))),\"\")","v":""},null,{"$f":"IF(AU84=\"Victoire\",100-ROUNDDOWN(20*AW84/$H84,0),\nIF(AU84=\"Défaite\",10+ROUNDDOWN(20*VLOOKUP(AR84,$A$8:$CB$107,49,FALSE)/VLOOKUP(AR84,$A$8:$H$107,8,FALSE),0),\nIF(AND(AU84=\"Nul\",$AW84<>$H84),40+(2*ROUNDDOWN(10*VLOOKUP(AR84,$A$8:$CB$107,49,FALSE)/VLOOKUP(AR84,$A$8:$H$107,8,FALSE),0)-ROUNDDOWN(10*AW84/$H84,0)),IF(AND(AU84=\"Nul\",$AW84=$H84),58,0))))","v":0},null,{"$f":"IF(AY84<>\"\",VLOOKUP(AY84,$A$8:$C$107,2,FALSE),\"\")","v":""},{"$f":"IF(AY84<>\"\",IF(AY84=$A84,\"ERR\",IF(OR(AY84=$I84,AY84=$P84,AY84=$W84,AY84=$AD84,AY84=$AK84,AY84=$AR84),\"DUP\",IF(ISNA(VLOOKUP(AY84,$A$8:$A$107,1,FALSE)),\"ERR\",IF(COUNTIF($I$8:$I$107,AY84)>1,\"ERR\",IF($D84=VLOOKUP(AY84,$A$8:$D$107,4,FALSE),\"CLUB\",\"OK\"))))),\"\")","v":""},null,{"$f":"IF(BB84<>\"\",IF(BB84=\"Victoire\",IF(VLOOKUP(AY84,$A$8:$BL$107,54,FALSE)=\"Défaite\",\"OK\",\"ERR\"),IF(BB84=\"Défaite\",IF(VLOOKUP(AY84,$A$8:$BL$107,54,FALSE)=\"Victoire\",\"OK\",\"ERR\"),IF(BB84=\"Nul\",IF(VLOOKUP(AY84,$A$8:$BL$107,54,FALSE)=\"Nul\",\"OK\",\"ERR\")))),\"\")","v":""},null,{"$f":"IF(BB84=\"Victoire\",100-ROUNDDOWN(20*BD84/$H84,0),\nIF(BB84=\"Défaite\",10+ROUNDDOWN(20*VLOOKUP(AY84,$A$8:$CB$107,56,FALSE)/VLOOKUP(AY84,$A$8:$H$107,8,FALSE),0),\nIF(AND(BB84=\"Nul\",$BD84<>$H84),40+(2*ROUNDDOWN(10*VLOOKUP(AY84,$A$8:$CB$107,56,FALSE)/VLOOKUP(AY84,$A$8:$H$107,8,FALSE),0)-ROUNDDOWN(10*BD84/$H84,0)),IF(AND(BB84=\"Nul\",$BD84=$H84),58,0))))","v":0},null,{"$f":"IF(BF84<>\"\",VLOOKUP(BF84,$A$8:$C$107,2,FALSE),\"\")","v":""},{"$f":"IF(BF84<>\"\",IF(BF84=$A84,\"ERR\",IF(OR(BF84=$I84,BF84=$P84,BF84=$W84,BF84=$AD84,BF84=$AK84,BF84=$AR84,BF84=$AY84),\"DUP\",IF(ISNA(VLOOKUP(BF84,$A$8:$A$107,1,FALSE)),\"ERR\",IF(COUNTIF($I$8:$I$107,BF84)>1,\"ERR\",IF($D84=VLOOKUP(BF84,$A$8:$D$107,4,FALSE),\"CLUB\",\"OK\"))))),\"\")","v":""},null,{"$f":"IF(BI84<>\"\",IF(BI84=\"Victoire\",IF(VLOOKUP(BF84,$A$8:$BL$107,61,FALSE)=\"Défaite\",\"OK\",\"ERR\"),IF(BI84=\"Défaite\",IF(VLOOKUP(BF84,$A$8:$BL$107,61,FALSE)=\"Victoire\",\"OK\",\"ERR\"),IF(BI84=\"Nul\",IF(VLOOKUP(BF84,$A$8:$BL$107,61,FALSE)=\"Nul\",\"OK\",\"ERR\")))),\"\")","v":""},null,{"$f":"IF(BI84=\"Victoire\",100-ROUNDDOWN(20*BK84/$H84,0),\nIF(BI84=\"Défaite\",10+ROUNDDOWN(20*VLOOKUP(BF84,$A$8:$CB$107,63,FALSE)/VLOOKUP(BF84,$A$8:$H$107,8,FALSE),0),\nIF(AND(BI84=\"Nul\",$BK84<>$H84),40+(2*ROUNDDOWN(10*VLOOKUP(BF84,$A$8:$CB$107,63,FALSE)/VLOOKUP(BF84,$A$8:$H$107,8,FALSE),0)-ROUNDDOWN(10*BK84/$H84,0)),IF(AND(BI84=\"Nul\",$BK84=$H84),58,0))))","v":0},null,{"$f":"IF(BM84<>\"\",VLOOKUP(BM84,$A$8:$C$107,2,FALSE),\"\")","v":""},{"$f":"IF(BM84<>\"\",IF(BM84=$A84,\"ERR\",IF(OR(BM84=$I84,BM84=$P84,BM84=$W84,BM84=$AD84,BM84=$AK84,BM84=$AR84,BM84=$AY84,BM84=$BF84),\"DUP\",IF(ISNA(VLOOKUP(BM84,$A$8:$A$107,1,FALSE)),\"ERR\",IF(COUNTIF($I$8:$I$107,BM84)>1,\"ERR\",IF($D84=VLOOKUP(BM84,$A$8:$D$107,4,FALSE),\"CLUB\",\"OK\"))))),\"\")","v":""},null,{"$f":"IF(BP84<>\"\",IF(BP84=\"Victoire\",IF(VLOOKUP(BM84,$A$8:$BS$107,68,FALSE)=\"Défaite\",\"OK\",\"ERR\"),IF(BP84=\"Défaite\",IF(VLOOKUP(BM84,$A$8:$BS$107,68,FALSE)=\"Victoire\",\"OK\",\"ERR\"),IF(BP84=\"Nul\",IF(VLOOKUP(BM84,$A$8:$BS$107,68,FALSE)=\"Nul\",\"OK\",\"ERR\")))),\"\")","v":""},null,{"$f":"IF(BP84=\"Victoire\",100-ROUNDDOWN(20*BR84/$H84,0),\nIF(BP84=\"Défaite\",10+ROUNDDOWN(20*VLOOKUP(BM84,$A$8:$CB$107,70,FALSE)/VLOOKUP(BM84,$A$8:$H$107,8,FALSE),0),\nIF(AND(BP84=\"Nul\",$BR84<>$H84),40+(2*ROUNDDOWN(10*VLOOKUP(BM84,$A$8:$CB$107,70,FALSE)/VLOOKUP(BM84,$A$8:$H$107,8,FALSE),0)-ROUNDDOWN(10*BR84/$H84,0)),IF(AND(BP84=\"Nul\",$BR84=$H84),58,0))))","v":0},null,{"$f":"IF($I84<>\"\",VLOOKUP($I84,$A$8:$N$107,5,FALSE),0)+IF($P84<>\"\",VLOOKUP($P84,$A$8:$N$107,5,FALSE),0)+IF($W84<>\"\",VLOOKUP($W84,$A$8:$N$107,5,FALSE),0)+IF($AD84<>\"\",VLOOKUP($AD84,$A$8:$N$107,5,FALSE),0)+IF($AK84<>\"\",VLOOKUP($AK84,$A$8:$N$107,5,FALSE),0)+IF($AR84<>\"\",VLOOKUP($AR84,$A$8:$N$107,5,FALSE),0)+IF($AY84<>\"\",VLOOKUP($AY84,$A$8:$N$107,5,FALSE),0)+IF($BF84<>\"\",VLOOKUP($BF84,$A$8:$N$107,5,FALSE),0)+IF($BM84<>\"\",VLOOKUP($BM84,$A$8:$N$107,5,FALSE),0)","v":0}]
[{"$nulls":4},0,null,{"$f":"IF($F85<>\"\",VLOOKUP(F85,Armies!$A$1:$C$300,3,FALSE),\"\")","v":""},null,null,{"$f":"IF(I85<>\"\",VLOOKUP(I85,$A$8:$C$107,2,FALSE),\"\")","v":""},{"$f":"IF(I85<>\"\",IF(I85=$A85,\"ERR\",IF(OR(I85=$P85,I85=$W85,I85=$AD85,I85=$AK85),\"DUP\",IF(ISNA(VLOOKUP(I85,$A$8:$A$107,1,FALSE)),\"ERR\",IF(COUNTIF($I$8:$I$107,I85)>1,\"ERR\",IF($D85=VLOOKUP(I85,$A$8:$D$107,4,FALSE),\"CLUB\",\"OK\"))))),\"\")","v":""},null,{"$f":"IF(L85<>\"\",IF(L85=\"Victoire\",IF(VLOOKUP(I85,$A$8:$L$107,12,FALSE)=\"Défaite\",\"OK\",\"ERR\"),IF(L85=\"Défaite\",IF(VLOOKUP(I85,$A$8:$L$107,12,FALSE)=\"Victoire\",\"OK\",\"ERR\"),IF(L85=\"Nul\",IF(VLOOKUP(I85,$A$8:$L$107,12,FALSE)=\"Nul\",\"OK\",\"ERR\")))),\"\")","v":""},null,{"$f":"IF(L85=\"Victoire\",100-ROUNDDOWN(20*N85/$H85,0),\nIF(L85=\"Défaite\",10+ROUNDDOWN(20*VLOOKUP(I85,$A$8:$N$107,14,FALSE)/VLOOKUP(I85,$A$8:$H$107,8,FALSE),0),\nIF(AND(L85=\"Nul\",$N85<>$H85),40+(2*ROUNDDOWN(10*VLOOKUP(I85,$A$8:$N$107,14,FALSE)/VLOOKUP(I85,$A$8:$H$107,8,FALSE),0)-ROUNDDOWN(10*N85/$H85,0)),IF(AND(L85=\"Nul\",$N85=$H85),58,0))))","v":0},null,{"$f":"IF(P85<>\"\",VLOOKUP(P85,$A$8:$C$107,2,FALSE),\"\")","v":""},{"$f":"IF(P85<>\"\",IF(P85=$A85,\"ERR\",IF(OR(P85=$I85,P85=$W85,P85=$AD85,P85=$AK85),\"DUP\",IF(ISNA(VLOOKUP(P85,$A$8:$A$107,1,FALSE)),\"ERR\",IF(COUNTIF($I$8:$I$107,P85)>1,\"ERR\",IF($D85=VLOOKUP(P85,$A$8:$D$107,4,FALSE),\"CLUB\",\"OK\"))))),\"\")","v":""},null,{"$f":"IF(S85<>\"\",IF(S85=\"Victoire\",IF(VLOOKUP(P85,$A$8:$AO$107,19,FALSE)=\"Défaite\",\"OK\",\"ERR\"),IF(S85=\"Défaite\",IF(VLOOKUP(P85,$A$8:$AO$107,19,FALSE)=\"Victoire\",\"OK\",\"ERR\"),IF(S85=\"Nul\",IF(VLOOKUP(P85,$A$8:$AO$107,19,FALSE)=\"Nul\",\"OK\",\"ERR\")))),\"\")","v":""},null,{"$f":"IF(S85=\"Victoire\",100-ROUNDDOWN(20*U85/$H85,0),\nIF(S85=\"Défaite\",10+ROUNDDOWN(20*VLOOKUP(P85,$A$8:$AO$107,21,FALSE)/VLOOKUP(P85,$A$8:$H$107,8,FALSE),0),\nIF(AND(S85=\"Nul\",$U85<>$H85),40+(2*ROUNDDOWN(10*VLOOKUP(P85,$A$8:$AO$107,21,FALSE)/VLOOKUP(P85,$A$8:$H$107,8,FALSE),0)-ROUNDDOWN(10*U85/$H85,0)),IF(AND(S85=\"Nul\",$U85=$H85),58,0))))","v":0},null,{"$f":"IF(W85<>\"\",VLOOKUP(W85,$A$8:$C$107,2,FALSE),\"\")","v":""},{"$f":"IF(W85<>\"\",IF(W85=$A85,\"ERR\",IF(OR(W85=$P85,W85=$I85,W85=$AD85,W85=$AK85),\"DUP\",IF(ISNA(VLOOKUP(W85,$A$8:$A$107,1,FALSE)),\"ERR\",IF(COUNTIF($I$8:$I$107,W85)>1,\"ERR\",IF($D85=VLOOKUP(W85,$A$8:$D$107,4,FALSE),\"CLUB\",\"OK\"))))),\"\")","v":""},null,{"$f":"IF(Z85<>\"\",IF(Z85=\"Victoire\",IF(VLOOKUP(W85,$A$8:$AO$107,26,FALSE)=\"Défaite\",\"OK\",\"ERR\"),IF(Z85=\"Défaite\",IF(VLOOKUP(W85,$A$8:$AO$107,26,FALSE)=\"Victoire\",\"OK\",\"ERR\"),IF(Z85=\"Nul\",IF(VLOOKUP(W85,$A$8:$AO$107,26,FALSE)=\"Nul\",\"OK\",\"ERR\")))),\"\")","v":""},null,{"$f":"IF(Z85=\"Victoire\",100-ROUNDDOWN(20*AB85/$H85,0),\nIF(Z85=\"Défaite\",10+ROUNDDOWN(20*VLOOKUP(W85,$A$8:$AO$107,28,FALSE)/VLOOKUP(W85,$A$8:$H$107,8,FALSE),0),\nIF(AND(Z85=\"Nul\",$AB85<>$H85),40+(2*ROUNDDOWN(10*VLOOKUP(W85,$A$8:$AO$107,28,FALSE)/VLOOKUP(W85,$A$8:$H$107,8,FALSE),0)-ROUNDDOWN(10*AB85/$H85,0)),IF(AND(Z85=\"Nul\",$AB85=$H85),58,0))))","v":0},null,{"$f":"IF(AD85<>\"\",VLOOKUP(AD85,$A$8:$C$107,2,FALSE),\"\")","v":""},{"$f":"IF(AD85<>\"\",IF(AD85=$A85,\"ERR\",IF(OR(AD85=$P85,AD85=$W85,AD85=$I85,AD85=$AK85),\"DUP\",IF(ISNA(VLOOKUP(AD85,$A$8:$A$107,1,FALSE)),\"ERR\",IF(COUNTIF($I$8:$I$107,AD85)>1,\"ERR\",IF($D85=VLOOKUP(AD85,$A$8:$D$107,4,FALSE),\"CLUB\",\"OK\"))))),\"\")","v":""},null,{"$f":"IF(AG85<>\"\",IF(AG85=\"Victoire\",IF(VLOOKUP(AD85,$A$8:$AO$107,33,FALSE)=\"Défaite\",\"OK\",\"ERR\"),IF(AG85=\"Défaite\",IF(VLOOKUP(AD85,$A$8:$AO$107,33,FALSE)=\"Victoire\",\"OK\",\"ERR\"),IF(AG85=\"Nul\",IF(VLOOKUP(AD85,$A$8:$AO$107,33,FALSE)=\"Nul\",\"OK\",\"ERR\")))),\"\")","v":""},null,{"$f":"IF(AG85=\"Victoire\",100-ROUNDDOWN(20*AI85/$H85,0),\nIF(AG85=\"Défaite\",10+ROUNDDOWN(20*VLOOKUP(AD85,$A$8:$AO$107,35,FALSE)/VLOOKUP(AD85,$A$8:$H$107,8,FALSE),0),\nIF(AND(AG85=\"Nul\",$AI85<>$H85),40+(2*ROUNDDOWN(10*VLOOKUP(AD85,$A$8:$AO$107,35,FALSE)/VLOOKUP(AD85,$A$8:$H$107,8,FALSE),0)-ROUNDDOWN(10*AI85/$H85,0)),IF(AND(AG85=\"Nul\",$AI85=$H85),58,0))))","v":0},null,{"$f":"IF(AK85<>\"\",VLOOKUP(AK85,$A$8:$C$107,2,FALSE),\"\")","v":""},{"$f":"IF(AK85<>\"\",IF(AK85=$A85,\"ERR\",IF(OR(AK85=$P85,AK85=$W85,AK85=$AD85,AK85=$I85),\"DUP\",IF(ISNA(VLOOKUP(AK85,$A$8:$A$107,1,FALSE)),\"ERR\",IF(COUNTIF($I$8:$I$107,AK85)>1,\"ERR\",IF($D85=VLOOKUP(AK85,$A$8:$D$107,4,FALSE),\"CLUB\",\"OK\"))))),\"\")","v":""},null,{"$f":"IF(AN85<>\"\",IF(AN85=\"Victoire\",IF(VLOOKUP(AK85,$A$8:$AO$107,40,FALSE)=\"Défaite\",\"OK\",\"ERR\"),IF(AN85=\"Défaite\",IF(VLOOKUP(AK85,$A$8:$AO$107,40,FALSE)=\"Victoire\",\"OK\",\"ERR\"),IF(AN85=\"Nul\",IF(VLOOKUP(AK85,$A$8:$AO$107,40,FALSE)=\"Nul\",\"OK\",\"ERR\")))),\"\")","v":""},null,{"$f":"IF(AN85=\"Victoire\",100-ROUNDDOWN(20*AP85/$H85,0),\nIF(AN85=\"Défaite\",10+ROUNDDOWN(20*VLOOKUP(AK85,$A$8:$CB$107,42,FALSE)/VLOOKUP(AK85,$A$8:$H$107,8,FALSE),0),\nIF(AND(AN85=\"Nul\",$AP85<>$H85),40+(2*ROUNDDOWN(10*VLOOKUP(AK85,$A$8:$CB$107,42,FALSE)/VLOOKUP(AK85,$A$8:$H$107,8,FALSE),0)-ROUNDDOWN(10*AP85/$H85,0)),IF(AND(AN85=\"Nul\",$AP85=$H85),58,0))))","v":0},null,{"$f":"IF(AR85<>\"\",VLOOKUP(AR85,$A$8:$C$107,2,FALSE),\"\")","v":""},{"$f":"IF(AR85<>\"\",IF(AR85=$A85,\"ERR\",IF(OR(AR85=$I85,AR85=$P85,AR85=$W85,AR85=$AD85,AR85=$AK85),\"DUP\",IF(ISNA(VLOOKUP(AR85,$A$8:$A$107,1,FALSE)),\"ERR\",IF(COUNTIF($I$8:$I$107,AR85)>1,\"ERR\",IF($D85=VLOOKUP(AR85,$A$8:$D$107,4,FALSE),\"CLUB\",\"OK\"))))),\"\")","v":""},null,{"$f":"IF(AU85<>\"\",IF(AU85=\"Victoire\",IF(VLOOKUP(AR85,$A$8:$BL$107,47,FALSE)=\"Défaite\",\"OK\",\"ERR\"),IF(AU85=\"Défaite\",IF(VLOOKUP(AR85,$A$8:$BL$107,47,FALSE)=\"Victoire\",\"OK\",\"ERR\"),IF(AU85=\"Nul\",IF(VLOOKUP(AR85,$A$8:$BL$107,47,FALSE)=\"Nul\",\"OK\",\"ERR\")))),\"\")","v":""},null,{"$f":"IF(AU85=\"Victoire\",100-ROUNDDOWN(20*AW85/$H85,0),\nIF(AU85=\"Défaite\",10+ROUNDDOWN(20*VLOOKUP(AR85,$A$8:$CB$107,49,FALSE)/VLOOKUP(AR85,$A$8:$H$107,8,FALSE),0),\nIF(AND(AU85=\"Nul\",$AW85<>$H85),40+(2*ROUNDDOWN(10*VLOOKUP(AR85,$A$8:$CB$107,49,FALSE)/VLOOKUP(AR85,$A$8:$H$107,8,FALSE),0)-ROUNDDOWN(10*AW85/$H85,0)),IF(AND(AU85=\"Nul\",$AW85=$H85),58,0))))","v":0},null,{"$f":"IF(AY85<>\"\",VLOOKUP(AY85,$A$8:$C$107,2,FALSE),\"\")","v":""},{"$f":"IF(AY85<>\"\",IF(AY85=$A85,\"ERR\",IF(OR(AY85=$I85,AY85=$P85,AY85=$W85,AY85=$AD85,AY85=$AK85,AY85=$AR85),\"DUP\",IF(ISNA(VLOOKUP(AY85,$A$8:$A$107,1,FALSE)),\"ERR\",IF(COUNTIF($I$8:$I$107,AY85)>1,\"ERR\",IF($D85=VLOOKUP(AY85,$A$8:$D$107,4,FALSE),\"CLUB\",\"OK\"))))),\"\")","v":""},null,{"$f":"IF(BB85<>\"\",IF(BB85=\"Victoire\",IF(VLOOKUP(AY85,$A$8:$BL$107,54,FALSE)=\"Défaite\",\"OK\",\"ERR\"),IF(BB85=\"Défaite\",IF(VLOOKUP(AY85,$A$8:$BL$107,54,FALSE)=\"Victoire\",\"OK\",\"ERR\"),IF(BB85=\"Nul\",IF(VLOOKUP(AY85,$A$8:$BL$107,54,FALSE)=\"Nul\",\"OK\",\"ERR\")))),\"\")","v":""},null,{"$f":"IF(BB85=\"Victoire\",100-ROUNDDOWN(20*BD85/$H85,0),\nIF(BB85=\"Défaite\",10+ROUNDDOWN(20*VLOOKUP(AY85,$A$8:$CB$107,56,FALSE)/VLOOKUP(AY85,$A$8:$H$107,8,FALSE),0),\nIF(AND(BB85=\"Nul\",$BD85<>$H85),40+(2*ROUNDDOWN(10*VLOOKUP(AY85,$A$8:$CB$107,56,FALSE)/VLOOKUP(AY85,$A$8:$H$107,8,FALSE),0)-ROUNDDOWN(10*BD85/$H85,0)),IF(AND(BB85=\"Nul\",$BD85=$H85),58,0))))","v":0},null,{"$f":"IF(BF85<>\"\",VLOOKUP(BF85,$A$8:$C$107,2,FALSE),\"\")","v":""},{"$f":"IF(BF85<>\"\",IF(BF85=$A85,\"ERR\",IF(OR(BF85=$I85,BF85=$P85,BF85=$W85,BF85=$AD85,BF85=$AK85,BF85=$AR85,BF85=$AY85),\"DUP\",IF(ISNA(VLOOKUP(BF85,$A$8:$A$107,1,FALSE)),\"ERR\",IF(COUNTIF($I$8:$I$107,BF85)>1,\"ERR\",IF($D85=VLOOKUP(BF85,$A$8:$D$107,4,FALSE),\"CLUB\",\"OK\"))))),\"\")","v":""},null,{"$f":"IF(BI85<>\"\",IF(BI85=\"Victoire\",IF(VLOOKUP(BF85,$A$8:$BL$107,61,FALSE)=\"Défaite\",\"OK\",\"ERR\"),IF(BI85=\"Défaite\",IF(VLOOKUP(BF85,$A$8:$BL$107,61,FALSE)=\"Victoire\",\"OK\",\"ERR\"),IF(BI85=\"Nul\",IF(VLOOKUP(BF85,$A$8:$BL$107,61,FALSE)=\"Nul\",\"OK\",\"ERR\")))),\"\")","v":""},null,{"$f":"IF(BI85=\"Victoire\",100-ROUNDDOWN(20*BK85/$H85,0),\nIF(BI85=\"Défaite\",10+ROUNDDOWN(20*VLOOKUP(BF85,$A$8:$CB$107,63,FALSE)/VLOOKUP(BF85,$A$8:$H$107,8,FALSE),0),\nIF(AND(BI85=\"Nul\",$BK85<>$H85),40+(2*ROUNDDOWN(10*VLOOKUP(BF85,$A$8:$CB$107,63,FALSE)/VLOOKUP(BF85,$A$8:$H$107,8,FALSE),0)-ROUNDDOWN(10*BK85/$H85,0)),IF(AND(BI85=\"Nul\",$BK85=$H85),58,0))))","v":0},null,{"$f":"IF(BM85<>\"\",VLOOKUP(BM85,$A$8:$C$107,2,FALSE),\"\")","v":""},{"$f":"IF(BM85<>\"\",IF(BM85=$A85,\"ERR\",IF(OR(BM85=$I85,BM85=$P85,BM85=$W85,BM85=$AD85,BM85=$AK85,BM85=$AR85,BM85=$AY85,BM85=$BF85),\"DUP\",IF(ISNA(VLOOKUP(BM85,$A$8:$A$107,1,FALSE)),\"ERR\",IF(COUNTIF($I$8:$I$107,BM85)>1,\"ERR\",IF($D85=VLOOKUP(BM85,$A$8:$D$107,4,FALSE),\"CLUB\",\"OK\"))))),\"\")","v":""},null,{"$f":"IF(BP85<>\"\",IF(BP85=\"Victoire\",IF(VLOOKUP(BM85,$A$8:$BS$107,68,FALSE)=\"Défaite\",\"OK\",\"ERR\"),IF(BP85=\"Défaite\",IF(VLOOKUP(BM85,$A$8:$BS$107,68,FALSE)=\"Victoire\",\"OK\",\"ERR\"),IF(BP85=\"Nul\",IF(VLOOKUP(BM85,$A$8:$BS$107,68,FALSE)=\"Nul\",\"OK\",\"ERR\")))),\"\")","v":""},null,{"$f":"IF(BP85=\"Victoire\",100-ROUNDDOWN(20*BR85/$H85,0),\nIF(BP85=\"Défaite\",10+ROUNDDOWN(20*VLOOKUP(BM85,$A$8:$CB$107,70,FALSE)/VLOOKUP(BM85,$A$8:$H$107,8,FALSE),0),\nIF(AND(BP85=\"Nul\",$BR85<>$H85),40+(2*ROUNDDOWN(10*VLOOKUP(BM85,$A$8:$CB$107,70,FALSE)/VLOOKUP(BM85,$A$8:$H$107,8,FALSE),0)-ROUNDDOWN(10*BR85/$H85,0)),IF(AND(BP85=\"Nul\",$BR85=$H85),58,0))))","v":0},null,{"$f":"IF($I85<>\"\",VLOOKUP($I85,$A$8:$N$107,5,FALSE),0)+IF($P85<>\"\",VLOOKUP($P85,$A$8:$N$107,5,FALSE),0)+IF($W85<>\"\",VLOOKUP($W85,$A$8:$N$107,5,FALSE),0)+IF($AD85<>\"\",VLOOKUP($AD85,$A$8:$N$107,5,FALSE),0)+IF($AK85<>\"\",VLOOKUP($AK85,$A$8:$N$107,5,FALSE),0)+IF($AR85<>\"\",VLOOKUP($AR85,$A$8:$N$107,5,FALSE),0)+IF($AY85<>\"\",VLOOKUP($AY85,$A$8:$N$107,5,FALSE),0)+IF($BF85<>\"\",VLOOKUP($BF85,$A$8:$N$107,5,FALSE),0)+IF($BM85<>\"\",VLOOKUP($BM85,$A$8:$N$107,5,FALSE),0)","v":0}]
[{"$nulls":4},0,null,{"$f":"IF($F86<>\"\",VLOOKUP(F86,Armies!$A$1:$C$300,3,FALSE),\"\")","v":""},null,null,{"$f":"IF(I86<>\"\",VLOOKUP(I86,$A$8:$C$107,2,FALSE),\"\")","v":""},{"$f":"IF(I86<>\"\",IF(I86=$A86,\"ERR\",IF(OR(I86=$P86,I86=$W86,I86=$AD86,I86=$AK86),\"DUP\",IF(ISNA(VLOOKUP(I86,$A$8:$A$107,1,FALSE)),\"ERR\",IF(COUNTIF($I$8:$I$107,I86)>1,\"ERR\",IF($D86=VLOOKUP(I86,$A$8:$D$107,4,FALSE),\"CLUB\",\"OK\"))))),\"\")","v":""},null,{"$f":"IF(L86<>\"\",IF(L86=\"Victoire\",IF(VLOOKUP(I86,$A$8:$L$107,12,FALSE)=\"Défaite\",\"OK\",\"ERR\"),IF(L86=\"Défaite\",IF(VLOOKUP(I86,$A$8:$L$107,12,FALSE)=\"Victoire\",\"OK\",\"ERR\"),IF(L86=\"Nul\",IF(VLOOKUP(I86,$A$8:$L$107,12,FALSE)=\"Nul\",\"OK\",\"ERR\")))),\"\")","v":""},null,{"$f":"IF(L86=\"Victoire\",100-ROUNDDOWN(20*N86/$H86,0),\nIF(L86=\"Défaite\",10+ROUNDDOWN(20*VLOOKUP(I86,$A$8:$N$107,14,FALSE)/VLOOKUP(I86,$A$8:$H$107,8,FALSE),0),\nIF(AND(L86=\"Nul\",$N86<>$H86),40+(2*ROUNDDOWN(10*VLOOKUP(I86,$A$8:$N$107,14,FALSE)/VLOOKUP(I86,$A$8:$H$107,8,FALSE),0)-ROUNDDOWN(10*N86/$H86,0)),IF(AND(L86=\"Nul\",$N86=$H86),58,0))))","v":0},null,{"$f":"IF(P86<>\"\",VLOOKUP(P86,$A$8:$C$107,2,FALSE),\"\")","v":""},{"$f":"IF(P86<>\"\",IF(P86=$A86,\"ERR\",IF(OR(P86=$I86,P86=$W86,P86=$AD86,P86=$AK86),\"DUP\",IF(ISNA(VLOOKUP(P86,$A$8:$A$107,1,FALSE)),\"ERR\",IF(COUNTIF($I$8:$I$107,P86)>1,\"ERR\",IF($D86=VLOOKUP(P86,$A$8:$D$107,4,FALSE),\"CLUB\",\"OK\"))))),\"\")","v":""},null,{"$f":"IF(S86<>\"\",IF(S86=\"Victoire\",IF(VLOOKUP(P86,$A$8:$AO$107,19,FALSE)=\"Défaite\",\"OK\",\"ERR\"),IF(S86=\"Défaite\",IF(VLOOKUP(P86,$A$8:$AO$107,19,FALSE)=\"Victoire\",\"OK\",\"ERR\"),IF(S86=\"Nul\",IF(VLOOKUP(P86,$A$8:$AO$107,19,FALSE)=\"Nul\",\"OK\",\"ERR\")))),\"\")","v":""},null,{"$f":"IF(S86=\"Victoire\",100-ROUNDDOWN(20*U86/$H86,0),\nIF(S86=\"Défaite\",10+ROUNDDOWN(20*VLOOKUP(P86,$A$8:$AO$107,21,FALSE)/VLOOKUP(P86,$A$8:$H$107,8,FALSE),0),\nIF(AND(S86=\"Nul\",$U86<>$H86),40+(2*ROUNDDOWN(10*VLOOKUP(P86,$A$8:$AO$107,21,FALSE)/VLOOKUP(P86,$A$8:$H$107,8,FALSE),0)-ROUNDDOWN(10*U86/$H86,0)),IF(AND(S86=\"Nul\",$U86=$H86),58,0))))","v":0},null,{"$f":"IF(W86<>\"\",VLOOKUP(W86,$A$8:$C$107,2,FALSE),\"\")","v":""},{"$f":"IF(W86<>\"\",IF(W86=$A86,\"ERR\",IF(OR(W86=$P86,W86=$I86,W86=$AD86,W86=$AK86),\"DUP\",IF(ISNA(VLOOKUP(W86,$A$8:$A$107,1,FALSE)),\"ERR\",IF(COUNTIF($I$8:$I$107,W86)>1,\"ERR\",IF($D86=VLOOKUP(W86,$A$8:$D$107,4,FALSE),\"CLUB\",\"OK\"))))),\"\")","v":""},null,{"$f":"IF(Z86<>\"\",IF(Z86=\"Victoire\",IF(VLOOKUP(W86,$A$8:$AO$107,26,FALSE)=\"Défaite\",\"OK\",\"ERR\"),IF(Z86=\"Défaite\",IF(VLOOKUP(W86,$A$8:$AO$107,26,FALSE)=\"Victoire\",\"OK\",\"ERR\"),IF(Z86=\"Nul\",IF(VLOOKUP(W86,$A$8:$AO$107,26,FALSE)=\"Nul\",\"OK\",\"ERR\")))),\"\")","v":""},null,{"$f":"IF(Z86=\"Victoire\",100-ROUNDDOWN(20*AB86/$H86,0),\nIF(Z86=\"Défaite\",10+ROUNDDOWN(20*VLOOKUP(W86,$A$8:$AO$107,28,FALSE)/VLOOKUP(W86,$A$8:$H$107,8,FALSE),0),\nIF(AND(Z86=\"Nul\",$AB86<>$H86),40+(2*ROUNDDOWN(10*VLOOKUP(W86,$A$8:$AO$107,28,FALSE)/VLOOKUP(W86,$A$8:$H$107,8,FALSE),0)-ROUNDDOWN(10*AB86/$H86,0)),IF(AND(Z86=\"Nul\",$AB86=$H86),58,0))))","v":0},null,{"$f":"IF(AD86<>\"\",VLOOKUP(AD86,$A$8:$C$107,2,FALSE),\"\")","v":""},{"$f":"IF(AD86<>\"\",IF(AD86=$A86,\"ERR\",IF(OR(AD86=$P86,AD86=$W86,AD86=$I86,AD86=$AK86),\"DUP\",IF(ISNA(VLOOKUP(AD86,$A$8:$A$107,1,FALSE)),\"ERR\",IF(COUNTIF($I$8:$I$107,AD86)>1,\"ERR\",IF($D86=VLOOKUP(AD86,$A$8:$D$107,4,FALSE),\"CLUB\",\"OK\"))))),\"\")","v":""},null,{"$f":"IF(AG86<>\"\",IF(AG86=\"Victoire\",IF(VLOOKUP(AD86,$A$8:$AO$107,33,FALSE)=\"Défaite\",\"OK\",\"ERR\"),IF(AG86=\"Défaite\",IF(VLOOKUP(AD86,$A$8:$AO$107,33,FALSE)=\"Victoire\",\"OK\",\"ERR\"),IF(AG86=\"Nul\",IF(VLOOKUP(AD86,$A$8:$AO$107,33,FALSE)=\"Nul\",\"OK\",\"ERR\")))),\"\")","v":""},null,{"$f":"IF(AG86=\"Victoire\",100-ROUNDDOWN(20*AI86/$H86,0),\nIF(AG86=\"Défaite\",10+ROUNDDOWN(20*VLOOKUP(AD86,$A$8:$AO$107,35,FALSE)/VLOOKUP(AD86,$A$8:$H$107,8,FALSE),0),\nIF(AND(AG86=\"Nul\",$AI86<>$H86),40+(2*ROUNDDOWN(10*VLOOKUP(AD86,$A$8:$AO$107,35,FALSE)/VLOOKUP(AD86,$A$8:$H$107,8,FALSE),0)-ROUNDDOWN(10*AI86/$H86,0)),IF(AND(AG86=\"Nul\",$AI86=$H86),58,0))))","v":0},null,{"$f":"IF(AK86<>\"\",VLOOKUP(AK86,$A$8:$C$107,2,FALSE),\"\")","v":""},{"$f":"IF(AK86<>\"\",IF(AK86=$A86,\"ERR\",IF(OR(AK86=$P86,AK86=$W86,AK86=$AD86,AK86=$I86),\"DUP\",IF(ISNA(VLOOKUP(AK86,$A$8:$A$107,1,FALSE)),\"ERR\",IF(COUNTIF($I$8:$I$107,AK86)>1,\"ERR\",IF($D86=VLOOKUP(AK86,$A$8:$D$107,4,FALSE),\"CLUB\",\"OK\"))))),\"\")","v":""},null,{"$f":"IF(AN86<>\"\",IF(AN86=\"Victoire\",IF(VLOOKUP(AK86,$A$8:$AO$107,40,FALSE)=\"Défaite\",\"OK\",\"ERR\"),IF(AN86=\"Défaite\",IF(VLOOKUP(AK86,$A$8:$AO$107,40,FALSE)=\"Victoire\",\"OK\",\"ERR\"),IF(AN86=\"Nul\",IF(VLOOKUP(AK86,$A$8:$AO$107,40,FALSE)=\"Nul\",\"OK\",\"ERR\")))),\"\")","v":""},null,{"$f":"IF(AN86=\"Victoire\",100-ROUNDDOWN(20*AP86/$H86,0),\nIF(AN86=\"Défaite\",10+ROUNDDOWN(20*VLOOKUP(AK86,$A$8:$CB$107,42,FALSE)/VLOOKUP(AK86,$A$8:$H$107,8,FALSE),0),\nIF(AND(AN86=\"Nul\",$AP86<>$H86),40+(2*ROUNDDOWN(10*VLOOKUP(AK86,$A$8:$CB$107,42,FALSE)/VLOOKUP(AK86,$A$8:$H$107,8,FALSE),0)-ROUNDDOWN(10*AP86/$H86,0)),IF(AND(AN86=\"Nul\",$AP86=$H86),58,0))))","v":0},null,{"$f":"IF(AR86<>\"\",VLOOKUP(AR86,$A$8:$C$107,2,FALSE),\"\")","v":""},{"$f":"IF(AR86<>\"\",IF(AR86=$A86,\"ERR\",IF(OR(AR86=$I86,AR86=$P86,AR86=$W86,AR86=$AD86,AR86=$AK86),\"DUP\",IF(ISNA(VLOOKUP(AR86,$A$8:$A$107,1,FALSE)),\"ERR\",IF(COUNTIF($I$8:$I$107,AR86)>1,\"ERR\",IF($D86=VLOOKUP(AR86,$A$8:$D$107,4,FALSE),\"CLUB\",\"OK\"))))),\"\")","v":""},null,{"$f":"IF(AU86<>\"\",IF(AU86=\"Victoire\",IF(VLOOKUP(AR86,$A$8:$BL$107,47,FALSE)=\"Défaite\",\"OK\",\"ERR\"),IF(AU86=\"Défaite\",IF(VLOOKUP(AR86,$A$8:$BL$107,47,FALSE)=\"Victoire\",\"OK\",\"ERR\"),IF(AU86=\"Nul\",IF(VLOOKUP(AR86,$A$8:$BL$107,47,FALSE)=\"Nul\",\"OK\",\"ERR\")))),\"\")","v":""},null,{"$f":"IF(AU86=\"Victoire\",100-ROUNDDOWN(20*AW86/$H86,0),\nIF(AU86=\"Défaite\",10+ROUNDDOWN(20*VLOOKUP(AR86,$A$8:$CB$107,49,FALSE)/VLOOKUP(AR86,$A$8:$H$107,8,FALSE),0),\nIF(AND(AU86=\"Nul\",$AW86<>$H86),40+(2*ROUNDDOWN(10*VLOOKUP(AR86,$A$8:$CB$107,49,FALSE)/VLOOKUP(AR86,$A$8:$H$107,8,FALSE),0)-ROUNDDOWN(10*AW86/$H86,0)),IF(AND(AU86=\"Nul\",$AW86=$H86),58,0))))","v":0},null,{"$f":"IF(AY86<>\"\",VLOOKUP(AY86,$A$8:$C$107,2,FALSE),\"\")","v":""},{"$f":"IF(AY86<>\"\",IF(AY86=$A86,\"ERR\",IF(OR(AY86=$I86,AY86=$P86,AY86=$W86,AY86=$AD86,AY86=$AK86,AY86=$AR86),\"DUP\",IF(ISNA(VLOOKUP(AY86,$A$8:$A$107,1,FALSE)),\"ERR\",IF(COUNTIF($I$8:$I$107,AY86)>1,\"ERR\",IF($D86=VLOOKUP(AY86,$A$8:$D$107,4,FALSE),\"CLUB\",\"OK\"))))),\"\")","v":""},null,{"$f":"IF(BB86<>\"\",IF(BB86=\"Victoire\",IF(VLOOKUP(AY86,$A$8:$BL$107,54,FALSE)=\"Défaite\",\"OK\",\"ERR\"),IF(BB86=\"Défaite\",IF(VLOOKUP(AY86,$A$8:$BL$107,54,FALSE)=\"Victoire\",\"OK\",\"ERR\"),IF(BB86=\"Nul\",IF(VLOOKUP(AY86,$A$8:$BL$107,54,FALSE)=\"Nul\",\"OK\",\"ERR\")))),\"\")","v":""},null,{"$f":"IF(BB86=\"Victoire\",100-ROUNDDOWN(20*BD86/$H86,0),\nIF(BB86=\"Défaite\",10+ROUNDDOWN(20*VLOOKUP(AY86,$A$8:$CB$107,56,FALSE)/VLOOKUP(AY86,$A$8:$H$107,8,FALSE),0),\nIF(AND(BB86=\"Nul\",$BD86<>$H86),40+(2*ROUNDDOWN(10*VLOOKUP(AY86,$A$8:$CB$107,56,FALSE)/VLOOKUP(AY86,$A$8:$H$107,8,FALSE),0)-ROUNDDOWN(10*BD86/$H86,0)),IF(AND(BB86=\"Nul\",$BD86=$H86),58,0))))","v":0},null,{"$f":"IF(BF86<>\"\",VLOOKUP(BF86,$A$8:$C$107,2,FALSE),\"\")","v":""},{"$f":"IF(BF86<>\"\",IF(BF86=$A86,\"ERR\",IF(OR(BF86=$I86,BF86=$P86,BF86=$W86,BF86=$AD86,BF86=$AK86,BF86=$AR86,BF86=$AY86),\"DUP\",IF(ISNA(VLOOKUP(BF86,$A$8:$A$107,1,FALSE)),\"ERR\",IF(COUNTIF($I$8:$I$107,BF86)>1,\"ERR\",IF($D86=VLOOKUP(BF86,$A$8:$D$107,4,FALSE),\"CLUB\",\"OK\"))))),\"\")","v":""},null,{"$f":"IF(BI86<>\"\",IF(BI86=\"Victoire\",IF(VLOOKUP(BF86,$A$8:$BL$107,61,FALSE)=\"Défaite\",\"OK\",\"ERR\"),IF(BI86=\"Défaite\",IF(VLOOKUP(BF86,$A$8:$BL$107,61,FALSE)=\"Victoire\",\"OK\",\"ERR\"),IF(BI86=\"Nul\",IF(VLOOKUP(BF86,$A$8:$BL$107,61,FALSE)=\"Nul\",\"OK\",\"ERR\")))),\"\")","v":""},null,{"$f":"IF(BI86=\"Victoire\",100-ROUNDDOWN(20*BK86/$H86,0),\nIF(BI86=\"Défaite\",10+ROUNDDOWN(20*VLOOKUP(BF86,$A$8:$CB$107,63,FALSE)/VLOOKUP(BF86,$A$8:$H$107,8,FALSE),0),\nIF(AND(BI86=\"Nul\",$BK86<>$H86),40+(2*ROUNDDOWN(10*VLOOKUP(BF86,$A$8:$CB$107,63,FALSE)/VLOOKUP(BF86,$A$8:$H$107,8,FALSE),0)-ROUNDDOWN(10*BK86/$H86,0)),IF(AND(BI86=\"Nul\",$BK86=$H86),58,0))))","v":0},null,{"$f":"IF(BM86<>\"\",VLOOKUP(BM86,$A$8:$C$107,2,FALSE),\"\")","v":""},{"$f":"IF(BM86<>\"\",IF(BM86=$A86,\"ERR\",IF(OR(BM86=$I86,BM86=$P86,BM86=$W86,BM86=$AD86,BM86=$AK86,BM86=$AR86,BM86=$AY86,BM86=$BF86),\"DUP\",IF(ISNA(VLOOKUP(BM86,$A$8:$A$107,1,FALSE)),\"ERR\",IF(COUNTIF($I$8:$I$107,BM86)>1,\"ERR\",IF($D86=VLOOKUP(BM86,$A$8:$D$107,4,FALSE),\"CLUB\",\"OK\"))))),\"\")","v":""},null,{"$f":"IF(BP86<>\"\",IF(BP86=\"Victoire\",IF(VLOOKUP(BM86,$A$8:$BS$107,68,FALSE)=\"Défaite\",\"OK\",\"ERR\"),IF(BP86=\"Défaite\",IF(VLOOKUP(BM86,$A$8:$BS$107,68,FALSE)=\"Victoire\",\"OK\",\"ERR\"),IF(BP86=\"Nul\",IF(VLOOKUP(BM86,$A$8:$BS$107,68,FALSE)=\"Nul\",\"OK\",\"ERR\")))),\"\")","v":""},null,{"$f":"IF(BP86=\"Victoire\",100-ROUNDDOWN(20*BR86/$H86,0),\nIF(BP86=\"Défaite\",10+ROUNDDOWN(20*VLOOKUP(BM86,$A$8:$CB$107,70,FALSE)/VLOOKUP(BM86,$A$8:$H$107,8,FALSE),0),\nIF(AND(BP86=\"Nul\",$BR86<>$H86),40+(2*ROUNDDOWN(10*VLOOKUP(BM86,$A$8:$CB$107,70,FALSE)/VLOOKUP(BM86,$A$8:$H$107,8,FALSE),0)-ROUNDDOWN(10*BR86/$H86,0)),IF(AND(BP86=\"Nul\",$BR86=$H86),58,0))))","v":0},null,{"$f":"IF($I86<>\"\",VLOOKUP($I86,$A$8:$N$107,5,FALSE),0)+IF($P86<>\"\",VLOOKUP($P86,$A$8:$N$107,5,FALSE),0)+IF($W86<>\"\",VLOOKUP($W86,$A$8:$N$107,5,FALSE),0)+IF($AD86<>\"\",VLOOKUP($AD86,$A$8:$N$107,5,FALSE),0)+IF($AK86<>\"\",VLOOKUP($AK86,$A$8:$N$107,5,FALSE),0)+IF($AR86<>\"\",VLOOKUP($AR86,$A$8:$N$107,5,FALSE),0)+IF($AY86<>\"\",VLOOKUP($AY86,$A$8:$N$107,5,FALSE),0)+IF($BF86<>\"\",VLOOKUP($BF86,$A$8:$N$107,5,FALSE),0)+IF($BM86<>\"\",VLOOKUP($BM86,$A$8:$N$107,5,FALSE),0)","v":0}]
[{"$nulls":4},0,null,{"$f":"IF($F87<>\"\",VLOOKUP(F87,Armies!$A$1:$C$300,3,FALSE),\"\")","v":""},null,null,{"$f":"IF(I87<>\"\",VLOOKUP(I87,$A$8:$C$107,2,FALSE),\"\")","v":""},{"$f":"IF(I87<>\"\",IF(I87=$A87,\"ERR\",IF(OR(I87=$P87,I87=$W87,I87=$AD87,I87=$AK87),\"DUP\",IF(ISNA(VLOOKUP(I87,$A$8:$A$107,1,FALSE)),\"ERR\",IF(COUNTIF($I$8:$I$107,I87)>1,\"ERR\",IF($D87=VLOOKUP(I87,$A$8:$D$107,4,FALSE),\"CLUB\",\"OK\"))))),\"\")","v":""},null,{"$f":"IF(L87<>\"\",IF(L87=\"Victoire\",IF(VLOOKUP(I87,$A$8:$L$107,12,FALSE)=\"Défaite\",\"OK\",\"ERR\"),IF(L87=\"Défaite\",IF(VLOOKUP(I87,$A$8:$L$107,12,FALSE)=\"Victoire\",\"OK\",\"ERR\"),IF(L87=\"Nul\",IF(VLOOKUP(I87,$A$8:$L$107,12,FALSE)=\"Nul\",\"OK\",\"ERR\")))),\"\")","v":""},null,{"$f":"IF(L87=\"Victoire\",100-ROUNDDOWN(20*N87/$H87,0),\nIF(L87=\"Défaite\",10+ROUNDDOWN(20*VLOOKUP(I87,$A$8:$N$107,14,FALSE)/VLOOKUP(I87,$A$8:$H$107,8,FALSE),0),\nIF(AND(L87=\"Nul\",$N87<>$H87),40+(2*ROUNDDOWN(10*VLOOKUP(I87,$A$8:$N$107,14,FALSE)/VLOOKUP(I87,$A$8:$H$107,8,FALSE),0)-ROUNDDOWN(10*N87/$H87,0)),IF(AND(L87=\"Nul\",$N87=$H87),58,0))))","v":0},null,{"$f":"IF(P87<>\"\",VLOOKUP(P87,$A$8:$C$107,2,FALSE),\"\")","v":""},{"$f":"IF(P87<>\"\",IF(P87=$A87,\"ERR\",IF(OR(P87=$I87,P87=$W87,P87=$AD87,P87=$AK87),\"DUP\",IF(ISNA(VLOOKUP(P87,$A$8:$A$107,1,FALSE)),\"ERR\",IF(COUNTIF($I$8:$I$107,P87)>1,\"ERR\",IF($D87=VLOOKUP(P87,$A$8:$D$107,4,FALSE),\"CLUB\",\"OK\"))))),\"\")","v":""},null,{"$f":"IF(S87<>\"\",IF(S87=\"Victoire\",IF(VLOOKUP(P87,$A$8:$AO$107,19,FALSE)=\"Défaite\",\"OK\",\"ERR\"),IF(S87=\"Défaite\",IF(VLOOKUP(P87,$A$8:$AO$107,19,FALSE)=\"Victoire\",\"OK\",\"ERR\"),IF(S87=\"Nul\",IF(VLOOKUP(P87,$A$8:$AO$107,19,FALSE)=\"Nul\",\"OK\",\"ERR\")))),\"\")","v":""},null,{"$f":"IF(S87=\"Victoire\",100-ROUNDDOWN(20*U87/$H87,0),\nIF(S87=\"Défaite\",10+ROUNDDOWN(20*VLOOKUP(P87,$A$8:$AO$107,21,FALSE)/VLOOKUP(P87,$A$8:$H$107,8,FALSE),0),\nIF(AND(S87=\"Nul\",$U87<>$H87),40+(2*ROUNDDOWN(10*VLOOKUP(P87,$A$8:$AO$107,21,FALSE)/VLOOKUP(P87,$A$8:$H$107,8,FALSE),0)-ROUNDDOWN(10*U87/$H87,0)),IF(AND(S87=\"Nul\",$U87=$H87),58,0))))","v":0},null,{"$f":"IF(W87<>\"\",VLOOKUP(W87,$A$8:$C$107,2,FALSE),\"\")","v":""},{"$f":"IF(W87<>\"\",IF(W87=$A87,\"ERR\",IF(OR(W87=$P87,W87=$I87,W87=$AD87,W87=$AK87),\"DUP\",IF(ISNA(VLOOKUP(W87,$A$8:$A$107,1,FALSE)),\"ERR\",IF(COUNTIF($I$8:$I$107,W87)>1,\"ERR\",IF($D87=VLOOKUP(W87,$A$8:$D$107,4,FALSE),\"CLUB\",\"OK\"))))),\"\")","v":""},null,{"$f":"IF(Z87<>\"\",IF(Z87=\"Victoire\",IF(VLOOKUP(W87,$A$8:$AO$107,26,FALSE)=\"Défaite\",\"OK\",\"ERR\"),IF(Z87=\"Défaite\",IF(VLOOKUP(W87,$A$8:$AO$107,26,FALSE)=\"Victoire\",\"OK\",\"ERR\"),IF(Z87=\"Nul\",IF(VLOOKUP(W87,$A$8:$AO$107,26,FALSE)=\"Nul\",\"OK\",\"ERR\")))),\"\")","v":""},null,{"$f":"IF(Z87=\"Victoire\",100-ROUNDDOWN(20*AB87/$H87,0),\nIF(Z87=\"Défaite\",10+ROUNDDOWN(20*VLOOKUP(W87,$A$8:$AO$107,28,FALSE)/VLOOKUP(W87,$A$8:$H$107,8,FALSE),0),\nIF(AND(Z87=\"Nul\",$AB87<>$H87),40+(2*ROUNDDOWN(10*VLOOKUP(W87,$A$8:$AO$107,28,FALSE)/VLOOKUP(W87,$A$8:$H$107,8,FALSE),0)-ROUNDDOWN(10*AB87/$H87,0)),IF(AND(Z87=\"Nul\",$AB87=$H87),58,0))))","v":0},null,{"$f":"IF(AD87<>\"\",VLOOKUP(AD87,$A$8:$C$107,2,FALSE),\"\")","v":""},{"$f":"IF(AD87<>\"\",IF(AD87=$A87,\"ERR\",IF(OR(AD87=$P87,AD87=$W87,AD87=$I87,AD87=$AK87),\"DUP\",IF(ISNA(VLOOKUP(AD87,$A$8:$A$107,1,FALSE)),\"ERR\",IF(COUNTIF($I$8:$I$107,AD87)>1,\"ERR\",IF($D87=VLOOKUP(AD87,$A$8:$D$107,4,FALSE),\"CLUB\",\"OK\"))))),\"\")","v":""},null,{"$f":"IF(AG87<>\"\",IF(AG87=\"Victoire\",IF(VLOOKUP(AD87,$A$8:$AO$107,33,FALSE)=\"Défaite\",\"OK\",\"ERR\"),IF(AG87=\"Défaite\",IF(VLOOKUP(AD87,$A$8:$AO$107,33,FALSE)=\"Victoire\",\"OK\",\"ERR\"),IF(AG87=\"Nul\",IF(VLOOKUP(AD87,$A$8:$AO$107,33,FALSE)=\"Nul\",\"OK\",\"ERR\")))),\"\")","v":""},null,{"$f":"IF(AG87=\"Victoire\",100-ROUNDDOWN(20*AI87/$H87,0),\nIF(AG87=\"Défaite\",10+ROUNDDOWN(20*VLOOKUP(AD87,$A$8:$AO$107,35,FALSE)/VLOOKUP(AD87,$A$8:$H$107,8,FALSE),0),\nIF(AND(AG87=\"Nul\",$AI87<>$H87),40+(2*ROUNDDOWN(10*VLOOKUP(AD87,$A$8:$AO$107,35,FALSE)/VLOOKUP(AD87,$A$8:$H$107,8,FALSE),0)-ROUNDDOWN(10*AI87/$H87,0)),IF(AND(AG87=\"Nul\",$AI87=$H87),58,0))))","v":0},null,{"$f":"IF(AK87<>\"\",VLOOKUP(AK87,$A$8:$C$107,2,FALSE),\"\")","v":""},{"$f":"IF(AK87<>\"\",IF(AK87=$A87,\"ERR\",IF(OR(AK87=$P87,AK87=$W87,AK87=$AD87,AK87=$I87),\"DUP\",IF(ISNA(VLOOKUP(AK87,$A$8:$A$107,1,FALSE)),\"ERR\",IF(COUNTIF($I$8:$I$107,AK87)>1,\"ERR\",IF($D87=VLOOKUP(AK87,$A$8:$D$107,4,FALSE),\"CLUB\",\"OK\"))))),\"\")","v":""},null,{"$f":"IF(AN87<>\"\",IF(AN87=\"Victoire\",IF(VLOOKUP(AK87,$A$8:$AO$107,40,FALSE)=\"Défaite\",\"OK\",\"ERR\"),IF(AN87=\"Défaite\",IF(VLOOKUP(AK87,$A$8:$AO$107,40,FALSE)=\"Victoire\",\"OK\",\"ERR\"),IF(AN87=\"Nul\",IF(VLOOKUP(AK87,$A$8:$AO$107,40,FALSE)=\"Nul\",\"OK\",\"ERR\")))),\"\")","v":""},null,{"$f":"IF(AN87=\"Victoire\",100-ROUNDDOWN(20*AP87/$H87,0),\nIF(AN87=\"Défaite\",10+ROUNDDOWN(20*VLOOKUP(AK87,$A$8:$CB$107,42,FALSE)/VLOOKUP(AK87,$A$8:$H$107,8,FALSE),0),\nIF(AND(AN87=\"Nul\",$AP87<>$H87),40+(2*ROUNDDOWN(10*VLOOKUP(AK87,$A$8:$CB$107,42,FALSE)/VLOOKUP(AK87,$A$8:$H$107,8,FALSE),0)-ROUNDDOWN(10*AP87/$H87,0)),IF(AND(AN87=\"Nul\",$AP87=$H87),58,0))))","v":0},null,{"$f":"IF(AR87<>\"\",VLOOKUP(AR87,$A$8:$C$107,2,FALSE),\"\")","v":""},{"$f":"IF(AR87<>\"\",IF(AR87=$A87,\"ERR\",IF(OR(AR87=$I87,AR87=$P87,AR87=$W87,AR87=$AD87,AR87=$AK87),\"DUP\",IF(ISNA(VLOOKUP(AR87,$A$8:$A$107,1,FALSE)),\"ERR\",IF(COUNTIF($I$8:$I$107,AR87)>1,\"ERR\",IF($D87=VLOOKUP(AR87,$A$8:$D$107,4,FALSE),\"CLUB\",\"OK\"))))),\"\")","v":""},null,{"$f":"IF(AU87<>\"\",IF(AU87=\"Victoire\",IF(VLOOKUP(AR87,$A$8:$BL$107,47,FALSE)=\"Défaite\",\"OK\",\"ERR\"),IF(AU87=\"Défaite\",IF(VLOOKUP(AR87,$A$8:$BL$107,47,FALSE)=\"Victoire\",\"OK\",\"ERR\"),IF(AU87=\"Nul\",IF(VLOOKUP(AR87,$A$8:$BL$107,47,FALSE)=\"Nul\",\"OK\",\"ERR\")))),\"\")","v":""},null,{"$f":"IF(AU87=\"Victoire\",100-ROUNDDOWN(20*AW87/$H87,0),\nIF(AU87=\"Défaite\",10+ROUNDDOWN(20*VLOOKUP(AR87,$A$8:$CB$107,49,FALSE)/VLOOKUP(AR87,$A$8:$H$107,8,FALSE),0),\nIF(AND(AU87=\"Nul\",$AW87<>$H87),40+(2*ROUNDDOWN(10*VLOOKUP(AR87,$A$8:$CB$107,49,FALSE)/VLOOKUP(AR87,$A$8:$H$107,8,FALSE),0)-ROUNDDOWN(10*AW87/$H87,0)),IF(AND(AU87=\"Nul\",$AW87=$H87),58,0))))","v":0},null,{"$f":"IF(AY87<>\"\",VLOOKUP(AY87,$A$8:$C$107,2,FALSE),\"\")","v":""},{"$f":"IF(AY87<>\"\",IF(AY87=$A87,\"ERR\",IF(OR(AY87=$I87,AY87=$P87,AY87=$W87,AY87=$AD87,AY87=$AK87,AY87=$AR87),\"DUP\",IF(ISNA(VLOOKUP(AY87,$A$8:$A$107,1,FALSE)),\"ERR\",IF(COUNTIF($I$8:$I$107,AY87)>1,\"ERR\",IF($D87=VLOOKUP(AY87,$A$8:$D$107,4,FALSE),\"CLUB\",\"OK\"))))),\"\")","v":""},null,{"$f":"IF(BB87<>\"\",IF(BB87=\"Victoire\",IF(VLOOKUP(AY87,$A$8:$BL$107,54,FALSE)=\"Défaite\",\"OK\",\"ERR\"),IF(BB87=\"Défaite\",IF(VLOOKUP(AY87,$A$8:$BL$107,54,FALSE)=\"Victoire\",\"OK\",\"ERR\"),IF(BB87=\"Nul\",IF(VLOOKUP(AY87,$A$8:$BL$107,54,FALSE)=\"Nul\",\"OK\",\"ERR\")))),\"\")","v":""},null,{"$f":"IF(BB87=\"Victoire\",100-ROUNDDOWN(20*BD87/$H87,0),\nIF(BB87=\"Défaite\",10+ROUNDDOWN(20*VLOOKUP(AY87,$A$8:$CB$107,56,FALSE)/VLOOKUP(AY87,$A$8:$H$107,8,FALSE),0),\nIF(AND(BB87=\"Nul\",$BD87<>$H87),40+(2*ROUNDDOWN(10*VLOOKUP(AY87,$A$8:$CB$107,56,FALSE)/VLOOKUP(AY87,$A$8:$H$107,8,FALSE),0)-ROUNDDOWN(10*BD87/$H87,0)),IF(AND(BB87=\"Nul\",$BD87=$H87),58,0))))","v":0},null,{"$f":"IF(BF87<>\"\",VLOOKUP(BF87,$A$8:$C$107,2,FALSE),\"\")","v":""},{"$f":"IF(BF87<>\"\",IF(BF87=$A87,\"ERR\",IF(OR(BF87=$I87,BF87=$P87,BF87=$W87,BF87=$AD87,BF87=$AK87,BF87=$AR87,BF87=$AY87),\"DUP\",IF(ISNA(VLOOKUP(BF87,$A$8:$A$107,1,FALSE)),\"ERR\",IF(COUNTIF($I$8:$I$107,BF87)>1,\"ERR\",IF($D87=VLOOKUP(BF87,$A$8:$D$107,4,FALSE),\"CLUB\",\"OK\"))))),\"\")","v":""},null,{"$f":"IF(BI87<>\"\",IF(BI87=\"Victoire\",IF(VLOOKUP(BF87,$A$8:$BL$107,61,FALSE)=\"Défaite\",\"OK\",\"ERR\"),IF(BI87=\"Défaite\",IF(VLOOKUP(BF87,$A$8:$BL$107,61,FALSE)=\"Victoire\",\"OK\",\"ERR\"),IF(BI87=\"Nul\",IF(VLOOKUP(BF87,$A$8:$BL$107,61,FALSE)=\"Nul\",\"OK\",\"ERR\")))),\"\")","v":""},null,{"$f":"IF(BI87=\"Victoire\",100-ROUNDDOWN(20*BK87/$H87,0),\nIF(BI87=\"Défaite\",10+ROUNDDOWN(20*VLOOKUP(BF87,$A$8:$CB$107,63,FALSE)/VLOOKUP(BF87,$A$8:$H$107,8,FALSE),0),\nIF(AND(BI87=\"Nul\",$BK87<>$H87),40+(2*ROUNDDOWN(10*VLOOKUP(BF87,$A$8:$CB$107,63,FALSE)/VLOOKUP(BF87,$A$8:$H$107,8,FALSE),0)-ROUNDDOWN(10*BK87/$H87,0)),IF(AND(BI87=\"Nul\",$BK87=$H87),58,0))))","v":0},null,{"$f":"IF(BM87<>\"\",VLOOKUP(BM87,$A$8:$C$107,2,FALSE),\"\")","v":""},{"$f":"IF(BM87<>\"\",IF(BM87=$A87,\"ERR\",IF(OR(BM87=$I87,BM87=$P87,BM87=$W87,BM87=$AD87,BM87=$AK87,BM87=$AR87,BM87=$AY87,BM87=$BF87),\"DUP\",IF(ISNA(VLOOKUP(BM87,$A$8:$A$107,1,FALSE)),\"ERR\",IF(COUNTIF($I$8:$I$107,BM87)>1,\"ERR\",IF($D87=VLOOKUP(BM87,$A$8:$D$107,4,FALSE),\"CLUB\",\"OK\"))))),\"\")","v":""},null,{"$f":"IF(BP87<>\"\",IF(BP87=\"Victoire\",IF(VLOOKUP(BM87,$A$8:$BS$107,68,FALSE)=\"Défaite\",\"OK\",\"ERR\"),IF(BP87=\"Défaite\",IF(VLOOKUP(BM87,$A$8:$BS$107,68,FALSE)=\"Victoire\",\"OK\",\"ERR\"),IF(BP87=\"Nul\",IF(VLOOKUP(BM87,$A$8:$BS$107,68,FALSE)=\"Nul\",\"OK\",\"ERR\")))),\"\")","v":""},null,{"$f":"IF(BP87=\"Victoire\",100-ROUNDDOWN(20*BR87/$H87,0),\nIF(BP87=\"Défaite\",10+ROUNDDOWN(20*VLOOKUP(BM87,$A$8:$CB$107,70,FALSE)/VLOOKUP(BM87,$A$8:$H$107,8,FALSE),0),\nIF(AND(BP87=\"Nul\",$BR87<>$H87),40+(2*ROUNDDOWN(10*VLOOKUP(BM87,$A$8:$CB$107,70,FALSE)/VLOOKUP(BM87,$A$8:$H$107,8,FALSE),0)-ROUNDDOWN(10*BR87/$H87,0)),IF(AND(BP87=\"Nul\",$BR87=$H87),58,0))))","v":0},null,{"$f":"IF($I87<>\"\",VLOOKUP($I87,$A$8:$N$107,5,FALSE),0)+IF($P87<>\"\",VLOOKUP($P87,$A$8:$N$107,5,FALSE),0)+IF($W87<>\"\",VLOOKUP($W87,$A$8:$N$107,5,FALSE),0)+IF($AD87<>\"\",VLOOKUP($AD87,$A$8:$N$107,5,FALSE),0)+IF($AK87<>\"\",VLOOKUP($AK87,$A$8:$N$107,5,FALSE),0)+IF($AR87<>\"\",VLOOKUP($AR87,$A$8:$N$107,5,FALSE),0)+IF($AY87<>\"\",VLOOKUP($AY87,$A$8:$N$107,5,FALSE),0)+IF($BF87<>\"\",VLOOKUP($BF87,$A$8:$N$107,5,FALSE),0)+IF($BM87<>\"\",VLOOKUP($BM87,$A$8:$N$107,5,FALSE),0)","v":0}]
[{"$nulls":4},0,null,{"$f":"IF($F88<>\"\",VLOOKUP(F88,Armies!$A$1:$C$300,3,FALSE),\"\")","v":""},null,null,{"$f":"IF(I88<>\"\",VLOOKUP(I88,$A$8:$C$107,2,FALSE),\"\")","v":""},{"$f":"IF(I88<>\"\",IF(I88=$A88,\"ERR\",IF(OR(I88=$P88,I88=$W88,I88=$AD88,I88=$AK88),\"DUP\",IF(ISNA(VLOOKUP(I88,$A$8:$A$107,1,FALSE)),\"ERR\",IF(COUNTIF($I$8:$I$107,I88)>1,\"ERR\",IF($D88=VLOOKUP(I88,$A$8:$D$107,4,FALSE),\"CLUB\",\"OK\"))))),\"\")","v":""},null,{"$f":"IF(L88<>\"\",IF(L88=\"Victoire\",IF(VLOOKUP(I88,$A$8:$L$107,12,FALSE)=\"Défaite\",\"OK\",\"ERR\"),IF(L88=\"Défaite\",IF(VLOOKUP(I88,$A$8:$L$107,12,FALSE)=\"Victoire\",\"OK\",\"ERR\"),IF(L88=\"Nul\",IF(VLOOKUP(I88,$A$8:$L$107,12,FALSE)=\"Nul\",\"OK\",\"ERR\")))),\"\")","v":""},null,{"$f":"IF(L88=\"Victoire\",100-ROUNDDOWN(20*N88/$H88,0),\nIF(L88=\"Défaite\",10+ROUNDDOWN(20*VLOOKUP(I88,$A$8:$N$107,14,FALSE)/VLOOKUP(I88,$A$8:$H$107,8,FALSE),0),\nIF(AND(L88=\"Nul\",$N88<>$H88),40+(2*ROUNDDOWN(10*VLOOKUP(I88,$A$8:$N$107,14,FALSE)/VLOOKUP(I88,$A$8:$H$107,8,FALSE),0)-ROUNDDOWN(10*N88/$H88,0)),IF(AND(L88=\"Nul\",$N88=$H88),58,0))))","v":0},null,{"$f":"IF(P88<>\"\",VLOOKUP(P88,$A$8:$C$107,2,FALSE),\"\")","v":""},{"$f":"IF(P88<>\"\",IF(P88=$A88,\"ERR\",IF(OR(P88=$I88,P88=$W88,P88=$AD88,P88=$AK88),\"DUP\",IF(ISNA(VLOOKUP(P88,$A$8:$A$107,1,FALSE)),\"ERR\",IF(COUNTIF($I$8:$I$107,P88)>1,\"ERR\",IF($D88=VLOOKUP(P88,$A$8:$D$107,4,FALSE),\"CLUB\",\"OK\"))))),\"\")","v":""},null,{"$f":"IF(S88<>\"\",IF(S88=\"Victoire\",IF(VLOOKUP(P88,$A$8:$AO$107,19,FALSE)=\"Défaite\",\"OK\",\"ERR\"),IF(S88=\"Défaite\",IF(VLOOKUP(P88,$A$8:$AO$107,19,FALSE)=\"Victoire\",\"OK\",\"ERR\"),IF(S88=\"Nul\",IF(VLOOKUP(P88,$A$8:$AO$107,19,FALSE)=\"Nul\",\"OK\",\"ERR\")))),\"\")","v":""},null,{"$f":"IF(S88=\"Victoire\",100-ROUNDDOWN(20*U88/$H88,0),\nIF(S88=\"Défaite\",10+ROUNDDOWN(20*VLOOKUP(P88,$A$8:$AO$107,21,FALSE)/VLOOKUP(P88,$A$8:$H$107,8,FALSE),0),\nIF(AND(S88=\"Nul\",$U88<>$H88),40+(2*ROUNDDOWN(10*VLOOKUP(P88,$A$8:$AO$107,21,FALSE)/VLOOKUP(P88,$A$8:$H$107,8,FALSE),0)-ROUNDDOWN(10*U88/$H88,0)),IF(AND(S88=\"Nul\",$U88=$H88),58,0))))","v":0},null,{"$f":"IF(W88<>\"\",VLOOKUP(W88,$A$8:$C$107,2,FALSE),\"\")","v":""},{"$f":"IF(W88<>\"\",IF(W88=$A88,\"ERR\",IF(OR(W88=$P88,W88=$I88,W88=$AD88,W88=$AK88),\"DUP\",IF(ISNA(VLOOKUP(W88,$A$8:$A$107,1,FALSE)),\"ERR\",IF(COUNTIF($I$8:$I$107,W88)>1,\"ERR\",IF($D88=VLOOKUP(W88,$A$8:$D$107,4,FALSE),\"CLUB\",\"OK\"))))),\"\")","v":""},null,{"$f":"IF(Z88<>\"\",IF(Z88=\"Victoire\",IF(VLOOKUP(W88,$A$8:$AO$107,26,FALSE)=\"Défaite\",\"OK\",\"ERR\"),IF(Z88=\"Défaite\",IF(VLOOKUP(W88,$A$8:$AO$107,26,FALSE)=\"Victoire\",\"OK\",\"ERR\"),IF(Z88=\"Nul\",IF(VLOOKUP(W88,$A$8:$AO$107,26,FALSE)=\"Nul\",\"OK\",\"ERR\")))),\"\")","v":""},null,{"$f":"IF(Z88=\"Victoire\",100-ROUNDDOWN(20*AB88/$H88,0),\nIF(Z88=\"Défaite\",10+ROUNDDOWN(20*VLOOKUP(W88,$A$8:$AO$107,28,FALSE)/VLOOKUP(W88,$A$8:$H$107,8,FALSE),0),\nIF(AND(Z88=\"Nul\",$AB88<>$H88),40+(2*ROUNDDOWN(10*VLOOKUP(W88,$A$8:$AO$107,28,FALSE)/VLOOKUP(W88,$A$8:$H$107,8,FALSE),0)-ROUNDDOWN(10*AB88/$H88,0)),IF(AND(Z88=\"Nul\",$AB88=$H88),58,0))))","v":0},null,{"$f":"IF(AD88<>\"\",VLOOKUP(AD88,$A$8:$C$107,2,FALSE),\"\")","v":""},{"$f":"IF(AD88<>\"\",IF(AD88=$A88,\"ERR\",IF(OR(AD88=$P88,AD88=$W88,AD88=$I88,AD88=$AK88),\"DUP\",IF(ISNA(VLOOKUP(AD88,$A$8:$A$107,1,FALSE)),\"ERR\",IF(COUNTIF($I$8:$I$107,AD88)>1,\"ERR\",IF($D88=VLOOKUP(AD88,$A$8:$D$107,4,FALSE),\"CLUB\",\"OK\"))))),\"\")","v":""},null,{"$f":"IF(AG88<>\"\",IF(AG88=\"Victoire\",IF(VLOOKUP(AD88,$A$8:$AO$107,33,FALSE)=\"Défaite\",\"OK\",\"ERR\"),IF(AG88=\"Défaite\",IF(VLOOKUP(AD88,$A$8:$AO$107,33,FALSE)=\"Victoire\",\"OK\",\"ERR\"),IF(AG88=\"Nul\",IF(VLOOKUP(AD88,$A$8:$AO$107,33,FALSE)=\"Nul\",\"OK\",\"ERR\")))),\"\")","v":""},null,{"$f":"IF(AG88=\"Victoire\",100-ROUNDDOWN(20*AI88/$H88,0),\nIF(AG88=\"Défaite\",10+ROUNDDOWN(20*VLOOKUP(AD88,$A$8:$AO$107,35,FALSE)/VLOOKUP(AD88,$A$8:$H$107,8,FALSE),0),\nIF(AND(AG88=\"Nul\",$AI88<>$H88),40+(2*ROUNDDOWN(10*VLOOKUP(AD88,$A$8:$AO$107,35,FALSE)/VLOOKUP(AD88,$A$8:$H$107,8,FALSE),0)-ROUNDDOWN(10*AI88/$H88,0)),IF(AND(AG88=\"Nul\",$AI88=$H88),58,0))))","v":0},null,{"$f":"IF(AK88<>\"\",VLOOKUP(AK88,$A$8:$C$107,2,FALSE),\"\")","v":""},{"$f":"IF(AK88<>\"\",IF(AK88=$A88,\"ERR\",IF(OR(AK88=$P88,AK88=$W88,AK88=$AD88,AK88=$I88),\"DUP\",IF(ISNA(VLOOKUP(AK88,$A$8:$A$107,1,FALSE)),\"ERR\",IF(COUNTIF($I$8:$I$107,AK88)>1,\"ERR\",IF($D88=VLOOKUP(AK88,$A$8:$D$107,4,FALSE),\"CLUB\",\"OK\"))))),\"\")","v":""},null,{"$f":"IF(AN88<>\"\",IF(AN88=\"Victoire\",IF(VLOOKUP(AK88,$A$8:$AO$107,40,FALSE)=\"Défaite\",\"OK\",\"ERR\"),IF(AN88=\"Défaite\",IF(VLOOKUP(AK88,$A$8:$AO$107,40,FALSE)=\"Victoire\",\"OK\",\"ERR\"),IF(AN88=\"Nul\",IF(VLOOKUP(AK88,$A$8:$AO$107,40,FALSE)=\"Nul\",\"OK\",\"ERR\")))),\"\")","v":""},null,{"$f":"IF(AN88=\"Victoire\",100-ROUNDDOWN(20*AP88/$H88,0),\nIF(AN88=\"Défaite\",10+ROUNDDOWN(20*VLOOKUP(AK88,$A$8:$CB$107,42,FALSE)/VLOOKUP(AK88,$A$8:$H$107,8,FALSE),0),\nIF(AND(AN88=\"Nul\",$AP88<>$H88),40+(2*ROUNDDOWN(10*VLOOKUP(AK88,$A$8:$CB$107,42,FALSE)/VLOOKUP(AK88,$A$8:$H$107,8,FALSE),0)-ROUNDDOWN(10*AP88/$H88,0)),IF(AND(AN88=\"Nul\",$AP88=$H88),58,0))))","v":0},null,{"$f":"IF(AR88<>\"\",VLOOKUP(AR88,$A$8:$C$107,2,FALSE),\"\")","v":""},{"$f":"IF(AR88<>\"\",IF(AR88=$A88,\"ERR\",IF(OR(AR88=$I88,AR88=$P88,AR88=$W88,AR88=$AD88,AR88=$AK88),\"DUP\",IF(ISNA(VLOOKUP(AR88,$A$8:$A$107,1,FALSE)),\"ERR\",IF(COUNTIF($I$8:$I$107,AR88)>1,\"ERR\",IF($D88=VLOOKUP(AR88,$A$8:$D$107,4,FALSE),\"CLUB\",\"OK\"))))),\"\")","v":""},null,{"$f":"IF(AU88<>\"\",IF(AU88=\"Victoire\",IF(VLOOKUP(AR88,$A$8:$BL$107,47,FALSE)=\"Défaite\",\"OK\",\"ERR\"),IF(AU88=\"Défaite\",IF(VLOOKUP(AR88,$A$8:$BL$107,47,FALSE)=\"Victoire\",\"OK\",\"ERR\"),IF(AU88=\"Nul\",IF(VLOOKUP(AR88,$A$8:$BL$107,47,FALSE)=\"Nul\",\"OK\",\"ERR\")))),\"\")","v":""},null,{"$f":"IF(AU88=\"Victoire\",100-ROUNDDOWN(20*AW88/$H88,0),\nIF(AU88=\"Défaite\",10+ROUNDDOWN(20*VLOOKUP(AR88,$A$8:$CB$107,49,FALSE)/VLOOKUP(AR88,$A$8:$H$107,8,FALSE),0),\nIF(AND(AU88=\"Nul\",$AW88<>$H88),40+(2*ROUNDDOWN(10*VLOOKUP(AR88,$A$8:$CB$107,49,FALSE)/VLOOKUP(AR88,$A$8:$H$107,8,FALSE),0)-ROUNDDOWN(10*AW88/$H88,0)),IF(AND(AU88=\"Nul\",$AW88=$H88),58,0))))","v":0},null,{"$f":"IF(AY88<>\"\",VLOOKUP(AY88,$A$8:$C$107,2,FALSE),\"\")","v":""},{"$f":"IF(AY88<>\"\",IF(AY88=$A88,\"ERR\",IF(OR(AY88=$I88,AY88=$P88,AY88=$W88,AY88=$AD88,AY88=$AK88,AY88=$AR88),\"DUP\",IF(ISNA(VLOOKUP(AY88,$A$8:$A$107,1,FALSE)),\"ERR\",IF(COUNTIF($I$8:$I$107,AY88)>1,\"ERR\",IF($D88=VLOOKUP(AY88,$A$8:$D$107,4,FALSE),\"CLUB\",\"OK\"))))),\"\")","v":""},null,{"$f":"IF(BB88<>\"\",IF(BB88=\"Victoire\",IF(VLOOKUP(AY88,$A$8:$BL$107,54,FALSE)=\"Défaite\",\"OK\",\"ERR\"),IF(BB88=\"Défaite\",IF(VLOOKUP(AY88,$A$8:$BL$107,54,FALSE)=\"Victoire\",\"OK\",\"ERR\"),IF(BB88=\"Nul\",IF(VLOOKUP(AY88,$A$8:$BL$107,54,FALSE)=\"Nul\",\"OK\",\"ERR\")))),\"\")","v":""},null,{"$f":"IF(BB88=\"Victoire\",100-ROUNDDOWN(20*BD88/$H88,0),\nIF(BB88=\"Défaite\",10+ROUNDDOWN(20*VLOOKUP(AY88,$A$8:$CB$107,56,FALSE)/VLOOKUP(AY88,$A$8:$H$107,8,FALSE),0),\nIF(AND(BB88=\"Nul\",$BD88<>$H88),40+(2*ROUNDDOWN(10*VLOOKUP(AY88,$A$8:$CB$107,56,FALSE)/VLOOKUP(AY88,$A$8:$H$107,8,FALSE),0)-ROUNDDOWN(10*BD88/$H88,0)),IF(AND(BB88=\"Nul\",$BD88=$H88),58,0))))","v":0},null,{"$f":"IF(BF88<>\"\",VLOOKUP(BF88,$A$8:$C$107,2,FALSE),\"\")","v":""},{"$f":"IF(BF88<>\"\",IF(BF88=$A88,\"ERR\",IF(OR(BF88=$I88,BF88=$P88,BF88=$W88,BF88=$AD88,BF88=$AK88,BF88=$AR88,BF88=$AY88),\"DUP\",IF(ISNA(VLOOKUP(BF88,$A$8:$A$107,1,FALSE)),\"ERR\",IF(COUNTIF($I$8:$I$107,BF88)>1,\"ERR\",IF($D88=VLOOKUP(BF88,$A$8:$D$107,4,FALSE),\"CLUB\",\"OK\"))))),\"\")","v":""},null,{"$f":"IF(BI88<>\"\",IF(BI88=\"Victoire\",IF(VLOOKUP(BF88,$A$8:$BL$107,61,FALSE)=\"Défaite\",\"OK\",\"ERR\"),IF(BI88=\"Défaite\",IF(VLOOKUP(BF88,$A$8:$BL$107,61,FALSE)=\"Victoire\",\"OK\",\"ERR\"),IF(BI88=\"Nul\",IF(VLOOKUP(BF88,$A$8:$BL$107,61,FALSE)=\"Nul\",\"OK\",\"ERR\")))),\"\")","v":""},null,{"$f":"IF(BI88=\"Victoire\",100-ROUNDDOWN(20*BK88/$H88,0),\nIF(BI88=\"Défaite\",10+ROUNDDOWN(20*VLOOKUP(BF88,$A$8:$CB$107,63,FALSE)/VLOOKUP(BF88,$A$8:$H$107,8,FALSE),0),\nIF(AND(BI88=\"Nul\",$BK88<>$H88),40+(2*ROUNDDOWN(10*VLOOKUP(BF88,$A$8:$CB$107,63,FALSE)/VLOOKUP(BF88,$A$8:$H$107,8,FALSE),0)-ROUNDDOWN(10*BK88/$H88,0)),IF(AND(BI88=\"Nul\",$BK88=$H88),58,0))))","v":0},null,{"$f":"IF(BM88<>\"\",VLOOKUP(BM88,$A$8:$C$107,2,FALSE),\"\")","v":""},{"$f":"IF(BM88<>\"\",IF(BM88=$A88,\"ERR\",IF(OR(BM88=$I88,BM88=$P88,BM88=$W88,BM88=$AD88,BM88=$AK88,BM88=$AR88,BM88=$AY88,BM88=$BF88),\"DUP\",IF(ISNA(VLOOKUP(BM88,$A$8:$A$107,1,FALSE)),\"ERR\",IF(COUNTIF($I$8:$I$107,BM88)>1,\"ERR\",IF($D88=VLOOKUP(BM88,$A$8:$D$107,4,FALSE),\"CLUB\",\"OK\"))))),\"\")","v":""},null,{"$f":"IF(BP88<>\"\",IF(BP88=\"Victoire\",IF(VLOOKUP(BM88,$A$8:$BS$107,68,FALSE)=\"Défaite\",\"OK\",\"ERR\"),IF(BP88=\"Défaite\",IF(VLOOKUP(BM88,$A$8:$BS$107,68,FALSE)=\"Victoire\",\"OK\",\"ERR\"),IF(BP88=\"Nul\",IF(VLOOKUP(BM88,$A$8:$BS$107,68,FALSE)=\"Nul\",\"OK\",\"ERR\")))),\"\")","v":""},null,{"$f":"IF(BP88=\"Victoire\",100-ROUNDDOWN(20*BR88/$H88,0),\nIF(BP88=\"Défaite\",10+ROUNDDOWN(20*VLOOKUP(BM88,$A$8:$CB$107,70,FALSE)/VLOOKUP(BM88,$A$8:$H$107,8,FALSE),0),\nIF(AND(BP88=\"Nul\",$BR88<>$H88),40+(2*ROUNDDOWN(10*VLOOKUP(BM88,$A$8:$CB$107,70,FALSE)/VLOOKUP(BM88,$A$8:$H$107,8,FALSE),0)-ROUNDDOWN(10*BR88/$H88,0)),IF(AND(BP88=\"Nul\",$BR88=$H88),58,0))))","v":0},null,{"$f":"IF($I88<>\"\",VLOOKUP($I88,$A$8:$N$107,5,FALSE),0)+IF($P88<>\"\",VLOOKUP($P88,$A$8:$N$107,5,FALSE),0)+IF($W88<>\"\",VLOOKUP($W88,$A$8:$N$107,5,FALSE),0)+IF($AD88<>\"\",VLOOKUP($AD88,$A$8:$N$107,5,FALSE),0)+IF($AK88<>\"\",VLOOKUP($AK88,$A$8:$N$107,5,FALSE),0)+IF($AR88<>\"\",VLOOKUP($AR88,$A$8:$N$107,5,FALSE),0)+IF($AY88<>\"\",VLOOKUP($AY88,$A$8:$N$107,5,FALSE),0)+IF($BF88<>\"\",VLOOKUP($BF88,$A$8:$N$107,5,FALSE),0)+IF($BM88<>\"\",VLOOKUP($BM88,$A$8:$N$107,5,FALSE),0)","v":0}]
[{"$nulls":4},0,null,{"$f":"IF($F89<>\"\",VLOOKUP(F89,Armies!$A$1:$C$300,3,FALSE),\"\")","v":""},null,null,{"$f":"IF(I89<>\"\",VLOOKUP(I89,$A$8:$C$107,2,FALSE),\"\")","v":""},{"$f":"IF(I89<>\"\",IF(I89=$A89,\"ERR\",IF(OR(I89=$P89,I89=$W89,I89=$AD89,I89=$AK89),\"DUP\",IF(ISNA(VLOOKUP(I89,$A$8:$A$107,1,FALSE)),\"ERR\",IF(COUNTIF($I$8:$I$107,I89)>1,\"ERR\",IF($D89=VLOOKUP(I89,$A$8:$D$107,4,FALSE),\"CLUB\",\"OK\"))))),\"\")","v":""},null,{"$f":"IF(L89<>\"\",IF(L89=\"Victoire\",IF(VLOOKUP(I89,$A$8:$L$107,12,FALSE)=\"Défaite\",\"OK\",\"ERR\"),IF(L89=\"Défaite\",IF(VLOOKUP(I89,$A$8:$L$107,12,FALSE)=\"Victoire\",\"OK\",\"ERR\"),IF(L89=\"Nul\",IF(VLOOKUP(I89,$A$8:$L$107,12,FALSE)=\"Nul\",\"OK\",\"ERR\")))),\"\")","v":""},null,{"$f":"IF(L89=\"Victoire\",100-ROUNDDOWN(20*N89/$H89,0),\nIF(L89=\"Défaite\",10+ROUNDDOWN(20*VLOOKUP(I89,$A$8:$N$107,14,FALSE)/VLOOKUP(I89,$A$8:$H$107,8,FALSE),0),\nIF(AND(L89=\"Nul\",$N89<>$H89),40+(2*ROUNDDOWN(10*VLOOKUP(I89,$A$8:$N$107,14,FALSE)/VLOOKUP(I89,$A$8:$H$107,8,FALSE),0)-ROUNDDOWN(10*N89/$H89,0)),IF(AND(L89=\"Nul\",$N89=$H89),58,0))))","v":0},null,{"$f":"IF(P89<>\"\",VLOOKUP(P89,$A$8:$C$107,2,FALSE),\"\")","v":""},{"$f":"IF(P89<>\"\",IF(P89=$A89,\"ERR\",IF(OR(P89=$I89,P89=$W89,P89=$AD89,P89=$AK89),\"DUP\",IF(ISNA(VLOOKUP(P89,$A$8:$A$107,1,FALSE)),\"ERR\",IF(COUNTIF($I$8:$I$107,P89)>1,\"ERR\",IF($D89=VLOOKUP(P89,$A$8:$D$107,4,FALSE),\"CLUB\",\"OK\"))))),\"\")","v":""},null,{"$f":"IF(S89<>\"\",IF(S89=\"Victoire\",IF(VLOOKUP(P89,$A$8:$AO$107,19,FALSE)=\"Défaite\",\"OK\",\"ERR\"),IF(S89=\"Défaite\",IF(VLOOKUP(P89,$A$8:$AO$107,19,FALSE)=\"Victoire\",\"OK\",\"ERR\"),IF(S89=\"Nul\",IF(VLOOKUP(P89,$A$8:$AO$107,19,FALSE)=\"Nul\",\"OK\",\"ERR\")))),\"\")","v":""},null,{"$f":"IF(S89=\"Victoire\",100-ROUNDDOWN(20*U89/$H89,0),\nIF(S89=\"Défaite\",10+ROUNDDOWN(20*VLOOKUP(P89,$A$8:$AO$107,21,FALSE)/VLOOKUP(P89,$A$8:$H$107,8,FALSE),0),\nIF(AND(S89=\"Nul\",$U89<>$H89),40+(2*ROUNDDOWN(10*VLOOKUP(P89,$A$8:$AO$107,21,FALSE)/VLOOKUP(P89,$A$8:$H$107,8,FALSE),0)-ROUNDDOWN(10*U89/$H89,0)),IF(AND(S89=\"Nul\",$U89=$H89),58,0))))","v":0},null,{"$f":"IF(W89<>\"\",VLOOKUP(W89,$A$8:$C$107,2,FALSE),\"\")","v":""},{"$f":"IF(W89<>\"\",IF(W89=$A89,\"ERR\",IF(OR(W89=$P89,W89=$I89,W89=$AD89,W89=$AK89),\"DUP\",IF(ISNA(VLOOKUP(W89,$A$8:$A$107,1,FALSE)),\"ERR\",IF(COUNTIF($I$8:$I$107,W89)>1,\"ERR\",IF($D89=VLOOKUP(W89,$A$8:$D$107,4,FALSE),\"CLUB\",\"OK\"))))),\"\")","v":""},null,{"$f":"IF(Z89<>\"\",IF(Z89=\"Victoire\",IF(VLOOKUP(W89,$A$8:$AO$107,26,FALSE)=\"Défaite\",\"OK\",\"ERR\"),IF(Z89=\"Défaite\",IF(VLOOKUP(W89,$A$8:$AO$107,26,FALSE)=\"Victoire\",\"OK\",\"ERR\"),IF(Z89=\"Nul\",IF(VLOOKUP(W89,$A$8:$AO$107,26,FALSE)=\"Nul\",\"OK\",\"ERR\")))),\"\")","v":""},null,{"$f":"IF(Z89=\"Victoire\",100-ROUNDDOWN(20*AB89/$H89,0),\nIF(Z89=\"Défaite\",10+ROUNDDOWN(20*VLOOKUP(W89,$A$8:$AO$107,28,FALSE)/VLOOKUP(W89,$A$8:$H$107,8,FALSE),0),\nIF(AND(Z89=\"Nul\",$AB89<>$H89),40+(2*ROUNDDOWN(10*VLOOKUP(W89,$A$8:$AO$107,28,FALSE)/VLOOKUP(W89,$A$8:$H$107,8,FALSE),0)-ROUNDDOWN(10*AB89/$H89,0)),IF(AND(Z89=\"Nul\",$AB89=$H89),58,0))))","v":0},null,{"$f":"IF(AD89<>\"\",VLOOKUP(AD89,$A$8:$C$107,2,FALSE),\"\")","v":""},{"$f":"IF(AD89<>\"\",IF(AD89=$A89,\"ERR\",IF(OR(AD89=$P89,AD89=$W89,AD89=$I89,AD89=$AK89),\"DUP\",IF(ISNA(VLOOKUP(AD89,$A$8:$A$107,1,FALSE)),\"ERR\",IF(COUNTIF($I$8:$I$107,AD89)>1,\"ERR\",IF($D89=VLOOKUP(AD89,$A$8:$D$107,4,FALSE),\"CLUB\",\"OK\"))))),\"\")","v":""},null,{"$f":"IF(AG89<>\"\",IF(AG89=\"Victoire\",IF(VLOOKUP(AD89,$A$8:$AO$107,33,FALSE)=\"Défaite\",\"OK\",\"ERR\"),IF(AG89=\"Défaite\",IF(VLOOKUP(AD89,$A$8:$AO$107,33,FALSE)=\"Victoire\",\"OK\",\"ERR\"),IF(AG89=\"Nul\",IF(VLOOKUP(AD89,$A$8:$AO$107,33,FALSE)=\"Nul\",\"OK\",\"ERR\")))),\"\")","v":""},null,{"$f":"IF(AG89=\"Victoire\",100-ROUNDDOWN(20*AI89/$H89,0),\nIF(AG89=\"Défaite\",10+ROUNDDOWN(20*VLOOKUP(AD89,$A$8:$AO$107,35,FALSE)/VLOOKUP(AD89,$A$8:$H$107,8,FALSE),0),\nIF(AND(AG89=\"Nul\",$AI89<>$H89),40+(2*ROUNDDOWN(10*VLOOKUP(AD89,$A$8:$AO$107,35,FALSE)/VLOOKUP(AD89,$A$8:$H$107,8,FALSE),0)-ROUNDDOWN(10*AI89/$H89,0)),IF(AND(AG89=\"Nul\",$AI89=$H89),58,0))))","v":0},null,{"$f":"IF(AK89<>\"\",VLOOKUP(AK89,$A$8:$C$107,2,FALSE),\"\")","v":""},{"$f":"IF(AK89<>\"\",IF(AK89=$A89,\"ERR\",IF(OR(AK89=$P89,AK89=$W89,AK89=$AD89,AK89=$I89),\"DUP\",IF(ISNA(VLOOKUP(AK89,$A$8:$A$107,1,FALSE)),\"ERR\",IF(COUNTIF($I$8:$I$107,AK89)>1,\"ERR\",IF($D89=VLOOKUP(AK89,$A$8:$D$107,4,FALSE),\"CLUB\",\"OK\"))))),\"\")","v":""},null,{"$f":"IF(AN89<>\"\",IF(AN89=\"Victoire\",IF(VLOOKUP(AK89,$A$8:$AO$107,40,FALSE)=\"Défaite\",\"OK\",\"ERR\"),IF(AN89=\"Défaite\",IF(VLOOKUP(AK89,$A$8:$AO$107,40,FALSE)=\"Victoire\",\"OK\",\"ERR\"),IF(AN89=\"Nul\",IF(VLOOKUP(AK89,$A$8:$AO$107,40,FALSE)=\"Nul\",\"OK\",\"ERR\")))),\"\")","v":""},null,{"$f":"IF(AN89=\"Victoire\",100-ROUNDDOWN(20*AP89/$H89,0),\nIF(AN89=\"Défaite\",10+ROUNDDOWN(20*VLOOKUP(AK89,$A$8:$CB$107,42,FALSE)/VLOOKUP(AK89,$A$8:$H$107,8,FALSE),0),\nIF(AND(AN89=\"Nul\",$AP89<>$H89),40+(2*ROUNDDOWN(10*VLOOKUP(AK89,$A$8:$CB$107,42,FALSE)/VLOOKUP(AK89,$A$8:$H$107,8,FALSE),0)-ROUNDDOWN(10*AP89/$H89,0)),IF(AND(AN89=\"Nul\",$AP89=$H89),58,0))))","v":0},null,{"$f":"IF(AR89<>\"\",VLOOKUP(AR89,$A$8:$C$107,2,FALSE),\"\")","v":""},{"$f":"IF(AR89<>\"\",IF(AR89=$A89,\"ERR\",IF(OR(AR89=$I89,AR89=$P89,AR89=$W89,AR89=$AD89,AR89=$AK89),\"DUP\",IF(ISNA(VLOOKUP(AR89,$A$8:$A$107,1,FALSE)),\"ERR\",IF(COUNTIF($I$8:$I$107,AR89)>1,\"ERR\",IF($D89=VLOOKUP(AR89,$A$8:$D$107,4,FALSE),\"CLUB\",\"OK\"))))),\"\")","v":""},null,{"$f":"IF(AU89<>\"\",IF(AU89=\"Victoire\",IF(VLOOKUP(AR89,$A$8:$BL$107,47,FALSE)=\"Défaite\",\"OK\",\"ERR\"),IF(AU89=\"Défaite\",IF(VLOOKUP(AR89,$A$8:$BL$107,47,FALSE)=\"Victoire\",\"OK\",\"ERR\"),IF(AU89=\"Nul\",IF(VLOOKUP(AR89,$A$8:$BL$107,47,FALSE)=\"Nul\",\"OK\",\"ERR\")))),\"\")","v":""},null,{"$f":"IF(AU89=\"Victoire\",100-ROUNDDOWN(20*AW89/$H89,0),\nIF(AU89=\"Défaite\",10+ROUNDDOWN(20*VLOOKUP(AR89,$A$8:$CB$107,49,FALSE)/VLOOKUP(AR89,$A$8:$H$107,8,FALSE),0),\nIF(AND(AU89=\"Nul\",$AW89<>$H89),40+(2*ROUNDDOWN(10*VLOOKUP(AR89,$A$8:$CB$107,49,FALSE)/VLOOKUP(AR89,$A$8:$H$107,8,FALSE),0)-ROUNDDOWN(10*AW89/$H89,0)),IF(AND(AU89=\"Nul\",$AW89=$H89),58,0))))","v":0},null,{"$f":"IF(AY89<>\"\",VLOOKUP(AY89,$A$8:$C$107,2,FALSE),\"\")","v":""},{"$f":"IF(AY89<>\"\",IF(AY89=$A89,\"ERR\",IF(OR(AY89=$I89,AY89=$P89,AY89=$W89,AY89=$AD89,AY89=$AK89,AY89=$AR89),\"DUP\",IF(ISNA(VLOOKUP(AY89,$A$8:$A$107,1,FALSE)),\"ERR\",IF(COUNTIF($I$8:$I$107,AY89)>1,\"ERR\",IF($D89=VLOOKUP(AY89,$A$8:$D$107,4,FALSE),\"CLUB\",\"OK\"))))),\"\")","v":""},null,{"$f":"IF(BB89<>\"\",IF(BB89=\"Victoire\",IF(VLOOKUP(AY89,$A$8:$BL$107,54,FALSE)=\"Défaite\",\"OK\",\"ERR\"),IF(BB89=\"Défaite\",IF(VLOOKUP(AY89,$A$8:$BL$107,54,FALSE)=\"Victoire\",\"OK\",\"ERR\"),IF(BB89=\"Nul\",IF(VLOOKUP(AY89,$A$8:$BL$107,54,FALSE)=\"Nul\",\"OK\",\"ERR\")))),\"\")","v":""},null,{"$f":"IF(BB89=\"Victoire\",100-ROUNDDOWN(20*BD89/$H89,0),\nIF(BB89=\"Défaite\",10+ROUNDDOWN(20*VLOOKUP(AY89,$A$8:$CB$107,56,FALSE)/VLOOKUP(AY89,$A$8:$H$107,8,FALSE),0),\nIF(AND(BB89=\"Nul\",$BD89<>$H89),40+(2*ROUNDDOWN(10*VLOOKUP(AY89,$A$8:$CB$107,56,FALSE)/VLOOKUP(AY89,$A$8:$H$107,8,FALSE),0)-ROUNDDOWN(10*BD89/$H89,0)),IF(AND(BB89=\"Nul\",$BD89=$H89),58,0))))","v":0},null,{"$f":"IF(BF89<>\"\",VLOOKUP(BF89,$A$8:$C$107,2,FALSE),\"\")","v":""},{"$f":"IF(BF89<>\"\",IF(BF89=$A89,\"ERR\",IF(OR(BF89=$I89,BF89=$P89,BF89=$W89,BF89=$AD89,BF89=$AK89,BF89=$AR89,BF89=$AY89),\"DUP\",IF(ISNA(VLOOKUP(BF89,$A$8:$A$107,1,FALSE)),\"ERR\",IF(COUNTIF($I$8:$I$107,BF89)>1,\"ERR\",IF($D89=VLOOKUP(BF89,$A$8:$D$107,4,FALSE),\"CLUB\",\"OK\"))))),\"\")","v":""},null,{"$f":"IF(BI89<>\"\",IF(BI89=\"Victoire\",IF(VLOOKUP(BF89,$A$8:$BL$107,61,FALSE)=\"Défaite\",\"OK\",\"ERR\"),IF(BI89=\"Défaite\",IF(VLOOKUP(BF89,$A$8:$BL$107,61,FALSE)=\"Victoire\",\"OK\",\"ERR\"),IF(BI89=\"Nul\",IF(VLOOKUP(BF89,$A$8:$BL$107,61,FALSE)=\"Nul\",\"OK\",\"ERR\")))),\"\")","v":""},null,{"$f":"IF(BI89=\"Victoire\",100-ROUNDDOWN(20*BK89/$H89,0),\nIF(BI89=\"Défaite\",10+ROUNDDOWN(20*VLOOKUP(BF89,$A$8:$CB$107,63,FALSE)/VLOOKUP(BF89,$A$8:$H$107,8,FALSE),0),\nIF(AND(BI89=\"Nul\",$BK89<>$H89),40+(2*ROUNDDOWN(10*VLOOKUP(BF89,$A$8:$CB$107,63,FALSE)/VLOOKUP(BF89,$A$8:$H$107,8,FALSE),0)-ROUNDDOWN(10*BK89/$H89,0)),IF(AND(BI89=\"Nul\",$BK89=$H89),58,0))))","v":0},null,{"$f":"IF(BM89<>\"\",VLOOKUP(BM89,$A$8:$C$107,2,FALSE),\"\")","v":""},{"$f":"IF(BM89<>\"\",IF(BM89=$A89,\"ERR\",IF(OR(BM89=$I89,BM89=$P89,BM89=$W89,BM89=$AD89,BM89=$AK89,BM89=$AR89,BM89=$AY89,BM89=$BF89),\"DUP\",IF(ISNA(VLOOKUP(BM89,$A$8:$A$107,1,FALSE)),\"ERR\",IF(COUNTIF($I$8:$I$107,BM89)>1,\"ERR\",IF($D89=VLOOKUP(BM89,$A$8:$D$107,4,FALSE),\"CLUB\",\"OK\"))))),\"\")","v":""},null,{"$f":"IF(BP89<>\"\",IF(BP89=\"Victoire\",IF(VLOOKUP(BM89,$A$8:$BS$107,68,FALSE)=\"Défaite\",\"OK\",\"ERR\"),IF(BP89=\"Défaite\",IF(VLOOKUP(BM89,$A$8:$BS$107,68,FALSE)=\"Victoire\",\"OK\",\"ERR\"),IF(BP89=\"Nul\",IF(VLOOKUP(BM89,$A$8:$BS$107,68,FALSE)=\"Nul\",\"OK\",\"ERR\")))),\"\")","v":""},null,{"$f":"IF(BP89=\"Victoire\",100-ROUNDDOWN(20*BR89/$H89,0),\nIF(BP89=\"Défaite\",10+ROUNDDOWN(20*VLOOKUP(BM89,$A$8:$CB$107,70,FALSE)/VLOOKUP(BM89,$A$8:$H$107,8,FALSE),0),\nIF(AND(BP89=\"Nul\",$BR89<>$H89),40+(2*ROUNDDOWN(10*VLOOKUP(BM89,$A$8:$CB$107,70,FALSE)/VLOOKUP(BM89,$A$8:$H$107,8,FALSE),0)-ROUNDDOWN(10*BR89/$H89,0)),IF(AND(BP89=\"Nul\",$BR89=$H89),58,0))))","v":0},null,{"$f":"IF($I89<>\"\",VLOOKUP($I89,$A$8:$N$107,5,FALSE),0)+IF($P89<>\"\",VLOOKUP($P89,$A$8:$N$107,5,FALSE),0)+IF($W89<>\"\",VLOOKUP($W89,$A$8:$N$107,5,FALSE),0)+IF($AD89<>\"\",VLOOKUP($AD89,$A$8:$N$107,5,FALSE),0)+IF($AK89<>\"\",VLOOKUP($AK89,$A$8:$N$107,5,FALSE),0)+IF($AR89<>\"\",VLOOKUP($AR89,$A$8:$N$107,5,FALSE),0)+IF($AY89<>\"\",VLOOKUP($AY89,$A$8:$N$107,5,FALSE),0)+IF($BF89<>\"\",VLOOKUP($BF89,$A$8:$N$107,5,FALSE),0)+IF($BM89<>\"\",VLOOKUP($BM89,$A$8:$N$107,5,FALSE),0)","v":0}]
[{"$nulls":4},0,null,{"$f":"IF($F90<>\"\",VLOOKUP(F90,Armies!$A$1:$C$300,3,FALSE),\"\")","v":""},null,null,{"$f":"IF(I90<>\"\",VLOOKUP(I90,$A$8:$C$107,2,FALSE),\"\")","v":""},{"$f":"IF(I90<>\"\",IF(I90=$A90,\"ERR\",IF(OR(I90=$P90,I90=$W90,I90=$AD90,I90=$AK90),\"DUP\",IF(ISNA(VLOOKUP(I90,$A$8:$A$107,1,FALSE)),\"ERR\",IF(COUNTIF($I$8:$I$107,I90)>1,\"ERR\",IF($D90=VLOOKUP(I90,$A$8:$D$107,4,FALSE),\"CLUB\",\"OK\"))))),\"\")","v":""},null,{"$f":"IF(L90<>\"\",IF(L90=\"Victoire\",IF(VLOOKUP(I90,$A$8:$L$107,12,FALSE)=\"Défaite\",\"OK\",\"ERR\"),IF(L90=\"Défaite\",IF(VLOOKUP(I90,$A$8:$L$107,12,FALSE)=\"Victoire\",\"OK\",\"ERR\"),IF(L90=\"Nul\",IF(VLOOKUP(I90,$A$8:$L$107,12,FALSE)=\"Nul\",\"OK\",\"ERR\")))),\"\")","v":""},null,{"$f":"IF(L90=\"Victoire\",100-ROUNDDOWN(20*N90/$H90,0),\nIF(L90=\"Défaite\",10+ROUNDDOWN(20*VLOOKUP(I90,$A$8:$N$107,14,FALSE)/VLOOKUP(I90,$A$8:$H$107,8,FALSE),0),\nIF(AND(L90=\"Nul\",$N90<>$H90),40+(2*ROUNDDOWN(10*VLOOKUP(I90,$A$8:$N$107,14,FALSE)/VLOOKUP(I90,$A$8:$H$107,8,FALSE),0)-ROUNDDOWN(10*N90/$H90,0)),IF(AND(L90=\"Nul\",$N90=$H90),58,0))))","v":0},null,{"$f":"IF(P90<>\"\",VLOOKUP(P90,$A$8:$C$107,2,FALSE),\"\")","v":""},{"$f":"IF(P90<>\"\",IF(P90=$A90,\"ERR\",IF(OR(P90=$I90,P90=$W90,P90=$AD90,P90=$AK90),\"DUP\",IF(ISNA(VLOOKUP(P90,$A$8:$A$107,1,FALSE)),\"ERR\",IF(COUNTIF($I$8:$I$107,P90)>1,\"ERR\",IF($D90=VLOOKUP(P90,$A$8:$D$107,4,FALSE),\"CLUB\",\"OK\"))))),\"\")","v":""},null,{"$f":"IF(S90<>\"\",IF(S90=\"Victoire\",IF(VLOOKUP(P90,$A$8:$AO$107,19,FALSE)=\"Défaite\",\"OK\",\"ERR\"),IF(S90=\"Défaite\",IF(VLOOKUP(P90,$A$8:$AO$107,19,FALSE)=\"Victoire\",\"OK\",\"ERR\"),IF(S90=\"Nul\",IF(VLOOKUP(P90,$A$8:$AO$107,19,FALSE)=\"Nul\",\"OK\",\"ERR\")))),\"\")","v":""},null,{"$f":"IF(S90=\"Victoire\",100-ROUNDDOWN(20*U90/$H90,0),\nIF(S90=\"Défaite\",10+ROUNDDOWN(20*VLOOKUP(P90,$A$8:$AO$107,21,FALSE)/VLOOKUP(P90,$A$8:$H$107,8,FALSE),0),\nIF(AND(S90=\"Nul\",$U90<>$H90),40+(2*ROUNDDOWN(10*VLOOKUP(P90,$A$8:$AO$107,21,FALSE)/VLOOKUP(P90,$A$8:$H$107,8,FALSE),0)-ROUNDDOWN(10*U90/$H90,0)),IF(AND(S90=\"Nul\",$U90=$H90),58,0))))","v":0},null,{"$f":"IF(W90<>\"\",VLOOKUP(W90,$A$8:$C$107,2,FALSE),\"\")","v":""},{"$f":"IF(W90<>\"\",IF(W90=$A90,\"ERR\",IF(OR(W90=$P90,W90=$I90,W90=$AD90,W90=$AK90),\"DUP\",IF(ISNA(VLOOKUP(W90,$A$8:$A$107,1,FALSE)),\"ERR\",IF(COUNTIF($I$8:$I$107,W90)>1,\"ERR\",IF($D90=VLOOKUP(W90,$A$8:$D$107,4,FALSE),\"CLUB\",\"OK\"))))),\"\")","v":""},null,{"$f":"IF(Z90<>\"\",IF(Z90=\"Victoire\",IF(VLOOKUP(W90,$A$8:$AO$107,26,FALSE)=\"Défaite\",\"OK\",\"ERR\"),IF(Z90=\"Défaite\",IF(VLOOKUP(W90,$A$8:$AO$107,26,FALSE)=\"Victoire\",\"OK\",\"ERR\"),IF(Z90=\"Nul\",IF(VLOOKUP(W90,$A$8:$AO$107,26,FALSE)=\"Nul\",\"OK\",\"ERR\")))),\"\")","v":""},null,{"$f":"IF(Z90=\"Victoire\",100-ROUNDDOWN(20*AB90/$H90,0),\nIF(Z90=\"Défaite\",10+ROUNDDOWN(20*VLOOKUP(W90,$A$8:$AO$107,28,FALSE)/VLOOKUP(W90,$A$8:$H$107,8,FALSE),0),\nIF(AND(Z90=\"Nul\",$AB90<>$H90),40+(2*ROUNDDOWN(10*VLOOKUP(W90,$A$8:$AO$107,28,FALSE)/VLOOKUP(W90,$A$8:$H$107,8,FALSE),0)-ROUNDDOWN(10*AB90/$H90,0)),IF(AND(Z90=\"Nul\",$AB90=$H90),58,0))))","v":0},null,{"$f":"IF(AD90<>\"\",VLOOKUP(AD90,$A$8:$C$107,2,FALSE),\"\")","v":""},{"$f":"IF(AD90<>\"\",IF(AD90=$A90,\"ERR\",IF(OR(AD90=$P90,AD90=$W90,AD90=$I90,AD90=$AK90),\"DUP\",IF(ISNA(VLOOKUP(AD90,$A$8:$A$107,1,FALSE)),\"ERR\",IF(COUNTIF($I$8:$I$107,AD90)>1,\"ERR\",IF($D90=VLOOKUP(AD90,$A$8:$D$107,4,FALSE),\"CLUB\",\"OK\"))))),\"\")","v":""},null,{"$f":"IF(AG90<>\"\",IF(AG90=\"Victoire\",IF(VLOOKUP(AD90,$A$8:$AO$107,33,FALSE)=\"Défaite\",\"OK\",\"ERR\"),IF(AG90=\"Défaite\",IF(VLOOKUP(AD90,$A$8:$AO$107,33,FALSE)=\"Victoire\",\"OK\",\"ERR\"),IF(AG90=\"Nul\",IF(VLOOKUP(AD90,$A$8:$AO$107,33,FALSE)=\"Nul\",\"OK\",\"ERR\")))),\"\")","v":""},null,{"$f":"IF(AG90=\"Victoire\",100-ROUNDDOWN(20*AI90/$H90,0),\nIF(AG90=\"Défaite\",10+ROUNDDOWN(20*VLOOKUP(AD90,$A$8:$AO$107,35,FALSE)/VLOOKUP(AD90,$A$8:$H$107,8,FALSE),0),\nIF(AND(AG90=\"Nul\",$AI90<>$H90),40+(2*ROUNDDOWN(10*VLOOKUP(AD90,$A$8:$AO$107,35,FALSE)/VLOOKUP(AD90,$A$8:$H$107,8,FALSE),0)-ROUNDDOWN(10*AI90/$H90,0)),IF(AND(AG90=\"Nul\",$AI90=$H90),58,0))))","v":0},null,{"$f":"IF(AK90<>\"\",VLOOKUP(AK90,$A$8:$C$107,2,FALSE),\"\")","v":""},{"$f":"IF(AK90<>\"\",IF(AK90=$A90,\"ERR\",IF(OR(AK90=$P90,AK90=$W90,AK90=$AD90,AK90=$I90),\"DUP\",IF(ISNA(VLOOKUP(AK90,$A$8:$A$107,1,FALSE)),\"ERR\",IF(COUNTIF($I$8:$I$107,AK90)>1,\"ERR\",IF($D90=VLOOKUP(AK90,$A$8:$D$107,4,FALSE),\"CLUB\",\"OK\"))))),\"\")","v":""},null,{"$f":"IF(AN90<>\"\",IF(AN90=\"Victoire\",IF(VLOOKUP(AK90,$A$8:$AO$107,40,FALSE)=\"Défaite\",\"OK\",\"ERR\"),IF(AN90=\"Défaite\",IF(VLOOKUP(AK90,$A$8:$AO$107,40,FALSE)=\"Victoire\",\"OK\",\"ERR\"),IF(AN90=\"Nul\",IF(VLOOKUP(AK90,$A$8:$AO$107,40,FALSE)=\"Nul\",\"OK\",\"ERR\")))),\"\")","v":""},null,{"$f":"IF(AN90=\"Victoire\",100-ROUNDDOWN(20*AP90/$H90,0),\nIF(AN90=\"Défaite\",10+ROUNDDOWN(20*VLOOKUP(AK90,$A$8:$CB$107,42,FALSE)/VLOOKUP(AK90,$A$8:$H$107,8,FALSE),0),\nIF(AND(AN90=\"Nul\",$AP90<>$H90),40+(2*ROUNDDOWN(10*VLOOKUP(AK90,$A$8:$CB$107,42,FALSE)/VLOOKUP(AK90,$A$8:$H$107,8,FALSE),0)-ROUNDDOWN(10*AP90/$H90,0)),IF(AND(AN90=\"Nul\",$AP90=$H90),58,0))))","v":0},null,{"$f":"IF(AR90<>\"\",VLOOKUP(AR90,$A$8:$C$107,2,FALSE),\"\")","v":""},{"$f":"IF(AR90<>\"\",IF(AR90=$A90,\"ERR\",IF(OR(AR90=$I90,AR90=$P90,AR90=$W90,AR90=$AD90,AR90=$AK90),\"DUP\",IF(ISNA(VLOOKUP(AR90,$A$8:$A$107,1,FALSE)),\"ERR\",IF(COUNTIF($I$8:$I$107,AR90)>1,\"ERR\",IF($D90=VLOOKUP(AR90,$A$8:$D$107,4,FALSE),\"CLUB\",\"OK\"))))),\"\")","v":""},null,{"$f":"IF(AU90<>\"\",IF(AU90=\"Victoire\",IF(VLOOKUP(AR90,$A$8:$BL$107,47,FALSE)=\"Défaite\",\"OK\",\"ERR\"),IF(AU90=\"Défaite\",IF(VLOOKUP(AR90,$A$8:$BL$107,47,FALSE)=\"Victoire\",\"OK\",\"ERR\"),IF(AU90=\"Nul\",IF(VLOOKUP(AR90,$A$8:$BL$107,47,FALSE)=\"Nul\",\"OK\",\"ERR\")))),\"\")","v":""},null,{"$f":"IF(AU90=\"Victoire\",100-ROUNDDOWN(20*AW90/$H90,0),\nIF(AU90=\"Défaite\",10+ROUNDDOWN(20*VLOOKUP(AR90,$A$8:$CB$107,49,FALSE)/VLOOKUP(AR90,$A$8:$H$107,8,FALSE),0),\nIF(AND(AU90=\"Nul\",$AW90<>$H90),40+(2*ROUNDDOWN(10*VLOOKUP(AR90,$A$8:$CB$107,49,FALSE)/VLOOKUP(AR90,$A$8:$H$107,8,FALSE),0)-ROUNDDOWN(10*AW90/$H90,0)),IF(AND(AU90=\"Nul\",$AW90=$H90),58,0))))","v":0},null,{"$f":"IF(AY90<>\"\",VLOOKUP(AY90,$A$8:$C$107,2,FALSE),\"\")","v":""},{"$f":"IF(AY90<>\"\",IF(AY90=$A90,\"ERR\",IF(OR(AY90=$I90,AY90=$P90,AY90=$W90,AY90=$AD90,AY90=$AK90,AY90=$AR90),\"DUP\",IF(ISNA(VLOOKUP(AY90,$A$8:$A$107,1,FALSE)),\"ERR\",IF(COUNTIF($I$8:$I$107,AY90)>1,\"ERR\",IF($D90=VLOOKUP(AY90,$A$8:$D$107,4,FALSE),\"CLUB\",\"OK\"))))),\"\")","v":""},null,{"$f":"IF(BB90<>\"\",IF(BB90=\"Victoire\",IF(VLOOKUP(AY90,$A$8:$BL$107,54,FALSE)=\"Défaite\",\"OK\",\"ERR\"),IF(BB90=\"Défaite\",IF(VLOOKUP(AY90,$A$8:$BL$107,54,FALSE)=\"Victoire\",\"OK\",\"ERR\"),IF(BB90=\"Nul\",IF(VLOOKUP(AY90,$A$8:$BL$107,54,FALSE)=\"Nul\",\"OK\",\"ERR\")))),\"\")","v":""},null,{"$f":"IF(BB90=\"Victoire\",100-ROUNDDOWN(20*BD90/$H90,0),\nIF(BB90=\"Défaite\",10+ROUNDDOWN(20*VLOOKUP(AY90,$A$8:$CB$107,56,FALSE)/VLOOKUP(AY90,$A$8:$H$107,8,FALSE),0),\nIF(AND(BB90=\"Nul\",$BD90<>$H90),40+(2*ROUNDDOWN(10*VLOOKUP(AY90,$A$8:$CB$107,56,FALSE)/VLOOKUP(AY90,$A$8:$H$107,8,FALSE),0)-ROUNDDOWN(10*BD90/$H90,0)),IF(AND(BB90=\"Nul\",$BD90=$H90),58,0))))","v":0},null,{"$f":"IF(BF90<>\"\",VLOOKUP(BF90,$A$8:$C$107,2,FALSE),\"\")","v":""},{"$f":"IF(BF90<>\"\",IF(BF90=$A90,\"ERR\",IF(OR(BF90=$I90,BF90=$P90,BF90=$W90,BF90=$AD90,BF90=$AK90,BF90=$AR90,BF90=$AY90),\"DUP\",IF(ISNA(VLOOKUP(BF90,$A$8:$A$107,1,FALSE)),\"ERR\",IF(COUNTIF($I$8:$I$107,BF90)>1,\"ERR\",IF($D90=VLOOKUP(BF90,$A$8:$D$107,4,FALSE),\"CLUB\",\"OK\"))))),\"\")","v":""},null,{"$f":"IF(BI90<>\"\",IF(BI90=\"Victoire\",IF(VLOOKUP(BF90,$A$8:$BL$107,61,FALSE)=\"Défaite\",\"OK\",\"ERR\"),IF(BI90=\"Défaite\",IF(VLOOKUP(BF90,$A$8:$BL$107,61,FALSE)=\"Victoire\",\"OK\",\"ERR\"),IF(BI90=\"Nul\",IF(VLOOKUP(BF90,$A$8:$BL$107,61,FALSE)=\"Nul\",\"OK\",\"ERR\")))),\"\")","v":""},null,{"$f":"IF(BI90=\"Victoire\",100-ROUNDDOWN(20*BK90/$H90,0),\nIF(BI90=\"Défaite\",10+ROUNDDOWN(20*VLOOKUP(BF90,$A$8:$CB$107,63,FALSE)/VLOOKUP(BF90,$A$8:$H$107,8,FALSE),0),\nIF(AND(BI90=\"Nul\",$BK90<>$H90),40+(2*ROUNDDOWN(10*VLOOKUP(BF90,$A$8:$CB$107,63,FALSE)/VLOOKUP(BF90,$A$8:$H$107,8,FALSE),0)-ROUNDDOWN(10*BK90/$H90,0)),IF(AND(BI90=\"Nul\",$BK90=$H90),58,0))))","v":0},null,{"$f":"IF(BM90<>\"\",VLOOKUP(BM90,$A$8:$C$107,2,FALSE),\"\")","v":""},{"$f":"IF(BM90<>\"\",IF(BM90=$A90,\"ERR\",IF(OR(BM90=$I90,BM90=$P90,BM90=$W90,BM90=$AD90,BM90=$AK90,BM90=$AR90,BM90=$AY90,BM90=$BF90),\"DUP\",IF(ISNA(VLOOKUP(BM90,$A$8:$A$107,1,FALSE)),\"ERR\",IF(COUNTIF($I$8:$I$107,BM90)>1,\"ERR\",IF($D90=VLOOKUP(BM90,$A$8:$D$107,4,FALSE),\"CLUB\",\"OK\"))))),\"\")","v":""},null,{"$f":"IF(BP90<>\"\",IF(BP90=\"Victoire\",IF(VLOOKUP(BM90,$A$8:$BS$107,68,FALSE)=\"Défaite\",\"OK\",\"ERR\"),IF(BP90=\"Défaite\",IF(VLOOKUP(BM90,$A$8:$BS$107,68,FALSE)=\"Victoire\",\"OK\",\"ERR\"),IF(BP90=\"Nul\",IF(VLOOKUP(BM90,$A$8:$BS$107,68,FALSE)=\"Nul\",\"OK\",\"ERR\")))),\"\")","v":""},null,{"$f":"IF(BP90=\"Victoire\",100-ROUNDDOWN(20*BR90/$H90,0),\nIF(BP90=\"Défaite\",10+ROUNDDOWN(20*VLOOKUP(BM90,$A$8:$CB$107,70,FALSE)/VLOOKUP(BM90,$A$8:$H$107,8,FALSE),0),\nIF(AND(BP90=\"Nul\",$BR90<>$H90),40+(2*ROUNDDOWN(10*VLOOKUP(BM90,$A$8:$CB$107,70,FALSE)/VLOOKUP(BM90,$A$8:$H$107,8,FALSE),0)-ROUNDDOWN(10*BR90/$H90,0)),IF(AND(BP90=\"Nul\",$BR90=$H90),58,0))))","v":0},null,{"$f":"IF($I90<>\"\",VLOOKUP($I90,$A$8:$N$107,5,FALSE),0)+IF($P90<>\"\",VLOOKUP($P90,$A$8:$N$107,5,FALSE),0)+IF($W90<>\"\",VLOOKUP($W90,$A$8:$N$107,5,FALSE),0)+IF($AD90<>\"\",VLOOKUP($AD90,$A$8:$N$107,5,FALSE),0)+IF($AK90<>\"\",VLOOKUP($AK90,$A$8:$N$107,5,FALSE),0)+IF($AR90<>\"\",VLOOKUP($AR90,$A$8:$N$107,5,FALSE),0)+IF($AY90<>\"\",VLOOKUP($AY90,$A$8:$N$107,5,FALSE),0)+IF($BF90<>\"\",VLOOKUP($BF90,$A$8:$N$107,5,FALSE),0)+IF($BM90<>\"\",VLOOKUP($BM90,$A$8:$N$107,5,FALSE),0)","v":0}]
[{"$nulls":4},{"$f":"O91+V91+AC91+AJ91+AQ91+AX91+BE91+BL91+BS91","v":0},null,{"$f":"IF($F91<>\"\",VLOOKUP(F91,Armies!$A$1:$C$300,3,FALSE),\"\")","v":""},null,null,{"$f":"IF(I91<>\"\",VLOOKUP(I91,$A$8:$C$107,2,FALSE),\"\")","v":""},{"$f":"IF(I91<>\"\",IF(I91=$A91,\"ERR\",IF(OR(I91=$P91,I91=$W91,I91=$AD91,I91=$AK91),\"DUP\",IF(ISNA(VLOOKUP(I91,$A$8:$A$107,1,FALSE)),\"ERR\",IF(COUNTIF($I$8:$I$107,I91)>1,\"ERR\",IF($D91=VLOOKUP(I91,$A$8:$D$107,4,FALSE),\"CLUB\",\"OK\"))))),\"\")","v":""},null,{"$f":"IF(L91<>\"\",IF(L91=\"Victoire\",IF(VLOOKUP(I91,$A$8:$L$107,12,FALSE)=\"Défaite\",\"OK\",\"ERR\"),IF(L91=\"Défaite\",IF(VLOOKUP(I91,$A$8:$L$107,12,FALSE)=\"Victoire\",\"OK\",\"ERR\"),IF(L91=\"Nul\",IF(VLOOKUP(I91,$A$8:$L$107,12,FALSE)=\"Nul\",\"OK\",\"ERR\")))),\"\")","v":""},null,{"$f":"IF(L91=\"Victoire\",100-ROUNDDOWN(20*N91/$H91,0),\nIF(L91=\"Défaite\",10+ROUNDDOWN(20*VLOOKUP(I91,$A$8:$N$107,14,FALSE)/VLOOKUP(I91,$A$8:$H$107,8,FALSE),0),\nIF(AND(L91=\"Nul\",$N91<>$H91),40+(2*ROUNDDOWN(10*VLOOKUP(I91,$A$8:$N$107,14,FALSE)/VLOOKUP(I91,$A$8:$H$107,8,FALSE),0)-ROUNDDOWN(10*N91/$H91,0)),IF(AND(L91=\"Nul\",$N91=$H91),58,0))))","v":0},null,{"$f":"IF(P91<>\"\",VLOOKUP(P91,$A$8:$C$107,2,FALSE),\"\")","v":""},{"$f":"IF(P91<>\"\",IF(P91=$A91,\"ERR\",IF(OR(P91=$I91,P91=$W91,P91=$AD91,P91=$AK91),\"DUP\",IF(ISNA(VLOOKUP(P91,$A$8:$A$107,1,FALSE)),\"ERR\",IF(COUNTIF($I$8:$I$107,P91)>1,\"ERR\",IF($D91=VLOOKUP(P91,$A$8:$D$107,4,FALSE),\"CLUB\",\"OK\"))))),\"\")","v":""},null,{"$f":"IF(S91<>\"\",IF(S91=\"Victoire\",IF(VLOOKUP(P91,$A$8:$AO$107,19,FALSE)=\"Défaite\",\"OK\",\"ERR\"),IF(S91=\"Défaite\",IF(VLOOKUP(P91,$A$8:$AO$107,19,FALSE)=\"Victoire\",\"OK\",\"ERR\"),IF(S91=\"Nul\",IF(VLOOKUP(P91,$A$8:$AO$107,19,FALSE)=\"Nul\",\"OK\",\"ERR\")))),\"\")","v":""},null,{"$f":"IF(S91=\"Victoire\",100-ROUNDDOWN(20*U91/$H91,0),\nIF(S91=\"Défaite\",10+ROUNDDOWN(20*VLOOKUP(P91,$A$8:$AO$107,21,FALSE)/VLOOKUP(P91,$A$8:$H$107,8,FALSE),0),\nIF(AND(S91=\"Nul\",$U91<>$H91),40+(2*ROUNDDOWN(10*VLOOKUP(P91,$A$8:$AO$107,21,FALSE)/VLOOKUP(P91,$A$8:$H$107,8,FALSE),0)-ROUNDDOWN(10*U91/$H91,0)),IF(AND(S91=\"Nul\",$U91=$H91),58,0))))","v":0},null,{"$f":"IF(W91<>\"\",VLOOKUP(W91,$A$8:$C$107,2,FALSE),\"\")","v":""},{"$f":"IF(W91<>\"\",IF(W91=$A91,\"ERR\",IF(OR(W91=$P91,W91=$I91,W91=$AD91,W91=$AK91),\"DUP\",IF(ISNA(VLOOKUP(W91,$A$8:$A$107,1,FALSE)),\"ERR\",IF(COUNTIF($I$8:$I$107,W91)>1,\"ERR\",IF($D91=VLOOKUP(W91,$A$8:$D$107,4,FALSE),\"CLUB\",\"OK\"))))),\"\")","v":""},null,{"$f":"IF(Z91<>\"\",IF(Z91=\"Victoire\",IF(VLOOKUP(W91,$A$8:$AO$107,26,FALSE)=\"Défaite\",\"OK\",\"ERR\"),IF(Z91=\"Défaite\",IF(VLOOKUP(W91,$A$8:$AO$107,26,FALSE)=\"Victoire\",\"OK\",\"ERR\"),IF(Z91=\"Nul\",IF(VLOOKUP(W91,$A$8:$AO$107,26,FALSE)=\"Nul\",\"OK\",\"ERR\")))),\"\")","v":""},null,{"$f":"IF(Z91=\"Victoire\",100-ROUNDDOWN(20*AB91/$H91,0),\nIF(Z91=\"Défaite\",10+ROUNDDOWN(20*VLOOKUP(W91,$A$8:$AO$107,28,FALSE)/VLOOKUP(W91,$A$8:$H$107,8,FALSE),0),\nIF(AND(Z91=\"Nul\",$AB91<>$H91),40+(2*ROUNDDOWN(10*VLOOKUP(W91,$A$8:$AO$107,28,FALSE)/VLOOKUP(W91,$A$8:$H$107,8,FALSE),0)-ROUNDDOWN(10*AB91/$H91,0)),IF(AND(Z91=\"Nul\",$AB91=$H91),58,0))))","v":0},null,{"$f":"IF(AD91<>\"\",VLOOKUP(AD91,$A$8:$C$107,2,FALSE),\"\")","v":""},{"$f":"IF(AD91<>\"\",IF(AD91=$A91,\"ERR\",IF(OR(AD91=$P91,AD91=$W91,AD91=$I91,AD91=$AK91),\"DUP\",IF(ISNA(VLOOKUP(AD91,$A$8:$A$107,1,FALSE)),\"ERR\",IF(COUNTIF($I$8:$I$107,AD91)>1,\"ERR\",IF($D91=VLOOKUP(AD91,$A$8:$D$107,4,FALSE),\"CLUB\",\"OK\"))))),\"\")","v":""},null,{"$f":"IF(AG91<>\"\",IF(AG91=\"Victoire\",IF(VLOOKUP(AD91,$A$8:$AO$107,33,FALSE)=\"Défaite\",\"OK\",\"ERR\"),IF(AG91=\"Défaite\",IF(VLOOKUP(AD91,$A$8:$AO$107,33,FALSE)=\"Victoire\",\"OK\",\"ERR\"),IF(AG91=\"Nul\",IF(VLOOKUP(AD91,$A$8:$AO$107,33,FALSE)=\"Nul\",\"OK\",\"ERR\")))),\"\")","v":""},null,{"$f":"IF(AG91=\"Victoire\",100-ROUNDDOWN(20*AI91/$H91,0),\nIF(AG91=\"Défaite\",10+ROUNDDOWN(20*VLOOKUP(AD91,$A$8:$AO$107,35,FALSE)/VLOOKUP(AD91,$A$8:$H$107,8,FALSE),0),\nIF(AND(AG91=\"Nul\",$AI91<>$H91),40+(2*ROUNDDOWN(10*VLOOKUP(AD91,$A$8:$AO$107,35,FALSE)/VLOOKUP(AD91,$A$8:$H$107,8,FALSE),0)-ROUNDDOWN(10*AI91/$H91,0)),IF(AND(AG91=\"Nul\",$AI91=$H91),58,0))))","v":0},null,{"$f":"IF(AK91<>\"\",VLOOKUP(AK91,$A$8:$C$107,2,FALSE),\"\")","v":""},{"$f":"IF(AK91<>\"\",IF(AK91=$A91,\"ERR\",IF(OR(AK91=$P91,AK91=$W91,AK91=$AD91,AK91=$I91),\"DUP\",IF(ISNA(VLOOKUP(AK91,$A$8:$A$107,1,FALSE)),\"ERR\",IF(COUNTIF($I$8:$I$107,AK91)>1,\"ERR\",IF($D91=VLOOKUP(AK91,$A$8:$D$107,4,FALSE),\"CLUB\",\"OK\"))))),\"\")","v":""},null,{"$f":"IF(AN91<>\"\",IF(AN91=\"Victoire\",IF(VLOOKUP(AK91,$A$8:$AO$107,40,FALSE)=\"Défaite\",\"OK\",\"ERR\"),IF(AN91=\"Défaite\",IF(VLOOKUP(AK91,$A$8:$AO$107,40,FALSE)=\"Victoire\",\"OK\",\"ERR\"),IF(AN91=\"Nul\",IF(VLOOKUP(AK91,$A$8:$AO$107,40,FALSE)=\"Nul\",\"OK\",\"ERR\")))),\"\")","v":""},null,{"$f":"IF(AN91=\"Victoire\",100-ROUNDDOWN(20*AP91/$H91,0),\nIF(AN91=\"Défaite\",10+ROUNDDOWN(20*VLOOKUP(AK91,$A$8:$CB$107,42,FALSE)/VLOOKUP(AK91,$A$8:$H$107,8,FALSE),0),\nIF(AND(AN91=\"Nul\",$AP91<>$H91),40+(2*ROUNDDOWN(10*VLOOKUP(AK91,$A$8:$CB$107,42,FALSE)/VLOOKUP(AK91,$A$8:$H$107,8,FALSE),0)-ROUNDDOWN(10*AP91/$H91,0)),IF(AND(AN91=\"Nul\",$AP91=$H91),58,0))))","v":0},null,{"$f":"IF(AR91<>\"\",VLOOKUP(AR91,$A$8:$C$107,2,FALSE),\"\")","v":""},{"$f":"IF(AR91<>\"\",IF(AR91=$A91,\"ERR\",IF(OR(AR91=$I91,AR91=$P91,AR91=$W91,AR91=$AD91,AR91=$AK91),\"DUP\",IF(ISNA(VLOOKUP(AR91,$A$8:$A$107,1,FALSE)),\"ERR\",IF(COUNTIF($I$8:$I$107,AR91)>1,\"ERR\",IF($D91=VLOOKUP(AR91,$A$8:$D$107,4,FALSE),\"CLUB\",\"OK\"))))),\"\")","v":""},null,{"$f":"IF(AU91<>\"\",IF(AU91=\"Victoire\",IF(VLOOKUP(AR91,$A$8:$BL$107,47,FALSE)=\"Défaite\",\"OK\",\"ERR\"),IF(AU91=\"Défaite\",IF(VLOOKUP(AR91,$A$8:$BL$107,47,FALSE)=\"Victoire\",\"OK\",\"ERR\"),IF(AU91=\"Nul\",IF(VLOOKUP(AR91,$A$8:$BL$107,47,FALSE)=\"Nul\",\"OK\",\"ERR\")))),\"\")","v":""},null,{"$f":"IF(AU91=\"Victoire\",100-ROUNDDOWN(20*AW91/$H91,0),\nIF(AU91=\"Défaite\",10+ROUNDDOWN(20*VLOOKUP(AR91,$A$8:$CB$107,49,FALSE)/VLOOKUP(AR91,$A$8:$H$107,8,FALSE),0),\nIF(AND(AU91=\"Nul\",$AW91<>$H91),40+(2*ROUNDDOWN(10*VLOOKUP(AR91,$A$8:$CB$107,49,FALSE)/VLOOKUP(AR91,$A$8:$H$107,8,FALSE),0)-ROUNDDOWN(10*AW91/$H91,0)),IF(AND(AU91=\"Nul\",$AW91=$H91),58,0))))","v":0},null,{"$f":"IF(AY91<>\"\",VLOOKUP(AY91,$A$8:$C$107,2,FALSE),\"\")","v":""},{"$f":"IF(AY91<>\"\",IF(AY91=$A91,\"ERR\",IF(OR(AY91=$I91,AY91=$P91,AY91=$W91,AY91=$AD91,AY91=$AK91,AY91=$AR91),\"DUP\",IF(ISNA(VLOOKUP(AY91,$A$8:$A$107,1,FALSE)),\"ERR\",IF(COUNTIF($I$8:$I$107,AY91)>1,\"ERR\",IF($D91=VLOOKUP(AY91,$A$8:$D$107,4,FALSE),\"CLUB\",\"OK\"))))),\"\")","v":""},null,{"$f":"IF(BB91<>\"\",IF(BB91=\"Victoire\",IF(VLOOKUP(AY91,$A$8:$BL$107,54,FALSE)=\"Défaite\",\"OK\",\"ERR\"),IF(BB91=\"Défaite\",IF(VLOOKUP(AY91,$A$8:$BL$107,54,FALSE)=\"Victoire\",\"OK\",\"ERR\"),IF(BB91=\"Nul\",IF(VLOOKUP(AY91,$A$8:$BL$107,54,FALSE)=\"Nul\",\"OK\",\"ERR\")))),\"\")","v":""},null,{"$f":"IF(BB91=\"Victoire\",100-ROUNDDOWN(20*BD91/$H91,0),\nIF(BB91=\"Défaite\",10+ROUNDDOWN(20*VLOOKUP(AY91,$A$8:$CB$107,56,FALSE)/VLOOKUP(AY91,$A$8:$H$107,8,FALSE),0),\nIF(AND(BB91=\"Nul\",$BD91<>$H91),40+(2*ROUNDDOWN(10*VLOOKUP(AY91,$A$8:$CB$107,56,FALSE)/VLOOKUP(AY91,$A$8:$H$107,8,FALSE),0)-ROUNDDOWN(10*BD91/$H91,0)),IF(AND(BB91=\"Nul\",$BD91=$H91),58,0))))","v":0},null,{"$f":"IF(BF91<>\"\",VLOOKUP(BF91,$A$8:$C$107,2,FALSE),\"\")","v":""},{"$f":"IF(BF91<>\"\",IF(BF91=$A91,\"ERR\",IF(OR(BF91=$I91,BF91=$P91,BF91=$W91,BF91=$AD91,BF91=$AK91,BF91=$AR91,BF91=$AY91),\"DUP\",IF(ISNA(VLOOKUP(BF91,$A$8:$A$107,1,FALSE)),\"ERR\",IF(COUNTIF($I$8:$I$107,BF91)>1,\"ERR\",IF($D91=VLOOKUP(BF91,$A$8:$D$107,4,FALSE),\"CLUB\",\"OK\"))))),\"\")","v":""},null,{"$f":"IF(BI91<>\"\",IF(BI91=\"Victoire\",IF(VLOOKUP(BF91,$A$8:$BL$107,61,FALSE)=\"Défaite\",\"OK\",\"ERR\"),IF(BI91=\"Défaite\",IF(VLOOKUP(BF91,$A$8:$BL$107,61,FALSE)=\"Victoire\",\"OK\",\"ERR\"),IF(BI91=\"Nul\",IF(VLOOKUP(BF91,$A$8:$BL$107,61,FALSE)=\"Nul\",\"OK\",\"ERR\")))),\"\")","v":""},null,{"$f":"IF(BI91=\"Victoire\",100-ROUNDDOWN(20*BK91/$H91,0),\nIF(BI91=\"Défaite\",10+ROUNDDOWN(20*VLOOKUP(BF91,$A$8:$CB$107,63,FALSE)/VLOOKUP(BF91,$A$8:$H$107,8,FALSE),0),\nIF(AND(BI91=\"Nul\",$BK91<>$H91),40+(2*ROUNDDOWN(10*VLOOKUP(BF91,$A$8:$CB$107,63,FALSE)/VLOOKUP(BF91,$A$8:$H$107,8,FALSE),0)-ROUNDDOWN(10*BK91/$H91,0)),IF(AND(BI91=\"Nul\",$BK91=$H91),58,0))))","v":0},null,{"$f":"IF(BM91<>\"\",VLOOKUP(BM91,$A$8:$C$107,2,FALSE),\"\")","v":""},{"$f":"IF(BM91<>\"\",IF(BM91=$A91,\"ERR\",IF(OR(BM91=$I91,BM91=$P91,BM91=$W91,BM91=$AD91,BM91=$AK91,BM91=$AR91,BM91=$AY91,BM91=$BF91),\"DUP\",IF(ISNA(VLOOKUP(BM91,$A$8:$A$107,1,FALSE)),\"ERR\",IF(COUNTIF($I$8:$I$107,BM91)>1,\"ERR\",IF($D91=VLOOKUP(BM91,$A$8:$D$107,4,FALSE),\"CLUB\",\"OK\"))))),\"\")","v":""},null,{"$f":"IF(BP91<>\"\",IF(BP91=\"Victoire\",IF(VLOOKUP(BM91,$A$8:$BS$107,68,FALSE)=\"Défaite\",\"OK\",\"ERR\"),IF(BP91=\"Défaite\",IF(VLOOKUP(BM91,$A$8:$BS$107,68,FALSE)=\"Victoire\",\"OK\",\"ERR\"),IF(BP91=\"Nul\",IF(VLOOKUP(BM91,$A$8:$BS$107,68,FALSE)=\"Nul\",\"OK\",\"ERR\")))),\"\")","v":""},null,{"$f":"IF(BP91=\"Victoire\",100-ROUNDDOWN(20*BR91/$H91,0),\nIF(BP91=\"Défaite\",10+ROUNDDOWN(20*VLOOKUP(BM91,$A$8:$CB$107,70,FALSE)/VLOOKUP(BM91,$A$8:$H$107,8,FALSE),0),\nIF(AND(BP91=\"Nul\",$BR91<>$H91),40+(2*ROUNDDOWN(10*VLOOKUP(BM91,$A$8:$CB$107,70,FALSE)/VLOOKUP(BM91,$A$8:$H$107,8,FALSE),0)-ROUNDDOWN(10*BR91/$H91,0)),IF(AND(BP91=\"Nul\",$BR91=$H91),58,0))))","v":0},null,{"$f":"IF($I91<>\"\",VLOOKUP($I91,$A$8:$N$107,5,FALSE),0)+IF($P91<>\"\",VLOOKUP($P91,$A$8:$N$107,5,FALSE),0)+IF($W91<>\"\",VLOOKUP($W91,$A$8:$N$107,5,FALSE),0)+IF($AD91<>\"\",VLOOKUP($AD91,$A$8:$N$107,5,FALSE),0)+IF($AK91<>\"\",VLOOKUP($AK91,$A$8:$N$107,5,FALSE),0)+IF($AR91<>\"\",VLOOKUP($AR91,$A$8:$N$107,5,FALSE),0)+IF($AY91<>\"\",VLOOKUP($AY91,$A$8:$N$107,5,FALSE),0)+IF($BF91<>\"\",VLOOKUP($BF91,$A$8:$N$107,5,FALSE),0)+IF($BM91<>\"\",VLOOKUP($BM91,$A$8:$N$107,5,FALSE),0)","v":0}]
[{"$nulls":4},0,null,{"$f":"IF($F92<>\"\",VLOOKUP(F92,Armies!$A$1:$C$300,3,FALSE),\"\")","v":""},null,null,{"$f":"IF(I92<>\"\",VLOOKUP(I92,$A$8:$C$107,2,FALSE),\"\")","v":""},{"$f":"IF(I92<>\"\",IF(I92=$A92,\"ERR\",IF(OR(I92=$P92,I92=$W92,I92=$AD92,I92=$AK92),\"DUP\",IF(ISNA(VLOOKUP(I92,$A$8:$A$107,1,FALSE)),\"ERR\",IF(COUNTIF($I$8:$I$107,I92)>1,\"ERR\",IF($D92=VLOOKUP(I92,$A$8:$D$107,4,FALSE),\"CLUB\",\"OK\"))))),\"\")","v":""},null,{"$f":"IF(L92<>\"\",IF(L92=\"Victoire\",IF(VLOOKUP(I92,$A$8:$L$107,12,FALSE)=\"Défaite\",\"OK\",\"ERR\"),IF(L92=\"Défaite\",IF(VLOOKUP(I92,$A$8:$L$107,12,FALSE)=\"Victoire\",\"OK\",\"ERR\"),IF(L92=\"Nul\",IF(VLOOKUP(I92,$A$8:$L$107,12,FALSE)=\"Nul\",\"OK\",\"ERR\")))),\"\")","v":""},null,{"$f":"IF(L92=\"Victoire\",100-ROUNDDOWN(20*N92/$H92,0),\nIF(L92=\"Défaite\",10+ROUNDDOWN(20*VLOOKUP(I92,$A$8:$N$107,14,FALSE)/VLOOKUP(I92,$A$8:$H$107,8,FALSE),0),\nIF(AND(L92=\"Nul\",$N92<>$H92),40+(2*ROUNDDOWN(10*VLOOKUP(I92,$A$8:$N$107,14,FALSE)/VLOOKUP(I92,$A$8:$H$107,8,FALSE),0)-ROUNDDOWN(10*N92/$H92,0)),IF(AND(L92=\"Nul\",$N92=$H92),58,0))))","v":0},null,{"$f":"IF(P92<>\"\",VLOOKUP(P92,$A$8:$C$107,2,FALSE),\"\")","v":""},{"$f":"IF(P92<>\"\",IF(P92=$A92,\"ERR\",IF(OR(P92=$I92,P92=$W92,P92=$AD92,P92=$AK92),\"DUP\",IF(ISNA(VLOOKUP(P92,$A$8:$A$107,1,FALSE)),\"ERR\",IF(COUNTIF($I$8:$I$107,P92)>1,\"ERR\",IF($D92=VLOOKUP(P92,$A$8:$D$107,4,FALSE),\"CLUB\",\"OK\"))))),\"\")","v":""},null,{"$f":"IF(S92<>\"\",IF(S92=\"Victoire\",IF(VLOOKUP(P92,$A$8:$AO$107,19,FALSE)=\"Défaite\",\"OK\",\"ERR\"),IF(S92=\"Défaite\",IF(VLOOKUP(P92,$A$8:$AO$107,19,FALSE)=\"Victoire\",\"OK\",\"ERR\"),IF(S92=\"Nul\",IF(VLOOKUP(P92,$A$8:$AO$107,19,FALSE)=\"Nul\",\"OK\",\"ERR\")))),\"\")","v":""},null,{"$f":"IF(S92=\"Victoire\",100-ROUNDDOWN(20*U92/$H92,0),\nIF(S92=\"Défaite\",10+ROUNDDOWN(20*VLOOKUP(P92,$A$8:$AO$107,21,FALSE)/VLOOKUP(P92,$A$8:$H$107,8,FALSE),0),\nIF(AND(S92=\"Nul\",$U92<>$H92),40+(2*ROUNDDOWN(10*VLOOKUP(P92,$A$8:$AO$107,21,FALSE)/VLOOKUP(P92,$A$8:$H$107,8,FALSE),0)-ROUNDDOWN(10*U92/$H92,0)),IF(AND(S92=\"Nul\",$U92=$H92),58,0))))","v":0},null,{"$f":"IF(W92<>\"\",VLOOKUP(W92,$A$8:$C$107,2,FALSE),\"\")","v":""},{"$f":"IF(W92<>\"\",IF(W92=$A92,\"ERR\",IF(OR(W92=$P92,W92=$I92,W92=$AD92,W92=$AK92),\"DUP\",IF(ISNA(VLOOKUP(W92,$A$8:$A$107,1,FALSE)),\"ERR\",IF(COUNTIF($I$8:$I$107,W92)>1,\"ERR\",IF($D92=VLOOKUP(W92,$A$8:$D$107,4,FALSE),\"CLUB\",\"OK\"))))),\"\")","v":""},null,{"$f":"IF(Z92<>\"\",IF(Z92=\"Victoire\",IF(VLOOKUP(W92,$A$8:$AO$107,26,FALSE)=\"Défaite\",\"OK\",\"ERR\"),IF(Z92=\"Défaite\",IF(VLOOKUP(W92,$A$8:$AO$107,26,FALSE)=\"Victoire\",\"OK\",\"ERR\"),IF(Z92=\"Nul\",IF(VLOOKUP(W92,$A$8:$AO$107,26,FALSE)=\"Nul\",\"OK\",\"ERR\")))),\"\")","v":""},null,{"$f":"IF(Z92=\"Victoire\",100-ROUNDDOWN(20*AB92/$H92,0),\nIF(Z92=\"Défaite\",10+ROUNDDOWN(20*VLOOKUP(W92,$A$8:$AO$107,28,FALSE)/VLOOKUP(W92,$A$8:$H$107,8,FALSE),0),\nIF(AND(Z92=\"Nul\",$AB92<>$H92),40+(2*ROUNDDOWN(10*VLOOKUP(W92,$A$8:$AO$107,28,FALSE)/VLOOKUP(W92,$A$8:$H$107,8,FALSE),0)-ROUNDDOWN(10*AB92/$H92,0)),IF(AND(Z92=\"Nul\",$AB92=$H92),58,0))))","v":0},null,{"$f":"IF(AD92<>\"\",VLOOKUP(AD92,$A$8:$C$107,2,FALSE),\"\")","v":""},{"$f":"IF(AD92<>\"\",IF(AD92=$A92,\"ERR\",IF(OR(AD92=$P92,AD92=$W92,AD92=$I92,AD92=$AK92),\"DUP\",IF(ISNA(VLOOKUP(AD92,$A$8:$A$107,1,FALSE)),\"ERR\",IF(COUNTIF($I$8:$I$107,AD92)>1,\"ERR\",IF($D92=VLOOKUP(AD92,$A$8:$D$107,4,FALSE),\"CLUB\",\"OK\"))))),\"\")","v":""},null,{"$f":"IF(AG92<>\"\",IF(AG92=\"Victoire\",IF(VLOOKUP(AD92,$A$8:$AO$107,33,FALSE)=\"Défaite\",\"OK\",\"ERR\"),IF(AG92=\"Défaite\",IF(VLOOKUP(AD92,$A$8:$AO$107,33,FALSE)=\"Victoire\",\"OK\",\"ERR\"),IF(AG92=\"Nul\",IF(VLOOKUP(AD92,$A$8:$AO$107,33,FALSE)=\"Nul\",\"OK\",\"ERR\")))),\"\")","v":""},null,{"$f":"IF(AG92=\"Victoire\",100-ROUNDDOWN(20*AI92/$H92,0),\nIF(AG92=\"Défaite\",10+ROUNDDOWN(20*VLOOKUP(AD92,$A$8:$AO$107,35,FALSE)/VLOOKUP(AD92,$A$8:$H$107,8,FALSE),0),\nIF(AND(AG92=\"Nul\",$AI92<>$H92),40+(2*ROUNDDOWN(10*VLOOKUP(AD92,$A$8:$AO$107,35,FALSE)/VLOOKUP(AD92,$A$8:$H$107,8,FALSE),0)-ROUNDDOWN(10*AI92/$H92,0)),IF(AND(AG92=\"Nul\",$AI92=$H92),58,0))))","v":0},null,{"$f":"IF(AK92<>\"\",VLOOKUP(AK92,$A$8:$C$107,2,FALSE),\"\")","v":""},{"$f":"IF(AK92<>\"\",IF(AK92=$A92,\"ERR\",IF(OR(AK92=$P92,AK92=$W92,AK92=$AD92,AK92=$I92),\"DUP\",IF(ISNA(VLOOKUP(AK92,$A$8:$A$107,1,FALSE)),\"ERR\",IF(COUNTIF($I$8:$I$107,AK92)>1,\"ERR\",IF($D92=VLOOKUP(AK92,$A$8:$D$107,4,FALSE),\"CLUB\",\"OK\"))))),\"\")","v":""},null,{"$f":"IF(AN92<>\"\",IF(AN92=\"Victoire\",IF(VLOOKUP(AK92,$A$8:$AO$107,40,FALSE)=\"Défaite\",\"OK\",\"ERR\"),IF(AN92=\"Défaite\",IF(VLOOKUP(AK92,$A$8:$AO$107,40,FALSE)=\"Victoire\",\"OK\",\"ERR\"),IF(AN92=\"Nul\",IF(VLOOKUP(AK92,$A$8:$AO$107,40,FALSE)=\"Nul\",\"OK\",\"ERR\")))),\"\")","v":""},null,{"$f":"IF(AN92=\"Victoire\",100-ROUNDDOWN(20*AP92/$H92,0),\nIF(AN92=\"Défaite\",10+ROUNDDOWN(20*VLOOKUP(AK92,$A$8:$CB$107,42,FALSE)/VLOOKUP(AK92,$A$8:$H$107,8,FALSE),0),\nIF(AND(AN92=\"Nul\",$AP92<>$H92),40+(2*ROUNDDOWN(10*VLOOKUP(AK92,$A$8:$CB$107,42,FALSE)/VLOOKUP(AK92,$A$8:$H$107,8,FALSE),0)-ROUNDDOWN(10*AP92/$H92,0)),IF(AND(AN92=\"Nul\",$AP92=$H92),58,0))))","v":0},null,{"$f":"IF(AR92<>\"\",VLOOKUP(AR92,$A$8:$C$107,2,FALSE),\"\")","v":""},{"$f":"IF(AR92<>\"\",IF(AR92=$A92,\"ERR\",IF(OR(AR92=$I92,AR92=$P92,AR92=$W92,AR92=$AD92,AR92=$AK92),\"DUP\",IF(ISNA(VLOOKUP(AR92,$A$8:$A$107,1,FALSE)),\"ERR\",IF(COUNTIF($I$8:$I$107,AR92)>1,\"ERR\",IF($D92=VLOOKUP(AR92,$A$8:$D$107,4,FALSE),\"CLUB\",\"OK\"))))),\"\")","v":""},null,{"$f":"IF(AU92<>\"\",IF(AU92=\"Victoire\",IF(VLOOKUP(AR92,$A$8:$BL$107,47,FALSE)=\"Défaite\",\"OK\",\"ERR\"),IF(AU92=\"Défaite\",IF(VLOOKUP(AR92,$A$8:$BL$107,47,FALSE)=\"Victoire\",\"OK\",\"ERR\"),IF(AU92=\"Nul\",IF(VLOOKUP(AR92,$A$8:$BL$107,47,FALSE)=\"Nul\",\"OK\",\"ERR\")))),\"\")","v":""},null,{"$f":"IF(AU92=\"Victoire\",100-ROUNDDOWN(20*AW92/$H92,0),\nIF(AU92=\"Défaite\",10+ROUNDDOWN(20*VLOOKUP(AR92,$A$8:$CB$107,49,FALSE)/VLOOKUP(AR92,$A$8:$H$107,8,FALSE),0),\nIF(AND(AU92=\"Nul\",$AW92<>$H92),40+(2*ROUNDDOWN(10*VLOOKUP(AR92,$A$8:$CB$107,49,FALSE)/VLOOKUP(AR92,$A$8:$H$107,8,FALSE),0)-ROUNDDOWN(10*AW92/$H92,0)),IF(AND(AU92=\"Nul\",$AW92=$H92),58,0))))","v":0},null,{"$f":"IF(AY92<>\"\",VLOOKUP(AY92,$A$8:$C$107,2,FALSE),\"\")","v":""},{"$f":"IF(AY92<>\"\",IF(AY92=$A92,\"ERR\",IF(OR(AY92=$I92,AY92=$P92,AY92=$W92,AY92=$AD92,AY92=$AK92,AY92=$AR92),\"DUP\",IF(ISNA(VLOOKUP(AY92,$A$8:$A$107,1,FALSE)),\"ERR\",IF(COUNTIF($I$8:$I$107,AY92)>1,\"ERR\",IF($D92=VLOOKUP(AY92,$A$8:$D$107,4,FALSE),\"CLUB\",\"OK\"))))),\"\")","v":""},null,{"$f":"IF(BB92<>\"\",IF(BB92=\"Victoire\",IF(VLOOKUP(AY92,$A$8:$BL$107,54,FALSE)=\"Défaite\",\"OK\",\"ERR\"),IF(BB92=\"Défaite\",IF(VLOOKUP(AY92,$A$8:$BL$107,54,FALSE)=\"Victoire\",\"OK\",\"ERR\"),IF(BB92=\"Nul\",IF(VLOOKUP(AY92,$A$8:$BL$107,54,FALSE)=\"Nul\",\"OK\",\"ERR\")))),\"\")","v":""},null,{"$f":"IF(BB92=\"Victoire\",100-ROUNDDOWN(20*BD92/$H92,0),\nIF(BB92=\"Défaite\",10+ROUNDDOWN(20*VLOOKUP(AY92,$A$8:$CB$107,56,FALSE)/VLOOKUP(AY92,$A$8:$H$107,8,FALSE),0),\nIF(AND(BB92=\"Nul\",$BD92<>$H92),40+(2*ROUNDDOWN(10*VLOOKUP(AY92,$A$8:$CB$107,56,FALSE)/VLOOKUP(AY92,$A$8:$H$107,8,FALSE),0)-ROUNDDOWN(10*BD92/$H92,0)),IF(AND(BB92=\"Nul\",$BD92=$H92),58,0))))","v":0},null,{"$f":"IF(BF92<>\"\",VLOOKUP(BF92,$A$8:$C$107,2,FALSE),\"\")","v":""},{"$f":"IF(BF92<>\"\",IF(BF92=$A92,\"ERR\",IF(OR(BF92=$I92,BF92=$P92,BF92=$W92,BF92=$AD92,BF92=$AK92,BF92=$AR92,BF92=$AY92),\"DUP\",IF(ISNA(VLOOKUP(BF92,$A$8:$A$107,1,FALSE)),\"ERR\",IF(COUNTIF($I$8:$I$107,BF92)>1,\"ERR\",IF($D92=VLOOKUP(BF92,$A$8:$D$107,4,FALSE),\"CLUB\",\"OK\"))))),\"\")","v":""},null,{"$f":"IF(BI92<>\"\",IF(BI92=\"Victoire\",IF(VLOOKUP(BF92,$A$8:$BL$107,61,FALSE)=\"Défaite\",\"OK\",\"ERR\"),IF(BI92=\"Défaite\",IF(VLOOKUP(BF92,$A$8:$BL$107,61,FALSE)=\"Victoire\",\"OK\",\"ERR\"),IF(BI92=\"Nul\",IF(VLOOKUP(BF92,$A$8:$BL$107,61,FALSE)=\"Nul\",\"OK\",\"ERR\")))),\"\")","v":""},null,{"$f":"IF(BI92=\"Victoire\",100-ROUNDDOWN(20*BK92/$H92,0),\nIF(BI92=\"Défaite\",10+ROUNDDOWN(20*VLOOKUP(BF92,$A$8:$CB$107,63,FALSE)/VLOOKUP(BF92,$A$8:$H$107,8,FALSE),0),\nIF(AND(BI92=\"Nul\",$BK92<>$H92),40+(2*ROUNDDOWN(10*VLOOKUP(BF92,$A$8:$CB$107,63,FALSE)/VLOOKUP(BF92,$A$8:$H$107,8,FALSE),0)-ROUNDDOWN(10*BK92/$H92,0)),IF(AND(BI92=\"Nul\",$BK92=$H92),58,0))))","v":0},null,{"$f":"IF(BM92<>\"\",VLOOKUP(BM92,$A$8:$C$107,2,FALSE),\"\")","v":""},{"$f":"IF(BM92<>\"\",IF(BM92=$A92,\"ERR\",IF(OR(BM92=$I92,BM92=$P92,BM92=$W92,BM92=$AD92,BM92=$AK92,BM92=$AR92,BM92=$AY92,BM92=$BF92),\"DUP\",IF(ISNA(VLOOKUP(BM92,$A$8:$A$107,1,FALSE)),\"ERR\",IF(COUNTIF($I$8:$I$107,BM92)>1,\"ERR\",IF($D92=VLOOKUP(BM92,$A$8:$D$107,4,FALSE),\"CLUB\",\"OK\"))))),\"\")","v":""},null,{"$f":"IF(BP92<>\"\",IF(BP92=\"Victoire\",IF(VLOOKUP(BM92,$A$8:$BS$107,68,FALSE)=\"Défaite\",\"OK\",\"ERR\"),IF(BP92=\"Défaite\",IF(VLOOKUP(BM92,$A$8:$BS$107,68,FALSE)=\"Victoire\",\"OK\",\"ERR\"),IF(BP92=\"Nul\",IF(VLOOKUP(BM92,$A$8:$BS$107,68,FALSE)=\"Nul\",\"OK\",\"ERR\")))),\"\")","v":""},null,{"$f":"IF(BP92=\"Victoire\",100-ROUNDDOWN(20*BR92/$H92,0),\nIF(BP92=\"Défaite\",10+ROUNDDOWN(20*VLOOKUP(BM92,$A$8:$CB$107,70,FALSE)/VLOOKUP(BM92,$A$8:$H$107,8,FALSE),0),\nIF(AND(BP92=\"Nul\",$BR92<>$H92),40+(2*ROUNDDOWN(10*VLOOKUP(BM92,$A$8:$CB$107,70,FALSE)/VLOOKUP(BM92,$A$8:$H$107,8,FALSE),0)-ROUNDDOWN(10*BR92/$H92,0)),IF(AND(BP92=\"Nul\",$BR92=$H92),58,0))))","v":0},null,{"$f":"IF($I92<>\"\",VLOOKUP($I92,$A$8:$N$107,5,FALSE),0)+IF($P92<>\"\",VLOOKUP($P92,$A$8:$N$107,5,FALSE),0)+IF($W92<>\"\",VLOOKUP($W92,$A$8:$N$107,5,FALSE),0)+IF($AD92<>\"\",VLOOKUP($AD92,$A$8:$N$107,5,FALSE),0)+IF($AK92<>\"\",VLOOKUP($AK92,$A$8:$N$107,5,FALSE),0)+IF($AR92<>\"\",VLOOKUP($AR92,$A$8:$N$107,5,FALSE),0)+IF($AY92<>\"\",VLOOKUP($AY92,$A$8:$N$107,5,FALSE),0)+IF($BF92<>\"\",VLOOKUP($BF92,$A$8:$N$107,5,FALSE),0)+IF($BM92<>\"\",VLOOKUP($BM92,$A$8:$N$107,5,FALSE),0)","v":0}]
[{"$nulls":4},0,null,{"$f":"IF($F93<>\"\",VLOOKUP(F93,Armies!$A$1:$C$300,3,FALSE),\"\")","v":""},null,null,{"$f":"IF(I93<>\"\",VLOOKUP(I93,$A$8:$C$107,2,FALSE),\"\")","v":""},{"$f":"IF(I93<>\"\",IF(I93=$A93,\"ERR\",IF(OR(I93=$P93,I93=$W93,I93=$AD93,I93=$AK93),\"DUP\",IF(ISNA(VLOOKUP(I93,$A$8:$A$107,1,FALSE)),\"ERR\",IF(COUNTIF($I$8:$I$107,I93)>1,\"ERR\",IF($D93=VLOOKUP(I93,$A$8:$D$107,4,FALSE),\"CLUB\",\"OK\"))))),\"\")","v":""},null,{"$f":"IF(L93<>\"\",IF(L93=\"Victoire\",IF(VLOOKUP(I93,$A$8:$L$107,12,FALSE)=\"Défaite\",\"OK\",\"ERR\"),IF(L93=\"Défaite\",IF(VLOOKUP(I93,$A$8:$L$107,12,FALSE)=\"Victoire\",\"OK\",\"ERR\"),IF(L93=\"Nul\",IF(VLOOKUP(I93,$A$8:$L$107,12,FALSE)=\"Nul\",\"OK\",\"ERR\")))),\"\")","v":""},null,{"$f":"IF(L93=\"Victoire\",100-ROUNDDOWN(20*N93/$H93,0),\nIF(L93=\"Défaite\",10+ROUNDDOWN(20*VLOOKUP(I93,$A$8:$N$107,14,FALSE)/VLOOKUP(I93,$A$8:$H$107,8,FALSE),0),\nIF(AND(L93=\"Nul\",$N93<>$H93),40+(2*ROUNDDOWN(10*VLOOKUP(I93,$A$8:$N$107,14,FALSE)/VLOOKUP(I93,$A$8:$H$107,8,FALSE),0)-ROUNDDOWN(10*N93/$H93,0)),IF(AND(L93=\"Nul\",$N93=$H93),58,0))))","v":0},null,{"$f":"IF(P93<>\"\",VLOOKUP(P93,$A$8:$C$107,2,FALSE),\"\")","v":""},{"$f":"IF(P93<>\"\",IF(P93=$A93,\"ERR\",IF(OR(P93=$I93,P93=$W93,P93=$AD93,P93=$AK93),\"DUP\",IF(ISNA(VLOOKUP(P93,$A$8:$A$107,1,FALSE)),\"ERR\",IF(COUNTIF($I$8:$I$107,P93)>1,\"ERR\",IF($D93=VLOOKUP(P93,$A$8:$D$107,4,FALSE),\"CLUB\",\"OK\"))))),\"\")","v":""},null,{"$f":"IF(S93<>\"\",IF(S93=\"Victoire\",IF(VLOOKUP(P93,$A$8:$AO$107,19,FALSE)=\"Défaite\",\"OK\",\"ERR\"),IF(S93=\"Défaite\",IF(VLOOKUP(P93,$A$8:$AO$107,19,FALSE)=\"Victoire\",\"OK\",\"ERR\"),IF(S93=\"Nul\",IF(VLOOKUP(P93,$A$8:$AO$107,19,FALSE)=\"Nul\",\"OK\",\"ERR\")))),\"\")","v":""},null,{"$f":"IF(S93=\"Victoire\",100-ROUNDDOWN(20*U93/$H93,0),\nIF(S93=\"Défaite\",10+ROUNDDOWN(20*VLOOKUP(P93,$A$8:$AO$107,21,FALSE)/VLOOKUP(P93,$A$8:$H$107,8,FALSE),0),\nIF(AND(S93=\"Nul\",$U93<>$H93),40+(2*ROUNDDOWN(10*VLOOKUP(P93,$A$8:$AO$107,21,FALSE)/VLOOKUP(P93,$A$8:$H$107,8,FALSE),0)-ROUNDDOWN(10*U93/$H93,0)),IF(AND(S93=\"Nul\",$U93=$H93),58,0))))","v":0},null,{"$f":"IF(W93<>\"\",VLOOKUP(W93,$A$8:$C$107,2,FALSE),\"\")","v":""},{"$f":"IF(W93<>\"\",IF(W93=$A93,\"ERR\",IF(OR(W93=$P93,W93=$I93,W93=$AD93,W93=$AK93),\"DUP\",IF(ISNA(VLOOKUP(W93,$A$8:$A$107,1,FALSE)),\"ERR\",IF(COUNTIF($I$8:$I$107,W93)>1,\"ERR\",IF($D93=VLOOKUP(W93,$A$8:$D$107,4,FALSE),\"CLUB\",\"OK\"))))),\"\")","v":""},null,{"$f":"IF(Z93<>\"\",IF(Z93=\"Victoire\",IF(VLOOKUP(W93,$A$8:$AO$107,26,FALSE)=\"Défaite\",\"OK\",\"ERR\"),IF(Z93=\"Défaite\",IF(VLOOKUP(W93,$A$8:$AO$107,26,FALSE)=\"Victoire\",\"OK\",\"ERR\"),IF(Z93=\"Nul\",IF(VLOOKUP(W93,$A$8:$AO$107,26,FALSE)=\"Nul\",\"OK\",\"ERR\")))),\"\")","v":""},null,{"$f":"IF(Z93=\"Victoire\",100-ROUNDDOWN(20*AB93/$H93,0),\nIF(Z93=\"Défaite\",10+ROUNDDOWN(20*VLOOKUP(W93,$A$8:$AO$107,28,FALSE)/VLOOKUP(W93,$A$8:$H$107,8,FALSE),0),\nIF(AND(Z93=\"Nul\",$AB93<>$H93),40+(2*ROUNDDOWN(10*VLOOKUP(W93,$A$8:$AO$107,28,FALSE)/VLOOKUP(W93,$A$8:$H$107,8,FALSE),0)-ROUNDDOWN(10*AB93/$H93,0)),IF(AND(Z93=\"Nul\",$AB93=$H93),58,0))))","v":0},null,{"$f":"IF(AD93<>\"\",VLOOKUP(AD93,$A$8:$C$107,2,FALSE),\"\")","v":""},{"$f":"IF(AD93<>\"\",IF(AD93=$A93,\"ERR\",IF(OR(AD93=$P93,AD93=$W93,AD93=$I93,AD93=$AK93),\"DUP\",IF(ISNA(VLOOKUP(AD93,$A$8:$A$107,1,FALSE)),\"ERR\",IF(COUNTIF($I$8:$I$107,AD93)>1,\"ERR\",IF($D93=VLOOKUP(AD93,$A$8:$D$107,4,FALSE),\"CLUB\",\"OK\"))))),\"\")","v":""},null,{"$f":"IF(AG93<>\"\",IF(AG93=\"Victoire\",IF(VLOOKUP(AD93,$A$8:$AO$107,33,FALSE)=\"Défaite\",\"OK\",\"ERR\"),IF(AG93=\"Défaite\",IF(VLOOKUP(AD93,$A$8:$AO$107,33,FALSE)=\"Victoire\",\"OK\",\"ERR\"),IF(AG93=\"Nul\",IF(VLOOKUP(AD93,$A$8:$AO$107,33,FALSE)=\"Nul\",\"OK\",\"ERR\")))),\"\")","v":""},null,{"$f":"IF(AG93=\"Victoire\",100-ROUNDDOWN(20*AI93/$H93,0),\nIF(AG93=\"Défaite\",10+ROUNDDOWN(20*VLOOKUP(AD93,$A$8:$AO$107,35,FALSE)/VLOOKUP(AD93,$A$8:$H$107,8,FALSE),0),\nIF(AND(AG93=\"Nul\",$AI93<>$H93),40+(2*ROUNDDOWN(10*VLOOKUP(AD93,$A$8:$AO$107,35,FALSE)/VLOOKUP(AD93,$A$8:$H$107,8,FALSE),0)-ROUNDDOWN(10*AI93/$H93,0)),IF(AND(AG93=\"Nul\",$AI93=$H93),58,0))))","v":0},null,{"$f":"IF(AK93<>\"\",VLOOKUP(AK93,$A$8:$C$107,2,FALSE),\"\")","v":""},{"$f":"IF(AK93<>\"\",IF(AK93=$A93,\"ERR\",IF(OR(AK93=$P93,AK93=$W93,AK93=$AD93,AK93=$I93),\"DUP\",IF(ISNA(VLOOKUP(AK93,$A$8:$A$107,1,FALSE)),\"ERR\",IF(COUNTIF($I$8:$I$107,AK93)>1,\"ERR\",IF($D93=VLOOKUP(AK93,$A$8:$D$107,4,FALSE),\"CLUB\",\"OK\"))))),\"\")","v":""},null,{"$f":"IF(AN93<>\"\",IF(AN93=\"Victoire\",IF(VLOOKUP(AK93,$A$8:$AO$107,40,FALSE)=\"Défaite\",\"OK\",\"ERR\"),IF(AN93=\"Défaite\",IF(VLOOKUP(AK93,$A$8:$AO$107,40,FALSE)=\"Victoire\",\"OK\",\"ERR\"),IF(AN93=\"Nul\",IF(VLOOKUP(AK93,$A$8:$AO$107,40,FALSE)=\"Nul\",\"OK\",\"ERR\")))),\"\")","v":""},null,{"$f":"IF(AN93=\"Victoire\",100-ROUNDDOWN(20*AP93/$H93,0),\nIF(AN93=\"Défaite\",10+ROUNDDOWN(20*VLOOKUP(AK93,$A$8:$CB$107,42,FALSE)/VLOOKUP(AK93,$A$8:$H$107,8,FALSE),0),\nIF(AND(AN93=\"Nul\",$AP93<>$H93),40+(2*ROUNDDOWN(10*VLOOKUP(AK93,$A$8:$CB$107,42,FALSE)/VLOOKUP(AK93,$A$8:$H$107,8,FALSE),0)-ROUNDDOWN(10*AP93/$H93,0)),IF(AND(AN93=\"Nul\",$AP93=$H93),58,0))))","v":0},null,{"$f":"IF(AR93<>\"\",VLOOKUP(AR93,$A$8:$C$107,2,FALSE),\"\")","v":""},{"$f":"IF(AR93<>\"\",IF(AR93=$A93,\"ERR\",IF(OR(AR93=$I93,AR93=$P93,AR93=$W93,AR93=$AD93,AR93=$AK93),\"DUP\",IF(ISNA(VLOOKUP(AR93,$A$8:$A$107,1,FALSE)),\"ERR\",IF(COUNTIF($I$8:$I$107,AR93)>1,\"ERR\",IF($D93=VLOOKUP(AR93,$A$8:$D$107,4,FALSE),\"CLUB\",\"OK\"))))),\"\")","v":""},null,{"$f":"IF(AU93<>\"\",IF(AU93=\"Victoire\",IF(VLOOKUP(AR93,$A$8:$BL$107,47,FALSE)=\"Défaite\",\"OK\",\"ERR\"),IF(AU93=\"Défaite\",IF(VLOOKUP(AR93,$A$8:$BL$107,47,FALSE)=\"Victoire\",\"OK\",\"ERR\"),IF(AU93=\"Nul\",IF(VLOOKUP(AR93,$A$8:$BL$107,47,FALSE)=\"Nul\",\"OK\",\"ERR\")))),\"\")","v":""},null,{"$f":"IF(AU93=\"Victoire\",100-ROUNDDOWN(20*AW93/$H93,0),\nIF(AU93=\"Défaite\",10+ROUNDDOWN(20*VLOOKUP(AR93,$A$8:$CB$107,49,FALSE)/VLOOKUP(AR93,$A$8:$H$107,8,FALSE),0),\nIF(AND(AU93=\"Nul\",$AW93<>$H93),40+(2*ROUNDDOWN(10*VLOOKUP(AR93,$A$8:$CB$107,49,FALSE)/VLOOKUP(AR93,$A$8:$H$107,8,FALSE),0)-ROUNDDOWN(10*AW93/$H93,0)),IF(AND(AU93=\"Nul\",$AW93=$H93),58,0))))","v":0},null,{"$f":"IF(AY93<>\"\",VLOOKUP(AY93,$A$8:$C$107,2,FALSE),\"\")","v":""},{"$f":"IF(AY93<>\"\",IF(AY93=$A93,\"ERR\",IF(OR(AY93=$I93,AY93=$P93,AY93=$W93,AY93=$AD93,AY93=$AK93,AY93=$AR93),\"DUP\",IF(ISNA(VLOOKUP(AY93,$A$8:$A$107,1,FALSE)),\"ERR\",IF(COUNTIF($I$8:$I$107,AY93)>1,\"ERR\",IF($D93=VLOOKUP(AY93,$A$8:$D$107,4,FALSE),\"CLUB\",\"OK\"))))),\"\")","v":""},null,{"$f":"IF(BB93<>\"\",IF(BB93=\"Victoire\",IF(VLOOKUP(AY93,$A$8:$BL$107,54,FALSE)=\"Défaite\",\"OK\",\"ERR\"),IF(BB93=\"Défaite\",IF(VLOOKUP(AY93,$A$8:$BL$107,54,FALSE)=\"Victoire\",\"OK\",\"ERR\"),IF(BB93=\"Nul\",IF(VLOOKUP(AY93,$A$8:$BL$107,54,FALSE)=\"Nul\",\"OK\",\"ERR\")))),\"\")","v":""},null,{"$f":"IF(BB93=\"Victoire\",100-ROUNDDOWN(20*BD93/$H93,0),\nIF(BB93=\"Défaite\",10+ROUNDDOWN(20*VLOOKUP(AY93,$A$8:$CB$107,56,FALSE)/VLOOKUP(AY93,$A$8:$H$107,8,FALSE),0),\nIF(AND(BB93=\"Nul\",$BD93<>$H93),40+(2*ROUNDDOWN(10*VLOOKUP(AY93,$A$8:$CB$107,56,FALSE)/VLOOKUP(AY93,$A$8:$H$107,8,FALSE),0)-ROUNDDOWN(10*BD93/$H93,0)),IF(AND(BB93=\"Nul\",$BD93=$H93),58,0))))","v":0},null,{"$f":"IF(BF93<>\"\",VLOOKUP(BF93,$A$8:$C$107,2,FALSE),\"\")","v":""},{"$f":"IF(BF93<>\"\",IF(BF93=$A93,\"ERR\",IF(OR(BF93=$I93,BF93=$P93,BF93=$W93,BF93=$AD93,BF93=$AK93,BF93=$AR93,BF93=$AY93),\"DUP\",IF(ISNA(VLOOKUP(BF93,$A$8:$A$107,1,FALSE)),\"ERR\",IF(COUNTIF($I$8:$I$107,BF93)>1,\"ERR\",IF($D93=VLOOKUP(BF93,$A$8:$D$107,4,FALSE),\"CLUB\",\"OK\"))))),\"\")","v":""},null,{"$f":"IF(BI93<>\"\",IF(BI93=\"Victoire\",IF(VLOOKUP(BF93,$A$8:$BL$107,61,FALSE)=\"Défaite\",\"OK\",\"ERR\"),IF(BI93=\"Défaite\",IF(VLOOKUP(BF93,$A$8:$BL$107,61,FALSE)=\"Victoire\",\"OK\",\"ERR\"),IF(BI93=\"Nul\",IF(VLOOKUP(BF93,$A$8:$BL$107,61,FALSE)=\"Nul\",\"OK\",\"ERR\")))),\"\")","v":""},null,{"$f":"IF(BI93=\"Victoire\",100-ROUNDDOWN(20*BK93/$H93,0),\nIF(BI93=\"Défaite\",10+ROUNDDOWN(20*VLOOKUP(BF93,$A$8:$CB$107,63,FALSE)/VLOOKUP(BF93,$A$8:$H$107,8,FALSE),0),\nIF(AND(BI93=\"Nul\",$BK93<>$H93),40+(2*ROUNDDOWN(10*VLOOKUP(BF93,$A$8:$CB$107,63,FALSE)/VLOOKUP(BF93,$A$8:$H$107,8,FALSE),0)-ROUNDDOWN(10*BK93/$H93,0)),IF(AND(BI93=\"Nul\",$BK93=$H93),58,0))))","v":0},null,{"$f":"IF(BM93<>\"\",VLOOKUP(BM93,$A$8:$C$107,2,FALSE),\"\")","v":""},{"$f":"IF(BM93<>\"\",IF(BM93=$A93,\"ERR\",IF(OR(BM93=$I93,BM93=$P93,BM93=$W93,BM93=$AD93,BM93=$AK93,BM93=$AR93,BM93=$AY93,BM93=$BF93),\"DUP\",IF(ISNA(VLOOKUP(BM93,$A$8:$A$107,1,FALSE)),\"ERR\",IF(COUNTIF($I$8:$I$107,BM93)>1,\"ERR\",IF($D93=VLOOKUP(BM93,$A$8:$D$107,4,FALSE),\"CLUB\",\"OK\"))))),\"\")","v":""},null,{"$f":"IF(BP93<>\"\",IF(BP93=\"Victoire\",IF(VLOOKUP(BM93,$A$8:$BS$107,68,FALSE)=\"Défaite\",\"OK\",\"ERR\"),IF(BP93=\"Défaite\",IF(VLOOKUP(BM93,$A$8:$BS$107,68,FALSE)=\"Victoire\",\"OK\",\"ERR\"),IF(BP93=\"Nul\",IF(VLOOKUP(BM93,$A$8:$BS$107,68,FALSE)=\"Nul\",\"OK\",\"ERR\")))),\"\")","v":""},null,{"$f":"IF(BP93=\"Victoire\",100-ROUNDDOWN(20*BR93/$H93,0),\nIF(BP93=\"Défaite\",10+ROUNDDOWN(20*VLOOKUP(BM93,$A$8:$CB$107,70,FALSE)/VLOOKUP(BM93,$A$8:$H$107,8,FALSE),0),\nIF(AND(BP93=\"Nul\",$BR93<>$H93),40+(2*ROUNDDOWN(10*VLOOKUP(BM93,$A$8:$CB$107,70,FALSE)/VLOOKUP(BM93,$A$8:$H$107,8,FALSE),0)-ROUNDDOWN(10*BR93/$H93,0)),IF(AND(BP93=\"Nul\",$BR93=$H93),58,0))))","v":0},null,{"$f":"IF($I93<>\"\",VLOOKUP($I93,$A$8:$N$107,5,FALSE),0)+IF($P93<>\"\",VLOOKUP($P93,$A$8:$N$107,5,FALSE),0)+IF($W93<>\"\",VLOOKUP($W93,$A$8:$N$107,5,FALSE),0)+IF($AD93<>\"\",VLOOKUP($AD93,$A$8:$N$107,5,FALSE),0)+IF($AK93<>\"\",VLOOKUP($AK93,$A$8:$N$107,5,FALSE),0)+IF($AR93<>\"\",VLOOKUP($AR93,$A$8:$N$107,5,FALSE),0)+IF($AY93<>\"\",VLOOKUP($AY93,$A$8:$N$107,5,FALSE),0)+IF($BF93<>\"\",VLOOKUP($BF93,$A$8:$N$107,5,FALSE),0)+IF($BM93<>\"\",VLOOKUP($BM93,$A$8:$N$107,5,FALSE),0)","v":0}]
[{"$nulls":4},0,null,{"$f":"IF($F94<>\"\",VLOOKUP(F94,Armies!$A$1:$C$300,3,FALSE),\"\")","v":""},null,null,{"$f":"IF(I94<>\"\",VLOOKUP(I94,$A$8:$C$107,2,FALSE),\"\")","v":""},{"$f":"IF(I94<>\"\",IF(I94=$A94,\"ERR\",IF(OR(I94=$P94,I94=$W94,I94=$AD94,I94=$AK94),\"DUP\",IF(ISNA(VLOOKUP(I94,$A$8:$A$107,1,FALSE)),\"ERR\",IF(COUNTIF($I$8:$I$107,I94)>1,\"ERR\",IF($D94=VLOOKUP(I94,$A$8:$D$107,4,FALSE),\"CLUB\",\"OK\"))))),\"\")","v":""},null,{"$f":"IF(L94<>\"\",IF(L94=\"Victoire\",IF(VLOOKUP(I94,$A$8:$L$107,12,FALSE)=\"Défaite\",\"OK\",\"ERR\"),IF(L94=\"Défaite\",IF(VLOOKUP(I94,$A$8:$L$107,12,FALSE)=\"Victoire\",\"OK\",\"ERR\"),IF(L94=\"Nul\",IF(VLOOKUP(I94,$A$8:$L$107,12,FALSE)=\"Nul\",\"OK\",\"ERR\")))),\"\")","v":""},null,{"$f":"IF(L94=\"Victoire\",100-ROUNDDOWN(20*N94/$H94,0),\nIF(L94=\"Défaite\",10+ROUNDDOWN(20*VLOOKUP(I94,$A$8:$N$107,14,FALSE)/VLOOKUP(I94,$A$8:$H$107,8,FALSE),0),\nIF(AND(L94=\"Nul\",$N94<>$H94),40+(2*ROUNDDOWN(10*VLOOKUP(I94,$A$8:$N$107,14,FALSE)/VLOOKUP(I94,$A$8:$H$107,8,FALSE),0)-ROUNDDOWN(10*N94/$H94,0)),IF(AND(L94=\"Nul\",$N94=$H94),58,0))))","v":0},null,{"$f":"IF(P94<>\"\",VLOOKUP(P94,$A$8:$C$107,2,FALSE),\"\")","v":""},{"$f":"IF(P94<>\"\",IF(P94=$A94,\"ERR\",IF(OR(P94=$I94,P94=$W94,P94=$AD94,P94=$AK94),\"DUP\",IF(ISNA(VLOOKUP(P94,$A$8:$A$107,1,FALSE)),\"ERR\",IF(COUNTIF($I$8:$I$107,P94)>1,\"ERR\",IF($D94=VLOOKUP(P94,$A$8:$D$107,4,FALSE),\"CLUB\",\"OK\"))))),\"\")","v":""},null,{"$f":"IF(S94<>\"\",IF(S94=\"Victoire\",IF(VLOOKUP(P94,$A$8:$AO$107,19,FALSE)=\"Défaite\",\"OK\",\"ERR\"),IF(S94=\"Défaite\",IF(VLOOKUP(P94,$A$8:$AO$107,19,FALSE)=\"Victoire\",\"OK\",\"ERR\"),IF(S94=\"Nul\",IF(VLOOKUP(P94,$A$8:$AO$107,19,FALSE)=\"Nul\",\"OK\",\"ERR\")))),\"\")","v":""},null,{"$f":"IF(S94=\"Victoire\",100-ROUNDDOWN(20*U94/$H94,0),\nIF(S94=\"Défaite\",10+ROUNDDOWN(20*VLOOKUP(P94,$A$8:$AO$107,21,FALSE)/VLOOKUP(P94,$A$8:$H$107,8,FALSE),0),\nIF(AND(S94=\"Nul\",$U94<>$H94),40+(2*ROUNDDOWN(10*VLOOKUP(P94,$A$8:$AO$107,21,FALSE)/VLOOKUP(P94,$A$8:$H$107,8,FALSE),0)-ROUNDDOWN(10*U94/$H94,0)),IF(AND(S94=\"Nul\",$U94=$H94),58,0))))","v":0},null,{"$f":"IF(W94<>\"\",VLOOKUP(W94,$A$8:$C$107,2,FALSE),\"\")","v":""},{"$f":"IF(W94<>\"\",IF(W94=$A94,\"ERR\",IF(OR(W94=$P94,W94=$I94,W94=$AD94,W94=$AK94),\"DUP\",IF(ISNA(VLOOKUP(W94,$A$8:$A$107,1,FALSE)),\"ERR\",IF(COUNTIF($I$8:$I$107,W94)>1,\"ERR\",IF($D94=VLOOKUP(W94,$A$8:$D$107,4,FALSE),\"CLUB\",\"OK\"))))),\"\")","v":""},null,{"$f":"IF(Z94<>\"\",IF(Z94=\"Victoire\",IF(VLOOKUP(W94,$A$8:$AO$107,26,FALSE)=\"Défaite\",\"OK\",\"ERR\"),IF(Z94=\"Défaite\",IF(VLOOKUP(W94,$A$8:$AO$107,26,FALSE)=\"Victoire\",\"OK\",\"ERR\"),IF(Z94=\"Nul\",IF(VLOOKUP(W94,$A$8:$AO$107,26,FALSE)=\"Nul\",\"OK\",\"ERR\")))),\"\")","v":""},null,{"$f":"IF(Z94=\"Victoire\",100-ROUNDDOWN(20*AB94/$H94,0),\nIF(Z94=\"Défaite\",10+ROUNDDOWN(20*VLOOKUP(W94,$A$8:$AO$107,28,FALSE)/VLOOKUP(W94,$A$8:$H$107,8,FALSE),0),\nIF(AND(Z94=\"Nul\",$AB94<>$H94),40+(2*ROUNDDOWN(10*VLOOKUP(W94,$A$8:$AO$107,28,FALSE)/VLOOKUP(W94,$A$8:$H$107,8,FALSE),0)-ROUNDDOWN(10*AB94/$H94,0)),IF(AND(Z94=\"Nul\",$AB94=$H94),58,0))))","v":0},null,{"$f":"IF(AD94<>\"\",VLOOKUP(AD94,$A$8:$C$107,2,FALSE),\"\")","v":""},{"$f":"IF(AD94<>\"\",IF(AD94=$A94,\"ERR\",IF(OR(AD94=$P94,AD94=$W94,AD94=$I94,AD94=$AK94),\"DUP\",IF(ISNA(VLOOKUP(AD94,$A$8:$A$107,1,FALSE)),\"ERR\",IF(COUNTIF($I$8:$I$107,AD94)>1,\"ERR\",IF($D94=VLOOKUP(AD94,$A$8:$D$107,4,FALSE),\"CLUB\",\"OK\"))))),\"\")","v":""},null,{"$f":"IF(AG94<>\"\",IF(AG94=\"Victoire\",IF(VLOOKUP(AD94,$A$8:$AO$107,33,FALSE)=\"Défaite\",\"OK\",\"ERR\"),IF(AG94=\"Défaite\",IF(VLOOKUP(AD94,$A$8:$AO$107,33,FALSE)=\"Victoire\",\"OK\",\"ERR\"),IF(AG94=\"Nul\",IF(VLOOKUP(AD94,$A$8:$AO$107,33,FALSE)=\"Nul\",\"OK\",\"ERR\")))),\"\")","v":""},null,{"$f":"IF(AG94=\"Victoire\",100-ROUNDDOWN(20*AI94/$H94,0),\nIF(AG94=\"Défaite\",10+ROUNDDOWN(20*VLOOKUP(AD94,$A$8:$AO$107,35,FALSE)/VLOOKUP(AD94,$A$8:$H$107,8,FALSE),0),\nIF(AND(AG94=\"Nul\",$AI94<>$H94),40+(2*ROUNDDOWN(10*VLOOKUP(AD94,$A$8:$AO$107,35,FALSE)/VLOOKUP(AD94,$A$8:$H$107,8,FALSE),0)-ROUNDDOWN(10*AI94/$H94,0)),IF(AND(AG94=\"Nul\",$AI94=$H94),58,0))))","v":0},null,{"$f":"IF(AK94<>\"\",VLOOKUP(AK94,$A$8:$C$107,2,FALSE),\"\")","v":""},{"$f":"IF(AK94<>\"\",IF(AK94=$A94,\"ERR\",IF(OR(AK94=$P94,AK94=$W94,AK94=$AD94,AK94=$I94),\"DUP\",IF(ISNA(VLOOKUP(AK94,$A$8:$A$107,1,FALSE)),\"ERR\",IF(COUNTIF($I$8:$I$107,AK94)>1,\"ERR\",IF($D94=VLOOKUP(AK94,$A$8:$D$107,4,FALSE),\"CLUB\",\"OK\"))))),\"\")","v":""},null,{"$f":"IF(AN94<>\"\",IF(AN94=\"Victoire\",IF(VLOOKUP(AK94,$A$8:$AO$107,40,FALSE)=\"Défaite\",\"OK\",\"ERR\"),IF(AN94=\"Défaite\",IF(VLOOKUP(AK94,$A$8:$AO$107,40,FALSE)=\"Victoire\",\"OK\",\"ERR\"),IF(AN94=\"Nul\",IF(VLOOKUP(AK94,$A$8:$AO$107,40,FALSE)=\"Nul\",\"OK\",\"ERR\")))),\"\")","v":""},null,{"$f":"IF(AN94=\"Victoire\",100-ROUNDDOWN(20*AP94/$H94,0),\nIF(AN94=\"Défaite\",10+ROUNDDOWN(20*VLOOKUP(AK94,$A$8:$CB$107,42,FALSE)/VLOOKUP(AK94,$A$8:$H$107,8,FALSE),0),\nIF(AND(AN94=\"Nul\",$AP94<>$H94),40+(2*ROUNDDOWN(10*VLOOKUP(AK94,$A$8:$CB$107,42,FALSE)/VLOOKUP(AK94,$A$8:$H$107,8,FALSE),0)-ROUNDDOWN(10*AP94/$H94,0)),IF(AND(AN94=\"Nul\",$AP94=$H94),58,0))))","v":0},null,{"$f":"IF(AR94<>\"\",VLOOKUP(AR94,$A$8:$C$107,2,FALSE),\"\")","v":""},{"$f":"IF(AR94<>\"\",IF(AR94=$A94,\"ERR\",IF(OR(AR94=$I94,AR94=$P94,AR94=$W94,AR94=$AD94,AR94=$AK94),\"DUP\",IF(ISNA(VLOOKUP(AR94,$A$8:$A$107,1,FALSE)),\"ERR\",IF(COUNTIF($I$8:$I$107,AR94)>1,\"ERR\",IF($D94=VLOOKUP(AR94,$A$8:$D$107,4,FALSE),\"CLUB\",\"OK\"))))),\"\")","v":""},null,{"$f":"IF(AU94<>\"\",IF(AU94=\"Victoire\",IF(VLOOKUP(AR94,$A$8:$BL$107,47,FALSE)=\"Défaite\",\"OK\",\"ERR\"),IF(AU94=\"Défaite\",IF(VLOOKUP(AR94,$A$8:$BL$107,47,FALSE)=\"Victoire\",\"OK\",\"ERR\"),IF(AU94=\"Nul\",IF(VLOOKUP(AR94,$A$8:$BL$107,47,FALSE)=\"Nul\",\"OK\",\"ERR\")))),\"\")","v":""},null,{"$f":"IF(AU94=\"Victoire\",100-ROUNDDOWN(20*AW94/$H94,0),\nIF(AU94=\"Défaite\",10+ROUNDDOWN(20*VLOOKUP(AR94,$A$8:$CB$107,49,FALSE)/VLOOKUP(AR94,$A$8:$H$107,8,FALSE),0),\nIF(AND(AU94=\"Nul\",$AW94<>$H94),40+(2*ROUNDDOWN(10*VLOOKUP(AR94,$A$8:$CB$107,49,FALSE)/VLOOKUP(AR94,$A$8:$H$107,8,FALSE),0)-ROUNDDOWN(10*AW94/$H94,0)),IF(AND(AU94=\"Nul\",$AW94=$H94),58,0))))","v":0},null,{"$f":"IF(AY94<>\"\",VLOOKUP(AY94,$A$8:$C$107,2,FALSE),\"\")","v":""},{"$f":"IF(AY94<>\"\",IF(AY94=$A94,\"ERR\",IF(OR(AY94=$I94,AY94=$P94,AY94=$W94,AY94=$AD94,AY94=$AK94,AY94=$AR94),\"DUP\",IF(ISNA(VLOOKUP(AY94,$A$8:$A$107,1,FALSE)),\"ERR\",IF(COUNTIF($I$8:$I$107,AY94)>1,\"ERR\",IF($D94=VLOOKUP(AY94,$A$8:$D$107,4,FALSE),\"CLUB\",\"OK\"))))),\"\")","v":""},null,{"$f":"IF(BB94<>\"\",IF(BB94=\"Victoire\",IF(VLOOKUP(AY94,$A$8:$BL$107,54,FALSE)=\"Défaite\",\"OK\",\"ERR\"),IF(BB94=\"Défaite\",IF(VLOOKUP(AY94,$A$8:$BL$107,54,FALSE)=\"Victoire\",\"OK\",\"ERR\"),IF(BB94=\"Nul\",IF(VLOOKUP(AY94,$A$8:$BL$107,54,FALSE)=\"Nul\",\"OK\",\"ERR\")))),\"\")","v":""},null,{"$f":"IF(BB94=\"Victoire\",100-ROUNDDOWN(20*BD94/$H94,0),\nIF(BB94=\"Défaite\",10+ROUNDDOWN(20*VLOOKUP(AY94,$A$8:$CB$107,56,FALSE)/VLOOKUP(AY94,$A$8:$H$107,8,FALSE),0),\nIF(AND(BB94=\"Nul\",$BD94<>$H94),40+(2*ROUNDDOWN(10*VLOOKUP(AY94,$A$8:$CB$107,56,FALSE)/VLOOKUP(AY94,$A$8:$H$107,8,FALSE),0)-ROUNDDOWN(10*BD94/$H94,0)),IF(AND(BB94=\"Nul\",$BD94=$H94),58,0))))","v":0},null,{"$f":"IF(BF94<>\"\",VLOOKUP(BF94,$A$8:$C$107,2,FALSE),\"\")","v":""},{"$f":"IF(BF94<>\"\",IF(BF94=$A94,\"ERR\",IF(OR(BF94=$I94,BF94=$P94,BF94=$W94,BF94=$AD94,BF94=$AK94,BF94=$AR94,BF94=$AY94),\"DUP\",IF(ISNA(VLOOKUP(BF94,$A$8:$A$107,1,FALSE)),\"ERR\",IF(COUNTIF($I$8:$I$107,BF94)>1,\"ERR\",IF($D94=VLOOKUP(BF94,$A$8:$D$107,4,FALSE),\"CLUB\",\"OK\"))))),\"\")","v":""},null,{"$f":"IF(BI94<>\"\",IF(BI94=\"Victoire\",IF(VLOOKUP(BF94,$A$8:$BL$107,61,FALSE)=\"Défaite\",\"OK\",\"ERR\"),IF(BI94=\"Défaite\",IF(VLOOKUP(BF94,$A$8:$BL$107,61,FALSE)=\"Victoire\",\"OK\",\"ERR\"),IF(BI94=\"Nul\",IF(VLOOKUP(BF94,$A$8:$BL$107,61,FALSE)=\"Nul\",\"OK\",\"ERR\")))),\"\")","v":""},null,{"$f":"IF(BI94=\"Victoire\",100-ROUNDDOWN(20*BK94/$H94,0),\nIF(BI94=\"Défaite\",10+ROUNDDOWN(20*VLOOKUP(BF94,$A$8:$CB$107,63,FALSE)/VLOOKUP(BF94,$A$8:$H$107,8,FALSE),0),\nIF(AND(BI94=\"Nul\",$BK94<>$H94),40+(2*ROUNDDOWN(10*VLOOKUP(BF94,$A$8:$CB$107,63,FALSE)/VLOOKUP(BF94,$A$8:$H$107,8,FALSE),0)-ROUNDDOWN(10*BK94/$H94,0)),IF(AND(BI94=\"Nul\",$BK94=$H94),58,0))))","v":0},null,{"$f":"IF(BM94<>\"\",VLOOKUP(BM94,$A$8:$C$107,2,FALSE),\"\")","v":""},{"$f":"IF(BM94<>\"\",IF(BM94=$A94,\"ERR\",IF(OR(BM94=$I94,BM94=$P94,BM94=$W94,BM94=$AD94,BM94=$AK94,BM94=$AR94,BM94=$AY94,BM94=$BF94),\"DUP\",IF(ISNA(VLOOKUP(BM94,$A$8:$A$107,1,FALSE)),\"ERR\",IF(COUNTIF($I$8:$I$107,BM94)>1,\"ERR\",IF($D94=VLOOKUP(BM94,$A$8:$D$107,4,FALSE),\"CLUB\",\"OK\"))))),\"\")","v":""},null,{"$f":"IF(BP94<>\"\",IF(BP94=\"Victoire\",IF(VLOOKUP(BM94,$A$8:$BS$107,68,FALSE)=\"Défaite\",\"OK\",\"ERR\"),IF(BP94=\"Défaite\",IF(VLOOKUP(BM94,$A$8:$BS$107,68,FALSE)=\"Victoire\",\"OK\",\"ERR\"),IF(BP94=\"Nul\",IF(VLOOKUP(BM94,$A$8:$BS$107,68,FALSE)=\"Nul\",\"OK\",\"ERR\")))),\"\")","v":""},null,{"$f":"IF(BP94=\"Victoire\",100-ROUNDDOWN(20*BR94/$H94,0),\nIF(BP94=\"Défaite\",10+ROUNDDOWN(20*VLOOKUP(BM94,$A$8:$CB$107,70,FALSE)/VLOOKUP(BM94,$A$8:$H$107,8,FALSE),0),\nIF(AND(BP94=\"Nul\",$BR94<>$H94),40+(2*ROUNDDOWN(10*VLOOKUP(BM94,$A$8:$CB$107,70,FALSE)/VLOOKUP(BM94,$A$8:$H$107,8,FALSE),0)-ROUNDDOWN(10*BR94/$H94,0)),IF(AND(BP94=\"Nul\",$BR94=$H94),58,0))))","v":0},null,{"$f":"IF($I94<>\"\",VLOOKUP($I94,$A$8:$N$107,5,FALSE),0)+IF($P94<>\"\",VLOOKUP($P94,$A$8:$N$107,5,FALSE),0)+IF($W94<>\"\",VLOOKUP($W94,$A$8:$N$107,5,FALSE),0)+IF($AD94<>\"\",VLOOKUP($AD94,$A$8:$N$107,5,FALSE),0)+IF($AK94<>\"\",VLOOKUP($AK94,$A$8:$N$107,5,FALSE),0)+IF($AR94<>\"\",VLOOKUP($AR94,$A$8:$N$107,5,FALSE),0)+IF($AY94<>\"\",VLOOKUP($AY94,$A$8:$N$107,5,FALSE),0)+IF($BF94<>\"\",VLOOKUP($BF94,$A$8:$N$107,5,FALSE),0)+IF($BM94<>\"\",VLOOKUP($BM94,$A$8:$N$107,5,FALSE),0)","v":0}]
[{"$nulls":4},0,null,{"$f":"IF($F95<>\"\",VLOOKUP(F95,Armies!$A$1:$C$300,3,FALSE),\"\")","v":""},null,null,{"$f":"IF(I95<>\"\",VLOOKUP(I95,$A$8:$C$107,2,FALSE),\"\")","v":""},{"$f":"IF(I95<>\"\",IF(I95=$A95,\"ERR\",IF(OR(I95=$P95,I95=$W95,I95=$AD95,I95=$AK95),\"DUP\",IF(ISNA(VLOOKUP(I95,$A$8:$A$107,1,FALSE)),\"ERR\",IF(COUNTIF($I$8:$I$107,I95)>1,\"ERR\",IF($D95=VLOOKUP(I95,$A$8:$D$107,4,FALSE),\"CLUB\",\"OK\"))))),\"\")","v":""},null,{"$f":"IF(L95<>\"\",IF(L95=\"Victoire\",IF(VLOOKUP(I95,$A$8:$L$107,12,FALSE)=\"Défaite\",\"OK\",\"ERR\"),IF(L95=\"Défaite\",IF(VLOOKUP(I95,$A$8:$L$107,12,FALSE)=\"Victoire\",\"OK\",\"ERR\"),IF(L95=\"Nul\",IF(VLOOKUP(I95,$A$8:$L$107,12,FALSE)=\"Nul\",\"OK\",\"ERR\")))),\"\")","v":""},null,{"$f":"IF(L95=\"Victoire\",100-ROUNDDOWN(20*N95/$H95,0),\nIF(L95=\"Défaite\",10+ROUNDDOWN(20*VLOOKUP(I95,$A$8:$N$107,14,FALSE)/VLOOKUP(I95,$A$8:$H$107,8,FALSE),0),\nIF(AND(L95=\"Nul\",$N95<>$H95),40+(2*ROUNDDOWN(10*VLOOKUP(I95,$A$8:$N$107,14,FALSE)/VLOOKUP(I95,$A$8:$H$107,8,FALSE),0)-ROUNDDOWN(10*N95/$H95,0)),IF(AND(L95=\"Nul\",$N95=$H95),58,0))))","v":0},null,{"$f":"IF(P95<>\"\",VLOOKUP(P95,$A$8:$C$107,2,FALSE),\"\")","v":""},{"$f":"IF(P95<>\"\",IF(P95=$A95,\"ERR\",IF(OR(P95=$I95,P95=$W95,P95=$AD95,P95=$AK95),\"DUP\",IF(ISNA(VLOOKUP(P95,$A$8:$A$107,1,FALSE)),\"ERR\",IF(COUNTIF($I$8:$I$107,P95)>1,\"ERR\",IF($D95=VLOOKUP(P95,$A$8:$D$107,4,FALSE),\"CLUB\",\"OK\"))))),\"\")","v":""},null,{"$f":"IF(S95<>\"\",IF(S95=\"Victoire\",IF(VLOOKUP(P95,$A$8:$AO$107,19,FALSE)=\"Défaite\",\"OK\",\"ERR\"),IF(S95=\"Défaite\",IF(VLOOKUP(P95,$A$8:$AO$107,19,FALSE)=\"Victoire\",\"OK\",\"ERR\"),IF(S95=\"Nul\",IF(VLOOKUP(P95,$A$8:$AO$107,19,FALSE)=\"Nul\",\"OK\",\"ERR\")))),\"\")","v":""},null,{"$f":"IF(S95=\"Victoire\",100-ROUNDDOWN(20*U95/$H95,0),\nIF(S95=\"Défaite\",10+ROUNDDOWN(20*VLOOKUP(P95,$A$8:$AO$107,21,FALSE)/VLOOKUP(P95,$A$8:$H$107,8,FALSE),0),\nIF(AND(S95=\"Nul\",$U95<>$H95),40+(2*ROUNDDOWN(10*VLOOKUP(P95,$A$8:$AO$107,21,FALSE)/VLOOKUP(P95,$A$8:$H$107,8,FALSE),0)-ROUNDDOWN(10*U95/$H95,0)),IF(AND(S95=\"Nul\",$U95=$H95),58,0))))","v":0},null,{"$f":"IF(W95<>\"\",VLOOKUP(W95,$A$8:$C$107,2,FALSE),\"\")","v":""},{"$f":"IF(W95<>\"\",IF(W95=$A95,\"ERR\",IF(OR(W95=$P95,W95=$I95,W95=$AD95,W95=$AK95),\"DUP\",IF(ISNA(VLOOKUP(W95,$A$8:$A$107,1,FALSE)),\"ERR\",IF(COUNTIF($I$8:$I$107,W95)>1,\"ERR\",IF($D95=VLOOKUP(W95,$A$8:$D$107,4,FALSE),\"CLUB\",\"OK\"))))),\"\")","v":""},null,{"$f":"IF(Z95<>\"\",IF(Z95=\"Victoire\",IF(VLOOKUP(W95,$A$8:$AO$107,26,FALSE)=\"Défaite\",\"OK\",\"ERR\"),IF(Z95=\"Défaite\",IF(VLOOKUP(W95,$A$8:$AO$107,26,FALSE)=\"Victoire\",\"OK\",\"ERR\"),IF(Z95=\"Nul\",IF(VLOOKUP(W95,$A$8:$AO$107,26,FALSE)=\"Nul\",\"OK\",\"ERR\")))),\"\")","v":""},null,{"$f":"IF(Z95=\"Victoire\",100-ROUNDDOWN(20*AB95/$H95,0),\nIF(Z95=\"Défaite\",10+ROUNDDOWN(20*VLOOKUP(W95,$A$8:$AO$107,28,FALSE)/VLOOKUP(W95,$A$8:$H$107,8,FALSE),0),\nIF(AND(Z95=\"Nul\",$AB95<>$H95),40+(2*ROUNDDOWN(10*VLOOKUP(W95,$A$8:$AO$107,28,FALSE)/VLOOKUP(W95,$A$8:$H$107,8,FALSE),0)-ROUNDDOWN(10*AB95/$H95,0)),IF(AND(Z95=\"Nul\",$AB95=$H95),58,0))))","v":0},null,{"$f":"IF(AD95<>\"\",VLOOKUP(AD95,$A$8:$C$107,2,FALSE),\"\")","v":""},{"$f":"IF(AD95<>\"\",IF(AD95=$A95,\"ERR\",IF(OR(AD95=$P95,AD95=$W95,AD95=$I95,AD95=$AK95),\"DUP\",IF(ISNA(VLOOKUP(AD95,$A$8:$A$107,1,FALSE)),\"ERR\",IF(COUNTIF($I$8:$I$107,AD95)>1,\"ERR\",IF($D95=VLOOKUP(AD95,$A$8:$D$107,4,FALSE),\"CLUB\",\"OK\"))))),\"\")","v":""},null,{"$f":"IF(AG95<>\"\",IF(AG95=\"Victoire\",IF(VLOOKUP(AD95,$A$8:$AO$107,33,FALSE)=\"Défaite\",\"OK\",\"ERR\"),IF(AG95=\"Défaite\",IF(VLOOKUP(AD95,$A$8:$AO$107,33,FALSE)=\"Victoire\",\"OK\",\"ERR\"),IF(AG95=\"Nul\",IF(VLOOKUP(AD95,$A$8:$AO$107,33,FALSE)=\"Nul\",\"OK\",\"ERR\")))),\"\")","v":""},null,{"$f":"IF(AG95=\"Victoire\",100-ROUNDDOWN(20*AI95/$H95,0),\nIF(AG95=\"Défaite\",10+ROUNDDOWN(20*VLOOKUP(AD95,$A$8:$AO$107,35,FALSE)/VLOOKUP(AD95,$A$8:$H$107,8,FALSE),0),\nIF(AND(AG95=\"Nul\",$AI95<>$H95),40+(2*ROUNDDOWN(10*VLOOKUP(AD95,$A$8:$AO$107,35,FALSE)/VLOOKUP(AD95,$A$8:$H$107,8,FALSE),0)-ROUNDDOWN(10*AI95/$H95,0)),IF(AND(AG95=\"Nul\",$AI95=$H95),58,0))))","v":0},null,{"$f":"IF(AK95<>\"\",VLOOKUP(AK95,$A$8:$C$107,2,FALSE),\"\")","v":""},{"$f":"IF(AK95<>\"\",IF(AK95=$A95,\"ERR\",IF(OR(AK95=$P95,AK95=$W95,AK95=$AD95,AK95=$I95),\"DUP\",IF(ISNA(VLOOKUP(AK95,$A$8:$A$107,1,FALSE)),\"ERR\",IF(COUNTIF($I$8:$I$107,AK95)>1,\"ERR\",IF($D95=VLOOKUP(AK95,$A$8:$D$107,4,FALSE),\"CLUB\",\"OK\"))))),\"\")","v":""},null,{"$f":"IF(AN95<>\"\",IF(AN95=\"Victoire\",IF(VLOOKUP(AK95,$A$8:$AO$107,40,FALSE)=\"Défaite\",\"OK\",\"ERR\"),IF(AN95=\"Défaite\",IF(VLOOKUP(AK95,$A$8:$AO$107,40,FALSE)=\"Victoire\",\"OK\",\"ERR\"),IF(AN95=\"Nul\",IF(VLOOKUP(AK95,$A$8:$AO$107,40,FALSE)=\"Nul\",\"OK\",\"ERR\")))),\"\")","v":""},null,{"$f":"IF(AN95=\"Victoire\",100-ROUNDDOWN(20*AP95/$H95,0),\nIF(AN95=\"Défaite\",10+ROUNDDOWN(20*VLOOKUP(AK95,$A$8:$CB$107,42,FALSE)/VLOOKUP(AK95,$A$8:$H$107,8,FALSE),0),\nIF(AND(AN95=\"Nul\",$AP95<>$H95),40+(2*ROUNDDOWN(10*VLOOKUP(AK95,$A$8:$CB$107,42,FALSE)/VLOOKUP(AK95,$A$8:$H$107,8,FALSE),0)-ROUNDDOWN(10*AP95/$H95,0)),IF(AND(AN95=\"Nul\",$AP95=$H95),58,0))))","v":0},null,{"$f":"IF(AR95<>\"\",VLOOKUP(AR95,$A$8:$C$107,2,FALSE),\"\")","v":""},{"$f":"IF(AR95<>\"\",IF(AR95=$A95,\"ERR\",IF(OR(AR95=$I95,AR95=$P95,AR95=$W95,AR95=$AD95,AR95=$AK95),\"DUP\",IF(ISNA(VLOOKUP(AR95,$A$8:$A$107,1,FALSE)),\"ERR\",IF(COUNTIF($I$8:$I$107,AR95)>1,\"ERR\",IF($D95=VLOOKUP(AR95,$A$8:$D$107,4,FALSE),\"CLUB\",\"OK\"))))),\"\")","v":""},null,{"$f":"IF(AU95<>\"\",IF(AU95=\"Victoire\",IF(VLOOKUP(AR95,$A$8:$BL$107,47,FALSE)=\"Défaite\",\"OK\",\"ERR\"),IF(AU95=\"Défaite\",IF(VLOOKUP(AR95,$A$8:$BL$107,47,FALSE)=\"Victoire\",\"OK\",\"ERR\"),IF(AU95=\"Nul\",IF(VLOOKUP(AR95,$A$8:$BL$107,47,FALSE)=\"Nul\",\"OK\",\"ERR\")))),\"\")","v":""},null,{"$f":"IF(AU95=\"Victoire\",100-ROUNDDOWN(20*AW95/$H95,0),\nIF(AU95=\"Défaite\",10+ROUNDDOWN(20*VLOOKUP(AR95,$A$8:$CB$107,49,FALSE)/VLOOKUP(AR95,$A$8:$H$107,8,FALSE),0),\nIF(AND(AU95=\"Nul\",$AW95<>$H95),40+(2*ROUNDDOWN(10*VLOOKUP(AR95,$A$8:$CB$107,49,FALSE)/VLOOKUP(AR95,$A$8:$H$107,8,FALSE),0)-ROUNDDOWN(10*AW95/$H95,0)),IF(AND(AU95=\"Nul\",$AW95=$H95),58,0))))","v":0},null,{"$f":"IF(AY95<>\"\",VLOOKUP(AY95,$A$8:$C$107,2,FALSE),\"\")","v":""},{"$f":"IF(AY95<>\"\",IF(AY95=$A95,\"ERR\",IF(OR(AY95=$I95,AY95=$P95,AY95=$W95,AY95=$AD95,AY95=$AK95,AY95=$AR95),\"DUP\",IF(ISNA(VLOOKUP(AY95,$A$8:$A$107,1,FALSE)),\"ERR\",IF(COUNTIF($I$8:$I$107,AY95)>1,\"ERR\",IF($D95=VLOOKUP(AY95,$A$8:$D$107,4,FALSE),\"CLUB\",\"OK\"))))),\"\")","v":""},null,{"$f":"IF(BB95<>\"\",IF(BB95=\"Victoire\",IF(VLOOKUP(AY95,$A$8:$BL$107,54,FALSE)=\"Défaite\",\"OK\",\"ERR\"),IF(BB95=\"Défaite\",IF(VLOOKUP(AY95,$A$8:$BL$107,54,FALSE)=\"Victoire\",\"OK\",\"ERR\"),IF(BB95=\"Nul\",IF(VLOOKUP(AY95,$A$8:$BL$107,54,FALSE)=\"Nul\",\"OK\",\"ERR\")))),\"\")","v":""},null,{"$f":"IF(BB95=\"Victoire\",100-ROUNDDOWN(20*BD95/$H95,0),\nIF(BB95=\"Défaite\",10+ROUNDDOWN(20*VLOOKUP(AY95,$A$8:$CB$107,56,FALSE)/VLOOKUP(AY95,$A$8:$H$107,8,FALSE),0),\nIF(AND(BB95=\"Nul\",$BD95<>$H95),40+(2*ROUNDDOWN(10*VLOOKUP(AY95,$A$8:$CB$107,56,FALSE)/VLOOKUP(AY95,$A$8:$H$107,8,FALSE),0)-ROUNDDOWN(10*BD95/$H95,0)),IF(AND(BB95=\"Nul\",$BD95=$H95),58,0))))","v":0},null,{"$f":"IF(BF95<>\"\",VLOOKUP(BF95,$A$8:$C$107,2,FALSE),\"\")","v":""},{"$f":"IF(BF95<>\"\",IF(BF95=$A95,\"ERR\",IF(OR(BF95=$I95,BF95=$P95,BF95=$W95,BF95=$AD95,BF95=$AK95,BF95=$AR95,BF95=$AY95),\"DUP\",IF(ISNA(VLOOKUP(BF95,$A$8:$A$107,1,FALSE)),\"ERR\",IF(COUNTIF($I$8:$I$107,BF95)>1,\"ERR\",IF($D95=VLOOKUP(BF95,$A$8:$D$107,4,FALSE),\"CLUB\",\"OK\"))))),\"\")","v":""},null,{"$f":"IF(BI95<>\"\",IF(BI95=\"Victoire\",IF(VLOOKUP(BF95,$A$8:$BL$107,61,FALSE)=\"Défaite\",\"OK\",\"ERR\"),IF(BI95=\"Défaite\",IF(VLOOKUP(BF95,$A$8:$BL$107,61,FALSE)=\"Victoire\",\"OK\",\"ERR\"),IF(BI95=\"Nul\",IF(VLOOKUP(BF95,$A$8:$BL$107,61,FALSE)=\"Nul\",\"OK\",\"ERR\")))),\"\")","v":""},null,{"$f":"IF(BI95=\"Victoire\",100-ROUNDDOWN(20*BK95/$H95,0),\nIF(BI95=\"Défaite\",10+ROUNDDOWN(20*VLOOKUP(BF95,$A$8:$CB$107,63,FALSE)/VLOOKUP(BF95,$A$8:$H$107,8,FALSE),0),\nIF(AND(BI95=\"Nul\",$BK95<>$H95),40+(2*ROUNDDOWN(10*VLOOKUP(BF95,$A$8:$CB$107,63,FALSE)/VLOOKUP(BF95,$A$8:$H$107,8,FALSE),0)-ROUNDDOWN(10*BK95/$H95,0)),IF(AND(BI95=\"Nul\",$BK95=$H95),58,0))))","v":0},null,{"$f":"IF(BM95<>\"\",VLOOKUP(BM95,$A$8:$C$107,2,FALSE),\"\")","v":""},{"$f":"IF(BM95<>\"\",IF(BM95=$A95,\"ERR\",IF(OR(BM95=$I95,BM95=$P95,BM95=$W95,BM95=$AD95,BM95=$AK95,BM95=$AR95,BM95=$AY95,BM95=$BF95),\"DUP\",IF(ISNA(VLOOKUP(BM95,$A$8:$A$107,1,FALSE)),\"ERR\",IF(COUNTIF($I$8:$I$107,BM95)>1,\"ERR\",IF($D95=VLOOKUP(BM95,$A$8:$D$107,4,FALSE),\"CLUB\",\"OK\"))))),\"\")","v":""},null,{"$f":"IF(BP95<>\"\",IF(BP95=\"Victoire\",IF(VLOOKUP(BM95,$A$8:$BS$107,68,FALSE)=\"Défaite\",\"OK\",\"ERR\"),IF(BP95=\"Défaite\",IF(VLOOKUP(BM95,$A$8:$BS$107,68,FALSE)=\"Victoire\",\"OK\",\"ERR\"),IF(BP95=\"Nul\",IF(VLOOKUP(BM95,$A$8:$BS$107,68,FALSE)=\"Nul\",\"OK\",\"ERR\")))),\"\")","v":""},null,{"$f":"IF(BP95=\"Victoire\",100-ROUNDDOWN(20*BR95/$H95,0),\nIF(BP95=\"Défaite\",10+ROUNDDOWN(20*VLOOKUP(BM95,$A$8:$CB$107,70,FALSE)/VLOOKUP(BM95,$A$8:$H$107,8,FALSE),0),\nIF(AND(BP95=\"Nul\",$BR95<>$H95),40+(2*ROUNDDOWN(10*VLOOKUP(BM95,$A$8:$CB$107,70,FALSE)/VLOOKUP(BM95,$A$8:$H$107,8,FALSE),0)-ROUNDDOWN(10*BR95/$H95,0)),IF(AND(BP95=\"Nul\",$BR95=$H95),58,0))))","v":0},null,{"$f":"IF($I95<>\"\",VLOOKUP($I95,$A$8:$N$107,5,FALSE),0)+IF($P95<>\"\",VLOOKUP($P95,$A$8:$N$107,5,FALSE),0)+IF($W95<>\"\",VLOOKUP($W95,$A$8:$N$107,5,FALSE),0)+IF($AD95<>\"\",VLOOKUP($AD95,$A$8:$N$107,5,FALSE),0)+IF($AK95<>\"\",VLOOKUP($AK95,$A$8:$N$107,5,FALSE),0)+IF($AR95<>\"\",VLOOKUP($AR95,$A$8:$N$107,5,FALSE),0)+IF($AY95<>\"\",VLOOKUP($AY95,$A$8:$N$107,5,FALSE),0)+IF($BF95<>\"\",VLOOKUP($BF95,$A$8:$N$107,5,FALSE),0)+IF($BM95<>\"\",VLOOKUP($BM95,$A$8:$N$107,5,FALSE),0)","v":0}]
[{"$nulls":4},0,null,{"$f":"IF($F96<>\"\",VLOOKUP(F96,Armies!$A$1:$C$300,3,FALSE),\"\")","v":""},null,null,{"$f":"IF(I96<>\"\",VLOOKUP(I96,$A$8:$C$107,2,FALSE),\"\")","v":""},{"$f":"IF(I96<>\"\",IF(I96=$A96,\"ERR\",IF(OR(I96=$P96,I96=$W96,I96=$AD96,I96=$AK96),\"DUP\",IF(ISNA(VLOOKUP(I96,$A$8:$A$107,1,FALSE)),\"ERR\",IF(COUNTIF($I$8:$I$107,I96)>1,\"ERR\",IF($D96=VLOOKUP(I96,$A$8:$D$107,4,FALSE),\"CLUB\",\"OK\"))))),\"\")","v":""},null,{"$f":"IF(L96<>\"\",IF(L96=\"Victoire\",IF(VLOOKUP(I96,$A$8:$L$107,12,FALSE)=\"Défaite\",\"OK\",\"ERR\"),IF(L96=\"Défaite\",IF(VLOOKUP(I96,$A$8:$L$107,12,FALSE)=\"Victoire\",\"OK\",\"ERR\"),IF(L96=\"Nul\",IF(VLOOKUP(I96,$A$8:$L$107,12,FALSE)=\"Nul\",\"OK\",\"ERR\")))),\"\")","v":""},null,{"$f":"IF(L96=\"Victoire\",100-ROUNDDOWN(20*N96/$H96,0),\nIF(L96=\"Défaite\",10+ROUNDDOWN(20*VLOOKUP(I96,$A$8:$N$107,14,FALSE)/VLOOKUP(I96,$A$8:$H$107,8,FALSE),0),\nIF(AND(L96=\"Nul\",$N96<>$H96),40+(2*ROUNDDOWN(10*VLOOKUP(I96,$A$8:$N$107,14,FALSE)/VLOOKUP(I96,$A$8:$H$107,8,FALSE),0)-ROUNDDOWN(10*N96/$H96,0)),IF(AND(L96=\"Nul\",$N96=$H96),58,0))))","v":0},null,{"$f":"IF(P96<>\"\",VLOOKUP(P96,$A$8:$C$107,2,FALSE),\"\")","v":""},{"$f":"IF(P96<>\"\",IF(P96=$A96,\"ERR\",IF(OR(P96=$I96,P96=$W96,P96=$AD96,P96=$AK96),\"DUP\",IF(ISNA(VLOOKUP(P96,$A$8:$A$107,1,FALSE)),\"ERR\",IF(COUNTIF($I$8:$I$107,P96)>1,\"ERR\",IF($D96=VLOOKUP(P96,$A$8:$D$107,4,FALSE),\"CLUB\",\"OK\"))))),\"\")","v":""},null,{"$f":"IF(S96<>\"\",IF(S96=\"Victoire\",IF(VLOOKUP(P96,$A$8:$AO$107,19,FALSE)=\"Défaite\",\"OK\",\"ERR\"),IF(S96=\"Défaite\",IF(VLOOKUP(P96,$A$8:$AO$107,19,FALSE)=\"Victoire\",\"OK\",\"ERR\"),IF(S96=\"Nul\",IF(VLOOKUP(P96,$A$8:$AO$107,19,FALSE)=\"Nul\",\"OK\",\"ERR\")))),\"\")","v":""},null,{"$f":"IF(S96=\"Victoire\",100-ROUNDDOWN(20*U96/$H96,0),\nIF(S96=\"Défaite\",10+ROUNDDOWN(20*VLOOKUP(P96,$A$8:$AO$107,21,FALSE)/VLOOKUP(P96,$A$8:$H$107,8,FALSE),0),\nIF(AND(S96=\"Nul\",$U96<>$H96),40+(2*ROUNDDOWN(10*VLOOKUP(P96,$A$8:$AO$107,21,FALSE)/VLOOKUP(P96,$A$8:$H$107,8,FALSE),0)-ROUNDDOWN(10*U96/$H96,0)),IF(AND(S96=\"Nul\",$U96=$H96),58,0))))","v":0},null,{"$f":"IF(W96<>\"\",VLOOKUP(W96,$A$8:$C$107,2,FALSE),\"\")","v":""},{"$f":"IF(W96<>\"\",IF(W96=$A96,\"ERR\",IF(OR(W96=$P96,W96=$I96,W96=$AD96,W96=$AK96),\"DUP\",IF(ISNA(VLOOKUP(W96,$A$8:$A$107,1,FALSE)),\"ERR\",IF(COUNTIF($I$8:$I$107,W96)>1,\"ERR\",IF($D96=VLOOKUP(W96,$A$8:$D$107,4,FALSE),\"CLUB\",\"OK\"))))),\"\")","v":""},null,{"$f":"IF(Z96<>\"\",IF(Z96=\"Victoire\",IF(VLOOKUP(W96,$A$8:$AO$107,26,FALSE)=\"Défaite\",\"OK\",\"ERR\"),IF(Z96=\"Défaite\",IF(VLOOKUP(W96,$A$8:$AO$107,26,FALSE)=\"Victoire\",\"OK\",\"ERR\"),IF(Z96=\"Nul\",IF(VLOOKUP(W96,$A$8:$AO$107,26,FALSE)=\"Nul\",\"OK\",\"ERR\")))),\"\")","v":""},null,{"$f":"IF(Z96=\"Victoire\",100-ROUNDDOWN(20*AB96/$H96,0),\nIF(Z96=\"Défaite\",10+ROUNDDOWN(20*VLOOKUP(W96,$A$8:$AO$107,28,FALSE)/VLOOKUP(W96,$A$8:$H$107,8,FALSE),0),\nIF(AND(Z96=\"Nul\",$AB96<>$H96),40+(2*ROUNDDOWN(10*VLOOKUP(W96,$A$8:$AO$107,28,FALSE)/VLOOKUP(W96,$A$8:$H$107,8,FALSE),0)-ROUNDDOWN(10*AB96/$H96,0)),IF(AND(Z96=\"Nul\",$AB96=$H96),58,0))))","v":0},null,{"$f":"IF(AD96<>\"\",VLOOKUP(AD96,$A$8:$C$107,2,FALSE),\"\")","v":""},{"$f":"IF(AD96<>\"\",IF(AD96=$A96,\"ERR\",IF(OR(AD96=$P96,AD96=$W96,AD96=$I96,AD96=$AK96),\"DUP\",IF(ISNA(VLOOKUP(AD96,$A$8:$A$107,1,FALSE)),\"ERR\",IF(COUNTIF($I$8:$I$107,AD96)>1,\"ERR\",IF($D96=VLOOKUP(AD96,$A$8:$D$107,4,FALSE),\"CLUB\",\"OK\"))))),\"\")","v":""},null,{"$f":"IF(AG96<>\"\",IF(AG96=\"Victoire\",IF(VLOOKUP(AD96,$A$8:$AO$107,33,FALSE)=\"Défaite\",\"OK\",\"ERR\"),IF(AG96=\"Défaite\",IF(VLOOKUP(AD96,$A$8:$AO$107,33,FALSE)=\"Victoire\",\"OK\",\"ERR\"),IF(AG96=\"Nul\",IF(VLOOKUP(AD96,$A$8:$AO$107,33,FALSE)=\"Nul\",\"OK\",\"ERR\")))),\"\")","v":""},null,{"$f":"IF(AG96=\"Victoire\",100-ROUNDDOWN(20*AI96/$H96,0),\nIF(AG96=\"Défaite\",10+ROUNDDOWN(20*VLOOKUP(AD96,$A$8:$AO$107,35,FALSE)/VLOOKUP(AD96,$A$8:$H$107,8,FALSE),0),\nIF(AND(AG96=\"Nul\",$AI96<>$H96),40+(2*ROUNDDOWN(10*VLOOKUP(AD96,$A$8:$AO$107,35,FALSE)/VLOOKUP(AD96,$A$8:$H$107,8,FALSE),0)-ROUNDDOWN(10*AI96/$H96,0)),IF(AND(AG96=\"Nul\",$AI96=$H96),58,0))))","v":0},null,{"$f":"IF(AK96<>\"\",VLOOKUP(AK96,$A$8:$C$107,2,FALSE),\"\")","v":""},{"$f":"IF(AK96<>\"\",IF(AK96=$A96,\"ERR\",IF(OR(AK96=$P96,AK96=$W96,AK96=$AD96,AK96=$I96),\"DUP\",IF(ISNA(VLOOKUP(AK96,$A$8:$A$107,1,FALSE)),\"ERR\",IF(COUNTIF($I$8:$I$107,AK96)>1,\"ERR\",IF($D96=VLOOKUP(AK96,$A$8:$D$107,4,FALSE),\"CLUB\",\"OK\"))))),\"\")","v":""},null,{"$f":"IF(AN96<>\"\",IF(AN96=\"Victoire\",IF(VLOOKUP(AK96,$A$8:$AO$107,40,FALSE)=\"Défaite\",\"OK\",\"ERR\"),IF(AN96=\"Défaite\",IF(VLOOKUP(AK96,$A$8:$AO$107,40,FALSE)=\"Victoire\",\"OK\",\"ERR\"),IF(AN96=\"Nul\",IF(VLOOKUP(AK96,$A$8:$AO$107,40,FALSE)=\"Nul\",\"OK\",\"ERR\")))),\"\")","v":""},null,{"$f":"IF(AN96=\"Victoire\",100-ROUNDDOWN(20*AP96/$H96,0),\nIF(AN96=\"Défaite\",10+ROUNDDOWN(20*VLOOKUP(AK96,$A$8:$CB$107,42,FALSE)/VLOOKUP(AK96,$A$8:$H$107,8,FALSE),0),\nIF(AND(AN96=\"Nul\",$AP96<>$H96),40+(2*ROUNDDOWN(10*VLOOKUP(AK96,$A$8:$CB$107,42,FALSE)/VLOOKUP(AK96,$A$8:$H$107,8,FALSE),0)-ROUNDDOWN(10*AP96/$H96,0)),IF(AND(AN96=\"Nul\",$AP96=$H96),58,0))))","v":0},null,{"$f":"IF(AR96<>\"\",VLOOKUP(AR96,$A$8:$C$107,2,FALSE),\"\")","v":""},{"$f":"IF(AR96<>\"\",IF(AR96=$A96,\"ERR\",IF(OR(AR96=$I96,AR96=$P96,AR96=$W96,AR96=$AD96,AR96=$AK96),\"DUP\",IF(ISNA(VLOOKUP(AR96,$A$8:$A$107,1,FALSE)),\"ERR\",IF(COUNTIF($I$8:$I$107,AR96)>1,\"ERR\",IF($D96=VLOOKUP(AR96,$A$8:$D$107,4,FALSE),\"CLUB\",\"OK\"))))),\"\")","v":""},null,{"$f":"IF(AU96<>\"\",IF(AU96=\"Victoire\",IF(VLOOKUP(AR96,$A$8:$BL$107,47,FALSE)=\"Défaite\",\"OK\",\"ERR\"),IF(AU96=\"Défaite\",IF(VLOOKUP(AR96,$A$8:$BL$107,47,FALSE)=\"Victoire\",\"OK\",\"ERR\"),IF(AU96=\"Nul\",IF(VLOOKUP(AR96,$A$8:$BL$107,47,FALSE)=\"Nul\",\"OK\",\"ERR\")))),\"\")","v":""},null,{"$f":"IF(AU96=\"Victoire\",100-ROUNDDOWN(20*AW96/$H96,0),\nIF(AU96=\"Défaite\",10+ROUNDDOWN(20*VLOOKUP(AR96,$A$8:$CB$107,49,FALSE)/VLOOKUP(AR96,$A$8:$H$107,8,FALSE),0),\nIF(AND(AU96=\"Nul\",$AW96<>$H96),40+(2*ROUNDDOWN(10*VLOOKUP(AR96,$A$8:$CB$107,49,FALSE)/VLOOKUP(AR96,$A$8:$H$107,8,FALSE),0)-ROUNDDOWN(10*AW96/$H96,0)),IF(AND(AU96=\"Nul\",$AW96=$H96),58,0))))","v":0},null,{"$f":"IF(AY96<>\"\",VLOOKUP(AY96,$A$8:$C$107,2,FALSE),\"\")","v":""},{"$f":"IF(AY96<>\"\",IF(AY96=$A96,\"ERR\",IF(OR(AY96=$I96,AY96=$P96,AY96=$W96,AY96=$AD96,AY96=$AK96,AY96=$AR96),\"DUP\",IF(ISNA(VLOOKUP(AY96,$A$8:$A$107,1,FALSE)),\"ERR\",IF(COUNTIF($I$8:$I$107,AY96)>1,\"ERR\",IF($D96=VLOOKUP(AY96,$A$8:$D$107,4,FALSE),\"CLUB\",\"OK\"))))),\"\")","v":""},null,{"$f":"IF(BB96<>\"\",IF(BB96=\"Victoire\",IF(VLOOKUP(AY96,$A$8:$BL$107,54,FALSE)=\"Défaite\",\"OK\",\"ERR\"),IF(BB96=\"Défaite\",IF(VLOOKUP(AY96,$A$8:$BL$107,54,FALSE)=\"Victoire\",\"OK\",\"ERR\"),IF(BB96=\"Nul\",IF(VLOOKUP(AY96,$A$8:$BL$107,54,FALSE)=\"Nul\",\"OK\",\"ERR\")))),\"\")","v":""},null,{"$f":"IF(BB96=\"Victoire\",100-ROUNDDOWN(20*BD96/$H96,0),\nIF(BB96=\"Défaite\",10+ROUNDDOWN(20*VLOOKUP(AY96,$A$8:$CB$107,56,FALSE)/VLOOKUP(AY96,$A$8:$H$107,8,FALSE),0),\nIF(AND(BB96=\"Nul\",$BD96<>$H96),40+(2*ROUNDDOWN(10*VLOOKUP(AY96,$A$8:$CB$107,56,FALSE)/VLOOKUP(AY96,$A$8:$H$107,8,FALSE),0)-ROUNDDOWN(10*BD96/$H96,0)),IF(AND(BB96=\"Nul\",$BD96=$H96),58,0))))","v":0},null,{"$f":"IF(BF96<>\"\",VLOOKUP(BF96,$A$8:$C$107,2,FALSE),\"\")","v":""},{"$f":"IF(BF96<>\"\",IF(BF96=$A96,\"ERR\",IF(OR(BF96=$I96,BF96=$P96,BF96=$W96,BF96=$AD96,BF96=$AK96,BF96=$AR96,BF96=$AY96),\"DUP\",IF(ISNA(VLOOKUP(BF96,$A$8:$A$107,1,FALSE)),\"ERR\",IF(COUNTIF($I$8:$I$107,BF96)>1,\"ERR\",IF($D96=VLOOKUP(BF96,$A$8:$D$107,4,FALSE),\"CLUB\",\"OK\"))))),\"\")","v":""},null,{"$f":"IF(BI96<>\"\",IF(BI96=\"Victoire\",IF(VLOOKUP(BF96,$A$8:$BL$107,61,FALSE)=\"Défaite\",\"OK\",\"ERR\"),IF(BI96=\"Défaite\",IF(VLOOKUP(BF96,$A$8:$BL$107,61,FALSE)=\"Victoire\",\"OK\",\"ERR\"),IF(BI96=\"Nul\",IF(VLOOKUP(BF96,$A$8:$BL$107,61,FALSE)=\"Nul\",\"OK\",\"ERR\")))),\"\")","v":""},null,{"$f":"IF(BI96=\"Victoire\",100-ROUNDDOWN(20*BK96/$H96,0),\nIF(BI96=\"Défaite\",10+ROUNDDOWN(20*VLOOKUP(BF96,$A$8:$CB$107,63,FALSE)/VLOOKUP(BF96,$A$8:$H$107,8,FALSE),0),\nIF(AND(BI96=\"Nul\",$BK96<>$H96),40+(2*ROUNDDOWN(10*VLOOKUP(BF96,$A$8:$CB$107,63,FALSE)/VLOOKUP(BF96,$A$8:$H$107,8,FALSE),0)-ROUNDDOWN(10*BK96/$H96,0)),IF(AND(BI96=\"Nul\",$BK96=$H96),58,0))))","v":0},null,{"$f":"IF(BM96<>\"\",VLOOKUP(BM96,$A$8:$C$107,2,FALSE),\"\")","v":""},{"$f":"IF(BM96<>\"\",IF(BM96=$A96,\"ERR\",IF(OR(BM96=$I96,BM96=$P96,BM96=$W96,BM96=$AD96,BM96=$AK96,BM96=$AR96,BM96=$AY96,BM96=$BF96),\"DUP\",IF(ISNA(VLOOKUP(BM96,$A$8:$A$107,1,FALSE)),\"ERR\",IF(COUNTIF($I$8:$I$107,BM96)>1,\"ERR\",IF($D96=VLOOKUP(BM96,$A$8:$D$107,4,FALSE),\"CLUB\",\"OK\"))))),\"\")","v":""},null,{"$f":"IF(BP96<>\"\",IF(BP96=\"Victoire\",IF(VLOOKUP(BM96,$A$8:$BS$107,68,FALSE)=\"Défaite\",\"OK\",\"ERR\"),IF(BP96=\"Défaite\",IF(VLOOKUP(BM96,$A$8:$BS$107,68,FALSE)=\"Victoire\",\"OK\",\"ERR\"),IF(BP96=\"Nul\",IF(VLOOKUP(BM96,$A$8:$BS$107,68,FALSE)=\"Nul\",\"OK\",\"ERR\")))),\"\")","v":""},null,{"$f":"IF(BP96=\"Victoire\",100-ROUNDDOWN(20*BR96/$H96,0),\nIF(BP96=\"Défaite\",10+ROUNDDOWN(20*VLOOKUP(BM96,$A$8:$CB$107,70,FALSE)/VLOOKUP(BM96,$A$8:$H$107,8,FALSE),0),\nIF(AND(BP96=\"Nul\",$BR96<>$H96),40+(2*ROUNDDOWN(10*VLOOKUP(BM96,$A$8:$CB$107,70,FALSE)/VLOOKUP(BM96,$A$8:$H$107,8,FALSE),0)-ROUNDDOWN(10*BR96/$H96,0)),IF(AND(BP96=\"Nul\",$BR96=$H96),58,0))))","v":0},null,{"$f":"IF($I96<>\"\",VLOOKUP($I96,$A$8:$N$107,5,FALSE),0)+IF($P96<>\"\",VLOOKUP($P96,$A$8:$N$107,5,FALSE),0)+IF($W96<>\"\",VLOOKUP($W96,$A$8:$N$107,5,FALSE),0)+IF($AD96<>\"\",VLOOKUP($AD96,$A$8:$N$107,5,FALSE),0)+IF($AK96<>\"\",VLOOKUP($AK96,$A$8:$N$107,5,FALSE),0)+IF($AR96<>\"\",VLOOKUP($AR96,$A$8:$N$107,5,FALSE),0)+IF($AY96<>\"\",VLOOKUP($AY96,$A$8:$N$107,5,FALSE),0)+IF($BF96<>\"\",VLOOKUP($BF96,$A$8:$N$107,5,FALSE),0)+IF($BM96<>\"\",VLOOKUP($BM96,$A$8:$N$107,5,FALSE),0)","v":0}]
[{"$nulls":4},0,null,{"$f":"IF($F97<>\"\",VLOOKUP(F97,Armies!$A$1:$C$300,3,FALSE),\"\")","v":""},null,null,{"$f":"IF(I97<>\"\",VLOOKUP(I97,$A$8:$C$107,2,FALSE),\"\")","v":""},{"$f":"IF(I97<>\"\",IF(I97=$A97,\"ERR\",IF(OR(I97=$P97,I97=$W97,I97=$AD97,I97=$AK97),\"DUP\",IF(ISNA(VLOOKUP(I97,$A$8:$A$107,1,FALSE)),\"ERR\",IF(COUNTIF($I$8:$I$107,I97)>1,\"ERR\",IF($D97=VLOOKUP(I97,$A$8:$D$107,4,FALSE),\"CLUB\",\"OK\"))))),\"\")","v":""},null,{"$f":"IF(L97<>\"\",IF(L97=\"Victoire\",IF(VLOOKUP(I97,$A$8:$L$107,12,FALSE)=\"Défaite\",\"OK\",\"ERR\"),IF(L97=\"Défaite\",IF(VLOOKUP(I97,$A$8:$L$107,12,FALSE)=\"Victoire\",\"OK\",\"ERR\"),IF(L97=\"Nul\",IF(VLOOKUP(I97,$A$8:$L$107,12,FALSE)=\"Nul\",\"OK\",\"ERR\")))),\"\")","v":""},null,{"$f":"IF(L97=\"Victoire\",100-ROUNDDOWN(20*N97/$H97,0),\nIF(L97=\"Défaite\",10+ROUNDDOWN(20*VLOOKUP(I97,$A$8:$N$107,14,FALSE)/VLOOKUP(I97,$A$8:$H$107,8,FALSE),0),\nIF(AND(L97=\"Nul\",$N97<>$H97),40+(2*ROUNDDOWN(10*VLOOKUP(I97,$A$8:$N$107,14,FALSE)/VLOOKUP(I97,$A$8:$H$107,8,FALSE),0)-ROUNDDOWN(10*N97/$H97,0)),IF(AND(L97=\"Nul\",$N97=$H97),58,0))))","v":0},null,{"$f":"IF(P97<>\"\",VLOOKUP(P97,$A$8:$C$107,2,FALSE),\"\")","v":""},{"$f":"IF(P97<>\"\",IF(P97=$A97,\"ERR\",IF(OR(P97=$I97,P97=$W97,P97=$AD97,P97=$AK97),\"DUP\",IF(ISNA(VLOOKUP(P97,$A$8:$A$107,1,FALSE)),\"ERR\",IF(COUNTIF($I$8:$I$107,P97)>1,\"ERR\",IF($D97=VLOOKUP(P97,$A$8:$D$107,4,FALSE),\"CLUB\",\"OK\"))))),\"\")","v":""},null,{"$f":"IF(S97<>\"\",IF(S97=\"Victoire\",IF(VLOOKUP(P97,$A$8:$AO$107,19,FALSE)=\"Défaite\",\"OK\",\"ERR\"),IF(S97=\"Défaite\",IF(VLOOKUP(P97,$A$8:$AO$107,19,FALSE)=\"Victoire\",\"OK\",\"ERR\"),IF(S97=\"Nul\",IF(VLOOKUP(P97,$A$8:$AO$107,19,FALSE)=\"Nul\",\"OK\",\"ERR\")))),\"\")","v":""},null,{"$f":"IF(S97=\"Victoire\",100-ROUNDDOWN(20*U97/$H97,0),\nIF(S97=\"Défaite\",10+ROUNDDOWN(20*VLOOKUP(P97,$A$8:$AO$107,21,FALSE)/VLOOKUP(P97,$A$8:$H$107,8,FALSE),0),\nIF(AND(S97=\"Nul\",$U97<>$H97),40+(2*ROUNDDOWN(10*VLOOKUP(P97,$A$8:$AO$107,21,FALSE)/VLOOKUP(P97,$A$8:$H$107,8,FALSE),0)-ROUNDDOWN(10*U97/$H97,0)),IF(AND(S97=\"Nul\",$U97=$H97),58,0))))","v":0},null,{"$f":"IF(W97<>\"\",VLOOKUP(W97,$A$8:$C$107,2,FALSE),\"\")","v":""},{"$f":"IF(W97<>\"\",IF(W97=$A97,\"ERR\",IF(OR(W97=$P97,W97=$I97,W97=$AD97,W97=$AK97),\"DUP\",IF(ISNA(VLOOKUP(W97,$A$8:$A$107,1,FALSE)),\"ERR\",IF(COUNTIF($I$8:$I$107,W97)>1,\"ERR\",IF($D97=VLOOKUP(W97,$A$8:$D$107,4,FALSE),\"CLUB\",\"OK\"))))),\"\")","v":""},null,{"$f":"IF(Z97<>\"\",IF(Z97=\"Victoire\",IF(VLOOKUP(W97,$A$8:$AO$107,26,FALSE)=\"Défaite\",\"OK\",\"ERR\"),IF(Z97=\"Défaite\",IF(VLOOKUP(W97,$A$8:$AO$107,26,FALSE)=\"Victoire\",\"OK\",\"ERR\"),IF(Z97=\"Nul\",IF(VLOOKUP(W97,$A$8:$AO$107,26,FALSE)=\"Nul\",\"OK\",\"ERR\")))),\"\")","v":""},null,{"$f":"IF(Z97=\"Victoire\",100-ROUNDDOWN(20*AB97/$H97,0),\nIF(Z97=\"Défaite\",10+ROUNDDOWN(20*VLOOKUP(W97,$A$8:$AO$107,28,FALSE)/VLOOKUP(W97,$A$8:$H$107,8,FALSE),0),\nIF(AND(Z97=\"Nul\",$AB97<>$H97),40+(2*ROUNDDOWN(10*VLOOKUP(W97,$A$8:$AO$107,28,FALSE)/VLOOKUP(W97,$A$8:$H$107,8,FALSE),0)-ROUNDDOWN(10*AB97/$H97,0)),IF(AND(Z97=\"Nul\",$AB97=$H97),58,0))))","v":0},null,{"$f":"IF(AD97<>\"\",VLOOKUP(AD97,$A$8:$C$107,2,FALSE),\"\")","v":""},{"$f":"IF(AD97<>\"\",IF(AD97=$A97,\"ERR\",IF(OR(AD97=$P97,AD97=$W97,AD97=$I97,AD97=$AK97),\"DUP\",IF(ISNA(VLOOKUP(AD97,$A$8:$A$107,1,FALSE)),\"ERR\",IF(COUNTIF($I$8:$I$107,AD97)>1,\"ERR\",IF($D97=VLOOKUP(AD97,$A$8:$D$107,4,FALSE),\"CLUB\",\"OK\"))))),\"\")","v":""},null,{"$f":"IF(AG97<>\"\",IF(AG97=\"Victoire\",IF(VLOOKUP(AD97,$A$8:$AO$107,33,FALSE)=\"Défaite\",\"OK\",\"ERR\"),IF(AG97=\"Défaite\",IF(VLOOKUP(AD97,$A$8:$AO$107,33,FALSE)=\"Victoire\",\"OK\",\"ERR\"),IF(AG97=\"Nul\",IF(VLOOKUP(AD97,$A$8:$AO$107,33,FALSE)=\"Nul\",\"OK\",\"ERR\")))),\"\")","v":""},null,{"$f":"IF(AG97=\"Victoire\",100-ROUNDDOWN(20*AI97/$H97,0),\nIF(AG97=\"Défaite\",10+ROUNDDOWN(20*VLOOKUP(AD97,$A$8:$AO$107,35,FALSE)/VLOOKUP(AD97,$A$8:$H$107,8,FALSE),0),\nIF(AND(AG97=\"Nul\",$AI97<>$H97),40+(2*ROUNDDOWN(10*VLOOKUP(AD97,$A$8:$AO$107,35,FALSE)/VLOOKUP(AD97,$A$8:$H$107,8,FALSE),0)-ROUNDDOWN(10*AI97/$H97,0)),IF(AND(AG97=\"Nul\",$AI97=$H97),58,0))))","v":0},null,{"$f":"IF(AK97<>\"\",VLOOKUP(AK97,$A$8:$C$107,2,FALSE),\"\")","v":""},{"$f":"IF(AK97<>\"\",IF(AK97=$A97,\"ERR\",IF(OR(AK97=$P97,AK97=$W97,AK97=$AD97,AK97=$I97),\"DUP\",IF(ISNA(VLOOKUP(AK97,$A$8:$A$107,1,FALSE)),\"ERR\",IF(COUNTIF($I$8:$I$107,AK97)>1,\"ERR\",IF($D97=VLOOKUP(AK97,$A$8:$D$107,4,FALSE),\"CLUB\",\"OK\"))))),\"\")","v":""},null,{"$f":"IF(AN97<>\"\",IF(AN97=\"Victoire\",IF(VLOOKUP(AK97,$A$8:$AO$107,40,FALSE)=\"Défaite\",\"OK\",\"ERR\"),IF(AN97=\"Défaite\",IF(VLOOKUP(AK97,$A$8:$AO$107,40,FALSE)=\"Victoire\",\"OK\",\"ERR\"),IF(AN97=\"Nul\",IF(VLOOKUP(AK97,$A$8:$AO$107,40,FALSE)=\"Nul\",\"OK\",\"ERR\")))),\"\")","v":""},null,{"$f":"IF(AN97=\"Victoire\",100-ROUNDDOWN(20*AP97/$H97,0),\nIF(AN97=\"Défaite\",10+ROUNDDOWN(20*VLOOKUP(AK97,$A$8:$CB$107,42,FALSE)/VLOOKUP(AK97,$A$8:$H$107,8,FALSE),0),\nIF(AND(AN97=\"Nul\",$AP97<>$H97),40+(2*ROUNDDOWN(10*VLOOKUP(AK97,$A$8:$CB$107,42,FALSE)/VLOOKUP(AK97,$A$8:$H$107,8,FALSE),0)-ROUNDDOWN(10*AP97/$H97,0)),IF(AND(AN97=\"Nul\",$AP97=$H97),58,0))))","v":0},null,{"$f":"IF(AR97<>\"\",VLOOKUP(AR97,$A$8:$C$107,2,FALSE),\"\")","v":""},{"$f":"IF(AR97<>\"\",IF(AR97=$A97,\"ERR\",IF(OR(AR97=$I97,AR97=$P97,AR97=$W97,AR97=$AD97,AR97=$AK97),\"DUP\",IF(ISNA(VLOOKUP(AR97,$A$8:$A$107,1,FALSE)),\"ERR\",IF(COUNTIF($I$8:$I$107,AR97)>1,\"ERR\",IF($D97=VLOOKUP(AR97,$A$8:$D$107,4,FALSE),\"CLUB\",\"OK\"))))),\"\")","v":""},null,{"$f":"IF(AU97<>\"\",IF(AU97=\"Victoire\",IF(VLOOKUP(AR97,$A$8:$BL$107,47,FALSE)=\"Défaite\",\"OK\",\"ERR\"),IF(AU97=\"Défaite\",IF(VLOOKUP(AR97,$A$8:$BL$107,47,FALSE)=\"Victoire\",\"OK\",\"ERR\"),IF(AU97=\"Nul\",IF(VLOOKUP(AR97,$A$8:$BL$107,47,FALSE)=\"Nul\",\"OK\",\"ERR\")))),\"\")","v":""},null,{"$f":"IF(AU97=\"Victoire\",100-ROUNDDOWN(20*AW97/$H97,0),\nIF(AU97=\"Défaite\",10+ROUNDDOWN(20*VLOOKUP(AR97,$A$8:$CB$107,49,FALSE)/VLOOKUP(AR97,$A$8:$H$107,8,FALSE),0),\nIF(AND(AU97=\"Nul\",$AW97<>$H97),40+(2*ROUNDDOWN(10*VLOOKUP(AR97,$A$8:$CB$107,49,FALSE)/VLOOKUP(AR97,$A$8:$H$107,8,FALSE),0)-ROUNDDOWN(10*AW97/$H97,0)),IF(AND(AU97=\"Nul\",$AW97=$H97),58,0))))","v":0},null,{"$f":"IF(AY97<>\"\",VLOOKUP(AY97,$A$8:$C$107,2,FALSE),\"\")","v":""},{"$f":"IF(AY97<>\"\",IF(AY97=$A97,\"ERR\",IF(OR(AY97=$I97,AY97=$P97,AY97=$W97,AY97=$AD97,AY97=$AK97,AY97=$AR97),\"DUP\",IF(ISNA(VLOOKUP(AY97,$A$8:$A$107,1,FALSE)),\"ERR\",IF(COUNTIF($I$8:$I$107,AY97)>1,\"ERR\",IF($D97=VLOOKUP(AY97,$A$8:$D$107,4,FALSE),\"CLUB\",\"OK\"))))),\"\")","v":""},null,{"$f":"IF(BB97<>\"\",IF(BB97=\"Victoire\",IF(VLOOKUP(AY97,$A$8:$BL$107,54,FALSE)=\"Défaite\",\"OK\",\"ERR\"),IF(BB97=\"Défaite\",IF(VLOOKUP(AY97,$A$8:$BL$107,54,FALSE)=\"Victoire\",\"OK\",\"ERR\"),IF(BB97=\"Nul\",IF(VLOOKUP(AY97,$A$8:$BL$107,54,FALSE)=\"Nul\",\"OK\",\"ERR\")))),\"\")","v":""},null,{"$f":"IF(BB97=\"Victoire\",100-ROUNDDOWN(20*BD97/$H97,0),\nIF(BB97=\"Défaite\",10+ROUNDDOWN(20*VLOOKUP(AY97,$A$8:$CB$107,56,FALSE)/VLOOKUP(AY97,$A$8:$H$107,8,FALSE),0),\nIF(AND(BB97=\"Nul\",$BD97<>$H97),40+(2*ROUNDDOWN(10*VLOOKUP(AY97,$A$8:$CB$107,56,FALSE)/VLOOKUP(AY97,$A$8:$H$107,8,FALSE),0)-ROUNDDOWN(10*BD97/$H97,0)),IF(AND(BB97=\"Nul\",$BD97=$H97),58,0))))","v":0},null,{"$f":"IF(BF97<>\"\",VLOOKUP(BF97,$A$8:$C$107,2,FALSE),\"\")","v":""},{"$f":"IF(BF97<>\"\",IF(BF97=$A97,\"ERR\",IF(OR(BF97=$I97,BF97=$P97,BF97=$W97,BF97=$AD97,BF97=$AK97,BF97=$AR97,BF97=$AY97),\"DUP\",IF(ISNA(VLOOKUP(BF97,$A$8:$A$107,1,FALSE)),\"ERR\",IF(COUNTIF($I$8:$I$107,BF97)>1,\"ERR\",IF($D97=VLOOKUP(BF97,$A$8:$D$107,4,FALSE),\"CLUB\",\"OK\"))))),\"\")","v":""},null,{"$f":"IF(BI97<>\"\",IF(BI97=\"Victoire\",IF(VLOOKUP(BF97,$A$8:$BL$107,61,FALSE)=\"Défaite\",\"OK\",\"ERR\"),IF(BI97=\"Défaite\",IF(VLOOKUP(BF97,$A$8:$BL$107,61,FALSE)=\"Victoire\",\"OK\",\"ERR\"),IF(BI97=\"Nul\",IF(VLOOKUP(BF97,$A$8:$BL$107,61,FALSE)=\"Nul\",\"OK\",\"ERR\")))),\"\")","v":""},null,{"$f":"IF(BI97=\"Victoire\",100-ROUNDDOWN(20*BK97/$H97,0),\nIF(BI97=\"Défaite\",10+ROUNDDOWN(20*VLOOKUP(BF97,$A$8:$CB$107,63,FALSE)/VLOOKUP(BF97,$A$8:$H$107,8,FALSE),0),\nIF(AND(BI97=\"Nul\",$BK97<>$H97),40+(2*ROUNDDOWN(10*VLOOKUP(BF97,$A$8:$CB$107,63,FALSE)/VLOOKUP(BF97,$A$8:$H$107,8,FALSE),0)-ROUNDDOWN(10*BK97/$H97,0)),IF(AND(BI97=\"Nul\",$BK97=$H97),58,0))))","v":0},null,{"$f":"IF(BM97<>\"\",VLOOKUP(BM97,$A$8:$C$107,2,FALSE),\"\")","v":""},{"$f":"IF(BM97<>\"\",IF(BM97=$A97,\"ERR\",IF(OR(BM97=$I97,BM97=$P97,BM97=$W97,BM97=$AD97,BM97=$AK97,BM97=$AR97,BM97=$AY97,BM97=$BF97),\"DUP\",IF(ISNA(VLOOKUP(BM97,$A$8:$A$107,1,FALSE)),\"ERR\",IF(COUNTIF($I$8:$I$107,BM97)>1,\"ERR\",IF($D97=VLOOKUP(BM97,$A$8:$D$107,4,FALSE),\"CLUB\",\"OK\"))))),\"\")","v":""},null,{"$f":"IF(BP97<>\"\",IF(BP97=\"Victoire\",IF(VLOOKUP(BM97,$A$8:$BS$107,68,FALSE)=\"Défaite\",\"OK\",\"ERR\"),IF(BP97=\"Défaite\",IF(VLOOKUP(BM97,$A$8:$BS$107,68,FALSE)=\"Victoire\",\"OK\",\"ERR\"),IF(BP97=\"Nul\",IF(VLOOKUP(BM97,$A$8:$BS$107,68,FALSE)=\"Nul\",\"OK\",\"ERR\")))),\"\")","v":""},null,{"$f":"IF(BP97=\"Victoire\",100-ROUNDDOWN(20*BR97/$H97,0),\nIF(BP97=\"Défaite\",10+ROUNDDOWN(20*VLOOKUP(BM97,$A$8:$CB$107,70,FALSE)/VLOOKUP(BM97,$A$8:$H$107,8,FALSE),0),\nIF(AND(BP97=\"Nul\",$BR97<>$H97),40+(2*ROUNDDOWN(10*VLOOKUP(BM97,$A$8:$CB$107,70,FALSE)/VLOOKUP(BM97,$A$8:$H$107,8,FALSE),0)-ROUNDDOWN(10*BR97/$H97,0)),IF(AND(BP97=\"Nul\",$BR97=$H97),58,0))))","v":0},null,{"$f":"IF($I97<>\"\",VLOOKUP($I97,$A$8:$N$107,5,FALSE),0)+IF($P97<>\"\",VLOOKUP($P97,$A$8:$N$107,5,FALSE),0)+IF($W97<>\"\",VLOOKUP($W97,$A$8:$N$107,5,FALSE),0)+IF($AD97<>\"\",VLOOKUP($AD97,$A$8:$N$107,5,FALSE),0)+IF($AK97<>\"\",VLOOKUP($AK97,$A$8:$N$107,5,FALSE),0)+IF($AR97<>\"\",VLOOKUP($AR97,$A$8:$N$107,5,FALSE),0)+IF($AY97<>\"\",VLOOKUP($AY97,$A$8:$N$107,5,FALSE),0)+IF($BF97<>\"\",VLOOKUP($BF97,$A$8:$N$107,5,FALSE),0)+IF($BM97<>\"\",VLOOKUP($BM97,$A$8:$N$107,5,FALSE),0)","v":0}]
[{"$nulls":4},0,null,{"$f":"IF($F98<>\"\",VLOOKUP(F98,Armies!$A$1:$C$300,3,FALSE),\"\")","v":""},null,null,{"$f":"IF(I98<>\"\",VLOOKUP(I98,$A$8:$C$107,2,FALSE),\"\")","v":""},{"$f":"IF(I98<>\"\",IF(I98=$A98,\"ERR\",IF(OR(I98=$P98,I98=$W98,I98=$AD98,I98=$AK98),\"DUP\",IF(ISNA(VLOOKUP(I98,$A$8:$A$107,1,FALSE)),\"ERR\",IF(COUNTIF($I$8:$I$107,I98)>1,\"ERR\",IF($D98=VLOOKUP(I98,$A$8:$D$107,4,FALSE),\"CLUB\",\"OK\"))))),\"\")","v":""},null,{"$f":"IF(L98<>\"\",IF(L98=\"Victoire\",IF(VLOOKUP(I98,$A$8:$L$107,12,FALSE)=\"Défaite\",\"OK\",\"ERR\"),IF(L98=\"Défaite\",IF(VLOOKUP(I98,$A$8:$L$107,12,FALSE)=\"Victoire\",\"OK\",\"ERR\"),IF(L98=\"Nul\",IF(VLOOKUP(I98,$A$8:$L$107,12,FALSE)=\"Nul\",\"OK\",\"ERR\")))),\"\")","v":""},null,{"$f":"IF(L98=\"Victoire\",100-ROUNDDOWN(20*N98/$H98,0),\nIF(L98=\"Défaite\",10+ROUNDDOWN(20*VLOOKUP(I98,$A$8:$N$107,14,FALSE)/VLOOKUP(I98,$A$8:$H$107,8,FALSE),0),\nIF(AND(L98=\"Nul\",$N98<>$H98),40+(2*ROUNDDOWN(10*VLOOKUP(I98,$A$8:$N$107,14,FALSE)/VLOOKUP(I98,$A$8:$H$107,8,FALSE),0)-ROUNDDOWN(10*N98/$H98,0)),IF(AND(L98=\"Nul\",$N98=$H98),58,0))))","v":0},null,{"$f":"IF(P98<>\"\",VLOOKUP(P98,$A$8:$C$107,2,FALSE),\"\")","v":""},{"$f":"IF(P98<>\"\",IF(P98=$A98,\"ERR\",IF(OR(P98=$I98,P98=$W98,P98=$AD98,P98=$AK98),\"DUP\",IF(ISNA(VLOOKUP(P98,$A$8:$A$107,1,FALSE)),\"ERR\",IF(COUNTIF($I$8:$I$107,P98)>1,\"ERR\",IF($D98=VLOOKUP(P98,$A$8:$D$107,4,FALSE),\"CLUB\",\"OK\"))))),\"\")","v":""},null,{"$f":"IF(S98<>\"\",IF(S98=\"Victoire\",IF(VLOOKUP(P98,$A$8:$AO$107,19,FALSE)=\"Défaite\",\"OK\",\"ERR\"),IF(S98=\"Défaite\",IF(VLOOKUP(P98,$A$8:$AO$107,19,FALSE)=\"Victoire\",\"OK\",\"ERR\"),IF(S98=\"Nul\",IF(VLOOKUP(P98,$A$8:$AO$107,19,FALSE)=\"Nul\",\"OK\",\"ERR\")))),\"\")","v":""},null,{"$f":"IF(S98=\"Victoire\",100-ROUNDDOWN(20*U98/$H98,0),\nIF(S98=\"Défaite\",10+ROUNDDOWN(20*VLOOKUP(P98,$A$8:$AO$107,21,FALSE)/VLOOKUP(P98,$A$8:$H$107,8,FALSE),0),\nIF(AND(S98=\"Nul\",$U98<>$H98),40+(2*ROUNDDOWN(10*VLOOKUP(P98,$A$8:$AO$107,21,FALSE)/VLOOKUP(P98,$A$8:$H$107,8,FALSE),0)-ROUNDDOWN(10*U98/$H98,0)),IF(AND(S98=\"Nul\",$U98=$H98),58,0))))","v":0},null,{"$f":"IF(W98<>\"\",VLOOKUP(W98,$A$8:$C$107,2,FALSE),\"\")","v":""},{"$f":"IF(W98<>\"\",IF(W98=$A98,\"ERR\",IF(OR(W98=$P98,W98=$I98,W98=$AD98,W98=$AK98),\"DUP\",IF(ISNA(VLOOKUP(W98,$A$8:$A$107,1,FALSE)),\"ERR\",IF(COUNTIF($I$8:$I$107,W98)>1,\"ERR\",IF($D98=VLOOKUP(W98,$A$8:$D$107,4,FALSE),\"CLUB\",\"OK\"))))),\"\")","v":""},null,{"$f":"IF(Z98<>\"\",IF(Z98=\"Victoire\",IF(VLOOKUP(W98,$A$8:$AO$107,26,FALSE)=\"Défaite\",\"OK\",\"ERR\"),IF(Z98=\"Défaite\",IF(VLOOKUP(W98,$A$8:$AO$107,26,FALSE)=\"Victoire\",\"OK\",\"ERR\"),IF(Z98=\"Nul\",IF(VLOOKUP(W98,$A$8:$AO$107,26,FALSE)=\"Nul\",\"OK\",\"ERR\")))),\"\")","v":""},null,{"$f":"IF(Z98=\"Victoire\",100-ROUNDDOWN(20*AB98/$H98,0),\nIF(Z98=\"Défaite\",10+ROUNDDOWN(20*VLOOKUP(W98,$A$8:$AO$107,28,FALSE)/VLOOKUP(W98,$A$8:$H$107,8,FALSE),0),\nIF(AND(Z98=\"Nul\",$AB98<>$H98),40+(2*ROUNDDOWN(10*VLOOKUP(W98,$A$8:$AO$107,28,FALSE)/VLOOKUP(W98,$A$8:$H$107,8,FALSE),0)-ROUNDDOWN(10*AB98/$H98,0)),IF(AND(Z98=\"Nul\",$AB98=$H98),58,0))))","v":0},null,{"$f":"IF(AD98<>\"\",VLOOKUP(AD98,$A$8:$C$107,2,FALSE),\"\")","v":""},{"$f":"IF(AD98<>\"\",IF(AD98=$A98,\"ERR\",IF(OR(AD98=$P98,AD98=$W98,AD98=$I98,AD98=$AK98),\"DUP\",IF(ISNA(VLOOKUP(AD98,$A$8:$A$107,1,FALSE)),\"ERR\",IF(COUNTIF($I$8:$I$107,AD98)>1,\"ERR\",IF($D98=VLOOKUP(AD98,$A$8:$D$107,4,FALSE),\"CLUB\",\"OK\"))))),\"\")","v":""},null,{"$f":"IF(AG98<>\"\",IF(AG98=\"Victoire\",IF(VLOOKUP(AD98,$A$8:$AO$107,33,FALSE)=\"Défaite\",\"OK\",\"ERR\"),IF(AG98=\"Défaite\",IF(VLOOKUP(AD98,$A$8:$AO$107,33,FALSE)=\"Victoire\",\"OK\",\"ERR\"),IF(AG98=\"Nul\",IF(VLOOKUP(AD98,$A$8:$AO$107,33,FALSE)=\"Nul\",\"OK\",\"ERR\")))),\"\")","v":""},null,{"$f":"IF(AG98=\"Victoire\",100-ROUNDDOWN(20*AI98/$H98,0),\nIF(AG98=\"Défaite\",10+ROUNDDOWN(20*VLOOKUP(AD98,$A$8:$AO$107,35,FALSE)/VLOOKUP(AD98,$A$8:$H$107,8,FALSE),0),\nIF(AND(AG98=\"Nul\",$AI98<>$H98),40+(2*ROUNDDOWN(10*VLOOKUP(AD98,$A$8:$AO$107,35,FALSE)/VLOOKUP(AD98,$A$8:$H$107,8,FALSE),0)-ROUNDDOWN(10*AI98/$H98,0)),IF(AND(AG98=\"Nul\",$AI98=$H98),58,0))))","v":0},null,{"$f":"IF(AK98<>\"\",VLOOKUP(AK98,$A$8:$C$107,2,FALSE),\"\")","v":""},{"$f":"IF(AK98<>\"\",IF(AK98=$A98,\"ERR\",IF(OR(AK98=$P98,AK98=$W98,AK98=$AD98,AK98=$I98),\"DUP\",IF(ISNA(VLOOKUP(AK98,$A$8:$A$107,1,FALSE)),\"ERR\",IF(COUNTIF($I$8:$I$107,AK98)>1,\"ERR\",IF($D98=VLOOKUP(AK98,$A$8:$D$107,4,FALSE),\"CLUB\",\"OK\"))))),\"\")","v":""},null,{"$f":"IF(AN98<>\"\",IF(AN98=\"Victoire\",IF(VLOOKUP(AK98,$A$8:$AO$107,40,FALSE)=\"Défaite\",\"OK\",\"ERR\"),IF(AN98=\"Défaite\",IF(VLOOKUP(AK98,$A$8:$AO$107,40,FALSE)=\"Victoire\",\"OK\",\"ERR\"),IF(AN98=\"Nul\",IF(VLOOKUP(AK98,$A$8:$AO$107,40,FALSE)=\"Nul\",\"OK\",\"ERR\")))),\"\")","v":""},null,{"$f":"IF(AN98=\"Victoire\",100-ROUNDDOWN(20*AP98/$H98,0),\nIF(AN98=\"Défaite\",10+ROUNDDOWN(20*VLOOKUP(AK98,$A$8:$CB$107,42,FALSE)/VLOOKUP(AK98,$A$8:$H$107,8,FALSE),0),\nIF(AND(AN98=\"Nul\",$AP98<>$H98),40+(2*ROUNDDOWN(10*VLOOKUP(AK98,$A$8:$CB$107,42,FALSE)/VLOOKUP(AK98,$A$8:$H$107,8,FALSE),0)-ROUNDDOWN(10*AP98/$H98,0)),IF(AND(AN98=\"Nul\",$AP98=$H98),58,0))))","v":0},null,{"$f":"IF(AR98<>\"\",VLOOKUP(AR98,$A$8:$C$107,2,FALSE),\"\")","v":""},{"$f":"IF(AR98<>\"\",IF(AR98=$A98,\"ERR\",IF(OR(AR98=$I98,AR98=$P98,AR98=$W98,AR98=$AD98,AR98=$AK98),\"DUP\",IF(ISNA(VLOOKUP(AR98,$A$8:$A$107,1,FALSE)),\"ERR\",IF(COUNTIF($I$8:$I$107,AR98)>1,\"ERR\",IF($D98=VLOOKUP(AR98,$A$8:$D$107,4,FALSE),\"CLUB\",\"OK\"))))),\"\")","v":""},null,{"$f":"IF(AU98<>\"\",IF(AU98=\"Victoire\",IF(VLOOKUP(AR98,$A$8:$BL$107,47,FALSE)=\"Défaite\",\"OK\",\"ERR\"),IF(AU98=\"Défaite\",IF(VLOOKUP(AR98,$A$8:$BL$107,47,FALSE)=\"Victoire\",\"OK\",\"ERR\"),IF(AU98=\"Nul\",IF(VLOOKUP(AR98,$A$8:$BL$107,47,FALSE)=\"Nul\",\"OK\",\"ERR\")))),\"\")","v":""},null,{"$f":"IF(AU98=\"Victoire\",100-ROUNDDOWN(20*AW98/$H98,0),\nIF(AU98=\"Défaite\",10+ROUNDDOWN(20*VLOOKUP(AR98,$A$8:$CB$107,49,FALSE)/VLOOKUP(AR98,$A$8:$H$107,8,FALSE),0),\nIF(AND(AU98=\"Nul\",$AW98<>$H98),40+(2*ROUNDDOWN(10*VLOOKUP(AR98,$A$8:$CB$107,49,FALSE)/VLOOKUP(AR98,$A$8:$H$107,8,FALSE),0)-ROUNDDOWN(10*AW98/$H98,0)),IF(AND(AU98=\"Nul\",$AW98=$H98),58,0))))","v":0},null,{"$f":"IF(AY98<>\"\",VLOOKUP(AY98,$A$8:$C$107,2,FALSE),\"\")","v":""},{"$f":"IF(AY98<>\"\",IF(AY98=$A98,\"ERR\",IF(OR(AY98=$I98,AY98=$P98,AY98=$W98,AY98=$AD98,AY98=$AK98,AY98=$AR98),\"DUP\",IF(ISNA(VLOOKUP(AY98,$A$8:$A$107,1,FALSE)),\"ERR\",IF(COUNTIF($I$8:$I$107,AY98)>1,\"ERR\",IF($D98=VLOOKUP(AY98,$A$8:$D$107,4,FALSE),\"CLUB\",\"OK\"))))),\"\")","v":""},null,{"$f":"IF(BB98<>\"\",IF(BB98=\"Victoire\",IF(VLOOKUP(AY98,$A$8:$BL$107,54,FALSE)=\"Défaite\",\"OK\",\"ERR\"),IF(BB98=\"Défaite\",IF(VLOOKUP(AY98,$A$8:$BL$107,54,FALSE)=\"Victoire\",\"OK\",\"ERR\"),IF(BB98=\"Nul\",IF(VLOOKUP(AY98,$A$8:$BL$107,54,FALSE)=\"Nul\",\"OK\",\"ERR\")))),\"\")","v":""},null,{"$f":"IF(BB98=\"Victoire\",100-ROUNDDOWN(20*BD98/$H98,0),\nIF(BB98=\"Défaite\",10+ROUNDDOWN(20*VLOOKUP(AY98,$A$8:$CB$107,56,FALSE)/VLOOKUP(AY98,$A$8:$H$107,8,FALSE),0),\nIF(AND(BB98=\"Nul\",$BD98<>$H98),40+(2*ROUNDDOWN(10*VLOOKUP(AY98,$A$8:$CB$107,56,FALSE)/VLOOKUP(AY98,$A$8:$H$107,8,FALSE),0)-ROUNDDOWN(10*BD98/$H98,0)),IF(AND(BB98=\"Nul\",$BD98=$H98),58,0))))","v":0},null,{"$f":"IF(BF98<>\"\",VLOOKUP(BF98,$A$8:$C$107,2,FALSE),\"\")","v":""},{"$f":"IF(BF98<>\"\",IF(BF98=$A98,\"ERR\",IF(OR(BF98=$I98,BF98=$P98,BF98=$W98,BF98=$AD98,BF98=$AK98,BF98=$AR98,BF98=$AY98),\"DUP\",IF(ISNA(VLOOKUP(BF98,$A$8:$A$107,1,FALSE)),\"ERR\",IF(COUNTIF($I$8:$I$107,BF98)>1,\"ERR\",IF($D98=VLOOKUP(BF98,$A$8:$D$107,4,FALSE),\"CLUB\",\"OK\"))))),\"\")","v":""},null,{"$f":"IF(BI98<>\"\",IF(BI98=\"Victoire\",IF(VLOOKUP(BF98,$A$8:$BL$107,61,FALSE)=\"Défaite\",\"OK\",\"ERR\"),IF(BI98=\"Défaite\",IF(VLOOKUP(BF98,$A$8:$BL$107,61,FALSE)=\"Victoire\",\"OK\",\"ERR\"),IF(BI98=\"Nul\",IF(VLOOKUP(BF98,$A$8:$BL$107,61,FALSE)=\"Nul\",\"OK\",\"ERR\")))),\"\")","v":""},null,{"$f":"IF(BI98=\"Victoire\",100-ROUNDDOWN(20*BK98/$H98,0),\nIF(BI98=\"Défaite\",10+ROUNDDOWN(20*VLOOKUP(BF98,$A$8:$CB$107,63,FALSE)/VLOOKUP(BF98,$A$8:$H$107,8,FALSE),0),\nIF(AND(BI98=\"Nul\",$BK98<>$H98),40+(2*ROUNDDOWN(10*VLOOKUP(BF98,$A$8:$CB$107,63,FALSE)/VLOOKUP(BF98,$A$8:$H$107,8,FALSE),0)-ROUNDDOWN(10*BK98/$H98,0)),IF(AND(BI98=\"Nul\",$BK98=$H98),58,0))))","v":0},null,{"$f":"IF(BM98<>\"\",VLOOKUP(BM98,$A$8:$C$107,2,FALSE),\"\")","v":""},{"$f":"IF(BM98<>\"\",IF(BM98=$A98,\"ERR\",IF(OR(BM98=$I98,BM98=$P98,BM98=$W98,BM98=$AD98,BM98=$AK98,BM98=$AR98,BM98=$AY98,BM98=$BF98),\"DUP\",IF(ISNA(VLOOKUP(BM98,$A$8:$A$107,1,FALSE)),\"ERR\",IF(COUNTIF($I$8:$I$107,BM98)>1,\"ERR\",IF($D98=VLOOKUP(BM98,$A$8:$D$107,4,FALSE),\"CLUB\",\"OK\"))))),\"\")","v":""},null,{"$f":"IF(BP98<>\"\",IF(BP98=\"Victoire\",IF(VLOOKUP(BM98,$A$8:$BS$107,68,FALSE)=\"Défaite\",\"OK\",\"ERR\"),IF(BP98=\"Défaite\",IF(VLOOKUP(BM98,$A$8:$BS$107,68,FALSE)=\"Victoire\",\"OK\",\"ERR\"),IF(BP98=\"Nul\",IF(VLOOKUP(BM98,$A$8:$BS$107,68,FALSE)=\"Nul\",\"OK\",\"ERR\")))),\"\")","v":""},null,{"$f":"IF(BP98=\"Victoire\",100-ROUNDDOWN(20*BR98/$H98,0),\nIF(BP98=\"Défaite\",10+ROUNDDOWN(20*VLOOKUP(BM98,$A$8:$CB$107,70,FALSE)/VLOOKUP(BM98,$A$8:$H$107,8,FALSE),0),\nIF(AND(BP98=\"Nul\",$BR98<>$H98),40+(2*ROUNDDOWN(10*VLOOKUP(BM98,$A$8:$CB$107,70,FALSE)/VLOOKUP(BM98,$A$8:$H$107,8,FALSE),0)-ROUNDDOWN(10*BR98/$H98,0)),IF(AND(BP98=\"Nul\",$BR98=$H98),58,0))))","v":0},null,{"$f":"IF($I98<>\"\",VLOOKUP($I98,$A$8:$N$107,5,FALSE),0)+IF($P98<>\"\",VLOOKUP($P98,$A$8:$N$107,5,FALSE),0)+IF($W98<>\"\",VLOOKUP($W98,$A$8:$N$107,5,FALSE),0)+IF($AD98<>\"\",VLOOKUP($AD98,$A$8:$N$107,5,FALSE),0)+IF($AK98<>\"\",VLOOKUP($AK98,$A$8:$N$107,5,FALSE),0)+IF($AR98<>\"\",VLOOKUP($AR98,$A$8:$N$107,5,FALSE),0)+IF($AY98<>\"\",VLOOKUP($AY98,$A$8:$N$107,5,FALSE),0)+IF($BF98<>\"\",VLOOKUP($BF98,$A$8:$N$107,5,FALSE),0)+IF($BM98<>\"\",VLOOKUP($BM98,$A$8:$N$107,5,FALSE),0)","v":0}]
[{"$nulls":4},0,null,{"$f":"IF($F99<>\"\",VLOOKUP(F99,Armies!$A$1:$C$300,3,FALSE),\"\")","v":""},null,null,{"$f":"IF(I99<>\"\",VLOOKUP(I99,$A$8:$C$107,2,FALSE),\"\")","v":""},{"$f":"IF(I99<>\"\",IF(I99=$A99,\"ERR\",IF(OR(I99=$P99,I99=$W99,I99=$AD99,I99=$AK99),\"DUP\",IF(ISNA(VLOOKUP(I99,$A$8:$A$107,1,FALSE)),\"ERR\",IF(COUNTIF($I$8:$I$107,I99)>1,\"ERR\",IF($D99=VLOOKUP(I99,$A$8:$D$107,4,FALSE),\"CLUB\",\"OK\"))))),\"\")","v":""},null,{"$f":"IF(L99<>\"\",IF(L99=\"Victoire\",IF(VLOOKUP(I99,$A$8:$L$107,12,FALSE)=\"Défaite\",\"OK\",\"ERR\"),IF(L99=\"Défaite\",IF(VLOOKUP(I99,$A$8:$L$107,12,FALSE)=\"Victoire\",\"OK\",\"ERR\"),IF(L99=\"Nul\",IF(VLOOKUP(I99,$A$8:$L$107,12,FALSE)=\"Nul\",\"OK\",\"ERR\")))),\"\")","v":""},null,{"$f":"IF(L99=\"Victoire\",100-ROUNDDOWN(20*N99/$H99,0),\nIF(L99=\"Défaite\",10+ROUNDDOWN(20*VLOOKUP(I99,$A$8:$N$107,14,FALSE)/VLOOKUP(I99,$A$8:$H$107,8,FALSE),0),\nIF(AND(L99=\"Nul\",$N99<>$H99),40+(2*ROUNDDOWN(10*VLOOKUP(I99,$A$8:$N$107,14,FALSE)/VLOOKUP(I99,$A$8:$H$107,8,FALSE),0)-ROUNDDOWN(10*N99/$H99,0)),IF(AND(L99=\"Nul\",$N99=$H99),58,0))))","v":0},null,{"$f":"IF(P99<>\"\",VLOOKUP(P99,$A$8:$C$107,2,FALSE),\"\")","v":""},{"$f":"IF(P99<>\"\",IF(P99=$A99,\"ERR\",IF(OR(P99=$I99,P99=$W99,P99=$AD99,P99=$AK99),\"DUP\",IF(ISNA(VLOOKUP(P99,$A$8:$A$107,1,FALSE)),\"ERR\",IF(COUNTIF($I$8:$I$107,P99)>1,\"ERR\",IF($D99=VLOOKUP(P99,$A$8:$D$107,4,FALSE),\"CLUB\",\"OK\"))))),\"\")","v":""},null,{"$f":"IF(S99<>\"\",IF(S99=\"Victoire\",IF(VLOOKUP(P99,$A$8:$AO$107,19,FALSE)=\"Défaite\",\"OK\",\"ERR\"),IF(S99=\"Défaite\",IF(VLOOKUP(P99,$A$8:$AO$107,19,FALSE)=\"Victoire\",\"OK\",\"ERR\"),IF(S99=\"Nul\",IF(VLOOKUP(P99,$A$8:$AO$107,19,FALSE)=\"Nul\",\"OK\",\"ERR\")))),\"\")","v":""},null,{"$f":"IF(S99=\"Victoire\",100-ROUNDDOWN(20*U99/$H99,0),\nIF(S99=\"Défaite\",10+ROUNDDOWN(20*VLOOKUP(P99,$A$8:$AO$107,21,FALSE)/VLOOKUP(P99,$A$8:$H$107,8,FALSE),0),\nIF(AND(S99=\"Nul\",$U99<>$H99),40+(2*ROUNDDOWN(10*VLOOKUP(P99,$A$8:$AO$107,21,FALSE)/VLOOKUP(P99,$A$8:$H$107,8,FALSE),0)-ROUNDDOWN(10*U99/$H99,0)),IF(AND(S99=\"Nul\",$U99=$H99),58,0))))","v":0},null,{"$f":"IF(W99<>\"\",VLOOKUP(W99,$A$8:$C$107,2,FALSE),\"\")","v":""},{"$f":"IF(W99<>\"\",IF(W99=$A99,\"ERR\",IF(OR(W99=$P99,W99=$I99,W99=$AD99,W99=$AK99),\"DUP\",IF(ISNA(VLOOKUP(W99,$A$8:$A$107,1,FALSE)),\"ERR\",IF(COUNTIF($I$8:$I$107,W99)>1,\"ERR\",IF($D99=VLOOKUP(W99,$A$8:$D$107,4,FALSE),\"CLUB\",\"OK\"))))),\"\")","v":""},null,{"$f":"IF(Z99<>\"\",IF(Z99=\"Victoire\",IF(VLOOKUP(W99,$A$8:$AO$107,26,FALSE)=\"Défaite\",\"OK\",\"ERR\"),IF(Z99=\"Défaite\",IF(VLOOKUP(W99,$A$8:$AO$107,26,FALSE)=\"Victoire\",\"OK\",\"ERR\"),IF(Z99=\"Nul\",IF(VLOOKUP(W99,$A$8:$AO$107,26,FALSE)=\"Nul\",\"OK\",\"ERR\")))),\"\")","v":""},null,{"$f":"IF(Z99=\"Victoire\",100-ROUNDDOWN(20*AB99/$H99,0),\nIF(Z99=\"Défaite\",10+ROUNDDOWN(20*VLOOKUP(W99,$A$8:$AO$107,28,FALSE)/VLOOKUP(W99,$A$8:$H$107,8,FALSE),0),\nIF(AND(Z99=\"Nul\",$AB99<>$H99),40+(2*ROUNDDOWN(10*VLOOKUP(W99,$A$8:$AO$107,28,FALSE)/VLOOKUP(W99,$A$8:$H$107,8,FALSE),0)-ROUNDDOWN(10*AB99/$H99,0)),IF(AND(Z99=\"Nul\",$AB99=$H99),58,0))))","v":0},null,{"$f":"IF(AD99<>\"\",VLOOKUP(AD99,$A$8:$C$107,2,FALSE),\"\")","v":""},{"$f":"IF(AD99<>\"\",IF(AD99=$A99,\"ERR\",IF(OR(AD99=$P99,AD99=$W99,AD99=$I99,AD99=$AK99),\"DUP\",IF(ISNA(VLOOKUP(AD99,$A$8:$A$107,1,FALSE)),\"ERR\",IF(COUNTIF($I$8:$I$107,AD99)>1,\"ERR\",IF($D99=VLOOKUP(AD99,$A$8:$D$107,4,FALSE),\"CLUB\",\"OK\"))))),\"\")","v":""},null,{"$f":"IF(AG99<>\"\",IF(AG99=\"Victoire\",IF(VLOOKUP(AD99,$A$8:$AO$107,33,FALSE)=\"Défaite\",\"OK\",\"ERR\"),IF(AG99=\"Défaite\",IF(VLOOKUP(AD99,$A$8:$AO$107,33,FALSE)=\"Victoire\",\"OK\",\"ERR\"),IF(AG99=\"Nul\",IF(VLOOKUP(AD99,$A$8:$AO$107,33,FALSE)=\"Nul\",\"OK\",\"ERR\")))),\"\")","v":""},null,{"$f":"IF(AG99=\"Victoire\",100-ROUNDDOWN(20*AI99/$H99,0),\nIF(AG99=\"Défaite\",10+ROUNDDOWN(20*VLOOKUP(AD99,$A$8:$AO$107,35,FALSE)/VLOOKUP(AD99,$A$8:$H$107,8,FALSE),0),\nIF(AND(AG99=\"Nul\",$AI99<>$H99),40+(2*ROUNDDOWN(10*VLOOKUP(AD99,$A$8:$AO$107,35,FALSE)/VLOOKUP(AD99,$A$8:$H$107,8,FALSE),0)-ROUNDDOWN(10*AI99/$H99,0)),IF(AND(AG99=\"Nul\",$AI99=$H99),58,0))))","v":0},null,{"$f":"IF(AK99<>\"\",VLOOKUP(AK99,$A$8:$C$107,2,FALSE),\"\")","v":""},{"$f":"IF(AK99<>\"\",IF(AK99=$A99,\"ERR\",IF(OR(AK99=$P99,AK99=$W99,AK99=$AD99,AK99=$I99),\"DUP\",IF(ISNA(VLOOKUP(AK99,$A$8:$A$107,1,FALSE)),\"ERR\",IF(COUNTIF($I$8:$I$107,AK99)>1,\"ERR\",IF($D99=VLOOKUP(AK99,$A$8:$D$107,4,FALSE),\"CLUB\",\"OK\"))))),\"\")","v":""},null,{"$f":"IF(AN99<>\"\",IF(AN99=\"Victoire\",IF(VLOOKUP(AK99,$A$8:$AO$107,40,FALSE)=\"Défaite\",\"OK\",\"ERR\"),IF(AN99=\"Défaite\",IF(VLOOKUP(AK99,$A$8:$AO$107,40,FALSE)=\"Victoire\",\"OK\",\"ERR\"),IF(AN99=\"Nul\",IF(VLOOKUP(AK99,$A$8:$AO$107,40,FALSE)=\"Nul\",\"OK\",\"ERR\")))),\"\")","v":""},null,{"$f":"IF(AN99=\"Victoire\",100-ROUNDDOWN(20*AP99/$H99,0),\nIF(AN99=\"Défaite\",10+ROUNDDOWN(20*VLOOKUP(AK99,$A$8:$CB$107,42,FALSE)/VLOOKUP(AK99,$A$8:$H$107,8,FALSE),0),\nIF(AND(AN99=\"Nul\",$AP99<>$H99),40+(2*ROUNDDOWN(10*VLOOKUP(AK99,$A$8:$CB$107,42,FALSE)/VLOOKUP(AK99,$A$8:$H$107,8,FALSE),0)-ROUNDDOWN(10*AP99/$H99,0)),IF(AND(AN99=\"Nul\",$AP99=$H99),58,0))))","v":0},null,{"$f":"IF(AR99<>\"\",VLOOKUP(AR99,$A$8:$C$107,2,FALSE),\"\")","v":""},{"$f":"IF(AR99<>\"\",IF(AR99=$A99,\"ERR\",IF(OR(AR99=$I99,AR99=$P99,AR99=$W99,AR99=$AD99,AR99=$AK99),\"DUP\",IF(ISNA(VLOOKUP(AR99,$A$8:$A$107,1,FALSE)),\"ERR\",IF(COUNTIF($I$8:$I$107,AR99)>1,\"ERR\",IF($D99=VLOOKUP(AR99,$A$8:$D$107,4,FALSE),\"CLUB\",\"OK\"))))),\"\")","v":""},null,{"$f":"IF(AU99<>\"\",IF(AU99=\"Victoire\",IF(VLOOKUP(AR99,$A$8:$BL$107,47,FALSE)=\"Défaite\",\"OK\",\"ERR\"),IF(AU99=\"Défaite\",IF(VLOOKUP(AR99,$A$8:$BL$107,47,FALSE)=\"Victoire\",\"OK\",\"ERR\"),IF(AU99=\"Nul\",IF(VLOOKUP(AR99,$A$8:$BL$107,47,FALSE)=\"Nul\",\"OK\",\"ERR\")))),\"\")","v":""},null,{"$f":"IF(AU99=\"Victoire\",100-ROUNDDOWN(20*AW99/$H99,0),\nIF(AU99=\"Défaite\",10+ROUNDDOWN(20*VLOOKUP(AR99,$A$8:$CB$107,49,FALSE)/VLOOKUP(AR99,$A$8:$H$107,8,FALSE),0),\nIF(AND(AU99=\"Nul\",$AW99<>$H99),40+(2*ROUNDDOWN(10*VLOOKUP(AR99,$A$8:$CB$107,49,FALSE)/VLOOKUP(AR99,$A$8:$H$107,8,FALSE),0)-ROUNDDOWN(10*AW99/$H99,0)),IF(AND(AU99=\"Nul\",$AW99=$H99),58,0))))","v":0},null,{"$f":"IF(AY99<>\"\",VLOOKUP(AY99,$A$8:$C$107,2,FALSE),\"\")","v":""},{"$f":"IF(AY99<>\"\",IF(AY99=$A99,\"ERR\",IF(OR(AY99=$I99,AY99=$P99,AY99=$W99,AY99=$AD99,AY99=$AK99,AY99=$AR99),\"DUP\",IF(ISNA(VLOOKUP(AY99,$A$8:$A$107,1,FALSE)),\"ERR\",IF(COUNTIF($I$8:$I$107,AY99)>1,\"ERR\",IF($D99=VLOOKUP(AY99,$A$8:$D$107,4,FALSE),\"CLUB\",\"OK\"))))),\"\")","v":""},null,{"$f":"IF(BB99<>\"\",IF(BB99=\"Victoire\",IF(VLOOKUP(AY99,$A$8:$BL$107,54,FALSE)=\"Défaite\",\"OK\",\"ERR\"),IF(BB99=\"Défaite\",IF(VLOOKUP(AY99,$A$8:$BL$107,54,FALSE)=\"Victoire\",\"OK\",\"ERR\"),IF(BB99=\"Nul\",IF(VLOOKUP(AY99,$A$8:$BL$107,54,FALSE)=\"Nul\",\"OK\",\"ERR\")))),\"\")","v":""},null,{"$f":"IF(BB99=\"Victoire\",100-ROUNDDOWN(20*BD99/$H99,0),\nIF(BB99=\"Défaite\",10+ROUNDDOWN(20*VLOOKUP(AY99,$A$8:$CB$107,56,FALSE)/VLOOKUP(AY99,$A$8:$H$107,8,FALSE),0),\nIF(AND(BB99=\"Nul\",$BD99<>$H99),40+(2*ROUNDDOWN(10*VLOOKUP(AY99,$A$8:$CB$107,56,FALSE)/VLOOKUP(AY99,$A$8:$H$107,8,FALSE),0)-ROUNDDOWN(10*BD99/$H99,0)),IF(AND(BB99=\"Nul\",$BD99=$H99),58,0))))","v":0},null,{"$f":"IF(BF99<>\"\",VLOOKUP(BF99,$A$8:$C$107,2,FALSE),\"\")","v":""},{"$f":"IF(BF99<>\"\",IF(BF99=$A99,\"ERR\",IF(OR(BF99=$I99,BF99=$P99,BF99=$W99,BF99=$AD99,BF99=$AK99,BF99=$AR99,BF99=$AY99),\"DUP\",IF(ISNA(VLOOKUP(BF99,$A$8:$A$107,1,FALSE)),\"ERR\",IF(COUNTIF($I$8:$I$107,BF99)>1,\"ERR\",IF($D99=VLOOKUP(BF99,$A$8:$D$107,4,FALSE),\"CLUB\",\"OK\"))))),\"\")","v":""},null,{"$f":"IF(BI99<>\"\",IF(BI99=\"Victoire\",IF(VLOOKUP(BF99,$A$8:$BL$107,61,FALSE)=\"Défaite\",\"OK\",\"ERR\"),IF(BI99=\"Défaite\",IF(VLOOKUP(BF99,$A$8:$BL$107,61,FALSE)=\"Victoire\",\"OK\",\"ERR\"),IF(BI99=\"Nul\",IF(VLOOKUP(BF99,$A$8:$BL$107,61,FALSE)=\"Nul\",\"OK\",\"ERR\")))),\"\")","v":""},null,{"$f":"IF(BI99=\"Victoire\",100-ROUNDDOWN(20*BK99/$H99,0),\nIF(BI99=\"Défaite\",10+ROUNDDOWN(20*VLOOKUP(BF99,$A$8:$CB$107,63,FALSE)/VLOOKUP(BF99,$A$8:$H$107,8,FALSE),0),\nIF(AND(BI99=\"Nul\",$BK99<>$H99),40+(2*ROUNDDOWN(10*VLOOKUP(BF99,$A$8:$CB$107,63,FALSE)/VLOOKUP(BF99,$A$8:$H$107,8,FALSE),0)-ROUNDDOWN(10*BK99/$H99,0)),IF(AND(BI99=\"Nul\",$BK99=$H99),58,0))))","v":0},null,{"$f":"IF(BM99<>\"\",VLOOKUP(BM99,$A$8:$C$107,2,FALSE),\"\")","v":""},{"$f":"IF(BM99<>\"\",IF(BM99=$A99,\"ERR\",IF(OR(BM99=$I99,BM99=$P99,BM99=$W99,BM99=$AD99,BM99=$AK99,BM99=$AR99,BM99=$AY99,BM99=$BF99),\"DUP\",IF(ISNA(VLOOKUP(BM99,$A$8:$A$107,1,FALSE)),\"ERR\",IF(COUNTIF($I$8:$I$107,BM99)>1,\"ERR\",IF($D99=VLOOKUP(BM99,$A$8:$D$107,4,FALSE),\"CLUB\",\"OK\"))))),\"\")","v":""},null,{"$f":"IF(BP99<>\"\",IF(BP99=\"Victoire\",IF(VLOOKUP(BM99,$A$8:$BS$107,68,FALSE)=\"Défaite\",\"OK\",\"ERR\"),IF(BP99=\"Défaite\",IF(VLOOKUP(BM99,$A$8:$BS$107,68,FALSE)=\"Victoire\",\"OK\",\"ERR\"),IF(BP99=\"Nul\",IF(VLOOKUP(BM99,$A$8:$BS$107,68,FALSE)=\"Nul\",\"OK\",\"ERR\")))),\"\")","v":""},null,{"$f":"IF(BP99=\"Victoire\",100-ROUNDDOWN(20*BR99/$H99,0),\nIF(BP99=\"Défaite\",10+ROUNDDOWN(20*VLOOKUP(BM99,$A$8:$CB$107,70,FALSE)/VLOOKUP(BM99,$A$8:$H$107,8,FALSE),0),\nIF(AND(BP99=\"Nul\",$BR99<>$H99),40+(2*ROUNDDOWN(10*VLOOKUP(BM99,$A$8:$CB$107,70,FALSE)/VLOOKUP(BM99,$A$8:$H$107,8,FALSE),0)-ROUNDDOWN(10*BR99/$H99,0)),IF(AND(BP99=\"Nul\",$BR99=$H99),58,0))))","v":0},null,{"$f":"IF($I99<>\"\",VLOOKUP($I99,$A$8:$N$107,5,FALSE),0)+IF($P99<>\"\",VLOOKUP($P99,$A$8:$N$107,5,FALSE),0)+IF($W99<>\"\",VLOOKUP($W99,$A$8:$N$107,5,FALSE),0)+IF($AD99<>\"\",VLOOKUP($AD99,$A$8:$N$107,5,FALSE),0)+IF($AK99<>\"\",VLOOKUP($AK99,$A$8:$N$107,5,FALSE),0)+IF($AR99<>\"\",VLOOKUP($AR99,$A$8:$N$107,5,FALSE),0)+IF($AY99<>\"\",VLOOKUP($AY99,$A$8:$N$107,5,FALSE),0)+IF($BF99<>\"\",VLOOKUP($BF99,$A$8:$N$107,5,FALSE),0)+IF($BM99<>\"\",VLOOKUP($BM99,$A$8:$N$107,5,FALSE),0)","v":0}]
[{"$nulls":4},0,null,{"$f":"IF($F100<>\"\",VLOOKUP(F100,Armies!$A$1:$C$300,3,FALSE),\"\")","v":""},null,null,{"$f":"IF(I100<>\"\",VLOOKUP(I100,$A$8:$C$107,2,FALSE),\"\")","v":""},{"$f":"IF(I100<>\"\",IF(I100=$A100,\"ERR\",IF(OR(I100=$P100,I100=$W100,I100=$AD100,I100=$AK100),\"DUP\",IF(ISNA(VLOOKUP(I100,$A$8:$A$107,1,FALSE)),\"ERR\",IF(COUNTIF($I$8:$I$107,I100)>1,\"ERR\",IF($D100=VLOOKUP(I100,$A$8:$D$107,4,FALSE),\"CLUB\",\"OK\"))))),\"\")","v":""},null,{"$f":"IF(L100<>\"\",IF(L100=\"Victoire\",IF(VLOOKUP(I100,$A$8:$L$107,12,FALSE)=\"Défaite\",\"OK\",\"ERR\"),IF(L100=\"Défaite\",IF(VLOOKUP(I100,$A$8:$L$107,12,FALSE)=\"Victoire\",\"OK\",\"ERR\"),IF(L100=\"Nul\",IF(VLOOKUP(I100,$A$8:$L$107,12,FALSE)=\"Nul\",\"OK\",\"ERR\")))),\"\")","v":""},null,{"$f":"IF(L100=\"Victoire\",100-ROUNDDOWN(20*N100/$H100,0),\nIF(L100=\"Défaite\",10+ROUNDDOWN(20*VLOOKUP(I100,$A$8:$N$107,14,FALSE)/VLOOKUP(I100,$A$8:$H$107,8,FALSE),0),\nIF(AND(L100=\"Nul\",$N100<>$H100),40+(2*ROUNDDOWN(10*VLOOKUP(I100,$A$8:$N$107,14,FALSE)/VLOOKUP(I100,$A$8:$H$107,8,FALSE),0)-ROUNDDOWN(10*N100/$H100,0)),IF(AND(L100=\"Nul\",$N100=$H100),58,0))))","v":0},null,{"$f":"IF(P100<>\"\",VLOOKUP(P100,$A$8:$C$107,2,FALSE),\"\")","v":""},{"$f":"IF(P100<>\"\",IF(P100=$A100,\"ERR\",IF(OR(P100=$I100,P100=$W100,P100=$AD100,P100=$AK100),\"DUP\",IF(ISNA(VLOOKUP(P100,$A$8:$A$107,1,FALSE)),\"ERR\",IF(COUNTIF($I$8:$I$107,P100)>1,\"ERR\",IF($D100=VLOOKUP(P100,$A$8:$D$107,4,FALSE),\"CLUB\",\"OK\"))))),\"\")","v":""},null,{"$f":"IF(S100<>\"\",IF(S100=\"Victoire\",IF(VLOOKUP(P100,$A$8:$AO$107,19,FALSE)=\"Défaite\",\"OK\",\"ERR\"),IF(S100=\"Défaite\",IF(VLOOKUP(P100,$A$8:$AO$107,19,FALSE)=\"Victoire\",\"OK\",\"ERR\"),IF(S100=\"Nul\",IF(VLOOKUP(P100,$A$8:$AO$107,19,FALSE)=\"Nul\",\"OK\",\"ERR\")))),\"\")","v":""},null,{"$f":"IF(S100=\"Victoire\",100-ROUNDDOWN(20*U100/$H100,0),\nIF(S100=\"Défaite\",10+ROUNDDOWN(20*VLOOKUP(P100,$A$8:$AO$107,21,FALSE)/VLOOKUP(P100,$A$8:$H$107,8,FALSE),0),\nIF(AND(S100=\"Nul\",$U100<>$H100),40+(2*ROUNDDOWN(10*VLOOKUP(P100,$A$8:$AO$107,21,FALSE)/VLOOKUP(P100,$A$8:$H$107,8,FALSE),0)-ROUNDDOWN(10*U100/$H100,0)),IF(AND(S100=\"Nul\",$U100=$H100),58,0))))","v":0},null,{"$f":"IF(W100<>\"\",VLOOKUP(W100,$A$8:$C$107,2,FALSE),\"\")","v":""},{"$f":"IF(W100<>\"\",IF(W100=$A100,\"ERR\",IF(OR(W100=$P100,W100=$I100,W100=$AD100,W100=$AK100),\"DUP\",IF(ISNA(VLOOKUP(W100,$A$8:$A$107,1,FALSE)),\"ERR\",IF(COUNTIF($I$8:$I$107,W100)>1,\"ERR\",IF($D100=VLOOKUP(W100,$A$8:$D$107,4,FALSE),\"CLUB\",\"OK\"))))),\"\")","v":""},null,{"$f":"IF(Z100<>\"\",IF(Z100=\"Victoire\",IF(VLOOKUP(W100,$A$8:$AO$107,26,FALSE)=\"Défaite\",\"OK\",\"ERR\"),IF(Z100=\"Défaite\",IF(VLOOKUP(W100,$A$8:$AO$107,26,FALSE)=\"Victoire\",\"OK\",\"ERR\"),IF(Z100=\"Nul\",IF(VLOOKUP(W100,$A$8:$AO$107,26,FALSE)=\"Nul\",\"OK\",\"ERR\")))),\"\")","v":""},null,{"$f":"IF(Z100=\"Victoire\",100-ROUNDDOWN(20*AB100/$H100,0),\nIF(Z100=\"Défaite\",10+ROUNDDOWN(20*VLOOKUP(W100,$A$8:$AO$107,28,FALSE)/VLOOKUP(W100,$A$8:$H$107,8,FALSE),0),\nIF(AND(Z100=\"Nul\",$AB100<>$H100),40+(2*ROUNDDOWN(10*VLOOKUP(W100,$A$8:$AO$107,28,FALSE)/VLOOKUP(W100,$A$8:$H$107,8,FALSE),0)-ROUNDDOWN(10*AB100/$H100,0)),IF(AND(Z100=\"Nul\",$AB100=$H100),58,0))))","v":0},null,{"$f":"IF(AD100<>\"\",VLOOKUP(AD100,$A$8:$C$107,2,FALSE),\"\")","v":""},{"$f":"IF(AD100<>\"\",IF(AD100=$A100,\"ERR\",IF(OR(AD100=$P100,AD100=$W100,AD100=$I100,AD100=$AK100),\"DUP\",IF(ISNA(VLOOKUP(AD100,$A$8:$A$107,1,FALSE)),\"ERR\",IF(COUNTIF($I$8:$I$107,AD100)>1,\"ERR\",IF($D100=VLOOKUP(AD100,$A$8:$D$107,4,FALSE),\"CLUB\",\"OK\"))))),\"\")","v":""},null,{"$f":"IF(AG100<>\"\",IF(AG100=\"Victoire\",IF(VLOOKUP(AD100,$A$8:$AO$107,33,FALSE)=\"Défaite\",\"OK\",\"ERR\"),IF(AG100=\"Défaite\",IF(VLOOKUP(AD100,$A$8:$AO$107,33,FALSE)=\"Victoire\",\"OK\",\"ERR\"),IF(AG100=\"Nul\",IF(VLOOKUP(AD100,$A$8:$AO$107,33,FALSE)=\"Nul\",\"OK\",\"ERR\")))),\"\")","v":""},null,{"$f":"IF(AG100=\"Victoire\",100-ROUNDDOWN(20*AI100/$H100,0),\nIF(AG100=\"Défaite\",10+ROUNDDOWN(20*VLOOKUP(AD100,$A$8:$AO$107,35,FALSE)/VLOOKUP(AD100,$A$8:$H$107,8,FALSE),0),\nIF(AND(AG100=\"Nul\",$AI100<>$H100),40+(2*ROUNDDOWN(10*VLOOKUP(AD100,$A$8:$AO$107,35,FALSE)/VLOOKUP(AD100,$A$8:$H$107,8,FALSE),0)-ROUNDDOWN(10*AI100/$H100,0)),IF(AND(AG100=\"Nul\",$AI100=$H100),58,0))))","v":0},null,{"$f":"IF(AK100<>\"\",VLOOKUP(AK100,$A$8:$C$107,2,FALSE),\"\")","v":""},{"$f":"IF(AK100<>\"\",IF(AK100=$A100,\"ERR\",IF(OR(AK100=$P100,AK100=$W100,AK100=$AD100,AK100=$I100),\"DUP\",IF(ISNA(VLOOKUP(AK100,$A$8:$A$107,1,FALSE)),\"ERR\",IF(COUNTIF($I$8:$I$107,AK100)>1,\"ERR\",IF($D100=VLOOKUP(AK100,$A$8:$D$107,4,FALSE),\"CLUB\",\"OK\"))))),\"\")","v":""},null,{"$f":"IF(AN100<>\"\",IF(AN100=\"Victoire\",IF(VLOOKUP(AK100,$A$8:$AO$107,40,FALSE)=\"Défaite\",\"OK\",\"ERR\"),IF(AN100=\"Défaite\",IF(VLOOKUP(AK100,$A$8:$AO$107,40,FALSE)=\"Victoire\",\"OK\",\"ERR\"),IF(AN100=\"Nul\",IF(VLOOKUP(AK100,$A$8:$AO$107,40,FALSE)=\"Nul\",\"OK\",\"ERR\")))),\"\")","v":""},null,{"$f":"IF(AN100=\"Victoire\",100-ROUNDDOWN(20*AP100/$H100,0),\nIF(AN100=\"Défaite\",10+ROUNDDOWN(20*VLOOKUP(AK100,$A$8:$CB$107,42,FALSE)/VLOOKUP(AK100,$A$8:$H$107,8,FALSE),0),\nIF(AND(AN100=\"Nul\",$AP100<>$H100),40+(2*ROUNDDOWN(10*VLOOKUP(AK100,$A$8:$CB$107,42,FALSE)/VLOOKUP(AK100,$A$8:$H$107,8,FALSE),0)-ROUNDDOWN(10*AP100/$H100,0)),IF(AND(AN100=\"Nul\",$AP100=$H100),58,0))))","v":0},null,{"$f":"IF(AR100<>\"\",VLOOKUP(AR100,$A$8:$C$107,2,FALSE),\"\")","v":""},{"$f":"IF(AR100<>\"\",IF(AR100=$A100,\"ERR\",IF(OR(AR100=$I100,AR100=$P100,AR100=$W100,AR100=$AD100,AR100=$AK100),\"DUP\",IF(ISNA(VLOOKUP(AR100,$A$8:$A$107,1,FALSE)),\"ERR\",IF(COUNTIF($I$8:$I$107,AR100)>1,\"ERR\",IF($D100=VLOOKUP(AR100,$A$8:$D$107,4,FALSE),\"CLUB\",\"OK\"))))),\"\")","v":""},null,{"$f":"IF(AU100<>\"\",IF(AU100=\"Victoire\",IF(VLOOKUP(AR100,$A$8:$BL$107,47,FALSE)=\"Défaite\",\"OK\",\"ERR\"),IF(AU100=\"Défaite\",IF(VLOOKUP(AR100,$A$8:$BL$107,47,FALSE)=\"Victoire\",\"OK\",\"ERR\"),IF(AU100=\"Nul\",IF(VLOOKUP(AR100,$A$8:$BL$107,47,FALSE)=\"Nul\",\"OK\",\"ERR\")))),\"\")","v":""},null,{"$f":"IF(AU100=\"Victoire\",100-ROUNDDOWN(20*AW100/$H100,0),\nIF(AU100=\"Défaite\",10+ROUNDDOWN(20*VLOOKUP(AR100,$A$8:$CB$107,49,FALSE)/VLOOKUP(AR100,$A$8:$H$107,8,FALSE),0),\nIF(AND(AU100=\"Nul\",$AW100<>$H100),40+(2*ROUNDDOWN(10*VLOOKUP(AR100,$A$8:$CB$107,49,FALSE)/VLOOKUP(AR100,$A$8:$H$107,8,FALSE),0)-ROUNDDOWN(10*AW100/$H100,0)),IF(AND(AU100=\"Nul\",$AW100=$H100),58,0))))","v":0},null,{"$f":"IF(AY100<>\"\",VLOOKUP(AY100,$A$8:$C$107,2,FALSE),\"\")","v":""},{"$f":"IF(AY100<>\"\",IF(AY100=$A100,\"ERR\",IF(OR(AY100=$I100,AY100=$P100,AY100=$W100,AY100=$AD100,AY100=$AK100,AY100=$AR100),\"DUP\",IF(ISNA(VLOOKUP(AY100,$A$8:$A$107,1,FALSE)),\"ERR\",IF(COUNTIF($I$8:$I$107,AY100)>1,\"ERR\",IF($D100=VLOOKUP(AY100,$A$8:$D$107,4,FALSE),\"CLUB\",\"OK\"))))),\"\")","v":""},null,{"$f":"IF(BB100<>\"\",IF(BB100=\"Victoire\",IF(VLOOKUP(AY100,$A$8:$BL$107,54,FALSE)=\"Défaite\",\"OK\",\"ERR\"),IF(BB100=\"Défaite\",IF(VLOOKUP(AY100,$A$8:$BL$107,54,FALSE)=\"Victoire\",\"OK\",\"ERR\"),IF(BB100=\"Nul\",IF(VLOOKUP(AY100,$A$8:$BL$107,54,FALSE)=\"Nul\",\"OK\",\"ERR\")))),\"\")","v":""},null,{"$f":"IF(BB100=\"Victoire\",100-ROUNDDOWN(20*BD100/$H100,0),\nIF(BB100=\"Défaite\",10+ROUNDDOWN(20*VLOOKUP(AY100,$A$8:$CB$107,56,FALSE)/VLOOKUP(AY100,$A$8:$H$107,8,FALSE),0),\nIF(AND(BB100=\"Nul\",$BD100<>$H100),40+(2*ROUNDDOWN(10*VLOOKUP(AY100,$A$8:$CB$107,56,FALSE)/VLOOKUP(AY100,$A$8:$H$107,8,FALSE),0)-ROUNDDOWN(10*BD100/$H100,0)),IF(AND(BB100=\"Nul\",$BD100=$H100),58,0))))","v":0},null,{"$f":"IF(BF100<>\"\",VLOOKUP(BF100,$A$8:$C$107,2,FALSE),\"\")","v":""},{"$f":"IF(BF100<>\"\",IF(BF100=$A100,\"ERR\",IF(OR(BF100=$I100,BF100=$P100,BF100=$W100,BF100=$AD100,BF100=$AK100,BF100=$AR100,BF100=$AY100),\"DUP\",IF(ISNA(VLOOKUP(BF100,$A$8:$A$107,1,FALSE)),\"ERR\",IF(COUNTIF($I$8:$I$107,BF100)>1,\"ERR\",IF($D100=VLOOKUP(BF100,$A$8:$D$107,4,FALSE),\"CLUB\",\"OK\"))))),\"\")","v":""},null,{"$f":"IF(BI100<>\"\",IF(BI100=\"Victoire\",IF(VLOOKUP(BF100,$A$8:$BL$107,61,FALSE)=\"Défaite\",\"OK\",\"ERR\"),IF(BI100=\"Défaite\",IF(VLOOKUP(BF100,$A$8:$BL$107,61,FALSE)=\"Victoire\",\"OK\",\"ERR\"),IF(BI100=\"Nul\",IF(VLOOKUP(BF100,$A$8:$BL$107,61,FALSE)=\"Nul\",\"OK\",\"ERR\")))),\"\")","v":""},null,{"$f":"IF(BI100=\"Victoire\",100-ROUNDDOWN(20*BK100/$H100,0),\nIF(BI100=\"Défaite\",10+ROUNDDOWN(20*VLOOKUP(BF100,$A$8:$CB$107,63,FALSE)/VLOOKUP(BF100,$A$8:$H$107,8,FALSE),0),\nIF(AND(BI100=\"Nul\",$BK100<>$H100),40+(2*ROUNDDOWN(10*VLOOKUP(BF100,$A$8:$CB$107,63,FALSE)/VLOOKUP(BF100,$A$8:$H$107,8,FALSE),0)-ROUNDDOWN(10*BK100/$H100,0)),IF(AND(BI100=\"Nul\",$BK100=$H100),58,0))))","v":0},null,{"$f":"IF(BM100<>\"\",VLOOKUP(BM100,$A$8:$C$107,2,FALSE),\"\")","v":""},{"$f":"IF(BM100<>\"\",IF(BM100=$A100,\"ERR\",IF(OR(BM100=$I100,BM100=$P100,BM100=$W100,BM100=$AD100,BM100=$AK100,BM100=$AR100,BM100=$AY100,BM100=$BF100),\"DUP\",IF(ISNA(VLOOKUP(BM100,$A$8:$A$107,1,FALSE)),\"ERR\",IF(COUNTIF($I$8:$I$107,BM100)>1,\"ERR\",IF($D100=VLOOKUP(BM100,$A$8:$D$107,4,FALSE),\"CLUB\",\"OK\"))))),\"\")","v":""},null,{"$f":"IF(BP100<>\"\",IF(BP100=\"Victoire\",IF(VLOOKUP(BM100,$A$8:$BS$107,68,FALSE)=\"Défaite\",\"OK\",\"ERR\"),IF(BP100=\"Défaite\",IF(VLOOKUP(BM100,$A$8:$BS$107,68,FALSE)=\"Victoire\",\"OK\",\"ERR\"),IF(BP100=\"Nul\",IF(VLOOKUP(BM100,$A$8:$BS$107,68,FALSE)=\"Nul\",\"OK\",\"ERR\")))),\"\")","v":""},null,{"$f":"IF(BP100=\"Victoire\",100-ROUNDDOWN(20*BR100/$H100,0),\nIF(BP100=\"Défaite\",10+ROUNDDOWN(20*VLOOKUP(BM100,$A$8:$CB$107,70,FALSE)/VLOOKUP(BM100,$A$8:$H$107,8,FALSE),0),\nIF(AND(BP100=\"Nul\",$BR100<>$H100),40+(2*ROUNDDOWN(10*VLOOKUP(BM100,$A$8:$CB$107,70,FALSE)/VLOOKUP(BM100,$A$8:$H$107,8,FALSE),0)-ROUNDDOWN(10*BR100/$H100,0)),IF(AND(BP100=\"Nul\",$BR100=$H100),58,0))))","v":0},null,{"$f":"IF($I100<>\"\",VLOOKUP($I100,$A$8:$N$107,5,FALSE),0)+IF($P100<>\"\",VLOOKUP($P100,$A$8:$N$107,5,FALSE),0)+IF($W100<>\"\",VLOOKUP($W100,$A$8:$N$107,5,FALSE),0)+IF($AD100<>\"\",VLOOKUP($AD100,$A$8:$N$107,5,FALSE),0)+IF($AK100<>\"\",VLOOKUP($AK100,$A$8:$N$107,5,FALSE),0)+IF($AR100<>\"\",VLOOKUP($AR100,$A$8:$N$107,5,FALSE),0)+IF($AY100<>\"\",VLOOKUP($AY100,$A$8:$N$107,5,FALSE),0)+IF($BF100<>\"\",VLOOKUP($BF100,$A$8:$N$107,5,FALSE),0)+IF($BM100<>\"\",VLOOKUP($BM100,$A$8:$N$107,5,FALSE),0)","v":0}]
[{"$nulls":4},{"$f":"O101+V101+AC101+AJ101+AQ101+AX101+BE101+BL101+BS101","v":0},null,{"$f":"IF($F101<>\"\",VLOOKUP(F101,Armies!$A$1:$C$300,3,FALSE),\"\")","v":""},null,null,{"$f":"IF(I101<>\"\",VLOOKUP(I101,$A$8:$C$107,2,FALSE),\"\")","v":""},{"$f":"IF(I101<>\"\",IF(I101=$A101,\"ERR\",IF(OR(I101=$P101,I101=$W101,I101=$AD101,I101=$AK101),\"DUP\",IF(ISNA(VLOOKUP(I101,$A$8:$A$107,1,FALSE)),\"ERR\",IF(COUNTIF($I$8:$I$107,I101)>1,\"ERR\",IF($D101=VLOOKUP(I101,$A$8:$D$107,4,FALSE),\"CLUB\",\"OK\"))))),\"\")","v":""},null,{"$f":"IF(L101<>\"\",IF(L101=\"Victoire\",IF(VLOOKUP(I101,$A$8:$L$107,12,FALSE)=\"Défaite\",\"OK\",\"ERR\"),IF(L101=\"Défaite\",IF(VLOOKUP(I101,$A$8:$L$107,12,FALSE)=\"Victoire\",\"OK\",\"ERR\"),IF(L101=\"Nul\",IF(VLOOKUP(I101,$A$8:$L$107,12,FALSE)=\"Nul\",\"OK\",\"ERR\")))),\"\")","v":""},null,{"$f":"IF(L101=\"Victoire\",100-ROUNDDOWN(20*N101/$H101,0),\nIF(L101=\"Défaite\",10+ROUNDDOWN(20*VLOOKUP(I101,$A$8:$N$107,14,FALSE)/VLOOKUP(I101,$A$8:$H$107,8,FALSE),0),\nIF(AND(L101=\"Nul\",$N101<>$H101),40+(2*ROUNDDOWN(10*VLOOKUP(I101,$A$8:$N$107,14,FALSE)/VLOOKUP(I101,$A$8:$H$107,8,FALSE),0)-ROUNDDOWN(10*N101/$H101,0)),IF(AND(L101=\"Nul\",$N101=$H101),58,0))))","v":0},null,{"$f":"IF(P101<>\"\",VLOOKUP(P101,$A$8:$C$107,2,FALSE),\"\")","v":""},{"$f":"IF(P101<>\"\",IF(P101=$A101,\"ERR\",IF(OR(P101=$I101,P101=$W101,P101=$AD101,P101=$AK101),\"DUP\",IF(ISNA(VLOOKUP(P101,$A$8:$A$107,1,FALSE)),\"ERR\",IF(COUNTIF($I$8:$I$107,P101)>1,\"ERR\",IF($D101=VLOOKUP(P101,$A$8:$D$107,4,FALSE),\"CLUB\",\"OK\"))))),\"\")","v":""},null,{"$f":"IF(S101<>\"\",IF(S101=\"Victoire\",IF(VLOOKUP(P101,$A$8:$AO$107,19,FALSE)=\"Défaite\",\"OK\",\"ERR\"),IF(S101=\"Défaite\",IF(VLOOKUP(P101,$A$8:$AO$107,19,FALSE)=\"Victoire\",\"OK\",\"ERR\"),IF(S101=\"Nul\",IF(VLOOKUP(P101,$A$8:$AO$107,19,FALSE)=\"Nul\",\"OK\",\"ERR\")))),\"\")","v":""},null,{"$f":"IF(S101=\"Victoire\",100-ROUNDDOWN(20*U101/$H101,0),\nIF(S101=\"Défaite\",10+ROUNDDOWN(20*VLOOKUP(P101,$A$8:$AO$107,21,FALSE)/VLOOKUP(P101,$A$8:$H$107,8,FALSE),0),\nIF(AND(S101=\"Nul\",$U101<>$H101),40+(2*ROUNDDOWN(10*VLOOKUP(P101,$A$8:$AO$107,21,FALSE)/VLOOKUP(P101,$A$8:$H$107,8,FALSE),0)-ROUNDDOWN(10*U101/$H101,0)),IF(AND(S101=\"Nul\",$U101=$H101),58,0))))","v":0},null,{"$f":"IF(W101<>\"\",VLOOKUP(W101,$A$8:$C$107,2,FALSE),\"\")","v":""},{"$f":"IF(W101<>\"\",IF(W101=$A101,\"ERR\",IF(OR(W101=$P101,W101=$I101,W101=$AD101,W101=$AK101),\"DUP\",IF(ISNA(VLOOKUP(W101,$A$8:$A$107,1,FALSE)),\"ERR\",IF(COUNTIF($I$8:$I$107,W101)>1,\"ERR\",IF($D101=VLOOKUP(W101,$A$8:$D$107,4,FALSE),\"CLUB\",\"OK\"))))),\"\")","v":""},null,{"$f":"IF(Z101<>\"\",IF(Z101=\"Victoire\",IF(VLOOKUP(W101,$A$8:$AO$107,26,FALSE)=\"Défaite\",\"OK\",\"ERR\"),IF(Z101=\"Défaite\",IF(VLOOKUP(W101,$A$8:$AO$107,26,FALSE)=\"Victoire\",\"OK\",\"ERR\"),IF(Z101=\"Nul\",IF(VLOOKUP(W101,$A$8:$AO$107,26,FALSE)=\"Nul\",\"OK\",\"ERR\")))),\"\")","v":""},null,{"$f":"IF(Z101=\"Victoire\",100-ROUNDDOWN(20*AB101/$H101,0),\nIF(Z101=\"Défaite\",10+ROUNDDOWN(20*VLOOKUP(W101,$A$8:$AO$107,28,FALSE)/VLOOKUP(W101,$A$8:$H$107,8,FALSE),0),\nIF(AND(Z101=\"Nul\",$AB101<>$H101),40+(2*ROUNDDOWN(10*VLOOKUP(W101,$A$8:$AO$107,28,FALSE)/VLOOKUP(W101,$A$8:$H$107,8,FALSE),0)-ROUNDDOWN(10*AB101/$H101,0)),IF(AND(Z101=\"Nul\",$AB101=$H101),58,0))))","v":0},null,{"$f":"IF(AD101<>\"\",VLOOKUP(AD101,$A$8:$C$107,2,FALSE),\"\")","v":""},{"$f":"IF(AD101<>\"\",IF(AD101=$A101,\"ERR\",IF(OR(AD101=$P101,AD101=$W101,AD101=$I101,AD101=$AK101),\"DUP\",IF(ISNA(VLOOKUP(AD101,$A$8:$A$107,1,FALSE)),\"ERR\",IF(COUNTIF($I$8:$I$107,AD101)>1,\"ERR\",IF($D101=VLOOKUP(AD101,$A$8:$D$107,4,FALSE),\"CLUB\",\"OK\"))))),\"\")","v":""},null,{"$f":"IF(AG101<>\"\",IF(AG101=\"Victoire\",IF(VLOOKUP(AD101,$A$8:$AO$107,33,FALSE)=\"Défaite\",\"OK\",\"ERR\"),IF(AG101=\"Défaite\",IF(VLOOKUP(AD101,$A$8:$AO$107,33,FALSE)=\"Victoire\",\"OK\",\"ERR\"),IF(AG101=\"Nul\",IF(VLOOKUP(AD101,$A$8:$AO$107,33,FALSE)=\"Nul\",\"OK\",\"ERR\")))),\"\")","v":""},null,{"$f":"IF(AG101=\"Victoire\",100-ROUNDDOWN(20*AI101/$H101,0),\nIF(AG101=\"Défaite\",10+ROUNDDOWN(20*VLOOKUP(AD101,$A$8:$AO$107,35,FALSE)/VLOOKUP(AD101,$A$8:$H$107,8,FALSE),0),\nIF(AND(AG101=\"Nul\",$AI101<>$H101),40+(2*ROUNDDOWN(10*VLOOKUP(AD101,$A$8:$AO$107,35,FALSE)/VLOOKUP(AD101,$A$8:$H$107,8,FALSE),0)-ROUNDDOWN(10*AI101/$H101,0)),IF(AND(AG101=\"Nul\",$AI101=$H101),58,0))))","v":0},null,{"$f":"IF(AK101<>\"\",VLOOKUP(AK101,$A$8:$C$107,2,FALSE),\"\")","v":""},{"$f":"IF(AK101<>\"\",IF(AK101=$A101,\"ERR\",IF(OR(AK101=$P101,AK101=$W101,AK101=$AD101,AK101=$I101),\"DUP\",IF(ISNA(VLOOKUP(AK101,$A$8:$A$107,1,FALSE)),\"ERR\",IF(COUNTIF($I$8:$I$107,AK101)>1,\"ERR\",IF($D101=VLOOKUP(AK101,$A$8:$D$107,4,FALSE),\"CLUB\",\"OK\"))))),\"\")","v":""},null,{"$f":"IF(AN101<>\"\",IF(AN101=\"Victoire\",IF(VLOOKUP(AK101,$A$8:$AO$107,40,FALSE)=\"Défaite\",\"OK\",\"ERR\"),IF(AN101=\"Défaite\",IF(VLOOKUP(AK101,$A$8:$AO$107,40,FALSE)=\"Victoire\",\"OK\",\"ERR\"),IF(AN101=\"Nul\",IF(VLOOKUP(AK101,$A$8:$AO$107,40,FALSE)=\"Nul\",\"OK\",\"ERR\")))),\"\")","v":""},null,{"$f":"IF(AN101=\"Victoire\",100-ROUNDDOWN(20*AP101/$H101,0),\nIF(AN101=\"Défaite\",10+ROUNDDOWN(20*VLOOKUP(AK101,$A$8:$CB$107,42,FALSE)/VLOOKUP(AK101,$A$8:$H$107,8,FALSE),0),\nIF(AND(AN101=\"Nul\",$AP101<>$H101),40+(2*ROUNDDOWN(10*VLOOKUP(AK101,$A$8:$CB$107,42,FALSE)/VLOOKUP(AK101,$A$8:$H$107,8,FALSE),0)-ROUNDDOWN(10*AP101/$H101,0)),IF(AND(AN101=\"Nul\",$AP101=$H101),58,0))))","v":0},null,{"$f":"IF(AR101<>\"\",VLOOKUP(AR101,$A$8:$C$107,2,FALSE),\"\")","v":""},{"$f":"IF(AR101<>\"\",IF(AR101=$A101,\"ERR\",IF(OR(AR101=$I101,AR101=$P101,AR101=$W101,AR101=$AD101,AR101=$AK101),\"DUP\",IF(ISNA(VLOOKUP(AR101,$A$8:$A$107,1,FALSE)),\"ERR\",IF(COUNTIF($I$8:$I$107,AR101)>1,\"ERR\",IF($D101=VLOOKUP(AR101,$A$8:$D$107,4,FALSE),\"CLUB\",\"OK\"))))),\"\")","v":""},null,{"$f":"IF(AU101<>\"\",IF(AU101=\"Victoire\",IF(VLOOKUP(AR101,$A$8:$BL$107,47,FALSE)=\"Défaite\",\"OK\",\"ERR\"),IF(AU101=\"Défaite\",IF(VLOOKUP(AR101,$A$8:$BL$107,47,FALSE)=\"Victoire\",\"OK\",\"ERR\"),IF(AU101=\"Nul\",IF(VLOOKUP(AR101,$A$8:$BL$107,47,FALSE)=\"Nul\",\"OK\",\"ERR\")))),\"\")","v":""},null,{"$f":"IF(AU101=\"Victoire\",100-ROUNDDOWN(20*AW101/$H101,0),\nIF(AU101=\"Défaite\",10+ROUNDDOWN(20*VLOOKUP(AR101,$A$8:$CB$107,49,FALSE)/VLOOKUP(AR101,$A$8:$H$107,8,FALSE),0),\nIF(AND(AU101=\"Nul\",$AW101<>$H101),40+(2*ROUNDDOWN(10*VLOOKUP(AR101,$A$8:$CB$107,49,FALSE)/VLOOKUP(AR101,$A$8:$H$107,8,FALSE),0)-ROUNDDOWN(10*AW101/$H101,0)),IF(AND(AU101=\"Nul\",$AW101=$H101),58,0))))","v":0},null,{"$f":"IF(AY101<>\"\",VLOOKUP(AY101,$A$8:$C$107,2,FALSE),\"\")","v":""},{"$f":"IF(AY101<>\"\",IF(AY101=$A101,\"ERR\",IF(OR(AY101=$I101,AY101=$P101,AY101=$W101,AY101=$AD101,AY101=$AK101,AY101=$AR101),\"DUP\",IF(ISNA(VLOOKUP(AY101,$A$8:$A$107,1,FALSE)),\"ERR\",IF(COUNTIF($I$8:$I$107,AY101)>1,\"ERR\",IF($D101=VLOOKUP(AY101,$A$8:$D$107,4,FALSE),\"CLUB\",\"OK\"))))),\"\")","v":""},null,{"$f":"IF(BB101<>\"\",IF(BB101=\"Victoire\",IF(VLOOKUP(AY101,$A$8:$BL$107,54,FALSE)=\"Défaite\",\"OK\",\"ERR\"),IF(BB101=\"Défaite\",IF(VLOOKUP(AY101,$A$8:$BL$107,54,FALSE)=\"Victoire\",\"OK\",\"ERR\"),IF(BB101=\"Nul\",IF(VLOOKUP(AY101,$A$8:$BL$107,54,FALSE)=\"Nul\",\"OK\",\"ERR\")))),\"\")","v":""},null,{"$f":"IF(BB101=\"Victoire\",100-ROUNDDOWN(20*BD101/$H101,0),\nIF(BB101=\"Défaite\",10+ROUNDDOWN(20*VLOOKUP(AY101,$A$8:$CB$107,56,FALSE)/VLOOKUP(AY101,$A$8:$H$107,8,FALSE),0),\nIF(AND(BB101=\"Nul\",$BD101<>$H101),40+(2*ROUNDDOWN(10*VLOOKUP(AY101,$A$8:$CB$107,56,FALSE)/VLOOKUP(AY101,$A$8:$H$107,8,FALSE),0)-ROUNDDOWN(10*BD101/$H101,0)),IF(AND(BB101=\"Nul\",$BD101=$H101),58,0))))","v":0},null,{"$f":"IF(BF101<>\"\",VLOOKUP(BF101,$A$8:$C$107,2,FALSE),\"\")","v":""},{"$f":"IF(BF101<>\"\",IF(BF101=$A101,\"ERR\",IF(OR(BF101=$I101,BF101=$P101,BF101=$W101,BF101=$AD101,BF101=$AK101,BF101=$AR101,BF101=$AY101),\"DUP\",IF(ISNA(VLOOKUP(BF101,$A$8:$A$107,1,FALSE)),\"ERR\",IF(COUNTIF($I$8:$I$107,BF101)>1,\"ERR\",IF($D101=VLOOKUP(BF101,$A$8:$D$107,4,FALSE),\"CLUB\",\"OK\"))))),\"\")","v":""},null,{"$f":"IF(BI101<>\"\",IF(BI101=\"Victoire\",IF(VLOOKUP(BF101,$A$8:$BL$107,61,FALSE)=\"Défaite\",\"OK\",\"ERR\"),IF(BI101=\"Défaite\",IF(VLOOKUP(BF101,$A$8:$BL$107,61,FALSE)=\"Victoire\",\"OK\",\"ERR\"),IF(BI101=\"Nul\",IF(VLOOKUP(BF101,$A$8:$BL$107,61,FALSE)=\"Nul\",\"OK\",\"ERR\")))),\"\")","v":""},null,{"$f":"IF(BI101=\"Victoire\",100-ROUNDDOWN(20*BK101/$H101,0),\nIF(BI101=\"Défaite\",10+ROUNDDOWN(20*VLOOKUP(BF101,$A$8:$CB$107,63,FALSE)/VLOOKUP(BF101,$A$8:$H$107,8,FALSE),0),\nIF(AND(BI101=\"Nul\",$BK101<>$H101),40+(2*ROUNDDOWN(10*VLOOKUP(BF101,$A$8:$CB$107,63,FALSE)/VLOOKUP(BF101,$A$8:$H$107,8,FALSE),0)-ROUNDDOWN(10*BK101/$H101,0)),IF(AND(BI101=\"Nul\",$BK101=$H101),58,0))))","v":0},null,{"$f":"IF(BM101<>\"\",VLOOKUP(BM101,$A$8:$C$107,2,FALSE),\"\")","v":""},{"$f":"IF(BM101<>\"\",IF(BM101=$A101,\"ERR\",IF(OR(BM101=$I101,BM101=$P101,BM101=$W101,BM101=$AD101,BM101=$AK101,BM101=$AR101,BM101=$AY101,BM101=$BF101),\"DUP\",IF(ISNA(VLOOKUP(BM101,$A$8:$A$107,1,FALSE)),\"ERR\",IF(COUNTIF($I$8:$I$107,BM101)>1,\"ERR\",IF($D101=VLOOKUP(BM101,$A$8:$D$107,4,FALSE),\"CLUB\",\"OK\"))))),\"\")","v":""},null,{"$f":"IF(BP101<>\"\",IF(BP101=\"Victoire\",IF(VLOOKUP(BM101,$A$8:$BS$107,68,FALSE)=\"Défaite\",\"OK\",\"ERR\"),IF(BP101=\"Défaite\",IF(VLOOKUP(BM101,$A$8:$BS$107,68,FALSE)=\"Victoire\",\"OK\",\"ERR\"),IF(BP101=\"Nul\",IF(VLOOKUP(BM101,$A$8:$BS$107,68,FALSE)=\"Nul\",\"OK\",\"ERR\")))),\"\")","v":""},null,{"$f":"IF(BP101=\"Victoire\",100-ROUNDDOWN(20*BR101/$H101,0),\nIF(BP101=\"Défaite\",10+ROUNDDOWN(20*VLOOKUP(BM101,$A$8:$CB$107,70,FALSE)/VLOOKUP(BM101,$A$8:$H$107,8,FALSE),0),\nIF(AND(BP101=\"Nul\",$BR101<>$H101),40+(2*ROUNDDOWN(10*VLOOKUP(BM101,$A$8:$CB$107,70,FALSE)/VLOOKUP(BM101,$A$8:$H$107,8,FALSE),0)-ROUNDDOWN(10*BR101/$H101,0)),IF(AND(BP101=\"Nul\",$BR101=$H101),58,0))))","v":0},null,{"$f":"IF($I101<>\"\",VLOOKUP($I101,$A$8:$N$107,5,FALSE),0)+IF($P101<>\"\",VLOOKUP($P101,$A$8:$N$107,5,FALSE),0)+IF($W101<>\"\",VLOOKUP($W101,$A$8:$N$107,5,FALSE),0)+IF($AD101<>\"\",VLOOKUP($AD101,$A$8:$N$107,5,FALSE),0)+IF($AK101<>\"\",VLOOKUP($AK101,$A$8:$N$107,5,FALSE),0)+IF($AR101<>\"\",VLOOKUP($AR101,$A$8:$N$107,5,FALSE),0)+IF($AY101<>\"\",VLOOKUP($AY101,$A$8:$N$107,5,FALSE),0)+IF($BF101<>\"\",VLOOKUP($BF101,$A$8:$N$107,5,FALSE),0)+IF($BM101<>\"\",VLOOKUP($BM101,$A$8:$N$107,5,FALSE),0)","v":0}]
[{"$nulls":4},0,null,{"$f":"IF($F102<>\"\",VLOOKUP(F102,Armies!$A$1:$C$300,3,FALSE),\"\")","v":""},null,null,{"$f":"IF(I102<>\"\",VLOOKUP(I102,$A$8:$C$107,2,FALSE),\"\")","v":""},{"$f":"IF(I102<>\"\",IF(I102=$A102,\"ERR\",IF(OR(I102=$P102,I102=$W102,I102=$AD102,I102=$AK102),\"DUP\",IF(ISNA(VLOOKUP(I102,$A$8:$A$107,1,FALSE)),\"ERR\",IF(COUNTIF($I$8:$I$107,I102)>1,\"ERR\",IF($D102=VLOOKUP(I102,$A$8:$D$107,4,FALSE),\"CLUB\",\"OK\"))))),\"\")","v":""},null,{"$f":"IF(L102<>\"\",IF(L102=\"Victoire\",IF(VLOOKUP(I102,$A$8:$L$107,12,FALSE)=\"Défaite\",\"OK\",\"ERR\"),IF(L102=\"Défaite\",IF(VLOOKUP(I102,$A$8:$L$107,12,FALSE)=\"Victoire\",\"OK\",\"ERR\"),IF(L102=\"Nul\",IF(VLOOKUP(I102,$A$8:$L$107,12,FALSE)=\"Nul\",\"OK\",\"ERR\")))),\"\")","v":""},null,{"$f":"IF(L102=\"Victoire\",100-ROUNDDOWN(20*N102/$H102,0),\nIF(L102=\"Défaite\",10+ROUNDDOWN(20*VLOOKUP(I102,$A$8:$N$107,14,FALSE)/VLOOKUP(I102,$A$8:$H$107,8,FALSE),0),\nIF(AND(L102=\"Nul\",$N102<>$H102),40+(2*ROUNDDOWN(10*VLOOKUP(I102,$A$8:$N$107,14,FALSE)/VLOOKUP(I102,$A$8:$H$107,8,FALSE),0)-ROUNDDOWN(10*N102/$H102,0)),IF(AND(L102=\"Nul\",$N102=$H102),58,0))))","v":0},null,{"$f":"IF(P102<>\"\",VLOOKUP(P102,$A$8:$C$107,2,FALSE),\"\")","v":""},{"$f":"IF(P102<>\"\",IF(P102=$A102,\"ERR\",IF(OR(P102=$I102,P102=$W102,P102=$AD102,P102=$AK102),\"DUP\",IF(ISNA(VLOOKUP(P102,$A$8:$A$107,1,FALSE)),\"ERR\",IF(COUNTIF($I$8:$I$107,P102)>1,\"ERR\",IF($D102=VLOOKUP(P102,$A$8:$D$107,4,FALSE),\"CLUB\",\"OK\"))))),\"\")","v":""},null,{"$f":"IF(S102<>\"\",IF(S102=\"Victoire\",IF(VLOOKUP(P102,$A$8:$AO$107,19,FALSE)=\"Défaite\",\"OK\",\"ERR\"),IF(S102=\"Défaite\",IF(VLOOKUP(P102,$A$8:$AO$107,19,FALSE)=\"Victoire\",\"OK\",\"ERR\"),IF(S102=\"Nul\",IF(VLOOKUP(P102,$A$8:$AO$107,19,FALSE)=\"Nul\",\"OK\",\"ERR\")))),\"\")","v":""},null,{"$f":"IF(S102=\"Victoire\",100-ROUNDDOWN(20*U102/$H102,0),\nIF(S102=\"Défaite\",10+ROUNDDOWN(20*VLOOKUP(P102,$A$8:$AO$107,21,FALSE)/VLOOKUP(P102,$A$8:$H$107,8,FALSE),0),\nIF(AND(S102=\"Nul\",$U102<>$H102),40+(2*ROUNDDOWN(10*VLOOKUP(P102,$A$8:$AO$107,21,FALSE)/VLOOKUP(P102,$A$8:$H$107,8,FALSE),0)-ROUNDDOWN(10*U102/$H102,0)),IF(AND(S102=\"Nul\",$U102=$H102),58,0))))","v":0},null,{"$f":"IF(W102<>\"\",VLOOKUP(W102,$A$8:$C$107,2,FALSE),\"\")","v":""},{"$f":"IF(W102<>\"\",IF(W102=$A102,\"ERR\",IF(OR(W102=$P102,W102=$I102,W102=$AD102,W102=$AK102),\"DUP\",IF(ISNA(VLOOKUP(W102,$A$8:$A$107,1,FALSE)),\"ERR\",IF(COUNTIF($I$8:$I$107,W102)>1,\"ERR\",IF($D102=VLOOKUP(W102,$A$8:$D$107,4,FALSE),\"CLUB\",\"OK\"))))),\"\")","v":""},null,{"$f":"IF(Z102<>\"\",IF(Z102=\"Victoire\",IF(VLOOKUP(W102,$A$8:$AO$107,26,FALSE)=\"Défaite\",\"OK\",\"ERR\"),IF(Z102=\"Défaite\",IF(VLOOKUP(W102,$A$8:$AO$107,26,FALSE)=\"Victoire\",\"OK\",\"ERR\"),IF(Z102=\"Nul\",IF(VLOOKUP(W102,$A$8:$AO$107,26,FALSE)=\"Nul\",\"OK\",\"ERR\")))),\"\")","v":""},null,{"$f":"IF(Z102=\"Victoire\",100-ROUNDDOWN(20*AB102/$H102,0),\nIF(Z102=\"Défaite\",10+ROUNDDOWN(20*VLOOKUP(W102,$A$8:$AO$107,28,FALSE)/VLOOKUP(W102,$A$8:$H$107,8,FALSE),0),\nIF(AND(Z102=\"Nul\",$AB102<>$H102),40+(2*ROUNDDOWN(10*VLOOKUP(W102,$A$8:$AO$107,28,FALSE)/VLOOKUP(W102,$A$8:$H$107,8,FALSE),0)-ROUNDDOWN(10*AB102/$H102,0)),IF(AND(Z102=\"Nul\",$AB102=$H102),58,0))))","v":0},null,{"$f":"IF(AD102<>\"\",VLOOKUP(AD102,$A$8:$C$107,2,FALSE),\"\")","v":""},{"$f":"IF(AD102<>\"\",IF(AD102=$A102,\"ERR\",IF(OR(AD102=$P102,AD102=$W102,AD102=$I102,AD102=$AK102),\"DUP\",IF(ISNA(VLOOKUP(AD102,$A$8:$A$107,1,FALSE)),\"ERR\",IF(COUNTIF($I$8:$I$107,AD102)>1,\"ERR\",IF($D102=VLOOKUP(AD102,$A$8:$D$107,4,FALSE),\"CLUB\",\"OK\"))))),\"\")","v":""},null,{"$f":"IF(AG102<>\"\",IF(AG102=\"Victoire\",IF(VLOOKUP(AD102,$A$8:$AO$107,33,FALSE)=\"Défaite\",\"OK\",\"ERR\"),IF(AG102=\"Défaite\",IF(VLOOKUP(AD102,$A$8:$AO$107,33,FALSE)=\"Victoire\",\"OK\",\"ERR\"),IF(AG102=\"Nul\",IF(VLOOKUP(AD102,$A$8:$AO$107,33,FALSE)=\"Nul\",\"OK\",\"ERR\")))),\"\")","v":""},null,{"$f":"IF(AG102=\"Victoire\",100-ROUNDDOWN(20*AI102/$H102,0),\nIF(AG102=\"Défaite\",10+ROUNDDOWN(20*VLOOKUP(AD102,$A$8:$AO$107,35,FALSE)/VLOOKUP(AD102,$A$8:$H$107,8,FALSE),0),\nIF(AND(AG102=\"Nul\",$AI102<>$H102),40+(2*ROUNDDOWN(10*VLOOKUP(AD102,$A$8:$AO$107,35,FALSE)/VLOOKUP(AD102,$A$8:$H$107,8,FALSE),0)-ROUNDDOWN(10*AI102/$H102,0)),IF(AND(AG102=\"Nul\",$AI102=$H102),58,0))))","v":0},null,{"$f":"IF(AK102<>\"\",VLOOKUP(AK102,$A$8:$C$107,2,FALSE),\"\")","v":""},{"$f":"IF(AK102<>\"\",IF(AK102=$A102,\"ERR\",IF(OR(AK102=$P102,AK102=$W102,AK102=$AD102,AK102=$I102),\"DUP\",IF(ISNA(VLOOKUP(AK102,$A$8:$A$107,1,FALSE)),\"ERR\",IF(COUNTIF($I$8:$I$107,AK102)>1,\"ERR\",IF($D102=VLOOKUP(AK102,$A$8:$D$107,4,FALSE),\"CLUB\",\"OK\"))))),\"\")","v":""},null,{"$f":"IF(AN102<>\"\",IF(AN102=\"Victoire\",IF(VLOOKUP(AK102,$A$8:$AO$107,40,FALSE)=\"Défaite\",\"OK\",\"ERR\"),IF(AN102=\"Défaite\",IF(VLOOKUP(AK102,$A$8:$AO$107,40,FALSE)=\"Victoire\",\"OK\",\"ERR\"),IF(AN102=\"Nul\",IF(VLOOKUP(AK102,$A$8:$AO$107,40,FALSE)=\"Nul\",\"OK\",\"ERR\")))),\"\")","v":""},null,{"$f":"IF(AN102=\"Victoire\",100-ROUNDDOWN(20*AP102/$H102,0),\nIF(AN102=\"Défaite\",10+ROUNDDOWN(20*VLOOKUP(AK102,$A$8:$CB$107,42,FALSE)/VLOOKUP(AK102,$A$8:$H$107,8,FALSE),0),\nIF(AND(AN102=\"Nul\",$AP102<>$H102),40+(2*ROUNDDOWN(10*VLOOKUP(AK102,$A$8:$CB$107,42,FALSE)/VLOOKUP(AK102,$A$8:$H$107,8,FALSE),0)-ROUNDDOWN(10*AP102/$H102,0)),IF(AND(AN102=\"Nul\",$AP102=$H102),58,0))))","v":0},null,{"$f":"IF(AR102<>\"\",VLOOKUP(AR102,$A$8:$C$107,2,FALSE),\"\")","v":""},{"$f":"IF(AR102<>\"\",IF(AR102=$A102,\"ERR\",IF(OR(AR102=$I102,AR102=$P102,AR102=$W102,AR102=$AD102,AR102=$AK102),\"DUP\",IF(ISNA(VLOOKUP(AR102,$A$8:$A$107,1,FALSE)),\"ERR\",IF(COUNTIF($I$8:$I$107,AR102)>1,\"ERR\",IF($D102=VLOOKUP(AR102,$A$8:$D$107,4,FALSE),\"CLUB\",\"OK\"))))),\"\")","v":""},null,{"$f":"IF(AU102<>\"\",IF(AU102=\"Victoire\",IF(VLOOKUP(AR102,$A$8:$BL$107,47,FALSE)=\"Défaite\",\"OK\",\"ERR\"),IF(AU102=\"Défaite\",IF(VLOOKUP(AR102,$A$8:$BL$107,47,FALSE)=\"Victoire\",\"OK\",\"ERR\"),IF(AU102=\"Nul\",IF(VLOOKUP(AR102,$A$8:$BL$107,47,FALSE)=\"Nul\",\"OK\",\"ERR\")))),\"\")","v":""},null,{"$f":"IF(AU102=\"Victoire\",100-ROUNDDOWN(20*AW102/$H102,0),\nIF(AU102=\"Défaite\",10+ROUNDDOWN(20*VLOOKUP(AR102,$A$8:$CB$107,49,FALSE)/VLOOKUP(AR102,$A$8:$H$107,8,FALSE),0),\nIF(AND(AU102=\"Nul\",$AW102<>$H102),40+(2*ROUNDDOWN(10*VLOOKUP(AR102,$A$8:$CB$107,49,FALSE)/VLOOKUP(AR102,$A$8:$H$107,8,FALSE),0)-ROUNDDOWN(10*AW102/$H102,0)),IF(AND(AU102=\"Nul\",$AW102=$H102),58,0))))","v":0},null,{"$f":"IF(AY102<>\"\",VLOOKUP(AY102,$A$8:$C$107,2,FALSE),\"\")","v":""},{"$f":"IF(AY102<>\"\",IF(AY102=$A102,\"ERR\",IF(OR(AY102=$I102,AY102=$P102,AY102=$W102,AY102=$AD102,AY102=$AK102,AY102=$AR102),\"DUP\",IF(ISNA(VLOOKUP(AY102,$A$8:$A$107,1,FALSE)),\"ERR\",IF(COUNTIF($I$8:$I$107,AY102)>1,\"ERR\",IF($D102=VLOOKUP(AY102,$A$8:$D$107,4,FALSE),\"CLUB\",\"OK\"))))),\"\")","v":""},null,{"$f":"IF(BB102<>\"\",IF(BB102=\"Victoire\",IF(VLOOKUP(AY102,$A$8:$BL$107,54,FALSE)=\"Défaite\",\"OK\",\"ERR\"),IF(BB102=\"Défaite\",IF(VLOOKUP(AY102,$A$8:$BL$107,54,FALSE)=\"Victoire\",\"OK\",\"ERR\"),IF(BB102=\"Nul\",IF(VLOOKUP(AY102,$A$8:$BL$107,54,FALSE)=\"Nul\",\"OK\",\"ERR\")))),\"\")","v":""},null,{"$f":"IF(BB102=\"Victoire\",100-ROUNDDOWN(20*BD102/$H102,0),\nIF(BB102=\"Défaite\",10+ROUNDDOWN(20*VLOOKUP(AY102,$A$8:$CB$107,56,FALSE)/VLOOKUP(AY102,$A$8:$H$107,8,FALSE),0),\nIF(AND(BB102=\"Nul\",$BD102<>$H102),40+(2*ROUNDDOWN(10*VLOOKUP(AY102,$A$8:$CB$107,56,FALSE)/VLOOKUP(AY102,$A$8:$H$107,8,FALSE),0)-ROUNDDOWN(10*BD102/$H102,0)),IF(AND(BB102=\"Nul\",$BD102=$H102),58,0))))","v":0},null,{"$f":"IF(BF102<>\"\",VLOOKUP(BF102,$A$8:$C$107,2,FALSE),\"\")","v":""},{"$f":"IF(BF102<>\"\",IF(BF102=$A102,\"ERR\",IF(OR(BF102=$I102,BF102=$P102,BF102=$W102,BF102=$AD102,BF102=$AK102,BF102=$AR102,BF102=$AY102),\"DUP\",IF(ISNA(VLOOKUP(BF102,$A$8:$A$107,1,FALSE)),\"ERR\",IF(COUNTIF($I$8:$I$107,BF102)>1,\"ERR\",IF($D102=VLOOKUP(BF102,$A$8:$D$107,4,FALSE),\"CLUB\",\"OK\"))))),\"\")","v":""},null,{"$f":"IF(BI102<>\"\",IF(BI102=\"Victoire\",IF(VLOOKUP(BF102,$A$8:$BL$107,61,FALSE)=\"Défaite\",\"OK\",\"ERR\"),IF(BI102=\"Défaite\",IF(VLOOKUP(BF102,$A$8:$BL$107,61,FALSE)=\"Victoire\",\"OK\",\"ERR\"),IF(BI102=\"Nul\",IF(VLOOKUP(BF102,$A$8:$BL$107,61,FALSE)=\"Nul\",\"OK\",\"ERR\")))),\"\")","v":""},null,{"$f":"IF(BI102=\"Victoire\",100-ROUNDDOWN(20*BK102/$H102,0),\nIF(BI102=\"Défaite\",10+ROUNDDOWN(20*VLOOKUP(BF102,$A$8:$CB$107,63,FALSE)/VLOOKUP(BF102,$A$8:$H$107,8,FALSE),0),\nIF(AND(BI102=\"Nul\",$BK102<>$H102),40+(2*ROUNDDOWN(10*VLOOKUP(BF102,$A$8:$CB$107,63,FALSE)/VLOOKUP(BF102,$A$8:$H$107,8,FALSE),0)-ROUNDDOWN(10*BK102/$H102,0)),IF(AND(BI102=\"Nul\",$BK102=$H102),58,0))))","v":0},null,{"$f":"IF(BM102<>\"\",VLOOKUP(BM102,$A$8:$C$107,2,FALSE),\"\")","v":""},{"$f":"IF(BM102<>\"\",IF(BM102=$A102,\"ERR\",IF(OR(BM102=$I102,BM102=$P102,BM102=$W102,BM102=$AD102,BM102=$AK102,BM102=$AR102,BM102=$AY102,BM102=$BF102),\"DUP\",IF(ISNA(VLOOKUP(BM102,$A$8:$A$107,1,FALSE)),\"ERR\",IF(COUNTIF($I$8:$I$107,BM102)>1,\"ERR\",IF($D102=VLOOKUP(BM102,$A$8:$D$107,4,FALSE),\"CLUB\",\"OK\"))))),\"\")","v":""},null,{"$f":"IF(BP102<>\"\",IF(BP102=\"Victoire\",IF(VLOOKUP(BM102,$A$8:$BS$107,68,FALSE)=\"Défaite\",\"OK\",\"ERR\"),IF(BP102=\"Défaite\",IF(VLOOKUP(BM102,$A$8:$BS$107,68,FALSE)=\"Victoire\",\"OK\",\"ERR\"),IF(BP102=\"Nul\",IF(VLOOKUP(BM102,$A$8:$BS$107,68,FALSE)=\"Nul\",\"OK\",\"ERR\")))),\"\")","v":""},null,{"$f":"IF(BP102=\"Victoire\",100-ROUNDDOWN(20*BR102/$H102,0),\nIF(BP102=\"Défaite\",10+ROUNDDOWN(20*VLOOKUP(BM102,$A$8:$CB$107,70,FALSE)/VLOOKUP(BM102,$A$8:$H$107,8,FALSE),0),\nIF(AND(BP102=\"Nul\",$BR102<>$H102),40+(2*ROUNDDOWN(10*VLOOKUP(BM102,$A$8:$CB$107,70,FALSE)/VLOOKUP(BM102,$A$8:$H$107,8,FALSE),0)-ROUNDDOWN(10*BR102/$H102,0)),IF(AND(BP102=\"Nul\",$BR102=$H102),58,0))))","v":0},null,{"$f":"IF($I102<>\"\",VLOOKUP($I102,$A$8:$N$107,5,FALSE),0)+IF($P102<>\"\",VLOOKUP($P102,$A$8:$N$107,5,FALSE),0)+IF($W102<>\"\",VLOOKUP($W102,$A$8:$N$107,5,FALSE),0)+IF($AD102<>\"\",VLOOKUP($AD102,$A$8:$N$107,5,FALSE),0)+IF($AK102<>\"\",VLOOKUP($AK102,$A$8:$N$107,5,FALSE),0)+IF($AR102<>\"\",VLOOKUP($AR102,$A$8:$N$107,5,FALSE),0)+IF($AY102<>\"\",VLOOKUP($AY102,$A$8:$N$107,5,FALSE),0)+IF($BF102<>\"\",VLOOKUP($BF102,$A$8:$N$107,5,FALSE),0)+IF($BM102<>\"\",VLOOKUP($BM102,$A$8:$N$107,5,FALSE),0)","v":0}]
[{"$nulls":4},0,null,{"$f":"IF($F103<>\"\",VLOOKUP(F103,Armies!$A$1:$C$300,3,FALSE),\"\")","v":""},null,null,{"$f":"IF(I103<>\"\",VLOOKUP(I103,$A$8:$C$107,2,FALSE),\"\")","v":""},{"$f":"IF(I103<>\"\",IF(I103=$A103,\"ERR\",IF(OR(I103=$P103,I103=$W103,I103=$AD103,I103=$AK103),\"DUP\",IF(ISNA(VLOOKUP(I103,$A$8:$A$107,1,FALSE)),\"ERR\",IF(COUNTIF($I$8:$I$107,I103)>1,\"ERR\",IF($D103=VLOOKUP(I103,$A$8:$D$107,4,FALSE),\"CLUB\",\"OK\"))))),\"\")","v":""},null,{"$f":"IF(L103<>\"\",IF(L103=\"Victoire\",IF(VLOOKUP(I103,$A$8:$L$107,12,FALSE)=\"Défaite\",\"OK\",\"ERR\"),IF(L103=\"Défaite\",IF(VLOOKUP(I103,$A$8:$L$107,12,FALSE)=\"Victoire\",\"OK\",\"ERR\"),IF(L103=\"Nul\",IF(VLOOKUP(I103,$A$8:$L$107,12,FALSE)=\"Nul\",\"OK\",\"ERR\")))),\"\")","v":""},null,{"$f":"IF(L103=\"Victoire\",100-ROUNDDOWN(20*N103/$H103,0),\nIF(L103=\"Défaite\",10+ROUNDDOWN(20*VLOOKUP(I103,$A$8:$N$107,14,FALSE)/VLOOKUP(I103,$A$8:$H$107,8,FALSE),0),\nIF(AND(L103=\"Nul\",$N103<>$H103),40+(2*ROUNDDOWN(10*VLOOKUP(I103,$A$8:$N$107,14,FALSE)/VLOOKUP(I103,$A$8:$H$107,8,FALSE),0)-ROUNDDOWN(10*N103/$H103,0)),IF(AND(L103=\"Nul\",$N103=$H103),58,0))))","v":0},null,{"$f":"IF(P103<>\"\",VLOOKUP(P103,$A$8:$C$107,2,FALSE),\"\")","v":""},{"$f":"IF(P103<>\"\",IF(P103=$A103,\"ERR\",IF(OR(P103=$I103,P103=$W103,P103=$AD103,P103=$AK103),\"DUP\",IF(ISNA(VLOOKUP(P103,$A$8:$A$107,1,FALSE)),\"ERR\",IF(COUNTIF($I$8:$I$107,P103)>1,\"ERR\",IF($D103=VLOOKUP(P103,$A$8:$D$107,4,FALSE),\"CLUB\",\"OK\"))))),\"\")","v":""},null,{"$f":"IF(S103<>\"\",IF(S103=\"Victoire\",IF(VLOOKUP(P103,$A$8:$AO$107,19,FALSE)=\"Défaite\",\"OK\",\"ERR\"),IF(S103=\"Défaite\",IF(VLOOKUP(P103,$A$8:$AO$107,19,FALSE)=\"Victoire\",\"OK\",\"ERR\"),IF(S103=\"Nul\",IF(VLOOKUP(P103,$A$8:$AO$107,19,FALSE)=\"Nul\",\"OK\",\"ERR\")))),\"\")","v":""},null,{"$f":"IF(S103=\"Victoire\",100-ROUNDDOWN(20*U103/$H103,0),\nIF(S103=\"Défaite\",10+ROUNDDOWN(20*VLOOKUP(P103,$A$8:$AO$107,21,FALSE)/VLOOKUP(P103,$A$8:$H$107,8,FALSE),0),\nIF(AND(S103=\"Nul\",$U103<>$H103),40+(2*ROUNDDOWN(10*VLOOKUP(P103,$A$8:$AO$107,21,FALSE)/VLOOKUP(P103,$A$8:$H$107,8,FALSE),0)-ROUNDDOWN(10*U103/$H103,0)),IF(AND(S103=\"Nul\",$U103=$H103),58,0))))","v":0},null,{"$f":"IF(W103<>\"\",VLOOKUP(W103,$A$8:$C$107,2,FALSE),\"\")","v":""},{"$f":"IF(W103<>\"\",IF(W103=$A103,\"ERR\",IF(OR(W103=$P103,W103=$I103,W103=$AD103,W103=$AK103),\"DUP\",IF(ISNA(VLOOKUP(W103,$A$8:$A$107,1,FALSE)),\"ERR\",IF(COUNTIF($I$8:$I$107,W103)>1,\"ERR\",IF($D103=VLOOKUP(W103,$A$8:$D$107,4,FALSE),\"CLUB\",\"OK\"))))),\"\")","v":""},null,{"$f":"IF(Z103<>\"\",IF(Z103=\"Victoire\",IF(VLOOKUP(W103,$A$8:$AO$107,26,FALSE)=\"Défaite\",\"OK\",\"ERR\"),IF(Z103=\"Défaite\",IF(VLOOKUP(W103,$A$8:$AO$107,26,FALSE)=\"Victoire\",\"OK\",\"ERR\"),IF(Z103=\"Nul\",IF(VLOOKUP(W103,$A$8:$AO$107,26,FALSE)=\"Nul\",\"OK\",\"ERR\")))),\"\")","v":""},null,{"$f":"IF(Z103=\"Victoire\",100-ROUNDDOWN(20*AB103/$H103,0),\nIF(Z103=\"Défaite\",10+ROUNDDOWN(20*VLOOKUP(W103,$A$8:$AO$107,28,FALSE)/VLOOKUP(W103,$A$8:$H$107,8,FALSE),0),\nIF(AND(Z103=\"Nul\",$AB103<>$H103),40+(2*ROUNDDOWN(10*VLOOKUP(W103,$A$8:$AO$107,28,FALSE)/VLOOKUP(W103,$A$8:$H$107,8,FALSE),0)-ROUNDDOWN(10*AB103/$H103,0)),IF(AND(Z103=\"Nul\",$AB103=$H103),58,0))))","v":0},null,{"$f":"IF(AD103<>\"\",VLOOKUP(AD103,$A$8:$C$107,2,FALSE),\"\")","v":""},{"$f":"IF(AD103<>\"\",IF(AD103=$A103,\"ERR\",IF(OR(AD103=$P103,AD103=$W103,AD103=$I103,AD103=$AK103),\"DUP\",IF(ISNA(VLOOKUP(AD103,$A$8:$A$107,1,FALSE)),\"ERR\",IF(COUNTIF($I$8:$I$107,AD103)>1,\"ERR\",IF($D103=VLOOKUP(AD103,$A$8:$D$107,4,FALSE),\"CLUB\",\"OK\"))))),\"\")","v":""},null,{"$f":"IF(AG103<>\"\",IF(AG103=\"Victoire\",IF(VLOOKUP(AD103,$A$8:$AO$107,33,FALSE)=\"Défaite\",\"OK\",\"ERR\"),IF(AG103=\"Défaite\",IF(VLOOKUP(AD103,$A$8:$AO$107,33,FALSE)=\"Victoire\",\"OK\",\"ERR\"),IF(AG103=\"Nul\",IF(VLOOKUP(AD103,$A$8:$AO$107,33,FALSE)=\"Nul\",\"OK\",\"ERR\")))),\"\")","v":""},null,{"$f":"IF(AG103=\"Victoire\",100-ROUNDDOWN(20*AI103/$H103,0),\nIF(AG103=\"Défaite\",10+ROUNDDOWN(20*VLOOKUP(AD103,$A$8:$AO$107,35,FALSE)/VLOOKUP(AD103,$A$8:$H$107,8,FALSE),0),\nIF(AND(AG103=\"Nul\",$AI103<>$H103),40+(2*ROUNDDOWN(10*VLOOKUP(AD103,$A$8:$AO$107,35,FALSE)/VLOOKUP(AD103,$A$8:$H$107,8,FALSE),0)-ROUNDDOWN(10*AI103/$H103,0)),IF(AND(AG103=\"Nul\",$AI103=$H103),58,0))))","v":0},null,{"$f":"IF(AK103<>\"\",VLOOKUP(AK103,$A$8:$C$107,2,FALSE),\"\")","v":""},{"$f":"IF(AK103<>\"\",IF(AK103=$A103,\"ERR\",IF(OR(AK103=$P103,AK103=$W103,AK103=$AD103,AK103=$I103),\"DUP\",IF(ISNA(VLOOKUP(AK103,$A$8:$A$107,1,FALSE)),\"ERR\",IF(COUNTIF($I$8:$I$107,AK103)>1,\"ERR\",IF($D103=VLOOKUP(AK103,$A$8:$D$107,4,FALSE),\"CLUB\",\"OK\"))))),\"\")","v":""},null,{"$f":"IF(AN103<>\"\",IF(AN103=\"Victoire\",IF(VLOOKUP(AK103,$A$8:$AO$107,40,FALSE)=\"Défaite\",\"OK\",\"ERR\"),IF(AN103=\"Défaite\",IF(VLOOKUP(AK103,$A$8:$AO$107,40,FALSE)=\"Victoire\",\"OK\",\"ERR\"),IF(AN103=\"Nul\",IF(VLOOKUP(AK103,$A$8:$AO$107,40,FALSE)=\"Nul\",\"OK\",\"ERR\")))),\"\")","v":""},null,{"$f":"IF(AN103=\"Victoire\",100-ROUNDDOWN(20*AP103/$H103,0),\nIF(AN103=\"Défaite\",10+ROUNDDOWN(20*VLOOKUP(AK103,$A$8:$CB$107,42,FALSE)/VLOOKUP(AK103,$A$8:$H$107,8,FALSE),0),\nIF(AND(AN103=\"Nul\",$AP103<>$H103),40+(2*ROUNDDOWN(10*VLOOKUP(AK103,$A$8:$CB$107,42,FALSE)/VLOOKUP(AK103,$A$8:$H$107,8,FALSE),0)-ROUNDDOWN(10*AP103/$H103,0)),IF(AND(AN103=\"Nul\",$AP103=$H103),58,0))))","v":0},null,{"$f":"IF(AR103<>\"\",VLOOKUP(AR103,$A$8:$C$107,2,FALSE),\"\")","v":""},{"$f":"IF(AR103<>\"\",IF(AR103=$A103,\"ERR\",IF(OR(AR103=$I103,AR103=$P103,AR103=$W103,AR103=$AD103,AR103=$AK103),\"DUP\",IF(ISNA(VLOOKUP(AR103,$A$8:$A$107,1,FALSE)),\"ERR\",IF(COUNTIF($I$8:$I$107,AR103)>1,\"ERR\",IF($D103=VLOOKUP(AR103,$A$8:$D$107,4,FALSE),\"CLUB\",\"OK\"))))),\"\")","v":""},null,{"$f":"IF(AU103<>\"\",IF(AU103=\"Victoire\",IF(VLOOKUP(AR103,$A$8:$BL$107,47,FALSE)=\"Défaite\",\"OK\",\"ERR\"),IF(AU103=\"Défaite\",IF(VLOOKUP(AR103,$A$8:$BL$107,47,FALSE)=\"Victoire\",\"OK\",\"ERR\"),IF(AU103=\"Nul\",IF(VLOOKUP(AR103,$A$8:$BL$107,47,FALSE)=\"Nul\",\"OK\",\"ERR\")))),\"\")","v":""},null,{"$f":"IF(AU103=\"Victoire\",100-ROUNDDOWN(20*AW103/$H103,0),\nIF(AU103=\"Défaite\",10+ROUNDDOWN(20*VLOOKUP(AR103,$A$8:$CB$107,49,FALSE)/VLOOKUP(AR103,$A$8:$H$107,8,FALSE),0),\nIF(AND(AU103=\"Nul\",$AW103<>$H103),40+(2*ROUNDDOWN(10*VLOOKUP(AR103,$A$8:$CB$107,49,FALSE)/VLOOKUP(AR103,$A$8:$H$107,8,FALSE),0)-ROUNDDOWN(10*AW103/$H103,0)),IF(AND(AU103=\"Nul\",$AW103=$H103),58,0))))","v":0},null,{"$f":"IF(AY103<>\"\",VLOOKUP(AY103,$A$8:$C$107,2,FALSE),\"\")","v":""},{"$f":"IF(AY103<>\"\",IF(AY103=$A103,\"ERR\",IF(OR(AY103=$I103,AY103=$P103,AY103=$W103,AY103=$AD103,AY103=$AK103,AY103=$AR103),\"DUP\",IF(ISNA(VLOOKUP(AY103,$A$8:$A$107,1,FALSE)),\"ERR\",IF(COUNTIF($I$8:$I$107,AY103)>1,\"ERR\",IF($D103=VLOOKUP(AY103,$A$8:$D$107,4,FALSE),\"CLUB\",\"OK\"))))),\"\")","v":""},null,{"$f":"IF(BB103<>\"\",IF(BB103=\"Victoire\",IF(VLOOKUP(AY103,$A$8:$BL$107,54,FALSE)=\"Défaite\",\"OK\",\"ERR\"),IF(BB103=\"Défaite\",IF(VLOOKUP(AY103,$A$8:$BL$107,54,FALSE)=\"Victoire\",\"OK\",\"ERR\"),IF(BB103=\"Nul\",IF(VLOOKUP(AY103,$A$8:$BL$107,54,FALSE)=\"Nul\",\"OK\",\"ERR\")))),\"\")","v":""},null,{"$f":"IF(BB103=\"Victoire\",100-ROUNDDOWN(20*BD103/$H103,0),\nIF(BB103=\"Défaite\",10+ROUNDDOWN(20*VLOOKUP(AY103,$A$8:$CB$107,56,FALSE)/VLOOKUP(AY103,$A$8:$H$107,8,FALSE),0),\nIF(AND(BB103=\"Nul\",$BD103<>$H103),40+(2*ROUNDDOWN(10*VLOOKUP(AY103,$A$8:$CB$107,56,FALSE)/VLOOKUP(AY103,$A$8:$H$107,8,FALSE),0)-ROUNDDOWN(10*BD103/$H103,0)),IF(AND(BB103=\"Nul\",$BD103=$H103),58,0))))","v":0},null,{"$f":"IF(BF103<>\"\",VLOOKUP(BF103,$A$8:$C$107,2,FALSE),\"\")","v":""},{"$f":"IF(BF103<>\"\",IF(BF103=$A103,\"ERR\",IF(OR(BF103=$I103,BF103=$P103,BF103=$W103,BF103=$AD103,BF103=$AK103,BF103=$AR103,BF103=$AY103),\"DUP\",IF(ISNA(VLOOKUP(BF103,$A$8:$A$107,1,FALSE)),\"ERR\",IF(COUNTIF($I$8:$I$107,BF103)>1,\"ERR\",IF($D103=VLOOKUP(BF103,$A$8:$D$107,4,FALSE),\"CLUB\",\"OK\"))))),\"\")","v":""},null,{"$f":"IF(BI103<>\"\",IF(BI103=\"Victoire\",IF(VLOOKUP(BF103,$A$8:$BL$107,61,FALSE)=\"Défaite\",\"OK\",\"ERR\"),IF(BI103=\"Défaite\",IF(VLOOKUP(BF103,$A$8:$BL$107,61,FALSE)=\"Victoire\",\"OK\",\"ERR\"),IF(BI103=\"Nul\",IF(VLOOKUP(BF103,$A$8:$BL$107,61,FALSE)=\"Nul\",\"OK\",\"ERR\")))),\"\")","v":""},null,{"$f":"IF(BI103=\"Victoire\",100-ROUNDDOWN(20*BK103/$H103,0),\nIF(BI103=\"Défaite\",10+ROUNDDOWN(20*VLOOKUP(BF103,$A$8:$CB$107,63,FALSE)/VLOOKUP(BF103,$A$8:$H$107,8,FALSE),0),\nIF(AND(BI103=\"Nul\",$BK103<>$H103),40+(2*ROUNDDOWN(10*VLOOKUP(BF103,$A$8:$CB$107,63,FALSE)/VLOOKUP(BF103,$A$8:$H$107,8,FALSE),0)-ROUNDDOWN(10*BK103/$H103,0)),IF(AND(BI103=\"Nul\",$BK103=$H103),58,0))))","v":0},null,{"$f":"IF(BM103<>\"\",VLOOKUP(BM103,$A$8:$C$107,2,FALSE),\"\")","v":""},{"$f":"IF(BM103<>\"\",IF(BM103=$A103,\"ERR\",IF(OR(BM103=$I103,BM103=$P103,BM103=$W103,BM103=$AD103,BM103=$AK103,BM103=$AR103,BM103=$AY103,BM103=$BF103),\"DUP\",IF(ISNA(VLOOKUP(BM103,$A$8:$A$107,1,FALSE)),\"ERR\",IF(COUNTIF($I$8:$I$107,BM103)>1,\"ERR\",IF($D103=VLOOKUP(BM103,$A$8:$D$107,4,FALSE),\"CLUB\",\"OK\"))))),\"\")","v":""},null,{"$f":"IF(BP103<>\"\",IF(BP103=\"Victoire\",IF(VLOOKUP(BM103,$A$8:$BS$107,68,FALSE)=\"Défaite\",\"OK\",\"ERR\"),IF(BP103=\"Défaite\",IF(VLOOKUP(BM103,$A$8:$BS$107,68,FALSE)=\"Victoire\",\"OK\",\"ERR\"),IF(BP103=\"Nul\",IF(VLOOKUP(BM103,$A$8:$BS$107,68,FALSE)=\"Nul\",\"OK\",\"ERR\")))),\"\")","v":""},null,{"$f":"IF(BP103=\"Victoire\",100-ROUNDDOWN(20*BR103/$H103,0),\nIF(BP103=\"Défaite\",10+ROUNDDOWN(20*VLOOKUP(BM103,$A$8:$CB$107,70,FALSE)/VLOOKUP(BM103,$A$8:$H$107,8,FALSE),0),\nIF(AND(BP103=\"Nul\",$BR103<>$H103),40+(2*ROUNDDOWN(10*VLOOKUP(BM103,$A$8:$CB$107,70,FALSE)/VLOOKUP(BM103,$A$8:$H$107,8,FALSE),0)-ROUNDDOWN(10*BR103/$H103,0)),IF(AND(BP103=\"Nul\",$BR103=$H103),58,0))))","v":0},null,{"$f":"IF($I103<>\"\",VLOOKUP($I103,$A$8:$N$107,5,FALSE),0)+IF($P103<>\"\",VLOOKUP($P103,$A$8:$N$107,5,FALSE),0)+IF($W103<>\"\",VLOOKUP($W103,$A$8:$N$107,5,FALSE),0)+IF($AD103<>\"\",VLOOKUP($AD103,$A$8:$N$107,5,FALSE),0)+IF($AK103<>\"\",VLOOKUP($AK103,$A$8:$N$107,5,FALSE),0)+IF($AR103<>\"\",VLOOKUP($AR103,$A$8:$N$107,5,FALSE),0)+IF($AY103<>\"\",VLOOKUP($AY103,$A$8:$N$107,5,FALSE),0)+IF($BF103<>\"\",VLOOKUP($BF103,$A$8:$N$107,5,FALSE),0)+IF($BM103<>\"\",VLOOKUP($BM103,$A$8:$N$107,5,FALSE),0)","v":0}]
[{"$nulls":4},0,null,{"$f":"IF($F104<>\"\",VLOOKUP(F104,Armies!$A$1:$C$300,3,FALSE),\"\")","v":""},null,null,{"$f":"IF(I104<>\"\",VLOOKUP(I104,$A$8:$C$107,2,FALSE),\"\")","v":""},{"$f":"IF(I104<>\"\",IF(I104=$A104,\"ERR\",IF(OR(I104=$P104,I104=$W104,I104=$AD104,I104=$AK104),\"DUP\",IF(ISNA(VLOOKUP(I104,$A$8:$A$107,1,FALSE)),\"ERR\",IF(COUNTIF($I$8:$I$107,I104)>1,\"ERR\",IF($D104=VLOOKUP(I104,$A$8:$D$107,4,FALSE),\"CLUB\",\"OK\"))))),\"\")","v":""},null,{"$f":"IF(L104<>\"\",IF(L104=\"Victoire\",IF(VLOOKUP(I104,$A$8:$L$107,12,FALSE)=\"Défaite\",\"OK\",\"ERR\"),IF(L104=\"Défaite\",IF(VLOOKUP(I104,$A$8:$L$107,12,FALSE)=\"Victoire\",\"OK\",\"ERR\"),IF(L104=\"Nul\",IF(VLOOKUP(I104,$A$8:$L$107,12,FALSE)=\"Nul\",\"OK\",\"ERR\")))),\"\")","v":""},null,{"$f":"IF(L104=\"Victoire\",100-ROUNDDOWN(20*N104/$H104,0),\nIF(L104=\"Défaite\",10+ROUNDDOWN(20*VLOOKUP(I104,$A$8:$N$107,14,FALSE)/VLOOKUP(I104,$A$8:$H$107,8,FALSE),0),\nIF(AND(L104=\"Nul\",$N104<>$H104),40+(2*ROUNDDOWN(10*VLOOKUP(I104,$A$8:$N$107,14,FALSE)/VLOOKUP(I104,$A$8:$H$107,8,FALSE),0)-ROUNDDOWN(10*N104/$H104,0)),IF(AND(L104=\"Nul\",$N104=$H104),58,0))))","v":0},null,{"$f":"IF(P104<>\"\",VLOOKUP(P104,$A$8:$C$107,2,FALSE),\"\")","v":""},{"$f":"IF(P104<>\"\",IF(P104=$A104,\"ERR\",IF(OR(P104=$I104,P104=$W104,P104=$AD104,P104=$AK104),\"DUP\",IF(ISNA(VLOOKUP(P104,$A$8:$A$107,1,FALSE)),\"ERR\",IF(COUNTIF($I$8:$I$107,P104)>1,\"ERR\",IF($D104=VLOOKUP(P104,$A$8:$D$107,4,FALSE),\"CLUB\",\"OK\"))))),\"\")","v":""},null,{"$f":"IF(S104<>\"\",IF(S104=\"Victoire\",IF(VLOOKUP(P104,$A$8:$AO$107,19,FALSE)=\"Défaite\",\"OK\",\"ERR\"),IF(S104=\"Défaite\",IF(VLOOKUP(P104,$A$8:$AO$107,19,FALSE)=\"Victoire\",\"OK\",\"ERR\"),IF(S104=\"Nul\",IF(VLOOKUP(P104,$A$8:$AO$107,19,FALSE)=\"Nul\",\"OK\",\"ERR\")))),\"\")","v":""},null,{"$f":"IF(S104=\"Victoire\",100-ROUNDDOWN(20*U104/$H104,0),\nIF(S104=\"Défaite\",10+ROUNDDOWN(20*VLOOKUP(P104,$A$8:$AO$107,21,FALSE)/VLOOKUP(P104,$A$8:$H$107,8,FALSE),0),\nIF(AND(S104=\"Nul\",$U104<>$H104),40+(2*ROUNDDOWN(10*VLOOKUP(P104,$A$8:$AO$107,21,FALSE)/VLOOKUP(P104,$A$8:$H$107,8,FALSE),0)-ROUNDDOWN(10*U104/$H104,0)),IF(AND(S104=\"Nul\",$U104=$H104),58,0))))","v":0},null,{"$f":"IF(W104<>\"\",VLOOKUP(W104,$A$8:$C$107,2,FALSE),\"\")","v":""},{"$f":"IF(W104<>\"\",IF(W104=$A104,\"ERR\",IF(OR(W104=$P104,W104=$I104,W104=$AD104,W104=$AK104),\"DUP\",IF(ISNA(VLOOKUP(W104,$A$8:$A$107,1,FALSE)),\"ERR\",IF(COUNTIF($I$8:$I$107,W104)>1,\"ERR\",IF($D104=VLOOKUP(W104,$A$8:$D$107,4,FALSE),\"CLUB\",\"OK\"))))),\"\")","v":""},null,{"$f":"IF(Z104<>\"\",IF(Z104=\"Victoire\",IF(VLOOKUP(W104,$A$8:$AO$107,26,FALSE)=\"Défaite\",\"OK\",\"ERR\"),IF(Z104=\"Défaite\",IF(VLOOKUP(W104,$A$8:$AO$107,26,FALSE)=\"Victoire\",\"OK\",\"ERR\"),IF(Z104=\"Nul\",IF(VLOOKUP(W104,$A$8:$AO$107,26,FALSE)=\"Nul\",\"OK\",\"ERR\")))),\"\")","v":""},null,{"$f":"IF(Z104=\"Victoire\",100-ROUNDDOWN(20*AB104/$H104,0),\nIF(Z104=\"Défaite\",10+ROUNDDOWN(20*VLOOKUP(W104,$A$8:$AO$107,28,FALSE)/VLOOKUP(W104,$A$8:$H$107,8,FALSE),0),\nIF(AND(Z104=\"Nul\",$AB104<>$H104),40+(2*ROUNDDOWN(10*VLOOKUP(W104,$A$8:$AO$107,28,FALSE)/VLOOKUP(W104,$A$8:$H$107,8,FALSE),0)-ROUNDDOWN(10*AB104/$H104,0)),IF(AND(Z104=\"Nul\",$AB104=$H104),58,0))))","v":0},null,{"$f":"IF(AD104<>\"\",VLOOKUP(AD104,$A$8:$C$107,2,FALSE),\"\")","v":""},{"$f":"IF(AD104<>\"\",IF(AD104=$A104,\"ERR\",IF(OR(AD104=$P104,AD104=$W104,AD104=$I104,AD104=$AK104),\"DUP\",IF(ISNA(VLOOKUP(AD104,$A$8:$A$107,1,FALSE)),\"ERR\",IF(COUNTIF($I$8:$I$107,AD104)>1,\"ERR\",IF($D104=VLOOKUP(AD104,$A$8:$D$107,4,FALSE),\"CLUB\",\"OK\"))))),\"\")","v":""},null,{"$f":"IF(AG104<>\"\",IF(AG104=\"Victoire\",IF(VLOOKUP(AD104,$A$8:$AO$107,33,FALSE)=\"Défaite\",\"OK\",\"ERR\"),IF(AG104=\"Défaite\",IF(VLOOKUP(AD104,$A$8:$AO$107,33,FALSE)=\"Victoire\",\"OK\",\"ERR\"),IF(AG104=\"Nul\",IF(VLOOKUP(AD104,$A$8:$AO$107,33,FALSE)=\"Nul\",\"OK\",\"ERR\")))),\"\")","v":""},null,{"$f":"IF(AG104=\"Victoire\",100-ROUNDDOWN(20*AI104/$H104,0),\nIF(AG104=\"Défaite\",10+ROUNDDOWN(20*VLOOKUP(AD104,$A$8:$AO$107,35,FALSE)/VLOOKUP(AD104,$A$8:$H$107,8,FALSE),0),\nIF(AND(AG104=\"Nul\",$AI104<>$H104),40+(2*ROUNDDOWN(10*VLOOKUP(AD104,$A$8:$AO$107,35,FALSE)/VLOOKUP(AD104,$A$8:$H$107,8,FALSE),0)-ROUNDDOWN(10*AI104/$H104,0)),IF(AND(AG104=\"Nul\",$AI104=$H104),58,0))))","v":0},null,{"$f":"IF(AK104<>\"\",VLOOKUP(AK104,$A$8:$C$107,2,FALSE),\"\")","v":""},{"$f":"IF(AK104<>\"\",IF(AK104=$A104,\"ERR\",IF(OR(AK104=$P104,AK104=$W104,AK104=$AD104,AK104=$I104),\"DUP\",IF(ISNA(VLOOKUP(AK104,$A$8:$A$107,1,FALSE)),\"ERR\",IF(COUNTIF($I$8:$I$107,AK104)>1,\"ERR\",IF($D104=VLOOKUP(AK104,$A$8:$D$107,4,FALSE),\"CLUB\",\"OK\"))))),\"\")","v":""},null,{"$f":"IF(AN104<>\"\",IF(AN104=\"Victoire\",IF(VLOOKUP(AK104,$A$8:$AO$107,40,FALSE)=\"Défaite\",\"OK\",\"ERR\"),IF(AN104=\"Défaite\",IF(VLOOKUP(AK104,$A$8:$AO$107,40,FALSE)=\"Victoire\",\"OK\",\"ERR\"),IF(AN104=\"Nul\",IF(VLOOKUP(AK104,$A$8:$AO$107,40,FALSE)=\"Nul\",\"OK\",\"ERR\")))),\"\")","v":""},null,{"$f":"IF(AN104=\"Victoire\",100-ROUNDDOWN(20*AP104/$H104,0),\nIF(AN104=\"Défaite\",10+ROUNDDOWN(20*VLOOKUP(AK104,$A$8:$CB$107,42,FALSE)/VLOOKUP(AK104,$A$8:$H$107,8,FALSE),0),\nIF(AND(AN104=\"Nul\",$AP104<>$H104),40+(2*ROUNDDOWN(10*VLOOKUP(AK104,$A$8:$CB$107,42,FALSE)/VLOOKUP(AK104,$A$8:$H$107,8,FALSE),0)-ROUNDDOWN(10*AP104/$H104,0)),IF(AND(AN104=\"Nul\",$AP104=$H104),58,0))))","v":0},null,{"$f":"IF(AR104<>\"\",VLOOKUP(AR104,$A$8:$C$107,2,FALSE),\"\")","v":""},{"$f":"IF(AR104<>\"\",IF(AR104=$A104,\"ERR\",IF(OR(AR104=$I104,AR104=$P104,AR104=$W104,AR104=$AD104,AR104=$AK104),\"DUP\",IF(ISNA(VLOOKUP(AR104,$A$8:$A$107,1,FALSE)),\"ERR\",IF(COUNTIF($I$8:$I$107,AR104)>1,\"ERR\",IF($D104=VLOOKUP(AR104,$A$8:$D$107,4,FALSE),\"CLUB\",\"OK\"))))),\"\")","v":""},null,{"$f":"IF(AU104<>\"\",IF(AU104=\"Victoire\",IF(VLOOKUP(AR104,$A$8:$BL$107,47,FALSE)=\"Défaite\",\"OK\",\"ERR\"),IF(AU104=\"Défaite\",IF(VLOOKUP(AR104,$A$8:$BL$107,47,FALSE)=\"Victoire\",\"OK\",\"ERR\"),IF(AU104=\"Nul\",IF(VLOOKUP(AR104,$A$8:$BL$107,47,FALSE)=\"Nul\",\"OK\",\"ERR\")))),\"\")","v":""},null,{"$f":"IF(AU104=\"Victoire\",100-ROUNDDOWN(20*AW104/$H104,0),\nIF(AU104=\"Défaite\",10+ROUNDDOWN(20*VLOOKUP(AR104,$A$8:$CB$107,49,FALSE)/VLOOKUP(AR104,$A$8:$H$107,8,FALSE),0),\nIF(AND(AU104=\"Nul\",$AW104<>$H104),40+(2*ROUNDDOWN(10*VLOOKUP(AR104,$A$8:$CB$107,49,FALSE)/VLOOKUP(AR104,$A$8:$H$107,8,FALSE),0)-ROUNDDOWN(10*AW104/$H104,0)),IF(AND(AU104=\"Nul\",$AW104=$H104),58,0))))","v":0},null,{"$f":"IF(AY104<>\"\",VLOOKUP(AY104,$A$8:$C$107,2,FALSE),\"\")","v":""},{"$f":"IF(AY104<>\"\",IF(AY104=$A104,\"ERR\",IF(OR(AY104=$I104,AY104=$P104,AY104=$W104,AY104=$AD104,AY104=$AK104,AY104=$AR104),\"DUP\",IF(ISNA(VLOOKUP(AY104,$A$8:$A$107,1,FALSE)),\"ERR\",IF(COUNTIF($I$8:$I$107,AY104)>1,\"ERR\",IF($D104=VLOOKUP(AY104,$A$8:$D$107,4,FALSE),\"CLUB\",\"OK\"))))),\"\")","v":""},null,{"$f":"IF(BB104<>\"\",IF(BB104=\"Victoire\",IF(VLOOKUP(AY104,$A$8:$BL$107,54,FALSE)=\"Défaite\",\"OK\",\"ERR\"),IF(BB104=\"Défaite\",IF(VLOOKUP(AY104,$A$8:$BL$107,54,FALSE)=\"Victoire\",\"OK\",\"ERR\"),IF(BB104=\"Nul\",IF(VLOOKUP(AY104,$A$8:$BL$107,54,FALSE)=\"Nul\",\"OK\",\"ERR\")))),\"\")","v":""},null,{"$f":"IF(BB104=\"Victoire\",100-ROUNDDOWN(20*BD104/$H104,0),\nIF(BB104=\"Défaite\",10+ROUNDDOWN(20*VLOOKUP(AY104,$A$8:$CB$107,56,FALSE)/VLOOKUP(AY104,$A$8:$H$107,8,FALSE),0),\nIF(AND(BB104=\"Nul\",$BD104<>$H104),40+(2*ROUNDDOWN(10*VLOOKUP(AY104,$A$8:$CB$107,56,FALSE)/VLOOKUP(AY104,$A$8:$H$107,8,FALSE),0)-ROUNDDOWN(10*BD104/$H104,0)),IF(AND(BB104=\"Nul\",$BD104=$H104),58,0))))","v":0},null,{"$f":"IF(BF104<>\"\",VLOOKUP(BF104,$A$8:$C$107,2,FALSE),\"\")","v":""},{"$f":"IF(BF104<>\"\",IF(BF104=$A104,\"ERR\",IF(OR(BF104=$I104,BF104=$P104,BF104=$W104,BF104=$AD104,BF104=$AK104,BF104=$AR104,BF104=$AY104),\"DUP\",IF(ISNA(VLOOKUP(BF104,$A$8:$A$107,1,FALSE)),\"ERR\",IF(COUNTIF($I$8:$I$107,BF104)>1,\"ERR\",IF($D104=VLOOKUP(BF104,$A$8:$D$107,4,FALSE),\"CLUB\",\"OK\"))))),\"\")","v":""},null,{"$f":"IF(BI104<>\"\",IF(BI104=\"Victoire\",IF(VLOOKUP(BF104,$A$8:$BL$107,61,FALSE)=\"Défaite\",\"OK\",\"ERR\"),IF(BI104=\"Défaite\",IF(VLOOKUP(BF104,$A$8:$BL$107,61,FALSE)=\"Victoire\",\"OK\",\"ERR\"),IF(BI104=\"Nul\",IF(VLOOKUP(BF104,$A$8:$BL$107,61,FALSE)=\"Nul\",\"OK\",\"ERR\")))),\"\")","v":""},null,{"$f":"IF(BI104=\"Victoire\",100-ROUNDDOWN(20*BK104/$H104,0),\nIF(BI104=\"Défaite\",10+ROUNDDOWN(20*VLOOKUP(BF104,$A$8:$CB$107,63,FALSE)/VLOOKUP(BF104,$A$8:$H$107,8,FALSE),0),\nIF(AND(BI104=\"Nul\",$BK104<>$H104),40+(2*ROUNDDOWN(10*VLOOKUP(BF104,$A$8:$CB$107,63,FALSE)/VLOOKUP(BF104,$A$8:$H$107,8,FALSE),0)-ROUNDDOWN(10*BK104/$H104,0)),IF(AND(BI104=\"Nul\",$BK104=$H104),58,0))))","v":0},null,{"$f":"IF(BM104<>\"\",VLOOKUP(BM104,$A$8:$C$107,2,FALSE),\"\")","v":""},{"$f":"IF(BM104<>\"\",IF(BM104=$A104,\"ERR\",IF(OR(BM104=$I104,BM104=$P104,BM104=$W104,BM104=$AD104,BM104=$AK104,BM104=$AR104,BM104=$AY104,BM104=$BF104),\"DUP\",IF(ISNA(VLOOKUP(BM104,$A$8:$A$107,1,FALSE)),\"ERR\",IF(COUNTIF($I$8:$I$107,BM104)>1,\"ERR\",IF($D104=VLOOKUP(BM104,$A$8:$D$107,4,FALSE),\"CLUB\",\"OK\"))))),\"\")","v":""},null,{"$f":"IF(BP104<>\"\",IF(BP104=\"Victoire\",IF(VLOOKUP(BM104,$A$8:$BS$107,68,FALSE)=\"Défaite\",\"OK\",\"ERR\"),IF(BP104=\"Défaite\",IF(VLOOKUP(BM104,$A$8:$BS$107,68,FALSE)=\"Victoire\",\"OK\",\"ERR\"),IF(BP104=\"Nul\",IF(VLOOKUP(BM104,$A$8:$BS$107,68,FALSE)=\"Nul\",\"OK\",\"ERR\")))),\"\")","v":""},null,{"$f":"IF(BP104=\"Victoire\",100-ROUNDDOWN(20*BR104/$H104,0),\nIF(BP104=\"Défaite\",10+ROUNDDOWN(20*VLOOKUP(BM104,$A$8:$CB$107,70,FALSE)/VLOOKUP(BM104,$A$8:$H$107,8,FALSE),0),\nIF(AND(BP104=\"Nul\",$BR104<>$H104),40+(2*ROUNDDOWN(10*VLOOKUP(BM104,$A$8:$CB$107,70,FALSE)/VLOOKUP(BM104,$A$8:$H$107,8,FALSE),0)-ROUNDDOWN(10*BR104/$H104,0)),IF(AND(BP104=\"Nul\",$BR104=$H104),58,0))))","v":0},null,{"$f":"IF($I104<>\"\",VLOOKUP($I104,$A$8:$N$107,5,FALSE),0)+IF($P104<>\"\",VLOOKUP($P104,$A$8:$N$107,5,FALSE),0)+IF($W104<>\"\",VLOOKUP($W104,$A$8:$N$107,5,FALSE),0)+IF($AD104<>\"\",VLOOKUP($AD104,$A$8:$N$107,5,FALSE),0)+IF($AK104<>\"\",VLOOKUP($AK104,$A$8:$N$107,5,FALSE),0)+IF($AR104<>\"\",VLOOKUP($AR104,$A$8:$N$107,5,FALSE),0)+IF($AY104<>\"\",VLOOKUP($AY104,$A$8:$N$107,5,FALSE),0)+IF($BF104<>\"\",VLOOKUP($BF104,$A$8:$N$107,5,FALSE),0)+IF($BM104<>\"\",VLOOKUP($BM104,$A$8:$N$107,5,FALSE),0)","v":0}]
[{"$nulls":4},0,null,{"$f":"IF($F105<>\"\",VLOOKUP(F105,Armies!$A$1:$C$300,3,FALSE),\"\")","v":""},null,null,{"$f":"IF(I105<>\"\",VLOOKUP(I105,$A$8:$C$107,2,FALSE),\"\")","v":""},{"$f":"IF(I105<>\"\",IF(I105=$A105,\"ERR\",IF(OR(I105=$P105,I105=$W105,I105=$AD105,I105=$AK105),\"DUP\",IF(ISNA(VLOOKUP(I105,$A$8:$A$107,1,FALSE)),\"ERR\",IF(COUNTIF($I$8:$I$107,I105)>1,\"ERR\",IF($D105=VLOOKUP(I105,$A$8:$D$107,4,FALSE),\"CLUB\",\"OK\"))))),\"\")","v":""},null,{"$f":"IF(L105<>\"\",IF(L105=\"Victoire\",IF(VLOOKUP(I105,$A$8:$L$107,12,FALSE)=\"Défaite\",\"OK\",\"ERR\"),IF(L105=\"Défaite\",IF(VLOOKUP(I105,$A$8:$L$107,12,FALSE)=\"Victoire\",\"OK\",\"ERR\"),IF(L105=\"Nul\",IF(VLOOKUP(I105,$A$8:$L$107,12,FALSE)=\"Nul\",\"OK\",\"ERR\")))),\"\")","v":""},null,{"$f":"IF(L105=\"Victoire\",100-ROUNDDOWN(20*N105/$H105,0),\nIF(L105=\"Défaite\",10+ROUNDDOWN(20*VLOOKUP(I105,$A$8:$N$107,14,FALSE)/VLOOKUP(I105,$A$8:$H$107,8,FALSE),0),\nIF(AND(L105=\"Nul\",$N105<>$H105),40+(2*ROUNDDOWN(10*VLOOKUP(I105,$A$8:$N$107,14,FALSE)/VLOOKUP(I105,$A$8:$H$107,8,FALSE),0)-ROUNDDOWN(10*N105/$H105,0)),IF(AND(L105=\"Nul\",$N105=$H105),58,0))))","v":0},null,{"$f":"IF(P105<>\"\",VLOOKUP(P105,$A$8:$C$107,2,FALSE),\"\")","v":""},{"$f":"IF(P105<>\"\",IF(P105=$A105,\"ERR\",IF(OR(P105=$I105,P105=$W105,P105=$AD105,P105=$AK105),\"DUP\",IF(ISNA(VLOOKUP(P105,$A$8:$A$107,1,FALSE)),\"ERR\",IF(COUNTIF($I$8:$I$107,P105)>1,\"ERR\",IF($D105=VLOOKUP(P105,$A$8:$D$107,4,FALSE),\"CLUB\",\"OK\"))))),\"\")","v":""},null,{"$f":"IF(S105<>\"\",IF(S105=\"Victoire\",IF(VLOOKUP(P105,$A$8:$AO$107,19,FALSE)=\"Défaite\",\"OK\",\"ERR\"),IF(S105=\"Défaite\",IF(VLOOKUP(P105,$A$8:$AO$107,19,FALSE)=\"Victoire\",\"OK\",\"ERR\"),IF(S105=\"Nul\",IF(VLOOKUP(P105,$A$8:$AO$107,19,FALSE)=\"Nul\",\"OK\",\"ERR\")))),\"\")","v":""},null,{"$f":"IF(S105=\"Victoire\",100-ROUNDDOWN(20*U105/$H105,0),\nIF(S105=\"Défaite\",10+ROUNDDOWN(20*VLOOKUP(P105,$A$8:$AO$107,21,FALSE)/VLOOKUP(P105,$A$8:$H$107,8,FALSE),0),\nIF(AND(S105=\"Nul\",$U105<>$H105),40+(2*ROUNDDOWN(10*VLOOKUP(P105,$A$8:$AO$107,21,FALSE)/VLOOKUP(P105,$A$8:$H$107,8,FALSE),0)-ROUNDDOWN(10*U105/$H105,0)),IF(AND(S105=\"Nul\",$U105=$H105),58,0))))","v":0},null,{"$f":"IF(W105<>\"\",VLOOKUP(W105,$A$8:$C$107,2,FALSE),\"\")","v":""},{"$f":"IF(W105<>\"\",IF(W105=$A105,\"ERR\",IF(OR(W105=$P105,W105=$I105,W105=$AD105,W105=$AK105),\"DUP\",IF(ISNA(VLOOKUP(W105,$A$8:$A$107,1,FALSE)),\"ERR\",IF(COUNTIF($I$8:$I$107,W105)>1,\"ERR\",IF($D105=VLOOKUP(W105,$A$8:$D$107,4,FALSE),\"CLUB\",\"OK\"))))),\"\")","v":""},null,{"$f":"IF(Z105<>\"\",IF(Z105=\"Victoire\",IF(VLOOKUP(W105,$A$8:$AO$107,26,FALSE)=\"Défaite\",\"OK\",\"ERR\"),IF(Z105=\"Défaite\",IF(VLOOKUP(W105,$A$8:$AO$107,26,FALSE)=\"Victoire\",\"OK\",\"ERR\"),IF(Z105=\"Nul\",IF(VLOOKUP(W105,$A$8:$AO$107,26,FALSE)=\"Nul\",\"OK\",\"ERR\")))),\"\")","v":""},null,{"$f":"IF(Z105=\"Victoire\",100-ROUNDDOWN(20*AB105/$H105,0),\nIF(Z105=\"Défaite\",10+ROUNDDOWN(20*VLOOKUP(W105,$A$8:$AO$107,28,FALSE)/VLOOKUP(W105,$A$8:$H$107,8,FALSE),0),\nIF(AND(Z105=\"Nul\",$AB105<>$H105),40+(2*ROUNDDOWN(10*VLOOKUP(W105,$A$8:$AO$107,28,FALSE)/VLOOKUP(W105,$A$8:$H$107,8,FALSE),0)-ROUNDDOWN(10*AB105/$H105,0)),IF(AND(Z105=\"Nul\",$AB105=$H105),58,0))))","v":0},null,{"$f":"IF(AD105<>\"\",VLOOKUP(AD105,$A$8:$C$107,2,FALSE),\"\")","v":""},{"$f":"IF(AD105<>\"\",IF(AD105=$A105,\"ERR\",IF(OR(AD105=$P105,AD105=$W105,AD105=$I105,AD105=$AK105),\"DUP\",IF(ISNA(VLOOKUP(AD105,$A$8:$A$107,1,FALSE)),\"ERR\",IF(COUNTIF($I$8:$I$107,AD105)>1,\"ERR\",IF($D105=VLOOKUP(AD105,$A$8:$D$107,4,FALSE),\"CLUB\",\"OK\"))))),\"\")","v":""},null,{"$f":"IF(AG105<>\"\",IF(AG105=\"Victoire\",IF(VLOOKUP(AD105,$A$8:$AO$107,33,FALSE)=\"Défaite\",\"OK\",\"ERR\"),IF(AG105=\"Défaite\",IF(VLOOKUP(AD105,$A$8:$AO$107,33,FALSE)=\"Victoire\",\"OK\",\"ERR\"),IF(AG105=\"Nul\",IF(VLOOKUP(AD105,$A$8:$AO$107,33,FALSE)=\"Nul\",\"OK\",\"ERR\")))),\"\")","v":""},null,{"$f":"IF(AG105=\"Victoire\",100-ROUNDDOWN(20*AI105/$H105,0),\nIF(AG105=\"Défaite\",10+ROUNDDOWN(20*VLOOKUP(AD105,$A$8:$AO$107,35,FALSE)/VLOOKUP(AD105,$A$8:$H$107,8,FALSE),0),\nIF(AND(AG105=\"Nul\",$AI105<>$H105),40+(2*ROUNDDOWN(10*VLOOKUP(AD105,$A$8:$AO$107,35,FALSE)/VLOOKUP(AD105,$A$8:$H$107,8,FALSE),0)-ROUNDDOWN(10*AI105/$H105,0)),IF(AND(AG105=\"Nul\",$AI105=$H105),58,0))))","v":0},null,{"$f":"IF(AK105<>\"\",VLOOKUP(AK105,$A$8:$C$107,2,FALSE),\"\")","v":""},{"$f":"IF(AK105<>\"\",IF(AK105=$A105,\"ERR\",IF(OR(AK105=$P105,AK105=$W105,AK105=$AD105,AK105=$I105),\"DUP\",IF(ISNA(VLOOKUP(AK105,$A$8:$A$107,1,FALSE)),\"ERR\",IF(COUNTIF($I$8:$I$107,AK105)>1,\"ERR\",IF($D105=VLOOKUP(AK105,$A$8:$D$107,4,FALSE),\"CLUB\",\"OK\"))))),\"\")","v":""},null,{"$f":"IF(AN105<>\"\",IF(AN105=\"Victoire\",IF(VLOOKUP(AK105,$A$8:$AO$107,40,FALSE)=\"Défaite\",\"OK\",\"ERR\"),IF(AN105=\"Défaite\",IF(VLOOKUP(AK105,$A$8:$AO$107,40,FALSE)=\"Victoire\",\"OK\",\"ERR\"),IF(AN105=\"Nul\",IF(VLOOKUP(AK105,$A$8:$AO$107,40,FALSE)=\"Nul\",\"OK\",\"ERR\")))),\"\")","v":""},null,{"$f":"IF(AN105=\"Victoire\",100-ROUNDDOWN(20*AP105/$H105,0),\nIF(AN105=\"Défaite\",10+ROUNDDOWN(20*VLOOKUP(AK105,$A$8:$CB$107,42,FALSE)/VLOOKUP(AK105,$A$8:$H$107,8,FALSE),0),\nIF(AND(AN105=\"Nul\",$AP105<>$H105),40+(2*ROUNDDOWN(10*VLOOKUP(AK105,$A$8:$CB$107,42,FALSE)/VLOOKUP(AK105,$A$8:$H$107,8,FALSE),0)-ROUNDDOWN(10*AP105/$H105,0)),IF(AND(AN105=\"Nul\",$AP105=$H105),58,0))))","v":0},null,{"$f":"IF(AR105<>\"\",VLOOKUP(AR105,$A$8:$C$107,2,FALSE),\"\")","v":""},{"$f":"IF(AR105<>\"\",IF(AR105=$A105,\"ERR\",IF(OR(AR105=$I105,AR105=$P105,AR105=$W105,AR105=$AD105,AR105=$AK105),\"DUP\",IF(ISNA(VLOOKUP(AR105,$A$8:$A$107,1,FALSE)),\"ERR\",IF(COUNTIF($I$8:$I$107,AR105)>1,\"ERR\",IF($D105=VLOOKUP(AR105,$A$8:$D$107,4,FALSE),\"CLUB\",\"OK\"))))),\"\")","v":""},null,{"$f":"IF(AU105<>\"\",IF(AU105=\"Victoire\",IF(VLOOKUP(AR105,$A$8:$BL$107,47,FALSE)=\"Défaite\",\"OK\",\"ERR\"),IF(AU105=\"Défaite\",IF(VLOOKUP(AR105,$A$8:$BL$107,47,FALSE)=\"Victoire\",\"OK\",\"ERR\"),IF(AU105=\"Nul\",IF(VLOOKUP(AR105,$A$8:$BL$107,47,FALSE)=\"Nul\",\"OK\",\"ERR\")))),\"\")","v":""},null,{"$f":"IF(AU105=\"Victoire\",100-ROUNDDOWN(20*AW105/$H105,0),\nIF(AU105=\"Défaite\",10+ROUNDDOWN(20*VLOOKUP(AR105,$A$8:$CB$107,49,FALSE)/VLOOKUP(AR105,$A$8:$H$107,8,FALSE),0),\nIF(AND(AU105=\"Nul\",$AW105<>$H105),40+(2*ROUNDDOWN(10*VLOOKUP(AR105,$A$8:$CB$107,49,FALSE)/VLOOKUP(AR105,$A$8:$H$107,8,FALSE),0)-ROUNDDOWN(10*AW105/$H105,0)),IF(AND(AU105=\"Nul\",$AW105=$H105),58,0))))","v":0},null,{"$f":"IF(AY105<>\"\",VLOOKUP(AY105,$A$8:$C$107,2,FALSE),\"\")","v":""},{"$f":"IF(AY105<>\"\",IF(AY105=$A105,\"ERR\",IF(OR(AY105=$I105,AY105=$P105,AY105=$W105,AY105=$AD105,AY105=$AK105,AY105=$AR105),\"DUP\",IF(ISNA(VLOOKUP(AY105,$A$8:$A$107,1,FALSE)),\"ERR\",IF(COUNTIF($I$8:$I$107,AY105)>1,\"ERR\",IF($D105=VLOOKUP(AY105,$A$8:$D$107,4,FALSE),\"CLUB\",\"OK\"))))),\"\")","v":""},null,{"$f":"IF(BB105<>\"\",IF(BB105=\"Victoire\",IF(VLOOKUP(AY105,$A$8:$BL$107,54,FALSE)=\"Défaite\",\"OK\",\"ERR\"),IF(BB105=\"Défaite\",IF(VLOOKUP(AY105,$A$8:$BL$107,54,FALSE)=\"Victoire\",\"OK\",\"ERR\"),IF(BB105=\"Nul\",IF(VLOOKUP(AY105,$A$8:$BL$107,54,FALSE)=\"Nul\",\"OK\",\"ERR\")))),\"\")","v":""},null,{"$f":"IF(BB105=\"Victoire\",100-ROUNDDOWN(20*BD105/$H105,0),\nIF(BB105=\"Défaite\",10+ROUNDDOWN(20*VLOOKUP(AY105,$A$8:$CB$107,56,FALSE)/VLOOKUP(AY105,$A$8:$H$107,8,FALSE),0),\nIF(AND(BB105=\"Nul\",$BD105<>$H105),40+(2*ROUNDDOWN(10*VLOOKUP(AY105,$A$8:$CB$107,56,FALSE)/VLOOKUP(AY105,$A$8:$H$107,8,FALSE),0)-ROUNDDOWN(10*BD105/$H105,0)),IF(AND(BB105=\"Nul\",$BD105=$H105),58,0))))","v":0},null,{"$f":"IF(BF105<>\"\",VLOOKUP(BF105,$A$8:$C$107,2,FALSE),\"\")","v":""},{"$f":"IF(BF105<>\"\",IF(BF105=$A105,\"ERR\",IF(OR(BF105=$I105,BF105=$P105,BF105=$W105,BF105=$AD105,BF105=$AK105,BF105=$AR105,BF105=$AY105),\"DUP\",IF(ISNA(VLOOKUP(BF105,$A$8:$A$107,1,FALSE)),\"ERR\",IF(COUNTIF($I$8:$I$107,BF105)>1,\"ERR\",IF($D105=VLOOKUP(BF105,$A$8:$D$107,4,FALSE),\"CLUB\",\"OK\"))))),\"\")","v":""},null,{"$f":"IF(BI105<>\"\",IF(BI105=\"Victoire\",IF(VLOOKUP(BF105,$A$8:$BL$107,61,FALSE)=\"Défaite\",\"OK\",\"ERR\"),IF(BI105=\"Défaite\",IF(VLOOKUP(BF105,$A$8:$BL$107,61,FALSE)=\"Victoire\",\"OK\",\"ERR\"),IF(BI105=\"Nul\",IF(VLOOKUP(BF105,$A$8:$BL$107,61,FALSE)=\"Nul\",\"OK\",\"ERR\")))),\"\")","v":""},null,{"$f":"IF(BI105=\"Victoire\",100-ROUNDDOWN(20*BK105/$H105,0),\nIF(BI105=\"Défaite\",10+ROUNDDOWN(20*VLOOKUP(BF105,$A$8:$CB$107,63,FALSE)/VLOOKUP(BF105,$A$8:$H$107,8,FALSE),0),\nIF(AND(BI105=\"Nul\",$BK105<>$H105),40+(2*ROUNDDOWN(10*VLOOKUP(BF105,$A$8:$CB$107,63,FALSE)/VLOOKUP(BF105,$A$8:$H$107,8,FALSE),0)-ROUNDDOWN(10*BK105/$H105,0)),IF(AND(BI105=\"Nul\",$BK105=$H105),58,0))))","v":0},null,{"$f":"IF(BM105<>\"\",VLOOKUP(BM105,$A$8:$C$107,2,FALSE),\"\")","v":""},{"$f":"IF(BM105<>\"\",IF(BM105=$A105,\"ERR\",IF(OR(BM105=$I105,BM105=$P105,BM105=$W105,BM105=$AD105,BM105=$AK105,BM105=$AR105,BM105=$AY105,BM105=$BF105),\"DUP\",IF(ISNA(VLOOKUP(BM105,$A$8:$A$107,1,FALSE)),\"ERR\",IF(COUNTIF($I$8:$I$107,BM105)>1,\"ERR\",IF($D105=VLOOKUP(BM105,$A$8:$D$107,4,FALSE),\"CLUB\",\"OK\"))))),\"\")","v":""},null,{"$f":"IF(BP105<>\"\",IF(BP105=\"Victoire\",IF(VLOOKUP(BM105,$A$8:$BS$107,68,FALSE)=\"Défaite\",\"OK\",\"ERR\"),IF(BP105=\"Défaite\",IF(VLOOKUP(BM105,$A$8:$BS$107,68,FALSE)=\"Victoire\",\"OK\",\"ERR\"),IF(BP105=\"Nul\",IF(VLOOKUP(BM105,$A$8:$BS$107,68,FALSE)=\"Nul\",\"OK\",\"ERR\")))),\"\")","v":""},null,{"$f":"IF(BP105=\"Victoire\",100-ROUNDDOWN(20*BR105/$H105,0),\nIF(BP105=\"Défaite\",10+ROUNDDOWN(20*VLOOKUP(BM105,$A$8:$CB$107,70,FALSE)/VLOOKUP(BM105,$A$8:$H$107,8,FALSE),0),\nIF(AND(BP105=\"Nul\",$BR105<>$H105),40+(2*ROUNDDOWN(10*VLOOKUP(BM105,$A$8:$CB$107,70,FALSE)/VLOOKUP(BM105,$A$8:$H$107,8,FALSE),0)-ROUNDDOWN(10*BR105/$H105,0)),IF(AND(BP105=\"Nul\",$BR105=$H105),58,0))))","v":0},null,{"$f":"IF($I105<>\"\",VLOOKUP($I105,$A$8:$N$107,5,FALSE),0)+IF($P105<>\"\",VLOOKUP($P105,$A$8:$N$107,5,FALSE),0)+IF($W105<>\"\",VLOOKUP($W105,$A$8:$N$107,5,FALSE),0)+IF($AD105<>\"\",VLOOKUP($AD105,$A$8:$N$107,5,FALSE),0)+IF($AK105<>\"\",VLOOKUP($AK105,$A$8:$N$107,5,FALSE),0)+IF($AR105<>\"\",VLOOKUP($AR105,$A$8:$N$107,5,FALSE),0)+IF($AY105<>\"\",VLOOKUP($AY105,$A$8:$N$107,5,FALSE),0)+IF($BF105<>\"\",VLOOKUP($BF105,$A$8:$N$107,5,FALSE),0)+IF($BM105<>\"\",VLOOKUP($BM105,$A$8:$N$107,5,FALSE),0)","v":0}]
[{"$nulls":4},0,null,{"$f":"IF($F106<>\"\",VLOOKUP(F106,Armies!$A$1:$C$300,3,FALSE),\"\")","v":""},null,null,{"$f":"IF(I106<>\"\",VLOOKUP(I106,$A$8:$C$107,2,FALSE),\"\")","v":""},{"$f":"IF(I106<>\"\",IF(I106=$A106,\"ERR\",IF(OR(I106=$P106,I106=$W106,I106=$AD106,I106=$AK106),\"DUP\",IF(ISNA(VLOOKUP(I106,$A$8:$A$107,1,FALSE)),\"ERR\",IF(COUNTIF($I$8:$I$107,I106)>1,\"ERR\",IF($D106=VLOOKUP(I106,$A$8:$D$107,4,FALSE),\"CLUB\",\"OK\"))))),\"\")","v":""},null,{"$f":"IF(L106<>\"\",IF(L106=\"Victoire\",IF(VLOOKUP(I106,$A$8:$L$107,12,FALSE)=\"Défaite\",\"OK\",\"ERR\"),IF(L106=\"Défaite\",IF(VLOOKUP(I106,$A$8:$L$107,12,FALSE)=\"Victoire\",\"OK\",\"ERR\"),IF(L106=\"Nul\",IF(VLOOKUP(I106,$A$8:$L$107,12,FALSE)=\"Nul\",\"OK\",\"ERR\")))),\"\")","v":""},null,{"$f":"IF(L106=\"Victoire\",100-ROUNDDOWN(20*N106/$H106,0),\nIF(L106=\"Défaite\",10+ROUNDDOWN(20*VLOOKUP(I106,$A$8:$N$107,14,FALSE)/VLOOKUP(I106,$A$8:$H$107,8,FALSE),0),\nIF(AND(L106=\"Nul\",$N106<>$H106),40+(2*ROUNDDOWN(10*VLOOKUP(I106,$A$8:$N$107,14,FALSE)/VLOOKUP(I106,$A$8:$H$107,8,FALSE),0)-ROUNDDOWN(10*N106/$H106,0)),IF(AND(L106=\"Nul\",$N106=$H106),58,0))))","v":0},null,{"$f":"IF(P106<>\"\",VLOOKUP(P106,$A$8:$C$107,2,FALSE),\"\")","v":""},{"$f":"IF(P106<>\"\",IF(P106=$A106,\"ERR\",IF(OR(P106=$I106,P106=$W106,P106=$AD106,P106=$AK106),\"DUP\",IF(ISNA(VLOOKUP(P106,$A$8:$A$107,1,FALSE)),\"ERR\",IF(COUNTIF($I$8:$I$107,P106)>1,\"ERR\",IF($D106=VLOOKUP(P106,$A$8:$D$107,4,FALSE),\"CLUB\",\"OK\"))))),\"\")","v":""},null,{"$f":"IF(S106<>\"\",IF(S106=\"Victoire\",IF(VLOOKUP(P106,$A$8:$AO$107,19,FALSE)=\"Défaite\",\"OK\",\"ERR\"),IF(S106=\"Défaite\",IF(VLOOKUP(P106,$A$8:$AO$107,19,FALSE)=\"Victoire\",\"OK\",\"ERR\"),IF(S106=\"Nul\",IF(VLOOKUP(P106,$A$8:$AO$107,19,FALSE)=\"Nul\",\"OK\",\"ERR\")))),\"\")","v":""},null,{"$f":"IF(S106=\"Victoire\",100-ROUNDDOWN(20*U106/$H106,0),\nIF(S106=\"Défaite\",10+ROUNDDOWN(20*VLOOKUP(P106,$A$8:$AO$107,21,FALSE)/VLOOKUP(P106,$A$8:$H$107,8,FALSE),0),\nIF(AND(S106=\"Nul\",$U106<>$H106),40+(2*ROUNDDOWN(10*VLOOKUP(P106,$A$8:$AO$107,21,FALSE)/VLOOKUP(P106,$A$8:$H$107,8,FALSE),0)-ROUNDDOWN(10*U106/$H106,0)),IF(AND(S106=\"Nul\",$U106=$H106),58,0))))","v":0},null,{"$f":"IF(W106<>\"\",VLOOKUP(W106,$A$8:$C$107,2,FALSE),\"\")","v":""},{"$f":"IF(W106<>\"\",IF(W106=$A106,\"ERR\",IF(OR(W106=$P106,W106=$I106,W106=$AD106,W106=$AK106),\"DUP\",IF(ISNA(VLOOKUP(W106,$A$8:$A$107,1,FALSE)),\"ERR\",IF(COUNTIF($I$8:$I$107,W106)>1,\"ERR\",IF($D106=VLOOKUP(W106,$A$8:$D$107,4,FALSE),\"CLUB\",\"OK\"))))),\"\")","v":""},null,{"$f":"IF(Z106<>\"\",IF(Z106=\"Victoire\",IF(VLOOKUP(W106,$A$8:$AO$107,26,FALSE)=\"Défaite\",\"OK\",\"ERR\"),IF(Z106=\"Défaite\",IF(VLOOKUP(W106,$A$8:$AO$107,26,FALSE)=\"Victoire\",\"OK\",\"ERR\"),IF(Z106=\"Nul\",IF(VLOOKUP(W106,$A$8:$AO$107,26,FALSE)=\"Nul\",\"OK\",\"ERR\")))),\"\")","v":""},null,{"$f":"IF(Z106=\"Victoire\",100-ROUNDDOWN(20*AB106/$H106,0),\nIF(Z106=\"Défaite\",10+ROUNDDOWN(20*VLOOKUP(W106,$A$8:$AO$107,28,FALSE)/VLOOKUP(W106,$A$8:$H$107,8,FALSE),0),\nIF(AND(Z106=\"Nul\",$AB106<>$H106),40+(2*ROUNDDOWN(10*VLOOKUP(W106,$A$8:$AO$107,28,FALSE)/VLOOKUP(W106,$A$8:$H$107,8,FALSE),0)-ROUNDDOWN(10*AB106/$H106,0)),IF(AND(Z106=\"Nul\",$AB106=$H106),58,0))))","v":0},null,{"$f":"IF(AD106<>\"\",VLOOKUP(AD106,$A$8:$C$107,2,FALSE),\"\")","v":""},{"$f":"IF(AD106<>\"\",IF(AD106=$A106,\"ERR\",IF(OR(AD106=$P106,AD106=$W106,AD106=$I106,AD106=$AK106),\"DUP\",IF(ISNA(VLOOKUP(AD106,$A$8:$A$107,1,FALSE)),\"ERR\",IF(COUNTIF($I$8:$I$107,AD106)>1,\"ERR\",IF($D106=VLOOKUP(AD106,$A$8:$D$107,4,FALSE),\"CLUB\",\"OK\"))))),\"\")","v":""},null,{"$f":"IF(AG106<>\"\",IF(AG106=\"Victoire\",IF(VLOOKUP(AD106,$A$8:$AO$107,33,FALSE)=\"Défaite\",\"OK\",\"ERR\"),IF(AG106=\"Défaite\",IF(VLOOKUP(AD106,$A$8:$AO$107,33,FALSE)=\"Victoire\",\"OK\",\"ERR\"),IF(AG106=\"Nul\",IF(VLOOKUP(AD106,$A$8:$AO$107,33,FALSE)=\"Nul\",\"OK\",\"ERR\")))),\"\")","v":""},null,{"$f":"IF(AG106=\"Victoire\",100-ROUNDDOWN(20*AI106/$H106,0),\nIF(AG106=\"Défaite\",10+ROUNDDOWN(20*VLOOKUP(AD106,$A$8:$AO$107,35,FALSE)/VLOOKUP(AD106,$A$8:$H$107,8,FALSE),0),\nIF(AND(AG106=\"Nul\",$AI106<>$H106),40+(2*ROUNDDOWN(10*VLOOKUP(AD106,$A$8:$AO$107,35,FALSE)/VLOOKUP(AD106,$A$8:$H$107,8,FALSE),0)-ROUNDDOWN(10*AI106/$H106,0)),IF(AND(AG106=\"Nul\",$AI106=$H106),58,0))))","v":0},null,{"$f":"IF(AK106<>\"\",VLOOKUP(AK106,$A$8:$C$107,2,FALSE),\"\")","v":""},{"$f":"IF(AK106<>\"\",IF(AK106=$A106,\"ERR\",IF(OR(AK106=$P106,AK106=$W106,AK106=$AD106,AK106=$I106),\"DUP\",IF(ISNA(VLOOKUP(AK106,$A$8:$A$107,1,FALSE)),\"ERR\",IF(COUNTIF($I$8:$I$107,AK106)>1,\"ERR\",IF($D106=VLOOKUP(AK106,$A$8:$D$107,4,FALSE),\"CLUB\",\"OK\"))))),\"\")","v":""},null,{"$f":"IF(AN106<>\"\",IF(AN106=\"Victoire\",IF(VLOOKUP(AK106,$A$8:$AO$107,40,FALSE)=\"Défaite\",\"OK\",\"ERR\"),IF(AN106=\"Défaite\",IF(VLOOKUP(AK106,$A$8:$AO$107,40,FALSE)=\"Victoire\",\"OK\",\"ERR\"),IF(AN106=\"Nul\",IF(VLOOKUP(AK106,$A$8:$AO$107,40,FALSE)=\"Nul\",\"OK\",\"ERR\")))),\"\")","v":""},null,{"$f":"IF(AN106=\"Victoire\",100-ROUNDDOWN(20*AP106/$H106,0),\nIF(AN106=\"Défaite\",10+ROUNDDOWN(20*VLOOKUP(AK106,$A$8:$CB$107,42,FALSE)/VLOOKUP(AK106,$A$8:$H$107,8,FALSE),0),\nIF(AND(AN106=\"Nul\",$AP106<>$H106),40+(2*ROUNDDOWN(10*VLOOKUP(AK106,$A$8:$CB$107,42,FALSE)/VLOOKUP(AK106,$A$8:$H$107,8,FALSE),0)-ROUNDDOWN(10*AP106/$H106,0)),IF(AND(AN106=\"Nul\",$AP106=$H106),58,0))))","v":0},null,{"$f":"IF(AR106<>\"\",VLOOKUP(AR106,$A$8:$C$107,2,FALSE),\"\")","v":""},{"$f":"IF(AR106<>\"\",IF(AR106=$A106,\"ERR\",IF(OR(AR106=$I106,AR106=$P106,AR106=$W106,AR106=$AD106,AR106=$AK106),\"DUP\",IF(ISNA(VLOOKUP(AR106,$A$8:$A$107,1,FALSE)),\"ERR\",IF(COUNTIF($I$8:$I$107,AR106)>1,\"ERR\",IF($D106=VLOOKUP(AR106,$A$8:$D$107,4,FALSE),\"CLUB\",\"OK\"))))),\"\")","v":""},null,{"$f":"IF(AU106<>\"\",IF(AU106=\"Victoire\",IF(VLOOKUP(AR106,$A$8:$BL$107,47,FALSE)=\"Défaite\",\"OK\",\"ERR\"),IF(AU106=\"Défaite\",IF(VLOOKUP(AR106,$A$8:$BL$107,47,FALSE)=\"Victoire\",\"OK\",\"ERR\"),IF(AU106=\"Nul\",IF(VLOOKUP(AR106,$A$8:$BL$107,47,FALSE)=\"Nul\",\"OK\",\"ERR\")))),\"\")","v":""},null,{"$f":"IF(AU106=\"Victoire\",100-ROUNDDOWN(20*AW106/$H106,0),\nIF(AU106=\"Défaite\",10+ROUNDDOWN(20*VLOOKUP(AR106,$A$8:$CB$107,49,FALSE)/VLOOKUP(AR106,$A$8:$H$107,8,FALSE),0),\nIF(AND(AU106=\"Nul\",$AW106<>$H106),40+(2*ROUNDDOWN(10*VLOOKUP(AR106,$A$8:$CB$107,49,FALSE)/VLOOKUP(AR106,$A$8:$H$107,8,FALSE),0)-ROUNDDOWN(10*AW106/$H106,0)),IF(AND(AU106=\"Nul\",$AW106=$H106),58,0))))","v":0},null,{"$f":"IF(AY106<>\"\",VLOOKUP(AY106,$A$8:$C$107,2,FALSE),\"\")","v":""},{"$f":"IF(AY106<>\"\",IF(AY106=$A106,\"ERR\",IF(OR(AY106=$I106,AY106=$P106,AY106=$W106,AY106=$AD106,AY106=$AK106,AY106=$AR106),\"DUP\",IF(ISNA(VLOOKUP(AY106,$A$8:$A$107,1,FALSE)),\"ERR\",IF(COUNTIF($I$8:$I$107,AY106)>1,\"ERR\",IF($D106=VLOOKUP(AY106,$A$8:$D$107,4,FALSE),\"CLUB\",\"OK\"))))),\"\")","v":""},null,{"$f":"IF(BB106<>\"\",IF(BB106=\"Victoire\",IF(VLOOKUP(AY106,$A$8:$BL$107,54,FALSE)=\"Défaite\",\"OK\",\"ERR\"),IF(BB106=\"Défaite\",IF(VLOOKUP(AY106,$A$8:$BL$107,54,FALSE)=\"Victoire\",\"OK\",\"ERR\"),IF(BB106=\"Nul\",IF(VLOOKUP(AY106,$A$8:$BL$107,54,FALSE)=\"Nul\",\"OK\",\"ERR\")))),\"\")","v":""},null,{"$f":"IF(BB106=\"Victoire\",100-ROUNDDOWN(20*BD106/$H106,0),\nIF(BB106=\"Défaite\",10+ROUNDDOWN(20*VLOOKUP(AY106,$A$8:$CB$107,56,FALSE)/VLOOKUP(AY106,$A$8:$H$107,8,FALSE),0),\nIF(AND(BB106=\"Nul\",$BD106<>$H106),40+(2*ROUNDDOWN(10*VLOOKUP(AY106,$A$8:$CB$107,56,FALSE)/VLOOKUP(AY106,$A$8:$H$107,8,FALSE),0)-ROUNDDOWN(10*BD106/$H106,0)),IF(AND(BB106=\"Nul\",$BD106=$H106),58,0))))","v":0},null,{"$f":"IF(BF106<>\"\",VLOOKUP(BF106,$A$8:$C$107,2,FALSE),\"\")","v":""},{"$f":"IF(BF106<>\"\",IF(BF106=$A106,\"ERR\",IF(OR(BF106=$I106,BF106=$P106,BF106=$W106,BF106=$AD106,BF106=$AK106,BF106=$AR106,BF106=$AY106),\"DUP\",IF(ISNA(VLOOKUP(BF106,$A$8:$A$107,1,FALSE)),\"ERR\",IF(COUNTIF($I$8:$I$107,BF106)>1,\"ERR\",IF($D106=VLOOKUP(BF106,$A$8:$D$107,4,FALSE),\"CLUB\",\"OK\"))))),\"\")","v":""},null,{"$f":"IF(BI106<>\"\",IF(BI106=\"Victoire\",IF(VLOOKUP(BF106,$A$8:$BL$107,61,FALSE)=\"Défaite\",\"OK\",\"ERR\"),IF(BI106=\"Défaite\",IF(VLOOKUP(BF106,$A$8:$BL$107,61,FALSE)=\"Victoire\",\"OK\",\"ERR\"),IF(BI106=\"Nul\",IF(VLOOKUP(BF106,$A$8:$BL$107,61,FALSE)=\"Nul\",\"OK\",\"ERR\")))),\"\")","v":""},null,{"$f":"IF(BI106=\"Victoire\",100-ROUNDDOWN(20*BK106/$H106,0),\nIF(BI106=\"Défaite\",10+ROUNDDOWN(20*VLOOKUP(BF106,$A$8:$CB$107,63,FALSE)/VLOOKUP(BF106,$A$8:$H$107,8,FALSE),0),\nIF(AND(BI106=\"Nul\",$BK106<>$H106),40+(2*ROUNDDOWN(10*VLOOKUP(BF106,$A$8:$CB$107,63,FALSE)/VLOOKUP(BF106,$A$8:$H$107,8,FALSE),0)-ROUNDDOWN(10*BK106/$H106,0)),IF(AND(BI106=\"Nul\",$BK106=$H106),58,0))))","v":0},null,{"$f":"IF(BM106<>\"\",VLOOKUP(BM106,$A$8:$C$107,2,FALSE),\"\")","v":""},{"$f":"IF(BM106<>\"\",IF(BM106=$A106,\"ERR\",IF(OR(BM106=$I106,BM106=$P106,BM106=$W106,BM106=$AD106,BM106=$AK106,BM106=$AR106,BM106=$AY106,BM106=$BF106),\"DUP\",IF(ISNA(VLOOKUP(BM106,$A$8:$A$107,1,FALSE)),\"ERR\",IF(COUNTIF($I$8:$I$107,BM106)>1,\"ERR\",IF($D106=VLOOKUP(BM106,$A$8:$D$107,4,FALSE),\"CLUB\",\"OK\"))))),\"\")","v":""},null,{"$f":"IF(BP106<>\"\",IF(BP106=\"Victoire\",IF(VLOOKUP(BM106,$A$8:$BS$107,68,FALSE)=\"Défaite\",\"OK\",\"ERR\"),IF(BP106=\"Défaite\",IF(VLOOKUP(BM106,$A$8:$BS$107,68,FALSE)=\"Victoire\",\"OK\",\"ERR\"),IF(BP106=\"Nul\",IF(VLOOKUP(BM106,$A$8:$BS$107,68,FALSE)=\"Nul\",\"OK\",\"ERR\")))),\"\")","v":""},null,{"$f":"IF(BP106=\"Victoire\",100-ROUNDDOWN(20*BR106/$H106,0),\nIF(BP106=\"Défaite\",10+ROUNDDOWN(20*VLOOKUP(BM106,$A$8:$CB$107,70,FALSE)/VLOOKUP(BM106,$A$8:$H$107,8,FALSE),0),\nIF(AND(BP106=\"Nul\",$BR106<>$H106),40+(2*ROUNDDOWN(10*VLOOKUP(BM106,$A$8:$CB$107,70,FALSE)/VLOOKUP(BM106,$A$8:$H$107,8,FALSE),0)-ROUNDDOWN(10*BR106/$H106,0)),IF(AND(BP106=\"Nul\",$BR106=$H106),58,0))))","v":0},null,{"$f":"IF($I106<>\"\",VLOOKUP($I106,$A$8:$N$107,5,FALSE),0)+IF($P106<>\"\",VLOOKUP($P106,$A$8:$N$107,5,FALSE),0)+IF($W106<>\"\",VLOOKUP($W106,$A$8:$N$107,5,FALSE),0)+IF($AD106<>\"\",VLOOKUP($AD106,$A$8:$N$107,5,FALSE),0)+IF($AK106<>\"\",VLOOKUP($AK106,$A$8:$N$107,5,FALSE),0)+IF($AR106<>\"\",VLOOKUP($AR106,$A$8:$N$107,5,FALSE),0)+IF($AY106<>\"\",VLOOKUP($AY106,$A$8:$N$107,5,FALSE),0)+IF($BF106<>\"\",VLOOKUP($BF106,$A$8:$N$107,5,FALSE),0)+IF($BM106<>\"\",VLOOKUP($BM106,$A$8:$N$107,5,FALSE),0)","v":0}]
[{"$nulls":4},0,null,{"$f":"IF($F107<>\"\",VLOOKUP(F107,Armies!$A$1:$C$300,3,FALSE),\"\")","v":""},null,null,{"$f":"IF(I107<>\"\",VLOOKUP(I107,$A$8:$C$107,2,FALSE),\"\")","v":""},{"$f":"IF(I107<>\"\",IF(I107=$A107,\"ERR\",IF(OR(I107=$P107,I107=$W107,I107=$AD107,I107=$AK107),\"DUP\",IF(ISNA(VLOOKUP(I107,$A$8:$A$107,1,FALSE)),\"ERR\",IF(COUNTIF($I$8:$I$107,I107)>1,\"ERR\",IF($D107=VLOOKUP(I107,$A$8:$D$107,4,FALSE),\"CLUB\",\"OK\"))))),\"\")","v":""},null,{"$f":"IF(L107<>\"\",IF(L107=\"Victoire\",IF(VLOOKUP(I107,$A$8:$L$107,12,FALSE)=\"Défaite\",\"OK\",\"ERR\"),IF(L107=\"Défaite\",IF(VLOOKUP(I107,$A$8:$L$107,12,FALSE)=\"Victoire\",\"OK\",\"ERR\"),IF(L107=\"Nul\",IF(VLOOKUP(I107,$A$8:$L$107,12,FALSE)=\"Nul\",\"OK\",\"ERR\")))),\"\")","v":""},null,{"$f":"IF(L107=\"Victoire\",100-ROUNDDOWN(20*N107/$H107,0),\nIF(L107=\"Défaite\",10+ROUNDDOWN(20*VLOOKUP(I107,$A$8:$N$107,14,FALSE)/VLOOKUP(I107,$A$8:$H$107,8,FALSE),0),\nIF(AND(L107=\"Nul\",$N107<>$H107),40+(2*ROUNDDOWN(10*VLOOKUP(I107,$A$8:$N$107,14,FALSE)/VLOOKUP(I107,$A$8:$H$107,8,FALSE),0)-ROUNDDOWN(10*N107/$H107,0)),IF(AND(L107=\"Nul\",$N107=$H107),58,0))))","v":0},null,{"$f":"IF(P107<>\"\",VLOOKUP(P107,$A$8:$C$107,2,FALSE),\"\")","v":""},{"$f":"IF(P107<>\"\",IF(P107=$A107,\"ERR\",IF(OR(P107=$I107,P107=$W107,P107=$AD107,P107=$AK107),\"DUP\",IF(ISNA(VLOOKUP(P107,$A$8:$A$107,1,FALSE)),\"ERR\",IF(COUNTIF($I$8:$I$107,P107)>1,\"ERR\",IF($D107=VLOOKUP(P107,$A$8:$D$107,4,FALSE),\"CLUB\",\"OK\"))))),\"\")","v":""},null,{"$f":"IF(S107<>\"\",IF(S107=\"Victoire\",IF(VLOOKUP(P107,$A$8:$AO$107,19,FALSE)=\"Défaite\",\"OK\",\"ERR\"),IF(S107=\"Défaite\",IF(VLOOKUP(P107,$A$8:$AO$107,19,FALSE)=\"Victoire\",\"OK\",\"ERR\"),IF(S107=\"Nul\",IF(VLOOKUP(P107,$A$8:$AO$107,19,FALSE)=\"Nul\",\"OK\",\"ERR\")))),\"\")","v":""},null,{"$f":"IF(S107=\"Victoire\",100-ROUNDDOWN(20*U107/$H107,0),\nIF(S107=\"Défaite\",10+ROUNDDOWN(20*VLOOKUP(P107,$A$8:$AO$107,21,FALSE)/VLOOKUP(P107,$A$8:$H$107,8,FALSE),0),\nIF(AND(S107=\"Nul\",$U107<>$H107),40+(2*ROUNDDOWN(10*VLOOKUP(P107,$A$8:$AO$107,21,FALSE)/VLOOKUP(P107,$A$8:$H$107,8,FALSE),0)-ROUNDDOWN(10*U107/$H107,0)),IF(AND(S107=\"Nul\",$U107=$H107),58,0))))","v":0},null,{"$f":"IF(W107<>\"\",VLOOKUP(W107,$A$8:$C$107,2,FALSE),\"\")","v":""},{"$f":"IF(W107<>\"\",IF(W107=$A107,\"ERR\",IF(OR(W107=$P107,W107=$I107,W107=$AD107,W107=$AK107),\"DUP\",IF(ISNA(VLOOKUP(W107,$A$8:$A$107,1,FALSE)),\"ERR\",IF(COUNTIF($I$8:$I$107,W107)>1,\"ERR\",IF($D107=VLOOKUP(W107,$A$8:$D$107,4,FALSE),\"CLUB\",\"OK\"))))),\"\")","v":""},null,{"$f":"IF(Z107<>\"\",IF(Z107=\"Victoire\",IF(VLOOKUP(W107,$A$8:$AO$107,26,FALSE)=\"Défaite\",\"OK\",\"ERR\"),IF(Z107=\"Défaite\",IF(VLOOKUP(W107,$A$8:$AO$107,26,FALSE)=\"Victoire\",\"OK\",\"ERR\"),IF(Z107=\"Nul\",IF(VLOOKUP(W107,$A$8:$AO$107,26,FALSE)=\"Nul\",\"OK\",\"ERR\")))),\"\")","v":""},null,{"$f":"IF(Z107=\"Victoire\",100-ROUNDDOWN(20*AB107/$H107,0),\nIF(Z107=\"Défaite\",10+ROUNDDOWN(20*VLOOKUP(W107,$A$8:$AO$107,28,FALSE)/VLOOKUP(W107,$A$8:$H$107,8,FALSE),0),\nIF(AND(Z107=\"Nul\",$AB107<>$H107),40+(2*ROUNDDOWN(10*VLOOKUP(W107,$A$8:$AO$107,28,FALSE)/VLOOKUP(W107,$A$8:$H$107,8,FALSE),0)-ROUNDDOWN(10*AB107/$H107,0)),IF(AND(Z107=\"Nul\",$AB107=$H107),58,0))))","v":0},null,{"$f":"IF(AD107<>\"\",VLOOKUP(AD107,$A$8:$C$107,2,FALSE),\"\")","v":""},{"$f":"IF(AD107<>\"\",IF(AD107=$A107,\"ERR\",IF(OR(AD107=$P107,AD107=$W107,AD107=$I107,AD107=$AK107),\"DUP\",IF(ISNA(VLOOKUP(AD107,$A$8:$A$107,1,FALSE)),\"ERR\",IF(COUNTIF($I$8:$I$107,AD107)>1,\"ERR\",IF($D107=VLOOKUP(AD107,$A$8:$D$107,4,FALSE),\"CLUB\",\"OK\"))))),\"\")","v":""},null,{"$f":"IF(AG107<>\"\",IF(AG107=\"Victoire\",IF(VLOOKUP(AD107,$A$8:$AO$107,33,FALSE)=\"Défaite\",\"OK\",\"ERR\"),IF(AG107=\"Défaite\",IF(VLOOKUP(AD107,$A$8:$AO$107,33,FALSE)=\"Victoire\",\"OK\",\"ERR\"),IF(AG107=\"Nul\",IF(VLOOKUP(AD107,$A$8:$AO$107,33,FALSE)=\"Nul\",\"OK\",\"ERR\")))),\"\")","v":""},null,{"$f":"IF(AG107=\"Victoire\",100-ROUNDDOWN(20*AI107/$H107,0),\nIF(AG107=\"Défaite\",10+ROUNDDOWN(20*VLOOKUP(AD107,$A$8:$AO$107,35,FALSE)/VLOOKUP(AD107,$A$8:$H$107,8,FALSE),0),\nIF(AND(AG107=\"Nul\",$AI107<>$H107),40+(2*ROUNDDOWN(10*VLOOKUP(AD107,$A$8:$AO$107,35,FALSE)/VLOOKUP(AD107,$A$8:$H$107,8,FALSE),0)-ROUNDDOWN(10*AI107/$H107,0)),IF(AND(AG107=\"Nul\",$AI107=$H107),58,0))))","v":0},null,{"$f":"IF(AK107<>\"\",VLOOKUP(AK107,$A$8:$C$107,2,FALSE),\"\")","v":""},{"$f":"IF(AK107<>\"\",IF(AK107=$A107,\"ERR\",IF(OR(AK107=$P107,AK107=$W107,AK107=$AD107,AK107=$I107),\"DUP\",IF(ISNA(VLOOKUP(AK107,$A$8:$A$107,1,FALSE)),\"ERR\",IF(COUNTIF($I$8:$I$107,AK107)>1,\"ERR\",IF($D107=VLOOKUP(AK107,$A$8:$D$107,4,FALSE),\"CLUB\",\"OK\"))))),\"\")","v":""},null,{"$f":"IF(AN107<>\"\",IF(AN107=\"Victoire\",IF(VLOOKUP(AK107,$A$8:$AO$107,40,FALSE)=\"Défaite\",\"OK\",\"ERR\"),IF(AN107=\"Défaite\",IF(VLOOKUP(AK107,$A$8:$AO$107,40,FALSE)=\"Victoire\",\"OK\",\"ERR\"),IF(AN107=\"Nul\",IF(VLOOKUP(AK107,$A$8:$AO$107,40,FALSE)=\"Nul\",\"OK\",\"ERR\")))),\"\")","v":""},null,{"$f":"IF(AN107=\"Victoire\",100-ROUNDDOWN(20*AP107/$H107,0),\nIF(AN107=\"Défaite\",10+ROUNDDOWN(20*VLOOKUP(AK107,$A$8:$CB$107,42,FALSE)/VLOOKUP(AK107,$A$8:$H$107,8,FALSE),0),\nIF(AND(AN107=\"Nul\",$AP107<>$H107),40+(2*ROUNDDOWN(10*VLOOKUP(AK107,$A$8:$CB$107,42,FALSE)/VLOOKUP(AK107,$A$8:$H$107,8,FALSE),0)-ROUNDDOWN(10*AP107/$H107,0)),IF(AND(AN107=\"Nul\",$AP107=$H107),58,0))))","v":0},null,{"$f":"IF(AR107<>\"\",VLOOKUP(AR107,$A$8:$C$107,2,FALSE),\"\")","v":""},{"$f":"IF(AR107<>\"\",IF(AR107=$A107,\"ERR\",IF(OR(AR107=$I107,AR107=$P107,AR107=$W107,AR107=$AD107,AR107=$AK107),\"DUP\",IF(ISNA(VLOOKUP(AR107,$A$8:$A$107,1,FALSE)),\"ERR\",IF(COUNTIF($I$8:$I$107,AR107)>1,\"ERR\",IF($D107=VLOOKUP(AR107,$A$8:$D$107,4,FALSE),\"CLUB\",\"OK\"))))),\"\")","v":""},null,{"$f":"IF(AU107<>\"\",IF(AU107=\"Victoire\",IF(VLOOKUP(AR107,$A$8:$BL$107,47,FALSE)=\"Défaite\",\"OK\",\"ERR\"),IF(AU107=\"Défaite\",IF(VLOOKUP(AR107,$A$8:$BL$107,47,FALSE)=\"Victoire\",\"OK\",\"ERR\"),IF(AU107=\"Nul\",IF(VLOOKUP(AR107,$A$8:$BL$107,47,FALSE)=\"Nul\",\"OK\",\"ERR\")))),\"\")","v":""},null,{"$f":"IF(AU107=\"Victoire\",100-ROUNDDOWN(20*AW107/$H107,0),\nIF(AU107=\"Défaite\",10+ROUNDDOWN(20*VLOOKUP(AR107,$A$8:$CB$107,49,FALSE)/VLOOKUP(AR107,$A$8:$H$107,8,FALSE),0),\nIF(AND(AU107=\"Nul\",$AW107<>$H107),40+(2*ROUNDDOWN(10*VLOOKUP(AR107,$A$8:$CB$107,49,FALSE)/VLOOKUP(AR107,$A$8:$H$107,8,FALSE),0)-ROUNDDOWN(10*AW107/$H107,0)),IF(AND(AU107=\"Nul\",$AW107=$H107),58,0))))","v":0},null,{"$f":"IF(AY107<>\"\",VLOOKUP(AY107,$A$8:$C$107,2,FALSE),\"\")","v":""},{"$f":"IF(AY107<>\"\",IF(AY107=$A107,\"ERR\",IF(OR(AY107=$I107,AY107=$P107,AY107=$W107,AY107=$AD107,AY107=$AK107,AY107=$AR107),\"DUP\",IF(ISNA(VLOOKUP(AY107,$A$8:$A$107,1,FALSE)),\"ERR\",IF(COUNTIF($I$8:$I$107,AY107)>1,\"ERR\",IF($D107=VLOOKUP(AY107,$A$8:$D$107,4,FALSE),\"CLUB\",\"OK\"))))),\"\")","v":""},null,{"$f":"IF(BB107<>\"\",IF(BB107=\"Victoire\",IF(VLOOKUP(AY107,$A$8:$BL$107,54,FALSE)=\"Défaite\",\"OK\",\"ERR\"),IF(BB107=\"Défaite\",IF(VLOOKUP(AY107,$A$8:$BL$107,54,FALSE)=\"Victoire\",\"OK\",\"ERR\"),IF(BB107=\"Nul\",IF(VLOOKUP(AY107,$A$8:$BL$107,54,FALSE)=\"Nul\",\"OK\",\"ERR\")))),\"\")","v":""},null,{"$f":"IF(BB107=\"Victoire\",100-ROUNDDOWN(20*BD107/$H107,0),\nIF(BB107=\"Défaite\",10+ROUNDDOWN(20*VLOOKUP(AY107,$A$8:$CB$107,56,FALSE)/VLOOKUP(AY107,$A$8:$H$107,8,FALSE),0),\nIF(AND(BB107=\"Nul\",$BD107<>$H107),40+(2*ROUNDDOWN(10*VLOOKUP(AY107,$A$8:$CB$107,56,FALSE)/VLOOKUP(AY107,$A$8:$H$107,8,FALSE),0)-ROUNDDOWN(10*BD107/$H107,0)),IF(AND(BB107=\"Nul\",$BD107=$H107),58,0))))","v":0},null,{"$f":"IF(BF107<>\"\",VLOOKUP(BF107,$A$8:$C$107,2,FALSE),\"\")","v":""},{"$f":"IF(BF107<>\"\",IF(BF107=$A107,\"ERR\",IF(OR(BF107=$I107,BF107=$P107,BF107=$W107,BF107=$AD107,BF107=$AK107,BF107=$AR107,BF107=$AY107),\"DUP\",IF(ISNA(VLOOKUP(BF107,$A$8:$A$107,1,FALSE)),\"ERR\",IF(COUNTIF($I$8:$I$107,BF107)>1,\"ERR\",IF($D107=VLOOKUP(BF107,$A$8:$D$107,4,FALSE),\"CLUB\",\"OK\"))))),\"\")","v":""},null,{"$f":"IF(BI107<>\"\",IF(BI107=\"Victoire\",IF(VLOOKUP(BF107,$A$8:$BL$107,61,FALSE)=\"Défaite\",\"OK\",\"ERR\"),IF(BI107=\"Défaite\",IF(VLOOKUP(BF107,$A$8:$BL$107,61,FALSE)=\"Victoire\",\"OK\",\"ERR\"),IF(BI107=\"Nul\",IF(VLOOKUP(BF107,$A$8:$BL$107,61,FALSE)=\"Nul\",\"OK\",\"ERR\")))),\"\")","v":""},null,{"$f":"IF(BI107=\"Victoire\",100-ROUNDDOWN(20*BK107/$H107,0),\nIF(BI107=\"Défaite\",10+ROUNDDOWN(20*VLOOKUP(BF107,$A$8:$CB$107,63,FALSE)/VLOOKUP(BF107,$A$8:$H$107,8,FALSE),0),\nIF(AND(BI107=\"Nul\",$BK107<>$H107),40+(2*ROUNDDOWN(10*VLOOKUP(BF107,$A$8:$CB$107,63,FALSE)/VLOOKUP(BF107,$A$8:$H$107,8,FALSE),0)-ROUNDDOWN(10*BK107/$H107,0)),IF(AND(BI107=\"Nul\",$BK107=$H107),58,0))))","v":0},null,{"$f":"IF(BM107<>\"\",VLOOKUP(BM107,$A$8:$C$107,2,FALSE),\"\")","v":""},{"$f":"IF(BM107<>\"\",IF(BM107=$A107,\"ERR\",IF(OR(BM107=$I107,BM107=$P107,BM107=$W107,BM107=$AD107,BM107=$AK107,BM107=$AR107,BM107=$AY107,BM107=$BF107),\"DUP\",IF(ISNA(VLOOKUP(BM107,$A$8:$A$107,1,FALSE)),\"ERR\",IF(COUNTIF($I$8:$I$107,BM107)>1,\"ERR\",IF($D107=VLOOKUP(BM107,$A$8:$D$107,4,FALSE),\"CLUB\",\"OK\"))))),\"\")","v":""},null,{"$f":"IF(BP107<>\"\",IF(BP107=\"Victoire\",IF(VLOOKUP(BM107,$A$8:$BS$107,68,FALSE)=\"Défaite\",\"OK\",\"ERR\"),IF(BP107=\"Défaite\",IF(VLOOKUP(BM107,$A$8:$BS$107,68,FALSE)=\"Victoire\",\"OK\",\"ERR\"),IF(BP107=\"Nul\",IF(VLOOKUP(BM107,$A$8:$BS$107,68,FALSE)=\"Nul\",\"OK\",\"ERR\")))),\"\")","v":""},null,{"$f":"IF(BP107=\"Victoire\",100-ROUNDDOWN(20*BR107/$H107,0),\nIF(BP107=\"Défaite\",10+ROUNDDOWN(20*VLOOKUP(BM107,$A$8:$CB$107,70,FALSE)/VLOOKUP(BM107,$A$8:$H$107,8,FALSE),0),\nIF(AND(BP107=\"Nul\",$BR107<>$H107),40+(2*ROUNDDOWN(10*VLOOKUP(BM107,$A$8:$CB$107,70,FALSE)/VLOOKUP(BM107,$A$8:$H$107,8,FALSE),0)-ROUNDDOWN(10*BR107/$H107,0)),IF(AND(BP107=\"Nul\",$BR107=$H107),58,0))))","v":0},null,{"$f":"IF($I107<>\"\",VLOOKUP($I107,$A$8:$N$107,5,FALSE),0)+IF($P107<>\"\",VLOOKUP($P107,$A$8:$N$107,5,FALSE),0)+IF($W107<>\"\",VLOOKUP($W107,$A$8:$N$107,5,FALSE),0)+IF($AD107<>\"\",VLOOKUP($AD107,$A$8:$N$107,5,FALSE),0)+IF($AK107<>\"\",VLOOKUP($AK107,$A$8:$N$107,5,FALSE),0)+IF($AR107<>\"\",VLOOKUP($AR107,$A$8:$N$107,5,FALSE),0)+IF($AY107<>\"\",VLOOKUP($AY107,$A$8:$N$107,5,FALSE),0)+IF($BF107<>\"\",VLOOKUP($BF107,$A$8:$N$107,5,FALSE),0)+IF($BM107<>\"\",VLOOKUP($BM107,$A$8:$N$107,5,FALSE),0)","v":0}]
{"$rows_empty":10}
[null,"Data"]
[null,"AUS"]
[null,"BEL"]
[null,"ESP"]
[null,"FRA"]
[null,"GRC"]
[null,"ITA","Victoire"]
[null,"NZL","Nul"]
[null,"POR","Défaite"]
[null,"SUI"]
[null,"UK"]
[null,"US"]
[null,"Toutes les périodes","Open Theme"]
[null,"Période Antique","Antique Period"]
[null,"Période Ancienne","Ancient Period"]
[null,"Période Classique","Classical Period"]
[null,"Période Romaine","Roman Period"]
[null,"Ages Sombres","Dark Ages"]
[null,"Age Féodal","Feudal Ages"]
[null,"Période Médiévale","Medieval Period"]
[null,"Moyen âge tardif","Late Middle Ages"]
[null,"Autres thème","Other Theme"]

{"sheet":"Instructions","index":1,"n_rows":27,"n_cols":1,"rows_kept":27}
["L'Art de la Guerre"]
["The results excel file V4"]
[]
["The excel file is used to help to pair up and to record Tournament results for L'Art de la Guerre. "]
["Using this spreadsheet allows the Tournament Organiser to submit the results for automatic inclusion in the global tournament database. This generates ELO rankings for players across the world."]
[]
["Instructions"]
["1 - Enter the tournament’s data: tournament name, theme, date, country where it takes place, number of players and number of rounds (3 to 9). Theses pieces of information will be saved in the database."]
["2 - Copy the list of players by filling the following columns: ID, Surname, First Name, Club, army list nbr and its nbr of units. Each ID is linked to only one player. If a player has already played in a tournament, he has an ID nbr, that can be found on the ADLG website. For the new players, the umpires can obtain their ID by calling the championship master. Otherwise take ID nbr as a numeric value over 2000"]
["3 - For each round, pairings are calculated manually by the umpire. You can show or hide the details of each round by clicking on buttons.  Entering the ID of each players opponent in the draw will generate an automatic check for mistakes: a red highlighted cell means that an incorrect player number has been entered, a purple cell means that the players have already played together and an amber cell means that the players come from the same club. The opponent’s name is automatically generated from the ID number. A summary of the pairings for that turn is generated using the appropriate tab in the spreadsheet"]
["4 - A the end of each game players only need to submit the result (victory, a defeat or a draw) and also the number of of losses (not required for broken armies). Both players results need to be entered, and if their results are incompatible (ie both are listed as winning outright) the cell will be highlighted in red. The points accruing to each player are calculated automatically (based on the army sizes entered earlier) and added in the Points columns in green."]
["5 - At the end of the round, you can get the overall ranking by clicking the (sort out) button “Sort”. This will be sorted by increasing points. Players equally placed are sorted by the amount of points earned by all of their opponents. If some ties are left, the umpire can manually add a player ranking in the “ex-aequo” column. This could be based on ELO rank, the result of the match they played together, or any other random criteria decided by the Umpire."]
["6 - The column “Ajustment Points” allows the umpire to manually add or subtract points from the player’s total. It could be used to implement penalties or bonuses such as:\n-10pts to a player for a late list;\n-100pts for a player that changes or provides his list at the beginning of the tournament;\n-30pts for unsporting behaviour."]
["7 - When the tournament is over, please send this results file to the AGLG Tournament admin. The results will be recorded in the tournament database."]
[]
[]
[]
[]
[]
["Versions"]
["1.0 : Initial version"]
["1.1 : Minor corrections"]
["1.2 : Corrections to draw matches’ rounds"]
["1.3 : Addition of the army list in version 2"]
["1.4 : Modifications for the draw matches (base 35pts instead of 40)"]
["2.0 : Modifications due to new organisation charter for tournaments, counting for the championship"]
["4.0 : Update army lists for V4"]

{"sheet":"Round Draws","index":2,"n_rows":2,"n_cols":2,"rows_kept":2,"hidden":true}
[]
[null,"Pairing of the round 1"]

{"sheet":"Armies","index":3,"n_rows":300,"n_cols":3,"rows_kept":300}
[1,"Sumer and Akkad","Sumer and Akkad"]
[2,"Sumerian Successor","Sumerian Successor"]
[3,"Amorite Highlanders","Amorite Highlanders"]
[4,"Elamite","Elamite"]
[5,"Old Assyrian and Babylonian","Old Assyrian and Babylonian"]
[6,"Kassite Babylonian","Kassite Babylonian"]
[7,"Assyrian","Assyrian"]
[8,"Neo-Babylonian","Neo-Babylonian"]
[9,"Assyrian Empire and Sargonid","Assyrian Empire and Sargonid"]
[10,"Old and Middle Kingdom Egyptian","Old and Middle Kingdom Egyptian"]
[11,"Nubian","Nubian"]
[12,"Libyan","Libyan"]
[13,"Hyksos","Hyksos"]
[14,"New Kingdom Egyptian","New Kingdom Egyptian"]
[15,"Libyan Egyptian","Libyan Egyptian"]
[16,"Kushite Egyptian","Kushite Egyptian"]
[17,"Ancient Bedouin","Ancient Bedouin"]
[18,"Syrian City States","Syrian City States"]
[19,"Oman and Gulf States","Oman and Gulf States"]
[20,"Hittite","Hittite"]
[21,"Hurri-Mitanni","Hurri-Mitanni"]
[22,"Syria, Canaan and Ugarit","Syria, Canaan and Ugarit"]
[23,"Ancient Hebrew","Ancient Hebrew"]
[24,"Sea Peoples","Sea Peoples"]
[25,"Philistine","Philistine"]
[26,"Aramaean and Neo-Hittite","Aramaean and Neo-Hittite"]
[27,"Urartu","Urartu"]
[28,"Medes","Medes"]
[29,"Phrygian","Phrygian"]
[30,"Mycenaean","Mycenaean"]
[31,"Geometric Greek","Geometric Greek"]
[32,"Phoenicians of Cyprus","Phoenicians of Cyprus"]
[33,"Celts","Celts"]
[34,"Indus Valley","Indus Valley"]
[35,"Vedic Indian","Vedic Indian"]
[36,"Erlitou Shang Chinese","Erlitou Shang Chinese"]
[37,"Zhou and Spring and Autumn Chinese","Zhou and Spring and Autumn Chinese"]
[38,"Early Macedonian","Early Macedonian"]
[39,"Alexandrian Macedonian","Alexandrian Macedonian"]
[40,"Alexander the Great","Alexander the Great"]
[41,"Early Successors","Early Successors"]
[42,"Seleucid","Seleucid"]
[43,"Ptolemaic","Ptolemaic"]
[44,"Pyrrhic","Pyrrhic"]
[45,"Later Macedonian","Later Macedonian"]
[46,"Graeco-Bactrian and Graeco-Indian","Graeco-Bactrian and Graeco-Indian"]
[47,"Italic Tribes","Italic Tribes"]
[48,"Etruscan","Etruscan"]
[49,"Tullian Roman","Tullian Roman"]
[50,"Syracusan","Syracusan"]
[51,"Campanian, Lucanian, Apulian and Bruttian","Campanian, Lucanian, Apulian and Bruttian"]
[52,"Camillan Roman","Camillan Roman"]
[53,"Republican Roman","Republican Roman"]
[54,"Early Carthaginian","Early Carthaginian"]
[55,"Carthaginian","Carthaginian"]
[56,"Numidian","Numidian"]
[57,"Saitic Egyptian","Saitic Egyptian"]
[58,"Kyrenean Greek","Kyrenean Greek"]
[59,"Meroitic Kushite","Meroitic Kushite"]
[60,"Classical Greek","Classical Greek"]
[61,"Hellenistic Greek","Hellenistic Greek"]
[62,"Illyrian","Illyrian"]
[63,"Thracian","Thracian"]
[64,"Achaemenid Persian","Achaemenid Persian"]
[65,"Lydian","Lydian"]
[66,"Lycian","Lycian"]
[67,"Bithynian","Bithynian"]
[68,"Later Achaemenid Persian","Later Achaemenid Persian"]
[69,"Cappadocian","Cappadocian"]
[70,"Bosporan Kingdom","Bosporan Kingdom"]
[71,"Armenian","Armenian"]
[72,"Galatian","Galatian"]
[73,"Pergamon","Pergamon"]
[74,"Aramaean","Aramaean"]
[75,"Early Arab","Early Arab"]
[76,"Scythian","Scythian"]
[77,"Sarmatian","Sarmatian"]
[78,"Vietnamese","Vietnamese"]
[79,"Classical Indian","Classical Indian"]
[80,"Warring States","Warring States"]
[81,"Qiang Di","Qiang Di"]
[82,"Yayoi Japanese","Yayoi Japanese"]
[83,"Triumvirate Roman","Triumvirate Roman"]
[84,"Slave revolts","Slave revolts"]
[85,"Early Imperial Roman","Early Imperial Roman"]
[86,"Middle Imperial Roman","Middle Imperial Roman"]
[87,"Late Imperial Roman","Late Imperial Roman"]
[88,"Patrician Roman","Patrician Roman"]
[89,"Gallic","Gallic"]
[90,"Ancient Spanish","Ancient Spanish"]
[91,"German","German"]
[92,"Dacian and Carpi","Dacian and Carpi"]
[93,"Visigoth","Visigoth"]
[94,"Vandal","Vandal"]
[95,"Ostrogoth","Ostrogoth"]
[96,"Gepid, Herul, Taifali and Sciri","Gepid, Herul, Taifali and Sciri"]
[97,"Franks, Alemanni, Burgundi, Suevi","Franks, Alemanni, Burgundi, Suevi"]
[98,"Ancient British","Ancient British"]
[99,"Caledonian, Scots-Irish and Pictish","Caledonian, Scots-Irish and Pictish"]
[100,"Saxon, Anglo-Saxon, Frisian, Jutes","Saxon, Anglo-Saxon, Frisian, Jutes"]
[101,"Britto-Roman","Britto-Roman"]
[102,"Parthian","Parthian"]
[103,"Judaean Jewish","Judaean Jewish"]
[104,"Commagene","Commagene"]
[105,"Mithridatic","Mithridatic"]
[106,"Palmyran","Palmyran"]
[107,"Kushan","Kushan"]
[108,"Alan","Alan"]
[109,"Sassanid Persian","Sassanid Persian"]
[110,"Huns","Huns"]
[111,"Hephthalite Huns","Hephthalite Huns"]
[112,"Blemmyes and Nobatae","Blemmyes and Nobatae"]
[113,"Moors","Moors"]
[114,"Kingdom of Axum","Kingdom of Axum"]
[115,"Xiongnu","Xiongnu"]
[116,"Han Chinese","Han Chinese"]
[117,"Xianbei","Xianbei"]
[118,"Three Kingdoms Chinese","Three Kingdoms Chinese"]
[119,"Chinese Northern and Southern Dynasties","Chinese Northern and Southern Dynasties"]
[120,"Tamil Indian","Tamil Indian"]
[121,"Three Kingdoms Korean","Three Kingdoms Korean"]
[122,"Kofun-Nara Japanese","Kofun-Nara Japanese"]
[123,"Emishi","Emishi"]
[124,"Justinian Byzantine","Justinian Byzantine"]
[125,"Maurikian Byzantine","Maurikian Byzantine"]
[126,"Thematic Byzantine","Thematic Byzantine"]
[127,"Nikephorian Byzantine","Nikephorian Byzantine"]
[128,"Armenian Principality","Armenian Principality"]
[129,"Bagratid Armenian","Bagratid Armenian"]
[130,"Arab Conquest","Arab Conquest"]
[131,"Umayyad Arab","Umayyad Arab"]
[132,"North African Arab","North African Arab"]
[133,"Andalusian Arab","Andalusian Arab"]
[134,"Abbasid Arab","Abbasid Arab"]
[135,"Arab Indian","Arab Indian"]
[136,"Khurasanian","Khurasanian"]
[137,"Tulunid and Iqshidid Egyptian","Tulunid and Iqshidid Egyptian"]
[138,"Bedouin Dynasties","Bedouin Dynasties"]
[139,"Sogdian and Central Asia City States","Sogdian and Central Asia City States"]
[140,"Central Asian Turkish","Central Asian Turkish"]
[141,"Visigoth in Spain","Visigoth in Spain"]
[142,"African Vandal","African Vandal"]
[143,"Lombard","Lombard"]
[144,"Italian Ostrogoth","Italian Ostrogoth"]
[145,"Later Scots-Irish","Later Scots-Irish"]
[146,"Post Roman British","Post Roman British"]
[147,"Later Pictish","Later Pictish"]
[148,"Merovingian Frankish","Merovingian Frankish"]
[149,"Armourican Breton","Armourican Breton"]
[150,"Welsh","Welsh"]
[151,"Anglo-Saxon","Anglo-Saxon"]
[152,"Astur-Leónese and Navarrese","Astur-Leónese and Navarrese"]
[153,"Carolingian Frankish","Carolingian Frankish"]
[154,"Later Franks","Later Franks"]
[155,"Viking and Leidang","Viking and Leidang"]
[156,"Irish","Irish"]
[157,"Scots","Scots"]
[158,"Slav","Slav"]
[159,"Avar","Avar"]
[160,"Bulgar","Bulgar"]
[161,"Khazar","Khazar"]
[162,"Serbo-Croatian","Serbo-Croatian"]
[163,"Magyar","Magyar"]
[164,"Pecheneg","Pecheneg"]
[165,"Rus","Rus"]
[166,"Christian Nubian","Christian Nubian"]
[167,"Beja","Beja"]
[168,"Burmese","Burmese"]
[169,"Rebel Vietnam","Rebel Vietnam"]
[170,"Hindu Indian","Hindu Indian"]
[171,"Sui and Tang Chinese","Sui and Tang Chinese"]
[172,"Tibetan","Tibetan"]
[173,"Khmer Empire and Cham","Khmer Empire and Cham"]
[174,"Nanzhao and Dali","Nanzhao and Dali"]
[175,"Tang and Five Dynasties Chinese","Tang and Five Dynasties Chinese"]
[176,"Heian Japanese","Heian Japanese"]
[177,"Shatuo Turkish","Shatuo Turkish"]
[178,"Tribal Mongol","Tribal Mongol"]
[179,"Norman","Norman"]
[180,"Anglo-Danish","Anglo-Danish"]
[181,"Anglo-Norman","Anglo-Norman"]
[182,"Feudal French","Feudal French"]
[183,"Feudal English","Feudal English"]
[184,"Feudal Scots","Feudal Scots"]
[185,"Feudal Welsh","Feudal Welsh"]
[186,"Feudal Anglo-Irish","Feudal Anglo-Irish"]
[187,"Scots Isles and Highlanders","Scots Isles and Highlanders"]
[188,"Kingdom of Sicily ","Kingdom of Sicily "]
[189,"Communal Italian","Communal Italian"]
[190,"Feudal Spanish","Feudal Spanish"]
[191,"Feudal German","Feudal German"]
[192,"Konstantinan Byzantine","Konstantinan Byzantine"]
[193,"Komnenan Byzantine","Komnenan Byzantine"]
[194,"Cilician Armenian","Cilician Armenian"]
[195,"Crusader","Crusader"]
[196,"Later Crusader","Later Crusader"]
[197,"Frankish Cyprus","Frankish Cyprus"]
[198,"Eastern Latin Empire","Eastern Latin Empire"]
[199,"Dailami Dynasties","Dailami Dynasties"]
[200,"Kurdish Dynasties","Kurdish Dynasties"]
[201,"Ghaznavid","Ghaznavid"]
[202,"Fatimid Egyptian","Fatimid Egyptian"]
[203,"Seljuk Turks","Seljuk Turks"]
[204,"Taifa Kingdoms","Taifa Kingdoms"]
[205,"Syrian","Syrian"]
[206,"Ghurid","Ghurid"]
[207,"Ayyubid Egyptian","Ayyubid Egyptian"]
[208,"Khwarazmian","Khwarazmian"]
[209,"Sahelian Empire","Sahelian Empire"]
[210,"Tuareg","Tuareg"]
[211,"Berber","Berber"]
[212,"African kingdoms","African kingdoms"]
[213,"Feudal Polish","Feudal Polish"]
[214,"Feudal Hungarian","Feudal Hungarian"]
[215,"Georgian","Georgian"]
[216,"Feudal Russian","Feudal Russian"]
[217,"Cuman","Cuman"]
[218,"Feudal Scandinavian","Feudal Scandinavian"]
[219,"Prussian and Estonian","Prussian and Estonian"]
[220,"Teutonic Knights","Teutonic Knights"]
[221,"Samurai","Samurai"]
[222,"Khitan-Liao","Khitan-Liao"]
[223,"Goryeo Korean","Goryeo Korean"]
[224,"Medieval Vietnamese","Medieval Vietnamese"]
[225,"Song Chinese","Song Chinese"]
[226,"Xi Xia","Xi Xia"]
[227,"Jurchen-Jin","Jurchen-Jin"]
[228,"Qara-Khitan","Qara-Khitan"]
[229,"Mongol Empire","Mongol Empire"]
[230,"Granadine","Granadine"]
[231,"Swiss","Swiss"]
[232,"Medieval Scots","Medieval Scots"]
[233,"Medieval Irish","Medieval Irish"]
[234,"Medieval Anglo-Irish","Medieval Anglo-Irish"]
[235,"Condottieri","Condottieri"]
[236,"Hundred Years War English","Hundred Years War English"]
[237,"Hundred Years War French","Hundred Years War French"]
[238,"Medieval German","Medieval German"]
[239,"Medieval Spanish","Medieval Spanish"]
[240,"Kingdom of Navarre","Kingdom of Navarre"]
[241,"Free Company","Free Company"]
[242,"Burgundian","Burgundian"]
[243,"Low Countries","Low Countries"]
[244,"Medieval Welsh","Medieval Welsh"]
[245,"French Ordonnance","French Ordonnance"]
[246,"Burgundian Ordonnance","Burgundian Ordonnance"]
[247,"Wars of the Roses","Wars of the Roses"]
[248,"Lithuanian","Lithuanian"]
[249,"Medieval Hungarian","Medieval Hungarian"]
[250,"Muscovite Russian","Muscovite Russian"]
[251,"Medieval Scandinavian","Medieval Scandinavian"]
[252,"Golden Horde","Golden Horde"]
[253,"Medieval Teutonic","Medieval Teutonic"]
[254,"Medieval Polish","Medieval Polish"]
[255,"Hussite","Hussite"]
[256,"Serbian Empire","Serbian Empire"]
[257,"Second Bulgarian Empire","Second Bulgarian Empire"]
[258,"Later Byzantine","Later Byzantine"]
[259,"Mamluk","Mamluk"]
[260,"Turkoman","Turkoman"]
[261,"Ottoman Turkish","Ottoman Turkish"]
[262,"Catalan Company","Catalan Company"]
[263,"Order of St John","Order of St John"]
[264,"Medieval Cyprus","Medieval Cyprus"]
[265,"Vlach and Moldavian","Vlach and Moldavian"]
[266,"Albanian","Albanian"]
[267,"Ottoman Empire","Ottoman Empire"]
[268,"Besieged Byzantine","Besieged Byzantine"]
[269,"Islamic Persian","Islamic Persian"]
[270,"Ilkhanid Mongol","Ilkhanid Mongol"]
[271,"Steppe Mongol","Steppe Mongol"]
[272,"Jalayirid","Jalayirid"]
[273,"Timurid","Timurid"]
[274,"Black Sheep & White Sheep Turkoman","Black Sheep & White Sheep Turkoman"]
[275,"Delhi Sultanate","Delhi Sultanate"]
[276,"Vijayanagar Kingdom","Vijayanagar Kingdom"]
[277,"Indonesian and Malay","Indonesian and Malay"]
[278,"Siam","Siam"]
[279,"Yuan Chinese","Yuan Chinese"]
[280,"Later Samurai","Later Samurai"]
[281,"Ming Chinese","Ming Chinese"]
[282,"Yi Korean","Yi Korean"]
[283,"Olmec","Olmec"]
[284,"Maya","Maya"]
[285,"Zapotec and Mixtec","Zapotec and Mixtec"]
[286,"Toltec","Toltec"]
[287,"Chinantec","Chinantec"]
[288,"Tarascan","Tarascan"]
[289,"Aztec","Aztec"]
[290,"Texcala","Texcala"]
[291,"Inca","Inca"]
[292,"Chanca","Chanca"]
[293,"Mochica and Chimu","Mochica and Chimu"]
[294,"Tupi","Tupi"]
[295,"Mapuche","Mapuche"]
[296,"Chichimec","Chichimec"]
[297,"Pueblos","Pueblos"]
[298,"North American tribes","North American tribes"]
[299,"Mound Builder tribes","Mound Builder tribes"]
[300,"Polynesian and Melanesian","Polynesian and Melanesian"]

{"sheet":"Round 1","index":9,"n_rows":100,"n_cols":13,"rows_kept":100}
[]
["Round 1 Draw",null,{"$f":"Results!B3","v":0}]
[null,null,{"$f":"Results!B4","v":"Classical Period"}]
[{"$nulls":12},"VALID?"]
[null,{"$f":"Results!A8","v":0},{"$f":"Results!C8","v":0},{"$f":"Results!B8","v":0},{"$f":"Results!D8","v":0},{"$f":"Results!G8","v":""},"- vs -",{"$f":"VLOOKUP(B5,Results!$A$8:$AG$104,9,)","v":{"$error":"#N/A"}},{"$f":"VLOOKUP(H5,Results!A$8:$G$104,3,FALSE)","v":{"$error":"#N/A"}},{"$f":"VLOOKUP(H5,Results!$A$8:$G$104,2,FALSE)","v":{"$error":"#N/A"}},{"$f":"VLOOKUP(H5,Results!$A$8:$G$104,4,FALSE)","v":{"$error":"#N/A"}},{"$f":"VLOOKUP(H5,Results!$A$8:$G$104,7,FALSE)","v":{"$error":"#N/A"}},{"$f":"VLOOKUP(H5,$B$5:B5,1,FALSE)","v":{"$error":"#N/A"}}]
[null,{"$f":"Results!A9","v":0},{"$f":"Results!C9","v":0},{"$f":"Results!B9","v":0},{"$f":"Results!D9","v":0},{"$f":"Results!G9","v":""},"- vs -",{"$f":"VLOOKUP(B6,Results!$A$8:$AG$104,9,)","v":{"$error":"#N/A"}},{"$f":"VLOOKUP(H6,Results!A$8:$G$104,3,FALSE)","v":{"$error":"#N/A"}},{"$f":"VLOOKUP(H6,Results!$A$8:$G$104,2,FALSE)","v":{"$error":"#N/A"}},{"$f":"VLOOKUP(H6,Results!$A$8:$G$104,4,FALSE)","v":{"$error":"#N/A"}},{"$f":"VLOOKUP(H6,Results!$A$8:$G$104,7,FALSE)","v":{"$error":"#N/A"}},{"$f":"VLOOKUP(H6,$B$5:B6,1,FALSE)","v":{"$error":"#N/A"}}]
[null,{"$f":"Results!A10","v":0},{"$f":"Results!C10","v":0},{"$f":"Results!B10","v":0},{"$f":"Results!D10","v":0},{"$f":"Results!G10","v":""},"- vs -",{"$f":"VLOOKUP(B7,Results!$A$8:$AG$104,9,)","v":{"$error":"#N/A"}},{"$f":"VLOOKUP(H7,Results!A$8:$G$104,3,FALSE)","v":{"$error":"#N/A"}},{"$f":"VLOOKUP(H7,Results!$A$8:$G$104,2,FALSE)","v":{"$error":"#N/A"}},{"$f":"VLOOKUP(H7,Results!$A$8:$G$104,4,FALSE)","v":{"$error":"#N/A"}},{"$f":"VLOOKUP(H7,Results!$A$8:$G$104,7,FALSE)","v":{"$error":"#N/A"}},{"$f":"VLOOKUP(H7,$B$5:B7,1,FALSE)","v":{"$error":"#N/A"}}]
[null,{"$f":"Results!A11","v":0},{"$f":"Results!C11","v":0},{"$f":"Results!B11","v":0},{"$f":"Results!D11","v":0},{"$f":"Results!G11","v":""},"- vs -",{"$f":"VLOOKUP(B8,Results!$A$8:$AG$104,9,)","v":{"$error":"#N/A"}},{"$f":"VLOOKUP(H8,Results!A$8:$G$104,3,FALSE)","v":{"$error":"#N/A"}},{"$f":"VLOOKUP(H8,Results!$A$8:$G$104,2,FALSE)","v":{"$error":"#N/A"}},{"$f":"VLOOKUP(H8,Results!$A$8:$G$104,4,FALSE)","v":{"$error":"#N/A"}},{"$f":"VLOOKUP(H8,Results!$A$8:$G$104,7,FALSE)","v":{"$error":"#N/A"}},{"$f":"VLOOKUP(H8,$B$5:B8,1,FALSE)","v":{"$error":"#N/A"}}]
[null,{"$f":"Results!A12","v":0},{"$f":"Results!C12","v":0},{"$f":"Results!B12","v":0},{"$f":"Results!D12","v":0},{"$f":"Results!G12","v":""},"- vs -",{"$f":"VLOOKUP(B9,Results!$A$8:$AG$104,9,)","v":{"$error":"#N/A"}},{"$f":"VLOOKUP(H9,Results!A$8:$G$104,3,FALSE)","v":{"$error":"#N/A"}},{"$f":"VLOOKUP(H9,Results!$A$8:$G$104,2,FALSE)","v":{"$error":"#N/A"}},{"$f":"VLOOKUP(H9,Results!$A$8:$G$104,4,FALSE)","v":{"$error":"#N/A"}},{"$f":"VLOOKUP(H9,Results!$A$8:$G$104,7,FALSE)","v":{"$error":"#N/A"}},{"$f":"VLOOKUP(H9,$B$5:B9,1,FALSE)","v":{"$error":"#N/A"}}]
[null,{"$f":"Results!A13","v":0},{"$f":"Results!C13","v":0},{"$f":"Results!B13","v":0},{"$f":"Results!D13","v":0},{"$f":"Results!G13","v":""},"- vs -",{"$f":"VLOOKUP(B10,Results!$A$8:$AG$104,9,)","v":{"$error":"#N/A"}},{"$f":"VLOOKUP(H10,Results!A$8:$G$104,3,FALSE)","v":{"$error":"#N/A"}},{"$f":"VLOOKUP(H10,Results!$A$8:$G$104,2,FALSE)","v":{"$error":"#N/A"}},{"$f":"VLOOKUP(H10,Results!$A$8:$G$104,4,FALSE)","v":{"$error":"#N/A"}},{"$f":"VLOOKUP(H10,Results!$A$8:$G$104,7,FALSE)","v":{"$error":"#N/A"}},{"$f":"VLOOKUP(H10,$B$5:B10,1,FALSE)","v":{"$error":"#N/A"}}]
[null,{"$f":"Results!A14","v":0},{"$f":"Results!C14","v":0},{"$f":"Results!B14","v":0},{"$f":"Results!D14","v":0},{"$f":"Results!G14","v":""},"- vs -",{"$f":"VLOOKUP(B11,Results!$A$8:$AG$104,9,)","v":{"$error":"#N/A"}},{"$f":"VLOOKUP(H11,Results!A$8:$G$104,3,FALSE)","v":{"$error":"#N/A"}},{"$f":"VLOOKUP(H11,Results!$A$8:$G$104,2,FALSE)","v":{"$error":"#N/A"}},{"$f":"VLOOKUP(H11,Results!$A$8:$G$104,4,FALSE)","v":{"$error":"#N/A"}},{"$f":"VLOOKUP(H11,Results!$A$8:$G$104,7,FALSE)","v":{"$error":"#N/A"}},{"$f":"VLOOKUP(H11,$B$5:B11,1,FALSE)","v":{"$error":"#N/A"}}]
[null,{"$f":"Results!A15","v":0},{"$f":"Results!C15","v":0},{"$f":"Results!B15","v":0},{"$f":"Results!D15","v":0},{"$f":"Results!G15","v":""},"- vs -",{"$f":"VLOOKUP(B12,Results!$A$8:$AG$104,9,)","v":{"$error":"#N/A"}},{"$f":"VLOOKUP(H12,Results!A$8:$G$104,3,FALSE)","v":{"$error":"#N/A"}},{"$f":"VLOOKUP(H12,Results!$A$8:$G$104,2,FALSE)","v":{"$error":"#N/A"}},{"$f":"VLOOKUP(H12,Results!$A$8:$G$104,4,FALSE)","v":{"$error":"#N/A"}},{"$f":"VLOOKUP(H12,Results!$A$8:$G$104,7,FALSE)","v":{"$error":"#N/A"}},{"$f":"VLOOKUP(H12,$B$5:B12,1,FALSE)","v":{"$error":"#N/A"}}]
[null,{"$f":"Results!A16","v":0},{"$f":"Results!C16","v":0},{"$f":"Results!B16","v":0},{"$f":"Results!D16","v":0},{"$f":"Results!G16","v":""},"- vs -",{"$f":"VLOOKUP(B13,Results!$A$8:$AG$104,9,)","v":{"$error":"#N/A"}},{"$f":"VLOOKUP(H13,Results!A$8:$G$104,3,FALSE)","v":{"$error":"#N/A"}},{"$f":"VLOOKUP(H13,Results!$A$8:$G$104,2,FALSE)","v":{"$error":"#N/A"}},{"$f":"VLOOKUP(H13,Results!$A$8:$G$104,4,FALSE)","v":{"$error":"#N/A"}},{"$f":"VLOOKUP(H13,Results!$A$8:$G$104,7,FALSE)","v":{"$error":"#N/A"}},{"$f":"VLOOKUP(H13,$B$5:B13,1,FALSE)","v":{"$error":"#N/A"}}]
[null,{"$f":"Results!A17","v":0},{"$f":"Results!C17","v":0},{"$f":"Results!B17","v":0},{"$f":"Results!D17","v":0},{"$f":"Results!G17","v":""},"- vs -",{"$f":"VLOOKUP(B14,Results!$A$8:$AG$104,9,)","v":{"$error":"#N/A"}},{"$f":"VLOOKUP(H14,Results!A$8:$G$104,3,FALSE)","v":{"$error":"#N/A"}},{"$f":"VLOOKUP(H14,Results!$A$8:$G$104,2,FALSE)","v":{"$error":"#N/A"}},{"$f":"VLOOKUP(H14,Results!$A$8:$G$104,4,FALSE)","v":{"$error":"#N/A"}},{"$f":"VLOOKUP(H14,Results!$A$8:$G$104,7,FALSE)","v":{"$error":"#N/A"}},{"$f":"VLOOKUP(H14,$B$5:B14,1,FALSE)","v":{"$error":"#N/A"}}]
[null,{"$f":"Results!A18","v":0},{"$f":"Results!C18","v":0},{"$f":"Results!B18","v":0},{"$f":"Results!D18","v":0},{"$f":"Results!G18","v":""},"- vs -",{"$f":"VLOOKUP(B15,Results!$A$8:$AG$104,9,)","v":{"$error":"#N/A"}},{"$f":"VLOOKUP(H15,Results!A$8:$G$104,3,FALSE)","v":{"$error":"#N/A"}},{"$f":"VLOOKUP(H15,Results!$A$8:$G$104,2,FALSE)","v":{"$error":"#N/A"}},{"$f":"VLOOKUP(H15,Results!$A$8:$G$104,4,FALSE)","v":{"$error":"#N/A"}},{"$f":"VLOOKUP(H15,Results!$A$8:$G$104,7,FALSE)","v":{"$error":"#N/A"}},{"$f":"VLOOKUP(H15,$B$5:B15,1,FALSE)","v":{"$error":"#N/A"}}]
[null,{"$f":"Results!A19","v":0},{"$f":"Results!C19","v":0},{"$f":"Results!B19","v":0},{"$f":"Results!D19","v":0},{"$f":"Results!G19","v":""},"- vs -",{"$f":"VLOOKUP(B16,Results!$A$8:$AG$104,9,)","v":{"$error":"#N/A"}},{"$f":"VLOOKUP(H16,Results!A$8:$G$104,3,FALSE)","v":{"$error":"#N/A"}},{"$f":"VLOOKUP(H16,Results!$A$8:$G$104,2,FALSE)","v":{"$error":"#N/A"}},{"$f":"VLOOKUP(H16,Results!$A$8:$G$104,4,FALSE)","v":{"$error":"#N/A"}},{"$f":"VLOOKUP(H16,Results!$A$8:$G$104,7,FALSE)","v":{"$error":"#N/A"}},{"$f":"VLOOKUP(H16,$B$5:B16,1,FALSE)","v":{"$error":"#N/A"}}]
[null,{"$f":"Results!A20","v":0},{"$f":"Results!C20","v":0},{"$f":"Results!B20","v":0},{"$f":"Results!D20","v":0},{"$f":"Results!G20","v":""},"- vs -",{"$f":"VLOOKUP(B17,Results!$A$8:$AG$104,9,)","v":{"$error":"#N/A"}},{"$f":"VLOOKUP(H17,Results!A$8:$G$104,3,FALSE)","v":{"$error":"#N/A"}},{"$f":"VLOOKUP(H17,Results!$A$8:$G$104,2,FALSE)","v":{"$error":"#N/A"}},{"$f":"VLOOKUP(H17,Results!$A$8:$G$104,4,FALSE)","v":{"$error":"#N/A"}},{"$f":"VLOOKUP(H17,Results!$A$8:$G$104,7,FALSE)","v":{"$error":"#N/A"}},{"$f":"VLOOKUP(H17,$B$5:B17,1,FALSE)","v":{"$error":"#N/A"}}]
[null,{"$f":"Results!A21","v":0},{"$f":"Results!C21","v":0},{"$f":"Results!B21","v":0},{"$f":"Results!D21","v":0},{"$f":"Results!G21","v":""},"- vs -",{"$f":"VLOOKUP(B18,Results!$A$8:$AG$104,9,)","v":{"$error":"#N/A"}},{"$f":"VLOOKUP(H18,Results!A$8:$G$104,3,FALSE)","v":{"$error":"#N/A"}},{"$f":"VLOOKUP(H18,Results!$A$8:$G$104,2,FALSE)","v":{"$error":"#N/A"}},{"$f":"VLOOKUP(H18,Results!$A$8:$G$104,4,FALSE)","v":{"$error":"#N/A"}},{"$f":"VLOOKUP(H18,Results!$A$8:$G$104,7,FALSE)","v":{"$error":"#N/A"}},{"$f":"VLOOKUP(H18,$B$5:B18,1,FALSE)","v":{"$error":"#N/A"}}]
[null,{"$f":"Results!A22","v":0},{"$f":"Results!C22","v":0},{"$f":"Results!B22","v":0},{"$f":"Results!D22","v":0},{"$f":"Results!G22","v":""},"- vs -",{"$f":"VLOOKUP(B19,Results!$A$8:$AG$104,9,)","v":{"$error":"#N/A"}},{"$f":"VLOOKUP(H19,Results!A$8:$G$104,3,FALSE)","v":{"$error":"#N/A"}},{"$f":"VLOOKUP(H19,Results!$A$8:$G$104,2,FALSE)","v":{"$error":"#N/A"}},{"$f":"VLOOKUP(H19,Results!$A$8:$G$104,4,FALSE)","v":{"$error":"#N/A"}},{"$f":"VLOOKUP(H19,Results!$A$8:$G$104,7,FALSE)","v":{"$error":"#N/A"}},{"$f":"VLOOKUP(H19,$B$5:B19,1,FALSE)","v":{"$error":"#N/A"}}]
[null,{"$f":"Results!A23","v":0},{"$f":"Results!C23","v":0},{"$f":"Results!B23","v":0},{"$f":"Results!D23","v":0},{"$f":"Results!G23","v":""},"- vs -",{"$f":"VLOOKUP(B20,Results!$A$8:$AG$104,9,)","v":{"$error":"#N/A"}},{"$f":"VLOOKUP(H20,Results!A$8:$G$104,3,FALSE)","v":{"$error":"#N/A"}},{"$f":"VLOOKUP(H20,Results!$A$8:$G$104,2,FALSE)","v":{"$error":"#N/A"}},{"$f":"VLOOKUP(H20,Results!$A$8:$G$104,4,FALSE)","v":{"$error":"#N/A"}},{"$f":"VLOOKUP(H20,Results!$A$8:$G$104,7,FALSE)","v":{"$error":"#N/A"}},{"$f":"VLOOKUP(H20,$B$5:B20,1,FALSE)","v":{"$error":"#N/A"}}]
[null,{"$f":"Results!A24","v":0},{"$f":"Results!C24","v":0},{"$f":"Results!B24","v":0},{"$f":"Results!D24","v":0},{"$f":"Results!G24","v":""},"- vs -",{"$f":"VLOOKUP(B21,Results!$A$8:$AG$104,9,)","v":{"$error":"#N/A"}},{"$f":"VLOOKUP(H21,Results!A$8:$G$104,3,FALSE)","v":{"$error":"#N/A"}},{"$f":"VLOOKUP(H21,Results!$A$8:$G$104,2,FALSE)","v":{"$error":"#N/A"}},{"$f":"VLOOKUP(H21,Results!$A$8:$G$104,4,FALSE)","v":{"$error":"#N/A"}},{"$f":"VLOOKUP(H21,Results!$A$8:$G$104,7,FALSE)","v":{"$error":"#N/A"}},{"$f":"VLOOKUP(H21,$B$5:B21,1,FALSE)","v":{"$error":"#N/A"}}]
[null,{"$f":"Results!A25","v":0},{"$f":"Results!C25","v":0},{"$f":"Results!B25","v":0},{"$f":"Results!D25","v":0},{"$f":"Results!G25","v":""},"- vs -",{"$f":"VLOOKUP(B22,Results!$A$8:$AG$104,9,)","v":{"$error":"#N/A"}},{"$f":"VLOOKUP(H22,Results!A$8:$G$104,3,FALSE)","v":{"$error":"#N/A"}},{"$f":"VLOOKUP(H22,Results!$A$8:$G$104,2,FALSE)","v":{"$error":"#N/A"}},{"$f":"VLOOKUP(H22,Results!$A$8:$G$104,4,FALSE)","v":{"$error":"#N/A"}},{"$f":"VLOOKUP(H22,Results!$A$8:$G$104,7,FALSE)","v":{"$error":"#N/A"}},{"$f":"VLOOKUP(H22,$B$5:B22,1,FALSE)","v":{"$error":"#N/A"}}]
[null,{"$f":"Results!A26","v":0},{"$f":"Results!C26","v":0},{"$f":"Results!B26","v":0},{"$f":"Results!D26","v":0},{"$f":"Results!G26","v":""},"- vs -",{"$f":"VLOOKUP(B23,Results!$A$8:$AG$104,9,)","v":{"$error":"#N/A"}},{"$f":"VLOOKUP(H23,Results!A$8:$G$104,3,FALSE)","v":{"$error":"#N/A"}},{"$f":"VLOOKUP(H23,Results!$A$8:$G$104,2,FALSE)","v":{"$error":"#N/A"}},{"$f":"VLOOKUP(H23,Results!$A$8:$G$104,4,FALSE)","v":{"$error":"#N/A"}},{"$f":"VLOOKUP(H23,Results!$A$8:$G$104,7,FALSE)","v":{"$error":"#N/A"}},{"$f":"VLOOKUP(H23,$B$5:B23,1,FALSE)","v":{"$error":"#N/A"}}]
[null,{"$f":"Results!A27","v":0},{"$f":"Results!C27","v":0},{"$f":"Results!B27","v":0},{"$f":"Results!D27","v":0},{"$f":"Results!G27","v":""},"- vs -",{"$f":"VLOOKUP(B24,Results!$A$8:$AG$104,9,)","v":{"$error":"#N/A"}},{"$f":"VLOOKUP(H24,Results!A$8:$G$104,3,FALSE)","v":{"$error":"#N/A"}},{"$f":"VLOOKUP(H24,Results!$A$8:$G$104,2,FALSE)","v":{"$error":"#N/A"}},{"$f":"VLOOKUP(H24,Results!$A$8:$G$104,4,FALSE)","v":{"$error":"#N/A"}},{"$f":"VLOOKUP(H24,Results!$A$8:$G$104,7,FALSE)","v":{"$error":"#N/A"}},{"$f":"VLOOKUP(H24,$B$5:B24,1,FALSE)","v":{"$error":"#N/A"}}]
[null,{"$f":"Results!A28","v":0},{"$f":"Results!C28","v":0},{"$f":"Results!B28","v":0},{"$f":"Results!D28","v":0},{"$f":"Results!G28","v":""},"- vs -",{"$f":"VLOOKUP(B25,Results!$A$8:$AG$104,9,)","v":{"$error":"#N/A"}},{"$f":"VLOOKUP(H25,Results!A$8:$G$104,3,FALSE)","v":{"$error":"#N/A"}},{"$f":"VLOOKUP(H25,Results!$A$8:$G$104,2,FALSE)","v":{"$error":"#N/A"}},{"$f":"VLOOKUP(H25,Results!$A$8:$G$104,4,FALSE)","v":{"$error":"#N/A"}},{"$f":"VLOOKUP(H25,Results!$A$8:$G$104,7,FALSE)","v":{"$error":"#N/A"}},{"$f":"VLOOKUP(H25,$B$5:B25,1,FALSE)","v":{"$error":"#N/A"}}]
[null,{"$f":"Results!A29","v":0},{"$f":"Results!C29","v":0},{"$f":"Results!B29","v":0},{"$f":"Results!D29","v":0},{"$f":"Results!G29","v":""},"- vs -",{"$f":"VLOOKUP(B26,Results!$A$8:$AG$104,9,)","v":{"$error":"#N/A"}},{"$f":"VLOOKUP(H26,Results!A$8:$G$104,3,FALSE)","v":{"$error":"#N/A"}},{"$f":"VLOOKUP(H26,Results!$A$8:$G$104,2,FALSE)","v":{"$error":"#N/A"}},{"$f":"VLOOKUP(H26,Results!$A$8:$G$104,4,FALSE)","v":{"$error":"#N/A"}},{"$f":"VLOOKUP(H26,Results!$A$8:$G$104,7,FALSE)","v":{"$error":"#N/A"}},{"$f":"VLOOKUP(H26,$B$5:B26,1,FALSE)","v":{"$error":"#N/A"}}]
[null,{"$f":"Results!A30","v":0},{"$f":"Results!C30","v":0},{"$f":"Results!B30","v":0},{"$f":"Results!D30","v":0},{"$f":"Results!G30","v":""},"- vs -",{"$f":"VLOOKUP(B27,Results!$A$8:$AG$104,9,)","v":{"$error":"#N/A"}},{"$f":"VLOOKUP(H27,Results!A$8:$G$104,3,FALSE)","v":{"$error":"#N/A"}},{"$f":"VLOOKUP(H27,Results!$A$8:$G$104,2,FALSE)","v":{"$error":"#N/A"}},{"$f":"VLOOKUP(H27,Results!$A$8:$G$104,4,FALSE)","v":{"$error":"#N/A"}},{"$f":"VLOOKUP(H27,Results!$A$8:$G$104,7,FALSE)","v":{"$error":"#N/A"}},{"$f":"VLOOKUP(H27,$B$5:B27,1,FALSE)","v":{"$error":"#N/A"}}]
[null,{"$f":"Results!A31","v":0},{"$f":"Results!C31","v":0},{"$f":"Results!B31","v":0},{"$f":"Results!D31","v":0},{"$f":"Results!G31","v":""},"- vs -",{"$f":"VLOOKUP(B28,Results!$A$8:$AG$104,9,)","v":{"$error":"#N/A"}},{"$f":"VLOOKUP(H28,Results!A$8:$G$104,3,FALSE)","v":{"$error":"#N/A"}},{"$f":"VLOOKUP(H28,Results!$A$8:$G$104,2,FALSE)","v":{"$error":"#N/A"}},{"$f":"VLOOKUP(H28,Results!$A$8:$G$104,4,FALSE)","v":{"$error":"#N/A"}},{"$f":"VLOOKUP(H28,Results!$A$8:$G$104,7,FALSE)","v":{"$error":"#N/A"}},{"$f":"VLOOKUP(H28,$B$5:B28,1,FALSE)","v":{"$error":"#N/A"}}]
[null,{"$f":"Results!A32","v":0},{"$f":"Results!C32","v":0},{"$f":"Results!B32","v":0},{"$f":"Results!D32","v":0},{"$f":"Results!G32","v":""},"- vs -",{"$f":"VLOOKUP(B29,Results!$A$8:$AG$104,9,)","v":{"$error":"#N/A"}},{"$f":"VLOOKUP(H29,Results!A$8:$G$104,3,FALSE)","v":{"$error":"#N/A"}},{"$f":"VLOOKUP(H29,Results!$A$8:$G$104,2,FALSE)","v":{"$error":"#N/A"}},{"$f":"VLOOKUP(H29,Results!$A$8:$G$104,4,FALSE)","v":{"$error":"#N/A"}},{"$f":"VLOOKUP(H29,Results!$A$8:$G$104,7,FALSE)","v":{"$error":"#N/A"}},{"$f":"VLOOKUP(H29,$B$5:B29,1,FALSE)","v":{"$error":"#N/A"}}]
[null,{"$f":"Results!A33","v":0},{"$f":"Results!C33","v":0},{"$f":"Results!B33","v":0},{"$f":"Results!D33","v":0},{"$f":"Results!G33","v":""},"- vs -",{"$f":"VLOOKUP(B30,Results!$A$8:$AG$104,9,)","v":{"$error":"#N/A"}},{"$f":"VLOOKUP(H30,Results!A$8:$G$104,3,FALSE)","v":{"$error":"#N/A"}},{"$f":"VLOOKUP(H30,Results!$A$8:$G$104,2,FALSE)","v":{"$error":"#N/A"}},{"$f":"VLOOKUP(H30,Results!$A$8:$G$104,4,FALSE)","v":{"$error":"#N/A"}},{"$f":"VLOOKUP(H30,Results!$A$8:$G$104,7,FALSE)","v":{"$error":"#N/A"}},{"$f":"VLOOKUP(H30,$B$5:B30,1,FALSE)","v":{"$error":"#N/A"}}]
[null,{"$f":"Results!A34","v":0},{"$f":"Results!C34","v":0},{"$f":"Results!B34","v":0},{"$f":"Results!D34","v":0},{"$f":"Results!G34","v":""},"- vs -",{"$f":"VLOOKUP(B31,Results!$A$8:$AG$104,9,)","v":{"$error":"#N/A"}},{"$f":"VLOOKUP(H31,Results!A$8:$G$104,3,FALSE)","v":{"$error":"#N/A"}},{"$f":"VLOOKUP(H31,Results!$A$8:$G$104,2,FALSE)","v":{"$error":"#N/A"}},{"$f":"VLOOKUP(H31,Results!$A$8:$G$104,4,FALSE)","v":{"$error":"#N/A"}},{"$f":"VLOOKUP(H31,Results!$A$8:$G$104,7,FALSE)","v":{"$error":"#N/A"}},{"$f":"VLOOKUP(H31,$B$5:B31,1,FALSE)","v":{"$error":"#N/A"}}]
[null,{"$f":"Results!A35","v":0},{"$f":"Results!C35","v":0},{"$f":"Results!B35","v":0},{"$f":"Results!D35","v":0},{"$f":"Results!G35","v":""},"- vs -",{"$f":"VLOOKUP(B32,Results!$A$8:$AG$104,9,)","v":{"$error":"#N/A"}},{"$f":"VLOOKUP(H32,Results!A$8:$G$104,3,FALSE)","v":{"$error":"#N/A"}},{"$f":"VLOOKUP(H32,Results!$A$8:$G$104,2,FALSE)","v":{"$error":"#N/A"}},{"$f":"VLOOKUP(H32,Results!$A$8:$G$104,4,FALSE)","v":{"$error":"#N/A"}},{"$f":"VLOOKUP(H32,Results!$A$8:$G$104,7,FALSE)","v":{"$error":"#N/A"}},{"$f":"VLOOKUP(H32,$B$5:B32,1,FALSE)","v":{"$error":"#N/A"}}]
[null,{"$f":"Results!A36","v":0},{"$f":"Results!C36","v":0},{"$f":"Results!B36","v":0},{"$f":"Results!D36","v":0},{"$f":"Results!G36","v":""},"- vs -",{"$f":"VLOOKUP(B33,Results!$A$8:$AG$104,9,)","v":{"$error":"#N/A"}},{"$f":"VLOOKUP(H33,Results!A$8:$G$104,3,FALSE)","v":{"$error":"#N/A"}},{"$f":"VLOOKUP(H33,Results!$A$8:$G$104,2,FALSE)","v":{"$error":"#N/A"}},{"$f":"VLOOKUP(H33,Results!$A$8:$G$104,4,FALSE)","v":{"$error":"#N/A"}},{"$f":"VLOOKUP(H33,Results!$A$8:$G$104,7,FALSE)","v":{"$error":"#N/A"}},{"$f":"VLOOKUP(H33,$B$5:B33,1,FALSE)","v":{"$error":"#N/A"}}]
[null,{"$f":"Results!A37","v":0},{"$f":"Results!C37","v":0},{"$f":"Results!B37","v":0},{"$f":"Results!D37","v":0},{"$f":"Results!G37","v":""},"- vs -",{"$f":"VLOOKUP(B34,Results!$A$8:$AG$104,9,)","v":{"$error":"#N/A"}},{"$f":"VLOOKUP(H34,Results!A$8:$G$104,3,FALSE)","v":{"$error":"#N/A"}},{"$f":"VLOOKUP(H34,Results!$A$8:$G$104,2,FALSE)","v":{"$error":"#N/A"}},{"$f":"VLOOKUP(H34,Results!$A$8:$G$104,4,FALSE)","v":{"$error":"#N/A"}},{"$f":"VLOOKUP(H34,Results!$A$8:$G$104,7,FALSE)","v":{"$error":"#N/A"}},{"$f":"VLOOKUP(H34,$B$5:B34,1,FALSE)","v":{"$error":"#N/A"}}]
[null,{"$f":"Results!A38","v":0},{"$f":"Results!C38","v":0},{"$f":"Results!B38","v":0},{"$f":"Results!D38","v":0},{"$f":"Results!G38","v":""},"- vs -",{"$f":"VLOOKUP(B35,Results!$A$8:$AG$104,9,)","v":{"$error":"#N/A"}},{"$f":"VLOOKUP(H35,Results!A$8:$G$104,3,FALSE)","v":{"$error":"#N/A"}},{"$f":"VLOOKUP(H35,Results!$A$8:$G$104,2,FALSE)","v":{"$error":"#N/A"}},{"$f":"VLOOKUP(H35,Results!$A$8:$G$104,4,FALSE)","v":{"$error":"#N/A"}},{"$f":"VLOOKUP(H35,Results!$A$8:$G$104,7,FALSE)","v":{"$error":"#N/A"}},{"$f":"VLOOKUP(H35,$B$5:B35,1,FALSE)","v":{"$error":"#N/A"}}]
[null,{"$f":"Results!A39","v":0},{"$f":"Results!C39","v":0},{"$f":"Results!B39","v":0},{"$f":"Results!D39","v":0},{"$f":"Results!G39","v":""},"- vs -",{"$f":"VLOOKUP(B36,Results!$A$8:$AG$104,9,)","v":{"$error":"#N/A"}},{"$f":"VLOOKUP(H36,Results!A$8:$G$104,3,FALSE)","v":{"$error":"#N/A"}},{"$f":"VLOOKUP(H36,Results!$A$8:$G$104,2,FALSE)","v":{"$error":"#N/A"}},{"$f":"VLOOKUP(H36,Results!$A$8:$G$104,4,FALSE)","v":{"$error":"#N/A"}},{"$f":"VLOOKUP(H36,Results!$A$8:$G$104,7,FALSE)","v":{"$error":"#N/A"}},{"$f":"VLOOKUP(H36,$B$5:B36,1,FALSE)","v":{"$error":"#N/A"}}]
[null,{"$f":"Results!A40","v":0},{"$f":"Results!C40","v":0},{"$f":"Results!B40","v":0},{"$f":"Results!D40","v":0},{"$f":"Results!G40","v":""},"- vs -",{"$f":"VLOOKUP(B37,Results!$A$8:$AG$104,9,)","v":{"$error":"#N/A"}},{"$f":"VLOOKUP(H37,Results!A$8:$G$104,3,FALSE)","v":{"$error":"#N/A"}},{"$f":"VLOOKUP(H37,Results!$A$8:$G$104,2,FALSE)","v":{"$error":"#N/A"}},{"$f":"VLOOKUP(H37,Results!$A$8:$G$104,4,FALSE)","v":{"$error":"#N/A"}},{"$f":"VLOOKUP(H37,Results!$A$8:$G$104,7,FALSE)","v":{"$error":"#N/A"}},{"$f":"VLOOKUP(H37,$B$4:B37,1,FALSE)","v":{"$error":"#N/A"}}]
[null,{"$f":"Results!A41","v":0},{"$f":"Results!C41","v":0},{"$f":"Results!B41","v":0},{"$f":"Results!D41","v":0},{"$f":"Results!G41","v":""},"- vs -",{"$f":"VLOOKUP(B38,Results!$A$8:$AG$104,9,)","v":{"$error":"#N/A"}},{"$f":"VLOOKUP(H38,Results!A$8:$G$104,3,FALSE)","v":{"$error":"#N/A"}},{"$f":"VLOOKUP(H38,Results!$A$8:$G$104,2,FALSE)","v":{"$error":"#N/A"}},{"$f":"VLOOKUP(H38,Results!$A$8:$G$104,4,FALSE)","v":{"$error":"#N/A"}},{"$f":"VLOOKUP(H38,Results!$A$8:$G$104,7,FALSE)","v":{"$error":"#N/A"}},{"$f":"VLOOKUP(H38,$B$4:B38,1,FALSE)","v":{"$error":"#N/A"}}]
[null,{"$f":"Results!A42","v":0},{"$f":"Results!C42","v":0},{"$f":"Results!B42","v":0},{"$f":"Results!D42","v":0},{"$f":"Results!G42","v":""},"- vs -",{"$f":"VLOOKUP(B39,Results!$A$8:$AG$104,9,)","v":{"$error":"#N/A"}},{"$f":"VLOOKUP(H39,Results!A$8:$G$104,3,FALSE)","v":{"$error":"#N/A"}},{"$f":"VLOOKUP(H39,Results!$A$8:$G$104,2,FALSE)","v":{"$error":"#N/A"}},{"$f":"VLOOKUP(H39,Results!$A$8:$G$104,4,FALSE)","v":{"$error":"#N/A"}},{"$f":"VLOOKUP(H39,Results!$A$8:$G$104,7,FALSE)","v":{"$error":"#N/A"}},{"$f":"VLOOKUP(H39,$B$4:B39,1,FALSE)","v":{"$error":"#N/A"}}]
[null,{"$f":"Results!A43","v":0},{"$f":"Results!C43","v":0},{"$f":"Results!B43","v":0},{"$f":"Results!D43","v":0},{"$f":"Results!G43","v":""},"- vs -",{"$f":"VLOOKUP(B40,Results!$A$8:$AG$104,9,)","v":{"$error":"#N/A"}},{"$f":"VLOOKUP(H40,Results!A$8:$G$104,3,FALSE)","v":{"$error":"#N/A"}},{"$f":"VLOOKUP(H40,Results!$A$8:$G$104,2,FALSE)","v":{"$error":"#N/A"}},{"$f":"VLOOKUP(H40,Results!$A$8:$G$104,4,FALSE)","v":{"$error":"#N/A"}},{"$f":"VLOOKUP(H40,Results!$A$8:$G$104,7,FALSE)","v":{"$error":"#N/A"}},{"$f":"VLOOKUP(H40,$B$4:B40,1,FALSE)","v":{"$error":"#N/A"}}]
[null,{"$f":"Results!A44","v":0},{"$f":"Results!C44","v":0},{"$f":"Results!B44","v":0},{"$f":"Results!D44","v":0},{"$f":"Results!G44","v":""},"- vs -",{"$f":"VLOOKUP(B41,Results!$A$8:$AG$104,9,)","v":{"$error":"#N/A"}},{"$f":"VLOOKUP(H41,Results!A$8:$G$104,3,FALSE)","v":{"$error":"#N/A"}},{"$f":"VLOOKUP(H41,Results!$A$8:$G$104,2,FALSE)","v":{"$error":"#N/A"}},{"$f":"VLOOKUP(H41,Results!$A$8:$G$104,4,FALSE)","v":{"$error":"#N/A"}},{"$f":"VLOOKUP(H41,Results!$A$8:$G$104,7,FALSE)","v":{"$error":"#N/A"}},{"$f":"VLOOKUP(H41,$B$4:B41,1,FALSE)","v":{"$error":"#N/A"}}]
[null,{"$f":"Results!A45","v":0},{"$f":"Results!C45","v":0},{"$f":"Results!B45","v":0},{"$f":"Results!D45","v":0},{"$f":"Results!G45","v":""},"- vs -",{"$f":"VLOOKUP(B42,Results!$A$8:$AG$104,9,)","v":{"$error":"#N/A"}},{"$f":"VLOOKUP(H42,Results!A$8:$G$104,3,FALSE)","v":{"$error":"#N/A"}},{"$f":"VLOOKUP(H42,Results!$A$8:$G$104,2,FALSE)","v":{"$error":"#N/A"}},{"$f":"VLOOKUP(H42,Results!$A$8:$G$104,4,FALSE)","v":{"$error":"#N/A"}},{"$f":"VLOOKUP(H42,Results!$A$8:$G$104,7,FALSE)","v":{"$error":"#N/A"}},{"$f":"VLOOKUP(H42,$B$4:B42,1,FALSE)","v":{"$error":"#N/A"}}]
[null,{"$f":"Results!A46","v":0},{"$f":"Results!C46","v":0},{"$f":"Results!B46","v":0},{"$f":"Results!D46","v":0},{"$f":"Results!G46","v":""},"- vs -",{"$f":"VLOOKUP(B43,Results!$A$8:$AG$104,9,)","v":{"$error":"#N/A"}},{"$f":"VLOOKUP(H43,Results!A$8:$G$104,3,FALSE)","v":{"$error":"#N/A"}},{"$f":"VLOOKUP(H43,Results!$A$8:$G$104,2,FALSE)","v":{"$error":"#N/A"}},{"$f":"VLOOKUP(H43,Results!$A$8:$G$104,4,FALSE)","v":{"$error":"#N/A"}},{"$f":"VLOOKUP(H43,Results!$A$8:$G$104,7,FALSE)","v":{"$error":"#N/A"}},{"$f":"VLOOKUP(H43,$B$4:B43,1,FALSE)","v":{"$error":"#N/A"}}]
[null,{"$f":"Results!A47","v":0},{"$f":"Results!C47","v":0},{"$f":"Results!B47","v":0},{"$f":"Results!D47","v":0},{"$f":"Results!G47","v":""},"- vs -",{"$f":"VLOOKUP(B44,Results!$A$8:$AG$104,9,)","v":{"$error":"#N/A"}},{"$f":"VLOOKUP(H44,Results!A$8:$G$104,3,FALSE)","v":{"$error":"#N/A"}},{"$f":"VLOOKUP(H44,Results!$A$8:$G$104,2,FALSE)","v":{"$error":"#N/A"}},{"$f":"VLOOKUP(H44,Results!$A$8:$G$104,4,FALSE)","v":{"$error":"#N/A"}},{"$f":"VLOOKUP(H44,Results!$A$8:$G$104,7,FALSE)","v":{"$error":"#N/A"}},{"$f":"VLOOKUP(H44,$B$4:B44,1,FALSE)","v":{"$error":"#N/A"}}]
[null,{"$f":"Results!A48","v":0},{"$f":"Results!C48","v":0},{"$f":"Results!B48","v":0},{"$f":"Results!D48","v":0},{"$f":"Results!G48","v":""},"- vs -",{"$f":"VLOOKUP(B45,Results!$A$8:$AG$104,9,)","v":{"$error":"#N/A"}},{"$f":"VLOOKUP(H45,Results!A$8:$G$104,3,FALSE)","v":{"$error":"#N/A"}},{"$f":"VLOOKUP(H45,Results!$A$8:$G$104,2,FALSE)","v":{"$error":"#N/A"}},{"$f":"VLOOKUP(H45,Results!$A$8:$G$104,4,FALSE)","v":{"$error":"#N/A"}},{"$f":"VLOOKUP(H45,Results!$A$8:$G$104,7,FALSE)","v":{"$error":"#N/A"}},{"$f":"VLOOKUP(H45,$B$4:B45,1,FALSE)","v":{"$error":"#N/A"}}]
[null,{"$f":"Results!A49","v":0},{"$f":"Results!C49","v":0},{"$f":"Results!B49","v":0},{"$f":"Results!D49","v":0},{"$f":"Results!G49","v":""},"- vs -",{"$f":"VLOOKUP(B46,Results!$A$8:$AG$104,9,)","v":{"$error":"#N/A"}},{"$f":"VLOOKUP(H46,Results!A$8:$G$104,3,FALSE)","v":{"$error":"#N/A"}},{"$f":"VLOOKUP(H46,Results!$A$8:$G$104,2,FALSE)","v":{"$error":"#N/A"}},{"$f":"VLOOKUP(H46,Results!$A$8:$G$104,4,FALSE)","v":{"$error":"#N/A"}},{"$f":"VLOOKUP(H46,Results!$A$8:$G$104,7,FALSE)","v":{"$error":"#N/A"}},{"$f":"VLOOKUP(H46,$B$4:B46,1,FALSE)","v":{"$error":"#N/A"}}]
[null,{"$f":"Results!A50","v":0},{"$f":"Results!C50","v":0},{"$f":"Results!B50","v":0},{"$f":"Results!D50","v":0},{"$f":"Results!G50","v":""},"- vs -",{"$f":"VLOOKUP(B47,Results!$A$8:$AG$104,9,)","v":{"$error":"#N/A"}},{"$f":"VLOOKUP(H47,Results!A$8:$G$104,3,FALSE)","v":{"$error":"#N/A"}},{"$f":"VLOOKUP(H47,Results!$A$8:$G$104,2,FALSE)","v":{"$error":"#N/A"}},{"$f":"VLOOKUP(H47,Results!$A$8:$G$104,4,FALSE)","v":{"$error":"#N/A"}},{"$f":"VLOOKUP(H47,Results!$A$8:$G$104,7,FALSE)","v":{"$error":"#N/A"}},{"$f":"VLOOKUP(H47,$B$4:B47,1,FALSE)","v":{"$error":"#N/A"}}]
[null,{"$f":"Results!A51","v":0},{"$f":"Results!C51","v":0},{"$f":"Results!B51","v":0},{"$f":"Results!D51","v":0},{"$f":"Results!G51","v":""},"- vs -",{"$f":"VLOOKUP(B48,Results!$A$8:$AG$104,9,)","v":{"$error":"#N/A"}},{"$f":"VLOOKUP(H48,Results!A$8:$G$104,3,FALSE)","v":{"$error":"#N/A"}},{"$f":"VLOOKUP(H48,Results!$A$8:$G$104,2,FALSE)","v":{"$error":"#N/A"}},{"$f":"VLOOKUP(H48,Results!$A$8:$G$104,4,FALSE)","v":{"$error":"#N/A"}},{"$f":"VLOOKUP(H48,Results!$A$8:$G$104,7,FALSE)","v":{"$error":"#N/A"}},{"$f":"VLOOKUP(H48,$B$4:B48,1,FALSE)","v":{"$error":"#N/A"}}]
[null,{"$f":"Results!A52","v":0},{"$f":"Results!C52","v":0},{"$f":"Results!B52","v":0},{"$f":"Results!D52","v":0},{"$f":"Results!G52","v":""},"- vs -",{"$f":"VLOOKUP(B49,Results!$A$8:$AG$104,9,)","v":{"$error":"#N/A"}},{"$f":"VLOOKUP(H49,Results!A$8:$G$104,3,FALSE)","v":{"$error":"#N/A"}},{"$f":"VLOOKUP(H49,Results!$A$8:$G$104,2,FALSE)","v":{"$error":"#N/A"}},{"$f":"VLOOKUP(H49,Results!$A$8:$G$104,4,FALSE)","v":{"$error":"#N/A"}},{"$f":"VLOOKUP(H49,Results!$A$8:$G$104,7,FALSE)","v":{"$error":"#N/A"}},{"$f":"VLOOKUP(H49,$B$4:B49,1,FALSE)","v":{"$error":"#N/A"}}]
[null,{"$f":"Results!A53","v":0},{"$f":"Results!C53","v":0},{"$f":"Results!B53","v":0},{"$f":"Results!D53","v":0},{"$f":"Results!G53","v":""},"- vs -",{"$f":"VLOOKUP(B50,Results!$A$8:$AG$104,9,)","v":{"$error":"#N/A"}},{"$f":"VLOOKUP(H50,Results!A$8:$G$104,3,FALSE)","v":{"$error":"#N/A"}},{"$f":"VLOOKUP(H50,Results!$A$8:$G$104,2,FALSE)","v":{"$error":"#N/A"}},{"$f":"VLOOKUP(H50,Results!$A$8:$G$104,4,FALSE)","v":{"$error":"#N/A"}},{"$f":"VLOOKUP(H50,Results!$A$8:$G$104,7,FALSE)","v":{"$error":"#N/A"}},{"$f":"VLOOKUP(H50,$B$4:B50,1,FALSE)","v":{"$error":"#N/A"}}]
[null,{"$f":"Results!A54","v":0},{"$f":"Results!C54","v":0},{"$f":"Results!B54","v":0},{"$f":"Results!D54","v":0},{"$f":"Results!G54","v":""},"- vs -",{"$f":"VLOOKUP(B51,Results!$A$8:$AG$104,9,)","v":{"$error":"#N/A"}},{"$f":"VLOOKUP(H51,Results!A$8:$G$104,3,FALSE)","v":{"$error":"#N/A"}},{"$f":"VLOOKUP(H51,Results!$A$8:$G$104,2,FALSE)","v":{"$error":"#N/A"}},{"$f":"VLOOKUP(H51,Results!$A$8:$G$104,4,FALSE)","v":{"$error":"#N/A"}},{"$f":"VLOOKUP(H51,Results!$A$8:$G$104,7,FALSE)","v":{"$error":"#N/A"}},{"$f":"VLOOKUP(H51,$B$4:B51,1,FALSE)","v":{"$error":"#N/A"}}]
[null,{"$f":"Results!A55","v":0},{"$f":"Results!C55","v":0},{"$f":"Results!B55","v":0},{"$f":"Results!D55","v":0},{"$f":"Results!G55","v":""},"- vs -",{"$f":"VLOOKUP(B52,Results!$A$8:$AG$104,9,)","v":{"$error":"#N/A"}},{"$f":"VLOOKUP(H52,Results!A$8:$G$104,3,FALSE)","v":{"$error":"#N/A"}},{"$f":"VLOOKUP(H52,Results!$A$8:$G$104,2,FALSE)","v":{"$error":"#N/A"}},{"$f":"VLOOKUP(H52,Results!$A$8:$G$104,4,FALSE)","v":{"$error":"#N/A"}},{"$f":"VLOOKUP(H52,Results!$A$8:$G$104,7,FALSE)","v":{"$error":"#N/A"}},{"$f":"VLOOKUP(H52,$B$4:B52,1,FALSE)","v":{"$error":"#N/A"}}]
[null,{"$f":"Results!A56","v":0},{"$f":"Results!C56","v":0},{"$f":"Results!B56","v":0},{"$f":"Results!D56","v":0},{"$f":"Results!G56","v":""},"- vs -",{"$f":"VLOOKUP(B53,Results!$A$8:$AG$104,9,)","v":{"$error":"#N/A"}},{"$f":"VLOOKUP(H53,Results!A$8:$G$104,3,FALSE)","v":{"$error":"#N/A"}},{"$f":"VLOOKUP(H53,Results!$A$8:$G$104,2,FALSE)","v":{"$error":"#N/A"}},{"$f":"VLOOKUP(H53,Results!$A$8:$G$104,4,FALSE)","v":{"$error":"#N/A"}},{"$f":"VLOOKUP(H53,Results!$A$8:$G$104,7,FALSE)","v":{"$error":"#N/A"}},{"$f":"VLOOKUP(H53,$B$4:B53,1,FALSE)","v":{"$error":"#N/A"}}]
[null,{"$f":"Results!A57","v":0},{"$f":"Results!C57","v":0},{"$f":"Results!B57","v":0},{"$f":"Results!D57","v":0},{"$f":"Results!G57","v":""},"- vs -",{"$f":"VLOOKUP(B54,Results!$A$8:$AG$104,9,)","v":{"$error":"#N/A"}},{"$f":"VLOOKUP(H54,Results!A$8:$G$104,3,FALSE)","v":{"$error":"#N/A"}},{"$f":"VLOOKUP(H54,Results!$A$8:$G$104,2,FALSE)","v":{"$error":"#N/A"}},{"$f":"VLOOKUP(H54,Results!$A$8:$G$104,4,FALSE)","v":{"$error":"#N/A"}},{"$f":"VLOOKUP(H54,Results!$A$8:$G$104,7,FALSE)","v":{"$error":"#N/A"}},{"$f":"VLOOKUP(H54,$B$4:B54,1,FALSE)","v":{"$error":"#N/A"}}]
[null,{"$f":"Results!A58","v":0},{"$f":"Results!C58","v":0},{"$f":"Results!B58","v":0},{"$f":"Results!D58","v":0},{"$f":"Results!G58","v":""},"- vs -",{"$f":"VLOOKUP(B55,Results!$A$8:$AG$104,9,)","v":{"$error":"#N/A"}},{"$f":"VLOOKUP(H55,Results!A$8:$G$104,3,FALSE)","v":{"$error":"#N/A"}},{"$f":"VLOOKUP(H55,Results!$A$8:$G$104,2,FALSE)","v":{"$error":"#N/A"}},{"$f":"VLOOKUP(H55,Results!$A$8:$G$104,4,FALSE)","v":{"$error":"#N/A"}},{"$f":"VLOOKUP(H55,Results!$A$8:$G$104,7,FALSE)","v":{"$error":"#N/A"}},{"$f":"VLOOKUP(H55,$B$4:B55,1,FALSE)","v":{"$error":"#N/A"}}]
[null,{"$f":"Results!A59","v":0},{"$f":"Results!C59","v":0},{"$f":"Results!B59","v":0},{"$f":"Results!D59","v":0},{"$f":"Results!G59","v":""},"- vs -",{"$f":"VLOOKUP(B56,Results!$A$8:$AG$104,9,)","v":{"$error":"#N/A"}},{"$f":"VLOOKUP(H56,Results!A$8:$G$104,3,FALSE)","v":{"$error":"#N/A"}},{"$f":"VLOOKUP(H56,Results!$A$8:$G$104,2,FALSE)","v":{"$error":"#N/A"}},{"$f":"VLOOKUP(H56,Results!$A$8:$G$104,4,FALSE)","v":{"$error":"#N/A"}},{"$f":"VLOOKUP(H56,Results!$A$8:$G$104,7,FALSE)","v":{"$error":"#N/A"}},{"$f":"VLOOKUP(H56,$B$4:B56,1,FALSE)","v":{"$error":"#N/A"}}]
[null,{"$f":"Results!A60","v":0},{"$f":"Results!C60","v":0},{"$f":"Results!B60","v":0},{"$f":"Results!D60","v":0},{"$f":"Results!G60","v":""},"- vs -",{"$f":"VLOOKUP(B57,Results!$A$8:$AG$104,9,)","v":{"$error":"#N/A"}},{"$f":"VLOOKUP(H57,Results!A$8:$G$104,3,FALSE)","v":{"$error":"#N/A"}},{"$f":"VLOOKUP(H57,Results!$A$8:$G$104,2,FALSE)","v":{"$error":"#N/A"}},{"$f":"VLOOKUP(H57,Results!$A$8:$G$104,4,FALSE)","v":{"$error":"#N/A"}},{"$f":"VLOOKUP(H57,Results!$A$8:$G$104,7,FALSE)","v":{"$error":"#N/A"}},{"$f":"VLOOKUP(H57,$B$4:B57,1,FALSE)","v":{"$error":"#N/A"}}]
[null,{"$f":"Results!A61","v":0},{"$f":"Results!C61","v":0},{"$f":"Results!B61","v":0},{"$f":"Results!D61","v":0},{"$f":"Results!G61","v":""},"- vs -",{"$f":"VLOOKUP(B58,Results!$A$8:$AG$104,9,)","v":{"$error":"#N/A"}},{"$f":"VLOOKUP(H58,Results!A$8:$G$104,3,FALSE)","v":{"$error":"#N/A"}},{"$f":"VLOOKUP(H58,Results!$A$8:$G$104,2,FALSE)","v":{"$error":"#N/A"}},{"$f":"VLOOKUP(H58,Results!$A$8:$G$104,4,FALSE)","v":{"$error":"#N/A"}},{"$f":"VLOOKUP(H58,Results!$A$8:$G$104,7,FALSE)","v":{"$error":"#N/A"}},{"$f":"VLOOKUP(H58,$B$4:B58,1,FALSE)","v":{"$error":"#N/A"}}]
[null,{"$f":"Results!A62","v":0},{"$f":"Results!C62","v":0},{"$f":"Results!B62","v":0},{"$f":"Results!D62","v":0},{"$f":"Results!G62","v":""},"- vs -",{"$f":"VLOOKUP(B59,Results!$A$8:$AG$104,9,)","v":{"$error":"#N/A"}},{"$f":"VLOOKUP(H59,Results!A$8:$G$104,3,FALSE)","v":{"$error":"#N/A"}},{"$f":"VLOOKUP(H59,Results!$A$8:$G$104,2,FALSE)","v":{"$error":"#N/A"}},{"$f":"VLOOKUP(H59,Results!$A$8:$G$104,4,FALSE)","v":{"$error":"#N/A"}},{"$f":"VLOOKUP(H59,Results!$A$8:$G$104,7,FALSE)","v":{"$error":"#N/A"}},{"$f":"VLOOKUP(H59,$B$4:B59,1,FALSE)","v":{"$error":"#N/A"}}]
[null,{"$f":"Results!A63","v":0},{"$f":"Results!C63","v":0},{"$f":"Results!B63","v":0},{"$f":"Results!D63","v":0},{"$f":"Results!G63","v":""},"- vs -",{"$f":"VLOOKUP(B60,Results!$A$8:$AG$104,9,)","v":{"$error":"#N/A"}},{"$f":"VLOOKUP(H60,Results!A$8:$G$104,3,FALSE)","v":{"$error":"#N/A"}},{"$f":"VLOOKUP(H60,Results!$A$8:$G$104,2,FALSE)","v":{"$error":"#N/A"}},{"$f":"VLOOKUP(H60,Results!$A$8:$G$104,4,FALSE)","v":{"$error":"#N/A"}},{"$f":"VLOOKUP(H60,Results!$A$8:$G$104,7,FALSE)","v":{"$error":"#N/A"}},{"$f":"VLOOKUP(H60,$B$4:B60,1,FALSE)","v":{"$error":"#N/A"}}]
[null,{"$f":"Results!A64","v":0},{"$f":"Results!C64","v":0},{"$f":"Results!B64","v":0},{"$f":"Results!D64","v":0},{"$f":"Results!G64","v":""},"- vs -",{"$f":"VLOOKUP(B61,Results!$A$8:$AG$104,9,)","v":{"$error":"#N/A"}},{"$f":"VLOOKUP(H61,Results!A$8:$G$104,3,FALSE)","v":{"$error":"#N/A"}},{"$f":"VLOOKUP(H61,Results!$A$8:$G$104,2,FALSE)","v":{"$error":"#N/A"}},{"$f":"VLOOKUP(H61,Results!$A$8:$G$104,4,FALSE)","v":{"$error":"#N/A"}},{"$f":"VLOOKUP(H61,Results!$A$8:$G$104,7,FALSE)","v":{"$error":"#N/A"}},{"$f":"VLOOKUP(H61,$B$4:B61,1,FALSE)","v":{"$error":"#N/A"}}]
[null,{"$f":"Results!A65","v":0},{"$f":"Results!C65","v":0},{"$f":"Results!B65","v":0},{"$f":"Results!D65","v":0},{"$f":"Results!G65","v":""},"- vs -",{"$f":"VLOOKUP(B62,Results!$A$8:$AG$104,9,)","v":{"$error":"#N/A"}},{"$f":"VLOOKUP(H62,Results!A$8:$G$104,3,FALSE)","v":{"$error":"#N/A"}},{"$f":"VLOOKUP(H62,Results!$A$8:$G$104,2,FALSE)","v":{"$error":"#N/A"}},{"$f":"VLOOKUP(H62,Results!$A$8:$G$104,4,FALSE)","v":{"$error":"#N/A"}},{"$f":"VLOOKUP(H62,Results!$A$8:$G$104,7,FALSE)","v":{"$error":"#N/A"}},{"$f":"VLOOKUP(H62,$B$4:B62,1,FALSE)","v":{"$error":"#N/A"}}]
[null,{"$f":"Results!A66","v":0},{"$f":"Results!C66","v":0},{"$f":"Results!B66","v":0},{"$f":"Results!D66","v":0},{"$f":"Results!G66","v":""},"- vs -",{"$f":"VLOOKUP(B63,Results!$A$8:$AG$104,9,)","v":{"$error":"#N/A"}},{"$f":"VLOOKUP(H63,Results!A$8:$G$104,3,FALSE)","v":{"$error":"#N/A"}},{"$f":"VLOOKUP(H63,Results!$A$8:$G$104,2,FALSE)","v":{"$error":"#N/A"}},{"$f":"VLOOKUP(H63,Results!$A$8:$G$104,4,FALSE)","v":{"$error":"#N/A"}},{"$f":"VLOOKUP(H63,Results!$A$8:$G$104,7,FALSE)","v":{"$error":"#N/A"}},{"$f":"VLOOKUP(H63,$B$4:B63,1,FALSE)","v":{"$error":"#N/A"}}]
[null,{"$f":"Results!A67","v":0},{"$f":"Results!C67","v":0},{"$f":"Results!B67","v":0},{"$f":"Results!D67","v":0},{"$f":"Results!G67","v":""},"- vs -",{"$f":"VLOOKUP(B64,Results!$A$8:$AG$104,9,)","v":{"$error":"#N/A"}},{"$f":"VLOOKUP(H64,Results!A$8:$G$104,3,FALSE)","v":{"$error":"#N/A"}},{"$f":"VLOOKUP(H64,Results!$A$8:$G$104,2,FALSE)","v":{"$error":"#N/A"}},{"$f":"VLOOKUP(H64,Results!$A$8:$G$104,4,FALSE)","v":{"$error":"#N/A"}},{"$f":"VLOOKUP(H64,Results!$A$8:$G$104,7,FALSE)","v":{"$error":"#N/A"}},{"$f":"VLOOKUP(H64,$B$4:B64,1,FALSE)","v":{"$error":"#N/A"}}]
[null,{"$f":"Results!A68","v":0},{"$f":"Results!C68","v":0},{"$f":"Results!B68","v":0},{"$f":"Results!D68","v":0},{"$f":"Results!G68","v":""},"- vs -",{"$f":"VLOOKUP(B65,Results!$A$8:$AG$104,9,)","v":{"$error":"#N/A"}},{"$f":"VLOOKUP(H65,Results!A$8:$G$104,3,FALSE)","v":{"$error":"#N/A"}},{"$f":"VLOOKUP(H65,Results!$A$8:$G$104,2,FALSE)","v":{"$error":"#N/A"}},{"$f":"VLOOKUP(H65,Results!$A$8:$G$104,4,FALSE)","v":{"$error":"#N/A"}},{"$f":"VLOOKUP(H65,Results!$A$8:$G$104,7,FALSE)","v":{"$error":"#N/A"}},{"$f":"VLOOKUP(H65,$B$4:B65,1,FALSE)","v":{"$error":"#N/A"}}]
[null,{"$f":"Results!A69","v":0},{"$f":"Results!C69","v":0},{"$f":"Results!B69","v":0},{"$f":"Results!D69","v":0},{"$f":"Results!G69","v":""},"- vs -",{"$f":"VLOOKUP(B66,Results!$A$8:$AG$104,9,)","v":{"$error":"#N/A"}},{"$f":"VLOOKUP(H66,Results!A$8:$G$104,3,FALSE)","v":{"$error":"#N/A"}},{"$f":"VLOOKUP(H66,Results!$A$8:$G$104,2,FALSE)","v":{"$error":"#N/A"}},{"$f":"VLOOKUP(H66,Results!$A$8:$G$104,4,FALSE)","v":{"$error":"#N/A"}},{"$f":"VLOOKUP(H66,Results!$A$8:$G$104,7,FALSE)","v":{"$error":"#N/A"}},{"$f":"VLOOKUP(H66,$B$4:B66,1,FALSE)","v":{"$error":"#N/A"}}]
[null,{"$f":"Results!A70","v":0},{"$f":"Results!C70","v":0},{"$f":"Results!B70","v":0},{"$f":"Results!D70","v":0},{"$f":"Results!G70","v":""},"- vs -",{"$f":"VLOOKUP(B67,Results!$A$8:$AG$104,9,)","v":{"$error":"#N/A"}},{"$f":"VLOOKUP(H67,Results!A$8:$G$104,3,FALSE)","v":{"$error":"#N/A"}},{"$f":"VLOOKUP(H67,Results!$A$8:$G$104,2,FALSE)","v":{"$error":"#N/A"}},{"$f":"VLOOKUP(H67,Results!$A$8:$G$104,4,FALSE)","v":{"$error":"#N/A"}},{"$f":"VLOOKUP(H67,Results!$A$8:$G$104,7,FALSE)","v":{"$error":"#N/A"}},{"$f":"VLOOKUP(H67,$B$4:B67,1,FALSE)","v":{"$error":"#N/A"}}]
[null,{"$f":"Results!A71","v":0},{"$f":"Results!C71","v":0},{"$f":"Results!B71","v":0},{"$f":"Results!D71","v":0},{"$f":"Results!G71","v":""},"- vs -",{"$f":"VLOOKUP(B68,Results!$A$8:$AG$104,9,)","v":{"$error":"#N/A"}},{"$f":"VLOOKUP(H68,Results!A$8:$G$104,3,FALSE)","v":{"$error":"#N/A"}},{"$f":"VLOOKUP(H68,Results!$A$8:$G$104,2,FALSE)","v":{"$error":"#N/A"}},{"$f":"VLOOKUP(H68,Results!$A$8:$G$104,4,FALSE)","v":{"$error":"#N/A"}},{"$f":"VLOOKUP(H68,Results!$A$8:$G$104,7,FALSE)","v":{"$error":"#N/A"}},{"$f":"VLOOKUP(H68,$B$4:B68,1,FALSE)","v":{"$error":"#N/A"}}]
[null,{"$f":"Results!A72","v":0},{"$f":"Results!C72","v":0},{"$f":"Results!B72","v":0},{"$f":"Results!D72","v":0},{"$f":"Results!G72","v":""},"- vs -",{"$f":"VLOOKUP(B69,Results!$A$8:$AG$104,9,)","v":{"$error":"#N/A"}},{"$f":"VLOOKUP(H69,Results!A$8:$G$104,3,FALSE)","v":{"$error":"#N/A"}},{"$f":"VLOOKUP(H69,Results!$A$8:$G$104,2,FALSE)","v":{"$error":"#N/A"}},{"$f":"VLOOKUP(H69,Results!$A$8:$G$104,4,FALSE)","v":{"$error":"#N/A"}},{"$f":"VLOOKUP(H69,Results!$A$8:$G$104,7,FALSE)","v":{"$error":"#N/A"}},{"$f":"VLOOKUP(H69,$B$4:B69,1,FALSE)","v":{"$error":"#N/A"}}]
[null,{"$f":"Results!A77","v":0},{"$f":"Results!C77","v":0},{"$f":"Results!B77","v":0},{"$f":"Results!D77","v":0},{"$f":"Results!G77","v":""},"- vs -",{"$f":"VLOOKUP(B70,Results!$A$8:$AG$104,9,)","v":{"$error":"#N/A"}},{"$f":"VLOOKUP(H70,Results!A$8:$G$104,3,FALSE)","v":{"$error":"#N/A"}},{"$f":"VLOOKUP(H70,Results!$A$8:$G$104,2,FALSE)","v":{"$error":"#N/A"}},{"$f":"VLOOKUP(H70,Results!$A$8:$G$104,4,FALSE)","v":{"$error":"#N/A"}},{"$f":"VLOOKUP(H70,Results!$A$8:$G$104,7,FALSE)","v":{"$error":"#N/A"}}]
[null,{"$f":"Results!A78","v":0},{"$f":"Results!C78","v":0},{"$f":"Results!B78","v":0},{"$f":"Results!D78","v":0},{"$f":"Results!G78","v":""},"- vs -",{"$f":"VLOOKUP(B71,Results!$A$8:$AG$104,9,)","v":{"$error":"#N/A"}},{"$f":"VLOOKUP(H71,Results!A$8:$G$104,3,FALSE)","v":{"$error":"#N/A"}},{"$f":"VLOOKUP(H71,Results!$A$8:$G$104,2,FALSE)","v":{"$error":"#N/A"}},{"$f":"VLOOKUP(H71,Results!$A$8:$G$104,4,FALSE)","v":{"$error":"#N/A"}},{"$f":"VLOOKUP(H71,Results!$A$8:$G$104,7,FALSE)","v":{"$error":"#N/A"}}]
[null,{"$f":"Results!A79","v":0},{"$f":"Results!C79","v":0},{"$f":"Results!B79","v":0},{"$f":"Results!D79","v":0},{"$f":"Results!G79","v":""},"- vs -",{"$f":"VLOOKUP(B72,Results!$A$8:$AG$104,9,)","v":{"$error":"#N/A"}},{"$f":"VLOOKUP(H72,Results!A$8:$G$104,3,FALSE)","v":{"$error":"#N/A"}},{"$f":"VLOOKUP(H72,Results!$A$8:$G$104,2,FALSE)","v":{"$error":"#N/A"}},{"$f":"VLOOKUP(H72,Results!$A$8:$G$104,4,FALSE)","v":{"$error":"#N/A"}},{"$f":"VLOOKUP(H72,Results!$A$8:$G$104,7,FALSE)","v":{"$error":"#N/A"}}]
[null,{"$f":"Results!A80","v":0},{"$f":"Results!C80","v":0},{"$f":"Results!B80","v":0},{"$f":"Results!D80","v":0},{"$f":"Results!G80","v":""},"- vs -",{"$f":"VLOOKUP(B73,Results!$A$8:$AG$104,9,)","v":{"$error":"#N/A"}},{"$f":"VLOOKUP(H73,Results!A$8:$G$104,3,FALSE)","v":{"$error":"#N/A"}},{"$f":"VLOOKUP(H73,Results!$A$8:$G$104,2,FALSE)","v":{"$error":"#N/A"}},{"$f":"VLOOKUP(H73,Results!$A$8:$G$104,4,FALSE)","v":{"$error":"#N/A"}},{"$f":"VLOOKUP(H73,Results!$A$8:$G$104,7,FALSE)","v":{"$error":"#N/A"}}]
[null,{"$f":"Results!A81","v":0},{"$f":"Results!C81","v":0},{"$f":"Results!B81","v":0},{"$f":"Results!D81","v":0},{"$f":"Results!G81","v":""},"- vs -",{"$f":"VLOOKUP(B74,Results!$A$8:$AG$104,9,)","v":{"$error":"#N/A"}},{"$f":"VLOOKUP(H74,Results!A$8:$G$104,3,FALSE)","v":{"$error":"#N/A"}},{"$f":"VLOOKUP(H74,Results!$A$8:$G$104,2,FALSE)","v":{"$error":"#N/A"}},{"$f":"VLOOKUP(H74,Results!$A$8:$G$104,4,FALSE)","v":{"$error":"#N/A"}},{"$f":"VLOOKUP(H74,Results!$A$8:$G$104,7,FALSE)","v":{"$error":"#N/A"}}]
[null,{"$f":"Results!A82","v":0},{"$f":"Results!C82","v":0},{"$f":"Results!B82","v":0},{"$f":"Results!D82","v":0},{"$f":"Results!G82","v":""},"- vs -",{"$f":"VLOOKUP(B75,Results!$A$8:$AG$104,9,)","v":{"$error":"#N/A"}},{"$f":"VLOOKUP(H75,Results!A$8:$G$104,3,FALSE)","v":{"$error":"#N/A"}},{"$f":"VLOOKUP(H75,Results!$A$8:$G$104,2,FALSE)","v":{"$error":"#N/A"}},{"$f":"VLOOKUP(H75,Results!$A$8:$G$104,4,FALSE)","v":{"$error":"#N/A"}},{"$f":"VLOOKUP(H75,Results!$A$8:$G$104,7,FALSE)","v":{"$error":"#N/A"}}]
[null,{"$f":"Results!A83","v":0},{"$f":"Results!C83","v":0},{"$f":"Results!B83","v":0},{"$f":"Results!D83","v":0},{"$f":"Results!G83","v":""},"- vs -",{"$f":"VLOOKUP(B76,Results!$A$8:$AG$104,9,)","v":{"$error":"#N/A"}},{"$f":"VLOOKUP(H76,Results!A$8:$G$104,3,FALSE)","v":{"$error":"#N/A"}},{"$f":"VLOOKUP(H76,Results!$A$8:$G$104,2,FALSE)","v":{"$error":"#N/A"}},{"$f":"VLOOKUP(H76,Results!$A$8:$G$104,4,FALSE)","v":{"$error":"#N/A"}},{"$f":"VLOOKUP(H76,Results!$A$8:$G$104,7,FALSE)","v":{"$error":"#N/A"}}]
[null,{"$f":"Results!A84","v":0},{"$f":"Results!C84","v":0},{"$f":"Results!B84","v":0},{"$f":"Results!D84","v":0},{"$f":"Results!G84","v":""},"- vs -",{"$f":"VLOOKUP(B77,Results!$A$8:$AG$104,9,)","v":{"$error":"#N/A"}},{"$f":"VLOOKUP(H77,Results!A$8:$G$104,3,FALSE)","v":{"$error":"#N/A"}},{"$f":"VLOOKUP(H77,Results!$A$8:$G$104,2,FALSE)","v":{"$error":"#N/A"}},{"$f":"VLOOKUP(H77,Results!$A$8:$G$104,4,FALSE)","v":{"$error":"#N/A"}},{"$f":"VLOOKUP(H77,Results!$A$8:$G$104,7,FALSE)","v":{"$error":"#N/A"}}]
[null,{"$f":"Results!A85","v":0},{"$f":"Results!C85","v":0},{"$f":"Results!B85","v":0},{"$f":"Results!D85","v":0},{"$f":"Results!G85","v":""},"- vs -",{"$f":"VLOOKUP(B78,Results!$A$8:$AG$104,9,)","v":{"$error":"#N/A"}},{"$f":"VLOOKUP(H78,Results!A$8:$G$104,3,FALSE)","v":{"$error":"#N/A"}},{"$f":"VLOOKUP(H78,Results!$A$8:$G$104,2,FALSE)","v":{"$error":"#N/A"}},{"$f":"VLOOKUP(H78,Results!$A$8:$G$104,4,FALSE)","v":{"$error":"#N/A"}},{"$f":"VLOOKUP(H78,Results!$A$8:$G$104,7,FALSE)","v":{"$error":"#N/A"}}]
[null,{"$f":"Results!A86","v":0},{"$f":"Results!C86","v":0},{"$f":"Results!B86","v":0},{"$f":"Results!D86","v":0},{"$f":"Results!G86","v":""},"- vs -",{"$f":"VLOOKUP(B79,Results!$A$8:$AG$104,9,)","v":{"$error":"#N/A"}},{"$f":"VLOOKUP(H79,Results!A$8:$G$104,3,FALSE)","v":{"$error":"#N/A"}},{"$f":"VLOOKUP(H79,Results!$A$8:$G$104,2,FALSE)","v":{"$error":"#N/A"}},{"$f":"VLOOKUP(H79,Results!$A$8:$G$104,4,FALSE)","v":{"$error":"#N/A"}},{"$f":"VLOOKUP(H79,Results!$A$8:$G$104,7,FALSE)","v":{"$error":"#N/A"}}]
[null,{"$f":"Results!A87","v":0},{"$f":"Results!C87","v":0},{"$f":"Results!B87","v":0},{"$f":"Results!D87","v":0},{"$f":"Results!G87","v":""},"- vs -",{"$f":"VLOOKUP(B80,Results!$A$8:$AG$104,9,)","v":{"$error":"#N/A"}},{"$f":"VLOOKUP(H80,Results!A$8:$G$104,3,FALSE)","v":{"$error":"#N/A"}},{"$f":"VLOOKUP(H80,Results!$A$8:$G$104,2,FALSE)","v":{"$error":"#N/A"}},{"$f":"VLOOKUP(H80,Results!$A$8:$G$104,4,FALSE)","v":{"$error":"#N/A"}},{"$f":"VLOOKUP(H80,Results!$A$8:$G$104,7,FALSE)","v":{"$error":"#N/A"}}]
[null,{"$f":"Results!A88","v":0},{"$f":"Results!C88","v":0},{"$f":"Results!B88","v":0},{"$f":"Results!D88","v":0},{"$f":"Results!G88","v":""},"- vs -",{"$f":"VLOOKUP(B81,Results!$A$8:$AG$104,9,)","v":{"$error":"#N/A"}},{"$f":"VLOOKUP(H81,Results!A$8:$G$104,3,FALSE)","v":{"$error":"#N/A"}},{"$f":"VLOOKUP(H81,Results!$A$8:$G$104,2,FALSE)","v":{"$error":"#N/A"}},{"$f":"VLOOKUP(H81,Results!$A$8:$G$104,4,FALSE)","v":{"$error":"#N/A"}},{"$f":"VLOOKUP(H81,Results!$A$8:$G$104,7,FALSE)","v":{"$error":"#N/A"}}]
[null,{"$f":"Results!A89","v":0},{"$f":"Results!C89","v":0},{"$f":"Results!B89","v":0},{"$f":"Results!D89","v":0},{"$f":"Results!G89","v":""},"- vs -",{"$f":"VLOOKUP(B82,Results!$A$8:$AG$104,9,)","v":{"$error":"#N/A"}},{"$f":"VLOOKUP(H82,Results!A$8:$G$104,3,FALSE)","v":{"$error":"#N/A"}},{"$f":"VLOOKUP(H82,Results!$A$8:$G$104,2,FALSE)","v":{"$error":"#N/A"}},{"$f":"VLOOKUP(H82,Results!$A$8:$G$104,4,FALSE)","v":{"$error":"#N/A"}},{"$f":"VLOOKUP(H82,Results!$A$8:$G$104,7,FALSE)","v":{"$error":"#N/A"}}]
[null,{"$f":"Results!A90","v":0},{"$f":"Results!C90","v":0},{"$f":"Results!B90","v":0},{"$f":"Results!D90","v":0},{"$f":"Results!G90","v":""},"- vs -",{"$f":"VLOOKUP(B83,Results!$A$8:$AG$104,9,)","v":{"$error":"#N/A"}},{"$f":"VLOOKUP(H83,Results!A$8:$G$104,3,FALSE)","v":{"$error":"#N/A"}},{"$f":"VLOOKUP(H83,Results!$A$8:$G$104,2,FALSE)","v":{"$error":"#N/A"}},{"$f":"VLOOKUP(H83,Results!$A$8:$G$104,4,FALSE)","v":{"$error":"#N/A"}},{"$f":"VLOOKUP(H83,Results!$A$8:$G$104,7,FALSE)","v":{"$error":"#N/A"}}]
[null,{"$f":"Results!A91","v":0},{"$f":"Results!C91","v":0},{"$f":"Results!B91","v":0},{"$f":"Results!D91","v":0},{"$f":"Results!G91","v":""},"- vs -",{"$f":"VLOOKUP(B84,Results!$A$8:$AG$104,9,)","v":{"$error":"#N/A"}},{"$f":"VLOOKUP(H84,Results!A$8:$G$104,3,FALSE)","v":{"$error":"#N/A"}},{"$f":"VLOOKUP(H84,Results!$A$8:$G$104,2,FALSE)","v":{"$error":"#N/A"}},{"$f":"VLOOKUP(H84,Results!$A$8:$G$104,4,FALSE)","v":{"$error":"#N/A"}},{"$f":"VLOOKUP(H84,Results!$A$8:$G$104,7,FALSE)","v":{"$error":"#N/A"}}]
[null,{"$f":"Results!A92","v":0},{"$f":"Results!C92","v":0},{"$f":"Results!B92","v":0},{"$f":"Results!D92","v":0},{"$f":"Results!G92","v":""},"- vs -",{"$f":"VLOOKUP(B85,Results!$A$8:$AG$104,9,)","v":{"$error":"#N/A"}},{"$f":"VLOOKUP(H85,Results!A$8:$G$104,3,FALSE)","v":{"$error":"#N/A"}},{"$f":"VLOOKUP(H85,Results!$A$8:$G$104,2,FALSE)","v":{"$error":"#N/A"}},{"$f":"VLOOKUP(H85,Results!$A$8:$G$104,4,FALSE)","v":{"$error":"#N/A"}},{"$f":"VLOOKUP(H85,Results!$A$8:$G$104,7,FALSE)","v":{"$error":"#N/A"}}]
[null,{"$f":"Results!A93","v":0},{"$f":"Results!C93","v":0},{"$f":"Results!B93","v":0},{"$f":"Results!D93","v":0},{"$f":"Results!G93","v":""},"- vs -",{"$f":"VLOOKUP(B86,Results!$A$8:$AG$104,9,)","v":{"$error":"#N/A"}},{"$f":"VLOOKUP(H86,Results!A$8:$G$104,3,FALSE)","v":{"$error":"#N/A"}},{"$f":"VLOOKUP(H86,Results!$A$8:$G$104,2,FALSE)","v":{"$error":"#N/A"}},{"$f":"VLOOKUP(H86,Results!$A$8:$G$104,4,FALSE)","v":{"$error":"#N/A"}},{"$f":"VLOOKUP(H86,Results!$A$8:$G$104,7,FALSE)","v":{"$error":"#N/A"}}]
[null,{"$f":"Results!A94","v":0},{"$f":"Results!C94","v":0},{"$f":"Results!B94","v":0},{"$f":"Results!D94","v":0},{"$f":"Results!G94","v":""},"- vs -",{"$f":"VLOOKUP(B87,Results!$A$8:$AG$104,9,)","v":{"$error":"#N/A"}},{"$f":"VLOOKUP(H87,Results!A$8:$G$104,3,FALSE)","v":{"$error":"#N/A"}},{"$f":"VLOOKUP(H87,Results!$A$8:$G$104,2,FALSE)","v":{"$error":"#N/A"}},{"$f":"VLOOKUP(H87,Results!$A$8:$G$104,4,FALSE)","v":{"$error":"#N/A"}},{"$f":"VLOOKUP(H87,Results!$A$8:$G$104,7,FALSE)","v":{"$error":"#N/A"}}]
[null,{"$f":"Results!A95","v":0},{"$f":"Results!C95","v":0},{"$f":"Results!B95","v":0},{"$f":"Results!D95","v":0},{"$f":"Results!G95","v":""},"- vs -",{"$f":"VLOOKUP(B88,Results!$A$8:$AG$104,9,)","v":{"$error":"#N/A"}},{"$f":"VLOOKUP(H88,Results!A$8:$G$104,3,FALSE)","v":{"$error":"#N/A"}},{"$f":"VLOOKUP(H88,Results!$A$8:$G$104,2,FALSE)","v":{"$error":"#N/A"}},{"$f":"VLOOKUP(H88,Results!$A$8:$G$104,4,FALSE)","v":{"$error":"#N/A"}},{"$f":"VLOOKUP(H88,Results!$A$8:$G$104,7,FALSE)","v":{"$error":"#N/A"}}]
[null,{"$f":"Results!A96","v":0},{"$f":"Results!C96","v":0},{"$f":"Results!B96","v":0},{"$f":"Results!D96","v":0},{"$f":"Results!G96","v":""},"- vs -",{"$f":"VLOOKUP(B89,Results!$A$8:$AG$104,9,)","v":{"$error":"#N/A"}},{"$f":"VLOOKUP(H89,Results!A$8:$G$104,3,FALSE)","v":{"$error":"#N/A"}},{"$f":"VLOOKUP(H89,Results!$A$8:$G$104,2,FALSE)","v":{"$error":"#N/A"}},{"$f":"VLOOKUP(H89,Results!$A$8:$G$104,4,FALSE)","v":{"$error":"#N/A"}},{"$f":"VLOOKUP(H89,Results!$A$8:$G$104,7,FALSE)","v":{"$error":"#N/A"}}]
[null,{"$f":"Results!A97","v":0},{"$f":"Results!C97","v":0},{"$f":"Results!B97","v":0},{"$f":"Results!D97","v":0},{"$f":"Results!G97","v":""},"- vs -",{"$f":"VLOOKUP(B90,Results!$A$8:$AG$104,9,)","v":{"$error":"#N/A"}},{"$f":"VLOOKUP(H90,Results!A$8:$G$104,3,FALSE)","v":{"$error":"#N/A"}},{"$f":"VLOOKUP(H90,Results!$A$8:$G$104,2,FALSE)","v":{"$error":"#N/A"}},{"$f":"VLOOKUP(H90,Results!$A$8:$G$104,4,FALSE)","v":{"$error":"#N/A"}},{"$f":"VLOOKUP(H90,Results!$A$8:$G$104,7,FALSE)","v":{"$error":"#N/A"}}]
[null,{"$f":"Results!A98","v":0},{"$f":"Results!C98","v":0},{"$f":"Results!B98","v":0},{"$f":"Results!D98","v":0},{"$f":"Results!G98","v":""},"- vs -",{"$f":"VLOOKUP(B91,Results!$A$8:$AG$104,9,)","v":{"$error":"#N/A"}},{"$f":"VLOOKUP(H91,Results!A$8:$G$104,3,FALSE)","v":{"$error":"#N/A"}},{"$f":"VLOOKUP(H91,Results!$A$8:$G$104,2,FALSE)","v":{"$error":"#N/A"}},{"$f":"VLOOKUP(H91,Results!$A$8:$G$104,4,FALSE)","v":{"$error":"#N/A"}},{"$f":"VLOOKUP(H91,Results!$A$8:$G$104,7,FALSE)","v":{"$error":"#N/A"}}]
[null,{"$f":"Results!A99","v":0},{"$f":"Results!C99","v":0},{"$f":"Results!B99","v":0},{"$f":"Results!D99","v":0},{"$f":"Results!G99","v":""},"- vs -",{"$f":"VLOOKUP(B92,Results!$A$8:$AG$104,9,)","v":{"$error":"#N/A"}},{"$f":"VLOOKUP(H92,Results!A$8:$G$104,3,FALSE)","v":{"$error":"#N/A"}},{"$f":"VLOOKUP(H92,Results!$A$8:$G$104,2,FALSE)","v":{"$error":"#N/A"}},{"$f":"VLOOKUP(H92,Results!$A$8:$G$104,4,FALSE)","v":{"$error":"#N/A"}},{"$f":"VLOOKUP(H92,Results!$A$8:$G$104,7,FALSE)","v":{"$error":"#N/A"}}]
[null,{"$f":"Results!A100","v":0},{"$f":"Results!C100","v":0},{"$f":"Results!B100","v":0},{"$f":"Results!D100","v":0},{"$f":"Results!G100","v":""},"- vs -",{"$f":"VLOOKUP(B93,Results!$A$8:$AG$104,9,)","v":{"$error":"#N/A"}},{"$f":"VLOOKUP(H93,Results!A$8:$G$104,3,FALSE)","v":{"$error":"#N/A"}},{"$f":"VLOOKUP(H93,Results!$A$8:$G$104,2,FALSE)","v":{"$error":"#N/A"}},{"$f":"VLOOKUP(H93,Results!$A$8:$G$104,4,FALSE)","v":{"$error":"#N/A"}},{"$f":"VLOOKUP(H93,Results!$A$8:$G$104,7,FALSE)","v":{"$error":"#N/A"}}]
[null,{"$f":"Results!A101","v":0},{"$f":"Results!C101","v":0},{"$f":"Results!B101","v":0},{"$f":"Results!D101","v":0},{"$f":"Results!G101","v":""},"- vs -",{"$f":"VLOOKUP(B94,Results!$A$8:$AG$104,9,)","v":{"$error":"#N/A"}},{"$f":"VLOOKUP(H94,Results!A$8:$G$104,3,FALSE)","v":{"$error":"#N/A"}},{"$f":"VLOOKUP(H94,Results!$A$8:$G$104,2,FALSE)","v":{"$error":"#N/A"}},{"$f":"VLOOKUP(H94,Results!$A$8:$G$104,4,FALSE)","v":{"$error":"#N/A"}},{"$f":"VLOOKUP(H94,Results!$A$8:$G$104,7,FALSE)","v":{"$error":"#N/A"}}]
[null,{"$f":"Results!A102","v":0},{"$f":"Results!C102","v":0},{"$f":"Results!B102","v":0},{"$f":"Results!D102","v":0},{"$f":"Results!G102","v":""},"- vs -",{"$f":"VLOOKUP(B95,Results!$A$8:$AG$104,9,)","v":{"$error":"#N/A"}},{"$f":"VLOOKUP(H95,Results!A$8:$G$104,3,FALSE)","v":{"$error":"#N/A"}},{"$f":"VLOOKUP(H95,Results!$A$8:$G$104,2,FALSE)","v":{"$error":"#N/A"}},{"$f":"VLOOKUP(H95,Results!$A$8:$G$104,4,FALSE)","v":{"$error":"#N/A"}},{"$f":"VLOOKUP(H95,Results!$A$8:$G$104,7,FALSE)","v":{"$error":"#N/A"}}]
[null,{"$f":"Results!A103","v":0},{"$f":"Results!C103","v":0},{"$f":"Results!B103","v":0},{"$f":"Results!D103","v":0},{"$f":"Results!G103","v":""},"- vs -",{"$f":"VLOOKUP(B96,Results!$A$8:$AG$104,9,)","v":{"$error":"#N/A"}},{"$f":"VLOOKUP(H96,Results!A$8:$G$104,3,FALSE)","v":{"$error":"#N/A"}},{"$f":"VLOOKUP(H96,Results!$A$8:$G$104,2,FALSE)","v":{"$error":"#N/A"}},{"$f":"VLOOKUP(H96,Results!$A$8:$G$104,4,FALSE)","v":{"$error":"#N/A"}},{"$f":"VLOOKUP(H96,Results!$A$8:$G$104,7,FALSE)","v":{"$error":"#N/A"}}]
[null,{"$f":"Results!A104","v":0},{"$f":"Results!C104","v":0},{"$f":"Results!B104","v":0},{"$f":"Results!D104","v":0},{"$f":"Results!G104","v":""},"- vs -",{"$f":"VLOOKUP(B97,Results!$A$8:$AG$104,9,)","v":{"$error":"#N/A"}},{"$f":"VLOOKUP(H97,Results!A$8:$G$104,3,FALSE)","v":{"$error":"#N/A"}},{"$f":"VLOOKUP(H97,Results!$A$8:$G$104,2,FALSE)","v":{"$error":"#N/A"}},{"$f":"VLOOKUP(H97,Results!$A$8:$G$104,4,FALSE)","v":{"$error":"#N/A"}},{"$f":"VLOOKUP(H97,Results!$A$8:$G$104,7,FALSE)","v":{"$error":"#N/A"}}]
[null,{"$f":"Results!A105","v":0},{"$f":"Results!C105","v":0},{"$f":"Results!B105","v":0},{"$f":"Results!D105","v":0},{"$f":"Results!G105","v":""},"- vs -",{"$f":"VLOOKUP(B98,Results!$A$8:$AG$104,9,)","v":{"$error":"#N/A"}},{"$f":"VLOOKUP(H98,Results!A$8:$G$104,3,FALSE)","v":{"$error":"#N/A"}},{"$f":"VLOOKUP(H98,Results!$A$8:$G$104,2,FALSE)","v":{"$error":"#N/A"}},{"$f":"VLOOKUP(H98,Results!$A$8:$G$104,4,FALSE)","v":{"$error":"#N/A"}},{"$f":"VLOOKUP(H98,Results!$A$8:$G$104,7,FALSE)","v":{"$error":"#N/A"}}]
[null,{"$f":"Results!A106","v":0},{"$f":"Results!C106","v":0},{"$f":"Results!B106","v":0},{"$f":"Results!D106","v":0},{"$f":"Results!G106","v":""},"- vs -",{"$f":"VLOOKUP(B99,Results!$A$8:$AG$104,9,)","v":{"$error":"#N/A"}},{"$f":"VLOOKUP(H99,Results!A$8:$G$104,3,FALSE)","v":{"$error":"#N/A"}},{"$f":"VLOOKUP(H99,Results!$A$8:$G$104,2,FALSE)","v":{"$error":"#N/A"}},{"$f":"VLOOKUP(H99,Results!$A$8:$G$104,4,FALSE)","v":{"$error":"#N/A"}},{"$f":"VLOOKUP(H99,Results!$A$8:$G$104,7,FALSE)","v":{"$error":"#N/A"}}]
[null,{"$f":"Results!A107","v":0},{"$f":"Results!C107","v":0},{"$f":"Results!B107","v":0},{"$f":"Results!D107","v":0},{"$f":"Results!G107","v":""},"- vs -",{"$f":"VLOOKUP(B100,Results!$A$8:$AG$104,9,)","v":{"$error":"#N/A"}},{"$f":"VLOOKUP(H100,Results!A$8:$G$104,3,FALSE)","v":{"$error":"#N/A"}},{"$f":"VLOOKUP(H100,Results!$A$8:$G$104,2,FALSE)","v":{"$error":"#N/A"}},{"$f":"VLOOKUP(H100,Results!$A$8:$G$104,4,FALSE)","v":{"$error":"#N/A"}},{"$f":"VLOOKUP(H100,Results!$A$8:$G$104,7,FALSE)","v":{"$error":"#N/A"}}]

{"sheet":"Round 2","index":10,"n_rows":104,"n_cols":13,"rows_kept":104}
[]
["Round 2 Draw",null,{"$f":"Results!B3","v":0}]
["Table",null,{"$f":"Results!B4","v":"Classical Period"}]
[{"$nulls":12},"VALID?"]
[null,{"$f":"Results!A8","v":0},{"$f":"Results!C8","v":0},{"$f":"Results!B8","v":0},{"$f":"Results!D8","v":0},{"$f":"Results!G8","v":""},"- vs -",{"$f":"VLOOKUP(B5,Results!$A$8:$AG$104,16,FALSE)","v":{"$error":"#N/A"}},{"$f":"VLOOKUP(H5,Results!A$8:$G$104,3,FALSE)","v":{"$error":"#N/A"}},{"$f":"VLOOKUP(H5,Results!$A$8:$G$104,2,FALSE)","v":{"$error":"#N/A"}},{"$f":"VLOOKUP(H5,Results!$A$8:$G$104,4,FALSE)","v":{"$error":"#N/A"}},{"$f":"VLOOKUP(H5,Results!$A$8:$G$104,7,FALSE)","v":{"$error":"#N/A"}},{"$f":"VLOOKUP(H5,$B$4:B5,1,FALSE)","v":{"$error":"#N/A"}}]
[null,{"$f":"Results!A9","v":0},{"$f":"Results!C9","v":0},{"$f":"Results!B9","v":0},{"$f":"Results!D9","v":0},{"$f":"Results!G9","v":""},"- vs -",{"$f":"VLOOKUP(B6,Results!$A$8:$AG$104,16,FALSE)","v":{"$error":"#N/A"}},{"$f":"VLOOKUP(H6,Results!A$8:$G$104,3,FALSE)","v":{"$error":"#N/A"}},{"$f":"VLOOKUP(H6,Results!$A$8:$G$104,2,FALSE)","v":{"$error":"#N/A"}},{"$f":"VLOOKUP(H6,Results!$A$8:$G$104,4,FALSE)","v":{"$error":"#N/A"}},{"$f":"VLOOKUP(H6,Results!$A$8:$G$104,7,FALSE)","v":{"$error":"#N/A"}},{"$f":"VLOOKUP(H6,$B$4:B6,1,FALSE)","v":{"$error":"#N/A"}}]
[null,{"$f":"Results!A10","v":0},{"$f":"Results!C10","v":0},{"$f":"Results!B10","v":0},{"$f":"Results!D10","v":0},{"$f":"Results!G10","v":""},"- vs -",{"$f":"VLOOKUP(B7,Results!$A$8:$AG$104,16,FALSE)","v":{"$error":"#N/A"}},{"$f":"VLOOKUP(H7,Results!A$8:$G$104,3,FALSE)","v":{"$error":"#N/A"}},{"$f":"VLOOKUP(H7,Results!$A$8:$G$104,2,FALSE)","v":{"$error":"#N/A"}},{"$f":"VLOOKUP(H7,Results!$A$8:$G$104,4,FALSE)","v":{"$error":"#N/A"}},{"$f":"VLOOKUP(H7,Results!$A$8:$G$104,7,FALSE)","v":{"$error":"#N/A"}},{"$f":"VLOOKUP(H7,$B$4:B7,1,FALSE)","v":{"$error":"#N/A"}}]
[null,{"$f":"Results!A11","v":0},{"$f":"Results!C11","v":0},{"$f":"Results!B11","v":0},{"$f":"Results!D11","v":0},{"$f":"Results!G11","v":""},"- vs -",{"$f":"VLOOKUP(B8,Results!$A$8:$AG$104,16,FALSE)","v":{"$error":"#N/A"}},{"$f":"VLOOKUP(H8,Results!A$8:$G$104,3,FALSE)","v":{"$error":"#N/A"}},{"$f":"VLOOKUP(H8,Results!$A$8:$G$104,2,FALSE)","v":{"$error":"#N/A"}},{"$f":"VLOOKUP(H8,Results!$A$8:$G$104,4,FALSE)","v":{"$error":"#N/A"}},{"$f":"VLOOKUP(H8,Results!$A$8:$G$104,7,FALSE)","v":{"$error":"#N/A"}},{"$f":"VLOOKUP(H8,$B$4:B8,1,FALSE)","v":{"$error":"#N/A"}}]
[null,{"$f":"Results!A12","v":0},{"$f":"Results!C12","v":0},{"$f":"Results!B12","v":0},{"$f":"Results!D12","v":0},{"$f":"Results!G12","v":""},"- vs -",{"$f":"VLOOKUP(B9,Results!$A$8:$AG$104,16,FALSE)","v":{"$error":"#N/A"}},{"$f":"VLOOKUP(H9,Results!A$8:$G$104,3,FALSE)","v":{"$error":"#N/A"}},{"$f":"VLOOKUP(H9,Results!$A$8:$G$104,2,FALSE)","v":{"$error":"#N/A"}},{"$f":"VLOOKUP(H9,Results!$A$8:$G$104,4,FALSE)","v":{"$error":"#N/A"}},{"$f":"VLOOKUP(H9,Results!$A$8:$G$104,7,FALSE)","v":{"$error":"#N/A"}},{"$f":"VLOOKUP(H9,$B$4:B9,1,FALSE)","v":{"$error":"#N/A"}}]
[null,{"$f":"Results!A13","v":0},{"$f":"Results!C13","v":0},{"$f":"Results!B13","v":0},{"$f":"Results!D13","v":0},{"$f":"Results!G13","v":""},"- vs -",{"$f":"VLOOKUP(B10,Results!$A$8:$AG$104,16,FALSE)","v":{"$error":"#N/A"}},{"$f":"VLOOKUP(H10,Results!A$8:$G$104,3,FALSE)","v":{"$error":"#N/A"}},{"$f":"VLOOKUP(H10,Results!$A$8:$G$104,2,FALSE)","v":{"$error":"#N/A"}},{"$f":"VLOOKUP(H10,Results!$A$8:$G$104,4,FALSE)","v":{"$error":"#N/A"}},{"$f":"VLOOKUP(H10,Results!$A$8:$G$104,7,FALSE)","v":{"$error":"#N/A"}},{"$f":"VLOOKUP(H10,$B$4:B10,1,FALSE)","v":{"$error":"#N/A"}}]
[null,{"$f":"Results!A14","v":0},{"$f":"Results!C14","v":0},{"$f":"Results!B14","v":0},{"$f":"Results!D14","v":0},{"$f":"Results!G14","v":""},"- vs -",{"$f":"VLOOKUP(B11,Results!$A$8:$AG$104,16,FALSE)","v":{"$error":"#N/A"}},{"$f":"VLOOKUP(H11,Results!A$8:$G$104,3,FALSE)","v":{"$error":"#N/A"}},{"$f":"VLOOKUP(H11,Results!$A$8:$G$104,2,FALSE)","v":{"$error":"#N/A"}},{"$f":"VLOOKUP(H11,Results!$A$8:$G$104,4,FALSE)","v":{"$error":"#N/A"}},{"$f":"VLOOKUP(H11,Results!$A$8:$G$104,7,FALSE)","v":{"$error":"#N/A"}},{"$f":"VLOOKUP(H11,$B$4:B11,1,FALSE)","v":{"$error":"#N/A"}}]
[null,{"$f":"Results!A15","v":0},{"$f":"Results!C15","v":0},{"$f":"Results!B15","v":0},{"$f":"Results!D15","v":0},{"$f":"Results!G15","v":""},"- vs -",{"$f":"VLOOKUP(B12,Results!$A$8:$AG$104,16,FALSE)","v":{"$error":"#N/A"}},{"$f":"VLOOKUP(H12,Results!A$8:$G$104,3,FALSE)","v":{"$error":"#N/A"}},{"$f":"VLOOKUP(H12,Results!$A$8:$G$104,2,FALSE)","v":{"$error":"#N/A"}},{"$f":"VLOOKUP(H12,Results!$A$8:$G$104,4,FALSE)","v":{"$error":"#N/A"}},{"$f":"VLOOKUP(H12,Results!$A$8:$G$104,7,FALSE)","v":{"$error":"#N/A"}},{"$f":"VLOOKUP(H12,$B$4:B12,1,FALSE)","v":{"$error":"#N/A"}}]
[null,{"$f":"Results!A16","v":0},{"$f":"Results!C16","v":0},{"$f":"Results!B16","v":0},{"$f":"Results!D16","v":0},{"$f":"Results!G16","v":""},"- vs -",{"$f":"VLOOKUP(B13,Results!$A$8:$AG$104,16,FALSE)","v":{"$error":"#N/A"}},{"$f":"VLOOKUP(H13,Results!A$8:$G$104,3,FALSE)","v":{"$error":"#N/A"}},{"$f":"VLOOKUP(H13,Results!$A$8:$G$104,2,FALSE)","v":{"$error":"#N/A"}},{"$f":"VLOOKUP(H13,Results!$A$8:$G$104,4,FALSE)","v":{"$error":"#N/A"}},{"$f":"VLOOKUP(H13,Results!$A$8:$G$104,7,FALSE)","v":{"$error":"#N/A"}},{"$f":"VLOOKUP(H13,$B$4:B13,1,FALSE)","v":{"$error":"#N/A"}}]
[null,{"$f":"Results!A17","v":0},{"$f":"Results!C17","v":0},{"$f":"Results!B17","v":0},{"$f":"Results!D17","v":0},{"$f":"Results!G17","v":""},"- vs -",{"$f":"VLOOKUP(B14,Results!$A$8:$AG$104,16,FALSE)","v":{"$error":"#N/A"}},{"$f":"VLOOKUP(H14,Results!A$8:$G$104,3,FALSE)","v":{"$error":"#N/A"}},{"$f":"VLOOKUP(H14,Results!$A$8:$G$104,2,FALSE)","v":{"$error":"#N/A"}},{"$f":"VLOOKUP(H14,Results!$A$8:$G$104,4,FALSE)","v":{"$error":"#N/A"}},{"$f":"VLOOKUP(H14,Results!$A$8:$G$104,7,FALSE)","v":{"$error":"#N/A"}},{"$f":"VLOOKUP(H14,$B$4:B14,1,FALSE)","v":{"$error":"#N/A"}}]
[null,{"$f":"Results!A18","v":0},{"$f":"Results!C18","v":0},{"$f":"Results!B18","v":0},{"$f":"Results!D18","v":0},null,"- vs -",{"$f":"VLOOKUP(B15,Results!$A$8:$AG$104,16,FALSE)","v":{"$error":"#N/A"}},{"$f":"VLOOKUP(H15,Results!A$8:$G$104,3,FALSE)","v":{"$error":"#N/A"}},{"$f":"VLOOKUP(H15,Results!$A$8:$G$104,2,FALSE)","v":{"$error":"#N/A"}},{"$f":"VLOOKUP(H15,Results!$A$8:$G$104,4,FALSE)","v":{"$error":"#N/A"}},{"$f":"VLOOKUP(H15,Results!$A$8:$G$104,7,FALSE)","v":{"$error":"#N/A"}},{"$f":"VLOOKUP(H15,$B$4:B15,1,FALSE)","v":{"$error":"#N/A"}}]
[null,{"$f":"Results!A19","v":0},{"$f":"Results!C19","v":0},{"$f":"Results!B19","v":0},{"$f":"Results!D19","v":0},{"$f":"Results!G19","v":""},"- vs -",{"$f":"VLOOKUP(B16,Results!$A$8:$AG$104,16,FALSE)","v":{"$error":"#N/A"}},{"$f":"VLOOKUP(H16,Results!A$8:$G$104,3,FALSE)","v":{"$error":"#N/A"}},{"$f":"VLOOKUP(H16,Results!$A$8:$G$104,2,FALSE)","v":{"$error":"#N/A"}},{"$f":"VLOOKUP(H16,Results!$A$8:$G$104,4,FALSE)","v":{"$error":"#N/A"}},{"$f":"VLOOKUP(H16,Results!$A$8:$G$104,7,FALSE)","v":{"$error":"#N/A"}},{"$f":"VLOOKUP(H16,$B$4:B16,1,FALSE)","v":{"$error":"#N/A"}}]
[null,{"$f":"Results!A20","v":0},{"$f":"Results!C20","v":0},{"$f":"Results!B20","v":0},{"$f":"Results!D20","v":0},{"$f":"Results!G20","v":""},"- vs -",{"$f":"VLOOKUP(B17,Results!$A$8:$AG$104,16,FALSE)","v":{"$error":"#N/A"}},{"$f":"VLOOKUP(H17,Results!A$8:$G$104,3,FALSE)","v":{"$error":"#N/A"}},{"$f":"VLOOKUP(H17,Results!$A$8:$G$104,2,FALSE)","v":{"$error":"#N/A"}},{"$f":"VLOOKUP(H17,Results!$A$8:$G$104,4,FALSE)","v":{"$error":"#N/A"}},{"$f":"VLOOKUP(H17,Results!$A$8:$G$104,7,FALSE)","v":{"$error":"#N/A"}},{"$f":"VLOOKUP(H17,$B$4:B17,1,FALSE)","v":{"$error":"#N/A"}}]
[null,{"$f":"Results!A21","v":0},{"$f":"Results!C21","v":0},{"$f":"Results!B21","v":0},{"$f":"Results!D21","v":0},{"$f":"Results!G21","v":""},"- vs -",{"$f":"VLOOKUP(B18,Results!$A$8:$AG$104,16,FALSE)","v":{"$error":"#N/A"}},{"$f":"VLOOKUP(H18,Results!A$8:$G$104,3,FALSE)","v":{"$error":"#N/A"}},{"$f":"VLOOKUP(H18,Results!$A$8:$G$104,2,FALSE)","v":{"$error":"#N/A"}},{"$f":"VLOOKUP(H18,Results!$A$8:$G$104,4,FALSE)","v":{"$error":"#N/A"}},{"$f":"VLOOKUP(H18,Results!$A$8:$G$104,7,FALSE)","v":{"$error":"#N/A"}},{"$f":"VLOOKUP(H18,$B$4:B18,1,FALSE)","v":{"$error":"#N/A"}}]
[null,{"$f":"Results!A22","v":0},{"$f":"Results!C22","v":0},{"$f":"Results!B22","v":0},{"$f":"Results!D22","v":0},{"$f":"Results!G22","v":""},"- vs -",{"$f":"VLOOKUP(B19,Results!$A$8:$AG$104,16,FALSE)","v":{"$error":"#N/A"}},{"$f":"VLOOKUP(H19,Results!A$8:$G$104,3,FALSE)","v":{"$error":"#N/A"}},{"$f":"VLOOKUP(H19,Results!$A$8:$G$104,2,FALSE)","v":{"$error":"#N/A"}},{"$f":"VLOOKUP(H19,Results!$A$8:$G$104,4,FALSE)","v":{"$error":"#N/A"}},{"$f":"VLOOKUP(H19,Results!$A$8:$G$104,7,FALSE)","v":{"$error":"#N/A"}},{"$f":"VLOOKUP(H19,$B$4:B19,1,FALSE)","v":{"$error":"#N/A"}}]
[null,{"$f":"Results!A23","v":0},{"$f":"Results!C23","v":0},{"$f":"Results!B23","v":0},{"$f":"Results!D23","v":0},{"$f":"Results!G23","v":""},"- vs -",{"$f":"VLOOKUP(B20,Results!$A$8:$AG$104,16,FALSE)","v":{"$error":"#N/A"}},{"$f":"VLOOKUP(H20,Results!A$8:$G$104,3,FALSE)","v":{"$error":"#N/A"}},{"$f":"VLOOKUP(H20,Results!$A$8:$G$104,2,FALSE)","v":{"$error":"#N/A"}},{"$f":"VLOOKUP(H20,Results!$A$8:$G$104,4,FALSE)","v":{"$error":"#N/A"}},{"$f":"VLOOKUP(H20,Results!$A$8:$G$104,7,FALSE)","v":{"$error":"#N/A"}},{"$f":"VLOOKUP(H20,$B$4:B20,1,FALSE)","v":{"$error":"#N/A"}}]
[null,{"$f":"Results!A24","v":0},{"$f":"Results!C24","v":0},{"$f":"Results!B24","v":0},{"$f":"Results!D24","v":0},{"$f":"Results!G24","v":""},"- vs -",{"$f":"VLOOKUP(B21,Results!$A$8:$AG$104,16,FALSE)","v":{"$error":"#N/A"}},{"$f":"VLOOKUP(H21,Results!A$8:$G$104,3,FALSE)","v":{"$error":"#N/A"}},{"$f":"VLOOKUP(H21,Results!$A$8:$G$104,2,FALSE)","v":{"$error":"#N/A"}},{"$f":"VLOOKUP(H21,Results!$A$8:$G$104,4,FALSE)","v":{"$error":"#N/A"}},{"$f":"VLOOKUP(H21,Results!$A$8:$G$104,7,FALSE)","v":{"$error":"#N/A"}},{"$f":"VLOOKUP(H21,$B$4:B21,1,FALSE)","v":{"$error":"#N/A"}}]
[null,{"$f":"Results!A25","v":0},{"$f":"Results!C25","v":0},{"$f":"Results!B25","v":0},{"$f":"Results!D25","v":0},{"$f":"Results!G25","v":""},"- vs -",{"$f":"VLOOKUP(B22,Results!$A$8:$AG$104,16,FALSE)","v":{"$error":"#N/A"}},{"$f":"VLOOKUP(H22,Results!A$8:$G$104,3,FALSE)","v":{"$error":"#N/A"}},{"$f":"VLOOKUP(H22,Results!$A$8:$G$104,2,FALSE)","v":{"$error":"#N/A"}},{"$f":"VLOOKUP(H22,Results!$A$8:$G$104,4,FALSE)","v":{"$error":"#N/A"}},{"$f":"VLOOKUP(H22,Results!$A$8:$G$104,7,FALSE)","v":{"$error":"#N/A"}},{"$f":"VLOOKUP(H22,$B$4:B22,1,FALSE)","v":{"$error":"#N/A"}}]
[null,{"$f":"Results!A26","v":0},{"$f":"Results!C26","v":0},{"$f":"Results!B26","v":0},{"$f":"Results!D26","v":0},{"$f":"Results!G26","v":""},"- vs -",{"$f":"VLOOKUP(B23,Results!$A$8:$AG$104,16,FALSE)","v":{"$error":"#N/A"}},{"$f":"VLOOKUP(H23,Results!A$8:$G$104,3,FALSE)","v":{"$error":"#N/A"}},{"$f":"VLOOKUP(H23,Results!$A$8:$G$104,2,FALSE)","v":{"$error":"#N/A"}},{"$f":"VLOOKUP(H23,Results!$A$8:$G$104,4,FALSE)","v":{"$error":"#N/A"}},{"$f":"VLOOKUP(H23,Results!$A$8:$G$104,7,FALSE)","v":{"$error":"#N/A"}},{"$f":"VLOOKUP(H23,$B$4:B23,1,FALSE)","v":{"$error":"#N/A"}}]
[null,{"$f":"Results!A27","v":0},{"$f":"Results!C27","v":0},{"$f":"Results!B27","v":0},{"$f":"Results!D27","v":0},{"$f":"Results!G27","v":""},"- vs -",{"$f":"VLOOKUP(B24,Results!$A$8:$AG$104,16,FALSE)","v":{"$error":"#N/A"}},{"$f":"VLOOKUP(H24,Results!A$8:$G$104,3,FALSE)","v":{"$error":"#N/A"}},{"$f":"VLOOKUP(H24,Results!$A$8:$G$104,2,FALSE)","v":{"$error":"#N/A"}},{"$f":"VLOOKUP(H24,Results!$A$8:$G$104,4,FALSE)","v":{"$error":"#N/A"}},{"$f":"VLOOKUP(H24,Results!$A$8:$G$104,7,FALSE)","v":{"$error":"#N/A"}},{"$f":"VLOOKUP(H24,$B$4:B24,1,FALSE)","v":{"$error":"#N/A"}}]
[null,{"$f":"Results!A28","v":0},{"$f":"Results!C28","v":0},{"$f":"Results!B28","v":0},{"$f":"Results!D28","v":0},{"$f":"Results!G28","v":""},"- vs -",{"$f":"VLOOKUP(B25,Results!$A$8:$AG$104,16,FALSE)","v":{"$error":"#N/A"}},{"$f":"VLOOKUP(H25,Results!A$8:$G$104,3,FALSE)","v":{"$error":"#N/A"}},{"$f":"VLOOKUP(H25,Results!$A$8:$G$104,2,FALSE)","v":{"$error":"#N/A"}},{"$f":"VLOOKUP(H25,Results!$A$8:$G$104,4,FALSE)","v":{"$error":"#N/A"}},{"$f":"VLOOKUP(H25,Results!$A$8:$G$104,7,FALSE)","v":{"$error":"#N/A"}},{"$f":"VLOOKUP(H25,$B$4:B25,1,FALSE)","v":{"$error":"#N/A"}}]
[null,{"$f":"Results!A29","v":0},{"$f":"Results!C29","v":0},{"$f":"Results!B29","v":0},{"$f":"Results!D29","v":0},{"$f":"Results!G29","v":""},"- vs -",{"$f":"VLOOKUP(B26,Results!$A$8:$AG$104,16,FALSE)","v":{"$error":"#N/A"}},{"$f":"VLOOKUP(H26,Results!A$8:$G$104,3,FALSE)","v":{"$error":"#N/A"}},{"$f":"VLOOKUP(H26,Results!$A$8:$G$104,2,FALSE)","v":{"$error":"#N/A"}},{"$f":"VLOOKUP(H26,Results!$A$8:$G$104,4,FALSE)","v":{"$error":"#N/A"}},{"$f":"VLOOKUP(H26,Results!$A$8:$G$104,7,FALSE)","v":{"$error":"#N/A"}},{"$f":"VLOOKUP(H26,$B$4:B26,1,FALSE)","v":{"$error":"#N/A"}}]
[null,{"$f":"Results!A30","v":0},{"$f":"Results!C30","v":0},{"$f":"Results!B30","v":0},{"$f":"Results!D30","v":0},{"$f":"Results!G30","v":""},"- vs -",{"$f":"VLOOKUP(B27,Results!$A$8:$AG$104,16,FALSE)","v":{"$error":"#N/A"}},{"$f":"VLOOKUP(H27,Results!A$8:$G$104,3,FALSE)","v":{"$error":"#N/A"}},{"$f":"VLOOKUP(H27,Results!$A$8:$G$104,2,FALSE)","v":{"$error":"#N/A"}},{"$f":"VLOOKUP(H27,Results!$A$8:$G$104,4,FALSE)","v":{"$error":"#N/A"}},{"$f":"VLOOKUP(H27,Results!$A$8:$G$104,7,FALSE)","v":{"$error":"#N/A"}},{"$f":"VLOOKUP(H27,$B$4:B27,1,FALSE)","v":{"$error":"#N/A"}}]
[null,{"$f":"Results!A31","v":0},{"$f":"Results!C31","v":0},{"$f":"Results!B31","v":0},{"$f":"Results!D31","v":0},{"$f":"Results!G31","v":""},"- vs -",{"$f":"VLOOKUP(B28,Results!$A$8:$AG$104,16,FALSE)","v":{"$error":"#N/A"}},{"$f":"VLOOKUP(H28,Results!A$8:$G$104,3,FALSE)","v":{"$error":"#N/A"}},{"$f":"VLOOKUP(H28,Results!$A$8:$G$104,2,FALSE)","v":{"$error":"#N/A"}},{"$f":"VLOOKUP(H28,Results!$A$8:$G$104,4,FALSE)","v":{"$error":"#N/A"}},{"$f":"VLOOKUP(H28,Results!$A$8:$G$104,7,FALSE)","v":{"$error":"#N/A"}},{"$f":"VLOOKUP(H28,$B$4:B28,1,FALSE)","v":{"$error":"#N/A"}}]
[null,{"$f":"Results!A32","v":0},{"$f":"Results!C32","v":0},{"$f":"Results!B32","v":0},{"$f":"Results!D32","v":0},{"$f":"Results!G32","v":""},"- vs -",{"$f":"VLOOKUP(B29,Results!$A$8:$AG$104,16,FALSE)","v":{"$error":"#N/A"}},{"$f":"VLOOKUP(H29,Results!A$8:$G$104,3,FALSE)","v":{"$error":"#N/A"}},{"$f":"VLOOKUP(H29,Results!$A$8:$G$104,2,FALSE)","v":{"$error":"#N/A"}},{"$f":"VLOOKUP(H29,Results!$A$8:$G$104,4,FALSE)","v":{"$error":"#N/A"}},{"$f":"VLOOKUP(H29,Results!$A$8:$G$104,7,FALSE)","v":{"$error":"#N/A"}},{"$f":"VLOOKUP(H29,$B$4:B29,1,FALSE)","v":{"$error":"#N/A"}}]
[null,{"$f":"Results!A33","v":0},{"$f":"Results!C33","v":0},{"$f":"Results!B33","v":0},{"$f":"Results!D33","v":0},{"$f":"Results!G33","v":""},"- vs -",{"$f":"VLOOKUP(B30,Results!$A$8:$AG$104,16,FALSE)","v":{"$error":"#N/A"}},{"$f":"VLOOKUP(H30,Results!A$8:$G$104,3,FALSE)","v":{"$error":"#N/A"}},{"$f":"VLOOKUP(H30,Results!$A$8:$G$104,2,FALSE)","v":{"$error":"#N/A"}},{"$f":"VLOOKUP(H30,Results!$A$8:$G$104,4,FALSE)","v":{"$error":"#N/A"}},{"$f":"VLOOKUP(H30,Results!$A$8:$G$104,7,FALSE)","v":{"$error":"#N/A"}},{"$f":"VLOOKUP(H30,$B$4:B30,1,FALSE)","v":{"$error":"#N/A"}}]
[null,{"$f":"Results!A34","v":0},{"$f":"Results!C34","v":0},{"$f":"Results!B34","v":0},{"$f":"Results!D34","v":0},{"$f":"Results!G34","v":""},"- vs -",{"$f":"VLOOKUP(B31,Results!$A$8:$AG$104,16,FALSE)","v":{"$error":"#N/A"}},{"$f":"VLOOKUP(H31,Results!A$8:$G$104,3,FALSE)","v":{"$error":"#N/A"}},{"$f":"VLOOKUP(H31,Results!$A$8:$G$104,2,FALSE)","v":{"$error":"#N/A"}},{"$f":"VLOOKUP(H31,Results!$A$8:$G$104,4,FALSE)","v":{"$error":"#N/A"}},{"$f":"VLOOKUP(H31,Results!$A$8:$G$104,7,FALSE)","v":{"$error":"#N/A"}},{"$f":"VLOOKUP(H31,$B$4:B31,1,FALSE)","v":{"$error":"#N/A"}}]
[null,{"$f":"Results!A35","v":0},{"$f":"Results!C35","v":0},{"$f":"Results!B35","v":0},{"$f":"Results!D35","v":0},{"$f":"Results!G35","v":""},"- vs -",{"$f":"VLOOKUP(B32,Results!$A$8:$AG$104,16,FALSE)","v":{"$error":"#N/A"}},{"$f":"VLOOKUP(H32,Results!A$8:$G$104,3,FALSE)","v":{"$error":"#N/A"}},{"$f":"VLOOKUP(H32,Results!$A$8:$G$104,2,FALSE)","v":{"$error":"#N/A"}},{"$f":"VLOOKUP(H32,Results!$A$8:$G$104,4,FALSE)","v":{"$error":"#N/A"}},{"$f":"VLOOKUP(H32,Results!$A$8:$G$104,7,FALSE)","v":{"$error":"#N/A"}},{"$f":"VLOOKUP(H32,$B$4:B32,1,FALSE)","v":{"$error":"#N/A"}}]
[null,{"$f":"Results!A36","v":0},{"$f":"Results!C36","v":0},{"$f":"Results!B36","v":0},{"$f":"Results!D36","v":0},{"$f":"Results!G36","v":""},"- vs -",{"$f":"VLOOKUP(B33,Results!$A$8:$AG$104,16,FALSE)","v":{"$error":"#N/A"}},{"$f":"VLOOKUP(H33,Results!A$8:$G$104,3,FALSE)","v":{"$error":"#N/A"}},{"$f":"VLOOKUP(H33,Results!$A$8:$G$104,2,FALSE)","v":{"$error":"#N/A"}},{"$f":"VLOOKUP(H33,Results!$A$8:$G$104,4,FALSE)","v":{"$error":"#N/A"}},{"$f":"VLOOKUP(H33,Results!$A$8:$G$104,7,FALSE)","v":{"$error":"#N/A"}},{"$f":"VLOOKUP(H33,$B$4:B33,1,FALSE)","v":{"$error":"#N/A"}}]
[null,{"$f":"Results!A37","v":0},{"$f":"Results!C37","v":0},{"$f":"Results!B37","v":0},{"$f":"Results!D37","v":0},{"$f":"Results!G37","v":""},"- vs -",{"$f":"VLOOKUP(B34,Results!$A$8:$AG$104,16,FALSE)","v":{"$error":"#N/A"}},{"$f":"VLOOKUP(H34,Results!A$8:$G$104,3,FALSE)","v":{"$error":"#N/A"}},{"$f":"VLOOKUP(H34,Results!$A$8:$G$104,2,FALSE)","v":{"$error":"#N/A"}},{"$f":"VLOOKUP(H34,Results!$A$8:$G$104,4,FALSE)","v":{"$error":"#N/A"}},{"$f":"VLOOKUP(H34,Results!$A$8:$G$104,7,FALSE)","v":{"$error":"#N/A"}},{"$f":"VLOOKUP(H34,$B$4:B34,1,FALSE)","v":{"$error":"#N/A"}}]
[null,{"$f":"Results!A38","v":0},{"$f":"Results!C38","v":0},{"$f":"Results!B38","v":0},{"$f":"Results!D38","v":0},{"$f":"Results!G38","v":""},"- vs -",{"$f":"VLOOKUP(B35,Results!$A$8:$AG$104,16,FALSE)","v":{"$error":"#N/A"}},{"$f":"VLOOKUP(H35,Results!A$8:$G$104,3,FALSE)","v":{"$error":"#N/A"}},{"$f":"VLOOKUP(H35,Results!$A$8:$G$104,2,FALSE)","v":{"$error":"#N/A"}},{"$f":"VLOOKUP(H35,Results!$A$8:$G$104,4,FALSE)","v":{"$error":"#N/A"}},{"$f":"VLOOKUP(H35,Results!$A$8:$G$104,7,FALSE)","v":{"$error":"#N/A"}},{"$f":"VLOOKUP(H35,$B$4:B35,1,FALSE)","v":{"$error":"#N/A"}}]
[null,{"$f":"Results!A39","v":0},{"$f":"Results!C39","v":0},{"$f":"Results!B39","v":0},{"$f":"Results!D39","v":0},{"$f":"Results!G39","v":""},"- vs -",{"$f":"VLOOKUP(B36,Results!$A$8:$AG$104,16,FALSE)","v":{"$error":"#N/A"}},{"$f":"VLOOKUP(H36,Results!A$8:$G$104,3,FALSE)","v":{"$error":"#N/A"}},{"$f":"VLOOKUP(H36,Results!$A$8:$G$104,2,FALSE)","v":{"$error":"#N/A"}},{"$f":"VLOOKUP(H36,Results!$A$8:$G$104,4,FALSE)","v":{"$error":"#N/A"}},{"$f":"VLOOKUP(H36,Results!$A$8:$G$104,7,FALSE)","v":{"$error":"#N/A"}},{"$f":"VLOOKUP(H36,$B$4:B36,1,FALSE)","v":{"$error":"#N/A"}}]
[null,{"$f":"Results!A40","v":0},{"$f":"Results!C40","v":0},{"$f":"Results!B40","v":0},{"$f":"Results!D40","v":0},{"$f":"Results!G40","v":""},"- vs -",{"$f":"VLOOKUP(B37,Results!$A$8:$AG$104,16,FALSE)","v":{"$error":"#N/A"}},{"$f":"VLOOKUP(H37,Results!A$8:$G$104,3,FALSE)","v":{"$error":"#N/A"}},{"$f":"VLOOKUP(H37,Results!$A$8:$G$104,2,FALSE)","v":{"$error":"#N/A"}},{"$f":"VLOOKUP(H37,Results!$A$8:$G$104,4,FALSE)","v":{"$error":"#N/A"}},{"$f":"VLOOKUP(H37,Results!$A$8:$G$104,7,FALSE)","v":{"$error":"#N/A"}},{"$f":"VLOOKUP(H37,$B$4:B37,1,FALSE)","v":{"$error":"#N/A"}}]
[null,{"$f":"Results!A41","v":0},{"$f":"Results!C41","v":0},{"$f":"Results!B41","v":0},{"$f":"Results!D41","v":0},{"$f":"Results!G41","v":""},"- vs -",{"$f":"VLOOKUP(B38,Results!$A$8:$AG$104,16,FALSE)","v":{"$error":"#N/A"}},{"$f":"VLOOKUP(H38,Results!A$8:$G$104,3,FALSE)","v":{"$error":"#N/A"}},{"$f":"VLOOKUP(H38,Results!$A$8:$G$104,2,FALSE)","v":{"$error":"#N/A"}},{"$f":"VLOOKUP(H38,Results!$A$8:$G$104,4,FALSE)","v":{"$error":"#N/A"}},{"$f":"VLOOKUP(H38,Results!$A$8:$G$104,7,FALSE)","v":{"$error":"#N/A"}},{"$f":"VLOOKUP(H38,$B$4:B38,1,FALSE)","v":{"$error":"#N/A"}}]
[null,{"$f":"Results!A42","v":0},{"$f":"Results!C42","v":0},{"$f":"Results!B42","v":0},{"$f":"Results!D42","v":0},{"$f":"Results!G42","v":""},"- vs -",{"$f":"VLOOKUP(B39,Results!$A$8:$AG$104,16,FALSE)","v":{"$error":"#N/A"}},{"$f":"VLOOKUP(H39,Results!A$8:$G$104,3,FALSE)","v":{"$error":"#N/A"}},{"$f":"VLOOKUP(H39,Results!$A$8:$G$104,2,FALSE)","v":{"$error":"#N/A"}},{"$f":"VLOOKUP(H39,Results!$A$8:$G$104,4,FALSE)","v":{"$error":"#N/A"}},{"$f":"VLOOKUP(H39,Results!$A$8:$G$104,7,FALSE)","v":{"$error":"#N/A"}},{"$f":"VLOOKUP(H39,$B$4:B39,1,FALSE)","v":{"$error":"#N/A"}}]
[null,{"$f":"Results!A43","v":0},{"$f":"Results!C43","v":0},{"$f":"Results!B43","v":0},{"$f":"Results!D43","v":0},{"$f":"Results!G43","v":""},"- vs -",{"$f":"VLOOKUP(B40,Results!$A$8:$AG$104,16,FALSE)","v":{"$error":"#N/A"}},{"$f":"VLOOKUP(H40,Results!A$8:$G$104,3,FALSE)","v":{"$error":"#N/A"}},{"$f":"VLOOKUP(H40,Results!$A$8:$G$104,2,FALSE)","v":{"$error":"#N/A"}},{"$f":"VLOOKUP(H40,Results!$A$8:$G$104,4,FALSE)","v":{"$error":"#N/A"}},{"$f":"VLOOKUP(H40,Results!$A$8:$G$104,7,FALSE)","v":{"$error":"#N/A"}},{"$f":"VLOOKUP(H40,$B$4:B40,1,FALSE)","v":{"$error":"#N/A"}}]
[null,{"$f":"Results!A44","v":0},{"$f":"Results!C44","v":0},{"$f":"Results!B44","v":0},{"$f":"Results!D44","v":0},{"$f":"Results!G44","v":""},"- vs -",{"$f":"VLOOKUP(B41,Results!$A$8:$AG$104,16,FALSE)","v":{"$error":"#N/A"}},{"$f":"VLOOKUP(H41,Results!A$8:$G$104,3,FALSE)","v":{"$error":"#N/A"}},{"$f":"VLOOKUP(H41,Results!$A$8:$G$104,2,FALSE)","v":{"$error":"#N/A"}},{"$f":"VLOOKUP(H41,Results!$A$8:$G$104,4,FALSE)","v":{"$error":"#N/A"}},{"$f":"VLOOKUP(H41,Results!$A$8:$G$104,7,FALSE)","v":{"$error":"#N/A"}},{"$f":"VLOOKUP(H41,$B$4:B41,1,FALSE)","v":{"$error":"#N/A"}}]
[null,{"$f":"Results!A45","v":0},{"$f":"Results!C45","v":0},{"$f":"Results!B45","v":0},{"$f":"Results!D45","v":0},{"$f":"Results!G45","v":""},"- vs -",{"$f":"VLOOKUP(B42,Results!$A$8:$AG$104,16,FALSE)","v":{"$error":"#N/A"}},{"$f":"VLOOKUP(H42,Results!A$8:$G$104,3,FALSE)","v":{"$error":"#N/A"}},{"$f":"VLOOKUP(H42,Results!$A$8:$G$104,2,FALSE)","v":{"$error":"#N/A"}},{"$f":"VLOOKUP(H42,Results!$A$8:$G$104,4,FALSE)","v":{"$error":"#N/A"}},{"$f":"VLOOKUP(H42,Results!$A$8:$G$104,7,FALSE)","v":{"$error":"#N/A"}},{"$f":"VLOOKUP(H42,$B$4:B42,1,FALSE)","v":{"$error":"#N/A"}}]
[null,{"$f":"Results!A46","v":0},{"$f":"Results!C46","v":0},{"$f":"Results!B46","v":0},{"$f":"Results!D46","v":0},{"$f":"Results!G46","v":""},"- vs -",{"$f":"VLOOKUP(B43,Results!$A$8:$AG$104,16,FALSE)","v":{"$error":"#N/A"}},{"$f":"VLOOKUP(H43,Results!A$8:$G$104,3,FALSE)","v":{"$error":"#N/A"}},{"$f":"VLOOKUP(H43,Results!$A$8:$G$104,2,FALSE)","v":{"$error":"#N/A"}},{"$f":"VLOOKUP(H43,Results!$A$8:$G$104,4,FALSE)","v":{"$error":"#N/A"}},{"$f":"VLOOKUP(H43,Results!$A$8:$G$104,7,FALSE)","v":{"$error":"#N/A"}},{"$f":"VLOOKUP(H43,$B$4:B43,1,FALSE)","v":{"$error":"#N/A"}}]
[null,{"$f":"Results!A47","v":0},{"$f":"Results!C47","v":0},{"$f":"Results!B47","v":0},{"$f":"Results!D47","v":0},{"$f":"Results!G47","v":""},"- vs -",{"$f":"VLOOKUP(B44,Results!$A$8:$AG$104,16,FALSE)","v":{"$error":"#N/A"}},{"$f":"VLOOKUP(H44,Results!A$8:$G$104,3,FALSE)","v":{"$error":"#N/A"}},{"$f":"VLOOKUP(H44,Results!$A$8:$G$104,2,FALSE)","v":{"$error":"#N/A"}},{"$f":"VLOOKUP(H44,Results!$A$8:$G$104,4,FALSE)","v":{"$error":"#N/A"}},{"$f":"VLOOKUP(H44,Results!$A$8:$G$104,7,FALSE)","v":{"$error":"#N/A"}},{"$f":"VLOOKUP(H44,$B$4:B44,1,FALSE)","v":{"$error":"#N/A"}}]
[null,{"$f":"Results!A48","v":0},{"$f":"Results!C48","v":0},{"$f":"Results!B48","v":0},{"$f":"Results!D48","v":0},{"$f":"Results!G48","v":""},"- vs -",{"$f":"VLOOKUP(B45,Results!$A$8:$AG$104,16,FALSE)","v":{"$error":"#N/A"}},{"$f":"VLOOKUP(H45,Results!A$8:$G$104,3,FALSE)","v":{"$error":"#N/A"}},{"$f":"VLOOKUP(H45,Results!$A$8:$G$104,2,FALSE)","v":{"$error":"#N/A"}},{"$f":"VLOOKUP(H45,Results!$A$8:$G$104,4,FALSE)","v":{"$error":"#N/A"}},{"$f":"VLOOKUP(H45,Results!$A$8:$G$104,7,FALSE)","v":{"$error":"#N/A"}},{"$f":"VLOOKUP(H45,$B$4:B45,1,FALSE)","v":{"$error":"#N/A"}}]
[null,{"$f":"Results!A49","v":0},{"$f":"Results!C49","v":0},{"$f":"Results!B49","v":0},{"$f":"Results!D49","v":0},{"$f":"Results!G49","v":""},"- vs -",{"$f":"VLOOKUP(B46,Results!$A$8:$AG$104,16,FALSE)","v":{"$error":"#N/A"}},{"$f":"VLOOKUP(H46,Results!A$8:$G$104,3,FALSE)","v":{"$error":"#N/A"}},{"$f":"VLOOKUP(H46,Results!$A$8:$G$104,2,FALSE)","v":{"$error":"#N/A"}},{"$f":"VLOOKUP(H46,Results!$A$8:$G$104,4,FALSE)","v":{"$error":"#N/A"}},{"$f":"VLOOKUP(H46,Results!$A$8:$G$104,7,FALSE)","v":{"$error":"#N/A"}},{"$f":"VLOOKUP(H46,$B$4:B46,1,FALSE)","v":{"$error":"#N/A"}}]
[null,{"$f":"Results!A50","v":0},{"$f":"Results!C50","v":0},{"$f":"Results!B50","v":0},{"$f":"Results!D50","v":0},{"$f":"Results!G50","v":""},"- vs -",{"$f":"VLOOKUP(B47,Results!$A$8:$AG$104,16,FALSE)","v":{"$error":"#N/A"}},{"$f":"VLOOKUP(H47,Results!A$8:$G$104,3,FALSE)","v":{"$error":"#N/A"}},{"$f":"VLOOKUP(H47,Results!$A$8:$G$104,2,FALSE)","v":{"$error":"#N/A"}},{"$f":"VLOOKUP(H47,Results!$A$8:$G$104,4,FALSE)","v":{"$error":"#N/A"}},{"$f":"VLOOKUP(H47,Results!$A$8:$G$104,7,FALSE)","v":{"$error":"#N/A"}},{"$f":"VLOOKUP(H47,$B$4:B47,1,FALSE)","v":{"$error":"#N/A"}}]
[null,{"$f":"Results!A51","v":0},{"$f":"Results!C51","v":0},{"$f":"Results!B51","v":0},{"$f":"Results!D51","v":0},{"$f":"Results!G51","v":""},"- vs -",{"$f":"VLOOKUP(B48,Results!$A$8:$AG$104,16,FALSE)","v":{"$error":"#N/A"}},{"$f":"VLOOKUP(H48,Results!A$8:$G$104,3,FALSE)","v":{"$error":"#N/A"}},{"$f":"VLOOKUP(H48,Results!$A$8:$G$104,2,FALSE)","v":{"$error":"#N/A"}},{"$f":"VLOOKUP(H48,Results!$A$8:$G$104,4,FALSE)","v":{"$error":"#N/A"}},{"$f":"VLOOKUP(H48,Results!$A$8:$G$104,7,FALSE)","v":{"$error":"#N/A"}},{"$f":"VLOOKUP(H48,$B$4:B48,1,FALSE)","v":{"$error":"#N/A"}}]
[null,{"$f":"Results!A52","v":0},{"$f":"Results!C52","v":0},{"$f":"Results!B52","v":0},{"$f":"Results!D52","v":0},{"$f":"Results!G52","v":""},"- vs -",{"$f":"VLOOKUP(B49,Results!$A$8:$AG$104,16,FALSE)","v":{"$error":"#N/A"}},{"$f":"VLOOKUP(H49,Results!A$8:$G$104,3,FALSE)","v":{"$error":"#N/A"}},{"$f":"VLOOKUP(H49,Results!$A$8:$G$104,2,FALSE)","v":{"$error":"#N/A"}},{"$f":"VLOOKUP(H49,Results!$A$8:$G$104,4,FALSE)","v":{"$error":"#N/A"}},{"$f":"VLOOKUP(H49,Results!$A$8:$G$104,7,FALSE)","v":{"$error":"#N/A"}},{"$f":"VLOOKUP(H49,$B$4:B49,1,FALSE)","v":{"$error":"#N/A"}}]
[null,{"$f":"Results!A53","v":0},{"$f":"Results!C53","v":0},{"$f":"Results!B53","v":0},{"$f":"Results!D53","v":0},{"$f":"Results!G53","v":""},"- vs -",{"$f":"VLOOKUP(B50,Results!$A$8:$AG$104,16,FALSE)","v":{"$error":"#N/A"}},{"$f":"VLOOKUP(H50,Results!A$8:$G$104,3,FALSE)","v":{"$error":"#N/A"}},{"$f":"VLOOKUP(H50,Results!$A$8:$G$104,2,FALSE)","v":{"$error":"#N/A"}},{"$f":"VLOOKUP(H50,Results!$A$8:$G$104,4,FALSE)","v":{"$error":"#N/A"}},{"$f":"VLOOKUP(H50,Results!$A$8:$G$104,7,FALSE)","v":{"$error":"#N/A"}},{"$f":"VLOOKUP(H50,$B$4:B50,1,FALSE)","v":{"$error":"#N/A"}}]
[null,{"$f":"Results!A54","v":0},{"$f":"Results!C54","v":0},{"$f":"Results!B54","v":0},{"$f":"Results!D54","v":0},{"$f":"Results!G54","v":""},"- vs -",{"$f":"VLOOKUP(B51,Results!$A$8:$AG$104,16,FALSE)","v":{"$error":"#N/A"}},{"$f":"VLOOKUP(H51,Results!A$8:$G$104,3,FALSE)","v":{"$error":"#N/A"}},{"$f":"VLOOKUP(H51,Results!$A$8:$G$104,2,FALSE)","v":{"$error":"#N/A"}},{"$f":"VLOOKUP(H51,Results!$A$8:$G$104,4,FALSE)","v":{"$error":"#N/A"}},{"$f":"VLOOKUP(H51,Results!$A$8:$G$104,7,FALSE)","v":{"$error":"#N/A"}},{"$f":"VLOOKUP(H51,$B$4:B51,1,FALSE)","v":{"$error":"#N/A"}}]
[null,{"$f":"Results!A55","v":0},{"$f":"Results!C55","v":0},{"$f":"Results!B55","v":0},{"$f":"Results!D55","v":0},{"$f":"Results!G55","v":""},"- vs -",{"$f":"VLOOKUP(B52,Results!$A$8:$AG$104,16,FALSE)","v":{"$error":"#N/A"}},{"$f":"VLOOKUP(H52,Results!A$8:$G$104,3,FALSE)","v":{"$error":"#N/A"}},{"$f":"VLOOKUP(H52,Results!$A$8:$G$104,2,FALSE)","v":{"$error":"#N/A"}},{"$f":"VLOOKUP(H52,Results!$A$8:$G$104,4,FALSE)","v":{"$error":"#N/A"}},{"$f":"VLOOKUP(H52,Results!$A$8:$G$104,7,FALSE)","v":{"$error":"#N/A"}},{"$f":"VLOOKUP(H52,$B$4:B52,1,FALSE)","v":{"$error":"#N/A"}}]
[null,{"$f":"Results!A56","v":0},{"$f":"Results!C56","v":0},{"$f":"Results!B56","v":0},{"$f":"Results!D56","v":0},{"$f":"Results!G56","v":""},"- vs -",{"$f":"VLOOKUP(B53,Results!$A$8:$AG$104,16,FALSE)","v":{"$error":"#N/A"}},{"$f":"VLOOKUP(H53,Results!A$8:$G$104,3,FALSE)","v":{"$error":"#N/A"}},{"$f":"VLOOKUP(H53,Results!$A$8:$G$104,2,FALSE)","v":{"$error":"#N/A"}},{"$f":"VLOOKUP(H53,Results!$A$8:$G$104,4,FALSE)","v":{"$error":"#N/A"}},{"$f":"VLOOKUP(H53,Results!$A$8:$G$104,7,FALSE)","v":{"$error":"#N/A"}},{"$f":"VLOOKUP(H53,$B$4:B53,1,FALSE)","v":{"$error":"#N/A"}}]
[null,{"$f":"Results!A57","v":0},{"$f":"Results!C57","v":0},{"$f":"Results!B57","v":0},{"$f":"Results!D57","v":0},{"$f":"Results!G57","v":""},"- vs -",{"$f":"VLOOKUP(B54,Results!$A$8:$AG$104,16,FALSE)","v":{"$error":"#N/A"}},{"$f":"VLOOKUP(H54,Results!A$8:$G$104,3,FALSE)","v":{"$error":"#N/A"}},{"$f":"VLOOKUP(H54,Results!$A$8:$G$104,2,FALSE)","v":{"$error":"#N/A"}},{"$f":"VLOOKUP(H54,Results!$A$8:$G$104,4,FALSE)","v":{"$error":"#N/A"}},{"$f":"VLOOKUP(H54,Results!$A$8:$G$104,7,FALSE)","v":{"$error":"#N/A"}},{"$f":"VLOOKUP(H54,$B$4:B54,1,FALSE)","v":{"$error":"#N/A"}}]
[null,{"$f":"Results!A58","v":0},{"$f":"Results!C58","v":0},{"$f":"Results!B58","v":0},{"$f":"Results!D58","v":0},{"$f":"Results!G58","v":""},"- vs -",{"$f":"VLOOKUP(B55,Results!$A$8:$AG$104,16,FALSE)","v":{"$error":"#N/A"}},{"$f":"VLOOKUP(H55,Results!A$8:$G$104,3,FALSE)","v":{"$error":"#N/A"}},{"$f":"VLOOKUP(H55,Results!$A$8:$G$104,2,FALSE)","v":{"$error":"#N/A"}},{"$f":"VLOOKUP(H55,Results!$A$8:$G$104,4,FALSE)","v":{"$error":"#N/A"}},{"$f":"VLOOKUP(H55,Results!$A$8:$G$104,7,FALSE)","v":{"$error":"#N/A"}},{"$f":"VLOOKUP(H55,$B$4:B55,1,FALSE)","v":{"$error":"#N/A"}}]
[null,{"$f":"Results!A59","v":0},{"$f":"Results!C59","v":0},{"$f":"Results!B59","v":0},{"$f":"Results!D59","v":0},{"$f":"Results!G59","v":""},"- vs -",{"$f":"VLOOKUP(B56,Results!$A$8:$AG$104,16,FALSE)","v":{"$error":"#N/A"}},{"$f":"VLOOKUP(H56,Results!A$8:$G$104,3,FALSE)","v":{"$error":"#N/A"}},{"$f":"VLOOKUP(H56,Results!$A$8:$G$104,2,FALSE)","v":{"$error":"#N/A"}},{"$f":"VLOOKUP(H56,Results!$A$8:$G$104,4,FALSE)","v":{"$error":"#N/A"}},{"$f":"VLOOKUP(H56,Results!$A$8:$G$104,7,FALSE)","v":{"$error":"#N/A"}},{"$f":"VLOOKUP(H56,$B$4:B56,1,FALSE)","v":{"$error":"#N/A"}}]
[null,{"$f":"Results!A60","v":0},{"$f":"Results!C60","v":0},{"$f":"Results!B60","v":0},{"$f":"Results!D60","v":0},{"$f":"Results!G60","v":""},"- vs -",{"$f":"VLOOKUP(B57,Results!$A$8:$AG$104,16,FALSE)","v":{"$error":"#N/A"}},{"$f":"VLOOKUP(H57,Results!A$8:$G$104,3,FALSE)","v":{"$error":"#N/A"}},{"$f":"VLOOKUP(H57,Results!$A$8:$G$104,2,FALSE)","v":{"$error":"#N/A"}},{"$f":"VLOOKUP(H57,Results!$A$8:$G$104,4,FALSE)","v":{"$error":"#N/A"}},{"$f":"VLOOKUP(H57,Results!$A$8:$G$104,7,FALSE)","v":{"$error":"#N/A"}},{"$f":"VLOOKUP(H57,$B$4:B57,1,FALSE)","v":{"$error":"#N/A"}}]
[null,{"$f":"Results!A61","v":0},{"$f":"Results!C61","v":0},{"$f":"Results!B61","v":0},{"$f":"Results!D61","v":0},{"$f":"Results!G61","v":""},"- vs -",{"$f":"VLOOKUP(B58,Results!$A$8:$AG$104,16,FALSE)","v":{"$error":"#N/A"}},{"$f":"VLOOKUP(H58,Results!A$8:$G$104,3,FALSE)","v":{"$error":"#N/A"}},{"$f":"VLOOKUP(H58,Results!$A$8:$G$104,2,FALSE)","v":{"$error":"#N/A"}},{"$f":"VLOOKUP(H58,Results!$A$8:$G$104,4,FALSE)","v":{"$error":"#N/A"}},{"$f":"VLOOKUP(H58,Results!$A$8:$G$104,7,FALSE)","v":{"$error":"#N/A"}},{"$f":"VLOOKUP(H58,$B$4:B58,1,FALSE)","v":{"$error":"#N/A"}}]
[null,{"$f":"Results!A62","v":0},{"$f":"Results!C62","v":0},{"$f":"Results!B62","v":0},{"$f":"Results!D62","v":0},{"$f":"Results!G62","v":""},"- vs -",{"$f":"VLOOKUP(B59,Results!$A$8:$AG$104,16,FALSE)","v":{"$error":"#N/A"}},{"$f":"VLOOKUP(H59,Results!A$8:$G$104,3,FALSE)","v":{"$error":"#N/A"}},{"$f":"VLOOKUP(H59,Results!$A$8:$G$104,2,FALSE)","v":{"$error":"#N/A"}},{"$f":"VLOOKUP(H59,Results!$A$8:$G$104,4,FALSE)","v":{"$error":"#N/A"}},{"$f":"VLOOKUP(H59,Results!$A$8:$G$104,7,FALSE)","v":{"$error":"#N/A"}},{"$f":"VLOOKUP(H59,$B$4:B59,1,FALSE)","v":{"$error":"#N/A"}}]
[null,{"$f":"Results!A63","v":0},{"$f":"Results!C63","v":0},{"$f":"Results!B63","v":0},{"$f":"Results!D63","v":0},{"$f":"Results!G63","v":""},"- vs -",{"$f":"VLOOKUP(B60,Results!$A$8:$AG$104,16,FALSE)","v":{"$error":"#N/A"}},{"$f":"VLOOKUP(H60,Results!A$8:$G$104,3,FALSE)","v":{"$error":"#N/A"}},{"$f":"VLOOKUP(H60,Results!$A$8:$G$104,2,FALSE)","v":{"$error":"#N/A"}},{"$f":"VLOOKUP(H60,Results!$A$8:$G$104,4,FALSE)","v":{"$error":"#N/A"}},{"$f":"VLOOKUP(H60,Results!$A$8:$G$104,7,FALSE)","v":{"$error":"#N/A"}},{"$f":"VLOOKUP(H60,$B$4:B60,1,FALSE)","v":{"$error":"#N/A"}}]
[null,{"$f":"Results!A64","v":0},{"$f":"Results!C64","v":0},{"$f":"Results!B64","v":0},{"$f":"Results!D64","v":0},{"$f":"Results!G64","v":""},"- vs -",{"$f":"VLOOKUP(B61,Results!$A$8:$AG$104,16,FALSE)","v":{"$error":"#N/A"}},{"$f":"VLOOKUP(H61,Results!A$8:$G$104,3,FALSE)","v":{"$error":"#N/A"}},{"$f":"VLOOKUP(H61,Results!$A$8:$G$104,2,FALSE)","v":{"$error":"#N/A"}},{"$f":"VLOOKUP(H61,Results!$A$8:$G$104,4,FALSE)","v":{"$error":"#N/A"}},{"$f":"VLOOKUP(H61,Results!$A$8:$G$104,7,FALSE)","v":{"$error":"#N/A"}},{"$f":"VLOOKUP(H61,$B$4:B61,1,FALSE)","v":{"$error":"#N/A"}}]
[null,{"$f":"Results!A65","v":0},{"$f":"Results!C65","v":0},{"$f":"Results!B65","v":0},{"$f":"Results!D65","v":0},{"$f":"Results!G65","v":""},"- vs -",{"$f":"VLOOKUP(B62,Results!$A$8:$AG$104,16,FALSE)","v":{"$error":"#N/A"}},{"$f":"VLOOKUP(H62,Results!A$8:$G$104,3,FALSE)","v":{"$error":"#N/A"}},{"$f":"VLOOKUP(H62,Results!$A$8:$G$104,2,FALSE)","v":{"$error":"#N/A"}},{"$f":"VLOOKUP(H62,Results!$A$8:$G$104,4,FALSE)","v":{"$error":"#N/A"}},{"$f":"VLOOKUP(H62,Results!$A$8:$G$104,7,FALSE)","v":{"$error":"#N/A"}},{"$f":"VLOOKUP(H62,$B$4:B62,1,FALSE)","v":{"$error":"#N/A"}}]
[null,{"$f":"Results!A66","v":0},{"$f":"Results!C66","v":0},{"$f":"Results!B66","v":0},{"$f":"Results!D66","v":0},{"$f":"Results!G66","v":""},"- vs -",{"$f":"VLOOKUP(B63,Results!$A$8:$AG$104,16,FALSE)","v":{"$error":"#N/A"}},{"$f":"VLOOKUP(H63,Results!A$8:$G$104,3,FALSE)","v":{"$error":"#N/A"}},{"$f":"VLOOKUP(H63,Results!$A$8:$G$104,2,FALSE)","v":{"$error":"#N/A"}},{"$f":"VLOOKUP(H63,Results!$A$8:$G$104,4,FALSE)","v":{"$error":"#N/A"}},{"$f":"VLOOKUP(H63,Results!$A$8:$G$104,7,FALSE)","v":{"$error":"#N/A"}},{"$f":"VLOOKUP(H63,$B$4:B63,1,FALSE)","v":{"$error":"#N/A"}}]
[null,{"$f":"Results!A67","v":0},{"$f":"Results!C67","v":0},{"$f":"Results!B67","v":0},{"$f":"Results!D67","v":0},{"$f":"Results!G67","v":""},"- vs -",{"$f":"VLOOKUP(B64,Results!$A$8:$AG$104,16,FALSE)","v":{"$error":"#N/A"}},{"$f":"VLOOKUP(H64,Results!A$8:$G$104,3,FALSE)","v":{"$error":"#N/A"}},{"$f":"VLOOKUP(H64,Results!$A$8:$G$104,2,FALSE)","v":{"$error":"#N/A"}},{"$f":"VLOOKUP(H64,Results!$A$8:$G$104,4,FALSE)","v":{"$error":"#N/A"}},{"$f":"VLOOKUP(H64,Results!$A$8:$G$104,7,FALSE)","v":{"$error":"#N/A"}}]
[null,{"$f":"Results!A68","v":0},{"$f":"Results!C68","v":0},{"$f":"Results!B68","v":0},{"$f":"Results!D68","v":0},{"$f":"Results!G68","v":""},"- vs -",{"$f":"VLOOKUP(B65,Results!$A$8:$AG$104,16,FALSE)","v":{"$error":"#N/A"}},{"$f":"VLOOKUP(H65,Results!A$8:$G$104,3,FALSE)","v":{"$error":"#N/A"}},{"$f":"VLOOKUP(H65,Results!$A$8:$G$104,2,FALSE)","v":{"$error":"#N/A"}},{"$f":"VLOOKUP(H65,Results!$A$8:$G$104,4,FALSE)","v":{"$error":"#N/A"}},{"$f":"VLOOKUP(H65,Results!$A$8:$G$104,7,FALSE)","v":{"$error":"#N/A"}}]
[null,{"$f":"Results!A69","v":0},{"$f":"Results!C69","v":0},{"$f":"Results!B69","v":0},{"$f":"Results!D69","v":0},{"$f":"Results!G69","v":""},"- vs -",{"$f":"VLOOKUP(B66,Results!$A$8:$AG$104,16,FALSE)","v":{"$error":"#N/A"}},{"$f":"VLOOKUP(H66,Results!A$8:$G$104,3,FALSE)","v":{"$error":"#N/A"}},{"$f":"VLOOKUP(H66,Results!$A$8:$G$104,2,FALSE)","v":{"$error":"#N/A"}},{"$f":"VLOOKUP(H66,Results!$A$8:$G$104,4,FALSE)","v":{"$error":"#N/A"}},{"$f":"VLOOKUP(H66,Results!$A$8:$G$104,7,FALSE)","v":{"$error":"#N/A"}}]
[null,{"$f":"Results!A70","v":0},{"$f":"Results!C70","v":0},{"$f":"Results!B70","v":0},{"$f":"Results!D70","v":0},{"$f":"Results!G70","v":""},"- vs -",{"$f":"VLOOKUP(B67,Results!$A$8:$AG$104,16,FALSE)","v":{"$error":"#N/A"}},{"$f":"VLOOKUP(H67,Results!A$8:$G$104,3,FALSE)","v":{"$error":"#N/A"}},{"$f":"VLOOKUP(H67,Results!$A$8:$G$104,2,FALSE)","v":{"$error":"#N/A"}},{"$f":"VLOOKUP(H67,Results!$A$8:$G$104,4,FALSE)","v":{"$error":"#N/A"}},{"$f":"VLOOKUP(H67,Results!$A$8:$G$104,7,FALSE)","v":{"$error":"#N/A"}}]
[null,{"$f":"Results!A71","v":0},{"$f":"Results!C71","v":0},{"$f":"Results!B71","v":0},{"$f":"Results!D71","v":0},{"$f":"Results!G71","v":""},"- vs -",{"$f":"VLOOKUP(B68,Results!$A$8:$AG$104,16,FALSE)","v":{"$error":"#N/A"}},{"$f":"VLOOKUP(H68,Results!A$8:$G$104,3,FALSE)","v":{"$error":"#N/A"}},{"$f":"VLOOKUP(H68,Results!$A$8:$G$104,2,FALSE)","v":{"$error":"#N/A"}},{"$f":"VLOOKUP(H68,Results!$A$8:$G$104,4,FALSE)","v":{"$error":"#N/A"}},{"$f":"VLOOKUP(H68,Results!$A$8:$G$104,7,FALSE)","v":{"$error":"#N/A"}}]
[null,{"$f":"Results!A72","v":0},{"$f":"Results!C72","v":0},{"$f":"Results!B72","v":0},{"$f":"Results!D72","v":0},{"$f":"Results!G72","v":""},"- vs -",{"$f":"VLOOKUP(B69,Results!$A$8:$AG$104,16,FALSE)","v":{"$error":"#N/A"}},{"$f":"VLOOKUP(H69,Results!A$8:$G$104,3,FALSE)","v":{"$error":"#N/A"}},{"$f":"VLOOKUP(H69,Results!$A$8:$G$104,2,FALSE)","v":{"$error":"#N/A"}},{"$f":"VLOOKUP(H69,Results!$A$8:$G$104,4,FALSE)","v":{"$error":"#N/A"}},{"$f":"VLOOKUP(H69,Results!$A$8:$G$104,7,FALSE)","v":{"$error":"#N/A"}}]
[null,{"$f":"Results!A73","v":0},{"$f":"Results!C73","v":0},{"$f":"Results!B73","v":0},{"$f":"Results!D73","v":0},{"$f":"Results!G73","v":""},"- vs -",{"$f":"VLOOKUP(B70,Results!$A$8:$AG$104,16,FALSE)","v":{"$error":"#N/A"}},{"$f":"VLOOKUP(H70,Results!A$8:$G$104,3,FALSE)","v":{"$error":"#N/A"}},{"$f":"VLOOKUP(H70,Results!$A$8:$G$104,2,FALSE)","v":{"$error":"#N/A"}},{"$f":"VLOOKUP(H70,Results!$A$8:$G$104,4,FALSE)","v":{"$error":"#N/A"}},{"$f":"VLOOKUP(H70,Results!$A$8:$G$104,7,FALSE)","v":{"$error":"#N/A"}}]
[null,{"$f":"Results!A74","v":0},{"$f":"Results!C74","v":0},{"$f":"Results!B74","v":0},{"$f":"Results!D74","v":0},{"$f":"Results!G74","v":""},"- vs -",{"$f":"VLOOKUP(B71,Results!$A$8:$AG$104,16,FALSE)","v":{"$error":"#N/A"}},{"$f":"VLOOKUP(H71,Results!A$8:$G$104,3,FALSE)","v":{"$error":"#N/A"}},{"$f":"VLOOKUP(H71,Results!$A$8:$G$104,2,FALSE)","v":{"$error":"#N/A"}},{"$f":"VLOOKUP(H71,Results!$A$8:$G$104,4,FALSE)","v":{"$error":"#N/A"}},{"$f":"VLOOKUP(H71,Results!$A$8:$G$104,7,FALSE)","v":{"$error":"#N/A"}}]
[null,{"$f":"Results!A75","v":0},{"$f":"Results!C75","v":0},{"$f":"Results!B75","v":0},{"$f":"Results!D75","v":0},{"$f":"Results!G75","v":""},"- vs -",{"$f":"VLOOKUP(B72,Results!$A$8:$AG$104,16,FALSE)","v":{"$error":"#N/A"}},{"$f":"VLOOKUP(H72,Results!A$8:$G$104,3,FALSE)","v":{"$error":"#N/A"}},{"$f":"VLOOKUP(H72,Results!$A$8:$G$104,2,FALSE)","v":{"$error":"#N/A"}},{"$f":"VLOOKUP(H72,Results!$A$8:$G$104,4,FALSE)","v":{"$error":"#N/A"}},{"$f":"VLOOKUP(H72,Results!$A$8:$G$104,7,FALSE)","v":{"$error":"#N/A"}}]
[null,{"$f":"Results!A76","v":0},{"$f":"Results!C76","v":0},{"$f":"Results!B76","v":0},{"$f":"Results!D76","v":0},{"$f":"Results!G76","v":""},"- vs -",{"$f":"VLOOKUP(B73,Results!$A$8:$AG$104,16,FALSE)","v":{"$error":"#N/A"}},{"$f":"VLOOKUP(H73,Results!A$8:$G$104,3,FALSE)","v":{"$error":"#N/A"}},{"$f":"VLOOKUP(H73,Results!$A$8:$G$104,2,FALSE)","v":{"$error":"#N/A"}},{"$f":"VLOOKUP(H73,Results!$A$8:$G$104,4,FALSE)","v":{"$error":"#N/A"}},{"$f":"VLOOKUP(H73,Results!$A$8:$G$104,7,FALSE)","v":{"$error":"#N/A"}}]
[null,{"$f":"Results!A77","v":0},{"$f":"Results!C77","v":0},{"$f":"Results!B77","v":0},{"$f":"Results!D77","v":0},{"$f":"Results!G77","v":""},"- vs -",{"$f":"VLOOKUP(B74,Results!$A$8:$AG$104,16,FALSE)","v":{"$error":"#N/A"}},{"$f":"VLOOKUP(H74,Results!A$8:$G$104,3,FALSE)","v":{"$error":"#N/A"}},{"$f":"VLOOKUP(H74,Results!$A$8:$G$104,2,FALSE)","v":{"$error":"#N/A"}},{"$f":"VLOOKUP(H74,Results!$A$8:$G$104,4,FALSE)","v":{"$error":"#N/A"}},{"$f":"VLOOKUP(H74,Results!$A$8:$G$104,7,FALSE)","v":{"$error":"#N/A"}}]
[null,{"$f":"Results!A78","v":0},{"$f":"Results!C78","v":0},{"$f":"Results!B78","v":0},{"$f":"Results!D78","v":0},{"$f":"Results!G78","v":""},"- vs -",{"$f":"VLOOKUP(B75,Results!$A$8:$AG$104,16,FALSE)","v":{"$error":"#N/A"}},{"$f":"VLOOKUP(H75,Results!A$8:$G$104,3,FALSE)","v":{"$error":"#N/A"}},{"$f":"VLOOKUP(H75,Results!$A$8:$G$104,2,FALSE)","v":{"$error":"#N/A"}},{"$f":"VLOOKUP(H75,Results!$A$8:$G$104,4,FALSE)","v":{"$error":"#N/A"}},{"$f":"VLOOKUP(H75,Results!$A$8:$G$104,7,FALSE)","v":{"$error":"#N/A"}}]
[null,{"$f":"Results!A79","v":0},{"$f":"Results!C79","v":0},{"$f":"Results!B79","v":0},{"$f":"Results!D79","v":0},{"$f":"Results!G79","v":""},"- vs -",{"$f":"VLOOKUP(B76,Results!$A$8:$AG$104,16,FALSE)","v":{"$error":"#N/A"}},{"$f":"VLOOKUP(H76,Results!A$8:$G$104,3,FALSE)","v":{"$error":"#N/A"}},{"$f":"VLOOKUP(H76,Results!$A$8:$G$104,2,FALSE)","v":{"$error":"#N/A"}},{"$f":"VLOOKUP(H76,Results!$A$8:$G$104,4,FALSE)","v":{"$error":"#N/A"}},{"$f":"VLOOKUP(H76,Results!$A$8:$G$104,7,FALSE)","v":{"$error":"#N/A"}}]
[null,{"$f":"Results!A80","v":0},{"$f":"Results!C80","v":0},{"$f":"Results!B80","v":0},{"$f":"Results!D80","v":0},{"$f":"Results!G80","v":""},"- vs -",{"$f":"VLOOKUP(B77,Results!$A$8:$AG$104,16,FALSE)","v":{"$error":"#N/A"}},{"$f":"VLOOKUP(H77,Results!A$8:$G$104,3,FALSE)","v":{"$error":"#N/A"}},{"$f":"VLOOKUP(H77,Results!$A$8:$G$104,2,FALSE)","v":{"$error":"#N/A"}},{"$f":"VLOOKUP(H77,Results!$A$8:$G$104,4,FALSE)","v":{"$error":"#N/A"}},{"$f":"VLOOKUP(H77,Results!$A$8:$G$104,7,FALSE)","v":{"$error":"#N/A"}}]
[null,{"$f":"Results!A81","v":0},{"$f":"Results!C81","v":0},{"$f":"Results!B81","v":0},{"$f":"Results!D81","v":0},{"$f":"Results!G81","v":""},"- vs -",{"$f":"VLOOKUP(B78,Results!$A$8:$AG$104,16,FALSE)","v":{"$error":"#N/A"}},{"$f":"VLOOKUP(H78,Results!A$8:$G$104,3,FALSE)","v":{"$error":"#N/A"}},{"$f":"VLOOKUP(H78,Results!$A$8:$G$104,2,FALSE)","v":{"$error":"#N/A"}},{"$f":"VLOOKUP(H78,Results!$A$8:$G$104,4,FALSE)","v":{"$error":"#N/A"}},{"$f":"VLOOKUP(H78,Results!$A$8:$G$104,7,FALSE)","v":{"$error":"#N/A"}}]
[null,{"$f":"Results!A82","v":0},{"$f":"Results!C82","v":0},{"$f":"Results!B82","v":0},{"$f":"Results!D82","v":0},{"$f":"Results!G82","v":""},"- vs -",{"$f":"VLOOKUP(B79,Results!$A$8:$AG$104,16,FALSE)","v":{"$error":"#N/A"}},{"$f":"VLOOKUP(H79,Results!A$8:$G$104,3,FALSE)","v":{"$error":"#N/A"}},{"$f":"VLOOKUP(H79,Results!$A$8:$G$104,2,FALSE)","v":{"$error":"#N/A"}},{"$f":"VLOOKUP(H79,Results!$A$8:$G$104,4,FALSE)","v":{"$error":"#N/A"}},{"$f":"VLOOKUP(H79,Results!$A$8:$G$104,7,FALSE)","v":{"$error":"#N/A"}}]
[null,{"$f":"Results!A83","v":0},{"$f":"Results!C83","v":0},{"$f":"Results!B83","v":0},{"$f":"Results!D83","v":0},{"$f":"Results!G83","v":""},"- vs -",{"$f":"VLOOKUP(B80,Results!$A$8:$AG$104,16,FALSE)","v":{"$error":"#N/A"}},{"$f":"VLOOKUP(H80,Results!A$8:$G$104,3,FALSE)","v":{"$error":"#N/A"}},{"$f":"VLOOKUP(H80,Results!$A$8:$G$104,2,FALSE)","v":{"$error":"#N/A"}},{"$f":"VLOOKUP(H80,Results!$A$8:$G$104,4,FALSE)","v":{"$error":"#N/A"}},{"$f":"VLOOKUP(H80,Results!$A$8:$G$104,7,FALSE)","v":{"$error":"#N/A"}}]
[null,{"$f":"Results!A84","v":0},{"$f":"Results!C84","v":0},{"$f":"Results!B84","v":0},{"$f":"Results!D84","v":0},{"$f":"Results!G84","v":""},"- vs -",{"$f":"VLOOKUP(B81,Results!$A$8:$AG$104,16,FALSE)","v":{"$error":"#N/A"}},{"$f":"VLOOKUP(H81,Results!A$8:$G$104,3,FALSE)","v":{"$error":"#N/A"}},{"$f":"VLOOKUP(H81,Results!$A$8:$G$104,2,FALSE)","v":{"$error":"#N/A"}},{"$f":"VLOOKUP(H81,Results!$A$8:$G$104,4,FALSE)","v":{"$error":"#N/A"}},{"$f":"VLOOKUP(H81,Results!$A$8:$G$104,7,FALSE)","v":{"$error":"#N/A"}}]
[null,{"$f":"Results!A85","v":0},{"$f":"Results!C85","v":0},{"$f":"Results!B85","v":0},{"$f":"Results!D85","v":0},{"$f":"Results!G85","v":""},"- vs -",{"$f":"VLOOKUP(B82,Results!$A$8:$AG$104,16,FALSE)","v":{"$error":"#N/A"}},{"$f":"VLOOKUP(H82,Results!A$8:$G$104,3,FALSE)","v":{"$error":"#N/A"}},{"$f":"VLOOKUP(H82,Results!$A$8:$G$104,2,FALSE)","v":{"$error":"#N/A"}},{"$f":"VLOOKUP(H82,Results!$A$8:$G$104,4,FALSE)","v":{"$error":"#N/A"}},{"$f":"VLOOKUP(H82,Results!$A$8:$G$104,7,FALSE)","v":{"$error":"#N/A"}}]
[null,{"$f":"Results!A86","v":0},{"$f":"Results!C86","v":0},{"$f":"Results!B86","v":0},{"$f":"Results!D86","v":0},{"$f":"Results!G86","v":""},"- vs -",{"$f":"VLOOKUP(B83,Results!$A$8:$AG$104,16,FALSE)","v":{"$error":"#N/A"}},{"$f":"VLOOKUP(H83,Results!A$8:$G$104,3,FALSE)","v":{"$error":"#N/A"}},{"$f":"VLOOKUP(H83,Results!$A$8:$G$104,2,FALSE)","v":{"$error":"#N/A"}},{"$f":"VLOOKUP(H83,Results!$A$8:$G$104,4,FALSE)","v":{"$error":"#N/A"}},{"$f":"VLOOKUP(H83,Results!$A$8:$G$104,7,FALSE)","v":{"$error":"#N/A"}}]
[null,{"$f":"Results!A87","v":0},{"$f":"Results!C87","v":0},{"$f":"Results!B87","v":0},{"$f":"Results!D87","v":0},{"$f":"Results!G87","v":""},"- vs -",{"$f":"VLOOKUP(B84,Results!$A$8:$AG$104,16,FALSE)","v":{"$error":"#N/A"}},{"$f":"VLOOKUP(H84,Results!A$8:$G$104,3,FALSE)","v":{"$error":"#N/A"}},{"$f":"VLOOKUP(H84,Results!$A$8:$G$104,2,FALSE)","v":{"$error":"#N/A"}},{"$f":"VLOOKUP(H84,Results!$A$8:$G$104,4,FALSE)","v":{"$error":"#N/A"}},{"$f":"VLOOKUP(H84,Results!$A$8:$G$104,7,FALSE)","v":{"$error":"#N/A"}}]
[null,{"$f":"Results!A88","v":0},{"$f":"Results!C88","v":0},{"$f":"Results!B88","v":0},{"$f":"Results!D88","v":0},{"$f":"Results!G88","v":""},"- vs -",{"$f":"VLOOKUP(B85,Results!$A$8:$AG$104,16,FALSE)","v":{"$error":"#N/A"}},{"$f":"VLOOKUP(H85,Results!A$8:$G$104,3,FALSE)","v":{"$error":"#N/A"}},{"$f":"VLOOKUP(H85,Results!$A$8:$G$104,2,FALSE)","v":{"$error":"#N/A"}},{"$f":"VLOOKUP(H85,Results!$A$8:$G$104,4,FALSE)","v":{"$error":"#N/A"}},{"$f":"VLOOKUP(H85,Results!$A$8:$G$104,7,FALSE)","v":{"$error":"#N/A"}}]
[null,{"$f":"Results!A89","v":0},{"$f":"Results!C89","v":0},{"$f":"Results!B89","v":0},{"$f":"Results!D89","v":0},{"$f":"Results!G89","v":""},"- vs -",{"$f":"VLOOKUP(B86,Results!$A$8:$AG$104,16,FALSE)","v":{"$error":"#N/A"}},{"$f":"VLOOKUP(H86,Results!A$8:$G$104,3,FALSE)","v":{"$error":"#N/A"}},{"$f":"VLOOKUP(H86,Results!$A$8:$G$104,2,FALSE)","v":{"$error":"#N/A"}},{"$f":"VLOOKUP(H86,Results!$A$8:$G$104,4,FALSE)","v":{"$error":"#N/A"}},{"$f":"VLOOKUP(H86,Results!$A$8:$G$104,7,FALSE)","v":{"$error":"#N/A"}}]
[null,{"$f":"Results!A90","v":0},{"$f":"Results!C90","v":0},{"$f":"Results!B90","v":0},{"$f":"Results!D90","v":0},{"$f":"Results!G90","v":""},"- vs -",{"$f":"VLOOKUP(B87,Results!$A$8:$AG$104,16,FALSE)","v":{"$error":"#N/A"}},{"$f":"VLOOKUP(H87,Results!A$8:$G$104,3,FALSE)","v":{"$error":"#N/A"}},{"$f":"VLOOKUP(H87,Results!$A$8:$G$104,2,FALSE)","v":{"$error":"#N/A"}},{"$f":"VLOOKUP(H87,Results!$A$8:$G$104,4,FALSE)","v":{"$error":"#N/A"}},{"$f":"VLOOKUP(H87,Results!$A$8:$G$104,7,FALSE)","v":{"$error":"#N/A"}}]
[null,{"$f":"Results!A91","v":0},{"$f":"Results!C91","v":0},{"$f":"Results!B91","v":0},{"$f":"Results!D91","v":0},{"$f":"Results!G91","v":""},"- vs -",{"$f":"VLOOKUP(B88,Results!$A$8:$AG$104,16,FALSE)","v":{"$error":"#N/A"}},{"$f":"VLOOKUP(H88,Results!A$8:$G$104,3,FALSE)","v":{"$error":"#N/A"}},{"$f":"VLOOKUP(H88,Results!$A$8:$G$104,2,FALSE)","v":{"$error":"#N/A"}},{"$f":"VLOOKUP(H88,Results!$A$8:$G$104,4,FALSE)","v":{"$error":"#N/A"}},{"$f":"VLOOKUP(H88,Results!$A$8:$G$104,7,FALSE)","v":{"$error":"#N/A"}}]
[null,{"$f":"Results!A92","v":0},{"$f":"Results!C92","v":0},{"$f":"Results!B92","v":0},{"$f":"Results!D92","v":0},{"$f":"Results!G92","v":""},"- vs -",{"$f":"VLOOKUP(B89,Results!$A$8:$AG$104,16,FALSE)","v":{"$error":"#N/A"}},{"$f":"VLOOKUP(H89,Results!A$8:$G$104,3,FALSE)","v":{"$error":"#N/A"}},{"$f":"VLOOKUP(H89,Results!$A$8:$G$104,2,FALSE)","v":{"$error":"#N/A"}},{"$f":"VLOOKUP(H89,Results!$A$8:$G$104,4,FALSE)","v":{"$error":"#N/A"}},{"$f":"VLOOKUP(H89,Results!$A$8:$G$104,7,FALSE)","v":{"$error":"#N/A"}}]
[null,{"$f":"Results!A93","v":0},{"$f":"Results!C93","v":0},{"$f":"Results!B93","v":0},{"$f":"Results!D93","v":0},{"$f":"Results!G93","v":""},"- vs -",{"$f":"VLOOKUP(B90,Results!$A$8:$AG$104,16,FALSE)","v":{"$error":"#N/A"}},{"$f":"VLOOKUP(H90,Results!A$8:$G$104,3,FALSE)","v":{"$error":"#N/A"}},{"$f":"VLOOKUP(H90,Results!$A$8:$G$104,2,FALSE)","v":{"$error":"#N/A"}},{"$f":"VLOOKUP(H90,Results!$A$8:$G$104,4,FALSE)","v":{"$error":"#N/A"}},{"$f":"VLOOKUP(H90,Results!$A$8:$G$104,7,FALSE)","v":{"$error":"#N/A"}}]
[null,{"$f":"Results!A94","v":0},{"$f":"Results!C94","v":0},{"$f":"Results!B94","v":0},{"$f":"Results!D94","v":0},{"$f":"Results!G94","v":""},"- vs -",{"$f":"VLOOKUP(B91,Results!$A$8:$AG$104,16,FALSE)","v":{"$error":"#N/A"}},{"$f":"VLOOKUP(H91,Results!A$8:$G$104,3,FALSE)","v":{"$error":"#N/A"}},{"$f":"VLOOKUP(H91,Results!$A$8:$G$104,2,FALSE)","v":{"$error":"#N/A"}},{"$f":"VLOOKUP(H91,Results!$A$8:$G$104,4,FALSE)","v":{"$error":"#N/A"}},{"$f":"VLOOKUP(H91,Results!$A$8:$G$104,7,FALSE)","v":{"$error":"#N/A"}}]
[null,{"$f":"Results!A95","v":0},{"$f":"Results!C95","v":0},{"$f":"Results!B95","v":0},{"$f":"Results!D95","v":0},{"$f":"Results!G95","v":""},"- vs -",{"$f":"VLOOKUP(B92,Results!$A$8:$AG$104,16,FALSE)","v":{"$error":"#N/A"}},{"$f":"VLOOKUP(H92,Results!A$8:$G$104,3,FALSE)","v":{"$error":"#N/A"}},{"$f":"VLOOKUP(H92,Results!$A$8:$G$104,2,FALSE)","v":{"$error":"#N/A"}},{"$f":"VLOOKUP(H92,Results!$A$8:$G$104,4,FALSE)","v":{"$error":"#N/A"}},{"$f":"VLOOKUP(H92,Results!$A$8:$G$104,7,FALSE)","v":{"$error":"#N/A"}}]
[null,{"$f":"Results!A96","v":0},{"$f":"Results!C96","v":0},{"$f":"Results!B96","v":0},{"$f":"Results!D96","v":0},{"$f":"Results!G96","v":""},"- vs -",{"$f":"VLOOKUP(B93,Results!$A$8:$AG$104,16,FALSE)","v":{"$error":"#N/A"}},{"$f":"VLOOKUP(H93,Results!A$8:$G$104,3,FALSE)","v":{"$error":"#N/A"}},{"$f":"VLOOKUP(H93,Results!$A$8:$G$104,2,FALSE)","v":{"$error":"#N/A"}},{"$f":"VLOOKUP(H93,Results!$A$8:$G$104,4,FALSE)","v":{"$error":"#N/A"}},{"$f":"VLOOKUP(H93,Results!$A$8:$G$104,7,FALSE)","v":{"$error":"#N/A"}}]
[null,{"$f":"Results!A97","v":0},{"$f":"Results!C97","v":0},{"$f":"Results!B97","v":0},{"$f":"Results!D97","v":0},{"$f":"Results!G97","v":""},"- vs -",{"$f":"VLOOKUP(B94,Results!$A$8:$AG$104,16,FALSE)","v":{"$error":"#N/A"}},{"$f":"VLOOKUP(H94,Results!A$8:$G$104,3,FALSE)","v":{"$error":"#N/A"}},{"$f":"VLOOKUP(H94,Results!$A$8:$G$104,2,FALSE)","v":{"$error":"#N/A"}},{"$f":"VLOOKUP(H94,Results!$A$8:$G$104,4,FALSE)","v":{"$error":"#N/A"}},{"$f":"VLOOKUP(H94,Results!$A$8:$G$104,7,FALSE)","v":{"$error":"#N/A"}}]
[null,{"$f":"Results!A98","v":0},{"$f":"Results!C98","v":0},{"$f":"Results!B98","v":0},{"$f":"Results!D98","v":0},{"$f":"Results!G98","v":""},"- vs -",{"$f":"VLOOKUP(B95,Results!$A$8:$AG$104,16,FALSE)","v":{"$error":"#N/A"}},{"$f":"VLOOKUP(H95,Results!A$8:$G$104,3,FALSE)","v":{"$error":"#N/A"}},{"$f":"VLOOKUP(H95,Results!$A$8:$G$104,2,FALSE)","v":{"$error":"#N/A"}},{"$f":"VLOOKUP(H95,Results!$A$8:$G$104,4,FALSE)","v":{"$error":"#N/A"}},{"$f":"VLOOKUP(H95,Results!$A$8:$G$104,7,FALSE)","v":{"$error":"#N/A"}}]
[null,{"$f":"Results!A99","v":0},{"$f":"Results!C99","v":0},{"$f":"Results!B99","v":0},{"$f":"Results!D99","v":0},{"$f":"Results!G99","v":""},"- vs -",{"$f":"VLOOKUP(B96,Results!$A$8:$AG$104,16,FALSE)","v":{"$error":"#N/A"}},{"$f":"VLOOKUP(H96,Results!A$8:$G$104,3,FALSE)","v":{"$error":"#N/A"}},{"$f":"VLOOKUP(H96,Results!$A$8:$G$104,2,FALSE)","v":{"$error":"#N/A"}},{"$f":"VLOOKUP(H96,Results!$A$8:$G$104,4,FALSE)","v":{"$error":"#N/A"}},{"$f":"VLOOKUP(H96,Results!$A$8:$G$104,7,FALSE)","v":{"$error":"#N/A"}}]
[null,{"$f":"Results!A100","v":0},{"$f":"Results!C100","v":0},{"$f":"Results!B100","v":0},{"$f":"Results!D100","v":0},{"$f":"Results!G100","v":""},"- vs -",{"$f":"VLOOKUP(B97,Results!$A$8:$AG$104,16,FALSE)","v":{"$error":"#N/A"}},{"$f":"VLOOKUP(H97,Results!A$8:$G$104,3,FALSE)","v":{"$error":"#N/A"}},{"$f":"VLOOKUP(H97,Results!$A$8:$G$104,2,FALSE)","v":{"$error":"#N/A"}},{"$f":"VLOOKUP(H97,Results!$A$8:$G$104,4,FALSE)","v":{"$error":"#N/A"}},{"$f":"VLOOKUP(H97,Results!$A$8:$G$104,7,FALSE)","v":{"$error":"#N/A"}}]
[null,{"$f":"Results!A101","v":0},{"$f":"Results!C101","v":0},{"$f":"Results!B101","v":0},{"$f":"Results!D101","v":0},{"$f":"Results!G101","v":""},"- vs -",{"$f":"VLOOKUP(B98,Results!$A$8:$AG$104,16,FALSE)","v":{"$error":"#N/A"}},{"$f":"VLOOKUP(H98,Results!A$8:$G$104,3,FALSE)","v":{"$error":"#N/A"}},{"$f":"VLOOKUP(H98,Results!$A$8:$G$104,2,FALSE)","v":{"$error":"#N/A"}},{"$f":"VLOOKUP(H98,Results!$A$8:$G$104,4,FALSE)","v":{"$error":"#N/A"}},{"$f":"VLOOKUP(H98,Results!$A$8:$G$104,7,FALSE)","v":{"$error":"#N/A"}}]
[null,{"$f":"Results!A102","v":0},{"$f":"Results!C102","v":0},{"$f":"Results!B102","v":0},{"$f":"Results!D102","v":0},{"$f":"Results!G102","v":""},"- vs -",{"$f":"VLOOKUP(B99,Results!$A$8:$AG$104,16,FALSE)","v":{"$error":"#N/A"}},{"$f":"VLOOKUP(H99,Results!A$8:$G$104,3,FALSE)","v":{"$error":"#N/A"}},{"$f":"VLOOKUP(H99,Results!$A$8:$G$104,2,FALSE)","v":{"$error":"#N/A"}},{"$f":"VLOOKUP(H99,Results!$A$8:$G$104,4,FALSE)","v":{"$error":"#N/A"}},{"$f":"VLOOKUP(H99,Results!$A$8:$G$104,7,FALSE)","v":{"$error":"#N/A"}}]
[null,{"$f":"Results!A103","v":0},{"$f":"Results!C103","v":0},{"$f":"Results!B103","v":0},{"$f":"Results!D103","v":0},{"$f":"Results!G103","v":""},"- vs -",{"$f":"VLOOKUP(B100,Results!$A$8:$AG$104,16,FALSE)","v":{"$error":"#N/A"}},{"$f":"VLOOKUP(H100,Results!A$8:$G$104,3,FALSE)","v":{"$error":"#N/A"}},{"$f":"VLOOKUP(H100,Results!$A$8:$G$104,2,FALSE)","v":{"$error":"#N/A"}},{"$f":"VLOOKUP(H100,Results!$A$8:$G$104,4,FALSE)","v":{"$error":"#N/A"}},{"$f":"VLOOKUP(H100,Results!$A$8:$G$104,7,FALSE)","v":{"$error":"#N/A"}}]
[null,{"$f":"Results!A104","v":0},{"$f":"Results!C104","v":0},{"$f":"Results!B104","v":0},{"$f":"Results!D104","v":0},{"$f":"Results!G104","v":""},"- vs -",{"$f":"VLOOKUP(B101,Results!$A$8:$AG$104,16,FALSE)","v":{"$error":"#N/A"}},{"$f":"VLOOKUP(H101,Results!A$8:$G$104,3,FALSE)","v":{"$error":"#N/A"}},{"$f":"VLOOKUP(H101,Results!$A$8:$G$104,2,FALSE)","v":{"$error":"#N/A"}},{"$f":"VLOOKUP(H101,Results!$A$8:$G$104,4,FALSE)","v":{"$error":"#N/A"}},{"$f":"VLOOKUP(H101,Results!$A$8:$G$104,7,FALSE)","v":{"$error":"#N/A"}}]
[null,{"$f":"Results!A105","v":0},{"$f":"Results!C105","v":0},{"$f":"Results!B105","v":0},{"$f":"Results!D105","v":0},{"$f":"Results!G105","v":""},"- vs -",{"$f":"VLOOKUP(B102,Results!$A$8:$AG$104,16,FALSE)","v":{"$error":"#N/A"}},{"$f":"VLOOKUP(H102,Results!A$8:$G$104,3,FALSE)","v":{"$error":"#N/A"}},{"$f":"VLOOKUP(H102,Results!$A$8:$G$104,2,FALSE)","v":{"$error":"#N/A"}},{"$f":"VLOOKUP(H102,Results!$A$8:$G$104,4,FALSE)","v":{"$error":"#N/A"}},{"$f":"VLOOKUP(H102,Results!$A$8:$G$104,7,FALSE)","v":{"$error":"#N/A"}}]
[null,{"$f":"Results!A106","v":0},{"$f":"Results!C106","v":0},{"$f":"Results!B106","v":0},{"$f":"Results!D106","v":0},{"$f":"Results!G106","v":""},"- vs -",{"$f":"VLOOKUP(B103,Results!$A$8:$AG$104,16,FALSE)","v":{"$error":"#N/A"}},{"$f":"VLOOKUP(H103,Results!A$8:$G$104,3,FALSE)","v":{"$error":"#N/A"}},{"$f":"VLOOKUP(H103,Results!$A$8:$G$104,2,FALSE)","v":{"$error":"#N/A"}},{"$f":"VLOOKUP(H103,Results!$A$8:$G$104,4,FALSE)","v":{"$error":"#N/A"}},{"$f":"VLOOKUP(H103,Results!$A$8:$G$104,7,FALSE)","v":{"$error":"#N/A"}}]
[null,{"$f":"Results!A107","v":0},{"$f":"Results!C107","v":0},{"$f":"Results!B107","v":0},{"$f":"Results!D107","v":0},{"$f":"Results!G107","v":""},"- vs -",{"$f":"VLOOKUP(B104,Results!$A$8:$AG$104,16,FALSE)","v":{"$error":"#N/A"}},{"$f":"VLOOKUP(H104,Results!A$8:$G$104,3,FALSE)","v":{"$error":"#N/A"}},{"$f":"VLOOKUP(H104,Results!$A$8:$G$104,2,FALSE)","v":{"$error":"#N/A"}},{"$f":"VLOOKUP(H104,Results!$A$8:$G$104,4,FALSE)","v":{"$error":"#N/A"}},{"$f":"VLOOKUP(H104,Results!$A$8:$G$104,7,FALSE)","v":{"$error":"#N/A"}}]

{"sheet":"Round 3","index":11,"n_rows":104,"n_cols":13,"rows_kept":104}
[]
["Round 3 Draw",null,null,{"$f":"Results!B3","v":0}]
[{"$nulls":3},{"$f":"Results!B4","v":"Classical Period"}]
[{"$nulls":12},"VALID?"]
[null,{"$f":"Results!A8","v":0},{"$f":"Results!C8","v":0},{"$f":"Results!B8","v":0},{"$f":"Results!D8","v":0},{"$f":"Results!G8","v":""},"- vs -",{"$f":"VLOOKUP(B5,Results!$A$8:$AG$60,23,FALSE)","v":{"$error":"#N/A"}},{"$f":"VLOOKUP(H5,Results!A$8:$G$60,3,FALSE)","v":{"$error":"#N/A"}},{"$f":"VLOOKUP(H5,Results!$A$8:$G$60,2,FALSE)","v":{"$error":"#N/A"}},{"$f":"VLOOKUP(H5,Results!$A$8:$G$60,4,FALSE)","v":{"$error":"#N/A"}},{"$f":"VLOOKUP(H5,Results!$A$8:$G$60,7,FALSE)","v":{"$error":"#N/A"}},{"$f":"VLOOKUP(H5,$B$4:B5,1,FALSE)","v":{"$error":"#N/A"}}]
[null,{"$f":"Results!A9","v":0},{"$f":"Results!C9","v":0},{"$f":"Results!B9","v":0},{"$f":"Results!D9","v":0},{"$f":"Results!G9","v":""},"- vs -",{"$f":"VLOOKUP(B6,Results!$A$8:$AG$60,23,FALSE)","v":{"$error":"#N/A"}},{"$f":"VLOOKUP(H6,Results!A$8:$G$60,3,FALSE)","v":{"$error":"#N/A"}},{"$f":"VLOOKUP(H6,Results!$A$8:$G$60,2,FALSE)","v":{"$error":"#N/A"}},{"$f":"VLOOKUP(H6,Results!$A$8:$G$60,4,FALSE)","v":{"$error":"#N/A"}},{"$f":"VLOOKUP(H6,Results!$A$8:$G$60,7,FALSE)","v":{"$error":"#N/A"}},{"$f":"VLOOKUP(H6,$B$4:B6,1,FALSE)","v":{"$error":"#N/A"}}]
[null,{"$f":"Results!A10","v":0},{"$f":"Results!C10","v":0},{"$f":"Results!B10","v":0},{"$f":"Results!D10","v":0},{"$f":"Results!G10","v":""},"- vs -",{"$f":"VLOOKUP(B7,Results!$A$8:$AG$60,23,FALSE)","v":{"$error":"#N/A"}},{"$f":"VLOOKUP(H7,Results!A$8:$G$60,3,FALSE)","v":{"$error":"#N/A"}},{"$f":"VLOOKUP(H7,Results!$A$8:$G$60,2,FALSE)","v":{"$error":"#N/A"}},{"$f":"VLOOKUP(H7,Results!$A$8:$G$60,4,FALSE)","v":{"$error":"#N/A"}},{"$f":"VLOOKUP(H7,Results!$A$8:$G$60,7,FALSE)","v":{"$error":"#N/A"}},{"$f":"VLOOKUP(H7,$B$4:B7,1,FALSE)","v":{"$error":"#N/A"}}]
[null,{"$f":"Results!A11","v":0},{"$f":"Results!C11","v":0},{"$f":"Results!B11","v":0},{"$f":"Results!D11","v":0},{"$f":"Results!G11","v":""},"- vs -",{"$f":"VLOOKUP(B8,Results!$A$8:$AG$60,23,FALSE)","v":{"$error":"#N/A"}},{"$f":"VLOOKUP(H8,Results!A$8:$G$60,3,FALSE)","v":{"$error":"#N/A"}},{"$f":"VLOOKUP(H8,Results!$A$8:$G$60,2,FALSE)","v":{"$error":"#N/A"}},{"$f":"VLOOKUP(H8,Results!$A$8:$G$60,4,FALSE)","v":{"$error":"#N/A"}},{"$f":"VLOOKUP(H8,Results!$A$8:$G$60,7,FALSE)","v":{"$error":"#N/A"}},{"$f":"VLOOKUP(H8,$B$4:B8,1,FALSE)","v":{"$error":"#N/A"}}]
[null,{"$f":"Results!A12","v":0},{"$f":"Results!C12","v":0},{"$f":"Results!B12","v":0},{"$f":"Results!D12","v":0},{"$f":"Results!G12","v":""},"- vs -",{"$f":"VLOOKUP(B9,Results!$A$8:$AG$60,23,FALSE)","v":{"$error":"#N/A"}},{"$f":"VLOOKUP(H9,Results!A$8:$G$60,3,FALSE)","v":{"$error":"#N/A"}},{"$f":"VLOOKUP(H9,Results!$A$8:$G$60,2,FALSE)","v":{"$error":"#N/A"}},{"$f":"VLOOKUP(H9,Results!$A$8:$G$60,4,FALSE)","v":{"$error":"#N/A"}},{"$f":"VLOOKUP(H9,Results!$A$8:$G$60,7,FALSE)","v":{"$error":"#N/A"}},{"$f":"VLOOKUP(H9,$B$4:B9,1,FALSE)","v":{"$error":"#N/A"}}]
[null,{"$f":"Results!A13","v":0},{"$f":"Results!C13","v":0},{"$f":"Results!B13","v":0},{"$f":"Results!D13","v":0},{"$f":"Results!G13","v":""},"- vs -",{"$f":"VLOOKUP(B10,Results!$A$8:$AG$60,23,FALSE)","v":{"$error":"#N/A"}},{"$f":"VLOOKUP(H10,Results!A$8:$G$60,3,FALSE)","v":{"$error":"#N/A"}},{"$f":"VLOOKUP(H10,Results!$A$8:$G$60,2,FALSE)","v":{"$error":"#N/A"}},{"$f":"VLOOKUP(H10,Results!$A$8:$G$60,4,FALSE)","v":{"$error":"#N/A"}},{"$f":"VLOOKUP(H10,Results!$A$8:$G$60,7,FALSE)","v":{"$error":"#N/A"}},{"$f":"VLOOKUP(H10,$B$4:B10,1,FALSE)","v":{"$error":"#N/A"}}]
[null,{"$f":"Results!A14","v":0},{"$f":"Results!C14","v":0},{"$f":"Results!B14","v":0},{"$f":"Results!D14","v":0},{"$f":"Results!G14","v":""},"- vs -",{"$f":"VLOOKUP(B11,Results!$A$8:$AG$60,23,FALSE)","v":{"$error":"#N/A"}},{"$f":"VLOOKUP(H11,Results!A$8:$G$60,3,FALSE)","v":{"$error":"#N/A"}},{"$f":"VLOOKUP(H11,Results!$A$8:$G$60,2,FALSE)","v":{"$error":"#N/A"}},{"$f":"VLOOKUP(H11,Results!$A$8:$G$60,4,FALSE)","v":{"$error":"#N/A"}},{"$f":"VLOOKUP(H11,Results!$A$8:$G$60,7,FALSE)","v":{"$error":"#N/A"}},{"$f":"VLOOKUP(H11,$B$4:B11,1,FALSE)","v":{"$error":"#N/A"}}]
[null,{"$f":"Results!A15","v":0},{"$f":"Results!C15","v":0},{"$f":"Results!B15","v":0},{"$f":"Results!D15","v":0},{"$f":"Results!G15","v":""},"- vs -",{"$f":"VLOOKUP(B12,Results!$A$8:$AG$60,23,FALSE)","v":{"$error":"#N/A"}},{"$f":"VLOOKUP(H12,Results!A$8:$G$60,3,FALSE)","v":{"$error":"#N/A"}},{"$f":"VLOOKUP(H12,Results!$A$8:$G$60,2,FALSE)","v":{"$error":"#N/A"}},{"$f":"VLOOKUP(H12,Results!$A$8:$G$60,4,FALSE)","v":{"$error":"#N/A"}},{"$f":"VLOOKUP(H12,Results!$A$8:$G$60,7,FALSE)","v":{"$error":"#N/A"}},{"$f":"VLOOKUP(H12,$B$4:B12,1,FALSE)","v":{"$error":"#N/A"}}]
[null,{"$f":"Results!A16","v":0},{"$f":"Results!C16","v":0},{"$f":"Results!B16","v":0},{"$f":"Results!D16","v":0},{"$f":"Results!G16","v":""},"- vs -",{"$f":"VLOOKUP(B13,Results!$A$8:$AG$60,23,FALSE)","v":{"$error":"#N/A"}},{"$f":"VLOOKUP(H13,Results!A$8:$G$60,3,FALSE)","v":{"$error":"#N/A"}},{"$f":"VLOOKUP(H13,Results!$A$8:$G$60,2,FALSE)","v":{"$error":"#N/A"}},{"$f":"VLOOKUP(H13,Results!$A$8:$G$60,4,FALSE)","v":{"$error":"#N/A"}},{"$f":"VLOOKUP(H13,Results!$A$8:$G$60,7,FALSE)","v":{"$error":"#N/A"}},{"$f":"VLOOKUP(H13,$B$4:B13,1,FALSE)","v":{"$error":"#N/A"}}]
[null,{"$f":"Results!A17","v":0},{"$f":"Results!C17","v":0},{"$f":"Results!B17","v":0},{"$f":"Results!D17","v":0},{"$f":"Results!G17","v":""},"- vs -",{"$f":"VLOOKUP(B14,Results!$A$8:$AG$60,23,FALSE)","v":{"$error":"#N/A"}},{"$f":"VLOOKUP(H14,Results!A$8:$G$60,3,FALSE)","v":{"$error":"#N/A"}},{"$f":"VLOOKUP(H14,Results!$A$8:$G$60,2,FALSE)","v":{"$error":"#N/A"}},{"$f":"VLOOKUP(H14,Results!$A$8:$G$60,4,FALSE)","v":{"$error":"#N/A"}},{"$f":"VLOOKUP(H14,Results!$A$8:$G$60,7,FALSE)","v":{"$error":"#N/A"}},{"$f":"VLOOKUP(H14,$B$4:B14,1,FALSE)","v":{"$error":"#N/A"}}]
[null,{"$f":"Results!A18","v":0},{"$f":"Results!C18","v":0},{"$f":"Results!B18","v":0},{"$f":"Results!D18","v":0},{"$f":"Results!G18","v":""},"- vs -",{"$f":"VLOOKUP(B15,Results!$A$8:$AG$60,23,FALSE)","v":{"$error":"#N/A"}},{"$f":"VLOOKUP(H15,Results!A$8:$G$60,3,FALSE)","v":{"$error":"#N/A"}},{"$f":"VLOOKUP(H15,Results!$A$8:$G$60,2,FALSE)","v":{"$error":"#N/A"}},{"$f":"VLOOKUP(H15,Results!$A$8:$G$60,4,FALSE)","v":{"$error":"#N/A"}},{"$f":"VLOOKUP(H15,Results!$A$8:$G$60,7,FALSE)","v":{"$error":"#N/A"}},{"$f":"VLOOKUP(H15,$B$4:B15,1,FALSE)","v":{"$error":"#N/A"}}]
[null,{"$f":"Results!A19","v":0},{"$f":"Results!C19","v":0},{"$f":"Results!B19","v":0},{"$f":"Results!D19","v":0},{"$f":"Results!G19","v":""},"- vs -",{"$f":"VLOOKUP(B16,Results!$A$8:$AG$60,23,FALSE)","v":{"$error":"#N/A"}},{"$f":"VLOOKUP(H16,Results!A$8:$G$60,3,FALSE)","v":{"$error":"#N/A"}},{"$f":"VLOOKUP(H16,Results!$A$8:$G$60,2,FALSE)","v":{"$error":"#N/A"}},{"$f":"VLOOKUP(H16,Results!$A$8:$G$60,4,FALSE)","v":{"$error":"#N/A"}},{"$f":"VLOOKUP(H16,Results!$A$8:$G$60,7,FALSE)","v":{"$error":"#N/A"}},{"$f":"VLOOKUP(H16,$B$4:B16,1,FALSE)","v":{"$error":"#N/A"}}]
[null,{"$f":"Results!A20","v":0},{"$f":"Results!C20","v":0},{"$f":"Results!B20","v":0},{"$f":"Results!D20","v":0},{"$f":"Results!G20","v":""},"- vs -",{"$f":"VLOOKUP(B17,Results!$A$8:$AG$60,23,FALSE)","v":{"$error":"#N/A"}},{"$f":"VLOOKUP(H17,Results!A$8:$G$60,3,FALSE)","v":{"$error":"#N/A"}},{"$f":"VLOOKUP(H17,Results!$A$8:$G$60,2,FALSE)","v":{"$error":"#N/A"}},{"$f":"VLOOKUP(H17,Results!$A$8:$G$60,4,FALSE)","v":{"$error":"#N/A"}},{"$f":"VLOOKUP(H17,Results!$A$8:$G$60,7,FALSE)","v":{"$error":"#N/A"}},{"$f":"VLOOKUP(H17,$B$4:B17,1,FALSE)","v":{"$error":"#N/A"}}]
[null,{"$f":"Results!A21","v":0},{"$f":"Results!C21","v":0},{"$f":"Results!B21","v":0},{"$f":"Results!D21","v":0},{"$f":"Results!G21","v":""},"- vs -",{"$f":"VLOOKUP(B18,Results!$A$8:$AG$60,23,FALSE)","v":{"$error":"#N/A"}},{"$f":"VLOOKUP(H18,Results!A$8:$G$60,3,FALSE)","v":{"$error":"#N/A"}},{"$f":"VLOOKUP(H18,Results!$A$8:$G$60,2,FALSE)","v":{"$error":"#N/A"}},{"$f":"VLOOKUP(H18,Results!$A$8:$G$60,4,FALSE)","v":{"$error":"#N/A"}},{"$f":"VLOOKUP(H18,Results!$A$8:$G$60,7,FALSE)","v":{"$error":"#N/A"}},{"$f":"VLOOKUP(H18,$B$4:B18,1,FALSE)","v":{"$error":"#N/A"}}]
[null,{"$f":"Results!A22","v":0},{"$f":"Results!C22","v":0},{"$f":"Results!B22","v":0},{"$f":"Results!D22","v":0},{"$f":"Results!G22","v":""},"- vs -",{"$f":"VLOOKUP(B19,Results!$A$8:$AG$60,23,FALSE)","v":{"$error":"#N/A"}},{"$f":"VLOOKUP(H19,Results!A$8:$G$60,3,FALSE)","v":{"$error":"#N/A"}},{"$f":"VLOOKUP(H19,Results!$A$8:$G$60,2,FALSE)","v":{"$error":"#N/A"}},{"$f":"VLOOKUP(H19,Results!$A$8:$G$60,4,FALSE)","v":{"$error":"#N/A"}},{"$f":"VLOOKUP(H19,Results!$A$8:$G$60,7,FALSE)","v":{"$error":"#N/A"}},{"$f":"VLOOKUP(H19,$B$4:B19,1,FALSE)","v":{"$error":"#N/A"}}]
[null,{"$f":"Results!A23","v":0},{"$f":"Results!C23","v":0},{"$f":"Results!B23","v":0},{"$f":"Results!D23","v":0},{"$f":"Results!G23","v":""},"- vs -",{"$f":"VLOOKUP(B20,Results!$A$8:$AG$60,23,FALSE)","v":{"$error":"#N/A"}},{"$f":"VLOOKUP(H20,Results!A$8:$G$60,3,FALSE)","v":{"$error":"#N/A"}},{"$f":"VLOOKUP(H20,Results!$A$8:$G$60,2,FALSE)","v":{"$error":"#N/A"}},{"$f":"VLOOKUP(H20,Results!$A$8:$G$60,4,FALSE)","v":{"$error":"#N/A"}},{"$f":"VLOOKUP(H20,Results!$A$8:$G$60,7,FALSE)","v":{"$error":"#N/A"}},{"$f":"VLOOKUP(H20,$B$4:B20,1,FALSE)","v":{"$error":"#N/A"}}]
[null,{"$f":"Results!A24","v":0},{"$f":"Results!C24","v":0},{"$f":"Results!B24","v":0},{"$f":"Results!D24","v":0},{"$f":"Results!G24","v":""},"- vs -",{"$f":"VLOOKUP(B21,Results!$A$8:$AG$60,23,FALSE)","v":{"$error":"#N/A"}},{"$f":"VLOOKUP(H21,Results!A$8:$G$60,3,FALSE)","v":{"$error":"#N/A"}},{"$f":"VLOOKUP(H21,Results!$A$8:$G$60,2,FALSE)","v":{"$error":"#N/A"}},{"$f":"VLOOKUP(H21,Results!$A$8:$G$60,4,FALSE)","v":{"$error":"#N/A"}},{"$f":"VLOOKUP(H21,Results!$A$8:$G$60,7,FALSE)","v":{"$error":"#N/A"}},{"$f":"VLOOKUP(H21,$B$4:B21,1,FALSE)","v":{"$error":"#N/A"}}]
[null,{"$f":"Results!A25","v":0},{"$f":"Results!C25","v":0},{"$f":"Results!B25","v":0},{"$f":"Results!D25","v":0},{"$f":"Results!G25","v":""},"- vs -",{"$f":"VLOOKUP(B22,Results!$A$8:$AG$60,23,FALSE)","v":{"$error":"#N/A"}},{"$f":"VLOOKUP(H22,Results!A$8:$G$60,3,FALSE)","v":{"$error":"#N/A"}},{"$f":"VLOOKUP(H22,Results!$A$8:$G$60,2,FALSE)","v":{"$error":"#N/A"}},{"$f":"VLOOKUP(H22,Results!$A$8:$G$60,4,FALSE)","v":{"$error":"#N/A"}},{"$f":"VLOOKUP(H22,Results!$A$8:$G$60,7,FALSE)","v":{"$error":"#N/A"}},{"$f":"VLOOKUP(H22,$B$4:B22,1,FALSE)","v":{"$error":"#N/A"}}]
[null,{"$f":"Results!A26","v":0},{"$f":"Results!C26","v":0},{"$f":"Results!B26","v":0},{"$f":"Results!D26","v":0},{"$f":"Results!G26","v":""},"- vs -",{"$f":"VLOOKUP(B23,Results!$A$8:$AG$60,23,FALSE)","v":{"$error":"#N/A"}},{"$f":"VLOOKUP(H23,Results!A$8:$G$60,3,FALSE)","v":{"$error":"#N/A"}},{"$f":"VLOOKUP(H23,Results!$A$8:$G$60,2,FALSE)","v":{"$error":"#N/A"}},{"$f":"VLOOKUP(H23,Results!$A$8:$G$60,4,FALSE)","v":{"$error":"#N/A"}},{"$f":"VLOOKUP(H23,Results!$A$8:$G$60,7,FALSE)","v":{"$error":"#N/A"}},{"$f":"VLOOKUP(H23,$B$4:B23,1,FALSE)","v":{"$error":"#N/A"}}]
[null,{"$f":"Results!A27","v":0},{"$f":"Results!C27","v":0},{"$f":"Results!B27","v":0},{"$f":"Results!D27","v":0},{"$f":"Results!G27","v":""},"- vs -",{"$f":"VLOOKUP(B24,Results!$A$8:$AG$60,23,FALSE)","v":{"$error":"#N/A"}},{"$f":"VLOOKUP(H24,Results!A$8:$G$60,3,FALSE)","v":{"$error":"#N/A"}},{"$f":"VLOOKUP(H24,Results!$A$8:$G$60,2,FALSE)","v":{"$error":"#N/A"}},{"$f":"VLOOKUP(H24,Results!$A$8:$G$60,4,FALSE)","v":{"$error":"#N/A"}},{"$f":"VLOOKUP(H24,Results!$A$8:$G$60,7,FALSE)","v":{"$error":"#N/A"}},{"$f":"VLOOKUP(H24,$B$4:B24,1,FALSE)","v":{"$error":"#N/A"}}]
[null,{"$f":"Results!A28","v":0},{"$f":"Results!C28","v":0},{"$f":"Results!B28","v":0},{"$f":"Results!D28","v":0},{"$f":"Results!G28","v":""},"- vs -",{"$f":"VLOOKUP(B25,Results!$A$8:$AG$60,23,FALSE)","v":{"$error":"#N/A"}},{"$f":"VLOOKUP(H25,Results!A$8:$G$60,3,FALSE)","v":{"$error":"#N/A"}},{"$f":"VLOOKUP(H25,Results!$A$8:$G$60,2,FALSE)","v":{"$error":"#N/A"}},{"$f":"VLOOKUP(H25,Results!$A$8:$G$60,4,FALSE)","v":{"$error":"#N/A"}},{"$f":"VLOOKUP(H25,Results!$A$8:$G$60,7,FALSE)","v":{"$error":"#N/A"}},{"$f":"VLOOKUP(H25,$B$4:B25,1,FALSE)","v":{"$error":"#N/A"}}]
[null,{"$f":"Results!A29","v":0},{"$f":"Results!C29","v":0},{"$f":"Results!B29","v":0},{"$f":"Results!D29","v":0},{"$f":"Results!G29","v":""},"- vs -",{"$f":"VLOOKUP(B26,Results!$A$8:$AG$60,23,FALSE)","v":{"$error":"#N/A"}},{"$f":"VLOOKUP(H26,Results!A$8:$G$60,3,FALSE)","v":{"$error":"#N/A"}},{"$f":"VLOOKUP(H26,Results!$A$8:$G$60,2,FALSE)","v":{"$error":"#N/A"}},{"$f":"VLOOKUP(H26,Results!$A$8:$G$60,4,FALSE)","v":{"$error":"#N/A"}},{"$f":"VLOOKUP(H26,Results!$A$8:$G$60,7,FALSE)","v":{"$error":"#N/A"}},{"$f":"VLOOKUP(H26,$B$4:B26,1,FALSE)","v":{"$error":"#N/A"}}]
[null,{"$f":"Results!A30","v":0},{"$f":"Results!C30","v":0},{"$f":"Results!B30","v":0},{"$f":"Results!D30","v":0},{"$f":"Results!G30","v":""},"- vs -",{"$f":"VLOOKUP(B27,Results!$A$8:$AG$60,23,FALSE)","v":{"$error":"#N/A"}},{"$f":"VLOOKUP(H27,Results!A$8:$G$60,3,FALSE)","v":{"$error":"#N/A"}},{"$f":"VLOOKUP(H27,Results!$A$8:$G$60,2,FALSE)","v":{"$error":"#N/A"}},{"$f":"VLOOKUP(H27,Results!$A$8:$G$60,4,FALSE)","v":{"$error":"#N/A"}},{"$f":"VLOOKUP(H27,Results!$A$8:$G$60,7,FALSE)","v":{"$error":"#N/A"}},{"$f":"VLOOKUP(H27,$B$4:B27,1,FALSE)","v":{"$error":"#N/A"}}]
[null,{"$f":"Results!A31","v":0},{"$f":"Results!C31","v":0},{"$f":"Results!B31","v":0},{"$f":"Results!D31","v":0},{"$f":"Results!G31","v":""},"- vs -",{"$f":"VLOOKUP(B28,Results!$A$8:$AG$60,23,FALSE)","v":{"$error":"#N/A"}},{"$f":"VLOOKUP(H28,Results!A$8:$G$60,3,FALSE)","v":{"$error":"#N/A"}},{"$f":"VLOOKUP(H28,Results!$A$8:$G$60,2,FALSE)","v":{"$error":"#N/A"}},{"$f":"VLOOKUP(H28,Results!$A$8:$G$60,4,FALSE)","v":{"$error":"#N/A"}},{"$f":"VLOOKUP(H28,Results!$A$8:$G$60,7,FALSE)","v":{"$error":"#N/A"}},{"$f":"VLOOKUP(H28,$B$4:B28,1,FALSE)","v":{"$error":"#N/A"}}]
[null,{"$f":"Results!A32","v":0},{"$f":"Results!C32","v":0},{"$f":"Results!B32","v":0},{"$f":"Results!D32","v":0},{"$f":"Results!G32","v":""},"- vs -",{"$f":"VLOOKUP(B29,Results!$A$8:$AG$60,23,FALSE)","v":{"$error":"#N/A"}},{"$f":"VLOOKUP(H29,Results!A$8:$G$60,3,FALSE)","v":{"$error":"#N/A"}},{"$f":"VLOOKUP(H29,Results!$A$8:$G$60,2,FALSE)","v":{"$error":"#N/A"}},{"$f":"VLOOKUP(H29,Results!$A$8:$G$60,4,FALSE)","v":{"$error":"#N/A"}},{"$f":"VLOOKUP(H29,Results!$A$8:$G$60,7,FALSE)","v":{"$error":"#N/A"}},{"$f":"VLOOKUP(H29,$B$4:B29,1,FALSE)","v":{"$error":"#N/A"}}]
[null,{"$f":"Results!A33","v":0},{"$f":"Results!C33","v":0},{"$f":"Results!B33","v":0},{"$f":"Results!D33","v":0},{"$f":"Results!G33","v":""},"- vs -",{"$f":"VLOOKUP(B30,Results!$A$8:$AG$60,23,FALSE)","v":{"$error":"#N/A"}},{"$f":"VLOOKUP(H30,Results!A$8:$G$60,3,FALSE)","v":{"$error":"#N/A"}},{"$f":"VLOOKUP(H30,Results!$A$8:$G$60,2,FALSE)","v":{"$error":"#N/A"}},{"$f":"VLOOKUP(H30,Results!$A$8:$G$60,4,FALSE)","v":{"$error":"#N/A"}},{"$f":"VLOOKUP(H30,Results!$A$8:$G$60,7,FALSE)","v":{"$error":"#N/A"}},{"$f":"VLOOKUP(H30,$B$4:B30,1,FALSE)","v":{"$error":"#N/A"}}]
[null,{"$f":"Results!A34","v":0},{"$f":"Results!C34","v":0},{"$f":"Results!B34","v":0},{"$f":"Results!D34","v":0},{"$f":"Results!G34","v":""},"- vs -",{"$f":"VLOOKUP(B31,Results!$A$8:$AG$60,23,FALSE)","v":{"$error":"#N/A"}},{"$f":"VLOOKUP(H31,Results!A$8:$G$60,3,FALSE)","v":{"$error":"#N/A"}},{"$f":"VLOOKUP(H31,Results!$A$8:$G$60,2,FALSE)","v":{"$error":"#N/A"}},{"$f":"VLOOKUP(H31,Results!$A$8:$G$60,4,FALSE)","v":{"$error":"#N/A"}},{"$f":"VLOOKUP(H31,Results!$A$8:$G$60,7,FALSE)","v":{"$error":"#N/A"}},{"$f":"VLOOKUP(H31,$B$4:B31,1,FALSE)","v":{"$error":"#N/A"}}]
[null,{"$f":"Results!A35","v":0},{"$f":"Results!C35","v":0},{"$f":"Results!B35","v":0},{"$f":"Results!D35","v":0},{"$f":"Results!G35","v":""},"- vs -",{"$f":"VLOOKUP(B32,Results!$A$8:$AG$60,23,FALSE)","v":{"$error":"#N/A"}},{"$f":"VLOOKUP(H32,Results!A$8:$G$60,3,FALSE)","v":{"$error":"#N/A"}},{"$f":"VLOOKUP(H32,Results!$A$8:$G$60,2,FALSE)","v":{"$error":"#N/A"}},{"$f":"VLOOKUP(H32,Results!$A$8:$G$60,4,FALSE)","v":{"$error":"#N/A"}},{"$f":"VLOOKUP(H32,Results!$A$8:$G$60,7,FALSE)","v":{"$error":"#N/A"}},{"$f":"VLOOKUP(H32,$B$4:B32,1,FALSE)","v":{"$error":"#N/A"}}]
[null,{"$f":"Results!A36","v":0},{"$f":"Results!C36","v":0},{"$f":"Results!B36","v":0},{"$f":"Results!D36","v":0},{"$f":"Results!G36","v":""},"- vs -",{"$f":"VLOOKUP(B33,Results!$A$8:$AG$60,23,FALSE)","v":{"$error":"#N/A"}},{"$f":"VLOOKUP(H33,Results!A$8:$G$60,3,FALSE)","v":{"$error":"#N/A"}},{"$f":"VLOOKUP(H33,Results!$A$8:$G$60,2,FALSE)","v":{"$error":"#N/A"}},{"$f":"VLOOKUP(H33,Results!$A$8:$G$60,4,FALSE)","v":{"$error":"#N/A"}},{"$f":"VLOOKUP(H33,Results!$A$8:$G$60,7,FALSE)","v":{"$error":"#N/A"}},{"$f":"VLOOKUP(H33,$B$4:B33,1,FALSE)","v":{"$error":"#N/A"}}]
[null,{"$f":"Results!A37","v":0},{"$f":"Results!C37","v":0},{"$f":"Results!B37","v":0},{"$f":"Results!D37","v":0},{"$f":"Results!G37","v":""},"- vs -",{"$f":"VLOOKUP(B34,Results!$A$8:$AG$60,23,FALSE)","v":{"$error":"#N/A"}},{"$f":"VLOOKUP(H34,Results!A$8:$G$60,3,FALSE)","v":{"$error":"#N/A"}},{"$f":"VLOOKUP(H34,Results!$A$8:$G$60,2,FALSE)","v":{"$error":"#N/A"}},{"$f":"VLOOKUP(H34,Results!$A$8:$G$60,4,FALSE)","v":{"$error":"#N/A"}},{"$f":"VLOOKUP(H34,Results!$A$8:$G$60,7,FALSE)","v":{"$error":"#N/A"}},{"$f":"VLOOKUP(H34,$B$4:B34,1,FALSE)","v":{"$error":"#N/A"}}]
[null,{"$f":"Results!A38","v":0},{"$f":"Results!C38","v":0},{"$f":"Results!B38","v":0},{"$f":"Results!D38","v":0},{"$f":"Results!G38","v":""},"- vs -",{"$f":"VLOOKUP(B35,Results!$A$8:$AG$60,23,FALSE)","v":{"$error":"#N/A"}},{"$f":"VLOOKUP(H35,Results!A$8:$G$60,3,FALSE)","v":{"$error":"#N/A"}},{"$f":"VLOOKUP(H35,Results!$A$8:$G$60,2,FALSE)","v":{"$error":"#N/A"}},{"$f":"VLOOKUP(H35,Results!$A$8:$G$60,4,FALSE)","v":{"$error":"#N/A"}},{"$f":"VLOOKUP(H35,Results!$A$8:$G$60,7,FALSE)","v":{"$error":"#N/A"}},{"$f":"VLOOKUP(H35,$B$4:B35,1,FALSE)","v":{"$error":"#N/A"}}]
[null,{"$f":"Results!A39","v":0},{"$f":"Results!C39","v":0},{"$f":"Results!B39","v":0},{"$f":"Results!D39","v":0},{"$f":"Results!G39","v":""},"- vs -",{"$f":"VLOOKUP(B36,Results!$A$8:$AG$60,23,FALSE)","v":{"$error":"#N/A"}},{"$f":"VLOOKUP(H36,Results!A$8:$G$60,3,FALSE)","v":{"$error":"#N/A"}},{"$f":"VLOOKUP(H36,Results!$A$8:$G$60,2,FALSE)","v":{"$error":"#N/A"}},{"$f":"VLOOKUP(H36,Results!$A$8:$G$60,4,FALSE)","v":{"$error":"#N/A"}},{"$f":"VLOOKUP(H36,Results!$A$8:$G$60,7,FALSE)","v":{"$error":"#N/A"}},{"$f":"VLOOKUP(H36,$B$4:B36,1,FALSE)","v":{"$error":"#N/A"}}]
[null,{"$f":"Results!A40","v":0},{"$f":"Results!C40","v":0},{"$f":"Results!B40","v":0},{"$f":"Results!D40","v":0},{"$f":"Results!G40","v":""},"- vs -",{"$f":"VLOOKUP(B37,Results!$A$8:$AG$60,23,FALSE)","v":{"$error":"#N/A"}},{"$f":"VLOOKUP(H37,Results!A$8:$G$60,3,FALSE)","v":{"$error":"#N/A"}},{"$f":"VLOOKUP(H37,Results!$A$8:$G$60,2,FALSE)","v":{"$error":"#N/A"}},{"$f":"VLOOKUP(H37,Results!$A$8:$G$60,4,FALSE)","v":{"$error":"#N/A"}},{"$f":"VLOOKUP(H37,Results!$A$8:$G$60,7,FALSE)","v":{"$error":"#N/A"}},{"$f":"VLOOKUP(H37,$B$4:B37,1,FALSE)","v":{"$error":"#N/A"}}]
[null,{"$f":"Results!A41","v":0},{"$f":"Results!C41","v":0},{"$f":"Results!B41","v":0},{"$f":"Results!D41","v":0},{"$f":"Results!G41","v":""},"- vs -",{"$f":"VLOOKUP(B38,Results!$A$8:$AG$60,23,FALSE)","v":{"$error":"#N/A"}},{"$f":"VLOOKUP(H38,Results!A$8:$G$60,3,FALSE)","v":{"$error":"#N/A"}},{"$f":"VLOOKUP(H38,Results!$A$8:$G$60,2,FALSE)","v":{"$error":"#N/A"}},{"$f":"VLOOKUP(H38,Results!$A$8:$G$60,4,FALSE)","v":{"$error":"#N/A"}},{"$f":"VLOOKUP(H38,Results!$A$8:$G$60,7,FALSE)","v":{"$error":"#N/A"}},{"$f":"VLOOKUP(H38,$B$4:B38,1,FALSE)","v":{"$error":"#N/A"}}]
[null,{"$f":"Results!A42","v":0},{"$f":"Results!C42","v":0},{"$f":"Results!B42","v":0},{"$f":"Results!D42","v":0},{"$f":"Results!G42","v":""},"- vs -",{"$f":"VLOOKUP(B39,Results!$A$8:$AG$60,23,FALSE)","v":{"$error":"#N/A"}},{"$f":"VLOOKUP(H39,Results!A$8:$G$60,3,FALSE)","v":{"$error":"#N/A"}},{"$f":"VLOOKUP(H39,Results!$A$8:$G$60,2,FALSE)","v":{"$error":"#N/A"}},{"$f":"VLOOKUP(H39,Results!$A$8:$G$60,4,FALSE)","v":{"$error":"#N/A"}},{"$f":"VLOOKUP(H39,Results!$A$8:$G$60,7,FALSE)","v":{"$error":"#N/A"}},{"$f":"VLOOKUP(H39,$B$4:B39,1,FALSE)","v":{"$error":"#N/A"}}]
[null,{"$f":"Results!A43","v":0},{"$f":"Results!C43","v":0},{"$f":"Results!B43","v":0},{"$f":"Results!D43","v":0},{"$f":"Results!G43","v":""},"- vs -",{"$f":"VLOOKUP(B40,Results!$A$8:$AG$60,23,FALSE)","v":{"$error":"#N/A"}},{"$f":"VLOOKUP(H40,Results!A$8:$G$60,3,FALSE)","v":{"$error":"#N/A"}},{"$f":"VLOOKUP(H40,Results!$A$8:$G$60,2,FALSE)","v":{"$error":"#N/A"}},{"$f":"VLOOKUP(H40,Results!$A$8:$G$60,4,FALSE)","v":{"$error":"#N/A"}},{"$f":"VLOOKUP(H40,Results!$A$8:$G$60,7,FALSE)","v":{"$error":"#N/A"}},{"$f":"VLOOKUP(H40,$B$4:B40,1,FALSE)","v":{"$error":"#N/A"}}]
[null,{"$f":"Results!A44","v":0},{"$f":"Results!C44","v":0},{"$f":"Results!B44","v":0},{"$f":"Results!D44","v":0},{"$f":"Results!G44","v":""},"- vs -",{"$f":"VLOOKUP(B41,Results!$A$8:$AG$60,23,FALSE)","v":{"$error":"#N/A"}},{"$f":"VLOOKUP(H41,Results!A$8:$G$60,3,FALSE)","v":{"$error":"#N/A"}},{"$f":"VLOOKUP(H41,Results!$A$8:$G$60,2,FALSE)","v":{"$error":"#N/A"}},{"$f":"VLOOKUP(H41,Results!$A$8:$G$60,4,FALSE)","v":{"$error":"#N/A"}},{"$f":"VLOOKUP(H41,Results!$A$8:$G$60,7,FALSE)","v":{"$error":"#N/A"}},{"$f":"VLOOKUP(H41,$B$4:B41,1,FALSE)","v":{"$error":"#N/A"}}]
[null,{"$f":"Results!A45","v":0},{"$f":"Results!C45","v":0},{"$f":"Results!B45","v":0},{"$f":"Results!D45","v":0},{"$f":"Results!G45","v":""},"- vs -",{"$f":"VLOOKUP(B42,Results!$A$8:$AG$60,23,FALSE)","v":{"$error":"#N/A"}},{"$f":"VLOOKUP(H42,Results!A$8:$G$60,3,FALSE)","v":{"$error":"#N/A"}},{"$f":"VLOOKUP(H42,Results!$A$8:$G$60,2,FALSE)","v":{"$error":"#N/A"}},{"$f":"VLOOKUP(H42,Results!$A$8:$G$60,4,FALSE)","v":{"$error":"#N/A"}},{"$f":"VLOOKUP(H42,Results!$A$8:$G$60,7,FALSE)","v":{"$error":"#N/A"}},{"$f":"VLOOKUP(H42,$B$4:B42,1,FALSE)","v":{"$error":"#N/A"}}]
[null,{"$f":"Results!A46","v":0},{"$f":"Results!C46","v":0},{"$f":"Results!B46","v":0},{"$f":"Results!D46","v":0},{"$f":"Results!G46","v":""},"- vs -",{"$f":"VLOOKUP(B43,Results!$A$8:$AG$60,23,FALSE)","v":{"$error":"#N/A"}},{"$f":"VLOOKUP(H43,Results!A$8:$G$60,3,FALSE)","v":{"$error":"#N/A"}},{"$f":"VLOOKUP(H43,Results!$A$8:$G$60,2,FALSE)","v":{"$error":"#N/A"}},{"$f":"VLOOKUP(H43,Results!$A$8:$G$60,4,FALSE)","v":{"$error":"#N/A"}},{"$f":"VLOOKUP(H43,Results!$A$8:$G$60,7,FALSE)","v":{"$error":"#N/A"}},{"$f":"VLOOKUP(H43,$B$4:B43,1,FALSE)","v":{"$error":"#N/A"}}]
[null,{"$f":"Results!A47","v":0},{"$f":"Results!C47","v":0},{"$f":"Results!B47","v":0},{"$f":"Results!D47","v":0},{"$f":"Results!G47","v":""},"- vs -",{"$f":"VLOOKUP(B44,Results!$A$8:$AG$60,23,FALSE)","v":{"$error":"#N/A"}},{"$f":"VLOOKUP(H44,Results!A$8:$G$60,3,FALSE)","v":{"$error":"#N/A"}},{"$f":"VLOOKUP(H44,Results!$A$8:$G$60,2,FALSE)","v":{"$error":"#N/A"}},{"$f":"VLOOKUP(H44,Results!$A$8:$G$60,4,FALSE)","v":{"$error":"#N/A"}},{"$f":"VLOOKUP(H44,Results!$A$8:$G$60,7,FALSE)","v":{"$error":"#N/A"}},{"$f":"VLOOKUP(H44,$B$4:B44,1,FALSE)","v":{"$error":"#N/A"}}]
[null,{"$f":"Results!A48","v":0},{"$f":"Results!C48","v":0},{"$f":"Results!B48","v":0},{"$f":"Results!D48","v":0},{"$f":"Results!G48","v":""},"- vs -",{"$f":"VLOOKUP(B45,Results!$A$8:$AG$60,23,FALSE)","v":{"$error":"#N/A"}},{"$f":"VLOOKUP(H45,Results!A$8:$G$60,3,FALSE)","v":{"$error":"#N/A"}},{"$f":"VLOOKUP(H45,Results!$A$8:$G$60,2,FALSE)","v":{"$error":"#N/A"}},{"$f":"VLOOKUP(H45,Results!$A$8:$G$60,4,FALSE)","v":{"$error":"#N/A"}},{"$f":"VLOOKUP(H45,Results!$A$8:$G$60,7,FALSE)","v":{"$error":"#N/A"}},{"$f":"VLOOKUP(H45,$B$4:B45,1,FALSE)","v":{"$error":"#N/A"}}]
[null,{"$f":"Results!A49","v":0},{"$f":"Results!C49","v":0},{"$f":"Results!B49","v":0},{"$f":"Results!D49","v":0},{"$f":"Results!G49","v":""},"- vs -",{"$f":"VLOOKUP(B46,Results!$A$8:$AG$60,23,FALSE)","v":{"$error":"#N/A"}},{"$f":"VLOOKUP(H46,Results!A$8:$G$60,3,FALSE)","v":{"$error":"#N/A"}},{"$f":"VLOOKUP(H46,Results!$A$8:$G$60,2,FALSE)","v":{"$error":"#N/A"}},{"$f":"VLOOKUP(H46,Results!$A$8:$G$60,4,FALSE)","v":{"$error":"#N/A"}},{"$f":"VLOOKUP(H46,Results!$A$8:$G$60,7,FALSE)","v":{"$error":"#N/A"}},{"$f":"VLOOKUP(H46,$B$4:B46,1,FALSE)","v":{"$error":"#N/A"}}]
[null,{"$f":"Results!A50","v":0},{"$f":"Results!C50","v":0},{"$f":"Results!B50","v":0},{"$f":"Results!D50","v":0},{"$f":"Results!G50","v":""},"- vs -",{"$f":"VLOOKUP(B47,Results!$A$8:$AG$60,23,FALSE)","v":{"$error":"#N/A"}},{"$f":"VLOOKUP(H47,Results!A$8:$G$60,3,FALSE)","v":{"$error":"#N/A"}},{"$f":"VLOOKUP(H47,Results!$A$8:$G$60,2,FALSE)","v":{"$error":"#N/A"}},{"$f":"VLOOKUP(H47,Results!$A$8:$G$60,4,FALSE)","v":{"$error":"#N/A"}},{"$f":"VLOOKUP(H47,Results!$A$8:$G$60,7,FALSE)","v":{"$error":"#N/A"}},{"$f":"VLOOKUP(H47,$B$4:B47,1,FALSE)","v":{"$error":"#N/A"}}]
[null,{"$f":"Results!A51","v":0},{"$f":"Results!C51","v":0},{"$f":"Results!B51","v":0},{"$f":"Results!D51","v":0},{"$f":"Results!G51","v":""},"- vs -",{"$f":"VLOOKUP(B48,Results!$A$8:$AG$60,23,FALSE)","v":{"$error":"#N/A"}},{"$f":"VLOOKUP(H48,Results!A$8:$G$60,3,FALSE)","v":{"$error":"#N/A"}},{"$f":"VLOOKUP(H48,Results!$A$8:$G$60,2,FALSE)","v":{"$error":"#N/A"}},{"$f":"VLOOKUP(H48,Results!$A$8:$G$60,4,FALSE)","v":{"$error":"#N/A"}},{"$f":"VLOOKUP(H48,Results!$A$8:$G$60,7,FALSE)","v":{"$error":"#N/A"}},{"$f":"VLOOKUP(H48,$B$4:B48,1,FALSE)","v":{"$error":"#N/A"}}]
[null,{"$f":"Results!A52","v":0},{"$f":"Results!C52","v":0},{"$f":"Results!B52","v":0},{"$f":"Results!D52","v":0},{"$f":"Results!G52","v":""},"- vs -",{"$f":"VLOOKUP(B49,Results!$A$8:$AG$60,23,FALSE)","v":{"$error":"#N/A"}},{"$f":"VLOOKUP(H49,Results!A$8:$G$60,3,FALSE)","v":{"$error":"#N/A"}},{"$f":"VLOOKUP(H49,Results!$A$8:$G$60,2,FALSE)","v":{"$error":"#N/A"}},{"$f":"VLOOKUP(H49,Results!$A$8:$G$60,4,FALSE)","v":{"$error":"#N/A"}},{"$f":"VLOOKUP(H49,Results!$A$8:$G$60,7,FALSE)","v":{"$error":"#N/A"}},{"$f":"VLOOKUP(H49,$B$4:B49,1,FALSE)","v":{"$error":"#N/A"}}]
[null,{"$f":"Results!A53","v":0},{"$f":"Results!C53","v":0},{"$f":"Results!B53","v":0},{"$f":"Results!D53","v":0},{"$f":"Results!G53","v":""},"- vs -",{"$f":"VLOOKUP(B50,Results!$A$8:$AG$60,23,FALSE)","v":{"$error":"#N/A"}},{"$f":"VLOOKUP(H50,Results!A$8:$G$60,3,FALSE)","v":{"$error":"#N/A"}},{"$f":"VLOOKUP(H50,Results!$A$8:$G$60,2,FALSE)","v":{"$error":"#N/A"}},{"$f":"VLOOKUP(H50,Results!$A$8:$G$60,4,FALSE)","v":{"$error":"#N/A"}},{"$f":"VLOOKUP(H50,Results!$A$8:$G$60,7,FALSE)","v":{"$error":"#N/A"}},{"$f":"VLOOKUP(H50,$B$4:B50,1,FALSE)","v":{"$error":"#N/A"}}]
[null,{"$f":"Results!A54","v":0},{"$f":"Results!C54","v":0},{"$f":"Results!B54","v":0},{"$f":"Results!D54","v":0},{"$f":"Results!G54","v":""},"- vs -",{"$f":"VLOOKUP(B51,Results!$A$8:$AG$60,23,FALSE)","v":{"$error":"#N/A"}},{"$f":"VLOOKUP(H51,Results!A$8:$G$60,3,FALSE)","v":{"$error":"#N/A"}},{"$f":"VLOOKUP(H51,Results!$A$8:$G$60,2,FALSE)","v":{"$error":"#N/A"}},{"$f":"VLOOKUP(H51,Results!$A$8:$G$60,4,FALSE)","v":{"$error":"#N/A"}},{"$f":"VLOOKUP(H51,Results!$A$8:$G$60,7,FALSE)","v":{"$error":"#N/A"}},{"$f":"VLOOKUP(H51,$B$4:B51,1,FALSE)","v":{"$error":"#N/A"}}]
[null,{"$f":"Results!A55","v":0},{"$f":"Results!C55","v":0},{"$f":"Results!B55","v":0},{"$f":"Results!D55","v":0},{"$f":"Results!G55","v":""},"- vs -",{"$f":"VLOOKUP(B52,Results!$A$8:$AG$60,23,FALSE)","v":{"$error":"#N/A"}},{"$f":"VLOOKUP(H52,Results!A$8:$G$60,3,FALSE)","v":{"$error":"#N/A"}},{"$f":"VLOOKUP(H52,Results!$A$8:$G$60,2,FALSE)","v":{"$error":"#N/A"}},{"$f":"VLOOKUP(H52,Results!$A$8:$G$60,4,FALSE)","v":{"$error":"#N/A"}},{"$f":"VLOOKUP(H52,Results!$A$8:$G$60,7,FALSE)","v":{"$error":"#N/A"}},{"$f":"VLOOKUP(H52,$B$4:B52,1,FALSE)","v":{"$error":"#N/A"}}]
[null,{"$f":"Results!A56","v":0},{"$f":"Results!C56","v":0},{"$f":"Results!B56","v":0},{"$f":"Results!D56","v":0},{"$f":"Results!G56","v":""},"- vs -",{"$f":"VLOOKUP(B53,Results!$A$8:$AG$60,23,FALSE)","v":{"$error":"#N/A"}},{"$f":"VLOOKUP(H53,Results!A$8:$G$60,3,FALSE)","v":{"$error":"#N/A"}},{"$f":"VLOOKUP(H53,Results!$A$8:$G$60,2,FALSE)","v":{"$error":"#N/A"}},{"$f":"VLOOKUP(H53,Results!$A$8:$G$60,4,FALSE)","v":{"$error":"#N/A"}},{"$f":"VLOOKUP(H53,Results!$A$8:$G$60,7,FALSE)","v":{"$error":"#N/A"}},{"$f":"VLOOKUP(H53,$B$4:B53,1,FALSE)","v":{"$error":"#N/A"}}]
[null,{"$f":"Results!A57","v":0},{"$f":"Results!C57","v":0},{"$f":"Results!B57","v":0},{"$f":"Results!D57","v":0},{"$f":"Results!G57","v":""},"- vs -",{"$f":"VLOOKUP(B54,Results!$A$8:$AG$60,23,FALSE)","v":{"$error":"#N/A"}},{"$f":"VLOOKUP(H54,Results!A$8:$G$60,3,FALSE)","v":{"$error":"#N/A"}},{"$f":"VLOOKUP(H54,Results!$A$8:$G$60,2,FALSE)","v":{"$error":"#N/A"}},{"$f":"VLOOKUP(H54,Results!$A$8:$G$60,4,FALSE)","v":{"$error":"#N/A"}},{"$f":"VLOOKUP(H54,Results!$A$8:$G$60,7,FALSE)","v":{"$error":"#N/A"}},{"$f":"VLOOKUP(H54,$B$4:B54,1,FALSE)","v":{"$error":"#N/A"}}]
[null,{"$f":"Results!A58","v":0},{"$f":"Results!C58","v":0},{"$f":"Results!B58","v":0},{"$f":"Results!D58","v":0},{"$f":"Results!G58","v":""},"- vs -",{"$f":"VLOOKUP(B55,Results!$A$8:$AG$60,23,FALSE)","v":{"$error":"#N/A"}},{"$f":"VLOOKUP(H55,Results!A$8:$G$60,3,FALSE)","v":{"$error":"#N/A"}},{"$f":"VLOOKUP(H55,Results!$A$8:$G$60,2,FALSE)","v":{"$error":"#N/A"}},{"$f":"VLOOKUP(H55,Results!$A$8:$G$60,4,FALSE)","v":{"$error":"#N/A"}},{"$f":"VLOOKUP(H55,Results!$A$8:$G$60,7,FALSE)","v":{"$error":"#N/A"}},{"$f":"VLOOKUP(H55,$B$4:B55,1,FALSE)","v":{"$error":"#N/A"}}]
[null,{"$f":"Results!A59","v":0},{"$f":"Results!C59","v":0},{"$f":"Results!B59","v":0},{"$f":"Results!D59","v":0},{"$f":"Results!G59","v":""},"- vs -",{"$f":"VLOOKUP(B56,Results!$A$8:$AG$60,23,FALSE)","v":{"$error":"#N/A"}},{"$f":"VLOOKUP(H56,Results!A$8:$G$60,3,FALSE)","v":{"$error":"#N/A"}},{"$f":"VLOOKUP(H56,Results!$A$8:$G$60,2,FALSE)","v":{"$error":"#N/A"}},{"$f":"VLOOKUP(H56,Results!$A$8:$G$60,4,FALSE)","v":{"$error":"#N/A"}},{"$f":"VLOOKUP(H56,Results!$A$8:$G$60,7,FALSE)","v":{"$error":"#N/A"}},{"$f":"VLOOKUP(H56,$B$4:B56,1,FALSE)","v":{"$error":"#N/A"}}]
[null,{"$f":"Results!A60","v":0},{"$f":"Results!C60","v":0},{"$f":"Results!B60","v":0},{"$f":"Results!D60","v":0},{"$f":"Results!G60","v":""},"- vs -",{"$f":"VLOOKUP(B57,Results!$A$8:$AG$60,23,FALSE)","v":{"$error":"#N/A"}},{"$f":"VLOOKUP(H57,Results!A$8:$G$60,3,FALSE)","v":{"$error":"#N/A"}},{"$f":"VLOOKUP(H57,Results!$A$8:$G$60,2,FALSE)","v":{"$error":"#N/A"}},{"$f":"VLOOKUP(H57,Results!$A$8:$G$60,4,FALSE)","v":{"$error":"#N/A"}},{"$f":"VLOOKUP(H57,Results!$A$8:$G$60,7,FALSE)","v":{"$error":"#N/A"}},{"$f":"VLOOKUP(H57,$B$4:B57,1,FALSE)","v":{"$error":"#N/A"}}]
[null,{"$f":"Results!A61","v":0},{"$f":"Results!C61","v":0},{"$f":"Results!B61","v":0},{"$f":"Results!D61","v":0},{"$f":"Results!G61","v":""},"- vs -",{"$f":"VLOOKUP(B58,Results!$A$8:$AG$60,23,FALSE)","v":{"$error":"#N/A"}},{"$f":"VLOOKUP(H58,Results!A$8:$G$60,3,FALSE)","v":{"$error":"#N/A"}},{"$f":"VLOOKUP(H58,Results!$A$8:$G$60,2,FALSE)","v":{"$error":"#N/A"}},{"$f":"VLOOKUP(H58,Results!$A$8:$G$60,4,FALSE)","v":{"$error":"#N/A"}},{"$f":"VLOOKUP(H58,Results!$A$8:$G$60,7,FALSE)","v":{"$error":"#N/A"}},{"$f":"VLOOKUP(H58,$B$4:B58,1,FALSE)","v":{"$error":"#N/A"}}]
[null,{"$f":"Results!A62","v":0},{"$f":"Results!C62","v":0},{"$f":"Results!B62","v":0},{"$f":"Results!D62","v":0},{"$f":"Results!G62","v":""},"- vs -",{"$f":"VLOOKUP(B59,Results!$A$8:$AG$60,23,FALSE)","v":{"$error":"#N/A"}},{"$f":"VLOOKUP(H59,Results!A$8:$G$60,3,FALSE)","v":{"$error":"#N/A"}},{"$f":"VLOOKUP(H59,Results!$A$8:$G$60,2,FALSE)","v":{"$error":"#N/A"}},{"$f":"VLOOKUP(H59,Results!$A$8:$G$60,4,FALSE)","v":{"$error":"#N/A"}},{"$f":"VLOOKUP(H59,Results!$A$8:$G$60,7,FALSE)","v":{"$error":"#N/A"}},{"$f":"VLOOKUP(H59,$B$4:B59,1,FALSE)","v":{"$error":"#N/A"}}]
[null,{"$f":"Results!A63","v":0},{"$f":"Results!C63","v":0},{"$f":"Results!B63","v":0},{"$f":"Results!D63","v":0},{"$f":"Results!G63","v":""},"- vs -",{"$f":"VLOOKUP(B60,Results!$A$8:$AG$60,23,FALSE)","v":{"$error":"#N/A"}},{"$f":"VLOOKUP(H60,Results!A$8:$G$60,3,FALSE)","v":{"$error":"#N/A"}},{"$f":"VLOOKUP(H60,Results!$A$8:$G$60,2,FALSE)","v":{"$error":"#N/A"}},{"$f":"VLOOKUP(H60,Results!$A$8:$G$60,4,FALSE)","v":{"$error":"#N/A"}},{"$f":"VLOOKUP(H60,Results!$A$8:$G$60,7,FALSE)","v":{"$error":"#N/A"}},{"$f":"VLOOKUP(H60,$B$4:B60,1,FALSE)","v":{"$error":"#N/A"}}]
[null,{"$f":"Results!A64","v":0},{"$f":"Results!C64","v":0},{"$f":"Results!B64","v":0},{"$f":"Results!D64","v":0},{"$f":"Results!G64","v":""},"- vs -",{"$f":"VLOOKUP(B61,Results!$A$8:$AG$60,23,FALSE)","v":{"$error":"#N/A"}},{"$f":"VLOOKUP(H61,Results!A$8:$G$60,3,FALSE)","v":{"$error":"#N/A"}},{"$f":"VLOOKUP(H61,Results!$A$8:$G$60,2,FALSE)","v":{"$error":"#N/A"}},{"$f":"VLOOKUP(H61,Results!$A$8:$G$60,4,FALSE)","v":{"$error":"#N/A"}},{"$f":"VLOOKUP(H61,Results!$A$8:$G$60,7,FALSE)","v":{"$error":"#N/A"}},{"$f":"VLOOKUP(H61,$B$4:B61,1,FALSE)","v":{"$error":"#N/A"}}]
[null,{"$f":"Results!A65","v":0},{"$f":"Results!C65","v":0},{"$f":"Results!B65","v":0},{"$f":"Results!D65","v":0},{"$f":"Results!G65","v":""},"- vs -",{"$f":"VLOOKUP(B62,Results!$A$8:$AG$60,23,FALSE)","v":{"$error":"#N/A"}},{"$f":"VLOOKUP(H62,Results!A$8:$G$60,3,FALSE)","v":{"$error":"#N/A"}},{"$f":"VLOOKUP(H62,Results!$A$8:$G$60,2,FALSE)","v":{"$error":"#N/A"}},{"$f":"VLOOKUP(H62,Results!$A$8:$G$60,4,FALSE)","v":{"$error":"#N/A"}},{"$f":"VLOOKUP(H62,Results!$A$8:$G$60,7,FALSE)","v":{"$error":"#N/A"}},{"$f":"VLOOKUP(H62,$B$4:B62,1,FALSE)","v":{"$error":"#N/A"}}]
[null,{"$f":"Results!A66","v":0},{"$f":"Results!C66","v":0},{"$f":"Results!B66","v":0},{"$f":"Results!D66","v":0},{"$f":"Results!G66","v":""},"- vs -",{"$f":"VLOOKUP(B63,Results!$A$8:$AG$60,23,FALSE)","v":{"$error":"#N/A"}},{"$f":"VLOOKUP(H63,Results!A$8:$G$60,3,FALSE)","v":{"$error":"#N/A"}},{"$f":"VLOOKUP(H63,Results!$A$8:$G$60,2,FALSE)","v":{"$error":"#N/A"}},{"$f":"VLOOKUP(H63,Results!$A$8:$G$60,4,FALSE)","v":{"$error":"#N/A"}},{"$f":"VLOOKUP(H63,Results!$A$8:$G$60,7,FALSE)","v":{"$error":"#N/A"}},{"$f":"VLOOKUP(H63,$B$4:B63,1,FALSE)","v":{"$error":"#N/A"}}]
[null,{"$f":"Results!A67","v":0},{"$f":"Results!C67","v":0},{"$f":"Results!B67","v":0},{"$f":"Results!D67","v":0},{"$f":"Results!G67","v":""},"- vs -",{"$f":"VLOOKUP(B64,Results!$A$8:$AG$60,23,FALSE)","v":{"$error":"#N/A"}},{"$f":"VLOOKUP(H64,Results!A$8:$G$60,3,FALSE)","v":{"$error":"#N/A"}},{"$f":"VLOOKUP(H64,Results!$A$8:$G$60,2,FALSE)","v":{"$error":"#N/A"}},{"$f":"VLOOKUP(H64,Results!$A$8:$G$60,4,FALSE)","v":{"$error":"#N/A"}},{"$f":"VLOOKUP(H64,Results!$A$8:$G$60,7,FALSE)","v":{"$error":"#N/A"}}]
[null,{"$f":"Results!A68","v":0},{"$f":"Results!C68","v":0},{"$f":"Results!B68","v":0},{"$f":"Results!D68","v":0},{"$f":"Results!G68","v":""},"- vs -",{"$f":"VLOOKUP(B65,Results!$A$8:$AG$60,23,FALSE)","v":{"$error":"#N/A"}},{"$f":"VLOOKUP(H65,Results!A$8:$G$60,3,FALSE)","v":{"$error":"#N/A"}},{"$f":"VLOOKUP(H65,Results!$A$8:$G$60,2,FALSE)","v":{"$error":"#N/A"}},{"$f":"VLOOKUP(H65,Results!$A$8:$G$60,4,FALSE)","v":{"$error":"#N/A"}},{"$f":"VLOOKUP(H65,Results!$A$8:$G$60,7,FALSE)","v":{"$error":"#N/A"}}]
[null,{"$f":"Results!A69","v":0},{"$f":"Results!C69","v":0},{"$f":"Results!B69","v":0},{"$f":"Results!D69","v":0},{"$f":"Results!G69","v":""},"- vs -",{"$f":"VLOOKUP(B66,Results!$A$8:$AG$60,23,FALSE)","v":{"$error":"#N/A"}},{"$f":"VLOOKUP(H66,Results!A$8:$G$60,3,FALSE)","v":{"$error":"#N/A"}},{"$f":"VLOOKUP(H66,Results!$A$8:$G$60,2,FALSE)","v":{"$error":"#N/A"}},{"$f":"VLOOKUP(H66,Results!$A$8:$G$60,4,FALSE)","v":{"$error":"#N/A"}},{"$f":"VLOOKUP(H66,Results!$A$8:$G$60,7,FALSE)","v":{"$error":"#N/A"}}]
[null,{"$f":"Results!A70","v":0},{"$f":"Results!C70","v":0},{"$f":"Results!B70","v":0},{"$f":"Results!D70","v":0},{"$f":"Results!G70","v":""},"- vs -",{"$f":"VLOOKUP(B67,Results!$A$8:$AG$60,23,FALSE)","v":{"$error":"#N/A"}},{"$f":"VLOOKUP(H67,Results!A$8:$G$60,3,FALSE)","v":{"$error":"#N/A"}},{"$f":"VLOOKUP(H67,Results!$A$8:$G$60,2,FALSE)","v":{"$error":"#N/A"}},{"$f":"VLOOKUP(H67,Results!$A$8:$G$60,4,FALSE)","v":{"$error":"#N/A"}},{"$f":"VLOOKUP(H67,Results!$A$8:$G$60,7,FALSE)","v":{"$error":"#N/A"}}]
[null,{"$f":"Results!A71","v":0},{"$f":"Results!C71","v":0},{"$f":"Results!B71","v":0},{"$f":"Results!D71","v":0},{"$f":"Results!G71","v":""},"- vs -",{"$f":"VLOOKUP(B68,Results!$A$8:$AG$60,23,FALSE)","v":{"$error":"#N/A"}},{"$f":"VLOOKUP(H68,Results!A$8:$G$60,3,FALSE)","v":{"$error":"#N/A"}},{"$f":"VLOOKUP(H68,Results!$A$8:$G$60,2,FALSE)","v":{"$error":"#N/A"}},{"$f":"VLOOKUP(H68,Results!$A$8:$G$60,4,FALSE)","v":{"$error":"#N/A"}},{"$f":"VLOOKUP(H68,Results!$A$8:$G$60,7,FALSE)","v":{"$error":"#N/A"}}]
[null,{"$f":"Results!A72","v":0},{"$f":"Results!C72","v":0},{"$f":"Results!B72","v":0},{"$f":"Results!D72","v":0},{"$f":"Results!G72","v":""},"- vs -",{"$f":"VLOOKUP(B69,Results!$A$8:$AG$60,23,FALSE)","v":{"$error":"#N/A"}},{"$f":"VLOOKUP(H69,Results!A$8:$G$60,3,FALSE)","v":{"$error":"#N/A"}},{"$f":"VLOOKUP(H69,Results!$A$8:$G$60,2,FALSE)","v":{"$error":"#N/A"}},{"$f":"VLOOKUP(H69,Results!$A$8:$G$60,4,FALSE)","v":{"$error":"#N/A"}},{"$f":"VLOOKUP(H69,Results!$A$8:$G$60,7,FALSE)","v":{"$error":"#N/A"}}]
[null,{"$f":"Results!A73","v":0},{"$f":"Results!C73","v":0},{"$f":"Results!B73","v":0},{"$f":"Results!D73","v":0},{"$f":"Results!G73","v":""},"- vs -",{"$f":"VLOOKUP(B70,Results!$A$8:$AG$60,23,FALSE)","v":{"$error":"#N/A"}},{"$f":"VLOOKUP(H70,Results!A$8:$G$60,3,FALSE)","v":{"$error":"#N/A"}},{"$f":"VLOOKUP(H70,Results!$A$8:$G$60,2,FALSE)","v":{"$error":"#N/A"}},{"$f":"VLOOKUP(H70,Results!$A$8:$G$60,4,FALSE)","v":{"$error":"#N/A"}},{"$f":"VLOOKUP(H70,Results!$A$8:$G$60,7,FALSE)","v":{"$error":"#N/A"}}]
[null,{"$f":"Results!A74","v":0},{"$f":"Results!C74","v":0},{"$f":"Results!B74","v":0},{"$f":"Results!D74","v":0},{"$f":"Results!G74","v":""},"- vs -",{"$f":"VLOOKUP(B71,Results!$A$8:$AG$60,23,FALSE)","v":{"$error":"#N/A"}},{"$f":"VLOOKUP(H71,Results!A$8:$G$60,3,FALSE)","v":{"$error":"#N/A"}},{"$f":"VLOOKUP(H71,Results!$A$8:$G$60,2,FALSE)","v":{"$error":"#N/A"}},{"$f":"VLOOKUP(H71,Results!$A$8:$G$60,4,FALSE)","v":{"$error":"#N/A"}},{"$f":"VLOOKUP(H71,Results!$A$8:$G$60,7,FALSE)","v":{"$error":"#N/A"}}]
[null,{"$f":"Results!A75","v":0},{"$f":"Results!C75","v":0},{"$f":"Results!B75","v":0},{"$f":"Results!D75","v":0},{"$f":"Results!G75","v":""},"- vs -",{"$f":"VLOOKUP(B72,Results!$A$8:$AG$60,23,FALSE)","v":{"$error":"#N/A"}},{"$f":"VLOOKUP(H72,Results!A$8:$G$60,3,FALSE)","v":{"$error":"#N/A"}},{"$f":"VLOOKUP(H72,Results!$A$8:$G$60,2,FALSE)","v":{"$error":"#N/A"}},{"$f":"VLOOKUP(H72,Results!$A$8:$G$60,4,FALSE)","v":{"$error":"#N/A"}},{"$f":"VLOOKUP(H72,Results!$A$8:$G$60,7,FALSE)","v":{"$error":"#N/A"}}]
[null,{"$f":"Results!A76","v":0},{"$f":"Results!C76","v":0},{"$f":"Results!B76","v":0},{"$f":"Results!D76","v":0},{"$f":"Results!G76","v":""},"- vs -",{"$f":"VLOOKUP(B73,Results!$A$8:$AG$60,23,FALSE)","v":{"$error":"#N/A"}},{"$f":"VLOOKUP(H73,Results!A$8:$G$60,3,FALSE)","v":{"$error":"#N/A"}},{"$f":"VLOOKUP(H73,Results!$A$8:$G$60,2,FALSE)","v":{"$error":"#N/A"}},{"$f":"VLOOKUP(H73,Results!$A$8:$G$60,4,FALSE)","v":{"$error":"#N/A"}},{"$f":"VLOOKUP(H73,Results!$A$8:$G$60,7,FALSE)","v":{"$error":"#N/A"}}]
[null,{"$f":"Results!A77","v":0},{"$f":"Results!C77","v":0},{"$f":"Results!B77","v":0},{"$f":"Results!D77","v":0},{"$f":"Results!G77","v":""},"- vs -",{"$f":"VLOOKUP(B74,Results!$A$8:$AG$60,23,FALSE)","v":{"$error":"#N/A"}},{"$f":"VLOOKUP(H74,Results!A$8:$G$60,3,FALSE)","v":{"$error":"#N/A"}},{"$f":"VLOOKUP(H74,Results!$A$8:$G$60,2,FALSE)","v":{"$error":"#N/A"}},{"$f":"VLOOKUP(H74,Results!$A$8:$G$60,4,FALSE)","v":{"$error":"#N/A"}},{"$f":"VLOOKUP(H74,Results!$A$8:$G$60,7,FALSE)","v":{"$error":"#N/A"}}]
[null,{"$f":"Results!A78","v":0},{"$f":"Results!C78","v":0},{"$f":"Results!B78","v":0},{"$f":"Results!D78","v":0},{"$f":"Results!G78","v":""},"- vs -",{"$f":"VLOOKUP(B75,Results!$A$8:$AG$60,23,FALSE)","v":{"$error":"#N/A"}},{"$f":"VLOOKUP(H75,Results!A$8:$G$60,3,FALSE)","v":{"$error":"#N/A"}},{"$f":"VLOOKUP(H75,Results!$A$8:$G$60,2,FALSE)","v":{"$error":"#N/A"}},{"$f":"VLOOKUP(H75,Results!$A$8:$G$60,4,FALSE)","v":{"$error":"#N/A"}},{"$f":"VLOOKUP(H75,Results!$A$8:$G$60,7,FALSE)","v":{"$error":"#N/A"}}]
[null,{"$f":"Results!A79","v":0},{"$f":"Results!C79","v":0},{"$f":"Results!B79","v":0},{"$f":"Results!D79","v":0},{"$f":"Results!G79","v":""},"- vs -",{"$f":"VLOOKUP(B76,Results!$A$8:$AG$60,23,FALSE)","v":{"$error":"#N/A"}},{"$f":"VLOOKUP(H76,Results!A$8:$G$60,3,FALSE)","v":{"$error":"#N/A"}},{"$f":"VLOOKUP(H76,Results!$A$8:$G$60,2,FALSE)","v":{"$error":"#N/A"}},{"$f":"VLOOKUP(H76,Results!$A$8:$G$60,4,FALSE)","v":{"$error":"#N/A"}},{"$f":"VLOOKUP(H76,Results!$A$8:$G$60,7,FALSE)","v":{"$error":"#N/A"}}]
[null,{"$f":"Results!A80","v":0},{"$f":"Results!C80","v":0},{"$f":"Results!B80","v":0},{"$f":"Results!D80","v":0},{"$f":"Results!G80","v":""},"- vs -",{"$f":"VLOOKUP(B77,Results!$A$8:$AG$60,23,FALSE)","v":{"$error":"#N/A"}},{"$f":"VLOOKUP(H77,Results!A$8:$G$60,3,FALSE)","v":{"$error":"#N/A"}},{"$f":"VLOOKUP(H77,Results!$A$8:$G$60,2,FALSE)","v":{"$error":"#N/A"}},{"$f":"VLOOKUP(H77,Results!$A$8:$G$60,4,FALSE)","v":{"$error":"#N/A"}},{"$f":"VLOOKUP(H77,Results!$A$8:$G$60,7,FALSE)","v":{"$error":"#N/A"}}]
[null,{"$f":"Results!A81","v":0},{"$f":"Results!C81","v":0},{"$f":"Results!B81","v":0},{"$f":"Results!D81","v":0},{"$f":"Results!G81","v":""},"- vs -",{"$f":"VLOOKUP(B78,Results!$A$8:$AG$60,23,FALSE)","v":{"$error":"#N/A"}},{"$f":"VLOOKUP(H78,Results!A$8:$G$60,3,FALSE)","v":{"$error":"#N/A"}},{"$f":"VLOOKUP(H78,Results!$A$8:$G$60,2,FALSE)","v":{"$error":"#N/A"}},{"$f":"VLOOKUP(H78,Results!$A$8:$G$60,4,FALSE)","v":{"$error":"#N/A"}},{"$f":"VLOOKUP(H78,Results!$A$8:$G$60,7,FALSE)","v":{"$error":"#N/A"}}]
[null,{"$f":"Results!A82","v":0},{"$f":"Results!C82","v":0},{"$f":"Results!B82","v":0},{"$f":"Results!D82","v":0},{"$f":"Results!G82","v":""},"- vs -",{"$f":"VLOOKUP(B79,Results!$A$8:$AG$60,23,FALSE)","v":{"$error":"#N/A"}},{"$f":"VLOOKUP(H79,Results!A$8:$G$60,3,FALSE)","v":{"$error":"#N/A"}},{"$f":"VLOOKUP(H79,Results!$A$8:$G$60,2,FALSE)","v":{"$error":"#N/A"}},{"$f":"VLOOKUP(H79,Results!$A$8:$G$60,4,FALSE)","v":{"$error":"#N/A"}},{"$f":"VLOOKUP(H79,Results!$A$8:$G$60,7,FALSE)","v":{"$error":"#N/A"}}]
[null,{"$f":"Results!A83","v":0},{"$f":"Results!C83","v":0},{"$f":"Results!B83","v":0},{"$f":"Results!D83","v":0},{"$f":"Results!G83","v":""},"- vs -",{"$f":"VLOOKUP(B80,Results!$A$8:$AG$60,23,FALSE)","v":{"$error":"#N/A"}},{"$f":"VLOOKUP(H80,Results!A$8:$G$60,3,FALSE)","v":{"$error":"#N/A"}},{"$f":"VLOOKUP(H80,Results!$A$8:$G$60,2,FALSE)","v":{"$error":"#N/A"}},{"$f":"VLOOKUP(H80,Results!$A$8:$G$60,4,FALSE)","v":{"$error":"#N/A"}},{"$f":"VLOOKUP(H80,Results!$A$8:$G$60,7,FALSE)","v":{"$error":"#N/A"}}]
[null,{"$f":"Results!A84","v":0},{"$f":"Results!C84","v":0},{"$f":"Results!B84","v":0},{"$f":"Results!D84","v":0},{"$f":"Results!G84","v":""},"- vs -",{"$f":"VLOOKUP(B81,Results!$A$8:$AG$60,23,FALSE)","v":{"$error":"#N/A"}},{"$f":"VLOOKUP(H81,Results!A$8:$G$60,3,FALSE)","v":{"$error":"#N/A"}},{"$f":"VLOOKUP(H81,Results!$A$8:$G$60,2,FALSE)","v":{"$error":"#N/A"}},{"$f":"VLOOKUP(H81,Results!$A$8:$G$60,4,FALSE)","v":{"$error":"#N/A"}},{"$f":"VLOOKUP(H81,Results!$A$8:$G$60,7,FALSE)","v":{"$error":"#N/A"}}]
[null,{"$f":"Results!A85","v":0},{"$f":"Results!C85","v":0},{"$f":"Results!B85","v":0},{"$f":"Results!D85","v":0},{"$f":"Results!G85","v":""},"- vs -",{"$f":"VLOOKUP(B82,Results!$A$8:$AG$60,23,FALSE)","v":{"$error":"#N/A"}},{"$f":"VLOOKUP(H82,Results!A$8:$G$60,3,FALSE)","v":{"$error":"#N/A"}},{"$f":"VLOOKUP(H82,Results!$A$8:$G$60,2,FALSE)","v":{"$error":"#N/A"}},{"$f":"VLOOKUP(H82,Results!$A$8:$G$60,4,FALSE)","v":{"$error":"#N/A"}},{"$f":"VLOOKUP(H82,Results!$A$8:$G$60,7,FALSE)","v":{"$error":"#N/A"}}]
[null,{"$f":"Results!A86","v":0},{"$f":"Results!C86","v":0},{"$f":"Results!B86","v":0},{"$f":"Results!D86","v":0},{"$f":"Results!G86","v":""},"- vs -",{"$f":"VLOOKUP(B83,Results!$A$8:$AG$60,23,FALSE)","v":{"$error":"#N/A"}},{"$f":"VLOOKUP(H83,Results!A$8:$G$60,3,FALSE)","v":{"$error":"#N/A"}},{"$f":"VLOOKUP(H83,Results!$A$8:$G$60,2,FALSE)","v":{"$error":"#N/A"}},{"$f":"VLOOKUP(H83,Results!$A$8:$G$60,4,FALSE)","v":{"$error":"#N/A"}},{"$f":"VLOOKUP(H83,Results!$A$8:$G$60,7,FALSE)","v":{"$error":"#N/A"}}]
[null,{"$f":"Results!A87","v":0},{"$f":"Results!C87","v":0},{"$f":"Results!B87","v":0},{"$f":"Results!D87","v":0},{"$f":"Results!G87","v":""},"- vs -",{"$f":"VLOOKUP(B84,Results!$A$8:$AG$60,23,FALSE)","v":{"$error":"#N/A"}},{"$f":"VLOOKUP(H84,Results!A$8:$G$60,3,FALSE)","v":{"$error":"#N/A"}},{"$f":"VLOOKUP(H84,Results!$A$8:$G$60,2,FALSE)","v":{"$error":"#N/A"}},{"$f":"VLOOKUP(H84,Results!$A$8:$G$60,4,FALSE)","v":{"$error":"#N/A"}},{"$f":"VLOOKUP(H84,Results!$A$8:$G$60,7,FALSE)","v":{"$error":"#N/A"}}]
[null,{"$f":"Results!A88","v":0},{"$f":"Results!C88","v":0},{"$f":"Results!B88","v":0},{"$f":"Results!D88","v":0},{"$f":"Results!G88","v":""},"- vs -",{"$f":"VLOOKUP(B85,Results!$A$8:$AG$60,23,FALSE)","v":{"$error":"#N/A"}},{"$f":"VLOOKUP(H85,Results!A$8:$G$60,3,FALSE)","v":{"$error":"#N/A"}},{"$f":"VLOOKUP(H85,Results!$A$8:$G$60,2,FALSE)","v":{"$error":"#N/A"}},{"$f":"VLOOKUP(H85,Results!$A$8:$G$60,4,FALSE)","v":{"$error":"#N/A"}},{"$f":"VLOOKUP(H85,Results!$A$8:$G$60,7,FALSE)","v":{"$error":"#N/A"}}]
[null,{"$f":"Results!A89","v":0},{"$f":"Results!C89","v":0},{"$f":"Results!B89","v":0},{"$f":"Results!D89","v":0},{"$f":"Results!G89","v":""},"- vs -",{"$f":"VLOOKUP(B86,Results!$A$8:$AG$60,23,FALSE)","v":{"$error":"#N/A"}},{"$f":"VLOOKUP(H86,Results!A$8:$G$60,3,FALSE)","v":{"$error":"#N/A"}},{"$f":"VLOOKUP(H86,Results!$A$8:$G$60,2,FALSE)","v":{"$error":"#N/A"}},{"$f":"VLOOKUP(H86,Results!$A$8:$G$60,4,FALSE)","v":{"$error":"#N/A"}},{"$f":"VLOOKUP(H86,Results!$A$8:$G$60,7,FALSE)","v":{"$error":"#N/A"}}]
[null,{"$f":"Results!A90","v":0},{"$f":"Results!C90","v":0},{"$f":"Results!B90","v":0},{"$f":"Results!D90","v":0},{"$f":"Results!G90","v":""},"- vs -",{"$f":"VLOOKUP(B87,Results!$A$8:$AG$60,23,FALSE)","v":{"$error":"#N/A"}},{"$f":"VLOOKUP(H87,Results!A$8:$G$60,3,FALSE)","v":{"$error":"#N/A"}},{"$f":"VLOOKUP(H87,Results!$A$8:$G$60,2,FALSE)","v":{"$error":"#N/A"}},{"$f":"VLOOKUP(H87,Results!$A$8:$G$60,4,FALSE)","v":{"$error":"#N/A"}},{"$f":"VLOOKUP(H87,Results!$A$8:$G$60,7,FALSE)","v":{"$error":"#N/A"}}]
[null,{"$f":"Results!A91","v":0},{"$f":"Results!C91","v":0},{"$f":"Results!B91","v":0},{"$f":"Results!D91","v":0},{"$f":"Results!G91","v":""},"- vs -",{"$f":"VLOOKUP(B88,Results!$A$8:$AG$60,23,FALSE)","v":{"$error":"#N/A"}},{"$f":"VLOOKUP(H88,Results!A$8:$G$60,3,FALSE)","v":{"$error":"#N/A"}},{"$f":"VLOOKUP(H88,Results!$A$8:$G$60,2,FALSE)","v":{"$error":"#N/A"}},{"$f":"VLOOKUP(H88,Results!$A$8:$G$60,4,FALSE)","v":{"$error":"#N/A"}},{"$f":"VLOOKUP(H88,Results!$A$8:$G$60,7,FALSE)","v":{"$error":"#N/A"}}]
[null,{"$f":"Results!A92","v":0},{"$f":"Results!C92","v":0},{"$f":"Results!B92","v":0},{"$f":"Results!D92","v":0},{"$f":"Results!G92","v":""},"- vs -",{"$f":"VLOOKUP(B89,Results!$A$8:$AG$60,23,FALSE)","v":{"$error":"#N/A"}},{"$f":"VLOOKUP(H89,Results!A$8:$G$60,3,FALSE)","v":{"$error":"#N/A"}},{"$f":"VLOOKUP(H89,Results!$A$8:$G$60,2,FALSE)","v":{"$error":"#N/A"}},{"$f":"VLOOKUP(H89,Results!$A$8:$G$60,4,FALSE)","v":{"$error":"#N/A"}},{"$f":"VLOOKUP(H89,Results!$A$8:$G$60,7,FALSE)","v":{"$error":"#N/A"}}]
[null,{"$f":"Results!A93","v":0},{"$f":"Results!C93","v":0},{"$f":"Results!B93","v":0},{"$f":"Results!D93","v":0},{"$f":"Results!G93","v":""},"- vs -",{"$f":"VLOOKUP(B90,Results!$A$8:$AG$60,23,FALSE)","v":{"$error":"#N/A"}},{"$f":"VLOOKUP(H90,Results!A$8:$G$60,3,FALSE)","v":{"$error":"#N/A"}},{"$f":"VLOOKUP(H90,Results!$A$8:$G$60,2,FALSE)","v":{"$error":"#N/A"}},{"$f":"VLOOKUP(H90,Results!$A$8:$G$60,4,FALSE)","v":{"$error":"#N/A"}},{"$f":"VLOOKUP(H90,Results!$A$8:$G$60,7,FALSE)","v":{"$error":"#N/A"}}]
[null,{"$f":"Results!A94","v":0},{"$f":"Results!C94","v":0},{"$f":"Results!B94","v":0},{"$f":"Results!D94","v":0},{"$f":"Results!G94","v":""},"- vs -",{"$f":"VLOOKUP(B91,Results!$A$8:$AG$60,23,FALSE)","v":{"$error":"#N/A"}},{"$f":"VLOOKUP(H91,Results!A$8:$G$60,3,FALSE)","v":{"$error":"#N/A"}},{"$f":"VLOOKUP(H91,Results!$A$8:$G$60,2,FALSE)","v":{"$error":"#N/A"}},{"$f":"VLOOKUP(H91,Results!$A$8:$G$60,4,FALSE)","v":{"$error":"#N/A"}},{"$f":"VLOOKUP(H91,Results!$A$8:$G$60,7,FALSE)","v":{"$error":"#N/A"}}]
[null,{"$f":"Results!A95","v":0},{"$f":"Results!C95","v":0},{"$f":"Results!B95","v":0},{"$f":"Results!D95","v":0},{"$f":"Results!G95","v":""},"- vs -",{"$f":"VLOOKUP(B92,Results!$A$8:$AG$60,23,FALSE)","v":{"$error":"#N/A"}},{"$f":"VLOOKUP(H92,Results!A$8:$G$60,3,FALSE)","v":{"$error":"#N/A"}},{"$f":"VLOOKUP(H92,Results!$A$8:$G$60,2,FALSE)","v":{"$error":"#N/A"}},{"$f":"VLOOKUP(H92,Results!$A$8:$G$60,4,FALSE)","v":{"$error":"#N/A"}},{"$f":"VLOOKUP(H92,Results!$A$8:$G$60,7,FALSE)","v":{"$error":"#N/A"}}]
[null,{"$f":"Results!A96","v":0},{"$f":"Results!C96","v":0},{"$f":"Results!B96","v":0},{"$f":"Results!D96","v":0},{"$f":"Results!G96","v":""},"- vs -",{"$f":"VLOOKUP(B93,Results!$A$8:$AG$60,23,FALSE)","v":{"$error":"#N/A"}},{"$f":"VLOOKUP(H93,Results!A$8:$G$60,3,FALSE)","v":{"$error":"#N/A"}},{"$f":"VLOOKUP(H93,Results!$A$8:$G$60,2,FALSE)","v":{"$error":"#N/A"}},{"$f":"VLOOKUP(H93,Results!$A$8:$G$60,4,FALSE)","v":{"$error":"#N/A"}},{"$f":"VLOOKUP(H93,Results!$A$8:$G$60,7,FALSE)","v":{"$error":"#N/A"}}]
[null,{"$f":"Results!A97","v":0},{"$f":"Results!C97","v":0},{"$f":"Results!B97","v":0},{"$f":"Results!D97","v":0},{"$f":"Results!G97","v":""},"- vs -",{"$f":"VLOOKUP(B94,Results!$A$8:$AG$60,23,FALSE)","v":{"$error":"#N/A"}},{"$f":"VLOOKUP(H94,Results!A$8:$G$60,3,FALSE)","v":{"$error":"#N/A"}},{"$f":"VLOOKUP(H94,Results!$A$8:$G$60,2,FALSE)","v":{"$error":"#N/A"}},{"$f":"VLOOKUP(H94,Results!$A$8:$G$60,4,FALSE)","v":{"$error":"#N/A"}},{"$f":"VLOOKUP(H94,Results!$A$8:$G$60,7,FALSE)","v":{"$error":"#N/A"}}]
[null,{"$f":"Results!A98","v":0},{"$f":"Results!C98","v":0},{"$f":"Results!B98","v":0},{"$f":"Results!D98","v":0},{"$f":"Results!G98","v":""},"- vs -",{"$f":"VLOOKUP(B95,Results!$A$8:$AG$60,23,FALSE)","v":{"$error":"#N/A"}},{"$f":"VLOOKUP(H95,Results!A$8:$G$60,3,FALSE)","v":{"$error":"#N/A"}},{"$f":"VLOOKUP(H95,Results!$A$8:$G$60,2,FALSE)","v":{"$error":"#N/A"}},{"$f":"VLOOKUP(H95,Results!$A$8:$G$60,4,FALSE)","v":{"$error":"#N/A"}},{"$f":"VLOOKUP(H95,Results!$A$8:$G$60,7,FALSE)","v":{"$error":"#N/A"}}]
[null,{"$f":"Results!A99","v":0},{"$f":"Results!C99","v":0},{"$f":"Results!B99","v":0},{"$f":"Results!D99","v":0},{"$f":"Results!G99","v":""},"- vs -",{"$f":"VLOOKUP(B96,Results!$A$8:$AG$60,23,FALSE)","v":{"$error":"#N/A"}},{"$f":"VLOOKUP(H96,Results!A$8:$G$60,3,FALSE)","v":{"$error":"#N/A"}},{"$f":"VLOOKUP(H96,Results!$A$8:$G$60,2,FALSE)","v":{"$error":"#N/A"}},{"$f":"VLOOKUP(H96,Results!$A$8:$G$60,4,FALSE)","v":{"$error":"#N/A"}},{"$f":"VLOOKUP(H96,Results!$A$8:$G$60,7,FALSE)","v":{"$error":"#N/A"}}]
[null,{"$f":"Results!A100","v":0},{"$f":"Results!C100","v":0},{"$f":"Results!B100","v":0},{"$f":"Results!D100","v":0},{"$f":"Results!G100","v":""},"- vs -",{"$f":"VLOOKUP(B97,Results!$A$8:$AG$60,23,FALSE)","v":{"$error":"#N/A"}},{"$f":"VLOOKUP(H97,Results!A$8:$G$60,3,FALSE)","v":{"$error":"#N/A"}},{"$f":"VLOOKUP(H97,Results!$A$8:$G$60,2,FALSE)","v":{"$error":"#N/A"}},{"$f":"VLOOKUP(H97,Results!$A$8:$G$60,4,FALSE)","v":{"$error":"#N/A"}},{"$f":"VLOOKUP(H97,Results!$A$8:$G$60,7,FALSE)","v":{"$error":"#N/A"}}]
[null,{"$f":"Results!A101","v":0},{"$f":"Results!C101","v":0},{"$f":"Results!B101","v":0},{"$f":"Results!D101","v":0},{"$f":"Results!G101","v":""},"- vs -",{"$f":"VLOOKUP(B98,Results!$A$8:$AG$60,23,FALSE)","v":{"$error":"#N/A"}},{"$f":"VLOOKUP(H98,Results!A$8:$G$60,3,FALSE)","v":{"$error":"#N/A"}},{"$f":"VLOOKUP(H98,Results!$A$8:$G$60,2,FALSE)","v":{"$error":"#N/A"}},{"$f":"VLOOKUP(H98,Results!$A$8:$G$60,4,FALSE)","v":{"$error":"#N/A"}},{"$f":"VLOOKUP(H98,Results!$A$8:$G$60,7,FALSE)","v":{"$error":"#N/A"}}]
[null,{"$f":"Results!A102","v":0},{"$f":"Results!C102","v":0},{"$f":"Results!B102","v":0},{"$f":"Results!D102","v":0},{"$f":"Results!G102","v":""},"- vs -",{"$f":"VLOOKUP(B99,Results!$A$8:$AG$60,23,FALSE)","v":{"$error":"#N/A"}},{"$f":"VLOOKUP(H99,Results!A$8:$G$60,3,FALSE)","v":{"$error":"#N/A"}},{"$f":"VLOOKUP(H99,Results!$A$8:$G$60,2,FALSE)","v":{"$error":"#N/A"}},{"$f":"VLOOKUP(H99,Results!$A$8:$G$60,4,FALSE)","v":{"$error":"#N/A"}},{"$f":"VLOOKUP(H99,Results!$A$8:$G$60,7,FALSE)","v":{"$error":"#N/A"}}]
[null,{"$f":"Results!A103","v":0},{"$f":"Results!C103","v":0},{"$f":"Results!B103","v":0},{"$f":"Results!D103","v":0},{"$f":"Results!G103","v":""},"- vs -",{"$f":"VLOOKUP(B100,Results!$A$8:$AG$60,23,FALSE)","v":{"$error":"#N/A"}},{"$f":"VLOOKUP(H100,Results!A$8:$G$60,3,FALSE)","v":{"$error":"#N/A"}},{"$f":"VLOOKUP(H100,Results!$A$8:$G$60,2,FALSE)","v":{"$error":"#N/A"}},{"$f":"VLOOKUP(H100,Results!$A$8:$G$60,4,FALSE)","v":{"$error":"#N/A"}},{"$f":"VLOOKUP(H100,Results!$A$8:$G$60,7,FALSE)","v":{"$error":"#N/A"}}]
[null,{"$f":"Results!A104","v":0},{"$f":"Results!C104","v":0},{"$f":"Results!B104","v":0},{"$f":"Results!D104","v":0},{"$f":"Results!G104","v":""},"- vs -",{"$f":"VLOOKUP(B101,Results!$A$8:$AG$60,23,FALSE)","v":{"$error":"#N/A"}},{"$f":"VLOOKUP(H101,Results!A$8:$G$60,3,FALSE)","v":{"$error":"#N/A"}},{"$f":"VLOOKUP(H101,Results!$A$8:$G$60,2,FALSE)","v":{"$error":"#N/A"}},{"$f":"VLOOKUP(H101,Results!$A$8:$G$60,4,FALSE)","v":{"$error":"#N/A"}},{"$f":"VLOOKUP(H101,Results!$A$8:$G$60,7,FALSE)","v":{"$error":"#N/A"}}]
[null,{"$f":"Results!A105","v":0},{"$f":"Results!C105","v":0},{"$f":"Results!B105","v":0},{"$f":"Results!D105","v":0},{"$f":"Results!G105","v":""},"- vs -",{"$f":"VLOOKUP(B102,Results!$A$8:$AG$60,23,FALSE)","v":{"$error":"#N/A"}},{"$f":"VLOOKUP(H102,Results!A$8:$G$60,3,FALSE)","v":{"$error":"#N/A"}},{"$f":"VLOOKUP(H102,Results!$A$8:$G$60,2,FALSE)","v":{"$error":"#N/A"}},{"$f":"VLOOKUP(H102,Results!$A$8:$G$60,4,FALSE)","v":{"$error":"#N/A"}},{"$f":"VLOOKUP(H102,Results!$A$8:$G$60,7,FALSE)","v":{"$error":"#N/A"}}]
[null,{"$f":"Results!A106","v":0},{"$f":"Results!C106","v":0},{"$f":"Results!B106","v":0},{"$f":"Results!D106","v":0},{"$f":"Results!G106","v":""},"- vs -",{"$f":"VLOOKUP(B103,Results!$A$8:$AG$60,23,FALSE)","v":{"$error":"#N/A"}},{"$f":"VLOOKUP(H103,Results!A$8:$G$60,3,FALSE)","v":{"$error":"#N/A"}},{"$f":"VLOOKUP(H103,Results!$A$8:$G$60,2,FALSE)","v":{"$error":"#N/A"}},{"$f":"VLOOKUP(H103,Results!$A$8:$G$60,4,FALSE)","v":{"$error":"#N/A"}},{"$f":"VLOOKUP(H103,Results!$A$8:$G$60,7,FALSE)","v":{"$error":"#N/A"}}]
[null,{"$f":"Results!A107","v":0},{"$f":"Results!C107","v":0},{"$f":"Results!B107","v":0},{"$f":"Results!D107","v":0},{"$f":"Results!G107","v":""},"- vs -",{"$f":"VLOOKUP(B104,Results!$A$8:$AG$60,23,FALSE)","v":{"$error":"#N/A"}},{"$f":"VLOOKUP(H104,Results!A$8:$G$60,3,FALSE)","v":{"$error":"#N/A"}},{"$f":"VLOOKUP(H104,Results!$A$8:$G$60,2,FALSE)","v":{"$error":"#N/A"}},{"$f":"VLOOKUP(H104,Results!$A$8:$G$60,4,FALSE)","v":{"$error":"#N/A"}},{"$f":"VLOOKUP(H104,Results!$A$8:$G$60,7,FALSE)","v":{"$error":"#N/A"}}]

{"sheet":"Round 4","index":12,"n_rows":104,"n_cols":13,"rows_kept":104}
[]
[null,null,{"$f":"Results!B3","v":0},null,"Round 4 Draw"]
[null,null,{"$f":"Results!B4","v":"Classical Period"}]
[{"$nulls":12},"VALID?"]
[null,{"$f":"Results!A8","v":0},{"$f":"Results!C8","v":0},{"$f":"Results!B8","v":0},{"$f":"Results!D8","v":0},{"$f":"Results!G8","v":""},"- vs -",{"$f":"VLOOKUP(B5,Results!$A$8:$AG$60,30,FALSE)","v":{"$error":"#N/A"}},{"$f":"VLOOKUP(H5,Results!A$8:$G$60,3,FALSE)","v":{"$error":"#N/A"}},{"$f":"VLOOKUP(H5,Results!$A$8:$G$60,2,FALSE)","v":{"$error":"#N/A"}},{"$f":"VLOOKUP(H5,Results!$A$8:$G$60,4,FALSE)","v":{"$error":"#N/A"}},{"$f":"VLOOKUP(H5,Results!$A$8:$G$60,7,FALSE)","v":{"$error":"#N/A"}},{"$f":"VLOOKUP(H5,$B$4:B5,1,FALSE)","v":{"$error":"#N/A"}}]
[null,{"$f":"Results!A9","v":0},{"$f":"Results!C9","v":0},{"$f":"Results!B9","v":0},{"$f":"Results!D9","v":0},{"$f":"Results!G9","v":""},"- vs -",{"$f":"VLOOKUP(B6,Results!$A$8:$AG$60,30,FALSE)","v":{"$error":"#N/A"}},{"$f":"VLOOKUP(H6,Results!A$8:$G$60,3,FALSE)","v":{"$error":"#N/A"}},{"$f":"VLOOKUP(H6,Results!$A$8:$G$60,2,FALSE)","v":{"$error":"#N/A"}},{"$f":"VLOOKUP(H6,Results!$A$8:$G$60,4,FALSE)","v":{"$error":"#N/A"}},{"$f":"VLOOKUP(H6,Results!$A$8:$G$60,7,FALSE)","v":{"$error":"#N/A"}},{"$f":"VLOOKUP(H6,$B$4:B6,1,FALSE)","v":{"$error":"#N/A"}}]
[null,{"$f":"Results!A10","v":0},{"$f":"Results!C10","v":0},{"$f":"Results!B10","v":0},{"$f":"Results!D10","v":0},{"$f":"Results!G10","v":""},"- vs -",{"$f":"VLOOKUP(B7,Results!$A$8:$AG$60,30,FALSE)","v":{"$error":"#N/A"}},{"$f":"VLOOKUP(H7,Results!A$8:$G$60,3,FALSE)","v":{"$error":"#N/A"}},{"$f":"VLOOKUP(H7,Results!$A$8:$G$60,2,FALSE)","v":{"$error":"#N/A"}},{"$f":"VLOOKUP(H7,Results!$A$8:$G$60,4,FALSE)","v":{"$error":"#N/A"}},{"$f":"VLOOKUP(H7,Results!$A$8:$G$60,7,FALSE)","v":{"$error":"#N/A"}},{"$f":"VLOOKUP(H7,$B$4:B7,1,FALSE)","v":{"$error":"#N/A"}}]
[null,{"$f":"Results!A11","v":0},{"$f":"Results!C11","v":0},{"$f":"Results!B11","v":0},{"$f":"Results!D11","v":0},{"$f":"Results!G11","v":""},"- vs -",{"$f":"VLOOKUP(B8,Results!$A$8:$AG$60,30,FALSE)","v":{"$error":"#N/A"}},{"$f":"VLOOKUP(H8,Results!A$8:$G$60,3,FALSE)","v":{"$error":"#N/A"}},{"$f":"VLOOKUP(H8,Results!$A$8:$G$60,2,FALSE)","v":{"$error":"#N/A"}},{"$f":"VLOOKUP(H8,Results!$A$8:$G$60,4,FALSE)","v":{"$error":"#N/A"}},{"$f":"VLOOKUP(H8,Results!$A$8:$G$60,7,FALSE)","v":{"$error":"#N/A"}},{"$f":"VLOOKUP(H8,$B$4:B8,1,FALSE)","v":{"$error":"#N/A"}}]
[null,{"$f":"Results!A12","v":0},{"$f":"Results!C12","v":0},{"$f":"Results!B12","v":0},{"$f":"Results!D12","v":0},{"$f":"Results!G12","v":""},"- vs -",{"$f":"VLOOKUP(B9,Results!$A$8:$AG$60,30,FALSE)","v":{"$error":"#N/A"}},{"$f":"VLOOKUP(H9,Results!A$8:$G$60,3,FALSE)","v":{"$error":"#N/A"}},{"$f":"VLOOKUP(H9,Results!$A$8:$G$60,2,FALSE)","v":{"$error":"#N/A"}},{"$f":"VLOOKUP(H9,Results!$A$8:$G$60,4,FALSE)","v":{"$error":"#N/A"}},{"$f":"VLOOKUP(H9,Results!$A$8:$G$60,7,FALSE)","v":{"$error":"#N/A"}},{"$f":"VLOOKUP(H9,$B$4:B9,1,FALSE)","v":{"$error":"#N/A"}}]
[null,{"$f":"Results!A13","v":0},{"$f":"Results!C13","v":0},{"$f":"Results!B13","v":0},{"$f":"Results!D13","v":0},{"$f":"Results!G13","v":""},"- vs -",{"$f":"VLOOKUP(B10,Results!$A$8:$AG$60,30,FALSE)","v":{"$error":"#N/A"}},{"$f":"VLOOKUP(H10,Results!A$8:$G$60,3,FALSE)","v":{"$error":"#N/A"}},{"$f":"VLOOKUP(H10,Results!$A$8:$G$60,2,FALSE)","v":{"$error":"#N/A"}},{"$f":"VLOOKUP(H10,Results!$A$8:$G$60,4,FALSE)","v":{"$error":"#N/A"}},{"$f":"VLOOKUP(H10,Results!$A$8:$G$60,7,FALSE)","v":{"$error":"#N/A"}},{"$f":"VLOOKUP(H10,$B$4:B10,1,FALSE)","v":{"$error":"#N/A"}}]
[null,{"$f":"Results!A14","v":0},{"$f":"Results!C14","v":0},{"$f":"Results!B14","v":0},{"$f":"Results!D14","v":0},{"$f":"Results!G14","v":""},"- vs -",{"$f":"VLOOKUP(B11,Results!$A$8:$AG$60,30,FALSE)","v":{"$error":"#N/A"}},{"$f":"VLOOKUP(H11,Results!A$8:$G$60,3,FALSE)","v":{"$error":"#N/A"}},{"$f":"VLOOKUP(H11,Results!$A$8:$G$60,2,FALSE)","v":{"$error":"#N/A"}},{"$f":"VLOOKUP(H11,Results!$A$8:$G$60,4,FALSE)","v":{"$error":"#N/A"}},{"$f":"VLOOKUP(H11,Results!$A$8:$G$60,7,FALSE)","v":{"$error":"#N/A"}},{"$f":"VLOOKUP(H11,$B$4:B11,1,FALSE)","v":{"$error":"#N/A"}}]
[null,{"$f":"Results!A15","v":0},{"$f":"Results!C15","v":0},{"$f":"Results!B15","v":0},{"$f":"Results!D15","v":0},{"$f":"Results!G15","v":""},"- vs -",{"$f":"VLOOKUP(B12,Results!$A$8:$AG$60,30,FALSE)","v":{"$error":"#N/A"}},{"$f":"VLOOKUP(H12,Results!A$8:$G$60,3,FALSE)","v":{"$error":"#N/A"}},{"$f":"VLOOKUP(H12,Results!$A$8:$G$60,2,FALSE)","v":{"$error":"#N/A"}},{"$f":"VLOOKUP(H12,Results!$A$8:$G$60,4,FALSE)","v":{"$error":"#N/A"}},{"$f":"VLOOKUP(H12,Results!$A$8:$G$60,7,FALSE)","v":{"$error":"#N/A"}},{"$f":"VLOOKUP(H12,$B$4:B12,1,FALSE)","v":{"$error":"#N/A"}}]
[null,{"$f":"Results!A16","v":0},{"$f":"Results!C16","v":0},{"$f":"Results!B16","v":0},{"$f":"Results!D16","v":0},{"$f":"Results!G16","v":""},"- vs -",{"$f":"VLOOKUP(B13,Results!$A$8:$AG$60,30,FALSE)","v":{"$error":"#N/A"}},{"$f":"VLOOKUP(H13,Results!A$8:$G$60,3,FALSE)","v":{"$error":"#N/A"}},{"$f":"VLOOKUP(H13,Results!$A$8:$G$60,2,FALSE)","v":{"$error":"#N/A"}},{"$f":"VLOOKUP(H13,Results!$A$8:$G$60,4,FALSE)","v":{"$error":"#N/A"}},{"$f":"VLOOKUP(H13,Results!$A$8:$G$60,7,FALSE)","v":{"$error":"#N/A"}},{"$f":"VLOOKUP(H13,$B$4:B13,1,FALSE)","v":{"$error":"#N/A"}}]
[null,{"$f":"Results!A17","v":0},{"$f":"Results!C17","v":0},{"$f":"Results!B17","v":0},{"$f":"Results!D17","v":0},{"$f":"Results!G17","v":""},"- vs -",{"$f":"VLOOKUP(B14,Results!$A$8:$AG$60,30,FALSE)","v":{"$error":"#N/A"}},{"$f":"VLOOKUP(H14,Results!A$8:$G$60,3,FALSE)","v":{"$error":"#N/A"}},{"$f":"VLOOKUP(H14,Results!$A$8:$G$60,2,FALSE)","v":{"$error":"#N/A"}},{"$f":"VLOOKUP(H14,Results!$A$8:$G$60,4,FALSE)","v":{"$error":"#N/A"}},{"$f":"VLOOKUP(H14,Results!$A$8:$G$60,7,FALSE)","v":{"$error":"#N/A"}},{"$f":"VLOOKUP(H14,$B$4:B14,1,FALSE)","v":{"$error":"#N/A"}}]
[null,{"$f":"Results!A18","v":0},{"$f":"Results!C18","v":0},{"$f":"Results!B18","v":0},{"$f":"Results!D18","v":0},{"$f":"Results!G18","v":""},"- vs -",{"$f":"VLOOKUP(B15,Results!$A$8:$AG$60,30,FALSE)","v":{"$error":"#N/A"}},{"$f":"VLOOKUP(H15,Results!A$8:$G$60,3,FALSE)","v":{"$error":"#N/A"}},{"$f":"VLOOKUP(H15,Results!$A$8:$G$60,2,FALSE)","v":{"$error":"#N/A"}},{"$f":"VLOOKUP(H15,Results!$A$8:$G$60,4,FALSE)","v":{"$error":"#N/A"}},{"$f":"VLOOKUP(H15,Results!$A$8:$G$60,7,FALSE)","v":{"$error":"#N/A"}},{"$f":"VLOOKUP(H15,$B$4:B15,1,FALSE)","v":{"$error":"#N/A"}}]
[null,{"$f":"Results!A19","v":0},{"$f":"Results!C19","v":0},{"$f":"Results!B19","v":0},{"$f":"Results!D19","v":0},{"$f":"Results!G19","v":""},"- vs -",{"$f":"VLOOKUP(B16,Results!$A$8:$AG$60,30,FALSE)","v":{"$error":"#N/A"}},{"$f":"VLOOKUP(H16,Results!A$8:$G$60,3,FALSE)","v":{"$error":"#N/A"}},{"$f":"VLOOKUP(H16,Results!$A$8:$G$60,2,FALSE)","v":{"$error":"#N/A"}},{"$f":"VLOOKUP(H16,Results!$A$8:$G$60,4,FALSE)","v":{"$error":"#N/A"}},{"$f":"VLOOKUP(H16,Results!$A$8:$G$60,7,FALSE)","v":{"$error":"#N/A"}},{"$f":"VLOOKUP(H16,$B$4:B16,1,FALSE)","v":{"$error":"#N/A"}}]
[null,{"$f":"Results!A20","v":0},{"$f":"Results!C20","v":0},{"$f":"Results!B20","v":0},{"$f":"Results!D20","v":0},{"$f":"Results!G20","v":""},"- vs -",{"$f":"VLOOKUP(B17,Results!$A$8:$AG$60,30,FALSE)","v":{"$error":"#N/A"}},{"$f":"VLOOKUP(H17,Results!A$8:$G$60,3,FALSE)","v":{"$error":"#N/A"}},{"$f":"VLOOKUP(H17,Results!$A$8:$G$60,2,FALSE)","v":{"$error":"#N/A"}},{"$f":"VLOOKUP(H17,Results!$A$8:$G$60,4,FALSE)","v":{"$error":"#N/A"}},{"$f":"VLOOKUP(H17,Results!$A$8:$G$60,7,FALSE)","v":{"$error":"#N/A"}},{"$f":"VLOOKUP(H17,$B$4:B17,1,FALSE)","v":{"$error":"#N/A"}}]
[null,{"$f":"Results!A21","v":0},{"$f":"Results!C21","v":0},{"$f":"Results!B21","v":0},{"$f":"Results!D21","v":0},{"$f":"Results!G21","v":""},"- vs -",{"$f":"VLOOKUP(B18,Results!$A$8:$AG$60,30,FALSE)","v":{"$error":"#N/A"}},{"$f":"VLOOKUP(H18,Results!A$8:$G$60,3,FALSE)","v":{"$error":"#N/A"}},{"$f":"VLOOKUP(H18,Results!$A$8:$G$60,2,FALSE)","v":{"$error":"#N/A"}},{"$f":"VLOOKUP(H18,Results!$A$8:$G$60,4,FALSE)","v":{"$error":"#N/A"}},{"$f":"VLOOKUP(H18,Results!$A$8:$G$60,7,FALSE)","v":{"$error":"#N/A"}},{"$f":"VLOOKUP(H18,$B$4:B18,1,FALSE)","v":{"$error":"#N/A"}}]
[null,{"$f":"Results!A22","v":0},{"$f":"Results!C22","v":0},{"$f":"Results!B22","v":0},{"$f":"Results!D22","v":0},{"$f":"Results!G22","v":""},"- vs -",{"$f":"VLOOKUP(B19,Results!$A$8:$AG$60,30,FALSE)","v":{"$error":"#N/A"}},{"$f":"VLOOKUP(H19,Results!A$8:$G$60,3,FALSE)","v":{"$error":"#N/A"}},{"$f":"VLOOKUP(H19,Results!$A$8:$G$60,2,FALSE)","v":{"$error":"#N/A"}},{"$f":"VLOOKUP(H19,Results!$A$8:$G$60,4,FALSE)","v":{"$error":"#N/A"}},{"$f":"VLOOKUP(H19,Results!$A$8:$G$60,7,FALSE)","v":{"$error":"#N/A"}},{"$f":"VLOOKUP(H19,$B$4:B19,1,FALSE)","v":{"$error":"#N/A"}}]
[null,{"$f":"Results!A23","v":0},{"$f":"Results!C23","v":0},{"$f":"Results!B23","v":0},{"$f":"Results!D23","v":0},{"$f":"Results!G23","v":""},"- vs -",{"$f":"VLOOKUP(B20,Results!$A$8:$AG$60,30,FALSE)","v":{"$error":"#N/A"}},{"$f":"VLOOKUP(H20,Results!A$8:$G$60,3,FALSE)","v":{"$error":"#N/A"}},{"$f":"VLOOKUP(H20,Results!$A$8:$G$60,2,FALSE)","v":{"$error":"#N/A"}},{"$f":"VLOOKUP(H20,Results!$A$8:$G$60,4,FALSE)","v":{"$error":"#N/A"}},{"$f":"VLOOKUP(H20,Results!$A$8:$G$60,7,FALSE)","v":{"$error":"#N/A"}},{"$f":"VLOOKUP(H20,$B$4:B20,1,FALSE)","v":{"$error":"#N/A"}}]
[null,{"$f":"Results!A24","v":0},{"$f":"Results!C24","v":0},{"$f":"Results!B24","v":0},{"$f":"Results!D24","v":0},{"$f":"Results!G24","v":""},"- vs -",{"$f":"VLOOKUP(B21,Results!$A$8:$AG$60,30,FALSE)","v":{"$error":"#N/A"}},{"$f":"VLOOKUP(H21,Results!A$8:$G$60,3,FALSE)","v":{"$error":"#N/A"}},{"$f":"VLOOKUP(H21,Results!$A$8:$G$60,2,FALSE)","v":{"$error":"#N/A"}},{"$f":"VLOOKUP(H21,Results!$A$8:$G$60,4,FALSE)","v":{"$error":"#N/A"}},{"$f":"VLOOKUP(H21,Results!$A$8:$G$60,7,FALSE)","v":{"$error":"#N/A"}},{"$f":"VLOOKUP(H21,$B$4:B21,1,FALSE)","v":{"$error":"#N/A"}}]
[null,{"$f":"Results!A25","v":0},{"$f":"Results!C25","v":0},{"$f":"Results!B25","v":0},{"$f":"Results!D25","v":0},{"$f":"Results!G25","v":""},"- vs -",{"$f":"VLOOKUP(B22,Results!$A$8:$AG$60,30,FALSE)","v":{"$error":"#N/A"}},{"$f":"VLOOKUP(H22,Results!A$8:$G$60,3,FALSE)","v":{"$error":"#N/A"}},{"$f":"VLOOKUP(H22,Results!$A$8:$G$60,2,FALSE)","v":{"$error":"#N/A"}},{"$f":"VLOOKUP(H22,Results!$A$8:$G$60,4,FALSE)","v":{"$error":"#N/A"}},{"$f":"VLOOKUP(H22,Results!$A$8:$G$60,7,FALSE)","v":{"$error":"#N/A"}},{"$f":"VLOOKUP(H22,$B$4:B22,1,FALSE)","v":{"$error":"#N/A"}}]
[null,{"$f":"Results!A26","v":0},{"$f":"Results!C26","v":0},{"$f":"Results!B26","v":0},{"$f":"Results!D26","v":0},{"$f":"Results!G26","v":""},"- vs -",{"$f":"VLOOKUP(B23,Results!$A$8:$AG$60,30,FALSE)","v":{"$error":"#N/A"}},{"$f":"VLOOKUP(H23,Results!A$8:$G$60,3,FALSE)","v":{"$error":"#N/A"}},{"$f":"VLOOKUP(H23,Results!$A$8:$G$60,2,FALSE)","v":{"$error":"#N/A"}},{"$f":"VLOOKUP(H23,Results!$A$8:$G$60,4,FALSE)","v":{"$error":"#N/A"}},{"$f":"VLOOKUP(H23,Results!$A$8:$G$60,7,FALSE)","v":{"$error":"#N/A"}},{"$f":"VLOOKUP(H23,$B$4:B23,1,FALSE)","v":{"$error":"#N/A"}}]
[null,{"$f":"Results!A27","v":0},{"$f":"Results!C27","v":0},{"$f":"Results!B27","v":0},{"$f":"Results!D27","v":0},{"$f":"Results!G27","v":""},"- vs -",{"$f":"VLOOKUP(B24,Results!$A$8:$AG$60,30,FALSE)","v":{"$error":"#N/A"}},{"$f":"VLOOKUP(H24,Results!A$8:$G$60,3,FALSE)","v":{"$error":"#N/A"}},{"$f":"VLOOKUP(H24,Results!$A$8:$G$60,2,FALSE)","v":{"$error":"#N/A"}},{"$f":"VLOOKUP(H24,Results!$A$8:$G$60,4,FALSE)","v":{"$error":"#N/A"}},{"$f":"VLOOKUP(H24,Results!$A$8:$G$60,7,FALSE)","v":{"$error":"#N/A"}},{"$f":"VLOOKUP(H24,$B$4:B24,1,FALSE)","v":{"$error":"#N/A"}}]
[null,{"$f":"Results!A28","v":0},{"$f":"Results!C28","v":0},{"$f":"Results!B28","v":0},{"$f":"Results!D28","v":0},{"$f":"Results!G28","v":""},"- vs -",{"$f":"VLOOKUP(B25,Results!$A$8:$AG$60,30,FALSE)","v":{"$error":"#N/A"}},{"$f":"VLOOKUP(H25,Results!A$8:$G$60,3,FALSE)","v":{"$error":"#N/A"}},{"$f":"VLOOKUP(H25,Results!$A$8:$G$60,2,FALSE)","v":{"$error":"#N/A"}},{"$f":"VLOOKUP(H25,Results!$A$8:$G$60,4,FALSE)","v":{"$error":"#N/A"}},{"$f":"VLOOKUP(H25,Results!$A$8:$G$60,7,FALSE)","v":{"$error":"#N/A"}},{"$f":"VLOOKUP(H25,$B$4:B25,1,FALSE)","v":{"$error":"#N/A"}}]
[null,{"$f":"Results!A29","v":0},{"$f":"Results!C29","v":0},{"$f":"Results!B29","v":0},{"$f":"Results!D29","v":0},{"$f":"Results!G29","v":""},"- vs -",{"$f":"VLOOKUP(B26,Results!$A$8:$AG$60,30,FALSE)","v":{"$error":"#N/A"}},{"$f":"VLOOKUP(H26,Results!A$8:$G$60,3,FALSE)","v":{"$error":"#N/A"}},{"$f":"VLOOKUP(H26,Results!$A$8:$G$60,2,FALSE)","v":{"$error":"#N/A"}},{"$f":"VLOOKUP(H26,Results!$A$8:$G$60,4,FALSE)","v":{"$error":"#N/A"}},{"$f":"VLOOKUP(H26,Results!$A$8:$G$60,7,FALSE)","v":{"$error":"#N/A"}},{"$f":"VLOOKUP(H26,$B$4:B26,1,FALSE)","v":{"$error":"#N/A"}}]
[null,{"$f":"Results!A30","v":0},{"$f":"Results!C30","v":0},{"$f":"Results!B30","v":0},{"$f":"Results!D30","v":0},{"$f":"Results!G30","v":""},"- vs -",{"$f":"VLOOKUP(B27,Results!$A$8:$AG$60,30,FALSE)","v":{"$error":"#N/A"}},{"$f":"VLOOKUP(H27,Results!A$8:$G$60,3,FALSE)","v":{"$error":"#N/A"}},{"$f":"VLOOKUP(H27,Results!$A$8:$G$60,2,FALSE)","v":{"$error":"#N/A"}},{"$f":"VLOOKUP(H27,Results!$A$8:$G$60,4,FALSE)","v":{"$error":"#N/A"}},{"$f":"VLOOKUP(H27,Results!$A$8:$G$60,7,FALSE)","v":{"$error":"#N/A"}},{"$f":"VLOOKUP(H27,$B$4:B27,1,FALSE)","v":{"$error":"#N/A"}}]
[null,{"$f":"Results!A31","v":0},{"$f":"Results!C31","v":0},{"$f":"Results!B31","v":0},{"$f":"Results!D31","v":0},{"$f":"Results!G31","v":""},"- vs -",{"$f":"VLOOKUP(B28,Results!$A$8:$AG$60,30,FALSE)","v":{"$error":"#N/A"}},{"$f":"VLOOKUP(H28,Results!A$8:$G$60,3,FALSE)","v":{"$error":"#N/A"}},{"$f":"VLOOKUP(H28,Results!$A$8:$G$60,2,FALSE)","v":{"$error":"#N/A"}},{"$f":"VLOOKUP(H28,Results!$A$8:$G$60,4,FALSE)","v":{"$error":"#N/A"}},{"$f":"VLOOKUP(H28,Results!$A$8:$G$60,7,FALSE)","v":{"$error":"#N/A"}},{"$f":"VLOOKUP(H28,$B$4:B28,1,FALSE)","v":{"$error":"#N/A"}}]
[null,{"$f":"Results!A32","v":0},{"$f":"Results!C32","v":0},{"$f":"Results!B32","v":0},{"$f":"Results!D32","v":0},{"$f":"Results!G32","v":""},"- vs -",{"$f":"VLOOKUP(B29,Results!$A$8:$AG$60,30,FALSE)","v":{"$error":"#N/A"}},{"$f":"VLOOKUP(H29,Results!A$8:$G$60,3,FALSE)","v":{"$error":"#N/A"}},{"$f":"VLOOKUP(H29,Results!$A$8:$G$60,2,FALSE)","v":{"$error":"#N/A"}},{"$f":"VLOOKUP(H29,Results!$A$8:$G$60,4,FALSE)","v":{"$error":"#N/A"}},{"$f":"VLOOKUP(H29,Results!$A$8:$G$60,7,FALSE)","v":{"$error":"#N/A"}},{"$f":"VLOOKUP(H29,$B$4:B29,1,FALSE)","v":{"$error":"#N/A"}}]
[null,{"$f":"Results!A33","v":0},{"$f":"Results!C33","v":0},{"$f":"Results!B33","v":0},{"$f":"Results!D33","v":0},{"$f":"Results!G33","v":""},"- vs -",{"$f":"VLOOKUP(B30,Results!$A$8:$AG$60,30,FALSE)","v":{"$error":"#N/A"}},{"$f":"VLOOKUP(H30,Results!A$8:$G$60,3,FALSE)","v":{"$error":"#N/A"}},{"$f":"VLOOKUP(H30,Results!$A$8:$G$60,2,FALSE)","v":{"$error":"#N/A"}},{"$f":"VLOOKUP(H30,Results!$A$8:$G$60,4,FALSE)","v":{"$error":"#N/A"}},{"$f":"VLOOKUP(H30,Results!$A$8:$G$60,7,FALSE)","v":{"$error":"#N/A"}},{"$f":"VLOOKUP(H30,$B$4:B30,1,FALSE)","v":{"$error":"#N/A"}}]
[null,{"$f":"Results!A34","v":0},{"$f":"Results!C34","v":0},{"$f":"Results!B34","v":0},{"$f":"Results!D34","v":0},{"$f":"Results!G34","v":""},"- vs -",{"$f":"VLOOKUP(B31,Results!$A$8:$AG$60,30,FALSE)","v":{"$error":"#N/A"}},{"$f":"VLOOKUP(H31,Results!A$8:$G$60,3,FALSE)","v":{"$error":"#N/A"}},{"$f":"VLOOKUP(H31,Results!$A$8:$G$60,2,FALSE)","v":{"$error":"#N/A"}},{"$f":"VLOOKUP(H31,Results!$A$8:$G$60,4,FALSE)","v":{"$error":"#N/A"}},{"$f":"VLOOKUP(H31,Results!$A$8:$G$60,7,FALSE)","v":{"$error":"#N/A"}},{"$f":"VLOOKUP(H31,$B$4:B31,1,FALSE)","v":{"$error":"#N/A"}}]
[null,{"$f":"Results!A35","v":0},{"$f":"Results!C35","v":0},{"$f":"Results!B35","v":0},{"$f":"Results!D35","v":0},{"$f":"Results!G35","v":""},"- vs -",{"$f":"VLOOKUP(B32,Results!$A$8:$AG$60,30,FALSE)","v":{"$error":"#N/A"}},{"$f":"VLOOKUP(H32,Results!A$8:$G$60,3,FALSE)","v":{"$error":"#N/A"}},{"$f":"VLOOKUP(H32,Results!$A$8:$G$60,2,FALSE)","v":{"$error":"#N/A"}},{"$f":"VLOOKUP(H32,Results!$A$8:$G$60,4,FALSE)","v":{"$error":"#N/A"}},{"$f":"VLOOKUP(H32,Results!$A$8:$G$60,7,FALSE)","v":{"$error":"#N/A"}},{"$f":"VLOOKUP(H32,$B$4:B32,1,FALSE)","v":{"$error":"#N/A"}}]
[null,{"$f":"Results!A36","v":0},{"$f":"Results!C36","v":0},{"$f":"Results!B36","v":0},{"$f":"Results!D36","v":0},{"$f":"Results!G36","v":""},"- vs -",{"$f":"VLOOKUP(B33,Results!$A$8:$AG$60,30,FALSE)","v":{"$error":"#N/A"}},{"$f":"VLOOKUP(H33,Results!A$8:$G$60,3,FALSE)","v":{"$error":"#N/A"}},{"$f":"VLOOKUP(H33,Results!$A$8:$G$60,2,FALSE)","v":{"$error":"#N/A"}},{"$f":"VLOOKUP(H33,Results!$A$8:$G$60,4,FALSE)","v":{"$error":"#N/A"}},{"$f":"VLOOKUP(H33,Results!$A$8:$G$60,7,FALSE)","v":{"$error":"#N/A"}},{"$f":"VLOOKUP(H33,$B$4:B33,1,FALSE)","v":{"$error":"#N/A"}}]
[null,{"$f":"Results!A37","v":0},{"$f":"Results!C37","v":0},{"$f":"Results!B37","v":0},{"$f":"Results!D37","v":0},{"$f":"Results!G37","v":""},"- vs -",{"$f":"VLOOKUP(B34,Results!$A$8:$AG$60,30,FALSE)","v":{"$error":"#N/A"}},{"$f":"VLOOKUP(H34,Results!A$8:$G$60,3,FALSE)","v":{"$error":"#N/A"}},{"$f":"VLOOKUP(H34,Results!$A$8:$G$60,2,FALSE)","v":{"$error":"#N/A"}},{"$f":"VLOOKUP(H34,Results!$A$8:$G$60,4,FALSE)","v":{"$error":"#N/A"}},{"$f":"VLOOKUP(H34,Results!$A$8:$G$60,7,FALSE)","v":{"$error":"#N/A"}},{"$f":"VLOOKUP(H34,$B$4:B34,1,FALSE)","v":{"$error":"#N/A"}}]
[null,{"$f":"Results!A38","v":0},{"$f":"Results!C38","v":0},{"$f":"Results!B38","v":0},{"$f":"Results!D38","v":0},{"$f":"Results!G38","v":""},"- vs -",{"$f":"VLOOKUP(B35,Results!$A$8:$AG$60,30,FALSE)","v":{"$error":"#N/A"}},{"$f":"VLOOKUP(H35,Results!A$8:$G$60,3,FALSE)","v":{"$error":"#N/A"}},{"$f":"VLOOKUP(H35,Results!$A$8:$G$60,2,FALSE)","v":{"$error":"#N/A"}},{"$f":"VLOOKUP(H35,Results!$A$8:$G$60,4,FALSE)","v":{"$error":"#N/A"}},{"$f":"VLOOKUP(H35,Results!$A$8:$G$60,7,FALSE)","v":{"$error":"#N/A"}},{"$f":"VLOOKUP(H35,$B$4:B35,1,FALSE)","v":{"$error":"#N/A"}}]
[null,{"$f":"Results!A39","v":0},{"$f":"Results!C39","v":0},{"$f":"Results!B39","v":0},{"$f":"Results!D39","v":0},{"$f":"Results!G39","v":""},"- vs -",{"$f":"VLOOKUP(B36,Results!$A$8:$AG$60,30,FALSE)","v":{"$error":"#N/A"}},{"$f":"VLOOKUP(H36,Results!A$8:$G$60,3,FALSE)","v":{"$error":"#N/A"}},{"$f":"VLOOKUP(H36,Results!$A$8:$G$60,2,FALSE)","v":{"$error":"#N/A"}},{"$f":"VLOOKUP(H36,Results!$A$8:$G$60,4,FALSE)","v":{"$error":"#N/A"}},{"$f":"VLOOKUP(H36,Results!$A$8:$G$60,7,FALSE)","v":{"$error":"#N/A"}},{"$f":"VLOOKUP(H36,$B$4:B36,1,FALSE)","v":{"$error":"#N/A"}}]
[null,{"$f":"Results!A40","v":0},{"$f":"Results!C40","v":0},{"$f":"Results!B40","v":0},{"$f":"Results!D40","v":0},{"$f":"Results!G40","v":""},"- vs -",{"$f":"VLOOKUP(B37,Results!$A$8:$AG$60,30,FALSE)","v":{"$error":"#N/A"}},{"$f":"VLOOKUP(H37,Results!A$8:$G$60,3,FALSE)","v":{"$error":"#N/A"}},{"$f":"VLOOKUP(H37,Results!$A$8:$G$60,2,FALSE)","v":{"$error":"#N/A"}},{"$f":"VLOOKUP(H37,Results!$A$8:$G$60,4,FALSE)","v":{"$error":"#N/A"}},{"$f":"VLOOKUP(H37,Results!$A$8:$G$60,7,FALSE)","v":{"$error":"#N/A"}},{"$f":"VLOOKUP(H37,$B$4:B37,1,FALSE)","v":{"$error":"#N/A"}}]
[null,{"$f":"Results!A41","v":0},{"$f":"Results!C41","v":0},{"$f":"Results!B41","v":0},{"$f":"Results!D41","v":0},{"$f":"Results!G41","v":""},"- vs -",{"$f":"VLOOKUP(B38,Results!$A$8:$AG$60,30,FALSE)","v":{"$error":"#N/A"}},{"$f":"VLOOKUP(H38,Results!A$8:$G$60,3,FALSE)","v":{"$error":"#N/A"}},{"$f":"VLOOKUP(H38,Results!$A$8:$G$60,2,FALSE)","v":{"$error":"#N/A"}},{"$f":"VLOOKUP(H38,Results!$A$8:$G$60,4,FALSE)","v":{"$error":"#N/A"}},{"$f":"VLOOKUP(H38,Results!$A$8:$G$60,7,FALSE)","v":{"$error":"#N/A"}},{"$f":"VLOOKUP(H38,$B$4:B38,1,FALSE)","v":{"$error":"#N/A"}}]
[null,{"$f":"Results!A42","v":0},{"$f":"Results!C42","v":0},{"$f":"Results!B42","v":0},{"$f":"Results!D42","v":0},{"$f":"Results!G42","v":""},"- vs -",{"$f":"VLOOKUP(B39,Results!$A$8:$AG$60,30,FALSE)","v":{"$error":"#N/A"}},{"$f":"VLOOKUP(H39,Results!A$8:$G$60,3,FALSE)","v":{"$error":"#N/A"}},{"$f":"VLOOKUP(H39,Results!$A$8:$G$60,2,FALSE)","v":{"$error":"#N/A"}},{"$f":"VLOOKUP(H39,Results!$A$8:$G$60,4,FALSE)","v":{"$error":"#N/A"}},{"$f":"VLOOKUP(H39,Results!$A$8:$G$60,7,FALSE)","v":{"$error":"#N/A"}},{"$f":"VLOOKUP(H39,$B$4:B39,1,FALSE)","v":{"$error":"#N/A"}}]
[null,{"$f":"Results!A43","v":0},{"$f":"Results!C43","v":0},{"$f":"Results!B43","v":0},{"$f":"Results!D43","v":0},{"$f":"Results!G43","v":""},"- vs -",{"$f":"VLOOKUP(B40,Results!$A$8:$AG$60,30,FALSE)","v":{"$error":"#N/A"}},{"$f":"VLOOKUP(H40,Results!A$8:$G$60,3,FALSE)","v":{"$error":"#N/A"}},{"$f":"VLOOKUP(H40,Results!$A$8:$G$60,2,FALSE)","v":{"$error":"#N/A"}},{"$f":"VLOOKUP(H40,Results!$A$8:$G$60,4,FALSE)","v":{"$error":"#N/A"}},{"$f":"VLOOKUP(H40,Results!$A$8:$G$60,7,FALSE)","v":{"$error":"#N/A"}},{"$f":"VLOOKUP(H40,$B$4:B40,1,FALSE)","v":{"$error":"#N/A"}}]
[null,{"$f":"Results!A44","v":0},{"$f":"Results!C44","v":0},{"$f":"Results!B44","v":0},{"$f":"Results!D44","v":0},{"$f":"Results!G44","v":""},"- vs -",{"$f":"VLOOKUP(B41,Results!$A$8:$AG$60,30,FALSE)","v":{"$error":"#N/A"}},{"$f":"VLOOKUP(H41,Results!A$8:$G$60,3,FALSE)","v":{"$error":"#N/A"}},{"$f":"VLOOKUP(H41,Results!$A$8:$G$60,2,FALSE)","v":{"$error":"#N/A"}},{"$f":"VLOOKUP(H41,Results!$A$8:$G$60,4,FALSE)","v":{"$error":"#N/A"}},{"$f":"VLOOKUP(H41,Results!$A$8:$G$60,7,FALSE)","v":{"$error":"#N/A"}},{"$f":"VLOOKUP(H41,$B$4:B41,1,FALSE)","v":{"$error":"#N/A"}}]
[null,{"$f":"Results!A45","v":0},{"$f":"Results!C45","v":0},{"$f":"Results!B45","v":0},{"$f":"Results!D45","v":0},{"$f":"Results!G45","v":""},"- vs -",{"$f":"VLOOKUP(B42,Results!$A$8:$AG$60,30,FALSE)","v":{"$error":"#N/A"}},{"$f":"VLOOKUP(H42,Results!A$8:$G$60,3,FALSE)","v":{"$error":"#N/A"}},{"$f":"VLOOKUP(H42,Results!$A$8:$G$60,2,FALSE)","v":{"$error":"#N/A"}},{"$f":"VLOOKUP(H42,Results!$A$8:$G$60,4,FALSE)","v":{"$error":"#N/A"}},{"$f":"VLOOKUP(H42,Results!$A$8:$G$60,7,FALSE)","v":{"$error":"#N/A"}},{"$f":"VLOOKUP(H42,$B$4:B42,1,FALSE)","v":{"$error":"#N/A"}}]
[null,{"$f":"Results!A46","v":0},{"$f":"Results!C46","v":0},{"$f":"Results!B46","v":0},{"$f":"Results!D46","v":0},{"$f":"Results!G46","v":""},"- vs -",{"$f":"VLOOKUP(B43,Results!$A$8:$AG$60,30,FALSE)","v":{"$error":"#N/A"}},{"$f":"VLOOKUP(H43,Results!A$8:$G$60,3,FALSE)","v":{"$error":"#N/A"}},{"$f":"VLOOKUP(H43,Results!$A$8:$G$60,2,FALSE)","v":{"$error":"#N/A"}},{"$f":"VLOOKUP(H43,Results!$A$8:$G$60,4,FALSE)","v":{"$error":"#N/A"}},{"$f":"VLOOKUP(H43,Results!$A$8:$G$60,7,FALSE)","v":{"$error":"#N/A"}},{"$f":"VLOOKUP(H43,$B$4:B43,1,FALSE)","v":{"$error":"#N/A"}}]
[null,{"$f":"Results!A47","v":0},{"$f":"Results!C47","v":0},{"$f":"Results!B47","v":0},{"$f":"Results!D47","v":0},{"$f":"Results!G47","v":""},"- vs -",{"$f":"VLOOKUP(B44,Results!$A$8:$AG$60,30,FALSE)","v":{"$error":"#N/A"}},{"$f":"VLOOKUP(H44,Results!A$8:$G$60,3,FALSE)","v":{"$error":"#N/A"}},{"$f":"VLOOKUP(H44,Results!$A$8:$G$60,2,FALSE)","v":{"$error":"#N/A"}},{"$f":"VLOOKUP(H44,Results!$A$8:$G$60,4,FALSE)","v":{"$error":"#N/A"}},{"$f":"VLOOKUP(H44,Results!$A$8:$G$60,7,FALSE)","v":{"$error":"#N/A"}},{"$f":"VLOOKUP(H44,$B$4:B44,1,FALSE)","v":{"$error":"#N/A"}}]
[null,{"$f":"Results!A48","v":0},{"$f":"Results!C48","v":0},{"$f":"Results!B48","v":0},{"$f":"Results!D48","v":0},{"$f":"Results!G48","v":""},"- vs -",{"$f":"VLOOKUP(B45,Results!$A$8:$AG$60,30,FALSE)","v":{"$error":"#N/A"}},{"$f":"VLOOKUP(H45,Results!A$8:$G$60,3,FALSE)","v":{"$error":"#N/A"}},{"$f":"VLOOKUP(H45,Results!$A$8:$G$60,2,FALSE)","v":{"$error":"#N/A"}},{"$f":"VLOOKUP(H45,Results!$A$8:$G$60,4,FALSE)","v":{"$error":"#N/A"}},{"$f":"VLOOKUP(H45,Results!$A$8:$G$60,7,FALSE)","v":{"$error":"#N/A"}},{"$f":"VLOOKUP(H45,$B$4:B45,1,FALSE)","v":{"$error":"#N/A"}}]
[null,{"$f":"Results!A49","v":0},{"$f":"Results!C49","v":0},{"$f":"Results!B49","v":0},{"$f":"Results!D49","v":0},{"$f":"Results!G49","v":""},"- vs -",{"$f":"VLOOKUP(B46,Results!$A$8:$AG$60,30,FALSE)","v":{"$error":"#N/A"}},{"$f":"VLOOKUP(H46,Results!A$8:$G$60,3,FALSE)","v":{"$error":"#N/A"}},{"$f":"VLOOKUP(H46,Results!$A$8:$G$60,2,FALSE)","v":{"$error":"#N/A"}},{"$f":"VLOOKUP(H46,Results!$A$8:$G$60,4,FALSE)","v":{"$error":"#N/A"}},{"$f":"VLOOKUP(H46,Results!$A$8:$G$60,7,FALSE)","v":{"$error":"#N/A"}},{"$f":"VLOOKUP(H46,$B$4:B46,1,FALSE)","v":{"$error":"#N/A"}}]
[null,{"$f":"Results!A50","v":0},{"$f":"Results!C50","v":0},{"$f":"Results!B50","v":0},{"$f":"Results!D50","v":0},{"$f":"Results!G50","v":""},"- vs -",{"$f":"VLOOKUP(B47,Results!$A$8:$AG$60,30,FALSE)","v":{"$error":"#N/A"}},{"$f":"VLOOKUP(H47,Results!A$8:$G$60,3,FALSE)","v":{"$error":"#N/A"}},{"$f":"VLOOKUP(H47,Results!$A$8:$G$60,2,FALSE)","v":{"$error":"#N/A"}},{"$f":"VLOOKUP(H47,Results!$A$8:$G$60,4,FALSE)","v":{"$error":"#N/A"}},{"$f":"VLOOKUP(H47,Results!$A$8:$G$60,7,FALSE)","v":{"$error":"#N/A"}},{"$f":"VLOOKUP(H47,$B$4:B47,1,FALSE)","v":{"$error":"#N/A"}}]
[null,{"$f":"Results!A51","v":0},{"$f":"Results!C51","v":0},{"$f":"Results!B51","v":0},{"$f":"Results!D51","v":0},{"$f":"Results!G51","v":""},"- vs -",{"$f":"VLOOKUP(B48,Results!$A$8:$AG$60,30,FALSE)","v":{"$error":"#N/A"}},{"$f":"VLOOKUP(H48,Results!A$8:$G$60,3,FALSE)","v":{"$error":"#N/A"}},{"$f":"VLOOKUP(H48,Results!$A$8:$G$60,2,FALSE)","v":{"$error":"#N/A"}},{"$f":"VLOOKUP(H48,Results!$A$8:$G$60,4,FALSE)","v":{"$error":"#N/A"}},{"$f":"VLOOKUP(H48,Results!$A$8:$G$60,7,FALSE)","v":{"$error":"#N/A"}},{"$f":"VLOOKUP(H48,$B$4:B48,1,FALSE)","v":{"$error":"#N/A"}}]
[null,{"$f":"Results!A52","v":0},{"$f":"Results!C52","v":0},{"$f":"Results!B52","v":0},{"$f":"Results!D52","v":0},{"$f":"Results!G52","v":""},"- vs -",{"$f":"VLOOKUP(B49,Results!$A$8:$AG$60,30,FALSE)","v":{"$error":"#N/A"}},{"$f":"VLOOKUP(H49,Results!A$8:$G$60,3,FALSE)","v":{"$error":"#N/A"}},{"$f":"VLOOKUP(H49,Results!$A$8:$G$60,2,FALSE)","v":{"$error":"#N/A"}},{"$f":"VLOOKUP(H49,Results!$A$8:$G$60,4,FALSE)","v":{"$error":"#N/A"}},{"$f":"VLOOKUP(H49,Results!$A$8:$G$60,7,FALSE)","v":{"$error":"#N/A"}},{"$f":"VLOOKUP(H49,$B$4:B49,1,FALSE)","v":{"$error":"#N/A"}}]
[null,{"$f":"Results!A53","v":0},{"$f":"Results!C53","v":0},{"$f":"Results!B53","v":0},{"$f":"Results!D53","v":0},{"$f":"Results!G53","v":""},"- vs -",{"$f":"VLOOKUP(B50,Results!$A$8:$AG$60,30,FALSE)","v":{"$error":"#N/A"}},{"$f":"VLOOKUP(H50,Results!A$8:$G$60,3,FALSE)","v":{"$error":"#N/A"}},{"$f":"VLOOKUP(H50,Results!$A$8:$G$60,2,FALSE)","v":{"$error":"#N/A"}},{"$f":"VLOOKUP(H50,Results!$A$8:$G$60,4,FALSE)","v":{"$error":"#N/A"}},{"$f":"VLOOKUP(H50,Results!$A$8:$G$60,7,FALSE)","v":{"$error":"#N/A"}},{"$f":"VLOOKUP(H50,$B$4:B50,1,FALSE)","v":{"$error":"#N/A"}}]
[null,{"$f":"Results!A54","v":0},{"$f":"Results!C54","v":0},{"$f":"Results!B54","v":0},{"$f":"Results!D54","v":0},{"$f":"Results!G54","v":""},"- vs -",{"$f":"VLOOKUP(B51,Results!$A$8:$AG$60,30,FALSE)","v":{"$error":"#N/A"}},{"$f":"VLOOKUP(H51,Results!A$8:$G$60,3,FALSE)","v":{"$error":"#N/A"}},{"$f":"VLOOKUP(H51,Results!$A$8:$G$60,2,FALSE)","v":{"$error":"#N/A"}},{"$f":"VLOOKUP(H51,Results!$A$8:$G$60,4,FALSE)","v":{"$error":"#N/A"}},{"$f":"VLOOKUP(H51,Results!$A$8:$G$60,7,FALSE)","v":{"$error":"#N/A"}},{"$f":"VLOOKUP(H51,$B$4:B51,1,FALSE)","v":{"$error":"#N/A"}}]
[null,{"$f":"Results!A55","v":0},{"$f":"Results!C55","v":0},{"$f":"Results!B55","v":0},{"$f":"Results!D55","v":0},{"$f":"Results!G55","v":""},"- vs -",{"$f":"VLOOKUP(B52,Results!$A$8:$AG$60,30,FALSE)","v":{"$error":"#N/A"}},{"$f":"VLOOKUP(H52,Results!A$8:$G$60,3,FALSE)","v":{"$error":"#N/A"}},{"$f":"VLOOKUP(H52,Results!$A$8:$G$60,2,FALSE)","v":{"$error":"#N/A"}},{"$f":"VLOOKUP(H52,Results!$A$8:$G$60,4,FALSE)","v":{"$error":"#N/A"}},{"$f":"VLOOKUP(H52,Results!$A$8:$G$60,7,FALSE)","v":{"$error":"#N/A"}},{"$f":"VLOOKUP(H52,$B$4:B52,1,FALSE)","v":{"$error":"#N/A"}}]
[null,{"$f":"Results!A56","v":0},{"$f":"Results!C56","v":0},{"$f":"Results!B56","v":0},{"$f":"Results!D56","v":0},{"$f":"Results!G56","v":""},"- vs -",{"$f":"VLOOKUP(B53,Results!$A$8:$AG$60,30,FALSE)","v":{"$error":"#N/A"}},{"$f":"VLOOKUP(H53,Results!A$8:$G$60,3,FALSE)","v":{"$error":"#N/A"}},{"$f":"VLOOKUP(H53,Results!$A$8:$G$60,2,FALSE)","v":{"$error":"#N/A"}},{"$f":"VLOOKUP(H53,Results!$A$8:$G$60,4,FALSE)","v":{"$error":"#N/A"}},{"$f":"VLOOKUP(H53,Results!$A$8:$G$60,7,FALSE)","v":{"$error":"#N/A"}},{"$f":"VLOOKUP(H53,$B$4:B53,1,FALSE)","v":{"$error":"#N/A"}}]
[null,{"$f":"Results!A57","v":0},{"$f":"Results!C57","v":0},{"$f":"Results!B57","v":0},{"$f":"Results!D57","v":0},{"$f":"Results!G57","v":""},"- vs -",{"$f":"VLOOKUP(B54,Results!$A$8:$AG$60,30,FALSE)","v":{"$error":"#N/A"}},{"$f":"VLOOKUP(H54,Results!A$8:$G$60,3,FALSE)","v":{"$error":"#N/A"}},{"$f":"VLOOKUP(H54,Results!$A$8:$G$60,2,FALSE)","v":{"$error":"#N/A"}},{"$f":"VLOOKUP(H54,Results!$A$8:$G$60,4,FALSE)","v":{"$error":"#N/A"}},{"$f":"VLOOKUP(H54,Results!$A$8:$G$60,7,FALSE)","v":{"$error":"#N/A"}},{"$f":"VLOOKUP(H54,$B$4:B54,1,FALSE)","v":{"$error":"#N/A"}}]
[null,{"$f":"Results!A58","v":0},{"$f":"Results!C58","v":0},{"$f":"Results!B58","v":0},{"$f":"Results!D58","v":0},{"$f":"Results!G58","v":""},"- vs -",{"$f":"VLOOKUP(B55,Results!$A$8:$AG$60,30,FALSE)","v":{"$error":"#N/A"}},{"$f":"VLOOKUP(H55,Results!A$8:$G$60,3,FALSE)","v":{"$error":"#N/A"}},{"$f":"VLOOKUP(H55,Results!$A$8:$G$60,2,FALSE)","v":{"$error":"#N/A"}},{"$f":"VLOOKUP(H55,Results!$A$8:$G$60,4,FALSE)","v":{"$error":"#N/A"}},{"$f":"VLOOKUP(H55,Results!$A$8:$G$60,7,FALSE)","v":{"$error":"#N/A"}},{"$f":"VLOOKUP(H55,$B$4:B55,1,FALSE)","v":{"$error":"#N/A"}}]
[null,{"$f":"Results!A59","v":0},{"$f":"Results!C59","v":0},{"$f":"Results!B59","v":0},{"$f":"Results!D59","v":0},{"$f":"Results!G59","v":""},"- vs -",{"$f":"VLOOKUP(B56,Results!$A$8:$AG$60,30,FALSE)","v":{"$error":"#N/A"}},{"$f":"VLOOKUP(H56,Results!A$8:$G$60,3,FALSE)","v":{"$error":"#N/A"}},{"$f":"VLOOKUP(H56,Results!$A$8:$G$60,2,FALSE)","v":{"$error":"#N/A"}},{"$f":"VLOOKUP(H56,Results!$A$8:$G$60,4,FALSE)","v":{"$error":"#N/A"}},{"$f":"VLOOKUP(H56,Results!$A$8:$G$60,7,FALSE)","v":{"$error":"#N/A"}},{"$f":"VLOOKUP(H56,$B$4:B56,1,FALSE)","v":{"$error":"#N/A"}}]
[null,{"$f":"Results!A60","v":0},{"$f":"Results!C60","v":0},{"$f":"Results!B60","v":0},{"$f":"Results!D60","v":0},{"$f":"Results!G60","v":""},"- vs -",{"$f":"VLOOKUP(B57,Results!$A$8:$AG$60,30,FALSE)","v":{"$error":"#N/A"}},{"$f":"VLOOKUP(H57,Results!A$8:$G$60,3,FALSE)","v":{"$error":"#N/A"}},{"$f":"VLOOKUP(H57,Results!$A$8:$G$60,2,FALSE)","v":{"$error":"#N/A"}},{"$f":"VLOOKUP(H57,Results!$A$8:$G$60,4,FALSE)","v":{"$error":"#N/A"}},{"$f":"VLOOKUP(H57,Results!$A$8:$G$60,7,FALSE)","v":{"$error":"#N/A"}},{"$f":"VLOOKUP(H57,$B$4:B57,1,FALSE)","v":{"$error":"#N/A"}}]
[null,{"$f":"Results!A61","v":0},{"$f":"Results!C61","v":0},{"$f":"Results!B61","v":0},{"$f":"Results!D61","v":0},{"$f":"Results!G61","v":""},"- vs -",{"$f":"VLOOKUP(B58,Results!$A$8:$AG$60,30,FALSE)","v":{"$error":"#N/A"}},{"$f":"VLOOKUP(H58,Results!A$8:$G$60,3,FALSE)","v":{"$error":"#N/A"}},{"$f":"VLOOKUP(H58,Results!$A$8:$G$60,2,FALSE)","v":{"$error":"#N/A"}},{"$f":"VLOOKUP(H58,Results!$A$8:$G$60,4,FALSE)","v":{"$error":"#N/A"}},{"$f":"VLOOKUP(H58,Results!$A$8:$G$60,7,FALSE)","v":{"$error":"#N/A"}},{"$f":"VLOOKUP(H58,$B$4:B58,1,FALSE)","v":{"$error":"#N/A"}}]
[null,{"$f":"Results!A62","v":0},{"$f":"Results!C62","v":0},{"$f":"Results!B62","v":0},{"$f":"Results!D62","v":0},{"$f":"Results!G62","v":""},"- vs -",{"$f":"VLOOKUP(B59,Results!$A$8:$AG$60,30,FALSE)","v":{"$error":"#N/A"}},{"$f":"VLOOKUP(H59,Results!A$8:$G$60,3,FALSE)","v":{"$error":"#N/A"}},{"$f":"VLOOKUP(H59,Results!$A$8:$G$60,2,FALSE)","v":{"$error":"#N/A"}},{"$f":"VLOOKUP(H59,Results!$A$8:$G$60,4,FALSE)","v":{"$error":"#N/A"}},{"$f":"VLOOKUP(H59,Results!$A$8:$G$60,7,FALSE)","v":{"$error":"#N/A"}},{"$f":"VLOOKUP(H59,$B$4:B59,1,FALSE)","v":{"$error":"#N/A"}}]
[null,{"$f":"Results!A63","v":0},{"$f":"Results!C63","v":0},{"$f":"Results!B63","v":0},{"$f":"Results!D63","v":0},{"$f":"Results!G63","v":""},"- vs -",{"$f":"VLOOKUP(B60,Results!$A$8:$AG$60,30,FALSE)","v":{"$error":"#N/A"}},{"$f":"VLOOKUP(H60,Results!A$8:$G$60,3,FALSE)","v":{"$error":"#N/A"}},{"$f":"VLOOKUP(H60,Results!$A$8:$G$60,2,FALSE)","v":{"$error":"#N/A"}},{"$f":"VLOOKUP(H60,Results!$A$8:$G$60,4,FALSE)","v":{"$error":"#N/A"}},{"$f":"VLOOKUP(H60,Results!$A$8:$G$60,7,FALSE)","v":{"$error":"#N/A"}},{"$f":"VLOOKUP(H60,$B$4:B60,1,FALSE)","v":{"$error":"#N/A"}}]
[null,{"$f":"Results!A64","v":0},{"$f":"Results!C64","v":0},{"$f":"Results!B64","v":0},{"$f":"Results!D64","v":0},{"$f":"Results!G64","v":""},"- vs -",{"$f":"VLOOKUP(B61,Results!$A$8:$AG$60,30,FALSE)","v":{"$error":"#N/A"}},{"$f":"VLOOKUP(H61,Results!A$8:$G$60,3,FALSE)","v":{"$error":"#N/A"}},{"$f":"VLOOKUP(H61,Results!$A$8:$G$60,2,FALSE)","v":{"$error":"#N/A"}},{"$f":"VLOOKUP(H61,Results!$A$8:$G$60,4,FALSE)","v":{"$error":"#N/A"}},{"$f":"VLOOKUP(H61,Results!$A$8:$G$60,7,FALSE)","v":{"$error":"#N/A"}},{"$f":"VLOOKUP(H61,$B$4:B61,1,FALSE)","v":{"$error":"#N/A"}}]
[null,{"$f":"Results!A65","v":0},{"$f":"Results!C65","v":0},{"$f":"Results!B65","v":0},{"$f":"Results!D65","v":0},{"$f":"Results!G65","v":""},"- vs -",{"$f":"VLOOKUP(B62,Results!$A$8:$AG$60,30,FALSE)","v":{"$error":"#N/A"}},{"$f":"VLOOKUP(H62,Results!A$8:$G$60,3,FALSE)","v":{"$error":"#N/A"}},{"$f":"VLOOKUP(H62,Results!$A$8:$G$60,2,FALSE)","v":{"$error":"#N/A"}},{"$f":"VLOOKUP(H62,Results!$A$8:$G$60,4,FALSE)","v":{"$error":"#N/A"}},{"$f":"VLOOKUP(H62,Results!$A$8:$G$60,7,FALSE)","v":{"$error":"#N/A"}},{"$f":"VLOOKUP(H62,$B$4:B62,1,FALSE)","v":{"$error":"#N/A"}}]
[null,{"$f":"Results!A66","v":0},{"$f":"Results!C66","v":0},{"$f":"Results!B66","v":0},{"$f":"Results!D66","v":0},{"$f":"Results!G66","v":""},"- vs -",{"$f":"VLOOKUP(B63,Results!$A$8:$AG$60,30,FALSE)","v":{"$error":"#N/A"}},{"$f":"VLOOKUP(H63,Results!A$8:$G$60,3,FALSE)","v":{"$error":"#N/A"}},{"$f":"VLOOKUP(H63,Results!$A$8:$G$60,2,FALSE)","v":{"$error":"#N/A"}},{"$f":"VLOOKUP(H63,Results!$A$8:$G$60,4,FALSE)","v":{"$error":"#N/A"}},{"$f":"VLOOKUP(H63,Results!$A$8:$G$60,7,FALSE)","v":{"$error":"#N/A"}},{"$f":"VLOOKUP(H63,$B$4:B63,1,FALSE)","v":{"$error":"#N/A"}}]
[null,{"$f":"Results!A67","v":0},{"$f":"Results!C67","v":0},{"$f":"Results!B67","v":0},{"$f":"Results!D67","v":0},{"$f":"Results!G67","v":""},"- vs -",{"$f":"VLOOKUP(B64,Results!$A$8:$AG$60,30,FALSE)","v":{"$error":"#N/A"}},{"$f":"VLOOKUP(H64,Results!A$8:$G$60,3,FALSE)","v":{"$error":"#N/A"}},{"$f":"VLOOKUP(H64,Results!$A$8:$G$60,2,FALSE)","v":{"$error":"#N/A"}},{"$f":"VLOOKUP(H64,Results!$A$8:$G$60,4,FALSE)","v":{"$error":"#N/A"}},{"$f":"VLOOKUP(H64,Results!$A$8:$G$60,7,FALSE)","v":{"$error":"#N/A"}}]
[null,{"$f":"Results!A68","v":0},{"$f":"Results!C68","v":0},{"$f":"Results!B68","v":0},{"$f":"Results!D68","v":0},{"$f":"Results!G68","v":""},"- vs -",{"$f":"VLOOKUP(B65,Results!$A$8:$AG$60,30,FALSE)","v":{"$error":"#N/A"}},{"$f":"VLOOKUP(H65,Results!A$8:$G$60,3,FALSE)","v":{"$error":"#N/A"}},{"$f":"VLOOKUP(H65,Results!$A$8:$G$60,2,FALSE)","v":{"$error":"#N/A"}},{"$f":"VLOOKUP(H65,Results!$A$8:$G$60,4,FALSE)","v":{"$error":"#N/A"}},{"$f":"VLOOKUP(H65,Results!$A$8:$G$60,7,FALSE)","v":{"$error":"#N/A"}}]
[null,{"$f":"Results!A69","v":0},{"$f":"Results!C69","v":0},{"$f":"Results!B69","v":0},{"$f":"Results!D69","v":0},{"$f":"Results!G69","v":""},"- vs -",{"$f":"VLOOKUP(B66,Results!$A$8:$AG$60,30,FALSE)","v":{"$error":"#N/A"}},{"$f":"VLOOKUP(H66,Results!A$8:$G$60,3,FALSE)","v":{"$error":"#N/A"}},{"$f":"VLOOKUP(H66,Results!$A$8:$G$60,2,FALSE)","v":{"$error":"#N/A"}},{"$f":"VLOOKUP(H66,Results!$A$8:$G$60,4,FALSE)","v":{"$error":"#N/A"}},{"$f":"VLOOKUP(H66,Results!$A$8:$G$60,7,FALSE)","v":{"$error":"#N/A"}}]
[null,{"$f":"Results!A70","v":0},{"$f":"Results!C70","v":0},{"$f":"Results!B70","v":0},{"$f":"Results!D70","v":0},{"$f":"Results!G70","v":""},"- vs -",{"$f":"VLOOKUP(B67,Results!$A$8:$AG$60,30,FALSE)","v":{"$error":"#N/A"}},{"$f":"VLOOKUP(H67,Results!A$8:$G$60,3,FALSE)","v":{"$error":"#N/A"}},{"$f":"VLOOKUP(H67,Results!$A$8:$G$60,2,FALSE)","v":{"$error":"#N/A"}},{"$f":"VLOOKUP(H67,Results!$A$8:$G$60,4,FALSE)","v":{"$error":"#N/A"}},{"$f":"VLOOKUP(H67,Results!$A$8:$G$60,7,FALSE)","v":{"$error":"#N/A"}}]
[null,{"$f":"Results!A71","v":0},{"$f":"Results!C71","v":0},{"$f":"Results!B71","v":0},{"$f":"Results!D71","v":0},{"$f":"Results!G71","v":""},"- vs -",{"$f":"VLOOKUP(B68,Results!$A$8:$AG$60,30,FALSE)","v":{"$error":"#N/A"}},{"$f":"VLOOKUP(H68,Results!A$8:$G$60,3,FALSE)","v":{"$error":"#N/A"}},{"$f":"VLOOKUP(H68,Results!$A$8:$G$60,2,FALSE)","v":{"$error":"#N/A"}},{"$f":"VLOOKUP(H68,Results!$A$8:$G$60,4,FALSE)","v":{"$error":"#N/A"}},{"$f":"VLOOKUP(H68,Results!$A$8:$G$60,7,FALSE)","v":{"$error":"#N/A"}}]
[null,{"$f":"Results!A72","v":0},{"$f":"Results!C72","v":0},{"$f":"Results!B72","v":0},{"$f":"Results!D72","v":0},{"$f":"Results!G72","v":""},"- vs -",{"$f":"VLOOKUP(B69,Results!$A$8:$AG$60,30,FALSE)","v":{"$error":"#N/A"}},{"$f":"VLOOKUP(H69,Results!A$8:$G$60,3,FALSE)","v":{"$error":"#N/A"}},{"$f":"VLOOKUP(H69,Results!$A$8:$G$60,2,FALSE)","v":{"$error":"#N/A"}},{"$f":"VLOOKUP(H69,Results!$A$8:$G$60,4,FALSE)","v":{"$error":"#N/A"}},{"$f":"VLOOKUP(H69,Results!$A$8:$G$60,7,FALSE)","v":{"$error":"#N/A"}}]
[null,{"$f":"Results!A73","v":0},{"$f":"Results!C73","v":0},{"$f":"Results!B73","v":0},{"$f":"Results!D73","v":0},{"$f":"Results!G73","v":""},"- vs -",{"$f":"VLOOKUP(B70,Results!$A$8:$AG$60,30,FALSE)","v":{"$error":"#N/A"}},{"$f":"VLOOKUP(H70,Results!A$8:$G$60,3,FALSE)","v":{"$error":"#N/A"}},{"$f":"VLOOKUP(H70,Results!$A$8:$G$60,2,FALSE)","v":{"$error":"#N/A"}},{"$f":"VLOOKUP(H70,Results!$A$8:$G$60,4,FALSE)","v":{"$error":"#N/A"}},{"$f":"VLOOKUP(H70,Results!$A$8:$G$60,7,FALSE)","v":{"$error":"#N/A"}}]
[null,{"$f":"Results!A74","v":0},{"$f":"Results!C74","v":0},{"$f":"Results!B74","v":0},{"$f":"Results!D74","v":0},{"$f":"Results!G74","v":""},"- vs -",{"$f":"VLOOKUP(B71,Results!$A$8:$AG$60,30,FALSE)","v":{"$error":"#N/A"}},{"$f":"VLOOKUP(H71,Results!A$8:$G$60,3,FALSE)","v":{"$error":"#N/A"}},{"$f":"VLOOKUP(H71,Results!$A$8:$G$60,2,FALSE)","v":{"$error":"#N/A"}},{"$f":"VLOOKUP(H71,Results!$A$8:$G$60,4,FALSE)","v":{"$error":"#N/A"}},{"$f":"VLOOKUP(H71,Results!$A$8:$G$60,7,FALSE)","v":{"$error":"#N/A"}}]
[null,{"$f":"Results!A75","v":0},{"$f":"Results!C75","v":0},{"$f":"Results!B75","v":0},{"$f":"Results!D75","v":0},{"$f":"Results!G75","v":""},"- vs -",{"$f":"VLOOKUP(B72,Results!$A$8:$AG$60,30,FALSE)","v":{"$error":"#N/A"}},{"$f":"VLOOKUP(H72,Results!A$8:$G$60,3,FALSE)","v":{"$error":"#N/A"}},{"$f":"VLOOKUP(H72,Results!$A$8:$G$60,2,FALSE)","v":{"$error":"#N/A"}},{"$f":"VLOOKUP(H72,Results!$A$8:$G$60,4,FALSE)","v":{"$error":"#N/A"}},{"$f":"VLOOKUP(H72,Results!$A$8:$G$60,7,FALSE)","v":{"$error":"#N/A"}}]
[null,{"$f":"Results!A76","v":0},{"$f":"Results!C76","v":0},{"$f":"Results!B76","v":0},{"$f":"Results!D76","v":0},{"$f":"Results!G76","v":""},"- vs -",{"$f":"VLOOKUP(B73,Results!$A$8:$AG$60,30,FALSE)","v":{"$error":"#N/A"}},{"$f":"VLOOKUP(H73,Results!A$8:$G$60,3,FALSE)","v":{"$error":"#N/A"}},{"$f":"VLOOKUP(H73,Results!$A$8:$G$60,2,FALSE)","v":{"$error":"#N/A"}},{"$f":"VLOOKUP(H73,Results!$A$8:$G$60,4,FALSE)","v":{"$error":"#N/A"}},{"$f":"VLOOKUP(H73,Results!$A$8:$G$60,7,FALSE)","v":{"$error":"#N/A"}}]
[null,{"$f":"Results!A77","v":0},{"$f":"Results!C77","v":0},{"$f":"Results!B77","v":0},{"$f":"Results!D77","v":0},{"$f":"Results!G77","v":""},"- vs -",{"$f":"VLOOKUP(B74,Results!$A$8:$AG$60,30,FALSE)","v":{"$error":"#N/A"}},{"$f":"VLOOKUP(H74,Results!A$8:$G$60,3,FALSE)","v":{"$error":"#N/A"}},{"$f":"VLOOKUP(H74,Results!$A$8:$G$60,2,FALSE)","v":{"$error":"#N/A"}},{"$f":"VLOOKUP(H74,Results!$A$8:$G$60,4,FALSE)","v":{"$error":"#N/A"}},{"$f":"VLOOKUP(H74,Results!$A$8:$G$60,7,FALSE)","v":{"$error":"#N/A"}}]
[null,{"$f":"Results!A78","v":0},{"$f":"Results!C78","v":0},{"$f":"Results!B78","v":0},{"$f":"Results!D78","v":0},{"$f":"Results!G78","v":""},"- vs -",{"$f":"VLOOKUP(B75,Results!$A$8:$AG$60,30,FALSE)","v":{"$error":"#N/A"}},{"$f":"VLOOKUP(H75,Results!A$8:$G$60,3,FALSE)","v":{"$error":"#N/A"}},{"$f":"VLOOKUP(H75,Results!$A$8:$G$60,2,FALSE)","v":{"$error":"#N/A"}},{"$f":"VLOOKUP(H75,Results!$A$8:$G$60,4,FALSE)","v":{"$error":"#N/A"}},{"$f":"VLOOKUP(H75,Results!$A$8:$G$60,7,FALSE)","v":{"$error":"#N/A"}}]
[null,{"$f":"Results!A79","v":0},{"$f":"Results!C79","v":0},{"$f":"Results!B79","v":0},{"$f":"Results!D79","v":0},{"$f":"Results!G79","v":""},"- vs -",{"$f":"VLOOKUP(B76,Results!$A$8:$AG$60,30,FALSE)","v":{"$error":"#N/A"}},{"$f":"VLOOKUP(H76,Results!A$8:$G$60,3,FALSE)","v":{"$error":"#N/A"}},{"$f":"VLOOKUP(H76,Results!$A$8:$G$60,2,FALSE)","v":{"$error":"#N/A"}},{"$f":"VLOOKUP(H76,Results!$A$8:$G$60,4,FALSE)","v":{"$error":"#N/A"}},{"$f":"VLOOKUP(H76,Results!$A$8:$G$60,7,FALSE)","v":{"$error":"#N/A"}}]
[null,{"$f":"Results!A80","v":0},{"$f":"Results!C80","v":0},{"$f":"Results!B80","v":0},{"$f":"Results!D80","v":0},{"$f":"Results!G80","v":""},"- vs -",{"$f":"VLOOKUP(B77,Results!$A$8:$AG$60,30,FALSE)","v":{"$error":"#N/A"}},{"$f":"VLOOKUP(H77,Results!A$8:$G$60,3,FALSE)","v":{"$error":"#N/A"}},{"$f":"VLOOKUP(H77,Results!$A$8:$G$60,2,FALSE)","v":{"$error":"#N/A"}},{"$f":"VLOOKUP(H77,Results!$A$8:$G$60,4,FALSE)","v":{"$error":"#N/A"}},{"$f":"VLOOKUP(H77,Results!$A$8:$G$60,7,FALSE)","v":{"$error":"#N/A"}}]
[null,{"$f":"Results!A81","v":0},{"$f":"Results!C81","v":0},{"$f":"Results!B81","v":0},{"$f":"Results!D81","v":0},{"$f":"Results!G81","v":""},"- vs -",{"$f":"VLOOKUP(B78,Results!$A$8:$AG$60,30,FALSE)","v":{"$error":"#N/A"}},{"$f":"VLOOKUP(H78,Results!A$8:$G$60,3,FALSE)","v":{"$error":"#N/A"}},{"$f":"VLOOKUP(H78,Results!$A$8:$G$60,2,FALSE)","v":{"$error":"#N/A"}},{"$f":"VLOOKUP(H78,Results!$A$8:$G$60,4,FALSE)","v":{"$error":"#N/A"}},{"$f":"VLOOKUP(H78,Results!$A$8:$G$60,7,FALSE)","v":{"$error":"#N/A"}}]
[null,{"$f":"Results!A82","v":0},{"$f":"Results!C82","v":0},{"$f":"Results!B82","v":0},{"$f":"Results!D82","v":0},{"$f":"Results!G82","v":""},"- vs -",{"$f":"VLOOKUP(B79,Results!$A$8:$AG$60,30,FALSE)","v":{"$error":"#N/A"}},{"$f":"VLOOKUP(H79,Results!A$8:$G$60,3,FALSE)","v":{"$error":"#N/A"}},{"$f":"VLOOKUP(H79,Results!$A$8:$G$60,2,FALSE)","v":{"$error":"#N/A"}},{"$f":"VLOOKUP(H79,Results!$A$8:$G$60,4,FALSE)","v":{"$error":"#N/A"}},{"$f":"VLOOKUP(H79,Results!$A$8:$G$60,7,FALSE)","v":{"$error":"#N/A"}}]
[null,{"$f":"Results!A83","v":0},{"$f":"Results!C83","v":0},{"$f":"Results!B83","v":0},{"$f":"Results!D83","v":0},{"$f":"Results!G83","v":""},"- vs -",{"$f":"VLOOKUP(B80,Results!$A$8:$AG$60,30,FALSE)","v":{"$error":"#N/A"}},{"$f":"VLOOKUP(H80,Results!A$8:$G$60,3,FALSE)","v":{"$error":"#N/A"}},{"$f":"VLOOKUP(H80,Results!$A$8:$G$60,2,FALSE)","v":{"$error":"#N/A"}},{"$f":"VLOOKUP(H80,Results!$A$8:$G$60,4,FALSE)","v":{"$error":"#N/A"}},{"$f":"VLOOKUP(H80,Results!$A$8:$G$60,7,FALSE)","v":{"$error":"#N/A"}}]
[null,{"$f":"Results!A84","v":0},{"$f":"Results!C84","v":0},{"$f":"Results!B84","v":0},{"$f":"Results!D84","v":0},{"$f":"Results!G84","v":""},"- vs -",{"$f":"VLOOKUP(B81,Results!$A$8:$AG$60,30,FALSE)","v":{"$error":"#N/A"}},{"$f":"VLOOKUP(H81,Results!A$8:$G$60,3,FALSE)","v":{"$error":"#N/A"}},{"$f":"VLOOKUP(H81,Results!$A$8:$G$60,2,FALSE)","v":{"$error":"#N/A"}},{"$f":"VLOOKUP(H81,Results!$A$8:$G$60,4,FALSE)","v":{"$error":"#N/A"}},{"$f":"VLOOKUP(H81,Results!$A$8:$G$60,7,FALSE)","v":{"$error":"#N/A"}}]
[null,{"$f":"Results!A85","v":0},{"$f":"Results!C85","v":0},{"$f":"Results!B85","v":0},{"$f":"Results!D85","v":0},{"$f":"Results!G85","v":""},"- vs -",{"$f":"VLOOKUP(B82,Results!$A$8:$AG$60,30,FALSE)","v":{"$error":"#N/A"}},{"$f":"VLOOKUP(H82,Results!A$8:$G$60,3,FALSE)","v":{"$error":"#N/A"}},{"$f":"VLOOKUP(H82,Results!$A$8:$G$60,2,FALSE)","v":{"$error":"#N/A"}},{"$f":"VLOOKUP(H82,Results!$A$8:$G$60,4,FALSE)","v":{"$error":"#N/A"}},{"$f":"VLOOKUP(H82,Results!$A$8:$G$60,7,FALSE)","v":{"$error":"#N/A"}}]
[null,{"$f":"Results!A86","v":0},{"$f":"Results!C86","v":0},{"$f":"Results!B86","v":0},{"$f":"Results!D86","v":0},{"$f":"Results!G86","v":""},"- vs -",{"$f":"VLOOKUP(B83,Results!$A$8:$AG$60,30,FALSE)","v":{"$error":"#N/A"}},{"$f":"VLOOKUP(H83,Results!A$8:$G$60,3,FALSE)","v":{"$error":"#N/A"}},{"$f":"VLOOKUP(H83,Results!$A$8:$G$60,2,FALSE)","v":{"$error":"#N/A"}},{"$f":"VLOOKUP(H83,Results!$A$8:$G$60,4,FALSE)","v":{"$error":"#N/A"}},{"$f":"VLOOKUP(H83,Results!$A$8:$G$60,7,FALSE)","v":{"$error":"#N/A"}}]
[null,{"$f":"Results!A87","v":0},{"$f":"Results!C87","v":0},{"$f":"Results!B87","v":0},{"$f":"Results!D87","v":0},{"$f":"Results!G87","v":""},"- vs -",{"$f":"VLOOKUP(B84,Results!$A$8:$AG$60,30,FALSE)","v":{"$error":"#N/A"}},{"$f":"VLOOKUP(H84,Results!A$8:$G$60,3,FALSE)","v":{"$error":"#N/A"}},{"$f":"VLOOKUP(H84,Results!$A$8:$G$60,2,FALSE)","v":{"$error":"#N/A"}},{"$f":"VLOOKUP(H84,Results!$A$8:$G$60,4,FALSE)","v":{"$error":"#N/A"}},{"$f":"VLOOKUP(H84,Results!$A$8:$G$60,7,FALSE)","v":{"$error":"#N/A"}}]
[null,{"$f":"Results!A88","v":0},{"$f":"Results!C88","v":0},{"$f":"Results!B88","v":0},{"$f":"Results!D88","v":0},{"$f":"Results!G88","v":""},"- vs -",{"$f":"VLOOKUP(B85,Results!$A$8:$AG$60,30,FALSE)","v":{"$error":"#N/A"}},{"$f":"VLOOKUP(H85,Results!A$8:$G$60,3,FALSE)","v":{"$error":"#N/A"}},{"$f":"VLOOKUP(H85,Results!$A$8:$G$60,2,FALSE)","v":{"$error":"#N/A"}},{"$f":"VLOOKUP(H85,Results!$A$8:$G$60,4,FALSE)","v":{"$error":"#N/A"}},{"$f":"VLOOKUP(H85,Results!$A$8:$G$60,7,FALSE)","v":{"$error":"#N/A"}}]
[null,{"$f":"Results!A89","v":0},{"$f":"Results!C89","v":0},{"$f":"Results!B89","v":0},{"$f":"Results!D89","v":0},{"$f":"Results!G89","v":""},"- vs -",{"$f":"VLOOKUP(B86,Results!$A$8:$AG$60,30,FALSE)","v":{"$error":"#N/A"}},{"$f":"VLOOKUP(H86,Results!A$8:$G$60,3,FALSE)","v":{"$error":"#N/A"}},{"$f":"VLOOKUP(H86,Results!$A$8:$G$60,2,FALSE)","v":{"$error":"#N/A"}},{"$f":"VLOOKUP(H86,Results!$A$8:$G$60,4,FALSE)","v":{"$error":"#N/A"}},{"$f":"VLOOKUP(H86,Results!$A$8:$G$60,7,FALSE)","v":{"$error":"#N/A"}}]
[null,{"$f":"Results!A90","v":0},{"$f":"Results!C90","v":0},{"$f":"Results!B90","v":0},{"$f":"Results!D90","v":0},{"$f":"Results!G90","v":""},"- vs -",{"$f":"VLOOKUP(B87,Results!$A$8:$AG$60,30,FALSE)","v":{"$error":"#N/A"}},{"$f":"VLOOKUP(H87,Results!A$8:$G$60,3,FALSE)","v":{"$error":"#N/A"}},{"$f":"VLOOKUP(H87,Results!$A$8:$G$60,2,FALSE)","v":{"$error":"#N/A"}},{"$f":"VLOOKUP(H87,Results!$A$8:$G$60,4,FALSE)","v":{"$error":"#N/A"}},{"$f":"VLOOKUP(H87,Results!$A$8:$G$60,7,FALSE)","v":{"$error":"#N/A"}}]
[null,{"$f":"Results!A91","v":0},{"$f":"Results!C91","v":0},{"$f":"Results!B91","v":0},{"$f":"Results!D91","v":0},{"$f":"Results!G91","v":""},"- vs -",{"$f":"VLOOKUP(B88,Results!$A$8:$AG$60,30,FALSE)","v":{"$error":"#N/A"}},{"$f":"VLOOKUP(H88,Results!A$8:$G$60,3,FALSE)","v":{"$error":"#N/A"}},{"$f":"VLOOKUP(H88,Results!$A$8:$G$60,2,FALSE)","v":{"$error":"#N/A"}},{"$f":"VLOOKUP(H88,Results!$A$8:$G$60,4,FALSE)","v":{"$error":"#N/A"}},{"$f":"VLOOKUP(H88,Results!$A$8:$G$60,7,FALSE)","v":{"$error":"#N/A"}}]
[null,{"$f":"Results!A92","v":0},{"$f":"Results!C92","v":0},{"$f":"Results!B92","v":0},{"$f":"Results!D92","v":0},{"$f":"Results!G92","v":""},"- vs -",{"$f":"VLOOKUP(B89,Results!$A$8:$AG$60,30,FALSE)","v":{"$error":"#N/A"}},{"$f":"VLOOKUP(H89,Results!A$8:$G$60,3,FALSE)","v":{"$error":"#N/A"}},{"$f":"VLOOKUP(H89,Results!$A$8:$G$60,2,FALSE)","v":{"$error":"#N/A"}},{"$f":"VLOOKUP(H89,Results!$A$8:$G$60,4,FALSE)","v":{"$error":"#N/A"}},{"$f":"VLOOKUP(H89,Results!$A$8:$G$60,7,FALSE)","v":{"$error":"#N/A"}}]
[null,{"$f":"Results!A93","v":0},{"$f":"Results!C93","v":0},{"$f":"Results!B93","v":0},{"$f":"Results!D93","v":0},{"$f":"Results!G93","v":""},"- vs -",{"$f":"VLOOKUP(B90,Results!$A$8:$AG$60,30,FALSE)","v":{"$error":"#N/A"}},{"$f":"VLOOKUP(H90,Results!A$8:$G$60,3,FALSE)","v":{"$error":"#N/A"}},{"$f":"VLOOKUP(H90,Results!$A$8:$G$60,2,FALSE)","v":{"$error":"#N/A"}},{"$f":"VLOOKUP(H90,Results!$A$8:$G$60,4,FALSE)","v":{"$error":"#N/A"}},{"$f":"VLOOKUP(H90,Results!$A$8:$G$60,7,FALSE)","v":{"$error":"#N/A"}}]
[null,{"$f":"Results!A94","v":0},{"$f":"Results!C94","v":0},{"$f":"Results!B94","v":0},{"$f":"Results!D94","v":0},{"$f":"Results!G94","v":""},"- vs -",{"$f":"VLOOKUP(B91,Results!$A$8:$AG$60,30,FALSE)","v":{"$error":"#N/A"}},{"$f":"VLOOKUP(H91,Results!A$8:$G$60,3,FALSE)","v":{"$error":"#N/A"}},{"$f":"VLOOKUP(H91,Results!$A$8:$G$60,2,FALSE)","v":{"$error":"#N/A"}},{"$f":"VLOOKUP(H91,Results!$A$8:$G$60,4,FALSE)","v":{"$error":"#N/A"}},{"$f":"VLOOKUP(H91,Results!$A$8:$G$60,7,FALSE)","v":{"$error":"#N/A"}}]
[null,{"$f":"Results!A95","v":0},{"$f":"Results!C95","v":0},{"$f":"Results!B95","v":0},{"$f":"Results!D95","v":0},{"$f":"Results!G95","v":""},"- vs -",{"$f":"VLOOKUP(B92,Results!$A$8:$AG$60,30,FALSE)","v":{"$error":"#N/A"}},{"$f":"VLOOKUP(H92,Results!A$8:$G$60,3,FALSE)","v":{"$error":"#N/A"}},{"$f":"VLOOKUP(H92,Results!$A$8:$G$60,2,FALSE)","v":{"$error":"#N/A"}},{"$f":"VLOOKUP(H92,Results!$A$8:$G$60,4,FALSE)","v":{"$error":"#N/A"}},{"$f":"VLOOKUP(H92,Results!$A$8:$G$60,7,FALSE)","v":{"$error":"#N/A"}}]
[null,{"$f":"Results!A96","v":0},{"$f":"Results!C96","v":0},{"$f":"Results!B96","v":0},{"$f":"Results!D96","v":0},{"$f":"Results!G96","v":""},"- vs -",{"$f":"VLOOKUP(B93,Results!$A$8:$AG$60,30,FALSE)","v":{"$error":"#N/A"}},{"$f":"VLOOKUP(H93,Results!A$8:$G$60,3,FALSE)","v":{"$error":"#N/A"}},{"$f":"VLOOKUP(H93,Results!$A$8:$G$60,2,FALSE)","v":{"$error":"#N/A"}},{"$f":"VLOOKUP(H93,Results!$A$8:$G$60,4,FALSE)","v":{"$error":"#N/A"}},{"$f":"VLOOKUP(H93,Results!$A$8:$G$60,7,FALSE)","v":{"$error":"#N/A"}}]
[null,{"$f":"Results!A97","v":0},{"$f":"Results!C97","v":0},{"$f":"Results!B97","v":0},{"$f":"Results!D97","v":0},{"$f":"Results!G97","v":""},"- vs -",{"$f":"VLOOKUP(B94,Results!$A$8:$AG$60,30,FALSE)","v":{"$error":"#N/A"}},{"$f":"VLOOKUP(H94,Results!A$8:$G$60,3,FALSE)","v":{"$error":"#N/A"}},{"$f":"VLOOKUP(H94,Results!$A$8:$G$60,2,FALSE)","v":{"$error":"#N/A"}},{"$f":"VLOOKUP(H94,Results!$A$8:$G$60,4,FALSE)","v":{"$error":"#N/A"}},{"$f":"VLOOKUP(H94,Results!$A$8:$G$60,7,FALSE)","v":{"$error":"#N/A"}}]
[null,{"$f":"Results!A98","v":0},{"$f":"Results!C98","v":0},{"$f":"Results!B98","v":0},{"$f":"Results!D98","v":0},{"$f":"Results!G98","v":""},"- vs -",{"$f":"VLOOKUP(B95,Results!$A$8:$AG$60,30,FALSE)","v":{"$error":"#N/A"}},{"$f":"VLOOKUP(H95,Results!A$8:$G$60,3,FALSE)","v":{"$error":"#N/A"}},{"$f":"VLOOKUP(H95,Results!$A$8:$G$60,2,FALSE)","v":{"$error":"#N/A"}},{"$f":"VLOOKUP(H95,Results!$A$8:$G$60,4,FALSE)","v":{"$error":"#N/A"}},{"$f":"VLOOKUP(H95,Results!$A$8:$G$60,7,FALSE)","v":{"$error":"#N/A"}}]
[null,{"$f":"Results!A99","v":0},{"$f":"Results!C99","v":0},{"$f":"Results!B99","v":0},{"$f":"Results!D99","v":0},{"$f":"Results!G99","v":""},"- vs -",{"$f":"VLOOKUP(B96,Results!$A$8:$AG$60,30,FALSE)","v":{"$error":"#N/A"}},{"$f":"VLOOKUP(H96,Results!A$8:$G$60,3,FALSE)","v":{"$error":"#N/A"}},{"$f":"VLOOKUP(H96,Results!$A$8:$G$60,2,FALSE)","v":{"$error":"#N/A"}},{"$f":"VLOOKUP(H96,Results!$A$8:$G$60,4,FALSE)","v":{"$error":"#N/A"}},{"$f":"VLOOKUP(H96,Results!$A$8:$G$60,7,FALSE)","v":{"$error":"#N/A"}}]
[null,{"$f":"Results!A100","v":0},{"$f":"Results!C100","v":0},{"$f":"Results!B100","v":0},{"$f":"Results!D100","v":0},{"$f":"Results!G100","v":""},"- vs -",{"$f":"VLOOKUP(B97,Results!$A$8:$AG$60,30,FALSE)","v":{"$error":"#N/A"}},{"$f":"VLOOKUP(H97,Results!A$8:$G$60,3,FALSE)","v":{"$error":"#N/A"}},{"$f":"VLOOKUP(H97,Results!$A$8:$G$60,2,FALSE)","v":{"$error":"#N/A"}},{"$f":"VLOOKUP(H97,Results!$A$8:$G$60,4,FALSE)","v":{"$error":"#N/A"}},{"$f":"VLOOKUP(H97,Results!$A$8:$G$60,7,FALSE)","v":{"$error":"#N/A"}}]
[null,{"$f":"Results!A101","v":0},{"$f":"Results!C101","v":0},{"$f":"Results!B101","v":0},{"$f":"Results!D101","v":0},{"$f":"Results!G101","v":""},"- vs -",{"$f":"VLOOKUP(B98,Results!$A$8:$AG$60,30,FALSE)","v":{"$error":"#N/A"}},{"$f":"VLOOKUP(H98,Results!A$8:$G$60,3,FALSE)","v":{"$error":"#N/A"}},{"$f":"VLOOKUP(H98,Results!$A$8:$G$60,2,FALSE)","v":{"$error":"#N/A"}},{"$f":"VLOOKUP(H98,Results!$A$8:$G$60,4,FALSE)","v":{"$error":"#N/A"}},{"$f":"VLOOKUP(H98,Results!$A$8:$G$60,7,FALSE)","v":{"$error":"#N/A"}}]
[null,{"$f":"Results!A102","v":0},{"$f":"Results!C102","v":0},{"$f":"Results!B102","v":0},{"$f":"Results!D102","v":0},{"$f":"Results!G102","v":""},"- vs -",{"$f":"VLOOKUP(B99,Results!$A$8:$AG$60,30,FALSE)","v":{"$error":"#N/A"}},{"$f":"VLOOKUP(H99,Results!A$8:$G$60,3,FALSE)","v":{"$error":"#N/A"}},{"$f":"VLOOKUP(H99,Results!$A$8:$G$60,2,FALSE)","v":{"$error":"#N/A"}},{"$f":"VLOOKUP(H99,Results!$A$8:$G$60,4,FALSE)","v":{"$error":"#N/A"}},{"$f":"VLOOKUP(H99,Results!$A$8:$G$60,7,FALSE)","v":{"$error":"#N/A"}}]
[null,{"$f":"Results!A103","v":0},{"$f":"Results!C103","v":0},{"$f":"Results!B103","v":0},{"$f":"Results!D103","v":0},{"$f":"Results!G103","v":""},"- vs -",{"$f":"VLOOKUP(B100,Results!$A$8:$AG$60,30,FALSE)","v":{"$error":"#N/A"}},{"$f":"VLOOKUP(H100,Results!A$8:$G$60,3,FALSE)","v":{"$error":"#N/A"}},{"$f":"VLOOKUP(H100,Results!$A$8:$G$60,2,FALSE)","v":{"$error":"#N/A"}},{"$f":"VLOOKUP(H100,Results!$A$8:$G$60,4,FALSE)","v":{"$error":"#N/A"}},{"$f":"VLOOKUP(H100,Results!$A$8:$G$60,7,FALSE)","v":{"$error":"#N/A"}}]
[null,{"$f":"Results!A104","v":0},{"$f":"Results!C104","v":0},{"$f":"Results!B104","v":0},{"$f":"Results!D104","v":0},{"$f":"Results!G104","v":""},"- vs -",{"$f":"VLOOKUP(B101,Results!$A$8:$AG$60,30,FALSE)","v":{"$error":"#N/A"}},{"$f":"VLOOKUP(H101,Results!A$8:$G$60,3,FALSE)","v":{"$error":"#N/A"}},{"$f":"VLOOKUP(H101,Results!$A$8:$G$60,2,FALSE)","v":{"$error":"#N/A"}},{"$f":"VLOOKUP(H101,Results!$A$8:$G$60,4,FALSE)","v":{"$error":"#N/A"}},{"$f":"VLOOKUP(H101,Results!$A$8:$G$60,7,FALSE)","v":{"$error":"#N/A"}}]
[null,{"$f":"Results!A105","v":0},{"$f":"Results!C105","v":0},{"$f":"Results!B105","v":0},{"$f":"Results!D105","v":0},{"$f":"Results!G105","v":""},"- vs -",{"$f":"VLOOKUP(B102,Results!$A$8:$AG$60,30,FALSE)","v":{"$error":"#N/A"}},{"$f":"VLOOKUP(H102,Results!A$8:$G$60,3,FALSE)","v":{"$error":"#N/A"}},{"$f":"VLOOKUP(H102,Results!$A$8:$G$60,2,FALSE)","v":{"$error":"#N/A"}},{"$f":"VLOOKUP(H102,Results!$A$8:$G$60,4,FALSE)","v":{"$error":"#N/A"}},{"$f":"VLOOKUP(H102,Results!$A$8:$G$60,7,FALSE)","v":{"$error":"#N/A"}}]
[null,{"$f":"Results!A106","v":0},{"$f":"Results!C106","v":0},{"$f":"Results!B106","v":0},{"$f":"Results!D106","v":0},{"$f":"Results!G106","v":""},"- vs -",{"$f":"VLOOKUP(B103,Results!$A$8:$AG$60,30,FALSE)","v":{"$error":"#N/A"}},{"$f":"VLOOKUP(H103,Results!A$8:$G$60,3,FALSE)","v":{"$error":"#N/A"}},{"$f":"VLOOKUP(H103,Results!$A$8:$G$60,2,FALSE)","v":{"$error":"#N/A"}},{"$f":"VLOOKUP(H103,Results!$A$8:$G$60,4,FALSE)","v":{"$error":"#N/A"}},{"$f":"VLOOKUP(H103,Results!$A$8:$G$60,7,FALSE)","v":{"$error":"#N/A"}}]
[null,{"$f":"Results!A107","v":0},{"$f":"Results!C107","v":0},{"$f":"Results!B107","v":0},{"$f":"Results!D107","v":0},{"$f":"Results!G107","v":""},"- vs -",{"$f":"VLOOKUP(B104,Results!$A$8:$AG$60,30,FALSE)","v":{"$error":"#N/A"}},{"$f":"VLOOKUP(H104,Results!A$8:$G$60,3,FALSE)","v":{"$error":"#N/A"}},{"$f":"VLOOKUP(H104,Results!$A$8:$G$60,2,FALSE)","v":{"$error":"#N/A"}},{"$f":"VLOOKUP(H104,Results!$A$8:$G$60,4,FALSE)","v":{"$error":"#N/A"}},{"$f":"VLOOKUP(H104,Results!$A$8:$G$60,7,FALSE)","v":{"$error":"#N/A"}}]

{"sheet":"Round 5","index":13,"n_rows":101,"n_cols":13,"rows_kept":101}
[{"$nulls":4},"Round 5 Draw"]
[null,null,{"$f":"Results!B3","v":0}]
[null,null,{"$f":"Results!B4","v":"Classical Period"}]
[{"$nulls":12},"VALID?"]
[null,{"$f":"Results!A8","v":0},{"$f":"Results!C8","v":0},{"$f":"Results!B8","v":0},{"$f":"Results!D8","v":0},{"$f":"Results!G8","v":""},"- vs -",{"$f":"VLOOKUP(B5,Results!$A$8:$AK$104,37,FALSE)","v":{"$error":"#N/A"}},{"$f":"VLOOKUP(H5,Results!A$8:$G$104,3,FALSE)","v":{"$error":"#N/A"}},{"$f":"VLOOKUP(H5,Results!$A$8:$G$104,2,FALSE)","v":{"$error":"#N/A"}},{"$f":"VLOOKUP(H5,Results!$A$8:$G$104,4,FALSE)","v":{"$error":"#N/A"}},{"$f":"VLOOKUP(H5,Results!$A$8:$G$104,7,FALSE)","v":{"$error":"#N/A"}},{"$f":"VLOOKUP(H5,$B$4:B5,1,FALSE)","v":{"$error":"#N/A"}}]
[null,{"$f":"Results!A9","v":0},{"$f":"Results!C9","v":0},{"$f":"Results!B9","v":0},{"$f":"Results!D9","v":0},{"$f":"Results!G9","v":""},"- vs -",{"$f":"VLOOKUP(B6,Results!$A$8:$AK$104,37,FALSE)","v":{"$error":"#N/A"}},{"$f":"VLOOKUP(H6,Results!A$8:$G$104,3,FALSE)","v":{"$error":"#N/A"}},{"$f":"VLOOKUP(H6,Results!$A$8:$G$104,2,FALSE)","v":{"$error":"#N/A"}},{"$f":"VLOOKUP(H6,Results!$A$8:$G$104,4,FALSE)","v":{"$error":"#N/A"}},{"$f":"VLOOKUP(H6,Results!$A$8:$G$104,7,FALSE)","v":{"$error":"#N/A"}},{"$f":"VLOOKUP(H6,$B$4:B6,1,FALSE)","v":{"$error":"#N/A"}}]
[null,{"$f":"Results!A10","v":0},{"$f":"Results!C10","v":0},{"$f":"Results!B10","v":0},{"$f":"Results!D10","v":0},{"$f":"Results!G10","v":""},"- vs -",{"$f":"VLOOKUP(B7,Results!$A$8:$AK$104,37,FALSE)","v":{"$error":"#N/A"}},{"$f":"VLOOKUP(H7,Results!A$8:$G$104,3,FALSE)","v":{"$error":"#N/A"}},{"$f":"VLOOKUP(H7,Results!$A$8:$G$104,2,FALSE)","v":{"$error":"#N/A"}},{"$f":"VLOOKUP(H7,Results!$A$8:$G$104,4,FALSE)","v":{"$error":"#N/A"}},{"$f":"VLOOKUP(H7,Results!$A$8:$G$104,7,FALSE)","v":{"$error":"#N/A"}},{"$f":"VLOOKUP(H7,$B$4:B7,1,FALSE)","v":{"$error":"#N/A"}}]
[null,{"$f":"Results!A11","v":0},{"$f":"Results!C11","v":0},{"$f":"Results!B11","v":0},{"$f":"Results!D11","v":0},{"$f":"Results!G11","v":""},"- vs -",{"$f":"VLOOKUP(B8,Results!$A$8:$AK$104,37,FALSE)","v":{"$error":"#N/A"}},{"$f":"VLOOKUP(H8,Results!A$8:$G$104,3,FALSE)","v":{"$error":"#N/A"}},{"$f":"VLOOKUP(H8,Results!$A$8:$G$104,2,FALSE)","v":{"$error":"#N/A"}},{"$f":"VLOOKUP(H8,Results!$A$8:$G$104,4,FALSE)","v":{"$error":"#N/A"}},{"$f":"VLOOKUP(H8,Results!$A$8:$G$104,7,FALSE)","v":{"$error":"#N/A"}},{"$f":"VLOOKUP(H8,$B$4:B8,1,FALSE)","v":{"$error":"#N/A"}}]
[null,{"$f":"Results!A12","v":0},{"$f":"Results!C12","v":0},{"$f":"Results!B12","v":0},{"$f":"Results!D12","v":0},{"$f":"Results!G12","v":""},"- vs -",{"$f":"VLOOKUP(B9,Results!$A$8:$AK$104,37,FALSE)","v":{"$error":"#N/A"}},{"$f":"VLOOKUP(H9,Results!A$8:$G$104,3,FALSE)","v":{"$error":"#N/A"}},{"$f":"VLOOKUP(H9,Results!$A$8:$G$104,2,FALSE)","v":{"$error":"#N/A"}},{"$f":"VLOOKUP(H9,Results!$A$8:$G$104,4,FALSE)","v":{"$error":"#N/A"}},{"$f":"VLOOKUP(H9,Results!$A$8:$G$104,7,FALSE)","v":{"$error":"#N/A"}},{"$f":"VLOOKUP(H9,$B$4:B9,1,FALSE)","v":{"$error":"#N/A"}}]
[null,{"$f":"Results!A13","v":0},{"$f":"Results!C13","v":0},{"$f":"Results!B13","v":0},{"$f":"Results!D13","v":0},{"$f":"Results!G13","v":""},"- vs -",{"$f":"VLOOKUP(B10,Results!$A$8:$AK$104,37,FALSE)","v":{"$error":"#N/A"}},{"$f":"VLOOKUP(H10,Results!A$8:$G$104,3,FALSE)","v":{"$error":"#N/A"}},{"$f":"VLOOKUP(H10,Results!$A$8:$G$104,2,FALSE)","v":{"$error":"#N/A"}},{"$f":"VLOOKUP(H10,Results!$A$8:$G$104,4,FALSE)","v":{"$error":"#N/A"}},{"$f":"VLOOKUP(H10,Results!$A$8:$G$104,7,FALSE)","v":{"$error":"#N/A"}},{"$f":"VLOOKUP(H10,$B$4:B10,1,FALSE)","v":{"$error":"#N/A"}}]
[null,{"$f":"Results!A14","v":0},{"$f":"Results!C14","v":0},{"$f":"Results!B14","v":0},{"$f":"Results!D14","v":0},{"$f":"Results!G14","v":""},"- vs -",{"$f":"VLOOKUP(B11,Results!$A$8:$AK$104,37,FALSE)","v":{"$error":"#N/A"}},{"$f":"VLOOKUP(H11,Results!A$8:$G$104,3,FALSE)","v":{"$error":"#N/A"}},{"$f":"VLOOKUP(H11,Results!$A$8:$G$104,2,FALSE)","v":{"$error":"#N/A"}},{"$f":"VLOOKUP(H11,Results!$A$8:$G$104,4,FALSE)","v":{"$error":"#N/A"}},{"$f":"VLOOKUP(H11,Results!$A$8:$G$104,7,FALSE)","v":{"$error":"#N/A"}},{"$f":"VLOOKUP(H11,$B$4:B11,1,FALSE)","v":{"$error":"#N/A"}}]
[null,{"$f":"Results!A15","v":0},{"$f":"Results!C15","v":0},{"$f":"Results!B15","v":0},{"$f":"Results!D15","v":0},{"$f":"Results!G15","v":""},"- vs -",{"$f":"VLOOKUP(B12,Results!$A$8:$AK$104,37,FALSE)","v":{"$error":"#N/A"}},{"$f":"VLOOKUP(H12,Results!A$8:$G$104,3,FALSE)","v":{"$error":"#N/A"}},{"$f":"VLOOKUP(H12,Results!$A$8:$G$104,2,FALSE)","v":{"$error":"#N/A"}},{"$f":"VLOOKUP(H12,Results!$A$8:$G$104,4,FALSE)","v":{"$error":"#N/A"}},{"$f":"VLOOKUP(H12,Results!$A$8:$G$104,7,FALSE)","v":{"$error":"#N/A"}},{"$f":"VLOOKUP(H12,$B$4:B12,1,FALSE)","v":{"$error":"#N/A"}}]
[null,{"$f":"Results!A16","v":0},{"$f":"Results!C16","v":0},{"$f":"Results!B16","v":0},{"$f":"Results!D16","v":0},{"$f":"Results!G16","v":""},"- vs -",{"$f":"VLOOKUP(B13,Results!$A$8:$AK$104,37,FALSE)","v":{"$error":"#N/A"}},{"$f":"VLOOKUP(H13,Results!A$8:$G$104,3,FALSE)","v":{"$error":"#N/A"}},{"$f":"VLOOKUP(H13,Results!$A$8:$G$104,2,FALSE)","v":{"$error":"#N/A"}},{"$f":"VLOOKUP(H13,Results!$A$8:$G$104,4,FALSE)","v":{"$error":"#N/A"}},{"$f":"VLOOKUP(H13,Results!$A$8:$G$104,7,FALSE)","v":{"$error":"#N/A"}},{"$f":"VLOOKUP(H13,$B$4:B13,1,FALSE)","v":{"$error":"#N/A"}}]
[null,{"$f":"Results!A17","v":0},{"$f":"Results!C17","v":0},{"$f":"Results!B17","v":0},{"$f":"Results!D17","v":0},{"$f":"Results!G17","v":""},"- vs -",{"$f":"VLOOKUP(B14,Results!$A$8:$AK$104,37,FALSE)","v":{"$error":"#N/A"}},{"$f":"VLOOKUP(H14,Results!A$8:$G$104,3,FALSE)","v":{"$error":"#N/A"}},{"$f":"VLOOKUP(H14,Results!$A$8:$G$104,2,FALSE)","v":{"$error":"#N/A"}},{"$f":"VLOOKUP(H14,Results!$A$8:$G$104,4,FALSE)","v":{"$error":"#N/A"}},{"$f":"VLOOKUP(H14,Results!$A$8:$G$104,7,FALSE)","v":{"$error":"#N/A"}},{"$f":"VLOOKUP(H14,$B$4:B14,1,FALSE)","v":{"$error":"#N/A"}}]
[null,{"$f":"Results!A18","v":0},{"$f":"Results!C18","v":0},{"$f":"Results!B18","v":0},{"$f":"Results!D18","v":0},{"$f":"Results!G18","v":""},"- vs -",{"$f":"VLOOKUP(B15,Results!$A$8:$AK$104,37,FALSE)","v":{"$error":"#N/A"}},{"$f":"VLOOKUP(H15,Results!A$8:$G$104,3,FALSE)","v":{"$error":"#N/A"}},{"$f":"VLOOKUP(H15,Results!$A$8:$G$104,2,FALSE)","v":{"$error":"#N/A"}},{"$f":"VLOOKUP(H15,Results!$A$8:$G$104,4,FALSE)","v":{"$error":"#N/A"}},{"$f":"VLOOKUP(H15,Results!$A$8:$G$104,7,FALSE)","v":{"$error":"#N/A"}},{"$f":"VLOOKUP(H15,$B$4:B15,1,FALSE)","v":{"$error":"#N/A"}}]
[null,{"$f":"Results!A19","v":0},{"$f":"Results!C19","v":0},{"$f":"Results!B19","v":0},{"$f":"Results!D19","v":0},{"$f":"Results!G19","v":""},"- vs -",{"$f":"VLOOKUP(B16,Results!$A$8:$AK$104,37,FALSE)","v":{"$error":"#N/A"}},{"$f":"VLOOKUP(H16,Results!A$8:$G$104,3,FALSE)","v":{"$error":"#N/A"}},{"$f":"VLOOKUP(H16,Results!$A$8:$G$104,2,FALSE)","v":{"$error":"#N/A"}},{"$f":"VLOOKUP(H16,Results!$A$8:$G$104,4,FALSE)","v":{"$error":"#N/A"}},{"$f":"VLOOKUP(H16,Results!$A$8:$G$104,7,FALSE)","v":{"$error":"#N/A"}},{"$f":"VLOOKUP(H16,$B$4:B16,1,FALSE)","v":{"$error":"#N/A"}}]
[null,{"$f":"Results!A20","v":0},{"$f":"Results!C20","v":0},{"$f":"Results!B20","v":0},{"$f":"Results!D20","v":0},{"$f":"Results!G20","v":""},"- vs -",{"$f":"VLOOKUP(B17,Results!$A$8:$AK$104,37,FALSE)","v":{"$error":"#N/A"}},{"$f":"VLOOKUP(H17,Results!A$8:$G$104,3,FALSE)","v":{"$error":"#N/A"}},{"$f":"VLOOKUP(H17,Results!$A$8:$G$104,2,FALSE)","v":{"$error":"#N/A"}},{"$f":"VLOOKUP(H17,Results!$A$8:$G$104,4,FALSE)","v":{"$error":"#N/A"}},{"$f":"VLOOKUP(H17,Results!$A$8:$G$104,7,FALSE)","v":{"$error":"#N/A"}},{"$f":"VLOOKUP(H17,$B$4:B17,1,FALSE)","v":{"$error":"#N/A"}}]
[null,{"$f":"Results!A21","v":0},{"$f":"Results!C21","v":0},{"$f":"Results!B21","v":0},{"$f":"Results!D21","v":0},{"$f":"Results!G21","v":""},"- vs -",{"$f":"VLOOKUP(B18,Results!$A$8:$AK$104,37,FALSE)","v":{"$error":"#N/A"}},{"$f":"VLOOKUP(H18,Results!A$8:$G$104,3,FALSE)","v":{"$error":"#N/A"}},{"$f":"VLOOKUP(H18,Results!$A$8:$G$104,2,FALSE)","v":{"$error":"#N/A"}},{"$f":"VLOOKUP(H18,Results!$A$8:$G$104,4,FALSE)","v":{"$error":"#N/A"}},{"$f":"VLOOKUP(H18,Results!$A$8:$G$104,7,FALSE)","v":{"$error":"#N/A"}},{"$f":"VLOOKUP(H18,$B$4:B18,1,FALSE)","v":{"$error":"#N/A"}}]
[null,{"$f":"Results!A22","v":0},{"$f":"Results!C22","v":0},{"$f":"Results!B22","v":0},{"$f":"Results!D22","v":0},{"$f":"Results!G22","v":""},"- vs -",{"$f":"VLOOKUP(B19,Results!$A$8:$AK$104,37,FALSE)","v":{"$error":"#N/A"}},{"$f":"VLOOKUP(H19,Results!A$8:$G$104,3,FALSE)","v":{"$error":"#N/A"}},{"$f":"VLOOKUP(H19,Results!$A$8:$G$104,2,FALSE)","v":{"$error":"#N/A"}},{"$f":"VLOOKUP(H19,Results!$A$8:$G$104,4,FALSE)","v":{"$error":"#N/A"}},{"$f":"VLOOKUP(H19,Results!$A$8:$G$104,7,FALSE)","v":{"$error":"#N/A"}},{"$f":"VLOOKUP(H19,$B$4:B19,1,FALSE)","v":{"$error":"#N/A"}}]
[null,{"$f":"Results!A23","v":0},{"$f":"Results!C23","v":0},{"$f":"Results!B23","v":0},{"$f":"Results!D23","v":0},{"$f":"Results!G23","v":""},"- vs -",{"$f":"VLOOKUP(B20,Results!$A$8:$AK$104,37,FALSE)","v":{"$error":"#N/A"}},{"$f":"VLOOKUP(H20,Results!A$8:$G$104,3,FALSE)","v":{"$error":"#N/A"}},{"$f":"VLOOKUP(H20,Results!$A$8:$G$104,2,FALSE)","v":{"$error":"#N/A"}},{"$f":"VLOOKUP(H20,Results!$A$8:$G$104,4,FALSE)","v":{"$error":"#N/A"}},{"$f":"VLOOKUP(H20,Results!$A$8:$G$104,7,FALSE)","v":{"$error":"#N/A"}},{"$f":"VLOOKUP(H20,$B$4:B20,1,FALSE)","v":{"$error":"#N/A"}}]
[null,{"$f":"Results!A24","v":0},{"$f":"Results!C24","v":0},{"$f":"Results!B24","v":0},{"$f":"Results!D24","v":0},{"$f":"Results!G24","v":""},"- vs -",{"$f":"VLOOKUP(B21,Results!$A$8:$AK$104,37,FALSE)","v":{"$error":"#N/A"}},{"$f":"VLOOKUP(H21,Results!A$8:$G$104,3,FALSE)","v":{"$error":"#N/A"}},{"$f":"VLOOKUP(H21,Results!$A$8:$G$104,2,FALSE)","v":{"$error":"#N/A"}},{"$f":"VLOOKUP(H21,Results!$A$8:$G$104,4,FALSE)","v":{"$error":"#N/A"}},{"$f":"VLOOKUP(H21,Results!$A$8:$G$104,7,FALSE)","v":{"$error":"#N/A"}},{"$f":"VLOOKUP(H21,$B$4:B21,1,FALSE)","v":{"$error":"#N/A"}}]
[null,{"$f":"Results!A25","v":0},{"$f":"Results!C25","v":0},{"$f":"Results!B25","v":0},{"$f":"Results!D25","v":0},{"$f":"Results!G25","v":""},"- vs -",{"$f":"VLOOKUP(B22,Results!$A$8:$AK$104,37,FALSE)","v":{"$error":"#N/A"}},{"$f":"VLOOKUP(H22,Results!A$8:$G$104,3,FALSE)","v":{"$error":"#N/A"}},{"$f":"VLOOKUP(H22,Results!$A$8:$G$104,2,FALSE)","v":{"$error":"#N/A"}},{"$f":"VLOOKUP(H22,Results!$A$8:$G$104,4,FALSE)","v":{"$error":"#N/A"}},{"$f":"VLOOKUP(H22,Results!$A$8:$G$104,7,FALSE)","v":{"$error":"#N/A"}},{"$f":"VLOOKUP(H22,$B$4:B22,1,FALSE)","v":{"$error":"#N/A"}}]
[null,{"$f":"Results!A26","v":0},{"$f":"Results!C26","v":0},{"$f":"Results!B26","v":0},{"$f":"Results!D26","v":0},{"$f":"Results!G26","v":""},"- vs -",{"$f":"VLOOKUP(B23,Results!$A$8:$AK$104,37,FALSE)","v":{"$error":"#N/A"}},{"$f":"VLOOKUP(H23,Results!A$8:$G$104,3,FALSE)","v":{"$error":"#N/A"}},{"$f":"VLOOKUP(H23,Results!$A$8:$G$104,2,FALSE)","v":{"$error":"#N/A"}},{"$f":"VLOOKUP(H23,Results!$A$8:$G$104,4,FALSE)","v":{"$error":"#N/A"}},{"$f":"VLOOKUP(H23,Results!$A$8:$G$104,7,FALSE)","v":{"$error":"#N/A"}},{"$f":"VLOOKUP(H23,$B$4:B23,1,FALSE)","v":{"$error":"#N/A"}}]
[null,{"$f":"Results!A27","v":0},{"$f":"Results!C27","v":0},{"$f":"Results!B27","v":0},{"$f":"Results!D27","v":0},{"$f":"Results!G27","v":""},"- vs -",{"$f":"VLOOKUP(B24,Results!$A$8:$AK$104,37,FALSE)","v":{"$error":"#N/A"}},{"$f":"VLOOKUP(H24,Results!A$8:$G$104,3,FALSE)","v":{"$error":"#N/A"}},{"$f":"VLOOKUP(H24,Results!$A$8:$G$104,2,FALSE)","v":{"$error":"#N/A"}},{"$f":"VLOOKUP(H24,Results!$A$8:$G$104,4,FALSE)","v":{"$error":"#N/A"}},{"$f":"VLOOKUP(H24,Results!$A$8:$G$104,7,FALSE)","v":{"$error":"#N/A"}},{"$f":"VLOOKUP(H24,$B$4:B24,1,FALSE)","v":{"$error":"#N/A"}}]
[null,{"$f":"Results!A28","v":0},{"$f":"Results!C28","v":0},{"$f":"Results!B28","v":0},{"$f":"Results!D28","v":0},{"$f":"Results!G28","v":""},"- vs -",{"$f":"VLOOKUP(B25,Results!$A$8:$AK$104,37,FALSE)","v":{"$error":"#N/A"}},{"$f":"VLOOKUP(H25,Results!A$8:$G$104,3,FALSE)","v":{"$error":"#N/A"}},{"$f":"VLOOKUP(H25,Results!$A$8:$G$104,2,FALSE)","v":{"$error":"#N/A"}},{"$f":"VLOOKUP(H25,Results!$A$8:$G$104,4,FALSE)","v":{"$error":"#N/A"}},{"$f":"VLOOKUP(H25,Results!$A$8:$G$104,7,FALSE)","v":{"$error":"#N/A"}},{"$f":"VLOOKUP(H25,$B$4:B25,1,FALSE)","v":{"$error":"#N/A"}}]
[null,{"$f":"Results!A29","v":0},{"$f":"Results!C29","v":0},{"$f":"Results!B29","v":0},{"$f":"Results!D29","v":0},{"$f":"Results!G29","v":""},"- vs -",{"$f":"VLOOKUP(B26,Results!$A$8:$AK$104,37,FALSE)","v":{"$error":"#N/A"}},{"$f":"VLOOKUP(H26,Results!A$8:$G$104,3,FALSE)","v":{"$error":"#N/A"}},{"$f":"VLOOKUP(H26,Results!$A$8:$G$104,2,FALSE)","v":{"$error":"#N/A"}},{"$f":"VLOOKUP(H26,Results!$A$8:$G$104,4,FALSE)","v":{"$error":"#N/A"}},{"$f":"VLOOKUP(H26,Results!$A$8:$G$104,7,FALSE)","v":{"$error":"#N/A"}},{"$f":"VLOOKUP(H26,$B$4:B26,1,FALSE)","v":{"$error":"#N/A"}}]
[null,{"$f":"Results!A30","v":0},{"$f":"Results!C30","v":0},{"$f":"Results!B30","v":0},{"$f":"Results!D30","v":0},{"$f":"Results!G30","v":""},"- vs -",{"$f":"VLOOKUP(B27,Results!$A$8:$AK$104,37,FALSE)","v":{"$error":"#N/A"}},{"$f":"VLOOKUP(H27,Results!A$8:$G$104,3,FALSE)","v":{"$error":"#N/A"}},{"$f":"VLOOKUP(H27,Results!$A$8:$G$104,2,FALSE)","v":{"$error":"#N/A"}},{"$f":"VLOOKUP(H27,Results!$A$8:$G$104,4,FALSE)","v":{"$error":"#N/A"}},{"$f":"VLOOKUP(H27,Results!$A$8:$G$104,7,FALSE)","v":{"$error":"#N/A"}},{"$f":"VLOOKUP(H27,$B$4:B27,1,FALSE)","v":{"$error":"#N/A"}}]
[null,{"$f":"Results!A31","v":0},{"$f":"Results!C31","v":0},{"$f":"Results!B31","v":0},{"$f":"Results!D31","v":0},{"$f":"Results!G31","v":""},"- vs -",{"$f":"VLOOKUP(B28,Results!$A$8:$AK$104,37,FALSE)","v":{"$error":"#N/A"}},{"$f":"VLOOKUP(H28,Results!A$8:$G$104,3,FALSE)","v":{"$error":"#N/A"}},{"$f":"VLOOKUP(H28,Results!$A$8:$G$104,2,FALSE)","v":{"$error":"#N/A"}},{"$f":"VLOOKUP(H28,Results!$A$8:$G$104,4,FALSE)","v":{"$error":"#N/A"}},{"$f":"VLOOKUP(H28,Results!$A$8:$G$104,7,FALSE)","v":{"$error":"#N/A"}},{"$f":"VLOOKUP(H28,$B$4:B28,1,FALSE)","v":{"$error":"#N/A"}}]
[null,{"$f":"Results!A32","v":0},{"$f":"Results!C32","v":0},{"$f":"Results!B32","v":0},{"$f":"Results!D32","v":0},{"$f":"Results!G32","v":""},"- vs -",{"$f":"VLOOKUP(B29,Results!$A$8:$AK$104,37,FALSE)","v":{"$error":"#N/A"}},{"$f":"VLOOKUP(H29,Results!A$8:$G$104,3,FALSE)","v":{"$error":"#N/A"}},{"$f":"VLOOKUP(H29,Results!$A$8:$G$104,2,FALSE)","v":{"$error":"#N/A"}},{"$f":"VLOOKUP(H29,Results!$A$8:$G$104,4,FALSE)","v":{"$error":"#N/A"}},{"$f":"VLOOKUP(H29,Results!$A$8:$G$104,7,FALSE)","v":{"$error":"#N/A"}},{"$f":"VLOOKUP(H29,$B$4:B29,1,FALSE)","v":{"$error":"#N/A"}}]
[null,{"$f":"Results!A33","v":0},{"$f":"Results!C33","v":0},{"$f":"Results!B33","v":0},{"$f":"Results!D33","v":0},{"$f":"Results!G33","v":""},"- vs -",{"$f":"VLOOKUP(B30,Results!$A$8:$AK$104,37,FALSE)","v":{"$error":"#N/A"}},{"$f":"VLOOKUP(H30,Results!A$8:$G$104,3,FALSE)","v":{"$error":"#N/A"}},{"$f":"VLOOKUP(H30,Results!$A$8:$G$104,2,FALSE)","v":{"$error":"#N/A"}},{"$f":"VLOOKUP(H30,Results!$A$8:$G$104,4,FALSE)","v":{"$error":"#N/A"}},{"$f":"VLOOKUP(H30,Results!$A$8:$G$104,7,FALSE)","v":{"$error":"#N/A"}},{"$f":"VLOOKUP(H30,$B$4:B30,1,FALSE)","v":{"$error":"#N/A"}}]
[null,{"$f":"Results!A34","v":0},{"$f":"Results!C34","v":0},{"$f":"Results!B34","v":0},{"$f":"Results!D34","v":0},{"$f":"Results!G34","v":""},"- vs -",{"$f":"VLOOKUP(B31,Results!$A$8:$AK$104,37,FALSE)","v":{"$error":"#N/A"}},{"$f":"VLOOKUP(H31,Results!A$8:$G$104,3,FALSE)","v":{"$error":"#N/A"}},{"$f":"VLOOKUP(H31,Results!$A$8:$G$104,2,FALSE)","v":{"$error":"#N/A"}},{"$f":"VLOOKUP(H31,Results!$A$8:$G$104,4,FALSE)","v":{"$error":"#N/A"}},{"$f":"VLOOKUP(H31,Results!$A$8:$G$104,7,FALSE)","v":{"$error":"#N/A"}},{"$f":"VLOOKUP(H31,$B$4:B31,1,FALSE)","v":{"$error":"#N/A"}}]
[null,{"$f":"Results!A35","v":0},{"$f":"Results!C35","v":0},{"$f":"Results!B35","v":0},{"$f":"Results!D35","v":0},{"$f":"Results!G35","v":""},"- vs -",{"$f":"VLOOKUP(B32,Results!$A$8:$AK$104,37,FALSE)","v":{"$error":"#N/A"}},{"$f":"VLOOKUP(H32,Results!A$8:$G$104,3,FALSE)","v":{"$error":"#N/A"}},{"$f":"VLOOKUP(H32,Results!$A$8:$G$104,2,FALSE)","v":{"$error":"#N/A"}},{"$f":"VLOOKUP(H32,Results!$A$8:$G$104,4,FALSE)","v":{"$error":"#N/A"}},{"$f":"VLOOKUP(H32,Results!$A$8:$G$104,7,FALSE)","v":{"$error":"#N/A"}},{"$f":"VLOOKUP(H32,$B$4:B32,1,FALSE)","v":{"$error":"#N/A"}}]
[null,{"$f":"Results!A36","v":0},{"$f":"Results!C36","v":0},{"$f":"Results!B36","v":0},{"$f":"Results!D36","v":0},{"$f":"Results!G36","v":""},"- vs -",{"$f":"VLOOKUP(B33,Results!$A$8:$AK$104,37,FALSE)","v":{"$error":"#N/A"}},{"$f":"VLOOKUP(H33,Results!A$8:$G$104,3,FALSE)","v":{"$error":"#N/A"}},{"$f":"VLOOKUP(H33,Results!$A$8:$G$104,2,FALSE)","v":{"$error":"#N/A"}},{"$f":"VLOOKUP(H33,Results!$A$8:$G$104,4,FALSE)","v":{"$error":"#N/A"}},{"$f":"VLOOKUP(H33,Results!$A$8:$G$104,7,FALSE)","v":{"$error":"#N/A"}},{"$f":"VLOOKUP(H33,$B$4:B33,1,FALSE)","v":{"$error":"#N/A"}}]
[null,{"$f":"Results!A37","v":0},{"$f":"Results!C37","v":0},{"$f":"Results!B37","v":0},{"$f":"Results!D37","v":0},{"$f":"Results!G37","v":""},"- vs -",{"$f":"VLOOKUP(B34,Results!$A$8:$AK$104,37,FALSE)","v":{"$error":"#N/A"}},{"$f":"VLOOKUP(H34,Results!A$8:$G$104,3,FALSE)","v":{"$error":"#N/A"}},{"$f":"VLOOKUP(H34,Results!$A$8:$G$104,2,FALSE)","v":{"$error":"#N/A"}},{"$f":"VLOOKUP(H34,Results!$A$8:$G$104,4,FALSE)","v":{"$error":"#N/A"}},{"$f":"VLOOKUP(H34,Results!$A$8:$G$104,7,FALSE)","v":{"$error":"#N/A"}},{"$f":"VLOOKUP(H34,$B$4:B34,1,FALSE)","v":{"$error":"#N/A"}}]
[null,{"$f":"Results!A38","v":0},{"$f":"Results!C38","v":0},{"$f":"Results!B38","v":0},{"$f":"Results!D38","v":0},{"$f":"Results!G38","v":""},"- vs -",{"$f":"VLOOKUP(B35,Results!$A$8:$AK$104,37,FALSE)","v":{"$error":"#N/A"}},{"$f":"VLOOKUP(H35,Results!A$8:$G$104,3,FALSE)","v":{"$error":"#N/A"}},{"$f":"VLOOKUP(H35,Results!$A$8:$G$104,2,FALSE)","v":{"$error":"#N/A"}},{"$f":"VLOOKUP(H35,Results!$A$8:$G$104,4,FALSE)","v":{"$error":"#N/A"}},{"$f":"VLOOKUP(H35,Results!$A$8:$G$104,7,FALSE)","v":{"$error":"#N/A"}},{"$f":"VLOOKUP(H35,$B$4:B35,1,FALSE)","v":{"$error":"#N/A"}}]
[null,{"$f":"Results!A39","v":0},{"$f":"Results!C39","v":0},{"$f":"Results!B39","v":0},{"$f":"Results!D39","v":0},{"$f":"Results!G39","v":""},"- vs -",{"$f":"VLOOKUP(B36,Results!$A$8:$AK$104,37,FALSE)","v":{"$error":"#N/A"}},{"$f":"VLOOKUP(H36,Results!A$8:$G$104,3,FALSE)","v":{"$error":"#N/A"}},{"$f":"VLOOKUP(H36,Results!$A$8:$G$104,2,FALSE)","v":{"$error":"#N/A"}},{"$f":"VLOOKUP(H36,Results!$A$8:$G$104,4,FALSE)","v":{"$error":"#N/A"}},{"$f":"VLOOKUP(H36,Results!$A$8:$G$104,7,FALSE)","v":{"$error":"#N/A"}},{"$f":"VLOOKUP(H36,$B$4:B36,1,FALSE)","v":{"$error":"#N/A"}}]
[null,{"$f":"Results!A40","v":0},{"$f":"Results!C40","v":0},{"$f":"Results!B40","v":0},{"$f":"Results!D40","v":0},{"$f":"Results!G40","v":""},"- vs -",{"$f":"VLOOKUP(B37,Results!$A$8:$AK$104,37,FALSE)","v":{"$error":"#N/A"}},{"$f":"VLOOKUP(H37,Results!A$8:$G$104,3,FALSE)","v":{"$error":"#N/A"}},{"$f":"VLOOKUP(H37,Results!$A$8:$G$104,2,FALSE)","v":{"$error":"#N/A"}},{"$f":"VLOOKUP(H37,Results!$A$8:$G$104,4,FALSE)","v":{"$error":"#N/A"}},{"$f":"VLOOKUP(H37,Results!$A$8:$G$104,7,FALSE)","v":{"$error":"#N/A"}},{"$f":"VLOOKUP(H37,$B$4:B37,1,FALSE)","v":{"$error":"#N/A"}}]
[null,{"$f":"Results!A41","v":0},{"$f":"Results!C41","v":0},{"$f":"Results!B41","v":0},{"$f":"Results!D41","v":0},{"$f":"Results!G41","v":""},"- vs -",{"$f":"VLOOKUP(B38,Results!$A$8:$AK$104,37,FALSE)","v":{"$error":"#N/A"}},{"$f":"VLOOKUP(H38,Results!A$8:$G$104,3,FALSE)","v":{"$error":"#N/A"}},{"$f":"VLOOKUP(H38,Results!$A$8:$G$104,2,FALSE)","v":{"$error":"#N/A"}},{"$f":"VLOOKUP(H38,Results!$A$8:$G$104,4,FALSE)","v":{"$error":"#N/A"}},{"$f":"VLOOKUP(H38,Results!$A$8:$G$104,7,FALSE)","v":{"$error":"#N/A"}},{"$f":"VLOOKUP(H38,$B$4:B38,1,FALSE)","v":{"$error":"#N/A"}}]
[null,{"$f":"Results!A42","v":0},{"$f":"Results!C42","v":0},{"$f":"Results!B42","v":0},{"$f":"Results!D42","v":0},{"$f":"Results!G42","v":""},"- vs -",{"$f":"VLOOKUP(B39,Results!$A$8:$AK$104,37,FALSE)","v":{"$error":"#N/A"}},{"$f":"VLOOKUP(H39,Results!A$8:$G$104,3,FALSE)","v":{"$error":"#N/A"}},{"$f":"VLOOKUP(H39,Results!$A$8:$G$104,2,FALSE)","v":{"$error":"#N/A"}},{"$f":"VLOOKUP(H39,Results!$A$8:$G$104,4,FALSE)","v":{"$error":"#N/A"}},{"$f":"VLOOKUP(H39,Results!$A$8:$G$104,7,FALSE)","v":{"$error":"#N/A"}},{"$f":"VLOOKUP(H39,$B$4:B39,1,FALSE)","v":{"$error":"#N/A"}}]
[null,{"$f":"Results!A43","v":0},{"$f":"Results!C43","v":0},{"$f":"Results!B43","v":0},{"$f":"Results!D43","v":0},{"$f":"Results!G43","v":""},"- vs -",{"$f":"VLOOKUP(B40,Results!$A$8:$AK$104,37,FALSE)","v":{"$error":"#N/A"}},{"$f":"VLOOKUP(H40,Results!A$8:$G$104,3,FALSE)","v":{"$error":"#N/A"}},{"$f":"VLOOKUP(H40,Results!$A$8:$G$104,2,FALSE)","v":{"$error":"#N/A"}},{"$f":"VLOOKUP(H40,Results!$A$8:$G$104,4,FALSE)","v":{"$error":"#N/A"}},{"$f":"VLOOKUP(H40,Results!$A$8:$G$104,7,FALSE)","v":{"$error":"#N/A"}},{"$f":"VLOOKUP(H40,$B$4:B40,1,FALSE)","v":{"$error":"#N/A"}}]
[null,{"$f":"Results!A44","v":0},{"$f":"Results!C44","v":0},{"$f":"Results!B44","v":0},{"$f":"Results!D44","v":0},{"$f":"Results!G44","v":""},"- vs -",{"$f":"VLOOKUP(B41,Results!$A$8:$AK$104,37,FALSE)","v":{"$error":"#N/A"}},{"$f":"VLOOKUP(H41,Results!A$8:$G$104,3,FALSE)","v":{"$error":"#N/A"}},{"$f":"VLOOKUP(H41,Results!$A$8:$G$104,2,FALSE)","v":{"$error":"#N/A"}},{"$f":"VLOOKUP(H41,Results!$A$8:$G$104,4,FALSE)","v":{"$error":"#N/A"}},{"$f":"VLOOKUP(H41,Results!$A$8:$G$104,7,FALSE)","v":{"$error":"#N/A"}},{"$f":"VLOOKUP(H41,$B$4:B41,1,FALSE)","v":{"$error":"#N/A"}}]
[null,{"$f":"Results!A45","v":0},{"$f":"Results!C45","v":0},{"$f":"Results!B45","v":0},{"$f":"Results!D45","v":0},{"$f":"Results!G45","v":""},"- vs -",{"$f":"VLOOKUP(B42,Results!$A$8:$AK$104,37,FALSE)","v":{"$error":"#N/A"}},{"$f":"VLOOKUP(H42,Results!A$8:$G$104,3,FALSE)","v":{"$error":"#N/A"}},{"$f":"VLOOKUP(H42,Results!$A$8:$G$104,2,FALSE)","v":{"$error":"#N/A"}},{"$f":"VLOOKUP(H42,Results!$A$8:$G$104,4,FALSE)","v":{"$error":"#N/A"}},{"$f":"VLOOKUP(H42,Results!$A$8:$G$104,7,FALSE)","v":{"$error":"#N/A"}},{"$f":"VLOOKUP(H42,$B$4:B42,1,FALSE)","v":{"$error":"#N/A"}}]
[null,{"$f":"Results!A46","v":0},{"$f":"Results!C46","v":0},{"$f":"Results!B46","v":0},{"$f":"Results!D46","v":0},{"$f":"Results!G46","v":""},"- vs -",{"$f":"VLOOKUP(B43,Results!$A$8:$AK$104,37,FALSE)","v":{"$error":"#N/A"}},{"$f":"VLOOKUP(H43,Results!A$8:$G$104,3,FALSE)","v":{"$error":"#N/A"}},{"$f":"VLOOKUP(H43,Results!$A$8:$G$104,2,FALSE)","v":{"$error":"#N/A"}},{"$f":"VLOOKUP(H43,Results!$A$8:$G$104,4,FALSE)","v":{"$error":"#N/A"}},{"$f":"VLOOKUP(H43,Results!$A$8:$G$104,7,FALSE)","v":{"$error":"#N/A"}},{"$f":"VLOOKUP(H43,$B$4:B43,1,FALSE)","v":{"$error":"#N/A"}}]
[null,{"$f":"Results!A47","v":0},{"$f":"Results!C47","v":0},{"$f":"Results!B47","v":0},{"$f":"Results!D47","v":0},{"$f":"Results!G47","v":""},"- vs -",{"$f":"VLOOKUP(B44,Results!$A$8:$AK$104,37,FALSE)","v":{"$error":"#N/A"}},{"$f":"VLOOKUP(H44,Results!A$8:$G$104,3,FALSE)","v":{"$error":"#N/A"}},{"$f":"VLOOKUP(H44,Results!$A$8:$G$104,2,FALSE)","v":{"$error":"#N/A"}},{"$f":"VLOOKUP(H44,Results!$A$8:$G$104,4,FALSE)","v":{"$error":"#N/A"}},{"$f":"VLOOKUP(H44,Results!$A$8:$G$104,7,FALSE)","v":{"$error":"#N/A"}},{"$f":"VLOOKUP(H44,$B$4:B44,1,FALSE)","v":{"$error":"#N/A"}}]
[null,{"$f":"Results!A48","v":0},{"$f":"Results!C48","v":0},{"$f":"Results!B48","v":0},{"$f":"Results!D48","v":0},{"$f":"Results!G48","v":""},"- vs -",{"$f":"VLOOKUP(B45,Results!$A$8:$AK$104,37,FALSE)","v":{"$error":"#N/A"}},{"$f":"VLOOKUP(H45,Results!A$8:$G$104,3,FALSE)","v":{"$error":"#N/A"}},{"$f":"VLOOKUP(H45,Results!$A$8:$G$104,2,FALSE)","v":{"$error":"#N/A"}},{"$f":"VLOOKUP(H45,Results!$A$8:$G$104,4,FALSE)","v":{"$error":"#N/A"}},{"$f":"VLOOKUP(H45,Results!$A$8:$G$104,7,FALSE)","v":{"$error":"#N/A"}},{"$f":"VLOOKUP(H45,$B$4:B45,1,FALSE)","v":{"$error":"#N/A"}}]
[null,{"$f":"Results!A49","v":0},{"$f":"Results!C49","v":0},{"$f":"Results!B49","v":0},{"$f":"Results!D49","v":0},{"$f":"Results!G49","v":""},"- vs -",{"$f":"VLOOKUP(B46,Results!$A$8:$AK$104,37,FALSE)","v":{"$error":"#N/A"}},{"$f":"VLOOKUP(H46,Results!A$8:$G$104,3,FALSE)","v":{"$error":"#N/A"}},{"$f":"VLOOKUP(H46,Results!$A$8:$G$104,2,FALSE)","v":{"$error":"#N/A"}},{"$f":"VLOOKUP(H46,Results!$A$8:$G$104,4,FALSE)","v":{"$error":"#N/A"}},{"$f":"VLOOKUP(H46,Results!$A$8:$G$104,7,FALSE)","v":{"$error":"#N/A"}},{"$f":"VLOOKUP(H46,$B$4:B46,1,FALSE)","v":{"$error":"#N/A"}}]
[null,{"$f":"Results!A50","v":0},{"$f":"Results!C50","v":0},{"$f":"Results!B50","v":0},{"$f":"Results!D50","v":0},{"$f":"Results!G50","v":""},"- vs -",{"$f":"VLOOKUP(B47,Results!$A$8:$AK$104,37,FALSE)","v":{"$error":"#N/A"}},{"$f":"VLOOKUP(H47,Results!A$8:$G$104,3,FALSE)","v":{"$error":"#N/A"}},{"$f":"VLOOKUP(H47,Results!$A$8:$G$104,2,FALSE)","v":{"$error":"#N/A"}},{"$f":"VLOOKUP(H47,Results!$A$8:$G$104,4,FALSE)","v":{"$error":"#N/A"}},{"$f":"VLOOKUP(H47,Results!$A$8:$G$104,7,FALSE)","v":{"$error":"#N/A"}},{"$f":"VLOOKUP(H47,$B$4:B47,1,FALSE)","v":{"$error":"#N/A"}}]
[null,{"$f":"Results!A51","v":0},{"$f":"Results!C51","v":0},{"$f":"Results!B51","v":0},{"$f":"Results!D51","v":0},{"$f":"Results!G51","v":""},"- vs -",{"$f":"VLOOKUP(B48,Results!$A$8:$AK$104,37,FALSE)","v":{"$error":"#N/A"}},{"$f":"VLOOKUP(H48,Results!A$8:$G$104,3,FALSE)","v":{"$error":"#N/A"}},{"$f":"VLOOKUP(H48,Results!$A$8:$G$104,2,FALSE)","v":{"$error":"#N/A"}},{"$f":"VLOOKUP(H48,Results!$A$8:$G$104,4,FALSE)","v":{"$error":"#N/A"}},{"$f":"VLOOKUP(H48,Results!$A$8:$G$104,7,FALSE)","v":{"$error":"#N/A"}},{"$f":"VLOOKUP(H48,$B$4:B48,1,FALSE)","v":{"$error":"#N/A"}}]
[null,{"$f":"Results!A52","v":0},{"$f":"Results!C52","v":0},{"$f":"Results!B52","v":0},{"$f":"Results!D52","v":0},{"$f":"Results!G52","v":""},"- vs -",{"$f":"VLOOKUP(B49,Results!$A$8:$AK$104,37,FALSE)","v":{"$error":"#N/A"}},{"$f":"VLOOKUP(H49,Results!A$8:$G$104,3,FALSE)","v":{"$error":"#N/A"}},{"$f":"VLOOKUP(H49,Results!$A$8:$G$104,2,FALSE)","v":{"$error":"#N/A"}},{"$f":"VLOOKUP(H49,Results!$A$8:$G$104,4,FALSE)","v":{"$error":"#N/A"}},{"$f":"VLOOKUP(H49,Results!$A$8:$G$104,7,FALSE)","v":{"$error":"#N/A"}},{"$f":"VLOOKUP(H49,$B$4:B49,1,FALSE)","v":{"$error":"#N/A"}}]
[null,{"$f":"Results!A53","v":0},{"$f":"Results!C53","v":0},{"$f":"Results!B53","v":0},{"$f":"Results!D53","v":0},{"$f":"Results!G53","v":""},"- vs -",{"$f":"VLOOKUP(B50,Results!$A$8:$AK$104,37,FALSE)","v":{"$error":"#N/A"}},{"$f":"VLOOKUP(H50,Results!A$8:$G$104,3,FALSE)","v":{"$error":"#N/A"}},{"$f":"VLOOKUP(H50,Results!$A$8:$G$104,2,FALSE)","v":{"$error":"#N/A"}},{"$f":"VLOOKUP(H50,Results!$A$8:$G$104,4,FALSE)","v":{"$error":"#N/A"}},{"$f":"VLOOKUP(H50,Results!$A$8:$G$104,7,FALSE)","v":{"$error":"#N/A"}},{"$f":"VLOOKUP(H50,$B$4:B50,1,FALSE)","v":{"$error":"#N/A"}}]
[null,{"$f":"Results!A54","v":0},{"$f":"Results!C54","v":0},{"$f":"Results!B54","v":0},{"$f":"Results!D54","v":0},{"$f":"Results!G54","v":""},"- vs -",{"$f":"VLOOKUP(B51,Results!$A$8:$AK$104,37,FALSE)","v":{"$error":"#N/A"}},{"$f":"VLOOKUP(H51,Results!A$8:$G$104,3,FALSE)","v":{"$error":"#N/A"}},{"$f":"VLOOKUP(H51,Results!$A$8:$G$104,2,FALSE)","v":{"$error":"#N/A"}},{"$f":"VLOOKUP(H51,Results!$A$8:$G$104,4,FALSE)","v":{"$error":"#N/A"}},{"$f":"VLOOKUP(H51,Results!$A$8:$G$104,7,FALSE)","v":{"$error":"#N/A"}},{"$f":"VLOOKUP(H51,$B$4:B51,1,FALSE)","v":{"$error":"#N/A"}}]
[null,{"$f":"Results!A55","v":0},{"$f":"Results!C55","v":0},{"$f":"Results!B55","v":0},{"$f":"Results!D55","v":0},{"$f":"Results!G55","v":""},"- vs -",{"$f":"VLOOKUP(B52,Results!$A$8:$AK$104,37,FALSE)","v":{"$error":"#N/A"}},{"$f":"VLOOKUP(H52,Results!A$8:$G$104,3,FALSE)","v":{"$error":"#N/A"}},{"$f":"VLOOKUP(H52,Results!$A$8:$G$104,2,FALSE)","v":{"$error":"#N/A"}},{"$f":"VLOOKUP(H52,Results!$A$8:$G$104,4,FALSE)","v":{"$error":"#N/A"}},{"$f":"VLOOKUP(H52,Results!$A$8:$G$104,7,FALSE)","v":{"$error":"#N/A"}},{"$f":"VLOOKUP(H52,$B$4:B52,1,FALSE)","v":{"$error":"#N/A"}}]
[null,{"$f":"Results!A56","v":0},{"$f":"Results!C56","v":0},{"$f":"Results!B56","v":0},{"$f":"Results!D56","v":0},{"$f":"Results!G56","v":""},"- vs -",{"$f":"VLOOKUP(B53,Results!$A$8:$AK$104,37,FALSE)","v":{"$error":"#N/A"}},{"$f":"VLOOKUP(H53,Results!A$8:$G$104,3,FALSE)","v":{"$error":"#N/A"}},{"$f":"VLOOKUP(H53,Results!$A$8:$G$104,2,FALSE)","v":{"$error":"#N/A"}},{"$f":"VLOOKUP(H53,Results!$A$8:$G$104,4,FALSE)","v":{"$error":"#N/A"}},{"$f":"VLOOKUP(H53,Results!$A$8:$G$104,7,FALSE)","v":{"$error":"#N/A"}},{"$f":"VLOOKUP(H53,$B$4:B53,1,FALSE)","v":{"$error":"#N/A"}}]
[null,{"$f":"Results!A57","v":0},{"$f":"Results!C57","v":0},{"$f":"Results!B57","v":0},{"$f":"Results!D57","v":0},{"$f":"Results!G57","v":""},"- vs -",{"$f":"VLOOKUP(B54,Results!$A$8:$AK$104,37,FALSE)","v":{"$error":"#N/A"}},{"$f":"VLOOKUP(H54,Results!A$8:$G$104,3,FALSE)","v":{"$error":"#N/A"}},{"$f":"VLOOKUP(H54,Results!$A$8:$G$104,2,FALSE)","v":{"$error":"#N/A"}},{"$f":"VLOOKUP(H54,Results!$A$8:$G$104,4,FALSE)","v":{"$error":"#N/A"}},{"$f":"VLOOKUP(H54,Results!$A$8:$G$104,7,FALSE)","v":{"$error":"#N/A"}},{"$f":"VLOOKUP(H54,$B$4:B54,1,FALSE)","v":{"$error":"#N/A"}}]
[null,{"$f":"Results!A58","v":0},{"$f":"Results!C58","v":0},{"$f":"Results!B58","v":0},{"$f":"Results!D58","v":0},{"$f":"Results!G58","v":""},"- vs -",{"$f":"VLOOKUP(B55,Results!$A$8:$AK$104,37,FALSE)","v":{"$error":"#N/A"}},{"$f":"VLOOKUP(H55,Results!A$8:$G$104,3,FALSE)","v":{"$error":"#N/A"}},{"$f":"VLOOKUP(H55,Results!$A$8:$G$104,2,FALSE)","v":{"$error":"#N/A"}},{"$f":"VLOOKUP(H55,Results!$A$8:$G$104,4,FALSE)","v":{"$error":"#N/A"}},{"$f":"VLOOKUP(H55,Results!$A$8:$G$104,7,FALSE)","v":{"$error":"#N/A"}},{"$f":"VLOOKUP(H55,$B$4:B55,1,FALSE)","v":{"$error":"#N/A"}}]
[null,{"$f":"Results!A59","v":0},{"$f":"Results!C59","v":0},{"$f":"Results!B59","v":0},{"$f":"Results!D59","v":0},{"$f":"Results!G59","v":""},"- vs -",{"$f":"VLOOKUP(B56,Results!$A$8:$AK$104,37,FALSE)","v":{"$error":"#N/A"}},{"$f":"VLOOKUP(H56,Results!A$8:$G$104,3,FALSE)","v":{"$error":"#N/A"}},{"$f":"VLOOKUP(H56,Results!$A$8:$G$104,2,FALSE)","v":{"$error":"#N/A"}},{"$f":"VLOOKUP(H56,Results!$A$8:$G$104,4,FALSE)","v":{"$error":"#N/A"}},{"$f":"VLOOKUP(H56,Results!$A$8:$G$104,7,FALSE)","v":{"$error":"#N/A"}},{"$f":"VLOOKUP(H56,$B$4:B56,1,FALSE)","v":{"$error":"#N/A"}}]
[null,{"$f":"Results!A60","v":0},{"$f":"Results!C60","v":0},{"$f":"Results!B60","v":0},{"$f":"Results!D60","v":0},{"$f":"Results!G60","v":""},"- vs -",{"$f":"VLOOKUP(B57,Results!$A$8:$AK$104,37,FALSE)","v":{"$error":"#N/A"}},{"$f":"VLOOKUP(H57,Results!A$8:$G$104,3,FALSE)","v":{"$error":"#N/A"}},{"$f":"VLOOKUP(H57,Results!$A$8:$G$104,2,FALSE)","v":{"$error":"#N/A"}},{"$f":"VLOOKUP(H57,Results!$A$8:$G$104,4,FALSE)","v":{"$error":"#N/A"}},{"$f":"VLOOKUP(H57,Results!$A$8:$G$104,7,FALSE)","v":{"$error":"#N/A"}},{"$f":"VLOOKUP(H57,$B$4:B57,1,FALSE)","v":{"$error":"#N/A"}}]
[null,{"$f":"Results!A61","v":0},{"$f":"Results!C61","v":0},{"$f":"Results!B61","v":0},{"$f":"Results!D61","v":0},{"$f":"Results!G61","v":""},"- vs -",{"$f":"VLOOKUP(B58,Results!$A$8:$AK$104,37,FALSE)","v":{"$error":"#N/A"}},{"$f":"VLOOKUP(H58,Results!A$8:$G$104,3,FALSE)","v":{"$error":"#N/A"}},{"$f":"VLOOKUP(H58,Results!$A$8:$G$104,2,FALSE)","v":{"$error":"#N/A"}},{"$f":"VLOOKUP(H58,Results!$A$8:$G$104,4,FALSE)","v":{"$error":"#N/A"}},{"$f":"VLOOKUP(H58,Results!$A$8:$G$104,7,FALSE)","v":{"$error":"#N/A"}},{"$f":"VLOOKUP(H58,$B$4:B58,1,FALSE)","v":{"$error":"#N/A"}}]
[null,{"$f":"Results!A62","v":0},{"$f":"Results!C62","v":0},{"$f":"Results!B62","v":0},{"$f":"Results!D62","v":0},{"$f":"Results!G62","v":""},"- vs -",{"$f":"VLOOKUP(B59,Results!$A$8:$AK$104,37,FALSE)","v":{"$error":"#N/A"}},{"$f":"VLOOKUP(H59,Results!A$8:$G$104,3,FALSE)","v":{"$error":"#N/A"}},{"$f":"VLOOKUP(H59,Results!$A$8:$G$104,2,FALSE)","v":{"$error":"#N/A"}},{"$f":"VLOOKUP(H59,Results!$A$8:$G$104,4,FALSE)","v":{"$error":"#N/A"}},{"$f":"VLOOKUP(H59,Results!$A$8:$G$104,7,FALSE)","v":{"$error":"#N/A"}},{"$f":"VLOOKUP(H59,$B$4:B59,1,FALSE)","v":{"$error":"#N/A"}}]
[null,{"$f":"Results!A63","v":0},{"$f":"Results!C63","v":0},{"$f":"Results!B63","v":0},{"$f":"Results!D63","v":0},{"$f":"Results!G63","v":""},"- vs -",{"$f":"VLOOKUP(B60,Results!$A$8:$AK$104,37,FALSE)","v":{"$error":"#N/A"}},{"$f":"VLOOKUP(H60,Results!A$8:$G$104,3,FALSE)","v":{"$error":"#N/A"}},{"$f":"VLOOKUP(H60,Results!$A$8:$G$104,2,FALSE)","v":{"$error":"#N/A"}},{"$f":"VLOOKUP(H60,Results!$A$8:$G$104,4,FALSE)","v":{"$error":"#N/A"}},{"$f":"VLOOKUP(H60,Results!$A$8:$G$104,7,FALSE)","v":{"$error":"#N/A"}},{"$f":"VLOOKUP(H60,$B$4:B60,1,FALSE)","v":{"$error":"#N/A"}}]
[null,{"$f":"Results!A64","v":0},{"$f":"Results!C64","v":0},{"$f":"Results!B64","v":0},{"$f":"Results!D64","v":0},{"$f":"Results!G64","v":""},"- vs -",{"$f":"VLOOKUP(B61,Results!$A$8:$AK$104,37,FALSE)","v":{"$error":"#N/A"}},{"$f":"VLOOKUP(H61,Results!A$8:$G$104,3,FALSE)","v":{"$error":"#N/A"}},{"$f":"VLOOKUP(H61,Results!$A$8:$G$104,2,FALSE)","v":{"$error":"#N/A"}},{"$f":"VLOOKUP(H61,Results!$A$8:$G$104,4,FALSE)","v":{"$error":"#N/A"}},{"$f":"VLOOKUP(H61,Results!$A$8:$G$104,7,FALSE)","v":{"$error":"#N/A"}},{"$f":"VLOOKUP(H61,$B$4:B61,1,FALSE)","v":{"$error":"#N/A"}}]
[null,{"$f":"Results!A65","v":0},{"$f":"Results!C65","v":0},{"$f":"Results!B65","v":0},{"$f":"Results!D65","v":0},{"$f":"Results!G65","v":""},"- vs -",{"$f":"VLOOKUP(B62,Results!$A$8:$AK$104,37,FALSE)","v":{"$error":"#N/A"}},{"$f":"VLOOKUP(H62,Results!A$8:$G$104,3,FALSE)","v":{"$error":"#N/A"}},{"$f":"VLOOKUP(H62,Results!$A$8:$G$104,2,FALSE)","v":{"$error":"#N/A"}},{"$f":"VLOOKUP(H62,Results!$A$8:$G$104,4,FALSE)","v":{"$error":"#N/A"}},{"$f":"VLOOKUP(H62,Results!$A$8:$G$104,7,FALSE)","v":{"$error":"#N/A"}},{"$f":"VLOOKUP(H62,$B$4:B62,1,FALSE)","v":{"$error":"#N/A"}}]
[null,{"$f":"Results!A66","v":0},{"$f":"Results!C66","v":0},{"$f":"Results!B66","v":0},{"$f":"Results!D66","v":0},{"$f":"Results!G66","v":""},"- vs -",{"$f":"VLOOKUP(B63,Results!$A$8:$AK$104,37,FALSE)","v":{"$error":"#N/A"}},{"$f":"VLOOKUP(H63,Results!A$8:$G$104,3,FALSE)","v":{"$error":"#N/A"}},{"$f":"VLOOKUP(H63,Results!$A$8:$G$104,2,FALSE)","v":{"$error":"#N/A"}},{"$f":"VLOOKUP(H63,Results!$A$8:$G$104,4,FALSE)","v":{"$error":"#N/A"}},{"$f":"VLOOKUP(H63,Results!$A$8:$G$104,7,FALSE)","v":{"$error":"#N/A"}},{"$f":"VLOOKUP(H63,$B$4:B63,1,FALSE)","v":{"$error":"#N/A"}}]
[null,{"$f":"Results!A67","v":0},{"$f":"Results!C67","v":0},{"$f":"Results!B67","v":0},{"$f":"Results!D67","v":0},{"$f":"Results!G67","v":""},"- vs -",{"$f":"VLOOKUP(B64,Results!$A$8:$AK$104,37,FALSE)","v":{"$error":"#N/A"}},{"$f":"VLOOKUP(H64,Results!A$8:$G$104,3,FALSE)","v":{"$error":"#N/A"}},{"$f":"VLOOKUP(H64,Results!$A$8:$G$104,2,FALSE)","v":{"$error":"#N/A"}},{"$f":"VLOOKUP(H64,Results!$A$8:$G$104,4,FALSE)","v":{"$error":"#N/A"}},{"$f":"VLOOKUP(H64,Results!$A$8:$G$104,7,FALSE)","v":{"$error":"#N/A"}}]
[null,{"$f":"Results!A68","v":0},{"$f":"Results!C68","v":0},{"$f":"Results!B68","v":0},{"$f":"Results!D68","v":0},{"$f":"Results!G68","v":""},"- vs -",{"$f":"VLOOKUP(B65,Results!$A$8:$AK$104,37,FALSE)","v":{"$error":"#N/A"}},{"$f":"VLOOKUP(H65,Results!A$8:$G$104,3,FALSE)","v":{"$error":"#N/A"}},{"$f":"VLOOKUP(H65,Results!$A$8:$G$104,2,FALSE)","v":{"$error":"#N/A"}},{"$f":"VLOOKUP(H65,Results!$A$8:$G$104,4,FALSE)","v":{"$error":"#N/A"}},{"$f":"VLOOKUP(H65,Results!$A$8:$G$104,7,FALSE)","v":{"$error":"#N/A"}}]
[null,{"$f":"Results!A69","v":0},{"$f":"Results!C69","v":0},{"$f":"Results!B69","v":0},{"$f":"Results!D69","v":0},{"$f":"Results!G69","v":""},"- vs -",{"$f":"VLOOKUP(B66,Results!$A$8:$AK$104,37,FALSE)","v":{"$error":"#N/A"}},{"$f":"VLOOKUP(H66,Results!A$8:$G$104,3,FALSE)","v":{"$error":"#N/A"}},{"$f":"VLOOKUP(H66,Results!$A$8:$G$104,2,FALSE)","v":{"$error":"#N/A"}},{"$f":"VLOOKUP(H66,Results!$A$8:$G$104,4,FALSE)","v":{"$error":"#N/A"}},{"$f":"VLOOKUP(H66,Results!$A$8:$G$104,7,FALSE)","v":{"$error":"#N/A"}}]
[null,{"$f":"Results!A70","v":0},{"$f":"Results!C70","v":0},{"$f":"Results!B70","v":0},{"$f":"Results!D70","v":0},{"$f":"Results!G70","v":""},"- vs -",{"$f":"VLOOKUP(B67,Results!$A$8:$AK$104,37,FALSE)","v":{"$error":"#N/A"}},{"$f":"VLOOKUP(H67,Results!A$8:$G$104,3,FALSE)","v":{"$error":"#N/A"}},{"$f":"VLOOKUP(H67,Results!$A$8:$G$104,2,FALSE)","v":{"$error":"#N/A"}},{"$f":"VLOOKUP(H67,Results!$A$8:$G$104,4,FALSE)","v":{"$error":"#N/A"}},{"$f":"VLOOKUP(H67,Results!$A$8:$G$104,7,FALSE)","v":{"$error":"#N/A"}}]
[null,{"$f":"Results!A71","v":0},{"$f":"Results!C71","v":0},{"$f":"Results!B71","v":0},{"$f":"Results!D71","v":0},{"$f":"Results!G71","v":""},"- vs -",{"$f":"VLOOKUP(B68,Results!$A$8:$AK$104,37,FALSE)","v":{"$error":"#N/A"}},{"$f":"VLOOKUP(H68,Results!A$8:$G$104,3,FALSE)","v":{"$error":"#N/A"}},{"$f":"VLOOKUP(H68,Results!$A$8:$G$104,2,FALSE)","v":{"$error":"#N/A"}},{"$f":"VLOOKUP(H68,Results!$A$8:$G$104,4,FALSE)","v":{"$error":"#N/A"}},{"$f":"VLOOKUP(H68,Results!$A$8:$G$104,7,FALSE)","v":{"$error":"#N/A"}}]
[null,{"$f":"Results!A72","v":0},{"$f":"Results!C72","v":0},{"$f":"Results!B72","v":0},{"$f":"Results!D72","v":0},{"$f":"Results!G72","v":""},"- vs -",{"$f":"VLOOKUP(B69,Results!$A$8:$AK$104,37,FALSE)","v":{"$error":"#N/A"}},{"$f":"VLOOKUP(H69,Results!A$8:$G$104,3,FALSE)","v":{"$error":"#N/A"}},{"$f":"VLOOKUP(H69,Results!$A$8:$G$104,2,FALSE)","v":{"$error":"#N/A"}},{"$f":"VLOOKUP(H69,Results!$A$8:$G$104,4,FALSE)","v":{"$error":"#N/A"}},{"$f":"VLOOKUP(H69,Results!$A$8:$G$104,7,FALSE)","v":{"$error":"#N/A"}}]
[null,{"$f":"Results!A76","v":0},{"$f":"Results!C76","v":0},{"$f":"Results!B76","v":0},{"$f":"Results!D76","v":0},{"$f":"Results!G76","v":""},"- vs -",{"$f":"VLOOKUP(B70,Results!$A$8:$AK$104,37,FALSE)","v":{"$error":"#N/A"}},{"$f":"VLOOKUP(H70,Results!A$8:$G$104,3,FALSE)","v":{"$error":"#N/A"}},{"$f":"VLOOKUP(H70,Results!$A$8:$G$104,2,FALSE)","v":{"$error":"#N/A"}},{"$f":"VLOOKUP(H70,Results!$A$8:$G$104,4,FALSE)","v":{"$error":"#N/A"}},{"$f":"VLOOKUP(H70,Results!$A$8:$G$104,7,FALSE)","v":{"$error":"#N/A"}}]
[null,{"$f":"Results!A77","v":0},{"$f":"Results!C77","v":0},{"$f":"Results!B77","v":0},{"$f":"Results!D77","v":0},{"$f":"Results!G77","v":""},"- vs -",{"$f":"VLOOKUP(B71,Results!$A$8:$AK$104,37,FALSE)","v":{"$error":"#N/A"}},{"$f":"VLOOKUP(H71,Results!A$8:$G$104,3,FALSE)","v":{"$error":"#N/A"}},{"$f":"VLOOKUP(H71,Results!$A$8:$G$104,2,FALSE)","v":{"$error":"#N/A"}},{"$f":"VLOOKUP(H71,Results!$A$8:$G$104,4,FALSE)","v":{"$error":"#N/A"}},{"$f":"VLOOKUP(H71,Results!$A$8:$G$104,7,FALSE)","v":{"$error":"#N/A"}}]
[null,{"$f":"Results!A78","v":0},{"$f":"Results!C78","v":0},{"$f":"Results!B78","v":0},{"$f":"Results!D78","v":0},{"$f":"Results!G78","v":""},"- vs -",{"$f":"VLOOKUP(B72,Results!$A$8:$AK$104,37,FALSE)","v":{"$error":"#N/A"}},{"$f":"VLOOKUP(H72,Results!A$8:$G$104,3,FALSE)","v":{"$error":"#N/A"}},{"$f":"VLOOKUP(H72,Results!$A$8:$G$104,2,FALSE)","v":{"$error":"#N/A"}},{"$f":"VLOOKUP(H72,Results!$A$8:$G$104,4,FALSE)","v":{"$error":"#N/A"}},{"$f":"VLOOKUP(H72,Results!$A$8:$G$104,7,FALSE)","v":{"$error":"#N/A"}}]
[null,{"$f":"Results!A79","v":0},{"$f":"Results!C79","v":0},{"$f":"Results!B79","v":0},{"$f":"Results!D79","v":0},{"$f":"Results!G79","v":""},"- vs -",{"$f":"VLOOKUP(B73,Results!$A$8:$AK$104,37,FALSE)","v":{"$error":"#N/A"}},{"$f":"VLOOKUP(H73,Results!A$8:$G$104,3,FALSE)","v":{"$error":"#N/A"}},{"$f":"VLOOKUP(H73,Results!$A$8:$G$104,2,FALSE)","v":{"$error":"#N/A"}},{"$f":"VLOOKUP(H73,Results!$A$8:$G$104,4,FALSE)","v":{"$error":"#N/A"}},{"$f":"VLOOKUP(H73,Results!$A$8:$G$104,7,FALSE)","v":{"$error":"#N/A"}}]
[null,{"$f":"Results!A80","v":0},{"$f":"Results!C80","v":0},{"$f":"Results!B80","v":0},{"$f":"Results!D80","v":0},{"$f":"Results!G80","v":""},"- vs -",{"$f":"VLOOKUP(B74,Results!$A$8:$AK$104,37,FALSE)","v":{"$error":"#N/A"}},{"$f":"VLOOKUP(H74,Results!A$8:$G$104,3,FALSE)","v":{"$error":"#N/A"}},{"$f":"VLOOKUP(H74,Results!$A$8:$G$104,2,FALSE)","v":{"$error":"#N/A"}},{"$f":"VLOOKUP(H74,Results!$A$8:$G$104,4,FALSE)","v":{"$error":"#N/A"}},{"$f":"VLOOKUP(H74,Results!$A$8:$G$104,7,FALSE)","v":{"$error":"#N/A"}}]
[null,{"$f":"Results!A81","v":0},{"$f":"Results!C81","v":0},{"$f":"Results!B81","v":0},{"$f":"Results!D81","v":0},{"$f":"Results!G81","v":""},"- vs -",{"$f":"VLOOKUP(B75,Results!$A$8:$AK$104,37,FALSE)","v":{"$error":"#N/A"}},{"$f":"VLOOKUP(H75,Results!A$8:$G$104,3,FALSE)","v":{"$error":"#N/A"}},{"$f":"VLOOKUP(H75,Results!$A$8:$G$104,2,FALSE)","v":{"$error":"#N/A"}},{"$f":"VLOOKUP(H75,Results!$A$8:$G$104,4,FALSE)","v":{"$error":"#N/A"}},{"$f":"VLOOKUP(H75,Results!$A$8:$G$104,7,FALSE)","v":{"$error":"#N/A"}}]
[null,{"$f":"Results!A82","v":0},{"$f":"Results!C82","v":0},{"$f":"Results!B82","v":0},{"$f":"Results!D82","v":0},{"$f":"Results!G82","v":""},"- vs -",{"$f":"VLOOKUP(B76,Results!$A$8:$AK$104,37,FALSE)","v":{"$error":"#N/A"}},{"$f":"VLOOKUP(H76,Results!A$8:$G$104,3,FALSE)","v":{"$error":"#N/A"}},{"$f":"VLOOKUP(H76,Results!$A$8:$G$104,2,FALSE)","v":{"$error":"#N/A"}},{"$f":"VLOOKUP(H76,Results!$A$8:$G$104,4,FALSE)","v":{"$error":"#N/A"}},{"$f":"VLOOKUP(H76,Results!$A$8:$G$104,7,FALSE)","v":{"$error":"#N/A"}}]
[null,{"$f":"Results!A83","v":0},{"$f":"Results!C83","v":0},{"$f":"Results!B83","v":0},{"$f":"Results!D83","v":0},{"$f":"Results!G83","v":""},"- vs -",{"$f":"VLOOKUP(B77,Results!$A$8:$AK$104,37,FALSE)","v":{"$error":"#N/A"}},{"$f":"VLOOKUP(H77,Results!A$8:$G$104,3,FALSE)","v":{"$error":"#N/A"}},{"$f":"VLOOKUP(H77,Results!$A$8:$G$104,2,FALSE)","v":{"$error":"#N/A"}},{"$f":"VLOOKUP(H77,Results!$A$8:$G$104,4,FALSE)","v":{"$error":"#N/A"}},{"$f":"VLOOKUP(H77,Results!$A$8:$G$104,7,FALSE)","v":{"$error":"#N/A"}}]
[null,{"$f":"Results!A84","v":0},{"$f":"Results!C84","v":0},{"$f":"Results!B84","v":0},{"$f":"Results!D84","v":0},{"$f":"Results!G84","v":""},"- vs -",{"$f":"VLOOKUP(B78,Results!$A$8:$AK$104,37,FALSE)","v":{"$error":"#N/A"}},{"$f":"VLOOKUP(H78,Results!A$8:$G$104,3,FALSE)","v":{"$error":"#N/A"}},{"$f":"VLOOKUP(H78,Results!$A$8:$G$104,2,FALSE)","v":{"$error":"#N/A"}},{"$f":"VLOOKUP(H78,Results!$A$8:$G$104,4,FALSE)","v":{"$error":"#N/A"}},{"$f":"VLOOKUP(H78,Results!$A$8:$G$104,7,FALSE)","v":{"$error":"#N/A"}}]
[null,{"$f":"Results!A85","v":0},{"$f":"Results!C85","v":0},{"$f":"Results!B85","v":0},{"$f":"Results!D85","v":0},{"$f":"Results!G85","v":""},"- vs -",{"$f":"VLOOKUP(B79,Results!$A$8:$AK$104,37,FALSE)","v":{"$error":"#N/A"}},{"$f":"VLOOKUP(H79,Results!A$8:$G$104,3,FALSE)","v":{"$error":"#N/A"}},{"$f":"VLOOKUP(H79,Results!$A$8:$G$104,2,FALSE)","v":{"$error":"#N/A"}},{"$f":"VLOOKUP(H79,Results!$A$8:$G$104,4,FALSE)","v":{"$error":"#N/A"}},{"$f":"VLOOKUP(H79,Results!$A$8:$G$104,7,FALSE)","v":{"$error":"#N/A"}}]
[null,{"$f":"Results!A86","v":0},{"$f":"Results!C86","v":0},{"$f":"Results!B86","v":0},{"$f":"Results!D86","v":0},{"$f":"Results!G86","v":""},"- vs -",{"$f":"VLOOKUP(B80,Results!$A$8:$AK$104,37,FALSE)","v":{"$error":"#N/A"}},{"$f":"VLOOKUP(H80,Results!A$8:$G$104,3,FALSE)","v":{"$error":"#N/A"}},{"$f":"VLOOKUP(H80,Results!$A$8:$G$104,2,FALSE)","v":{"$error":"#N/A"}},{"$f":"VLOOKUP(H80,Results!$A$8:$G$104,4,FALSE)","v":{"$error":"#N/A"}},{"$f":"VLOOKUP(H80,Results!$A$8:$G$104,7,FALSE)","v":{"$error":"#N/A"}}]
[null,{"$f":"Results!A87","v":0},{"$f":"Results!C87","v":0},{"$f":"Results!B87","v":0},{"$f":"Results!D87","v":0},{"$f":"Results!G87","v":""},"- vs -",{"$f":"VLOOKUP(B81,Results!$A$8:$AK$104,37,FALSE)","v":{"$error":"#N/A"}},{"$f":"VLOOKUP(H81,Results!A$8:$G$104,3,FALSE)","v":{"$error":"#N/A"}},{"$f":"VLOOKUP(H81,Results!$A$8:$G$104,2,FALSE)","v":{"$error":"#N/A"}},{"$f":"VLOOKUP(H81,Results!$A$8:$G$104,4,FALSE)","v":{"$error":"#N/A"}},{"$f":"VLOOKUP(H81,Results!$A$8:$G$104,7,FALSE)","v":{"$error":"#N/A"}}]
[null,{"$f":"Results!A88","v":0},{"$f":"Results!C88","v":0},{"$f":"Results!B88","v":0},{"$f":"Results!D88","v":0},{"$f":"Results!G88","v":""},"- vs -",{"$f":"VLOOKUP(B82,Results!$A$8:$AK$104,37,FALSE)","v":{"$error":"#N/A"}},{"$f":"VLOOKUP(H82,Results!A$8:$G$104,3,FALSE)","v":{"$error":"#N/A"}},{"$f":"VLOOKUP(H82,Results!$A$8:$G$104,2,FALSE)","v":{"$error":"#N/A"}},{"$f":"VLOOKUP(H82,Results!$A$8:$G$104,4,FALSE)","v":{"$error":"#N/A"}},{"$f":"VLOOKUP(H82,Results!$A$8:$G$104,7,FALSE)","v":{"$error":"#N/A"}}]
[null,{"$f":"Results!A89","v":0},{"$f":"Results!C89","v":0},{"$f":"Results!B89","v":0},{"$f":"Results!D89","v":0},{"$f":"Results!G89","v":""},"- vs -",{"$f":"VLOOKUP(B83,Results!$A$8:$AK$104,37,FALSE)","v":{"$error":"#N/A"}},{"$f":"VLOOKUP(H83,Results!A$8:$G$104,3,FALSE)","v":{"$error":"#N/A"}},{"$f":"VLOOKUP(H83,Results!$A$8:$G$104,2,FALSE)","v":{"$error":"#N/A"}},{"$f":"VLOOKUP(H83,Results!$A$8:$G$104,4,FALSE)","v":{"$error":"#N/A"}},{"$f":"VLOOKUP(H83,Results!$A$8:$G$104,7,FALSE)","v":{"$error":"#N/A"}}]
[null,{"$f":"Results!A90","v":0},{"$f":"Results!C90","v":0},{"$f":"Results!B90","v":0},{"$f":"Results!D90","v":0},{"$f":"Results!G90","v":""},"- vs -",{"$f":"VLOOKUP(B84,Results!$A$8:$AK$104,37,FALSE)","v":{"$error":"#N/A"}},{"$f":"VLOOKUP(H84,Results!A$8:$G$104,3,FALSE)","v":{"$error":"#N/A"}},{"$f":"VLOOKUP(H84,Results!$A$8:$G$104,2,FALSE)","v":{"$error":"#N/A"}},{"$f":"VLOOKUP(H84,Results!$A$8:$G$104,4,FALSE)","v":{"$error":"#N/A"}},{"$f":"VLOOKUP(H84,Results!$A$8:$G$104,7,FALSE)","v":{"$error":"#N/A"}}]
[null,{"$f":"Results!A91","v":0},{"$f":"Results!C91","v":0},{"$f":"Results!B91","v":0},{"$f":"Results!D91","v":0},{"$f":"Results!G91","v":""},"- vs -",{"$f":"VLOOKUP(B85,Results!$A$8:$AK$104,37,FALSE)","v":{"$error":"#N/A"}},{"$f":"VLOOKUP(H85,Results!A$8:$G$104,3,FALSE)","v":{"$error":"#N/A"}},{"$f":"VLOOKUP(H85,Results!$A$8:$G$104,2,FALSE)","v":{"$error":"#N/A"}},{"$f":"VLOOKUP(H85,Results!$A$8:$G$104,4,FALSE)","v":{"$error":"#N/A"}},{"$f":"VLOOKUP(H85,Results!$A$8:$G$104,7,FALSE)","v":{"$error":"#N/A"}}]
[null,{"$f":"Results!A92","v":0},{"$f":"Results!C92","v":0},{"$f":"Results!B92","v":0},{"$f":"Results!D92","v":0},{"$f":"Results!G92","v":""},"- vs -",{"$f":"VLOOKUP(B86,Results!$A$8:$AK$104,37,FALSE)","v":{"$error":"#N/A"}},{"$f":"VLOOKUP(H86,Results!A$8:$G$104,3,FALSE)","v":{"$error":"#N/A"}},{"$f":"VLOOKUP(H86,Results!$A$8:$G$104,2,FALSE)","v":{"$error":"#N/A"}},{"$f":"VLOOKUP(H86,Results!$A$8:$G$104,4,FALSE)","v":{"$error":"#N/A"}},{"$f":"VLOOKUP(H86,Results!$A$8:$G$104,7,FALSE)","v":{"$error":"#N/A"}}]
[null,{"$f":"Results!A93","v":0},{"$f":"Results!C93","v":0},{"$f":"Results!B93","v":0},{"$f":"Results!D93","v":0},{"$f":"Results!G93","v":""},"- vs -",{"$f":"VLOOKUP(B87,Results!$A$8:$AK$104,37,FALSE)","v":{"$error":"#N/A"}},{"$f":"VLOOKUP(H87,Results!A$8:$G$104,3,FALSE)","v":{"$error":"#N/A"}},{"$f":"VLOOKUP(H87,Results!$A$8:$G$104,2,FALSE)","v":{"$error":"#N/A"}},{"$f":"VLOOKUP(H87,Results!$A$8:$G$104,4,FALSE)","v":{"$error":"#N/A"}},{"$f":"VLOOKUP(H87,Results!$A$8:$G$104,7,FALSE)","v":{"$error":"#N/A"}}]
[null,{"$f":"Results!A94","v":0},{"$f":"Results!C94","v":0},{"$f":"Results!B94","v":0},{"$f":"Results!D94","v":0},{"$f":"Results!G94","v":""},"- vs -",{"$f":"VLOOKUP(B88,Results!$A$8:$AK$104,37,FALSE)","v":{"$error":"#N/A"}},{"$f":"VLOOKUP(H88,Results!A$8:$G$104,3,FALSE)","v":{"$error":"#N/A"}},{"$f":"VLOOKUP(H88,Results!$A$8:$G$104,2,FALSE)","v":{"$error":"#N/A"}},{"$f":"VLOOKUP(H88,Results!$A$8:$G$104,4,FALSE)","v":{"$error":"#N/A"}},{"$f":"VLOOKUP(H88,Results!$A$8:$G$104,7,FALSE)","v":{"$error":"#N/A"}}]
[null,{"$f":"Results!A95","v":0},{"$f":"Results!C95","v":0},{"$f":"Results!B95","v":0},{"$f":"Results!D95","v":0},{"$f":"Results!G95","v":""},"- vs -",{"$f":"VLOOKUP(B89,Results!$A$8:$AK$104,37,FALSE)","v":{"$error":"#N/A"}},{"$f":"VLOOKUP(H89,Results!A$8:$G$104,3,FALSE)","v":{"$error":"#N/A"}},{"$f":"VLOOKUP(H89,Results!$A$8:$G$104,2,FALSE)","v":{"$error":"#N/A"}},{"$f":"VLOOKUP(H89,Results!$A$8:$G$104,4,FALSE)","v":{"$error":"#N/A"}},{"$f":"VLOOKUP(H89,Results!$A$8:$G$104,7,FALSE)","v":{"$error":"#N/A"}}]
[null,{"$f":"Results!A96","v":0},{"$f":"Results!C96","v":0},{"$f":"Results!B96","v":0},{"$f":"Results!D96","v":0},{"$f":"Results!G96","v":""},"- vs -",{"$f":"VLOOKUP(B90,Results!$A$8:$AK$104,37,FALSE)","v":{"$error":"#N/A"}},{"$f":"VLOOKUP(H90,Results!A$8:$G$104,3,FALSE)","v":{"$error":"#N/A"}},{"$f":"VLOOKUP(H90,Results!$A$8:$G$104,2,FALSE)","v":{"$error":"#N/A"}},{"$f":"VLOOKUP(H90,Results!$A$8:$G$104,4,FALSE)","v":{"$error":"#N/A"}},{"$f":"VLOOKUP(H90,Results!$A$8:$G$104,7,FALSE)","v":{"$error":"#N/A"}}]
[null,{"$f":"Results!A97","v":0},{"$f":"Results!C97","v":0},{"$f":"Results!B97","v":0},{"$f":"Results!D97","v":0},{"$f":"Results!G97","v":""},"- vs -",{"$f":"VLOOKUP(B91,Results!$A$8:$AK$104,37,FALSE)","v":{"$error":"#N/A"}},{"$f":"VLOOKUP(H91,Results!A$8:$G$104,3,FALSE)","v":{"$error":"#N/A"}},{"$f":"VLOOKUP(H91,Results!$A$8:$G$104,2,FALSE)","v":{"$error":"#N/A"}},{"$f":"VLOOKUP(H91,Results!$A$8:$G$104,4,FALSE)","v":{"$error":"#N/A"}},{"$f":"VLOOKUP(H91,Results!$A$8:$G$104,7,FALSE)","v":{"$error":"#N/A"}}]
[null,{"$f":"Results!A98","v":0},{"$f":"Results!C98","v":0},{"$f":"Results!B98","v":0},{"$f":"Results!D98","v":0},{"$f":"Results!G98","v":""},"- vs -",{"$f":"VLOOKUP(B92,Results!$A$8:$AK$104,37,FALSE)","v":{"$error":"#N/A"}},{"$f":"VLOOKUP(H92,Results!A$8:$G$104,3,FALSE)","v":{"$error":"#N/A"}},{"$f":"VLOOKUP(H92,Results!$A$8:$G$104,2,FALSE)","v":{"$error":"#N/A"}},{"$f":"VLOOKUP(H92,Results!$A$8:$G$104,4,FALSE)","v":{"$error":"#N/A"}},{"$f":"VLOOKUP(H92,Results!$A$8:$G$104,7,FALSE)","v":{"$error":"#N/A"}}]
[null,{"$f":"Results!A99","v":0},{"$f":"Results!C99","v":0},{"$f":"Results!B99","v":0},{"$f":"Results!D99","v":0},{"$f":"Results!G99","v":""},"- vs -",{"$f":"VLOOKUP(B93,Results!$A$8:$AK$104,37,FALSE)","v":{"$error":"#N/A"}},{"$f":"VLOOKUP(H93,Results!A$8:$G$104,3,FALSE)","v":{"$error":"#N/A"}},{"$f":"VLOOKUP(H93,Results!$A$8:$G$104,2,FALSE)","v":{"$error":"#N/A"}},{"$f":"VLOOKUP(H93,Results!$A$8:$G$104,4,FALSE)","v":{"$error":"#N/A"}},{"$f":"VLOOKUP(H93,Results!$A$8:$G$104,7,FALSE)","v":{"$error":"#N/A"}}]
[null,{"$f":"Results!A100","v":0},{"$f":"Results!C100","v":0},{"$f":"Results!B100","v":0},{"$f":"Results!D100","v":0},{"$f":"Results!G100","v":""},"- vs -",{"$f":"VLOOKUP(B94,Results!$A$8:$AK$104,37,FALSE)","v":{"$error":"#N/A"}},{"$f":"VLOOKUP(H94,Results!A$8:$G$104,3,FALSE)","v":{"$error":"#N/A"}},{"$f":"VLOOKUP(H94,Results!$A$8:$G$104,2,FALSE)","v":{"$error":"#N/A"}},{"$f":"VLOOKUP(H94,Results!$A$8:$G$104,4,FALSE)","v":{"$error":"#N/A"}},{"$f":"VLOOKUP(H94,Results!$A$8:$G$104,7,FALSE)","v":{"$error":"#N/A"}}]
[null,{"$f":"Results!A101","v":0},{"$f":"Results!C101","v":0},{"$f":"Results!B101","v":0},{"$f":"Results!D101","v":0},{"$f":"Results!G101","v":""},"- vs -",{"$f":"VLOOKUP(B95,Results!$A$8:$AK$104,37,FALSE)","v":{"$error":"#N/A"}},{"$f":"VLOOKUP(H95,Results!A$8:$G$104,3,FALSE)","v":{"$error":"#N/A"}},{"$f":"VLOOKUP(H95,Results!$A$8:$G$104,2,FALSE)","v":{"$error":"#N/A"}},{"$f":"VLOOKUP(H95,Results!$A$8:$G$104,4,FALSE)","v":{"$error":"#N/A"}},{"$f":"VLOOKUP(H95,Results!$A$8:$G$104,7,FALSE)","v":{"$error":"#N/A"}}]
[null,{"$f":"Results!A102","v":0},{"$f":"Results!C102","v":0},{"$f":"Results!B102","v":0},{"$f":"Results!D102","v":0},{"$f":"Results!G102","v":""},"- vs -",{"$f":"VLOOKUP(B96,Results!$A$8:$AK$104,37,FALSE)","v":{"$error":"#N/A"}},{"$f":"VLOOKUP(H96,Results!A$8:$G$104,3,FALSE)","v":{"$error":"#N/A"}},{"$f":"VLOOKUP(H96,Results!$A$8:$G$104,2,FALSE)","v":{"$error":"#N/A"}},{"$f":"VLOOKUP(H96,Results!$A$8:$G$104,4,FALSE)","v":{"$error":"#N/A"}},{"$f":"VLOOKUP(H96,Results!$A$8:$G$104,7,FALSE)","v":{"$error":"#N/A"}}]
[null,{"$f":"Results!A103","v":0},{"$f":"Results!C103","v":0},{"$f":"Results!B103","v":0},{"$f":"Results!D103","v":0},{"$f":"Results!G103","v":""},"- vs -",{"$f":"VLOOKUP(B97,Results!$A$8:$AK$104,37,FALSE)","v":{"$error":"#N/A"}},{"$f":"VLOOKUP(H97,Results!A$8:$G$104,3,FALSE)","v":{"$error":"#N/A"}},{"$f":"VLOOKUP(H97,Results!$A$8:$G$104,2,FALSE)","v":{"$error":"#N/A"}},{"$f":"VLOOKUP(H97,Results!$A$8:$G$104,4,FALSE)","v":{"$error":"#N/A"}},{"$f":"VLOOKUP(H97,Results!$A$8:$G$104,7,FALSE)","v":{"$error":"#N/A"}}]
[null,{"$f":"Results!A104","v":0},{"$f":"Results!C104","v":0},{"$f":"Results!B104","v":0},{"$f":"Results!D104","v":0},{"$f":"Results!G104","v":""},"- vs -",{"$f":"VLOOKUP(B98,Results!$A$8:$AK$104,37,FALSE)","v":{"$error":"#N/A"}},{"$f":"VLOOKUP(H98,Results!A$8:$G$104,3,FALSE)","v":{"$error":"#N/A"}},{"$f":"VLOOKUP(H98,Results!$A$8:$G$104,2,FALSE)","v":{"$error":"#N/A"}},{"$f":"VLOOKUP(H98,Results!$A$8:$G$104,4,FALSE)","v":{"$error":"#N/A"}},{"$f":"VLOOKUP(H98,Results!$A$8:$G$104,7,FALSE)","v":{"$error":"#N/A"}}]
[null,{"$f":"Results!A105","v":0},{"$f":"Results!C105","v":0},{"$f":"Results!B105","v":0},{"$f":"Results!D105","v":0},{"$f":"Results!G105","v":""},"- vs -",{"$f":"VLOOKUP(B99,Results!$A$8:$AK$104,37,FALSE)","v":{"$error":"#N/A"}},{"$f":"VLOOKUP(H99,Results!A$8:$G$104,3,FALSE)","v":{"$error":"#N/A"}},{"$f":"VLOOKUP(H99,Results!$A$8:$G$104,2,FALSE)","v":{"$error":"#N/A"}},{"$f":"VLOOKUP(H99,Results!$A$8:$G$104,4,FALSE)","v":{"$error":"#N/A"}},{"$f":"VLOOKUP(H99,Results!$A$8:$G$104,7,FALSE)","v":{"$error":"#N/A"}}]
[null,{"$f":"Results!A106","v":0},{"$f":"Results!C106","v":0},{"$f":"Results!B106","v":0},{"$f":"Results!D106","v":0},{"$f":"Results!G106","v":""},"- vs -",{"$f":"VLOOKUP(B100,Results!$A$8:$AK$104,37,FALSE)","v":{"$error":"#N/A"}},{"$f":"VLOOKUP(H100,Results!A$8:$G$104,3,FALSE)","v":{"$error":"#N/A"}},{"$f":"VLOOKUP(H100,Results!$A$8:$G$104,2,FALSE)","v":{"$error":"#N/A"}},{"$f":"VLOOKUP(H100,Results!$A$8:$G$104,4,FALSE)","v":{"$error":"#N/A"}},{"$f":"VLOOKUP(H100,Results!$A$8:$G$104,7,FALSE)","v":{"$error":"#N/A"}}]
[null,{"$f":"Results!A107","v":0},{"$f":"Results!C107","v":0},{"$f":"Results!B107","v":0},{"$f":"Results!D107","v":0},{"$f":"Results!G107","v":""},"- vs -",{"$f":"VLOOKUP(B101,Results!$A$8:$AK$104,37,FALSE)","v":{"$error":"#N/A"}},{"$f":"VLOOKUP(H101,Results!A$8:$G$104,3,FALSE)","v":{"$error":"#N/A"}},{"$f":"VLOOKUP(H101,Results!$A$8:$G$104,2,FALSE)","v":{"$error":"#N/A"}},{"$f":"VLOOKUP(H101,Results!$A$8:$G$104,4,FALSE)","v":{"$error":"#N/A"}},{"$f":"VLOOKUP(H101,Results!$A$8:$G$104,7,FALSE)","v":{"$error":"#N/A"}}]

{"sheet":"Round 6","index":14,"n_rows":69,"n_cols":13,"rows_kept":69}
[{"$nulls":4},"Round 6 Draw"]
[null,null,{"$f":"Results!B3","v":0}]
[null,null,{"$f":"Results!B4","v":"Classical Period"}]
[{"$nulls":12},"VALID?"]
[null,{"$f":"Results!A8","v":0},{"$f":"Results!C8","v":0},{"$f":"Results!B8","v":0},{"$f":"Results!D8","v":0},{"$f":"Results!G8","v":""},"- vs -",{"$f":"VLOOKUP(B5,Results!$A$8:$AR$104,44,FALSE)","v":{"$error":"#N/A"}},{"$f":"VLOOKUP(H5,Results!A$8:$G$104,3,FALSE)","v":{"$error":"#N/A"}},{"$f":"VLOOKUP(H5,Results!$A$8:$G$104,2,FALSE)","v":{"$error":"#N/A"}},{"$f":"VLOOKUP(H5,Results!$A$8:$G$104,4,FALSE)","v":{"$error":"#N/A"}},{"$f":"VLOOKUP(H5,Results!$A$8:$G$104,7,FALSE)","v":{"$error":"#N/A"}},{"$f":"VLOOKUP(H5,$B$4:B5,1,FALSE)","v":{"$error":"#N/A"}}]
[null,{"$f":"Results!A9","v":0},{"$f":"Results!C9","v":0},{"$f":"Results!B9","v":0},{"$f":"Results!D9","v":0},{"$f":"Results!G9","v":""},"- vs -",{"$f":"VLOOKUP(B6,Results!$A$8:$AR$104,44,FALSE)","v":{"$error":"#N/A"}},{"$f":"VLOOKUP(H6,Results!A$8:$G$104,3,FALSE)","v":{"$error":"#N/A"}},{"$f":"VLOOKUP(H6,Results!$A$8:$G$104,2,FALSE)","v":{"$error":"#N/A"}},{"$f":"VLOOKUP(H6,Results!$A$8:$G$104,4,FALSE)","v":{"$error":"#N/A"}},{"$f":"VLOOKUP(H6,Results!$A$8:$G$104,7,FALSE)","v":{"$error":"#N/A"}},{"$f":"VLOOKUP(H6,$B$4:B6,1,FALSE)","v":{"$error":"#N/A"}}]
[null,{"$f":"Results!A10","v":0},{"$f":"Results!C10","v":0},{"$f":"Results!B10","v":0},{"$f":"Results!D10","v":0},{"$f":"Results!G10","v":""},"- vs -",{"$f":"VLOOKUP(B7,Results!$A$8:$AR$104,44,FALSE)","v":{"$error":"#N/A"}},{"$f":"VLOOKUP(H7,Results!A$8:$G$104,3,FALSE)","v":{"$error":"#N/A"}},{"$f":"VLOOKUP(H7,Results!$A$8:$G$104,2,FALSE)","v":{"$error":"#N/A"}},{"$f":"VLOOKUP(H7,Results!$A$8:$G$104,4,FALSE)","v":{"$error":"#N/A"}},{"$f":"VLOOKUP(H7,Results!$A$8:$G$104,7,FALSE)","v":{"$error":"#N/A"}},{"$f":"VLOOKUP(H7,$B$4:B7,1,FALSE)","v":{"$error":"#N/A"}}]
[null,{"$f":"Results!A11","v":0},{"$f":"Results!C11","v":0},{"$f":"Results!B11","v":0},{"$f":"Results!D11","v":0},{"$f":"Results!G11","v":""},"- vs -",{"$f":"VLOOKUP(B8,Results!$A$8:$AR$104,44,FALSE)","v":{"$error":"#N/A"}},{"$f":"VLOOKUP(H8,Results!A$8:$G$104,3,FALSE)","v":{"$error":"#N/A"}},{"$f":"VLOOKUP(H8,Results!$A$8:$G$104,2,FALSE)","v":{"$error":"#N/A"}},{"$f":"VLOOKUP(H8,Results!$A$8:$G$104,4,FALSE)","v":{"$error":"#N/A"}},{"$f":"VLOOKUP(H8,Results!$A$8:$G$104,7,FALSE)","v":{"$error":"#N/A"}},{"$f":"VLOOKUP(H8,$B$4:B8,1,FALSE)","v":{"$error":"#N/A"}}]
[null,{"$f":"Results!A12","v":0},{"$f":"Results!C12","v":0},{"$f":"Results!B12","v":0},{"$f":"Results!D12","v":0},{"$f":"Results!G12","v":""},"- vs -",{"$f":"VLOOKUP(B9,Results!$A$8:$AR$104,44,FALSE)","v":{"$error":"#N/A"}},{"$f":"VLOOKUP(H9,Results!A$8:$G$104,3,FALSE)","v":{"$error":"#N/A"}},{"$f":"VLOOKUP(H9,Results!$A$8:$G$104,2,FALSE)","v":{"$error":"#N/A"}},{"$f":"VLOOKUP(H9,Results!$A$8:$G$104,4,FALSE)","v":{"$error":"#N/A"}},{"$f":"VLOOKUP(H9,Results!$A$8:$G$104,7,FALSE)","v":{"$error":"#N/A"}},{"$f":"VLOOKUP(H9,$B$4:B9,1,FALSE)","v":{"$error":"#N/A"}}]
[null,{"$f":"Results!A13","v":0},{"$f":"Results!C13","v":0},{"$f":"Results!B13","v":0},{"$f":"Results!D13","v":0},{"$f":"Results!G13","v":""},"- vs -",{"$f":"VLOOKUP(B10,Results!$A$8:$AR$104,44,FALSE)","v":{"$error":"#N/A"}},{"$f":"VLOOKUP(H10,Results!A$8:$G$104,3,FALSE)","v":{"$error":"#N/A"}},{"$f":"VLOOKUP(H10,Results!$A$8:$G$104,2,FALSE)","v":{"$error":"#N/A"}},{"$f":"VLOOKUP(H10,Results!$A$8:$G$104,4,FALSE)","v":{"$error":"#N/A"}},{"$f":"VLOOKUP(H10,Results!$A$8:$G$104,7,FALSE)","v":{"$error":"#N/A"}},{"$f":"VLOOKUP(H10,$B$4:B10,1,FALSE)","v":{"$error":"#N/A"}}]
[null,{"$f":"Results!A14","v":0},{"$f":"Results!C14","v":0},{"$f":"Results!B14","v":0},{"$f":"Results!D14","v":0},{"$f":"Results!G14","v":""},"- vs -",{"$f":"VLOOKUP(B11,Results!$A$8:$AR$104,44,FALSE)","v":{"$error":"#N/A"}},{"$f":"VLOOKUP(H11,Results!A$8:$G$104,3,FALSE)","v":{"$error":"#N/A"}},{"$f":"VLOOKUP(H11,Results!$A$8:$G$104,2,FALSE)","v":{"$error":"#N/A"}},{"$f":"VLOOKUP(H11,Results!$A$8:$G$104,4,FALSE)","v":{"$error":"#N/A"}},{"$f":"VLOOKUP(H11,Results!$A$8:$G$104,7,FALSE)","v":{"$error":"#N/A"}},{"$f":"VLOOKUP(H11,$B$4:B11,1,FALSE)","v":{"$error":"#N/A"}}]
[null,{"$f":"Results!A15","v":0},{"$f":"Results!C15","v":0},{"$f":"Results!B15","v":0},{"$f":"Results!D15","v":0},{"$f":"Results!G15","v":""},"- vs -",{"$f":"VLOOKUP(B12,Results!$A$8:$AR$104,44,FALSE)","v":{"$error":"#N/A"}},{"$f":"VLOOKUP(H12,Results!A$8:$G$104,3,FALSE)","v":{"$error":"#N/A"}},{"$f":"VLOOKUP(H12,Results!$A$8:$G$104,2,FALSE)","v":{"$error":"#N/A"}},{"$f":"VLOOKUP(H12,Results!$A$8:$G$104,4,FALSE)","v":{"$error":"#N/A"}},{"$f":"VLOOKUP(H12,Results!$A$8:$G$104,7,FALSE)","v":{"$error":"#N/A"}},{"$f":"VLOOKUP(H12,$B$4:B12,1,FALSE)","v":{"$error":"#N/A"}}]
[null,{"$f":"Results!A16","v":0},{"$f":"Results!C16","v":0},{"$f":"Results!B16","v":0},{"$f":"Results!D16","v":0},{"$f":"Results!G16","v":""},"- vs -",{"$f":"VLOOKUP(B13,Results!$A$8:$AR$104,44,FALSE)","v":{"$error":"#N/A"}},{"$f":"VLOOKUP(H13,Results!A$8:$G$104,3,FALSE)","v":{"$error":"#N/A"}},{"$f":"VLOOKUP(H13,Results!$A$8:$G$104,2,FALSE)","v":{"$error":"#N/A"}},{"$f":"VLOOKUP(H13,Results!$A$8:$G$104,4,FALSE)","v":{"$error":"#N/A"}},{"$f":"VLOOKUP(H13,Results!$A$8:$G$104,7,FALSE)","v":{"$error":"#N/A"}},{"$f":"VLOOKUP(H13,$B$4:B13,1,FALSE)","v":{"$error":"#N/A"}}]
[null,{"$f":"Results!A17","v":0},{"$f":"Results!C17","v":0},{"$f":"Results!B17","v":0},{"$f":"Results!D17","v":0},{"$f":"Results!G17","v":""},"- vs -",{"$f":"VLOOKUP(B14,Results!$A$8:$AR$104,44,FALSE)","v":{"$error":"#N/A"}},{"$f":"VLOOKUP(H14,Results!A$8:$G$104,3,FALSE)","v":{"$error":"#N/A"}},{"$f":"VLOOKUP(H14,Results!$A$8:$G$104,2,FALSE)","v":{"$error":"#N/A"}},{"$f":"VLOOKUP(H14,Results!$A$8:$G$104,4,FALSE)","v":{"$error":"#N/A"}},{"$f":"VLOOKUP(H14,Results!$A$8:$G$104,7,FALSE)","v":{"$error":"#N/A"}},{"$f":"VLOOKUP(H14,$B$4:B14,1,FALSE)","v":{"$error":"#N/A"}}]
[null,{"$f":"Results!A18","v":0},{"$f":"Results!C18","v":0},{"$f":"Results!B18","v":0},{"$f":"Results!D18","v":0},{"$f":"Results!G18","v":""},"- vs -",{"$f":"VLOOKUP(B15,Results!$A$8:$AR$104,44,FALSE)","v":{"$error":"#N/A"}},{"$f":"VLOOKUP(H15,Results!A$8:$G$104,3,FALSE)","v":{"$error":"#N/A"}},{"$f":"VLOOKUP(H15,Results!$A$8:$G$104,2,FALSE)","v":{"$error":"#N/A"}},{"$f":"VLOOKUP(H15,Results!$A$8:$G$104,4,FALSE)","v":{"$error":"#N/A"}},{"$f":"VLOOKUP(H15,Results!$A$8:$G$104,7,FALSE)","v":{"$error":"#N/A"}},{"$f":"VLOOKUP(H15,$B$4:B15,1,FALSE)","v":{"$error":"#N/A"}}]
[null,{"$f":"Results!A19","v":0},{"$f":"Results!C19","v":0},{"$f":"Results!B19","v":0},{"$f":"Results!D19","v":0},{"$f":"Results!G19","v":""},"- vs -",{"$f":"VLOOKUP(B16,Results!$A$8:$AR$104,44,FALSE)","v":{"$error":"#N/A"}},{"$f":"VLOOKUP(H16,Results!A$8:$G$104,3,FALSE)","v":{"$error":"#N/A"}},{"$f":"VLOOKUP(H16,Results!$A$8:$G$104,2,FALSE)","v":{"$error":"#N/A"}},{"$f":"VLOOKUP(H16,Results!$A$8:$G$104,4,FALSE)","v":{"$error":"#N/A"}},{"$f":"VLOOKUP(H16,Results!$A$8:$G$104,7,FALSE)","v":{"$error":"#N/A"}},{"$f":"VLOOKUP(H16,$B$4:B16,1,FALSE)","v":{"$error":"#N/A"}}]
[null,{"$f":"Results!A20","v":0},{"$f":"Results!C20","v":0},{"$f":"Results!B20","v":0},{"$f":"Results!D20","v":0},{"$f":"Results!G20","v":""},"- vs -",{"$f":"VLOOKUP(B17,Results!$A$8:$AR$104,44,FALSE)","v":{"$error":"#N/A"}},{"$f":"VLOOKUP(H17,Results!A$8:$G$104,3,FALSE)","v":{"$error":"#N/A"}},{"$f":"VLOOKUP(H17,Results!$A$8:$G$104,2,FALSE)","v":{"$error":"#N/A"}},{"$f":"VLOOKUP(H17,Results!$A$8:$G$104,4,FALSE)","v":{"$error":"#N/A"}},{"$f":"VLOOKUP(H17,Results!$A$8:$G$104,7,FALSE)","v":{"$error":"#N/A"}},{"$f":"VLOOKUP(H17,$B$4:B17,1,FALSE)","v":{"$error":"#N/A"}}]
[null,{"$f":"Results!A21","v":0},{"$f":"Results!C21","v":0},{"$f":"Results!B21","v":0},{"$f":"Results!D21","v":0},{"$f":"Results!G21","v":""},"- vs -",{"$f":"VLOOKUP(B18,Results!$A$8:$AR$104,44,FALSE)","v":{"$error":"#N/A"}},{"$f":"VLOOKUP(H18,Results!A$8:$G$104,3,FALSE)","v":{"$error":"#N/A"}},{"$f":"VLOOKUP(H18,Results!$A$8:$G$104,2,FALSE)","v":{"$error":"#N/A"}},{"$f":"VLOOKUP(H18,Results!$A$8:$G$104,4,FALSE)","v":{"$error":"#N/A"}},{"$f":"VLOOKUP(H18,Results!$A$8:$G$104,7,FALSE)","v":{"$error":"#N/A"}},{"$f":"VLOOKUP(H18,$B$4:B18,1,FALSE)","v":{"$error":"#N/A"}}]
[null,{"$f":"Results!A22","v":0},{"$f":"Results!C22","v":0},{"$f":"Results!B22","v":0},{"$f":"Results!D22","v":0},{"$f":"Results!G22","v":""},"- vs -",{"$f":"VLOOKUP(B19,Results!$A$8:$AR$104,44,FALSE)","v":{"$error":"#N/A"}},{"$f":"VLOOKUP(H19,Results!A$8:$G$104,3,FALSE)","v":{"$error":"#N/A"}},{"$f":"VLOOKUP(H19,Results!$A$8:$G$104,2,FALSE)","v":{"$error":"#N/A"}},{"$f":"VLOOKUP(H19,Results!$A$8:$G$104,4,FALSE)","v":{"$error":"#N/A"}},{"$f":"VLOOKUP(H19,Results!$A$8:$G$104,7,FALSE)","v":{"$error":"#N/A"}},{"$f":"VLOOKUP(H19,$B$4:B19,1,FALSE)","v":{"$error":"#N/A"}}]
[null,{"$f":"Results!A23","v":0},{"$f":"Results!C23","v":0},{"$f":"Results!B23","v":0},{"$f":"Results!D23","v":0},{"$f":"Results!G23","v":""},"- vs -",{"$f":"VLOOKUP(B20,Results!$A$8:$AR$104,44,FALSE)","v":{"$error":"#N/A"}},{"$f":"VLOOKUP(H20,Results!A$8:$G$104,3,FALSE)","v":{"$error":"#N/A"}},{"$f":"VLOOKUP(H20,Results!$A$8:$G$104,2,FALSE)","v":{"$error":"#N/A"}},{"$f":"VLOOKUP(H20,Results!$A$8:$G$104,4,FALSE)","v":{"$error":"#N/A"}},{"$f":"VLOOKUP(H20,Results!$A$8:$G$104,7,FALSE)","v":{"$error":"#N/A"}},{"$f":"VLOOKUP(H20,$B$4:B20,1,FALSE)","v":{"$error":"#N/A"}}]
[null,{"$f":"Results!A24","v":0},{"$f":"Results!C24","v":0},{"$f":"Results!B24","v":0},{"$f":"Results!D24","v":0},{"$f":"Results!G24","v":""},"- vs -",{"$f":"VLOOKUP(B21,Results!$A$8:$AR$104,44,FALSE)","v":{"$error":"#N/A"}},{"$f":"VLOOKUP(H21,Results!A$8:$G$104,3,FALSE)","v":{"$error":"#N/A"}},{"$f":"VLOOKUP(H21,Results!$A$8:$G$104,2,FALSE)","v":{"$error":"#N/A"}},{"$f":"VLOOKUP(H21,Results!$A$8:$G$104,4,FALSE)","v":{"$error":"#N/A"}},{"$f":"VLOOKUP(H21,Results!$A$8:$G$104,7,FALSE)","v":{"$error":"#N/A"}},{"$f":"VLOOKUP(H21,$B$4:B21,1,FALSE)","v":{"$error":"#N/A"}}]
[null,{"$f":"Results!A25","v":0},{"$f":"Results!C25","v":0},{"$f":"Results!B25","v":0},{"$f":"Results!D25","v":0},{"$f":"Results!G25","v":""},"- vs -",{"$f":"VLOOKUP(B22,Results!$A$8:$AR$104,44,FALSE)","v":{"$error":"#N/A"}},{"$f":"VLOOKUP(H22,Results!A$8:$G$104,3,FALSE)","v":{"$error":"#N/A"}},{"$f":"VLOOKUP(H22,Results!$A$8:$G$104,2,FALSE)","v":{"$error":"#N/A"}},{"$f":"VLOOKUP(H22,Results!$A$8:$G$104,4,FALSE)","v":{"$error":"#N/A"}},{"$f":"VLOOKUP(H22,Results!$A$8:$G$104,7,FALSE)","v":{"$error":"#N/A"}},{"$f":"VLOOKUP(H22,$B$4:B22,1,FALSE)","v":{"$error":"#N/A"}}]
[null,{"$f":"Results!A26","v":0},{"$f":"Results!C26","v":0},{"$f":"Results!B26","v":0},{"$f":"Results!D26","v":0},{"$f":"Results!G26","v":""},"- vs -",{"$f":"VLOOKUP(B23,Results!$A$8:$AR$104,44,FALSE)","v":{"$error":"#N/A"}},{"$f":"VLOOKUP(H23,Results!A$8:$G$104,3,FALSE)","v":{"$error":"#N/A"}},{"$f":"VLOOKUP(H23,Results!$A$8:$G$104,2,FALSE)","v":{"$error":"#N/A"}},{"$f":"VLOOKUP(H23,Results!$A$8:$G$104,4,FALSE)","v":{"$error":"#N/A"}},{"$f":"VLOOKUP(H23,Results!$A$8:$G$104,7,FALSE)","v":{"$error":"#N/A"}},{"$f":"VLOOKUP(H23,$B$4:B23,1,FALSE)","v":{"$error":"#N/A"}}]
[null,{"$f":"Results!A27","v":0},{"$f":"Results!C27","v":0},{"$f":"Results!B27","v":0},{"$f":"Results!D27","v":0},{"$f":"Results!G27","v":""},"- vs -",{"$f":"VLOOKUP(B24,Results!$A$8:$AR$104,44,FALSE)","v":{"$error":"#N/A"}},{"$f":"VLOOKUP(H24,Results!A$8:$G$104,3,FALSE)","v":{"$error":"#N/A"}},{"$f":"VLOOKUP(H24,Results!$A$8:$G$104,2,FALSE)","v":{"$error":"#N/A"}},{"$f":"VLOOKUP(H24,Results!$A$8:$G$104,4,FALSE)","v":{"$error":"#N/A"}},{"$f":"VLOOKUP(H24,Results!$A$8:$G$104,7,FALSE)","v":{"$error":"#N/A"}},{"$f":"VLOOKUP(H24,$B$4:B24,1,FALSE)","v":{"$error":"#N/A"}}]
[null,{"$f":"Results!A28","v":0},{"$f":"Results!C28","v":0},{"$f":"Results!B28","v":0},{"$f":"Results!D28","v":0},{"$f":"Results!G28","v":""},"- vs -",{"$f":"VLOOKUP(B25,Results!$A$8:$AR$104,44,FALSE)","v":{"$error":"#N/A"}},{"$f":"VLOOKUP(H25,Results!A$8:$G$104,3,FALSE)","v":{"$error":"#N/A"}},{"$f":"VLOOKUP(H25,Results!$A$8:$G$104,2,FALSE)","v":{"$error":"#N/A"}},{"$f":"VLOOKUP(H25,Results!$A$8:$G$104,4,FALSE)","v":{"$error":"#N/A"}},{"$f":"VLOOKUP(H25,Results!$A$8:$G$104,7,FALSE)","v":{"$error":"#N/A"}},{"$f":"VLOOKUP(H25,$B$4:B25,1,FALSE)","v":{"$error":"#N/A"}}]
[null,{"$f":"Results!A29","v":0},{"$f":"Results!C29","v":0},{"$f":"Results!B29","v":0},{"$f":"Results!D29","v":0},{"$f":"Results!G29","v":""},"- vs -",{"$f":"VLOOKUP(B26,Results!$A$8:$AR$104,44,FALSE)","v":{"$error":"#N/A"}},{"$f":"VLOOKUP(H26,Results!A$8:$G$104,3,FALSE)","v":{"$error":"#N/A"}},{"$f":"VLOOKUP(H26,Results!$A$8:$G$104,2,FALSE)","v":{"$error":"#N/A"}},{"$f":"VLOOKUP(H26,Results!$A$8:$G$104,4,FALSE)","v":{"$error":"#N/A"}},{"$f":"VLOOKUP(H26,Results!$A$8:$G$104,7,FALSE)","v":{"$error":"#N/A"}},{"$f":"VLOOKUP(H26,$B$4:B26,1,FALSE)","v":{"$error":"#N/A"}}]
[null,{"$f":"Results!A30","v":0},{"$f":"Results!C30","v":0},{"$f":"Results!B30","v":0},{"$f":"Results!D30","v":0},{"$f":"Results!G30","v":""},"- vs -",{"$f":"VLOOKUP(B27,Results!$A$8:$AR$104,44,FALSE)","v":{"$error":"#N/A"}},{"$f":"VLOOKUP(H27,Results!A$8:$G$104,3,FALSE)","v":{"$error":"#N/A"}},{"$f":"VLOOKUP(H27,Results!$A$8:$G$104,2,FALSE)","v":{"$error":"#N/A"}},{"$f":"VLOOKUP(H27,Results!$A$8:$G$104,4,FALSE)","v":{"$error":"#N/A"}},{"$f":"VLOOKUP(H27,Results!$A$8:$G$104,7,FALSE)","v":{"$error":"#N/A"}},{"$f":"VLOOKUP(H27,$B$4:B27,1,FALSE)","v":{"$error":"#N/A"}}]
[null,{"$f":"Results!A31","v":0},{"$f":"Results!C31","v":0},{"$f":"Results!B31","v":0},{"$f":"Results!D31","v":0},{"$f":"Results!G31","v":""},"- vs -",{"$f":"VLOOKUP(B28,Results!$A$8:$AR$104,44,FALSE)","v":{"$error":"#N/A"}},{"$f":"VLOOKUP(H28,Results!A$8:$G$104,3,FALSE)","v":{"$error":"#N/A"}},{"$f":"VLOOKUP(H28,Results!$A$8:$G$104,2,FALSE)","v":{"$error":"#N/A"}},{"$f":"VLOOKUP(H28,Results!$A$8:$G$104,4,FALSE)","v":{"$error":"#N/A"}},{"$f":"VLOOKUP(H28,Results!$A$8:$G$104,7,FALSE)","v":{"$error":"#N/A"}},{"$f":"VLOOKUP(H28,$B$4:B28,1,FALSE)","v":{"$error":"#N/A"}}]
[null,{"$f":"Results!A32","v":0},{"$f":"Results!C32","v":0},{"$f":"Results!B32","v":0},{"$f":"Results!D32","v":0},{"$f":"Results!G32","v":""},"- vs -",{"$f":"VLOOKUP(B29,Results!$A$8:$AR$104,44,FALSE)","v":{"$error":"#N/A"}},{"$f":"VLOOKUP(H29,Results!A$8:$G$104,3,FALSE)","v":{"$error":"#N/A"}},{"$f":"VLOOKUP(H29,Results!$A$8:$G$104,2,FALSE)","v":{"$error":"#N/A"}},{"$f":"VLOOKUP(H29,Results!$A$8:$G$104,4,FALSE)","v":{"$error":"#N/A"}},{"$f":"VLOOKUP(H29,Results!$A$8:$G$104,7,FALSE)","v":{"$error":"#N/A"}},{"$f":"VLOOKUP(H29,$B$4:B29,1,FALSE)","v":{"$error":"#N/A"}}]
[null,{"$f":"Results!A33","v":0},{"$f":"Results!C33","v":0},{"$f":"Results!B33","v":0},{"$f":"Results!D33","v":0},{"$f":"Results!G33","v":""},"- vs -",{"$f":"VLOOKUP(B30,Results!$A$8:$AR$104,44,FALSE)","v":{"$error":"#N/A"}},{"$f":"VLOOKUP(H30,Results!A$8:$G$104,3,FALSE)","v":{"$error":"#N/A"}},{"$f":"VLOOKUP(H30,Results!$A$8:$G$104,2,FALSE)","v":{"$error":"#N/A"}},{"$f":"VLOOKUP(H30,Results!$A$8:$G$104,4,FALSE)","v":{"$error":"#N/A"}},{"$f":"VLOOKUP(H30,Results!$A$8:$G$104,7,FALSE)","v":{"$error":"#N/A"}},{"$f":"VLOOKUP(H30,$B$4:B30,1,FALSE)","v":{"$error":"#N/A"}}]
[null,{"$f":"Results!A34","v":0},{"$f":"Results!C34","v":0},{"$f":"Results!B34","v":0},{"$f":"Results!D34","v":0},{"$f":"Results!G34","v":""},"- vs -",{"$f":"VLOOKUP(B31,Results!$A$8:$AR$104,44,FALSE)","v":{"$error":"#N/A"}},{"$f":"VLOOKUP(H31,Results!A$8:$G$104,3,FALSE)","v":{"$error":"#N/A"}},{"$f":"VLOOKUP(H31,Results!$A$8:$G$104,2,FALSE)","v":{"$error":"#N/A"}},{"$f":"VLOOKUP(H31,Results!$A$8:$G$104,4,FALSE)","v":{"$error":"#N/A"}},{"$f":"VLOOKUP(H31,Results!$A$8:$G$104,7,FALSE)","v":{"$error":"#N/A"}},{"$f":"VLOOKUP(H31,$B$4:B31,1,FALSE)","v":{"$error":"#N/A"}}]
[null,{"$f":"Results!A35","v":0},{"$f":"Results!C35","v":0},{"$f":"Results!B35","v":0},{"$f":"Results!D35","v":0},{"$f":"Results!G35","v":""},"- vs -",{"$f":"VLOOKUP(B32,Results!$A$8:$AR$104,44,FALSE)","v":{"$error":"#N/A"}},{"$f":"VLOOKUP(H32,Results!A$8:$G$104,3,FALSE)","v":{"$error":"#N/A"}},{"$f":"VLOOKUP(H32,Results!$A$8:$G$104,2,FALSE)","v":{"$error":"#N/A"}},{"$f":"VLOOKUP(H32,Results!$A$8:$G$104,4,FALSE)","v":{"$error":"#N/A"}},{"$f":"VLOOKUP(H32,Results!$A$8:$G$104,7,FALSE)","v":{"$error":"#N/A"}},{"$f":"VLOOKUP(H32,$B$4:B32,1,FALSE)","v":{"$error":"#N/A"}}]
[null,{"$f":"Results!A36","v":0},{"$f":"Results!C36","v":0},{"$f":"Results!B36","v":0},{"$f":"Results!D36","v":0},{"$f":"Results!G36","v":""},"- vs -",{"$f":"VLOOKUP(B33,Results!$A$8:$AR$104,44,FALSE)","v":{"$error":"#N/A"}},{"$f":"VLOOKUP(H33,Results!A$8:$G$104,3,FALSE)","v":{"$error":"#N/A"}},{"$f":"VLOOKUP(H33,Results!$A$8:$G$104,2,FALSE)","v":{"$error":"#N/A"}},{"$f":"VLOOKUP(H33,Results!$A$8:$G$104,4,FALSE)","v":{"$error":"#N/A"}},{"$f":"VLOOKUP(H33,Results!$A$8:$G$104,7,FALSE)","v":{"$error":"#N/A"}},{"$f":"VLOOKUP(H33,$B$4:B33,1,FALSE)","v":{"$error":"#N/A"}}]
[null,{"$f":"Results!A37","v":0},{"$f":"Results!C37","v":0},{"$f":"Results!B37","v":0},{"$f":"Results!D37","v":0},{"$f":"Results!G37","v":""},"- vs -",{"$f":"VLOOKUP(B34,Results!$A$8:$AR$104,44,FALSE)","v":{"$error":"#N/A"}},{"$f":"VLOOKUP(H34,Results!A$8:$G$104,3,FALSE)","v":{"$error":"#N/A"}},{"$f":"VLOOKUP(H34,Results!$A$8:$G$104,2,FALSE)","v":{"$error":"#N/A"}},{"$f":"VLOOKUP(H34,Results!$A$8:$G$104,4,FALSE)","v":{"$error":"#N/A"}},{"$f":"VLOOKUP(H34,Results!$A$8:$G$104,7,FALSE)","v":{"$error":"#N/A"}},{"$f":"VLOOKUP(H34,$B$4:B34,1,FALSE)","v":{"$error":"#N/A"}}]
[null,{"$f":"Results!A38","v":0},{"$f":"Results!C38","v":0},{"$f":"Results!B38","v":0},{"$f":"Results!D38","v":0},{"$f":"Results!G38","v":""},"- vs -",{"$f":"VLOOKUP(B35,Results!$A$8:$AR$104,44,FALSE)","v":{"$error":"#N/A"}},{"$f":"VLOOKUP(H35,Results!A$8:$G$104,3,FALSE)","v":{"$error":"#N/A"}},{"$f":"VLOOKUP(H35,Results!$A$8:$G$104,2,FALSE)","v":{"$error":"#N/A"}},{"$f":"VLOOKUP(H35,Results!$A$8:$G$104,4,FALSE)","v":{"$error":"#N/A"}},{"$f":"VLOOKUP(H35,Results!$A$8:$G$104,7,FALSE)","v":{"$error":"#N/A"}},{"$f":"VLOOKUP(H35,$B$4:B35,1,FALSE)","v":{"$error":"#N/A"}}]
[null,{"$f":"Results!A39","v":0},{"$f":"Results!C39","v":0},{"$f":"Results!B39","v":0},{"$f":"Results!D39","v":0},{"$f":"Results!G39","v":""},"- vs -",{"$f":"VLOOKUP(B36,Results!$A$8:$AR$104,44,FALSE)","v":{"$error":"#N/A"}},{"$f":"VLOOKUP(H36,Results!A$8:$G$104,3,FALSE)","v":{"$error":"#N/A"}},{"$f":"VLOOKUP(H36,Results!$A$8:$G$104,2,FALSE)","v":{"$error":"#N/A"}},{"$f":"VLOOKUP(H36,Results!$A$8:$G$104,4,FALSE)","v":{"$error":"#N/A"}},{"$f":"VLOOKUP(H36,Results!$A$8:$G$104,7,FALSE)","v":{"$error":"#N/A"}},{"$f":"VLOOKUP(H36,$B$4:B36,1,FALSE)","v":{"$error":"#N/A"}}]
[null,{"$f":"Results!A40","v":0},{"$f":"Results!C40","v":0},{"$f":"Results!B40","v":0},{"$f":"Results!D40","v":0},{"$f":"Results!G40","v":""},"- vs -",{"$f":"VLOOKUP(B37,Results!$A$8:$AR$104,44,FALSE)","v":{"$error":"#N/A"}},{"$f":"VLOOKUP(H37,Results!A$8:$G$104,3,FALSE)","v":{"$error":"#N/A"}},{"$f":"VLOOKUP(H37,Results!$A$8:$G$104,2,FALSE)","v":{"$error":"#N/A"}},{"$f":"VLOOKUP(H37,Results!$A$8:$G$104,4,FALSE)","v":{"$error":"#N/A"}},{"$f":"VLOOKUP(H37,Results!$A$8:$G$104,7,FALSE)","v":{"$error":"#N/A"}},{"$f":"VLOOKUP(H37,$B$4:B37,1,FALSE)","v":{"$error":"#N/A"}}]
[null,{"$f":"Results!A41","v":0},{"$f":"Results!C41","v":0},{"$f":"Results!B41","v":0},{"$f":"Results!D41","v":0},{"$f":"Results!G41","v":""},"- vs -",{"$f":"VLOOKUP(B38,Results!$A$8:$AR$104,44,FALSE)","v":{"$error":"#N/A"}},{"$f":"VLOOKUP(H38,Results!A$8:$G$104,3,FALSE)","v":{"$error":"#N/A"}},{"$f":"VLOOKUP(H38,Results!$A$8:$G$104,2,FALSE)","v":{"$error":"#N/A"}},{"$f":"VLOOKUP(H38,Results!$A$8:$G$104,4,FALSE)","v":{"$error":"#N/A"}},{"$f":"VLOOKUP(H38,Results!$A$8:$G$104,7,FALSE)","v":{"$error":"#N/A"}},{"$f":"VLOOKUP(H38,$B$4:B38,1,FALSE)","v":{"$error":"#N/A"}}]
[null,{"$f":"Results!A42","v":0},{"$f":"Results!C42","v":0},{"$f":"Results!B42","v":0},{"$f":"Results!D42","v":0},{"$f":"Results!G42","v":""},"- vs -",{"$f":"VLOOKUP(B39,Results!$A$8:$AR$104,44,FALSE)","v":{"$error":"#N/A"}},{"$f":"VLOOKUP(H39,Results!A$8:$G$104,3,FALSE)","v":{"$error":"#N/A"}},{"$f":"VLOOKUP(H39,Results!$A$8:$G$104,2,FALSE)","v":{"$error":"#N/A"}},{"$f":"VLOOKUP(H39,Results!$A$8:$G$104,4,FALSE)","v":{"$error":"#N/A"}},{"$f":"VLOOKUP(H39,Results!$A$8:$G$104,7,FALSE)","v":{"$error":"#N/A"}},{"$f":"VLOOKUP(H39,$B$4:B39,1,FALSE)","v":{"$error":"#N/A"}}]
[null,{"$f":"Results!A43","v":0},{"$f":"Results!C43","v":0},{"$f":"Results!B43","v":0},{"$f":"Results!D43","v":0},{"$f":"Results!G43","v":""},"- vs -",{"$f":"VLOOKUP(B40,Results!$A$8:$AR$104,44,FALSE)","v":{"$error":"#N/A"}},{"$f":"VLOOKUP(H40,Results!A$8:$G$104,3,FALSE)","v":{"$error":"#N/A"}},{"$f":"VLOOKUP(H40,Results!$A$8:$G$104,2,FALSE)","v":{"$error":"#N/A"}},{"$f":"VLOOKUP(H40,Results!$A$8:$G$104,4,FALSE)","v":{"$error":"#N/A"}},{"$f":"VLOOKUP(H40,Results!$A$8:$G$104,7,FALSE)","v":{"$error":"#N/A"}},{"$f":"VLOOKUP(H40,$B$4:B40,1,FALSE)","v":{"$error":"#N/A"}}]
[null,{"$f":"Results!A44","v":0},{"$f":"Results!C44","v":0},{"$f":"Results!B44","v":0},{"$f":"Results!D44","v":0},{"$f":"Results!G44","v":""},"- vs -",{"$f":"VLOOKUP(B41,Results!$A$8:$AR$104,44,FALSE)","v":{"$error":"#N/A"}},{"$f":"VLOOKUP(H41,Results!A$8:$G$104,3,FALSE)","v":{"$error":"#N/A"}},{"$f":"VLOOKUP(H41,Results!$A$8:$G$104,2,FALSE)","v":{"$error":"#N/A"}},{"$f":"VLOOKUP(H41,Results!$A$8:$G$104,4,FALSE)","v":{"$error":"#N/A"}},{"$f":"VLOOKUP(H41,Results!$A$8:$G$104,7,FALSE)","v":{"$error":"#N/A"}},{"$f":"VLOOKUP(H41,$B$4:B41,1,FALSE)","v":{"$error":"#N/A"}}]
[null,{"$f":"Results!A45","v":0},{"$f":"Results!C45","v":0},{"$f":"Results!B45","v":0},{"$f":"Results!D45","v":0},{"$f":"Results!G45","v":""},"- vs -",{"$f":"VLOOKUP(B42,Results!$A$8:$AR$104,44,FALSE)","v":{"$error":"#N/A"}},{"$f":"VLOOKUP(H42,Results!A$8:$G$104,3,FALSE)","v":{"$error":"#N/A"}},{"$f":"VLOOKUP(H42,Results!$A$8:$G$104,2,FALSE)","v":{"$error":"#N/A"}},{"$f":"VLOOKUP(H42,Results!$A$8:$G$104,4,FALSE)","v":{"$error":"#N/A"}},{"$f":"VLOOKUP(H42,Results!$A$8:$G$104,7,FALSE)","v":{"$error":"#N/A"}},{"$f":"VLOOKUP(H42,$B$4:B42,1,FALSE)","v":{"$error":"#N/A"}}]
[null,{"$f":"Results!A46","v":0},{"$f":"Results!C46","v":0},{"$f":"Results!B46","v":0},{"$f":"Results!D46","v":0},{"$f":"Results!G46","v":""},"- vs -",{"$f":"VLOOKUP(B43,Results!$A$8:$AR$104,44,FALSE)","v":{"$error":"#N/A"}},{"$f":"VLOOKUP(H43,Results!A$8:$G$104,3,FALSE)","v":{"$error":"#N/A"}},{"$f":"VLOOKUP(H43,Results!$A$8:$G$104,2,FALSE)","v":{"$error":"#N/A"}},{"$f":"VLOOKUP(H43,Results!$A$8:$G$104,4,FALSE)","v":{"$error":"#N/A"}},{"$f":"VLOOKUP(H43,Results!$A$8:$G$104,7,FALSE)","v":{"$error":"#N/A"}},{"$f":"VLOOKUP(H43,$B$4:B43,1,FALSE)","v":{"$error":"#N/A"}}]
[null,{"$f":"Results!A47","v":0},{"$f":"Results!C47","v":0},{"$f":"Results!B47","v":0},{"$f":"Results!D47","v":0},{"$f":"Results!G47","v":""},"- vs -",{"$f":"VLOOKUP(B44,Results!$A$8:$AR$104,44,FALSE)","v":{"$error":"#N/A"}},{"$f":"VLOOKUP(H44,Results!A$8:$G$104,3,FALSE)","v":{"$error":"#N/A"}},{"$f":"VLOOKUP(H44,Results!$A$8:$G$104,2,FALSE)","v":{"$error":"#N/A"}},{"$f":"VLOOKUP(H44,Results!$A$8:$G$104,4,FALSE)","v":{"$error":"#N/A"}},{"$f":"VLOOKUP(H44,Results!$A$8:$G$104,7,FALSE)","v":{"$error":"#N/A"}},{"$f":"VLOOKUP(H44,$B$4:B44,1,FALSE)","v":{"$error":"#N/A"}}]
[null,{"$f":"Results!A48","v":0},{"$f":"Results!C48","v":0},{"$f":"Results!B48","v":0},{"$f":"Results!D48","v":0},{"$f":"Results!G48","v":""},"- vs -",{"$f":"VLOOKUP(B45,Results!$A$8:$AR$104,44,FALSE)","v":{"$error":"#N/A"}},{"$f":"VLOOKUP(H45,Results!A$8:$G$104,3,FALSE)","v":{"$error":"#N/A"}},{"$f":"VLOOKUP(H45,Results!$A$8:$G$104,2,FALSE)","v":{"$error":"#N/A"}},{"$f":"VLOOKUP(H45,Results!$A$8:$G$104,4,FALSE)","v":{"$error":"#N/A"}},{"$f":"VLOOKUP(H45,Results!$A$8:$G$104,7,FALSE)","v":{"$error":"#N/A"}},{"$f":"VLOOKUP(H45,$B$4:B45,1,FALSE)","v":{"$error":"#N/A"}}]
[null,{"$f":"Results!A49","v":0},{"$f":"Results!C49","v":0},{"$f":"Results!B49","v":0},{"$f":"Results!D49","v":0},{"$f":"Results!G49","v":""},"- vs -",{"$f":"VLOOKUP(B46,Results!$A$8:$AR$104,44,FALSE)","v":{"$error":"#N/A"}},{"$f":"VLOOKUP(H46,Results!A$8:$G$104,3,FALSE)","v":{"$error":"#N/A"}},{"$f":"VLOOKUP(H46,Results!$A$8:$G$104,2,FALSE)","v":{"$error":"#N/A"}},{"$f":"VLOOKUP(H46,Results!$A$8:$G$104,4,FALSE)","v":{"$error":"#N/A"}},{"$f":"VLOOKUP(H46,Results!$A$8:$G$104,7,FALSE)","v":{"$error":"#N/A"}},{"$f":"VLOOKUP(H46,$B$4:B46,1,FALSE)","v":{"$error":"#N/A"}}]
[null,{"$f":"Results!A50","v":0},{"$f":"Results!C50","v":0},{"$f":"Results!B50","v":0},{"$f":"Results!D50","v":0},{"$f":"Results!G50","v":""},"- vs -",{"$f":"VLOOKUP(B47,Results!$A$8:$AR$104,44,FALSE)","v":{"$error":"#N/A"}},{"$f":"VLOOKUP(H47,Results!A$8:$G$104,3,FALSE)","v":{"$error":"#N/A"}},{"$f":"VLOOKUP(H47,Results!$A$8:$G$104,2,FALSE)","v":{"$error":"#N/A"}},{"$f":"VLOOKUP(H47,Results!$A$8:$G$104,4,FALSE)","v":{"$error":"#N/A"}},{"$f":"VLOOKUP(H47,Results!$A$8:$G$104,7,FALSE)","v":{"$error":"#N/A"}},{"$f":"VLOOKUP(H47,$B$4:B47,1,FALSE)","v":{"$error":"#N/A"}}]
[null,{"$f":"Results!A51","v":0},{"$f":"Results!C51","v":0},{"$f":"Results!B51","v":0},{"$f":"Results!D51","v":0},{"$f":"Results!G51","v":""},"- vs -",{"$f":"VLOOKUP(B48,Results!$A$8:$AR$104,44,FALSE)","v":{"$error":"#N/A"}},{"$f":"VLOOKUP(H48,Results!A$8:$G$104,3,FALSE)","v":{"$error":"#N/A"}},{"$f":"VLOOKUP(H48,Results!$A$8:$G$104,2,FALSE)","v":{"$error":"#N/A"}},{"$f":"VLOOKUP(H48,Results!$A$8:$G$104,4,FALSE)","v":{"$error":"#N/A"}},{"$f":"VLOOKUP(H48,Results!$A$8:$G$104,7,FALSE)","v":{"$error":"#N/A"}},{"$f":"VLOOKUP(H48,$B$4:B48,1,FALSE)","v":{"$error":"#N/A"}}]
[null,{"$f":"Results!A52","v":0},{"$f":"Results!C52","v":0},{"$f":"Results!B52","v":0},{"$f":"Results!D52","v":0},{"$f":"Results!G52","v":""},"- vs -",{"$f":"VLOOKUP(B49,Results!$A$8:$AR$104,44,FALSE)","v":{"$error":"#N/A"}},{"$f":"VLOOKUP(H49,Results!A$8:$G$104,3,FALSE)","v":{"$error":"#N/A"}},{"$f":"VLOOKUP(H49,Results!$A$8:$G$104,2,FALSE)","v":{"$error":"#N/A"}},{"$f":"VLOOKUP(H49,Results!$A$8:$G$104,4,FALSE)","v":{"$error":"#N/A"}},{"$f":"VLOOKUP(H49,Results!$A$8:$G$104,7,FALSE)","v":{"$error":"#N/A"}},{"$f":"VLOOKUP(H49,$B$4:B49,1,FALSE)","v":{"$error":"#N/A"}}]
[null,{"$f":"Results!A53","v":0},{"$f":"Results!C53","v":0},{"$f":"Results!B53","v":0},{"$f":"Results!D53","v":0},{"$f":"Results!G53","v":""},"- vs -",{"$f":"VLOOKUP(B50,Results!$A$8:$AR$104,44,FALSE)","v":{"$error":"#N/A"}},{"$f":"VLOOKUP(H50,Results!A$8:$G$104,3,FALSE)","v":{"$error":"#N/A"}},{"$f":"VLOOKUP(H50,Results!$A$8:$G$104,2,FALSE)","v":{"$error":"#N/A"}},{"$f":"VLOOKUP(H50,Results!$A$8:$G$104,4,FALSE)","v":{"$error":"#N/A"}},{"$f":"VLOOKUP(H50,Results!$A$8:$G$104,7,FALSE)","v":{"$error":"#N/A"}},{"$f":"VLOOKUP(H50,$B$4:B50,1,FALSE)","v":{"$error":"#N/A"}}]
[null,{"$f":"Results!A54","v":0},{"$f":"Results!C54","v":0},{"$f":"Results!B54","v":0},{"$f":"Results!D54","v":0},{"$f":"Results!G54","v":""},"- vs -",{"$f":"VLOOKUP(B51,Results!$A$8:$AR$104,44,FALSE)","v":{"$error":"#N/A"}},{"$f":"VLOOKUP(H51,Results!A$8:$G$104,3,FALSE)","v":{"$error":"#N/A"}},{"$f":"VLOOKUP(H51,Results!$A$8:$G$104,2,FALSE)","v":{"$error":"#N/A"}},{"$f":"VLOOKUP(H51,Results!$A$8:$G$104,4,FALSE)","v":{"$error":"#N/A"}},{"$f":"VLOOKUP(H51,Results!$A$8:$G$104,7,FALSE)","v":{"$error":"#N/A"}},{"$f":"VLOOKUP(H51,$B$4:B51,1,FALSE)","v":{"$error":"#N/A"}}]
[null,{"$f":"Results!A55","v":0},{"$f":"Results!C55","v":0},{"$f":"Results!B55","v":0},{"$f":"Results!D55","v":0},{"$f":"Results!G55","v":""},"- vs -",{"$f":"VLOOKUP(B52,Results!$A$8:$AR$104,44,FALSE)","v":{"$error":"#N/A"}},{"$f":"VLOOKUP(H52,Results!A$8:$G$104,3,FALSE)","v":{"$error":"#N/A"}},{"$f":"VLOOKUP(H52,Results!$A$8:$G$104,2,FALSE)","v":{"$error":"#N/A"}},{"$f":"VLOOKUP(H52,Results!$A$8:$G$104,4,FALSE)","v":{"$error":"#N/A"}},{"$f":"VLOOKUP(H52,Results!$A$8:$G$104,7,FALSE)","v":{"$error":"#N/A"}},{"$f":"VLOOKUP(H52,$B$4:B52,1,FALSE)","v":{"$error":"#N/A"}}]
[null,{"$f":"Results!A56","v":0},{"$f":"Results!C56","v":0},{"$f":"Results!B56","v":0},{"$f":"Results!D56","v":0},{"$f":"Results!G56","v":""},"- vs -",{"$f":"VLOOKUP(B53,Results!$A$8:$AR$104,44,FALSE)","v":{"$error":"#N/A"}},{"$f":"VLOOKUP(H53,Results!A$8:$G$104,3,FALSE)","v":{"$error":"#N/A"}},{"$f":"VLOOKUP(H53,Results!$A$8:$G$104,2,FALSE)","v":{"$error":"#N/A"}},{"$f":"VLOOKUP(H53,Results!$A$8:$G$104,4,FALSE)","v":{"$error":"#N/A"}},{"$f":"VLOOKUP(H53,Results!$A$8:$G$104,7,FALSE)","v":{"$error":"#N/A"}},{"$f":"VLOOKUP(H53,$B$4:B53,1,FALSE)","v":{"$error":"#N/A"}}]
[null,{"$f":"Results!A57","v":0},{"$f":"Results!C57","v":0},{"$f":"Results!B57","v":0},{"$f":"Results!D57","v":0},{"$f":"Results!G57","v":""},"- vs -",{"$f":"VLOOKUP(B54,Results!$A$8:$AR$104,44,FALSE)","v":{"$error":"#N/A"}},{"$f":"VLOOKUP(H54,Results!A$8:$G$104,3,FALSE)","v":{"$error":"#N/A"}},{"$f":"VLOOKUP(H54,Results!$A$8:$G$104,2,FALSE)","v":{"$error":"#N/A"}},{"$f":"VLOOKUP(H54,Results!$A$8:$G$104,4,FALSE)","v":{"$error":"#N/A"}},{"$f":"VLOOKUP(H54,Results!$A$8:$G$104,7,FALSE)","v":{"$error":"#N/A"}},{"$f":"VLOOKUP(H54,$B$4:B54,1,FALSE)","v":{"$error":"#N/A"}}]
[null,{"$f":"Results!A58","v":0},{"$f":"Results!C58","v":0},{"$f":"Results!B58","v":0},{"$f":"Results!D58","v":0},{"$f":"Results!G58","v":""},"- vs -",{"$f":"VLOOKUP(B55,Results!$A$8:$AR$104,44,FALSE)","v":{"$error":"#N/A"}},{"$f":"VLOOKUP(H55,Results!A$8:$G$104,3,FALSE)","v":{"$error":"#N/A"}},{"$f":"VLOOKUP(H55,Results!$A$8:$G$104,2,FALSE)","v":{"$error":"#N/A"}},{"$f":"VLOOKUP(H55,Results!$A$8:$G$104,4,FALSE)","v":{"$error":"#N/A"}},{"$f":"VLOOKUP(H55,Results!$A$8:$G$104,7,FALSE)","v":{"$error":"#N/A"}},{"$f":"VLOOKUP(H55,$B$4:B55,1,FALSE)","v":{"$error":"#N/A"}}]
[null,{"$f":"Results!A59","v":0},{"$f":"Results!C59","v":0},{"$f":"Results!B59","v":0},{"$f":"Results!D59","v":0},{"$f":"Results!G59","v":""},"- vs -",{"$f":"VLOOKUP(B56,Results!$A$8:$AR$104,44,FALSE)","v":{"$error":"#N/A"}},{"$f":"VLOOKUP(H56,Results!A$8:$G$104,3,FALSE)","v":{"$error":"#N/A"}},{"$f":"VLOOKUP(H56,Results!$A$8:$G$104,2,FALSE)","v":{"$error":"#N/A"}},{"$f":"VLOOKUP(H56,Results!$A$8:$G$104,4,FALSE)","v":{"$error":"#N/A"}},{"$f":"VLOOKUP(H56,Results!$A$8:$G$104,7,FALSE)","v":{"$error":"#N/A"}},{"$f":"VLOOKUP(H56,$B$4:B56,1,FALSE)","v":{"$error":"#N/A"}}]
[null,{"$f":"Results!A60","v":0},{"$f":"Results!C60","v":0},{"$f":"Results!B60","v":0},{"$f":"Results!D60","v":0},{"$f":"Results!G60","v":""},"- vs -",{"$f":"VLOOKUP(B57,Results!$A$8:$AR$104,44,FALSE)","v":{"$error":"#N/A"}},{"$f":"VLOOKUP(H57,Results!A$8:$G$104,3,FALSE)","v":{"$error":"#N/A"}},{"$f":"VLOOKUP(H57,Results!$A$8:$G$104,2,FALSE)","v":{"$error":"#N/A"}},{"$f":"VLOOKUP(H57,Results!$A$8:$G$104,4,FALSE)","v":{"$error":"#N/A"}},{"$f":"VLOOKUP(H57,Results!$A$8:$G$104,7,FALSE)","v":{"$error":"#N/A"}},{"$f":"VLOOKUP(H57,$B$4:B57,1,FALSE)","v":{"$error":"#N/A"}}]
[null,{"$f":"Results!A61","v":0},{"$f":"Results!C61","v":0},{"$f":"Results!B61","v":0},{"$f":"Results!D61","v":0},{"$f":"Results!G61","v":""},"- vs -",{"$f":"VLOOKUP(B58,Results!$A$8:$AR$104,44,FALSE)","v":{"$error":"#N/A"}},{"$f":"VLOOKUP(H58,Results!A$8:$G$104,3,FALSE)","v":{"$error":"#N/A"}},{"$f":"VLOOKUP(H58,Results!$A$8:$G$104,2,FALSE)","v":{"$error":"#N/A"}},{"$f":"VLOOKUP(H58,Results!$A$8:$G$104,4,FALSE)","v":{"$error":"#N/A"}},{"$f":"VLOOKUP(H58,Results!$A$8:$G$104,7,FALSE)","v":{"$error":"#N/A"}},{"$f":"VLOOKUP(H58,$B$4:B58,1,FALSE)","v":{"$error":"#N/A"}}]
[null,{"$f":"Results!A62","v":0},{"$f":"Results!C62","v":0},{"$f":"Results!B62","v":0},{"$f":"Results!D62","v":0},{"$f":"Results!G62","v":""},"- vs -",{"$f":"VLOOKUP(B59,Results!$A$8:$AR$104,44,FALSE)","v":{"$error":"#N/A"}},{"$f":"VLOOKUP(H59,Results!A$8:$G$104,3,FALSE)","v":{"$error":"#N/A"}},{"$f":"VLOOKUP(H59,Results!$A$8:$G$104,2,FALSE)","v":{"$error":"#N/A"}},{"$f":"VLOOKUP(H59,Results!$A$8:$G$104,4,FALSE)","v":{"$error":"#N/A"}},{"$f":"VLOOKUP(H59,Results!$A$8:$G$104,7,FALSE)","v":{"$error":"#N/A"}},{"$f":"VLOOKUP(H59,$B$4:B59,1,FALSE)","v":{"$error":"#N/A"}}]
[null,{"$f":"Results!A63","v":0},{"$f":"Results!C63","v":0},{"$f":"Results!B63","v":0},{"$f":"Results!D63","v":0},{"$f":"Results!G63","v":""},"- vs -",{"$f":"VLOOKUP(B60,Results!$A$8:$AR$104,44,FALSE)","v":{"$error":"#N/A"}},{"$f":"VLOOKUP(H60,Results!A$8:$G$104,3,FALSE)","v":{"$error":"#N/A"}},{"$f":"VLOOKUP(H60,Results!$A$8:$G$104,2,FALSE)","v":{"$error":"#N/A"}},{"$f":"VLOOKUP(H60,Results!$A$8:$G$104,4,FALSE)","v":{"$error":"#N/A"}},{"$f":"VLOOKUP(H60,Results!$A$8:$G$104,7,FALSE)","v":{"$error":"#N/A"}},{"$f":"VLOOKUP(H60,$B$4:B60,1,FALSE)","v":{"$error":"#N/A"}}]
[null,{"$f":"Results!A64","v":0},{"$f":"Results!C64","v":0},{"$f":"Results!B64","v":0},{"$f":"Results!D64","v":0},{"$f":"Results!G64","v":""},"- vs -",{"$f":"VLOOKUP(B61,Results!$A$8:$AR$104,44,FALSE)","v":{"$error":"#N/A"}},{"$f":"VLOOKUP(H61,Results!A$8:$G$104,3,FALSE)","v":{"$error":"#N/A"}},{"$f":"VLOOKUP(H61,Results!$A$8:$G$104,2,FALSE)","v":{"$error":"#N/A"}},{"$f":"VLOOKUP(H61,Results!$A$8:$G$104,4,FALSE)","v":{"$error":"#N/A"}},{"$f":"VLOOKUP(H61,Results!$A$8:$G$104,7,FALSE)","v":{"$error":"#N/A"}},{"$f":"VLOOKUP(H61,$B$4:B61,1,FALSE)","v":{"$error":"#N/A"}}]
[null,{"$f":"Results!A65","v":0},{"$f":"Results!C65","v":0},{"$f":"Results!B65","v":0},{"$f":"Results!D65","v":0},{"$f":"Results!G65","v":""},"- vs -",{"$f":"VLOOKUP(B62,Results!$A$8:$AR$104,44,FALSE)","v":{"$error":"#N/A"}},{"$f":"VLOOKUP(H62,Results!A$8:$G$104,3,FALSE)","v":{"$error":"#N/A"}},{"$f":"VLOOKUP(H62,Results!$A$8:$G$104,2,FALSE)","v":{"$error":"#N/A"}},{"$f":"VLOOKUP(H62,Results!$A$8:$G$104,4,FALSE)","v":{"$error":"#N/A"}},{"$f":"VLOOKUP(H62,Results!$A$8:$G$104,7,FALSE)","v":{"$error":"#N/A"}},{"$f":"VLOOKUP(H62,$B$4:B62,1,FALSE)","v":{"$error":"#N/A"}}]
[null,{"$f":"Results!A66","v":0},{"$f":"Results!C66","v":0},{"$f":"Results!B66","v":0},{"$f":"Results!D66","v":0},{"$f":"Results!G66","v":""},"- vs -",{"$f":"VLOOKUP(B63,Results!$A$8:$AR$104,44,FALSE)","v":{"$error":"#N/A"}},{"$f":"VLOOKUP(H63,Results!A$8:$G$104,3,FALSE)","v":{"$error":"#N/A"}},{"$f":"VLOOKUP(H63,Results!$A$8:$G$104,2,FALSE)","v":{"$error":"#N/A"}},{"$f":"VLOOKUP(H63,Results!$A$8:$G$104,4,FALSE)","v":{"$error":"#N/A"}},{"$f":"VLOOKUP(H63,Results!$A$8:$G$104,7,FALSE)","v":{"$error":"#N/A"}},{"$f":"VLOOKUP(H63,$B$4:B63,1,FALSE)","v":{"$error":"#N/A"}}]
[null,{"$f":"Results!A67","v":0},{"$f":"Results!C67","v":0},{"$f":"Results!B67","v":0},{"$f":"Results!D67","v":0},{"$f":"Results!G67","v":""},"- vs -",{"$f":"VLOOKUP(B64,Results!$A$8:$AR$104,44,FALSE)","v":{"$error":"#N/A"}},{"$f":"VLOOKUP(H64,Results!A$8:$G$104,3,FALSE)","v":{"$error":"#N/A"}},{"$f":"VLOOKUP(H64,Results!$A$8:$G$104,2,FALSE)","v":{"$error":"#N/A"}},{"$f":"VLOOKUP(H64,Results!$A$8:$G$104,4,FALSE)","v":{"$error":"#N/A"}},{"$f":"VLOOKUP(H64,Results!$A$8:$G$104,7,FALSE)","v":{"$error":"#N/A"}}]
[null,{"$f":"Results!A68","v":0},{"$f":"Results!C68","v":0},{"$f":"Results!B68","v":0},{"$f":"Results!D68","v":0},{"$f":"Results!G68","v":""},"- vs -",{"$f":"VLOOKUP(B65,Results!$A$8:$AR$104,44,FALSE)","v":{"$error":"#N/A"}},{"$f":"VLOOKUP(H65,Results!A$8:$G$104,3,FALSE)","v":{"$error":"#N/A"}},{"$f":"VLOOKUP(H65,Results!$A$8:$G$104,2,FALSE)","v":{"$error":"#N/A"}},{"$f":"VLOOKUP(H65,Results!$A$8:$G$104,4,FALSE)","v":{"$error":"#N/A"}},{"$f":"VLOOKUP(H65,Results!$A$8:$G$104,7,FALSE)","v":{"$error":"#N/A"}}]
[null,{"$f":"Results!A69","v":0},{"$f":"Results!C69","v":0},{"$f":"Results!B69","v":0},{"$f":"Results!D69","v":0},{"$f":"Results!G69","v":""},"- vs -",{"$f":"VLOOKUP(B66,Results!$A$8:$AR$104,44,FALSE)","v":{"$error":"#N/A"}},{"$f":"VLOOKUP(H66,Results!A$8:$G$104,3,FALSE)","v":{"$error":"#N/A"}},{"$f":"VLOOKUP(H66,Results!$A$8:$G$104,2,FALSE)","v":{"$error":"#N/A"}},{"$f":"VLOOKUP(H66,Results!$A$8:$G$104,4,FALSE)","v":{"$error":"#N/A"}},{"$f":"VLOOKUP(H66,Results!$A$8:$G$104,7,FALSE)","v":{"$error":"#N/A"}}]
[null,{"$f":"Results!A70","v":0},{"$f":"Results!C70","v":0},{"$f":"Results!B70","v":0},{"$f":"Results!D70","v":0},{"$f":"Results!G70","v":""},"- vs -",{"$f":"VLOOKUP(B67,Results!$A$8:$AR$104,44,FALSE)","v":{"$error":"#N/A"}},{"$f":"VLOOKUP(H67,Results!A$8:$G$104,3,FALSE)","v":{"$error":"#N/A"}},{"$f":"VLOOKUP(H67,Results!$A$8:$G$104,2,FALSE)","v":{"$error":"#N/A"}},{"$f":"VLOOKUP(H67,Results!$A$8:$G$104,4,FALSE)","v":{"$error":"#N/A"}},{"$f":"VLOOKUP(H67,Results!$A$8:$G$104,7,FALSE)","v":{"$error":"#N/A"}}]
[null,{"$f":"Results!A71","v":0},{"$f":"Results!C71","v":0},{"$f":"Results!B71","v":0},{"$f":"Results!D71","v":0},{"$f":"Results!G71","v":""},"- vs -",{"$f":"VLOOKUP(B68,Results!$A$8:$AR$104,44,FALSE)","v":{"$error":"#N/A"}},{"$f":"VLOOKUP(H68,Results!A$8:$G$104,3,FALSE)","v":{"$error":"#N/A"}},{"$f":"VLOOKUP(H68,Results!$A$8:$G$104,2,FALSE)","v":{"$error":"#N/A"}},{"$f":"VLOOKUP(H68,Results!$A$8:$G$104,4,FALSE)","v":{"$error":"#N/A"}},{"$f":"VLOOKUP(H68,Results!$A$8:$G$104,7,FALSE)","v":{"$error":"#N/A"}}]
[null,{"$f":"Results!A72","v":0},{"$f":"Results!C72","v":0},{"$f":"Results!B72","v":0},{"$f":"Results!D72","v":0},{"$f":"Results!G72","v":""},"- vs -",{"$f":"VLOOKUP(B69,Results!$A$8:$AR$104,44,FALSE)","v":{"$error":"#N/A"}},{"$f":"VLOOKUP(H69,Results!A$8:$G$104,3,FALSE)","v":{"$error":"#N/A"}},{"$f":"VLOOKUP(H69,Results!$A$8:$G$104,2,FALSE)","v":{"$error":"#N/A"}},{"$f":"VLOOKUP(H69,Results!$A$8:$G$104,4,FALSE)","v":{"$error":"#N/A"}},{"$f":"VLOOKUP(H69,Results!$A$8:$G$104,7,FALSE)","v":{"$error":"#N/A"}}]

{"sheet":"Round 7","index":15,"n_rows":69,"n_cols":13,"rows_kept":69}
[{"$nulls":4},"Round 7 Draw"]
[null,null,{"$f":"Results!B3","v":0}]
[null,null,{"$f":"Results!B4","v":"Classical Period"}]
[{"$nulls":12},"VALID?"]
[null,{"$f":"Results!A8","v":0},{"$f":"Results!C8","v":0},{"$f":"Results!B8","v":0},{"$f":"Results!D8","v":0},{"$f":"Results!G8","v":""},"- vs -",{"$f":"VLOOKUP(B5,Results!$A$8:$AY$104,51,FALSE)","v":{"$error":"#N/A"}},{"$f":"VLOOKUP(H5,Results!A$8:$G$104,3,FALSE)","v":{"$error":"#N/A"}},{"$f":"VLOOKUP(H5,Results!$A$8:$G$104,2,FALSE)","v":{"$error":"#N/A"}},{"$f":"VLOOKUP(H5,Results!$A$8:$G$104,4,FALSE)","v":{"$error":"#N/A"}},{"$f":"VLOOKUP(H5,Results!$A$8:$G$104,7,FALSE)","v":{"$error":"#N/A"}},{"$f":"VLOOKUP(H5,$B$4:B5,1,FALSE)","v":{"$error":"#N/A"}}]
[null,{"$f":"Results!A9","v":0},{"$f":"Results!C9","v":0},{"$f":"Results!B9","v":0},{"$f":"Results!D9","v":0},{"$f":"Results!G9","v":""},"- vs -",{"$f":"VLOOKUP(B6,Results!$A$8:$AY$104,51,FALSE)","v":{"$error":"#N/A"}},{"$f":"VLOOKUP(H6,Results!A$8:$G$104,3,FALSE)","v":{"$error":"#N/A"}},{"$f":"VLOOKUP(H6,Results!$A$8:$G$104,2,FALSE)","v":{"$error":"#N/A"}},{"$f":"VLOOKUP(H6,Results!$A$8:$G$104,4,FALSE)","v":{"$error":"#N/A"}},{"$f":"VLOOKUP(H6,Results!$A$8:$G$104,7,FALSE)","v":{"$error":"#N/A"}},{"$f":"VLOOKUP(H6,$B$4:B6,1,FALSE)","v":{"$error":"#N/A"}}]
[null,{"$f":"Results!A10","v":0},{"$f":"Results!C10","v":0},{"$f":"Results!B10","v":0},{"$f":"Results!D10","v":0},{"$f":"Results!G10","v":""},"- vs -",{"$f":"VLOOKUP(B7,Results!$A$8:$AY$104,51,FALSE)","v":{"$error":"#N/A"}},{"$f":"VLOOKUP(H7,Results!A$8:$G$104,3,FALSE)","v":{"$error":"#N/A"}},{"$f":"VLOOKUP(H7,Results!$A$8:$G$104,2,FALSE)","v":{"$error":"#N/A"}},{"$f":"VLOOKUP(H7,Results!$A$8:$G$104,4,FALSE)","v":{"$error":"#N/A"}},{"$f":"VLOOKUP(H7,Results!$A$8:$G$104,7,FALSE)","v":{"$error":"#N/A"}},{"$f":"VLOOKUP(H7,$B$4:B7,1,FALSE)","v":{"$error":"#N/A"}}]
[null,{"$f":"Results!A11","v":0},{"$f":"Results!C11","v":0},{"$f":"Results!B11","v":0},{"$f":"Results!D11","v":0},{"$f":"Results!G11","v":""},"- vs -",{"$f":"VLOOKUP(B8,Results!$A$8:$AY$104,51,FALSE)","v":{"$error":"#N/A"}},{"$f":"VLOOKUP(H8,Results!A$8:$G$104,3,FALSE)","v":{"$error":"#N/A"}},{"$f":"VLOOKUP(H8,Results!$A$8:$G$104,2,FALSE)","v":{"$error":"#N/A"}},{"$f":"VLOOKUP(H8,Results!$A$8:$G$104,4,FALSE)","v":{"$error":"#N/A"}},{"$f":"VLOOKUP(H8,Results!$A$8:$G$104,7,FALSE)","v":{"$error":"#N/A"}},{"$f":"VLOOKUP(H8,$B$4:B8,1,FALSE)","v":{"$error":"#N/A"}}]
[null,{"$f":"Results!A12","v":0},{"$f":"Results!C12","v":0},{"$f":"Results!B12","v":0},{"$f":"Results!D12","v":0},{"$f":"Results!G12","v":""},"- vs -",{"$f":"VLOOKUP(B9,Results!$A$8:$AY$104,51,FALSE)","v":{"$error":"#N/A"}},{"$f":"VLOOKUP(H9,Results!A$8:$G$104,3,FALSE)","v":{"$error":"#N/A"}},{"$f":"VLOOKUP(H9,Results!$A$8:$G$104,2,FALSE)","v":{"$error":"#N/A"}},{"$f":"VLOOKUP(H9,Results!$A$8:$G$104,4,FALSE)","v":{"$error":"#N/A"}},{"$f":"VLOOKUP(H9,Results!$A$8:$G$104,7,FALSE)","v":{"$error":"#N/A"}},{"$f":"VLOOKUP(H9,$B$4:B9,1,FALSE)","v":{"$error":"#N/A"}}]
[null,{"$f":"Results!A13","v":0},{"$f":"Results!C13","v":0},{"$f":"Results!B13","v":0},{"$f":"Results!D13","v":0},{"$f":"Results!G13","v":""},"- vs -",{"$f":"VLOOKUP(B10,Results!$A$8:$AY$104,51,FALSE)","v":{"$error":"#N/A"}},{"$f":"VLOOKUP(H10,Results!A$8:$G$104,3,FALSE)","v":{"$error":"#N/A"}},{"$f":"VLOOKUP(H10,Results!$A$8:$G$104,2,FALSE)","v":{"$error":"#N/A"}},{"$f":"VLOOKUP(H10,Results!$A$8:$G$104,4,FALSE)","v":{"$error":"#N/A"}},{"$f":"VLOOKUP(H10,Results!$A$8:$G$104,7,FALSE)","v":{"$error":"#N/A"}},{"$f":"VLOOKUP(H10,$B$4:B10,1,FALSE)","v":{"$error":"#N/A"}}]
[null,{"$f":"Results!A14","v":0},{"$f":"Results!C14","v":0},{"$f":"Results!B14","v":0},{"$f":"Results!D14","v":0},{"$f":"Results!G14","v":""},"- vs -",{"$f":"VLOOKUP(B11,Results!$A$8:$AY$104,51,FALSE)","v":{"$error":"#N/A"}},{"$f":"VLOOKUP(H11,Results!A$8:$G$104,3,FALSE)","v":{"$error":"#N/A"}},{"$f":"VLOOKUP(H11,Results!$A$8:$G$104,2,FALSE)","v":{"$error":"#N/A"}},{"$f":"VLOOKUP(H11,Results!$A$8:$G$104,4,FALSE)","v":{"$error":"#N/A"}},{"$f":"VLOOKUP(H11,Results!$A$8:$G$104,7,FALSE)","v":{"$error":"#N/A"}},{"$f":"VLOOKUP(H11,$B$4:B11,1,FALSE)","v":{"$error":"#N/A"}}]
[null,{"$f":"Results!A15","v":0},{"$f":"Results!C15","v":0},{"$f":"Results!B15","v":0},{"$f":"Results!D15","v":0},{"$f":"Results!G15","v":""},"- vs -",{"$f":"VLOOKUP(B12,Results!$A$8:$AY$104,51,FALSE)","v":{"$error":"#N/A"}},{"$f":"VLOOKUP(H12,Results!A$8:$G$104,3,FALSE)","v":{"$error":"#N/A"}},{"$f":"VLOOKUP(H12,Results!$A$8:$G$104,2,FALSE)","v":{"$error":"#N/A"}},{"$f":"VLOOKUP(H12,Results!$A$8:$G$104,4,FALSE)","v":{"$error":"#N/A"}},{"$f":"VLOOKUP(H12,Results!$A$8:$G$104,7,FALSE)","v":{"$error":"#N/A"}},{"$f":"VLOOKUP(H12,$B$4:B12,1,FALSE)","v":{"$error":"#N/A"}}]
[null,{"$f":"Results!A16","v":0},{"$f":"Results!C16","v":0},{"$f":"Results!B16","v":0},{"$f":"Results!D16","v":0},{"$f":"Results!G16","v":""},"- vs -",{"$f":"VLOOKUP(B13,Results!$A$8:$AY$104,51,FALSE)","v":{"$error":"#N/A"}},{"$f":"VLOOKUP(H13,Results!A$8:$G$104,3,FALSE)","v":{"$error":"#N/A"}},{"$f":"VLOOKUP(H13,Results!$A$8:$G$104,2,FALSE)","v":{"$error":"#N/A"}},{"$f":"VLOOKUP(H13,Results!$A$8:$G$104,4,FALSE)","v":{"$error":"#N/A"}},{"$f":"VLOOKUP(H13,Results!$A$8:$G$104,7,FALSE)","v":{"$error":"#N/A"}},{"$f":"VLOOKUP(H13,$B$4:B13,1,FALSE)","v":{"$error":"#N/A"}}]
[null,{"$f":"Results!A17","v":0},{"$f":"Results!C17","v":0},{"$f":"Results!B17","v":0},{"$f":"Results!D17","v":0},{"$f":"Results!G17","v":""},"- vs -",{"$f":"VLOOKUP(B14,Results!$A$8:$AY$104,51,FALSE)","v":{"$error":"#N/A"}},{"$f":"VLOOKUP(H14,Results!A$8:$G$104,3,FALSE)","v":{"$error":"#N/A"}},{"$f":"VLOOKUP(H14,Results!$A$8:$G$104,2,FALSE)","v":{"$error":"#N/A"}},{"$f":"VLOOKUP(H14,Results!$A$8:$G$104,4,FALSE)","v":{"$error":"#N/A"}},{"$f":"VLOOKUP(H14,Results!$A$8:$G$104,7,FALSE)","v":{"$error":"#N/A"}},{"$f":"VLOOKUP(H14,$B$4:B14,1,FALSE)","v":{"$error":"#N/A"}}]
[null,{"$f":"Results!A18","v":0},{"$f":"Results!C18","v":0},{"$f":"Results!B18","v":0},{"$f":"Results!D18","v":0},{"$f":"Results!G18","v":""},"- vs -",{"$f":"VLOOKUP(B15,Results!$A$8:$AY$104,51,FALSE)","v":{"$error":"#N/A"}},{"$f":"VLOOKUP(H15,Results!A$8:$G$104,3,FALSE)","v":{"$error":"#N/A"}},{"$f":"VLOOKUP(H15,Results!$A$8:$G$104,2,FALSE)","v":{"$error":"#N/A"}},{"$f":"VLOOKUP(H15,Results!$A$8:$G$104,4,FALSE)","v":{"$error":"#N/A"}},{"$f":"VLOOKUP(H15,Results!$A$8:$G$104,7,FALSE)","v":{"$error":"#N/A"}},{"$f":"VLOOKUP(H15,$B$4:B15,1,FALSE)","v":{"$error":"#N/A"}}]
[null,{"$f":"Results!A19","v":0},{"$f":"Results!C19","v":0},{"$f":"Results!B19","v":0},{"$f":"Results!D19","v":0},{"$f":"Results!G19","v":""},"- vs -",{"$f":"VLOOKUP(B16,Results!$A$8:$AY$104,51,FALSE)","v":{"$error":"#N/A"}},{"$f":"VLOOKUP(H16,Results!A$8:$G$104,3,FALSE)","v":{"$error":"#N/A"}},{"$f":"VLOOKUP(H16,Results!$A$8:$G$104,2,FALSE)","v":{"$error":"#N/A"}},{"$f":"VLOOKUP(H16,Results!$A$8:$G$104,4,FALSE)","v":{"$error":"#N/A"}},{"$f":"VLOOKUP(H16,Results!$A$8:$G$104,7,FALSE)","v":{"$error":"#N/A"}},{"$f":"VLOOKUP(H16,$B$4:B16,1,FALSE)","v":{"$error":"#N/A"}}]
[null,{"$f":"Results!A20","v":0},{"$f":"Results!C20","v":0},{"$f":"Results!B20","v":0},{"$f":"Results!D20","v":0},{"$f":"Results!G20","v":""},"- vs -",{"$f":"VLOOKUP(B17,Results!$A$8:$AY$104,51,FALSE)","v":{"$error":"#N/A"}},{"$f":"VLOOKUP(H17,Results!A$8:$G$104,3,FALSE)","v":{"$error":"#N/A"}},{"$f":"VLOOKUP(H17,Results!$A$8:$G$104,2,FALSE)","v":{"$error":"#N/A"}},{"$f":"VLOOKUP(H17,Results!$A$8:$G$104,4,FALSE)","v":{"$error":"#N/A"}},{"$f":"VLOOKUP(H17,Results!$A$8:$G$104,7,FALSE)","v":{"$error":"#N/A"}},{"$f":"VLOOKUP(H17,$B$4:B17,1,FALSE)","v":{"$error":"#N/A"}}]
[null,{"$f":"Results!A21","v":0},{"$f":"Results!C21","v":0},{"$f":"Results!B21","v":0},{"$f":"Results!D21","v":0},{"$f":"Results!G21","v":""},"- vs -",{"$f":"VLOOKUP(B18,Results!$A$8:$AY$104,51,FALSE)","v":{"$error":"#N/A"}},{"$f":"VLOOKUP(H18,Results!A$8:$G$104,3,FALSE)","v":{"$error":"#N/A"}},{"$f":"VLOOKUP(H18,Results!$A$8:$G$104,2,FALSE)","v":{"$error":"#N/A"}},{"$f":"VLOOKUP(H18,Results!$A$8:$G$104,4,FALSE)","v":{"$error":"#N/A"}},{"$f":"VLOOKUP(H18,Results!$A$8:$G$104,7,FALSE)","v":{"$error":"#N/A"}},{"$f":"VLOOKUP(H18,$B$4:B18,1,FALSE)","v":{"$error":"#N/A"}}]
[null,{"$f":"Results!A22","v":0},{"$f":"Results!C22","v":0},{"$f":"Results!B22","v":0},{"$f":"Results!D22","v":0},{"$f":"Results!G22","v":""},"- vs -",{"$f":"VLOOKUP(B19,Results!$A$8:$AY$104,51,FALSE)","v":{"$error":"#N/A"}},{"$f":"VLOOKUP(H19,Results!A$8:$G$104,3,FALSE)","v":{"$error":"#N/A"}},{"$f":"VLOOKUP(H19,Results!$A$8:$G$104,2,FALSE)","v":{"$error":"#N/A"}},{"$f":"VLOOKUP(H19,Results!$A$8:$G$104,4,FALSE)","v":{"$error":"#N/A"}},{"$f":"VLOOKUP(H19,Results!$A$8:$G$104,7,FALSE)","v":{"$error":"#N/A"}},{"$f":"VLOOKUP(H19,$B$4:B19,1,FALSE)","v":{"$error":"#N/A"}}]
[null,{"$f":"Results!A23","v":0},{"$f":"Results!C23","v":0},{"$f":"Results!B23","v":0},{"$f":"Results!D23","v":0},{"$f":"Results!G23","v":""},"- vs -",{"$f":"VLOOKUP(B20,Results!$A$8:$AY$104,51,FALSE)","v":{"$error":"#N/A"}},{"$f":"VLOOKUP(H20,Results!A$8:$G$104,3,FALSE)","v":{"$error":"#N/A"}},{"$f":"VLOOKUP(H20,Results!$A$8:$G$104,2,FALSE)","v":{"$error":"#N/A"}},{"$f":"VLOOKUP(H20,Results!$A$8:$G$104,4,FALSE)","v":{"$error":"#N/A"}},{"$f":"VLOOKUP(H20,Results!$A$8:$G$104,7,FALSE)","v":{"$error":"#N/A"}},{"$f":"VLOOKUP(H20,$B$4:B20,1,FALSE)","v":{"$error":"#N/A"}}]
[null,{"$f":"Results!A24","v":0},{"$f":"Results!C24","v":0},{"$f":"Results!B24","v":0},{"$f":"Results!D24","v":0},{"$f":"Results!G24","v":""},"- vs -",{"$f":"VLOOKUP(B21,Results!$A$8:$AY$104,51,FALSE)","v":{"$error":"#N/A"}},{"$f":"VLOOKUP(H21,Results!A$8:$G$104,3,FALSE)","v":{"$error":"#N/A"}},{"$f":"VLOOKUP(H21,Results!$A$8:$G$104,2,FALSE)","v":{"$error":"#N/A"}},{"$f":"VLOOKUP(H21,Results!$A$8:$G$104,4,FALSE)","v":{"$error":"#N/A"}},{"$f":"VLOOKUP(H21,Results!$A$8:$G$104,7,FALSE)","v":{"$error":"#N/A"}},{"$f":"VLOOKUP(H21,$B$4:B21,1,FALSE)","v":{"$error":"#N/A"}}]
[null,{"$f":"Results!A25","v":0},{"$f":"Results!C25","v":0},{"$f":"Results!B25","v":0},{"$f":"Results!D25","v":0},{"$f":"Results!G25","v":""},"- vs -",{"$f":"VLOOKUP(B22,Results!$A$8:$AY$104,51,FALSE)","v":{"$error":"#N/A"}},{"$f":"VLOOKUP(H22,Results!A$8:$G$104,3,FALSE)","v":{"$error":"#N/A"}},{"$f":"VLOOKUP(H22,Results!$A$8:$G$104,2,FALSE)","v":{"$error":"#N/A"}},{"$f":"VLOOKUP(H22,Results!$A$8:$G$104,4,FALSE)","v":{"$error":"#N/A"}},{"$f":"VLOOKUP(H22,Results!$A$8:$G$104,7,FALSE)","v":{"$error":"#N/A"}},{"$f":"VLOOKUP(H22,$B$4:B22,1,FALSE)","v":{"$error":"#N/A"}}]
[null,{"$f":"Results!A26","v":0},{"$f":"Results!C26","v":0},{"$f":"Results!B26","v":0},{"$f":"Results!D26","v":0},{"$f":"Results!G26","v":""},"- vs -",{"$f":"VLOOKUP(B23,Results!$A$8:$AY$104,51,FALSE)","v":{"$error":"#N/A"}},{"$f":"VLOOKUP(H23,Results!A$8:$G$104,3,FALSE)","v":{"$error":"#N/A"}},{"$f":"VLOOKUP(H23,Results!$A$8:$G$104,2,FALSE)","v":{"$error":"#N/A"}},{"$f":"VLOOKUP(H23,Results!$A$8:$G$104,4,FALSE)","v":{"$error":"#N/A"}},{"$f":"VLOOKUP(H23,Results!$A$8:$G$104,7,FALSE)","v":{"$error":"#N/A"}},{"$f":"VLOOKUP(H23,$B$4:B23,1,FALSE)","v":{"$error":"#N/A"}}]
[null,{"$f":"Results!A27","v":0},{"$f":"Results!C27","v":0},{"$f":"Results!B27","v":0},{"$f":"Results!D27","v":0},{"$f":"Results!G27","v":""},"- vs -",{"$f":"VLOOKUP(B24,Results!$A$8:$AY$104,51,FALSE)","v":{"$error":"#N/A"}},{"$f":"VLOOKUP(H24,Results!A$8:$G$104,3,FALSE)","v":{"$error":"#N/A"}},{"$f":"VLOOKUP(H24,Results!$A$8:$G$104,2,FALSE)","v":{"$error":"#N/A"}},{"$f":"VLOOKUP(H24,Results!$A$8:$G$104,4,FALSE)","v":{"$error":"#N/A"}},{"$f":"VLOOKUP(H24,Results!$A$8:$G$104,7,FALSE)","v":{"$error":"#N/A"}},{"$f":"VLOOKUP(H24,$B$4:B24,1,FALSE)","v":{"$error":"#N/A"}}]
[null,{"$f":"Results!A28","v":0},{"$f":"Results!C28","v":0},{"$f":"Results!B28","v":0},{"$f":"Results!D28","v":0},{"$f":"Results!G28","v":""},"- vs -",{"$f":"VLOOKUP(B25,Results!$A$8:$AY$104,51,FALSE)","v":{"$error":"#N/A"}},{"$f":"VLOOKUP(H25,Results!A$8:$G$104,3,FALSE)","v":{"$error":"#N/A"}},{"$f":"VLOOKUP(H25,Results!$A$8:$G$104,2,FALSE)","v":{"$error":"#N/A"}},{"$f":"VLOOKUP(H25,Results!$A$8:$G$104,4,FALSE)","v":{"$error":"#N/A"}},{"$f":"VLOOKUP(H25,Results!$A$8:$G$104,7,FALSE)","v":{"$error":"#N/A"}},{"$f":"VLOOKUP(H25,$B$4:B25,1,FALSE)","v":{"$error":"#N/A"}}]
[null,{"$f":"Results!A29","v":0},{"$f":"Results!C29","v":0},{"$f":"Results!B29","v":0},{"$f":"Results!D29","v":0},{"$f":"Results!G29","v":""},"- vs -",{"$f":"VLOOKUP(B26,Results!$A$8:$AY$104,51,FALSE)","v":{"$error":"#N/A"}},{"$f":"VLOOKUP(H26,Results!A$8:$G$104,3,FALSE)","v":{"$error":"#N/A"}},{"$f":"VLOOKUP(H26,Results!$A$8:$G$104,2,FALSE)","v":{"$error":"#N/A"}},{"$f":"VLOOKUP(H26,Results!$A$8:$G$104,4,FALSE)","v":{"$error":"#N/A"}},{"$f":"VLOOKUP(H26,Results!$A$8:$G$104,7,FALSE)","v":{"$error":"#N/A"}},{"$f":"VLOOKUP(H26,$B$4:B26,1,FALSE)","v":{"$error":"#N/A"}}]
[null,{"$f":"Results!A30","v":0},{"$f":"Results!C30","v":0},{"$f":"Results!B30","v":0},{"$f":"Results!D30","v":0},{"$f":"Results!G30","v":""},"- vs -",{"$f":"VLOOKUP(B27,Results!$A$8:$AY$104,51,FALSE)","v":{"$error":"#N/A"}},{"$f":"VLOOKUP(H27,Results!A$8:$G$104,3,FALSE)","v":{"$error":"#N/A"}},{"$f":"VLOOKUP(H27,Results!$A$8:$G$104,2,FALSE)","v":{"$error":"#N/A"}},{"$f":"VLOOKUP(H27,Results!$A$8:$G$104,4,FALSE)","v":{"$error":"#N/A"}},{"$f":"VLOOKUP(H27,Results!$A$8:$G$104,7,FALSE)","v":{"$error":"#N/A"}},{"$f":"VLOOKUP(H27,$B$4:B27,1,FALSE)","v":{"$error":"#N/A"}}]
[null,{"$f":"Results!A31","v":0},{"$f":"Results!C31","v":0},{"$f":"Results!B31","v":0},{"$f":"Results!D31","v":0},{"$f":"Results!G31","v":""},"- vs -",{"$f":"VLOOKUP(B28,Results!$A$8:$AY$104,51,FALSE)","v":{"$error":"#N/A"}},{"$f":"VLOOKUP(H28,Results!A$8:$G$104,3,FALSE)","v":{"$error":"#N/A"}},{"$f":"VLOOKUP(H28,Results!$A$8:$G$104,2,FALSE)","v":{"$error":"#N/A"}},{"$f":"VLOOKUP(H28,Results!$A$8:$G$104,4,FALSE)","v":{"$error":"#N/A"}},{"$f":"VLOOKUP(H28,Results!$A$8:$G$104,7,FALSE)","v":{"$error":"#N/A"}},{"$f":"VLOOKUP(H28,$B$4:B28,1,FALSE)","v":{"$error":"#N/A"}}]
[null,{"$f":"Results!A32","v":0},{"$f":"Results!C32","v":0},{"$f":"Results!B32","v":0},{"$f":"Results!D32","v":0},{"$f":"Results!G32","v":""},"- vs -",{"$f":"VLOOKUP(B29,Results!$A$8:$AY$104,51,FALSE)","v":{"$error":"#N/A"}},{"$f":"VLOOKUP(H29,Results!A$8:$G$104,3,FALSE)","v":{"$error":"#N/A"}},{"$f":"VLOOKUP(H29,Results!$A$8:$G$104,2,FALSE)","v":{"$error":"#N/A"}},{"$f":"VLOOKUP(H29,Results!$A$8:$G$104,4,FALSE)","v":{"$error":"#N/A"}},{"$f":"VLOOKUP(H29,Results!$A$8:$G$104,7,FALSE)","v":{"$error":"#N/A"}},{"$f":"VLOOKUP(H29,$B$4:B29,1,FALSE)","v":{"$error":"#N/A"}}]
[null,{"$f":"Results!A33","v":0},{"$f":"Results!C33","v":0},{"$f":"Results!B33","v":0},{"$f":"Results!D33","v":0},{"$f":"Results!G33","v":""},"- vs -",{"$f":"VLOOKUP(B30,Results!$A$8:$AY$104,51,FALSE)","v":{"$error":"#N/A"}},{"$f":"VLOOKUP(H30,Results!A$8:$G$104,3,FALSE)","v":{"$error":"#N/A"}},{"$f":"VLOOKUP(H30,Results!$A$8:$G$104,2,FALSE)","v":{"$error":"#N/A"}},{"$f":"VLOOKUP(H30,Results!$A$8:$G$104,4,FALSE)","v":{"$error":"#N/A"}},{"$f":"VLOOKUP(H30,Results!$A$8:$G$104,7,FALSE)","v":{"$error":"#N/A"}},{"$f":"VLOOKUP(H30,$B$4:B30,1,FALSE)","v":{"$error":"#N/A"}}]
[null,{"$f":"Results!A34","v":0},{"$f":"Results!C34","v":0},{"$f":"Results!B34","v":0},{"$f":"Results!D34","v":0},{"$f":"Results!G34","v":""},"- vs -",{"$f":"VLOOKUP(B31,Results!$A$8:$AY$104,51,FALSE)","v":{"$error":"#N/A"}},{"$f":"VLOOKUP(H31,Results!A$8:$G$104,3,FALSE)","v":{"$error":"#N/A"}},{"$f":"VLOOKUP(H31,Results!$A$8:$G$104,2,FALSE)","v":{"$error":"#N/A"}},{"$f":"VLOOKUP(H31,Results!$A$8:$G$104,4,FALSE)","v":{"$error":"#N/A"}},{"$f":"VLOOKUP(H31,Results!$A$8:$G$104,7,FALSE)","v":{"$error":"#N/A"}},{"$f":"VLOOKUP(H31,$B$4:B31,1,FALSE)","v":{"$error":"#N/A"}}]
[null,{"$f":"Results!A35","v":0},{"$f":"Results!C35","v":0},{"$f":"Results!B35","v":0},{"$f":"Results!D35","v":0},{"$f":"Results!G35","v":""},"- vs -",{"$f":"VLOOKUP(B32,Results!$A$8:$AY$104,51,FALSE)","v":{"$error":"#N/A"}},{"$f":"VLOOKUP(H32,Results!A$8:$G$104,3,FALSE)","v":{"$error":"#N/A"}},{"$f":"VLOOKUP(H32,Results!$A$8:$G$104,2,FALSE)","v":{"$error":"#N/A"}},{"$f":"VLOOKUP(H32,Results!$A$8:$G$104,4,FALSE)","v":{"$error":"#N/A"}},{"$f":"VLOOKUP(H32,Results!$A$8:$G$104,7,FALSE)","v":{"$error":"#N/A"}},{"$f":"VLOOKUP(H32,$B$4:B32,1,FALSE)","v":{"$error":"#N/A"}}]
[null,{"$f":"Results!A36","v":0},{"$f":"Results!C36","v":0},{"$f":"Results!B36","v":0},{"$f":"Results!D36","v":0},{"$f":"Results!G36","v":""},"- vs -",{"$f":"VLOOKUP(B33,Results!$A$8:$AY$104,51,FALSE)","v":{"$error":"#N/A"}},{"$f":"VLOOKUP(H33,Results!A$8:$G$104,3,FALSE)","v":{"$error":"#N/A"}},{"$f":"VLOOKUP(H33,Results!$A$8:$G$104,2,FALSE)","v":{"$error":"#N/A"}},{"$f":"VLOOKUP(H33,Results!$A$8:$G$104,4,FALSE)","v":{"$error":"#N/A"}},{"$f":"VLOOKUP(H33,Results!$A$8:$G$104,7,FALSE)","v":{"$error":"#N/A"}},{"$f":"VLOOKUP(H33,$B$4:B33,1,FALSE)","v":{"$error":"#N/A"}}]
[null,{"$f":"Results!A37","v":0},{"$f":"Results!C37","v":0},{"$f":"Results!B37","v":0},{"$f":"Results!D37","v":0},{"$f":"Results!G37","v":""},"- vs -",{"$f":"VLOOKUP(B34,Results!$A$8:$AY$104,51,FALSE)","v":{"$error":"#N/A"}},{"$f":"VLOOKUP(H34,Results!A$8:$G$104,3,FALSE)","v":{"$error":"#N/A"}},{"$f":"VLOOKUP(H34,Results!$A$8:$G$104,2,FALSE)","v":{"$error":"#N/A"}},{"$f":"VLOOKUP(H34,Results!$A$8:$G$104,4,FALSE)","v":{"$error":"#N/A"}},{"$f":"VLOOKUP(H34,Results!$A$8:$G$104,7,FALSE)","v":{"$error":"#N/A"}},{"$f":"VLOOKUP(H34,$B$4:B34,1,FALSE)","v":{"$error":"#N/A"}}]
[null,{"$f":"Results!A38","v":0},{"$f":"Results!C38","v":0},{"$f":"Results!B38","v":0},{"$f":"Results!D38","v":0},{"$f":"Results!G38","v":""},"- vs -",{"$f":"VLOOKUP(B35,Results!$A$8:$AY$104,51,FALSE)","v":{"$error":"#N/A"}},{"$f":"VLOOKUP(H35,Results!A$8:$G$104,3,FALSE)","v":{"$error":"#N/A"}},{"$f":"VLOOKUP(H35,Results!$A$8:$G$104,2,FALSE)","v":{"$error":"#N/A"}},{"$f":"VLOOKUP(H35,Results!$A$8:$G$104,4,FALSE)","v":{"$error":"#N/A"}},{"$f":"VLOOKUP(H35,Results!$A$8:$G$104,7,FALSE)","v":{"$error":"#N/A"}},{"$f":"VLOOKUP(H35,$B$4:B35,1,FALSE)","v":{"$error":"#N/A"}}]
[null,{"$f":"Results!A39","v":0},{"$f":"Results!C39","v":0},{"$f":"Results!B39","v":0},{"$f":"Results!D39","v":0},{"$f":"Results!G39","v":""},"- vs -",{"$f":"VLOOKUP(B36,Results!$A$8:$AY$104,51,FALSE)","v":{"$error":"#N/A"}},{"$f":"VLOOKUP(H36,Results!A$8:$G$104,3,FALSE)","v":{"$error":"#N/A"}},{"$f":"VLOOKUP(H36,Results!$A$8:$G$104,2,FALSE)","v":{"$error":"#N/A"}},{"$f":"VLOOKUP(H36,Results!$A$8:$G$104,4,FALSE)","v":{"$error":"#N/A"}},{"$f":"VLOOKUP(H36,Results!$A$8:$G$104,7,FALSE)","v":{"$error":"#N/A"}},{"$f":"VLOOKUP(H36,$B$4:B36,1,FALSE)","v":{"$error":"#N/A"}}]
[null,{"$f":"Results!A40","v":0},{"$f":"Results!C40","v":0},{"$f":"Results!B40","v":0},{"$f":"Results!D40","v":0},{"$f":"Results!G40","v":""},"- vs -",{"$f":"VLOOKUP(B37,Results!$A$8:$AY$104,51,FALSE)","v":{"$error":"#N/A"}},{"$f":"VLOOKUP(H37,Results!A$8:$G$104,3,FALSE)","v":{"$error":"#N/A"}},{"$f":"VLOOKUP(H37,Results!$A$8:$G$104,2,FALSE)","v":{"$error":"#N/A"}},{"$f":"VLOOKUP(H37,Results!$A$8:$G$104,4,FALSE)","v":{"$error":"#N/A"}},{"$f":"VLOOKUP(H37,Results!$A$8:$G$104,7,FALSE)","v":{"$error":"#N/A"}},{"$f":"VLOOKUP(H37,$B$4:B37,1,FALSE)","v":{"$error":"#N/A"}}]
[null,{"$f":"Results!A41","v":0},{"$f":"Results!C41","v":0},{"$f":"Results!B41","v":0},{"$f":"Results!D41","v":0},{"$f":"Results!G41","v":""},"- vs -",{"$f":"VLOOKUP(B38,Results!$A$8:$AY$104,51,FALSE)","v":{"$error":"#N/A"}},{"$f":"VLOOKUP(H38,Results!A$8:$G$104,3,FALSE)","v":{"$error":"#N/A"}},{"$f":"VLOOKUP(H38,Results!$A$8:$G$104,2,FALSE)","v":{"$error":"#N/A"}},{"$f":"VLOOKUP(H38,Results!$A$8:$G$104,4,FALSE)","v":{"$error":"#N/A"}},{"$f":"VLOOKUP(H38,Results!$A$8:$G$104,7,FALSE)","v":{"$error":"#N/A"}},{"$f":"VLOOKUP(H38,$B$4:B38,1,FALSE)","v":{"$error":"#N/A"}}]
[null,{"$f":"Results!A42","v":0},{"$f":"Results!C42","v":0},{"$f":"Results!B42","v":0},{"$f":"Results!D42","v":0},{"$f":"Results!G42","v":""},"- vs -",{"$f":"VLOOKUP(B39,Results!$A$8:$AY$104,51,FALSE)","v":{"$error":"#N/A"}},{"$f":"VLOOKUP(H39,Results!A$8:$G$104,3,FALSE)","v":{"$error":"#N/A"}},{"$f":"VLOOKUP(H39,Results!$A$8:$G$104,2,FALSE)","v":{"$error":"#N/A"}},{"$f":"VLOOKUP(H39,Results!$A$8:$G$104,4,FALSE)","v":{"$error":"#N/A"}},{"$f":"VLOOKUP(H39,Results!$A$8:$G$104,7,FALSE)","v":{"$error":"#N/A"}},{"$f":"VLOOKUP(H39,$B$4:B39,1,FALSE)","v":{"$error":"#N/A"}}]
[null,{"$f":"Results!A43","v":0},{"$f":"Results!C43","v":0},{"$f":"Results!B43","v":0},{"$f":"Results!D43","v":0},{"$f":"Results!G43","v":""},"- vs -",{"$f":"VLOOKUP(B40,Results!$A$8:$AY$104,51,FALSE)","v":{"$error":"#N/A"}},{"$f":"VLOOKUP(H40,Results!A$8:$G$104,3,FALSE)","v":{"$error":"#N/A"}},{"$f":"VLOOKUP(H40,Results!$A$8:$G$104,2,FALSE)","v":{"$error":"#N/A"}},{"$f":"VLOOKUP(H40,Results!$A$8:$G$104,4,FALSE)","v":{"$error":"#N/A"}},{"$f":"VLOOKUP(H40,Results!$A$8:$G$104,7,FALSE)","v":{"$error":"#N/A"}},{"$f":"VLOOKUP(H40,$B$4:B40,1,FALSE)","v":{"$error":"#N/A"}}]
[null,{"$f":"Results!A44","v":0},{"$f":"Results!C44","v":0},{"$f":"Results!B44","v":0},{"$f":"Results!D44","v":0},{"$f":"Results!G44","v":""},"- vs -",{"$f":"VLOOKUP(B41,Results!$A$8:$AY$104,51,FALSE)","v":{"$error":"#N/A"}},{"$f":"VLOOKUP(H41,Results!A$8:$G$104,3,FALSE)","v":{"$error":"#N/A"}},{"$f":"VLOOKUP(H41,Results!$A$8:$G$104,2,FALSE)","v":{"$error":"#N/A"}},{"$f":"VLOOKUP(H41,Results!$A$8:$G$104,4,FALSE)","v":{"$error":"#N/A"}},{"$f":"VLOOKUP(H41,Results!$A$8:$G$104,7,FALSE)","v":{"$error":"#N/A"}},{"$f":"VLOOKUP(H41,$B$4:B41,1,FALSE)","v":{"$error":"#N/A"}}]
[null,{"$f":"Results!A45","v":0},{"$f":"Results!C45","v":0},{"$f":"Results!B45","v":0},{"$f":"Results!D45","v":0},{"$f":"Results!G45","v":""},"- vs -",{"$f":"VLOOKUP(B42,Results!$A$8:$AY$104,51,FALSE)","v":{"$error":"#N/A"}},{"$f":"VLOOKUP(H42,Results!A$8:$G$104,3,FALSE)","v":{"$error":"#N/A"}},{"$f":"VLOOKUP(H42,Results!$A$8:$G$104,2,FALSE)","v":{"$error":"#N/A"}},{"$f":"VLOOKUP(H42,Results!$A$8:$G$104,4,FALSE)","v":{"$error":"#N/A"}},{"$f":"VLOOKUP(H42,Results!$A$8:$G$104,7,FALSE)","v":{"$error":"#N/A"}},{"$f":"VLOOKUP(H42,$B$4:B42,1,FALSE)","v":{"$error":"#N/A"}}]
[null,{"$f":"Results!A46","v":0},{"$f":"Results!C46","v":0},{"$f":"Results!B46","v":0},{"$f":"Results!D46","v":0},{"$f":"Results!G46","v":""},"- vs -",{"$f":"VLOOKUP(B43,Results!$A$8:$AY$104,51,FALSE)","v":{"$error":"#N/A"}},{"$f":"VLOOKUP(H43,Results!A$8:$G$104,3,FALSE)","v":{"$error":"#N/A"}},{"$f":"VLOOKUP(H43,Results!$A$8:$G$104,2,FALSE)","v":{"$error":"#N/A"}},{"$f":"VLOOKUP(H43,Results!$A$8:$G$104,4,FALSE)","v":{"$error":"#N/A"}},{"$f":"VLOOKUP(H43,Results!$A$8:$G$104,7,FALSE)","v":{"$error":"#N/A"}},{"$f":"VLOOKUP(H43,$B$4:B43,1,FALSE)","v":{"$error":"#N/A"}}]
[null,{"$f":"Results!A47","v":0},{"$f":"Results!C47","v":0},{"$f":"Results!B47","v":0},{"$f":"Results!D47","v":0},{"$f":"Results!G47","v":""},"- vs -",{"$f":"VLOOKUP(B44,Results!$A$8:$AY$104,51,FALSE)","v":{"$error":"#N/A"}},{"$f":"VLOOKUP(H44,Results!A$8:$G$104,3,FALSE)","v":{"$error":"#N/A"}},{"$f":"VLOOKUP(H44,Results!$A$8:$G$104,2,FALSE)","v":{"$error":"#N/A"}},{"$f":"VLOOKUP(H44,Results!$A$8:$G$104,4,FALSE)","v":{"$error":"#N/A"}},{"$f":"VLOOKUP(H44,Results!$A$8:$G$104,7,FALSE)","v":{"$error":"#N/A"}},{"$f":"VLOOKUP(H44,$B$4:B44,1,FALSE)","v":{"$error":"#N/A"}}]
[null,{"$f":"Results!A48","v":0},{"$f":"Results!C48","v":0},{"$f":"Results!B48","v":0},{"$f":"Results!D48","v":0},{"$f":"Results!G48","v":""},"- vs -",{"$f":"VLOOKUP(B45,Results!$A$8:$AY$104,51,FALSE)","v":{"$error":"#N/A"}},{"$f":"VLOOKUP(H45,Results!A$8:$G$104,3,FALSE)","v":{"$error":"#N/A"}},{"$f":"VLOOKUP(H45,Results!$A$8:$G$104,2,FALSE)","v":{"$error":"#N/A"}},{"$f":"VLOOKUP(H45,Results!$A$8:$G$104,4,FALSE)","v":{"$error":"#N/A"}},{"$f":"VLOOKUP(H45,Results!$A$8:$G$104,7,FALSE)","v":{"$error":"#N/A"}},{"$f":"VLOOKUP(H45,$B$4:B45,1,FALSE)","v":{"$error":"#N/A"}}]
[null,{"$f":"Results!A49","v":0},{"$f":"Results!C49","v":0},{"$f":"Results!B49","v":0},{"$f":"Results!D49","v":0},{"$f":"Results!G49","v":""},"- vs -",{"$f":"VLOOKUP(B46,Results!$A$8:$AY$104,51,FALSE)","v":{"$error":"#N/A"}},{"$f":"VLOOKUP(H46,Results!A$8:$G$104,3,FALSE)","v":{"$error":"#N/A"}},{"$f":"VLOOKUP(H46,Results!$A$8:$G$104,2,FALSE)","v":{"$error":"#N/A"}},{"$f":"VLOOKUP(H46,Results!$A$8:$G$104,4,FALSE)","v":{"$error":"#N/A"}},{"$f":"VLOOKUP(H46,Results!$A$8:$G$104,7,FALSE)","v":{"$error":"#N/A"}},{"$f":"VLOOKUP(H46,$B$4:B46,1,FALSE)","v":{"$error":"#N/A"}}]
[null,{"$f":"Results!A50","v":0},{"$f":"Results!C50","v":0},{"$f":"Results!B50","v":0},{"$f":"Results!D50","v":0},{"$f":"Results!G50","v":""},"- vs -",{"$f":"VLOOKUP(B47,Results!$A$8:$AY$104,51,FALSE)","v":{"$error":"#N/A"}},{"$f":"VLOOKUP(H47,Results!A$8:$G$104,3,FALSE)","v":{"$error":"#N/A"}},{"$f":"VLOOKUP(H47,Results!$A$8:$G$104,2,FALSE)","v":{"$error":"#N/A"}},{"$f":"VLOOKUP(H47,Results!$A$8:$G$104,4,FALSE)","v":{"$error":"#N/A"}},{"$f":"VLOOKUP(H47,Results!$A$8:$G$104,7,FALSE)","v":{"$error":"#N/A"}},{"$f":"VLOOKUP(H47,$B$4:B47,1,FALSE)","v":{"$error":"#N/A"}}]
[null,{"$f":"Results!A51","v":0},{"$f":"Results!C51","v":0},{"$f":"Results!B51","v":0},{"$f":"Results!D51","v":0},{"$f":"Results!G51","v":""},"- vs -",{"$f":"VLOOKUP(B48,Results!$A$8:$AY$104,51,FALSE)","v":{"$error":"#N/A"}},{"$f":"VLOOKUP(H48,Results!A$8:$G$104,3,FALSE)","v":{"$error":"#N/A"}},{"$f":"VLOOKUP(H48,Results!$A$8:$G$104,2,FALSE)","v":{"$error":"#N/A"}},{"$f":"VLOOKUP(H48,Results!$A$8:$G$104,4,FALSE)","v":{"$error":"#N/A"}},{"$f":"VLOOKUP(H48,Results!$A$8:$G$104,7,FALSE)","v":{"$error":"#N/A"}},{"$f":"VLOOKUP(H48,$B$4:B48,1,FALSE)","v":{"$error":"#N/A"}}]
[null,{"$f":"Results!A52","v":0},{"$f":"Results!C52","v":0},{"$f":"Results!B52","v":0},{"$f":"Results!D52","v":0},{"$f":"Results!G52","v":""},"- vs -",{"$f":"VLOOKUP(B49,Results!$A$8:$AY$104,51,FALSE)","v":{"$error":"#N/A"}},{"$f":"VLOOKUP(H49,Results!A$8:$G$104,3,FALSE)","v":{"$error":"#N/A"}},{"$f":"VLOOKUP(H49,Results!$A$8:$G$104,2,FALSE)","v":{"$error":"#N/A"}},{"$f":"VLOOKUP(H49,Results!$A$8:$G$104,4,FALSE)","v":{"$error":"#N/A"}},{"$f":"VLOOKUP(H49,Results!$A$8:$G$104,7,FALSE)","v":{"$error":"#N/A"}},{"$f":"VLOOKUP(H49,$B$4:B49,1,FALSE)","v":{"$error":"#N/A"}}]
[null,{"$f":"Results!A53","v":0},{"$f":"Results!C53","v":0},{"$f":"Results!B53","v":0},{"$f":"Results!D53","v":0},{"$f":"Results!G53","v":""},"- vs -",{"$f":"VLOOKUP(B50,Results!$A$8:$AY$104,51,FALSE)","v":{"$error":"#N/A"}},{"$f":"VLOOKUP(H50,Results!A$8:$G$104,3,FALSE)","v":{"$error":"#N/A"}},{"$f":"VLOOKUP(H50,Results!$A$8:$G$104,2,FALSE)","v":{"$error":"#N/A"}},{"$f":"VLOOKUP(H50,Results!$A$8:$G$104,4,FALSE)","v":{"$error":"#N/A"}},{"$f":"VLOOKUP(H50,Results!$A$8:$G$104,7,FALSE)","v":{"$error":"#N/A"}},{"$f":"VLOOKUP(H50,$B$4:B50,1,FALSE)","v":{"$error":"#N/A"}}]
[null,{"$f":"Results!A54","v":0},{"$f":"Results!C54","v":0},{"$f":"Results!B54","v":0},{"$f":"Results!D54","v":0},{"$f":"Results!G54","v":""},"- vs -",{"$f":"VLOOKUP(B51,Results!$A$8:$AY$104,51,FALSE)","v":{"$error":"#N/A"}},{"$f":"VLOOKUP(H51,Results!A$8:$G$104,3,FALSE)","v":{"$error":"#N/A"}},{"$f":"VLOOKUP(H51,Results!$A$8:$G$104,2,FALSE)","v":{"$error":"#N/A"}},{"$f":"VLOOKUP(H51,Results!$A$8:$G$104,4,FALSE)","v":{"$error":"#N/A"}},{"$f":"VLOOKUP(H51,Results!$A$8:$G$104,7,FALSE)","v":{"$error":"#N/A"}},{"$f":"VLOOKUP(H51,$B$4:B51,1,FALSE)","v":{"$error":"#N/A"}}]
[null,{"$f":"Results!A55","v":0},{"$f":"Results!C55","v":0},{"$f":"Results!B55","v":0},{"$f":"Results!D55","v":0},{"$f":"Results!G55","v":""},"- vs -",{"$f":"VLOOKUP(B52,Results!$A$8:$AY$104,51,FALSE)","v":{"$error":"#N/A"}},{"$f":"VLOOKUP(H52,Results!A$8:$G$104,3,FALSE)","v":{"$error":"#N/A"}},{"$f":"VLOOKUP(H52,Results!$A$8:$G$104,2,FALSE)","v":{"$error":"#N/A"}},{"$f":"VLOOKUP(H52,Results!$A$8:$G$104,4,FALSE)","v":{"$error":"#N/A"}},{"$f":"VLOOKUP(H52,Results!$A$8:$G$104,7,FALSE)","v":{"$error":"#N/A"}},{"$f":"VLOOKUP(H52,$B$4:B52,1,FALSE)","v":{"$error":"#N/A"}}]
[null,{"$f":"Results!A56","v":0},{"$f":"Results!C56","v":0},{"$f":"Results!B56","v":0},{"$f":"Results!D56","v":0},{"$f":"Results!G56","v":""},"- vs -",{"$f":"VLOOKUP(B53,Results!$A$8:$AY$104,51,FALSE)","v":{"$error":"#N/A"}},{"$f":"VLOOKUP(H53,Results!A$8:$G$104,3,FALSE)","v":{"$error":"#N/A"}},{"$f":"VLOOKUP(H53,Results!$A$8:$G$104,2,FALSE)","v":{"$error":"#N/A"}},{"$f":"VLOOKUP(H53,Results!$A$8:$G$104,4,FALSE)","v":{"$error":"#N/A"}},{"$f":"VLOOKUP(H53,Results!$A$8:$G$104,7,FALSE)","v":{"$error":"#N/A"}},{"$f":"VLOOKUP(H53,$B$4:B53,1,FALSE)","v":{"$error":"#N/A"}}]
[null,{"$f":"Results!A57","v":0},{"$f":"Results!C57","v":0},{"$f":"Results!B57","v":0},{"$f":"Results!D57","v":0},{"$f":"Results!G57","v":""},"- vs -",{"$f":"VLOOKUP(B54,Results!$A$8:$AY$104,51,FALSE)","v":{"$error":"#N/A"}},{"$f":"VLOOKUP(H54,Results!A$8:$G$104,3,FALSE)","v":{"$error":"#N/A"}},{"$f":"VLOOKUP(H54,Results!$A$8:$G$104,2,FALSE)","v":{"$error":"#N/A"}},{"$f":"VLOOKUP(H54,Results!$A$8:$G$104,4,FALSE)","v":{"$error":"#N/A"}},{"$f":"VLOOKUP(H54,Results!$A$8:$G$104,7,FALSE)","v":{"$error":"#N/A"}},{"$f":"VLOOKUP(H54,$B$4:B54,1,FALSE)","v":{"$error":"#N/A"}}]
[null,{"$f":"Results!A58","v":0},{"$f":"Results!C58","v":0},{"$f":"Results!B58","v":0},{"$f":"Results!D58","v":0},{"$f":"Results!G58","v":""},"- vs -",{"$f":"VLOOKUP(B55,Results!$A$8:$AY$104,51,FALSE)","v":{"$error":"#N/A"}},{"$f":"VLOOKUP(H55,Results!A$8:$G$104,3,FALSE)","v":{"$error":"#N/A"}},{"$f":"VLOOKUP(H55,Results!$A$8:$G$104,2,FALSE)","v":{"$error":"#N/A"}},{"$f":"VLOOKUP(H55,Results!$A$8:$G$104,4,FALSE)","v":{"$error":"#N/A"}},{"$f":"VLOOKUP(H55,Results!$A$8:$G$104,7,FALSE)","v":{"$error":"#N/A"}},{"$f":"VLOOKUP(H55,$B$4:B55,1,FALSE)","v":{"$error":"#N/A"}}]
[null,{"$f":"Results!A59","v":0},{"$f":"Results!C59","v":0},{"$f":"Results!B59","v":0},{"$f":"Results!D59","v":0},{"$f":"Results!G59","v":""},"- vs -",{"$f":"VLOOKUP(B56,Results!$A$8:$AY$104,51,FALSE)","v":{"$error":"#N/A"}},{"$f":"VLOOKUP(H56,Results!A$8:$G$104,3,FALSE)","v":{"$error":"#N/A"}},{"$f":"VLOOKUP(H56,Results!$A$8:$G$104,2,FALSE)","v":{"$error":"#N/A"}},{"$f":"VLOOKUP(H56,Results!$A$8:$G$104,4,FALSE)","v":{"$error":"#N/A"}},{"$f":"VLOOKUP(H56,Results!$A$8:$G$104,7,FALSE)","v":{"$error":"#N/A"}},{"$f":"VLOOKUP(H56,$B$4:B56,1,FALSE)","v":{"$error":"#N/A"}}]
[null,{"$f":"Results!A60","v":0},{"$f":"Results!C60","v":0},{"$f":"Results!B60","v":0},{"$f":"Results!D60","v":0},{"$f":"Results!G60","v":""},"- vs -",{"$f":"VLOOKUP(B57,Results!$A$8:$AY$104,51,FALSE)","v":{"$error":"#N/A"}},{"$f":"VLOOKUP(H57,Results!A$8:$G$104,3,FALSE)","v":{"$error":"#N/A"}},{"$f":"VLOOKUP(H57,Results!$A$8:$G$104,2,FALSE)","v":{"$error":"#N/A"}},{"$f":"VLOOKUP(H57,Results!$A$8:$G$104,4,FALSE)","v":{"$error":"#N/A"}},{"$f":"VLOOKUP(H57,Results!$A$8:$G$104,7,FALSE)","v":{"$error":"#N/A"}},{"$f":"VLOOKUP(H57,$B$4:B57,1,FALSE)","v":{"$error":"#N/A"}}]
[null,{"$f":"Results!A61","v":0},{"$f":"Results!C61","v":0},{"$f":"Results!B61","v":0},{"$f":"Results!D61","v":0},{"$f":"Results!G61","v":""},"- vs -",{"$f":"VLOOKUP(B58,Results!$A$8:$AY$104,51,FALSE)","v":{"$error":"#N/A"}},{"$f":"VLOOKUP(H58,Results!A$8:$G$104,3,FALSE)","v":{"$error":"#N/A"}},{"$f":"VLOOKUP(H58,Results!$A$8:$G$104,2,FALSE)","v":{"$error":"#N/A"}},{"$f":"VLOOKUP(H58,Results!$A$8:$G$104,4,FALSE)","v":{"$error":"#N/A"}},{"$f":"VLOOKUP(H58,Results!$A$8:$G$104,7,FALSE)","v":{"$error":"#N/A"}},{"$f":"VLOOKUP(H58,$B$4:B58,1,FALSE)","v":{"$error":"#N/A"}}]
[null,{"$f":"Results!A62","v":0},{"$f":"Results!C62","v":0},{"$f":"Results!B62","v":0},{"$f":"Results!D62","v":0},{"$f":"Results!G62","v":""},"- vs -",{"$f":"VLOOKUP(B59,Results!$A$8:$AY$104,51,FALSE)","v":{"$error":"#N/A"}},{"$f":"VLOOKUP(H59,Results!A$8:$G$104,3,FALSE)","v":{"$error":"#N/A"}},{"$f":"VLOOKUP(H59,Results!$A$8:$G$104,2,FALSE)","v":{"$error":"#N/A"}},{"$f":"VLOOKUP(H59,Results!$A$8:$G$104,4,FALSE)","v":{"$error":"#N/A"}},{"$f":"VLOOKUP(H59,Results!$A$8:$G$104,7,FALSE)","v":{"$error":"#N/A"}},{"$f":"VLOOKUP(H59,$B$4:B59,1,FALSE)","v":{"$error":"#N/A"}}]
[null,{"$f":"Results!A63","v":0},{"$f":"Results!C63","v":0},{"$f":"Results!B63","v":0},{"$f":"Results!D63","v":0},{"$f":"Results!G63","v":""},"- vs -",{"$f":"VLOOKUP(B60,Results!$A$8:$AY$104,51,FALSE)","v":{"$error":"#N/A"}},{"$f":"VLOOKUP(H60,Results!A$8:$G$104,3,FALSE)","v":{"$error":"#N/A"}},{"$f":"VLOOKUP(H60,Results!$A$8:$G$104,2,FALSE)","v":{"$error":"#N/A"}},{"$f":"VLOOKUP(H60,Results!$A$8:$G$104,4,FALSE)","v":{"$error":"#N/A"}},{"$f":"VLOOKUP(H60,Results!$A$8:$G$104,7,FALSE)","v":{"$error":"#N/A"}},{"$f":"VLOOKUP(H60,$B$4:B60,1,FALSE)","v":{"$error":"#N/A"}}]
[null,{"$f":"Results!A64","v":0},{"$f":"Results!C64","v":0},{"$f":"Results!B64","v":0},{"$f":"Results!D64","v":0},{"$f":"Results!G64","v":""},"- vs -",{"$f":"VLOOKUP(B61,Results!$A$8:$AY$104,51,FALSE)","v":{"$error":"#N/A"}},{"$f":"VLOOKUP(H61,Results!A$8:$G$104,3,FALSE)","v":{"$error":"#N/A"}},{"$f":"VLOOKUP(H61,Results!$A$8:$G$104,2,FALSE)","v":{"$error":"#N/A"}},{"$f":"VLOOKUP(H61,Results!$A$8:$G$104,4,FALSE)","v":{"$error":"#N/A"}},{"$f":"VLOOKUP(H61,Results!$A$8:$G$104,7,FALSE)","v":{"$error":"#N/A"}},{"$f":"VLOOKUP(H61,$B$4:B61,1,FALSE)","v":{"$error":"#N/A"}}]
[null,{"$f":"Results!A65","v":0},{"$f":"Results!C65","v":0},{"$f":"Results!B65","v":0},{"$f":"Results!D65","v":0},{"$f":"Results!G65","v":""},"- vs -",{"$f":"VLOOKUP(B62,Results!$A$8:$AY$104,51,FALSE)","v":{"$error":"#N/A"}},{"$f":"VLOOKUP(H62,Results!A$8:$G$104,3,FALSE)","v":{"$error":"#N/A"}},{"$f":"VLOOKUP(H62,Results!$A$8:$G$104,2,FALSE)","v":{"$error":"#N/A"}},{"$f":"VLOOKUP(H62,Results!$A$8:$G$104,4,FALSE)","v":{"$error":"#N/A"}},{"$f":"VLOOKUP(H62,Results!$A$8:$G$104,7,FALSE)","v":{"$error":"#N/A"}},{"$f":"VLOOKUP(H62,$B$4:B62,1,FALSE)","v":{"$error":"#N/A"}}]
[null,{"$f":"Results!A66","v":0},{"$f":"Results!C66","v":0},{"$f":"Results!B66","v":0},{"$f":"Results!D66","v":0},{"$f":"Results!G66","v":""},"- vs -",{"$f":"VLOOKUP(B63,Results!$A$8:$AY$104,51,FALSE)","v":{"$error":"#N/A"}},{"$f":"VLOOKUP(H63,Results!A$8:$G$104,3,FALSE)","v":{"$error":"#N/A"}},{"$f":"VLOOKUP(H63,Results!$A$8:$G$104,2,FALSE)","v":{"$error":"#N/A"}},{"$f":"VLOOKUP(H63,Results!$A$8:$G$104,4,FALSE)","v":{"$error":"#N/A"}},{"$f":"VLOOKUP(H63,Results!$A$8:$G$104,7,FALSE)","v":{"$error":"#N/A"}},{"$f":"VLOOKUP(H63,$B$4:B63,1,FALSE)","v":{"$error":"#N/A"}}]
[null,{"$f":"Results!A67","v":0},{"$f":"Results!C67","v":0},{"$f":"Results!B67","v":0},{"$f":"Results!D67","v":0},{"$f":"Results!G67","v":""},"- vs -",{"$f":"VLOOKUP(B64,Results!$A$8:$AY$104,51,FALSE)","v":{"$error":"#N/A"}},{"$f":"VLOOKUP(H64,Results!A$8:$G$104,3,FALSE)","v":{"$error":"#N/A"}},{"$f":"VLOOKUP(H64,Results!$A$8:$G$104,2,FALSE)","v":{"$error":"#N/A"}},{"$f":"VLOOKUP(H64,Results!$A$8:$G$104,4,FALSE)","v":{"$error":"#N/A"}},{"$f":"VLOOKUP(H64,Results!$A$8:$G$104,7,FALSE)","v":{"$error":"#N/A"}}]
[null,{"$f":"Results!A68","v":0},{"$f":"Results!C68","v":0},{"$f":"Results!B68","v":0},{"$f":"Results!D68","v":0},{"$f":"Results!G68","v":""},"- vs -",{"$f":"VLOOKUP(B65,Results!$A$8:$AY$104,51,FALSE)","v":{"$error":"#N/A"}},{"$f":"VLOOKUP(H65,Results!A$8:$G$104,3,FALSE)","v":{"$error":"#N/A"}},{"$f":"VLOOKUP(H65,Results!$A$8:$G$104,2,FALSE)","v":{"$error":"#N/A"}},{"$f":"VLOOKUP(H65,Results!$A$8:$G$104,4,FALSE)","v":{"$error":"#N/A"}},{"$f":"VLOOKUP(H65,Results!$A$8:$G$104,7,FALSE)","v":{"$error":"#N/A"}}]
[null,{"$f":"Results!A69","v":0},{"$f":"Results!C69","v":0},{"$f":"Results!B69","v":0},{"$f":"Results!D69","v":0},{"$f":"Results!G69","v":""},"- vs -",{"$f":"VLOOKUP(B66,Results!$A$8:$AY$104,51,FALSE)","v":{"$error":"#N/A"}},{"$f":"VLOOKUP(H66,Results!A$8:$G$104,3,FALSE)","v":{"$error":"#N/A"}},{"$f":"VLOOKUP(H66,Results!$A$8:$G$104,2,FALSE)","v":{"$error":"#N/A"}},{"$f":"VLOOKUP(H66,Results!$A$8:$G$104,4,FALSE)","v":{"$error":"#N/A"}},{"$f":"VLOOKUP(H66,Results!$A$8:$G$104,7,FALSE)","v":{"$error":"#N/A"}}]
[null,{"$f":"Results!A70","v":0},{"$f":"Results!C70","v":0},{"$f":"Results!B70","v":0},{"$f":"Results!D70","v":0},{"$f":"Results!G70","v":""},"- vs -",{"$f":"VLOOKUP(B67,Results!$A$8:$AY$104,51,FALSE)","v":{"$error":"#N/A"}},{"$f":"VLOOKUP(H67,Results!A$8:$G$104,3,FALSE)","v":{"$error":"#N/A"}},{"$f":"VLOOKUP(H67,Results!$A$8:$G$104,2,FALSE)","v":{"$error":"#N/A"}},{"$f":"VLOOKUP(H67,Results!$A$8:$G$104,4,FALSE)","v":{"$error":"#N/A"}},{"$f":"VLOOKUP(H67,Results!$A$8:$G$104,7,FALSE)","v":{"$error":"#N/A"}}]
[null,{"$f":"Results!A71","v":0},{"$f":"Results!C71","v":0},{"$f":"Results!B71","v":0},{"$f":"Results!D71","v":0},{"$f":"Results!G71","v":""},"- vs -",{"$f":"VLOOKUP(B68,Results!$A$8:$AY$104,51,FALSE)","v":{"$error":"#N/A"}},{"$f":"VLOOKUP(H68,Results!A$8:$G$104,3,FALSE)","v":{"$error":"#N/A"}},{"$f":"VLOOKUP(H68,Results!$A$8:$G$104,2,FALSE)","v":{"$error":"#N/A"}},{"$f":"VLOOKUP(H68,Results!$A$8:$G$104,4,FALSE)","v":{"$error":"#N/A"}},{"$f":"VLOOKUP(H68,Results!$A$8:$G$104,7,FALSE)","v":{"$error":"#N/A"}}]
[null,{"$f":"Results!A72","v":0},{"$f":"Results!C72","v":0},{"$f":"Results!B72","v":0},{"$f":"Results!D72","v":0},{"$f":"Results!G72","v":""},"- vs -",{"$f":"VLOOKUP(B69,Results!$A$8:$AY$104,51,FALSE)","v":{"$error":"#N/A"}},{"$f":"VLOOKUP(H69,Results!A$8:$G$104,3,FALSE)","v":{"$error":"#N/A"}},{"$f":"VLOOKUP(H69,Results!$A$8:$G$104,2,FALSE)","v":{"$error":"#N/A"}},{"$f":"VLOOKUP(H69,Results!$A$8:$G$104,4,FALSE)","v":{"$error":"#N/A"}},{"$f":"VLOOKUP(H69,Results!$A$8:$G$104,7,FALSE)","v":{"$error":"#N/A"}}]

{"sheet":"Round 8","index":16,"n_rows":104,"n_cols":13,"rows_kept":104}
[{"$nulls":4},"Round 8 Draw"]
[null,null,{"$f":"Results!B3","v":0}]
[null,null,{"$f":"Results!B4","v":"Classical Period"}]
[{"$nulls":12},"VALID?"]
[null,{"$f":"Results!A8","v":0},{"$f":"Results!C8","v":0},{"$f":"Results!B8","v":0},{"$f":"Results!D8","v":0},{"$f":"Results!G8","v":""},"- vs -",{"$f":"VLOOKUP(B5,Results!$A$8:$BF$104,58,FALSE)","v":{"$error":"#N/A"}},{"$f":"VLOOKUP(H5,Results!A$8:$G$104,3,FALSE)","v":{"$error":"#N/A"}},{"$f":"VLOOKUP(H5,Results!$A$8:$G$104,2,FALSE)","v":{"$error":"#N/A"}},{"$f":"VLOOKUP(H5,Results!$A$8:$G$104,4,FALSE)","v":{"$error":"#N/A"}},{"$f":"VLOOKUP(H5,Results!$A$8:$G$104,7,FALSE)","v":{"$error":"#N/A"}},{"$f":"VLOOKUP(H5,$B$4:B5,1,FALSE)","v":{"$error":"#N/A"}}]
[null,{"$f":"Results!A9","v":0},{"$f":"Results!C9","v":0},{"$f":"Results!B9","v":0},{"$f":"Results!D9","v":0},{"$f":"Results!G9","v":""},"- vs -",{"$f":"VLOOKUP(B6,Results!$A$8:$BF$104,58,FALSE)","v":{"$error":"#N/A"}},{"$f":"VLOOKUP(H6,Results!A$8:$G$104,3,FALSE)","v":{"$error":"#N/A"}},{"$f":"VLOOKUP(H6,Results!$A$8:$G$104,2,FALSE)","v":{"$error":"#N/A"}},{"$f":"VLOOKUP(H6,Results!$A$8:$G$104,4,FALSE)","v":{"$error":"#N/A"}},{"$f":"VLOOKUP(H6,Results!$A$8:$G$104,7,FALSE)","v":{"$error":"#N/A"}},{"$f":"VLOOKUP(H6,$B$4:B6,1,FALSE)","v":{"$error":"#N/A"}}]
[null,{"$f":"Results!A10","v":0},{"$f":"Results!C10","v":0},{"$f":"Results!B10","v":0},{"$f":"Results!D10","v":0},{"$f":"Results!G10","v":""},"- vs -",{"$f":"VLOOKUP(B7,Results!$A$8:$BF$104,58,FALSE)","v":{"$error":"#N/A"}},{"$f":"VLOOKUP(H7,Results!A$8:$G$104,3,FALSE)","v":{"$error":"#N/A"}},{"$f":"VLOOKUP(H7,Results!$A$8:$G$104,2,FALSE)","v":{"$error":"#N/A"}},{"$f":"VLOOKUP(H7,Results!$A$8:$G$104,4,FALSE)","v":{"$error":"#N/A"}},{"$f":"VLOOKUP(H7,Results!$A$8:$G$104,7,FALSE)","v":{"$error":"#N/A"}},{"$f":"VLOOKUP(H7,$B$4:B7,1,FALSE)","v":{"$error":"#N/A"}}]
[null,{"$f":"Results!A11","v":0},{"$f":"Results!C11","v":0},{"$f":"Results!B11","v":0},{"$f":"Results!D11","v":0},{"$f":"Results!G11","v":""},"- vs -",{"$f":"VLOOKUP(B8,Results!$A$8:$BF$104,58,FALSE)","v":{"$error":"#N/A"}},{"$f":"VLOOKUP(H8,Results!A$8:$G$104,3,FALSE)","v":{"$error":"#N/A"}},{"$f":"VLOOKUP(H8,Results!$A$8:$G$104,2,FALSE)","v":{"$error":"#N/A"}},{"$f":"VLOOKUP(H8,Results!$A$8:$G$104,4,FALSE)","v":{"$error":"#N/A"}},{"$f":"VLOOKUP(H8,Results!$A$8:$G$104,7,FALSE)","v":{"$error":"#N/A"}},{"$f":"VLOOKUP(H8,$B$4:B8,1,FALSE)","v":{"$error":"#N/A"}}]
[null,{"$f":"Results!A12","v":0},{"$f":"Results!C12","v":0},{"$f":"Results!B12","v":0},{"$f":"Results!D12","v":0},{"$f":"Results!G12","v":""},"- vs -",{"$f":"VLOOKUP(B9,Results!$A$8:$BF$104,58,FALSE)","v":{"$error":"#N/A"}},{"$f":"VLOOKUP(H9,Results!A$8:$G$104,3,FALSE)","v":{"$error":"#N/A"}},{"$f":"VLOOKUP(H9,Results!$A$8:$G$104,2,FALSE)","v":{"$error":"#N/A"}},{"$f":"VLOOKUP(H9,Results!$A$8:$G$104,4,FALSE)","v":{"$error":"#N/A"}},{"$f":"VLOOKUP(H9,Results!$A$8:$G$104,7,FALSE)","v":{"$error":"#N/A"}},{"$f":"VLOOKUP(H9,$B$4:B9,1,FALSE)","v":{"$error":"#N/A"}}]
[null,{"$f":"Results!A13","v":0},{"$f":"Results!C13","v":0},{"$f":"Results!B13","v":0},{"$f":"Results!D13","v":0},{"$f":"Results!G13","v":""},"- vs -",{"$f":"VLOOKUP(B10,Results!$A$8:$BF$104,58,FALSE)","v":{"$error":"#N/A"}},{"$f":"VLOOKUP(H10,Results!A$8:$G$104,3,FALSE)","v":{"$error":"#N/A"}},{"$f":"VLOOKUP(H10,Results!$A$8:$G$104,2,FALSE)","v":{"$error":"#N/A"}},{"$f":"VLOOKUP(H10,Results!$A$8:$G$104,4,FALSE)","v":{"$error":"#N/A"}},{"$f":"VLOOKUP(H10,Results!$A$8:$G$104,7,FALSE)","v":{"$error":"#N/A"}},{"$f":"VLOOKUP(H10,$B$4:B10,1,FALSE)","v":{"$error":"#N/A"}}]
[null,{"$f":"Results!A14","v":0},{"$f":"Results!C14","v":0},{"$f":"Results!B14","v":0},{"$f":"Results!D14","v":0},{"$f":"Results!G14","v":""},"- vs -",{"$f":"VLOOKUP(B11,Results!$A$8:$BF$104,58,FALSE)","v":{"$error":"#N/A"}},{"$f":"VLOOKUP(H11,Results!A$8:$G$104,3,FALSE)","v":{"$error":"#N/A"}},{"$f":"VLOOKUP(H11,Results!$A$8:$G$104,2,FALSE)","v":{"$error":"#N/A"}},{"$f":"VLOOKUP(H11,Results!$A$8:$G$104,4,FALSE)","v":{"$error":"#N/A"}},{"$f":"VLOOKUP(H11,Results!$A$8:$G$104,7,FALSE)","v":{"$error":"#N/A"}},{"$f":"VLOOKUP(H11,$B$4:B11,1,FALSE)","v":{"$error":"#N/A"}}]
[null,{"$f":"Results!A15","v":0},{"$f":"Results!C15","v":0},{"$f":"Results!B15","v":0},{"$f":"Results!D15","v":0},{"$f":"Results!G15","v":""},"- vs -",{"$f":"VLOOKUP(B12,Results!$A$8:$BF$104,58,FALSE)","v":{"$error":"#N/A"}},{"$f":"VLOOKUP(H12,Results!A$8:$G$104,3,FALSE)","v":{"$error":"#N/A"}},{"$f":"VLOOKUP(H12,Results!$A$8:$G$104,2,FALSE)","v":{"$error":"#N/A"}},{"$f":"VLOOKUP(H12,Results!$A$8:$G$104,4,FALSE)","v":{"$error":"#N/A"}},{"$f":"VLOOKUP(H12,Results!$A$8:$G$104,7,FALSE)","v":{"$error":"#N/A"}},{"$f":"VLOOKUP(H12,$B$4:B12,1,FALSE)","v":{"$error":"#N/A"}}]
[null,{"$f":"Results!A16","v":0},{"$f":"Results!C16","v":0},{"$f":"Results!B16","v":0},{"$f":"Results!D16","v":0},{"$f":"Results!G16","v":""},"- vs -",{"$f":"VLOOKUP(B13,Results!$A$8:$BF$104,58,FALSE)","v":{"$error":"#N/A"}},{"$f":"VLOOKUP(H13,Results!A$8:$G$104,3,FALSE)","v":{"$error":"#N/A"}},{"$f":"VLOOKUP(H13,Results!$A$8:$G$104,2,FALSE)","v":{"$error":"#N/A"}},{"$f":"VLOOKUP(H13,Results!$A$8:$G$104,4,FALSE)","v":{"$error":"#N/A"}},{"$f":"VLOOKUP(H13,Results!$A$8:$G$104,7,FALSE)","v":{"$error":"#N/A"}},{"$f":"VLOOKUP(H13,$B$4:B13,1,FALSE)","v":{"$error":"#N/A"}}]
[null,{"$f":"Results!A17","v":0},{"$f":"Results!C17","v":0},{"$f":"Results!B17","v":0},{"$f":"Results!D17","v":0},{"$f":"Results!G17","v":""},"- vs -",{"$f":"VLOOKUP(B14,Results!$A$8:$BF$104,58,FALSE)","v":{"$error":"#N/A"}},{"$f":"VLOOKUP(H14,Results!A$8:$G$104,3,FALSE)","v":{"$error":"#N/A"}},{"$f":"VLOOKUP(H14,Results!$A$8:$G$104,2,FALSE)","v":{"$error":"#N/A"}},{"$f":"VLOOKUP(H14,Results!$A$8:$G$104,4,FALSE)","v":{"$error":"#N/A"}},{"$f":"VLOOKUP(H14,Results!$A$8:$G$104,7,FALSE)","v":{"$error":"#N/A"}},{"$f":"VLOOKUP(H14,$B$4:B14,1,FALSE)","v":{"$error":"#N/A"}}]
[null,{"$f":"Results!A18","v":0},{"$f":"Results!C18","v":0},{"$f":"Results!B18","v":0},{"$f":"Results!D18","v":0},{"$f":"Results!G18","v":""},"- vs -",{"$f":"VLOOKUP(B15,Results!$A$8:$BF$104,58,FALSE)","v":{"$error":"#N/A"}},{"$f":"VLOOKUP(H15,Results!A$8:$G$104,3,FALSE)","v":{"$error":"#N/A"}},{"$f":"VLOOKUP(H15,Results!$A$8:$G$104,2,FALSE)","v":{"$error":"#N/A"}},{"$f":"VLOOKUP(H15,Results!$A$8:$G$104,4,FALSE)","v":{"$error":"#N/A"}},{"$f":"VLOOKUP(H15,Results!$A$8:$G$104,7,FALSE)","v":{"$error":"#N/A"}},{"$f":"VLOOKUP(H15,$B$4:B15,1,FALSE)","v":{"$error":"#N/A"}}]
[null,{"$f":"Results!A19","v":0},{"$f":"Results!C19","v":0},{"$f":"Results!B19","v":0},{"$f":"Results!D19","v":0},{"$f":"Results!G19","v":""},"- vs -",{"$f":"VLOOKUP(B16,Results!$A$8:$BF$104,58,FALSE)","v":{"$error":"#N/A"}},{"$f":"VLOOKUP(H16,Results!A$8:$G$104,3,FALSE)","v":{"$error":"#N/A"}},{"$f":"VLOOKUP(H16,Results!$A$8:$G$104,2,FALSE)","v":{"$error":"#N/A"}},{"$f":"VLOOKUP(H16,Results!$A$8:$G$104,4,FALSE)","v":{"$error":"#N/A"}},{"$f":"VLOOKUP(H16,Results!$A$8:$G$104,7,FALSE)","v":{"$error":"#N/A"}},{"$f":"VLOOKUP(H16,$B$4:B16,1,FALSE)","v":{"$error":"#N/A"}}]
[null,{"$f":"Results!A20","v":0},{"$f":"Results!C20","v":0},{"$f":"Results!B20","v":0},{"$f":"Results!D20","v":0},{"$f":"Results!G20","v":""},"- vs -",{"$f":"VLOOKUP(B17,Results!$A$8:$BF$104,58,FALSE)","v":{"$error":"#N/A"}},{"$f":"VLOOKUP(H17,Results!A$8:$G$104,3,FALSE)","v":{"$error":"#N/A"}},{"$f":"VLOOKUP(H17,Results!$A$8:$G$104,2,FALSE)","v":{"$error":"#N/A"}},{"$f":"VLOOKUP(H17,Results!$A$8:$G$104,4,FALSE)","v":{"$error":"#N/A"}},{"$f":"VLOOKUP(H17,Results!$A$8:$G$104,7,FALSE)","v":{"$error":"#N/A"}},{"$f":"VLOOKUP(H17,$B$4:B17,1,FALSE)","v":{"$error":"#N/A"}}]
[null,{"$f":"Results!A21","v":0},{"$f":"Results!C21","v":0},{"$f":"Results!B21","v":0},{"$f":"Results!D21","v":0},{"$f":"Results!G21","v":""},"- vs -",{"$f":"VLOOKUP(B18,Results!$A$8:$BF$104,58,FALSE)","v":{"$error":"#N/A"}},{"$f":"VLOOKUP(H18,Results!A$8:$G$104,3,FALSE)","v":{"$error":"#N/A"}},{"$f":"VLOOKUP(H18,Results!$A$8:$G$104,2,FALSE)","v":{"$error":"#N/A"}},{"$f":"VLOOKUP(H18,Results!$A$8:$G$104,4,FALSE)","v":{"$error":"#N/A"}},{"$f":"VLOOKUP(H18,Results!$A$8:$G$104,7,FALSE)","v":{"$error":"#N/A"}},{"$f":"VLOOKUP(H18,$B$4:B18,1,FALSE)","v":{"$error":"#N/A"}}]
[null,{"$f":"Results!A22","v":0},{"$f":"Results!C22","v":0},{"$f":"Results!B22","v":0},{"$f":"Results!D22","v":0},{"$f":"Results!G22","v":""},"- vs -",{"$f":"VLOOKUP(B19,Results!$A$8:$BF$104,58,FALSE)","v":{"$error":"#N/A"}},{"$f":"VLOOKUP(H19,Results!A$8:$G$104,3,FALSE)","v":{"$error":"#N/A"}},{"$f":"VLOOKUP(H19,Results!$A$8:$G$104,2,FALSE)","v":{"$error":"#N/A"}},{"$f":"VLOOKUP(H19,Results!$A$8:$G$104,4,FALSE)","v":{"$error":"#N/A"}},{"$f":"VLOOKUP(H19,Results!$A$8:$G$104,7,FALSE)","v":{"$error":"#N/A"}},{"$f":"VLOOKUP(H19,$B$4:B19,1,FALSE)","v":{"$error":"#N/A"}}]
[null,{"$f":"Results!A23","v":0},{"$f":"Results!C23","v":0},{"$f":"Results!B23","v":0},{"$f":"Results!D23","v":0},{"$f":"Results!G23","v":""},"- vs -",{"$f":"VLOOKUP(B20,Results!$A$8:$BF$104,58,FALSE)","v":{"$error":"#N/A"}},{"$f":"VLOOKUP(H20,Results!A$8:$G$104,3,FALSE)","v":{"$error":"#N/A"}},{"$f":"VLOOKUP(H20,Results!$A$8:$G$104,2,FALSE)","v":{"$error":"#N/A"}},{"$f":"VLOOKUP(H20,Results!$A$8:$G$104,4,FALSE)","v":{"$error":"#N/A"}},{"$f":"VLOOKUP(H20,Results!$A$8:$G$104,7,FALSE)","v":{"$error":"#N/A"}},{"$f":"VLOOKUP(H20,$B$4:B20,1,FALSE)","v":{"$error":"#N/A"}}]
[null,{"$f":"Results!A24","v":0},{"$f":"Results!C24","v":0},{"$f":"Results!B24","v":0},{"$f":"Results!D24","v":0},{"$f":"Results!G24","v":""},"- vs -",{"$f":"VLOOKUP(B21,Results!$A$8:$BF$104,58,FALSE)","v":{"$error":"#N/A"}},{"$f":"VLOOKUP(H21,Results!A$8:$G$104,3,FALSE)","v":{"$error":"#N/A"}},{"$f":"VLOOKUP(H21,Results!$A$8:$G$104,2,FALSE)","v":{"$error":"#N/A"}},{"$f":"VLOOKUP(H21,Results!$A$8:$G$104,4,FALSE)","v":{"$error":"#N/A"}},{"$f":"VLOOKUP(H21,Results!$A$8:$G$104,7,FALSE)","v":{"$error":"#N/A"}},{"$f":"VLOOKUP(H21,$B$4:B21,1,FALSE)","v":{"$error":"#N/A"}}]
[null,{"$f":"Results!A25","v":0},{"$f":"Results!C25","v":0},{"$f":"Results!B25","v":0},{"$f":"Results!D25","v":0},{"$f":"Results!G25","v":""},"- vs -",{"$f":"VLOOKUP(B22,Results!$A$8:$BF$104,58,FALSE)","v":{"$error":"#N/A"}},{"$f":"VLOOKUP(H22,Results!A$8:$G$104,3,FALSE)","v":{"$error":"#N/A"}},{"$f":"VLOOKUP(H22,Results!$A$8:$G$104,2,FALSE)","v":{"$error":"#N/A"}},{"$f":"VLOOKUP(H22,Results!$A$8:$G$104,4,FALSE)","v":{"$error":"#N/A"}},{"$f":"VLOOKUP(H22,Results!$A$8:$G$104,7,FALSE)","v":{"$error":"#N/A"}},{"$f":"VLOOKUP(H22,$B$4:B22,1,FALSE)","v":{"$error":"#N/A"}}]
[null,{"$f":"Results!A26","v":0},{"$f":"Results!C26","v":0},{"$f":"Results!B26","v":0},{"$f":"Results!D26","v":0},{"$f":"Results!G26","v":""},"- vs -",{"$f":"VLOOKUP(B23,Results!$A$8:$BF$104,58,FALSE)","v":{"$error":"#N/A"}},{"$f":"VLOOKUP(H23,Results!A$8:$G$104,3,FALSE)","v":{"$error":"#N/A"}},{"$f":"VLOOKUP(H23,Results!$A$8:$G$104,2,FALSE)","v":{"$error":"#N/A"}},{"$f":"VLOOKUP(H23,Results!$A$8:$G$104,4,FALSE)","v":{"$error":"#N/A"}},{"$f":"VLOOKUP(H23,Results!$A$8:$G$104,7,FALSE)","v":{"$error":"#N/A"}},{"$f":"VLOOKUP(H23,$B$4:B23,1,FALSE)","v":{"$error":"#N/A"}}]
[null,{"$f":"Results!A27","v":0},{"$f":"Results!C27","v":0},{"$f":"Results!B27","v":0},{"$f":"Results!D27","v":0},{"$f":"Results!G27","v":""},"- vs -",{"$f":"VLOOKUP(B24,Results!$A$8:$BF$104,58,FALSE)","v":{"$error":"#N/A"}},{"$f":"VLOOKUP(H24,Results!A$8:$G$104,3,FALSE)","v":{"$error":"#N/A"}},{"$f":"VLOOKUP(H24,Results!$A$8:$G$104,2,FALSE)","v":{"$error":"#N/A"}},{"$f":"VLOOKUP(H24,Results!$A$8:$G$104,4,FALSE)","v":{"$error":"#N/A"}},{"$f":"VLOOKUP(H24,Results!$A$8:$G$104,7,FALSE)","v":{"$error":"#N/A"}},{"$f":"VLOOKUP(H24,$B$4:B24,1,FALSE)","v":{"$error":"#N/A"}}]
[null,{"$f":"Results!A28","v":0},{"$f":"Results!C28","v":0},{"$f":"Results!B28","v":0},{"$f":"Results!D28","v":0},{"$f":"Results!G28","v":""},"- vs -",{"$f":"VLOOKUP(B25,Results!$A$8:$BF$104,58,FALSE)","v":{"$error":"#N/A"}},{"$f":"VLOOKUP(H25,Results!A$8:$G$104,3,FALSE)","v":{"$error":"#N/A"}},{"$f":"VLOOKUP(H25,Results!$A$8:$G$104,2,FALSE)","v":{"$error":"#N/A"}},{"$f":"VLOOKUP(H25,Results!$A$8:$G$104,4,FALSE)","v":{"$error":"#N/A"}},{"$f":"VLOOKUP(H25,Results!$A$8:$G$104,7,FALSE)","v":{"$error":"#N/A"}},{"$f":"VLOOKUP(H25,$B$4:B25,1,FALSE)","v":{"$error":"#N/A"}}]
[null,{"$f":"Results!A29","v":0},{"$f":"Results!C29","v":0},{"$f":"Results!B29","v":0},{"$f":"Results!D29","v":0},{"$f":"Results!G29","v":""},"- vs -",{"$f":"VLOOKUP(B26,Results!$A$8:$BF$104,58,FALSE)","v":{"$error":"#N/A"}},{"$f":"VLOOKUP(H26,Results!A$8:$G$104,3,FALSE)","v":{"$error":"#N/A"}},{"$f":"VLOOKUP(H26,Results!$A$8:$G$104,2,FALSE)","v":{"$error":"#N/A"}},{"$f":"VLOOKUP(H26,Results!$A$8:$G$104,4,FALSE)","v":{"$error":"#N/A"}},{"$f":"VLOOKUP(H26,Results!$A$8:$G$104,7,FALSE)","v":{"$error":"#N/A"}},{"$f":"VLOOKUP(H26,$B$4:B26,1,FALSE)","v":{"$error":"#N/A"}}]
[null,{"$f":"Results!A30","v":0},{"$f":"Results!C30","v":0},{"$f":"Results!B30","v":0},{"$f":"Results!D30","v":0},{"$f":"Results!G30","v":""},"- vs -",{"$f":"VLOOKUP(B27,Results!$A$8:$BF$104,58,FALSE)","v":{"$error":"#N/A"}},{"$f":"VLOOKUP(H27,Results!A$8:$G$104,3,FALSE)","v":{"$error":"#N/A"}},{"$f":"VLOOKUP(H27,Results!$A$8:$G$104,2,FALSE)","v":{"$error":"#N/A"}},{"$f":"VLOOKUP(H27,Results!$A$8:$G$104,4,FALSE)","v":{"$error":"#N/A"}},{"$f":"VLOOKUP(H27,Results!$A$8:$G$104,7,FALSE)","v":{"$error":"#N/A"}},{"$f":"VLOOKUP(H27,$B$4:B27,1,FALSE)","v":{"$error":"#N/A"}}]
[null,{"$f":"Results!A31","v":0},{"$f":"Results!C31","v":0},{"$f":"Results!B31","v":0},{"$f":"Results!D31","v":0},{"$f":"Results!G31","v":""},"- vs -",{"$f":"VLOOKUP(B28,Results!$A$8:$BF$104,58,FALSE)","v":{"$error":"#N/A"}},{"$f":"VLOOKUP(H28,Results!A$8:$G$104,3,FALSE)","v":{"$error":"#N/A"}},{"$f":"VLOOKUP(H28,Results!$A$8:$G$104,2,FALSE)","v":{"$error":"#N/A"}},{"$f":"VLOOKUP(H28,Results!$A$8:$G$104,4,FALSE)","v":{"$error":"#N/A"}},{"$f":"VLOOKUP(H28,Results!$A$8:$G$104,7,FALSE)","v":{"$error":"#N/A"}},{"$f":"VLOOKUP(H28,$B$4:B28,1,FALSE)","v":{"$error":"#N/A"}}]
[null,{"$f":"Results!A32","v":0},{"$f":"Results!C32","v":0},{"$f":"Results!B32","v":0},{"$f":"Results!D32","v":0},{"$f":"Results!G32","v":""},"- vs -",{"$f":"VLOOKUP(B29,Results!$A$8:$BF$104,58,FALSE)","v":{"$error":"#N/A"}},{"$f":"VLOOKUP(H29,Results!A$8:$G$104,3,FALSE)","v":{"$error":"#N/A"}},{"$f":"VLOOKUP(H29,Results!$A$8:$G$104,2,FALSE)","v":{"$error":"#N/A"}},{"$f":"VLOOKUP(H29,Results!$A$8:$G$104,4,FALSE)","v":{"$error":"#N/A"}},{"$f":"VLOOKUP(H29,Results!$A$8:$G$104,7,FALSE)","v":{"$error":"#N/A"}},{"$f":"VLOOKUP(H29,$B$4:B29,1,FALSE)","v":{"$error":"#N/A"}}]
[null,{"$f":"Results!A33","v":0},{"$f":"Results!C33","v":0},{"$f":"Results!B33","v":0},{"$f":"Results!D33","v":0},{"$f":"Results!G33","v":""},"- vs -",{"$f":"VLOOKUP(B30,Results!$A$8:$BF$104,58,FALSE)","v":{"$error":"#N/A"}},{"$f":"VLOOKUP(H30,Results!A$8:$G$104,3,FALSE)","v":{"$error":"#N/A"}},{"$f":"VLOOKUP(H30,Results!$A$8:$G$104,2,FALSE)","v":{"$error":"#N/A"}},{"$f":"VLOOKUP(H30,Results!$A$8:$G$104,4,FALSE)","v":{"$error":"#N/A"}},{"$f":"VLOOKUP(H30,Results!$A$8:$G$104,7,FALSE)","v":{"$error":"#N/A"}},{"$f":"VLOOKUP(H30,$B$4:B30,1,FALSE)","v":{"$error":"#N/A"}}]
[null,{"$f":"Results!A34","v":0},{"$f":"Results!C34","v":0},{"$f":"Results!B34","v":0},{"$f":"Results!D34","v":0},{"$f":"Results!G34","v":""},"- vs -",{"$f":"VLOOKUP(B31,Results!$A$8:$BF$104,58,FALSE)","v":{"$error":"#N/A"}},{"$f":"VLOOKUP(H31,Results!A$8:$G$104,3,FALSE)","v":{"$error":"#N/A"}},{"$f":"VLOOKUP(H31,Results!$A$8:$G$104,2,FALSE)","v":{"$error":"#N/A"}},{"$f":"VLOOKUP(H31,Results!$A$8:$G$104,4,FALSE)","v":{"$error":"#N/A"}},{"$f":"VLOOKUP(H31,Results!$A$8:$G$104,7,FALSE)","v":{"$error":"#N/A"}},{"$f":"VLOOKUP(H31,$B$4:B31,1,FALSE)","v":{"$error":"#N/A"}}]
[null,{"$f":"Results!A35","v":0},{"$f":"Results!C35","v":0},{"$f":"Results!B35","v":0},{"$f":"Results!D35","v":0},{"$f":"Results!G35","v":""},"- vs -",{"$f":"VLOOKUP(B32,Results!$A$8:$BF$104,58,FALSE)","v":{"$error":"#N/A"}},{"$f":"VLOOKUP(H32,Results!A$8:$G$104,3,FALSE)","v":{"$error":"#N/A"}},{"$f":"VLOOKUP(H32,Results!$A$8:$G$104,2,FALSE)","v":{"$error":"#N/A"}},{"$f":"VLOOKUP(H32,Results!$A$8:$G$104,4,FALSE)","v":{"$error":"#N/A"}},{"$f":"VLOOKUP(H32,Results!$A$8:$G$104,7,FALSE)","v":{"$error":"#N/A"}},{"$f":"VLOOKUP(H32,$B$4:B32,1,FALSE)","v":{"$error":"#N/A"}}]
[null,{"$f":"Results!A36","v":0},{"$f":"Results!C36","v":0},{"$f":"Results!B36","v":0},{"$f":"Results!D36","v":0},{"$f":"Results!G36","v":""},"- vs -",{"$f":"VLOOKUP(B33,Results!$A$8:$BF$104,58,FALSE)","v":{"$error":"#N/A"}},{"$f":"VLOOKUP(H33,Results!A$8:$G$104,3,FALSE)","v":{"$error":"#N/A"}},{"$f":"VLOOKUP(H33,Results!$A$8:$G$104,2,FALSE)","v":{"$error":"#N/A"}},{"$f":"VLOOKUP(H33,Results!$A$8:$G$104,4,FALSE)","v":{"$error":"#N/A"}},{"$f":"VLOOKUP(H33,Results!$A$8:$G$104,7,FALSE)","v":{"$error":"#N/A"}},{"$f":"VLOOKUP(H33,$B$4:B33,1,FALSE)","v":{"$error":"#N/A"}}]
[null,{"$f":"Results!A37","v":0},{"$f":"Results!C37","v":0},{"$f":"Results!B37","v":0},{"$f":"Results!D37","v":0},{"$f":"Results!G37","v":""},"- vs -",{"$f":"VLOOKUP(B34,Results!$A$8:$BF$104,58,FALSE)","v":{"$error":"#N/A"}},{"$f":"VLOOKUP(H34,Results!A$8:$G$104,3,FALSE)","v":{"$error":"#N/A"}},{"$f":"VLOOKUP(H34,Results!$A$8:$G$104,2,FALSE)","v":{"$error":"#N/A"}},{"$f":"VLOOKUP(H34,Results!$A$8:$G$104,4,FALSE)","v":{"$error":"#N/A"}},{"$f":"VLOOKUP(H34,Results!$A$8:$G$104,7,FALSE)","v":{"$error":"#N/A"}},{"$f":"VLOOKUP(H34,$B$4:B34,1,FALSE)","v":{"$error":"#N/A"}}]
[null,{"$f":"Results!A38","v":0},{"$f":"Results!C38","v":0},{"$f":"Results!B38","v":0},{"$f":"Results!D38","v":0},{"$f":"Results!G38","v":""},"- vs -",{"$f":"VLOOKUP(B35,Results!$A$8:$BF$104,58,FALSE)","v":{"$error":"#N/A"}},{"$f":"VLOOKUP(H35,Results!A$8:$G$104,3,FALSE)","v":{"$error":"#N/A"}},{"$f":"VLOOKUP(H35,Results!$A$8:$G$104,2,FALSE)","v":{"$error":"#N/A"}},{"$f":"VLOOKUP(H35,Results!$A$8:$G$104,4,FALSE)","v":{"$error":"#N/A"}},{"$f":"VLOOKUP(H35,Results!$A$8:$G$104,7,FALSE)","v":{"$error":"#N/A"}},{"$f":"VLOOKUP(H35,$B$4:B35,1,FALSE)","v":{"$error":"#N/A"}}]
[null,{"$f":"Results!A39","v":0},{"$f":"Results!C39","v":0},{"$f":"Results!B39","v":0},{"$f":"Results!D39","v":0},{"$f":"Results!G39","v":""},"- vs -",{"$f":"VLOOKUP(B36,Results!$A$8:$BF$104,58,FALSE)","v":{"$error":"#N/A"}},{"$f":"VLOOKUP(H36,Results!A$8:$G$104,3,FALSE)","v":{"$error":"#N/A"}},{"$f":"VLOOKUP(H36,Results!$A$8:$G$104,2,FALSE)","v":{"$error":"#N/A"}},{"$f":"VLOOKUP(H36,Results!$A$8:$G$104,4,FALSE)","v":{"$error":"#N/A"}},{"$f":"VLOOKUP(H36,Results!$A$8:$G$104,7,FALSE)","v":{"$error":"#N/A"}},{"$f":"VLOOKUP(H36,$B$4:B36,1,FALSE)","v":{"$error":"#N/A"}}]
[null,{"$f":"Results!A40","v":0},{"$f":"Results!C40","v":0},{"$f":"Results!B40","v":0},{"$f":"Results!D40","v":0},{"$f":"Results!G40","v":""},"- vs -",{"$f":"VLOOKUP(B37,Results!$A$8:$BF$104,58,FALSE)","v":{"$error":"#N/A"}},{"$f":"VLOOKUP(H37,Results!A$8:$G$104,3,FALSE)","v":{"$error":"#N/A"}},{"$f":"VLOOKUP(H37,Results!$A$8:$G$104,2,FALSE)","v":{"$error":"#N/A"}},{"$f":"VLOOKUP(H37,Results!$A$8:$G$104,4,FALSE)","v":{"$error":"#N/A"}},{"$f":"VLOOKUP(H37,Results!$A$8:$G$104,7,FALSE)","v":{"$error":"#N/A"}},{"$f":"VLOOKUP(H37,$B$4:B37,1,FALSE)","v":{"$error":"#N/A"}}]
[null,{"$f":"Results!A41","v":0},{"$f":"Results!C41","v":0},{"$f":"Results!B41","v":0},{"$f":"Results!D41","v":0},{"$f":"Results!G41","v":""},"- vs -",{"$f":"VLOOKUP(B38,Results!$A$8:$BF$104,58,FALSE)","v":{"$error":"#N/A"}},{"$f":"VLOOKUP(H38,Results!A$8:$G$104,3,FALSE)","v":{"$error":"#N/A"}},{"$f":"VLOOKUP(H38,Results!$A$8:$G$104,2,FALSE)","v":{"$error":"#N/A"}},{"$f":"VLOOKUP(H38,Results!$A$8:$G$104,4,FALSE)","v":{"$error":"#N/A"}},{"$f":"VLOOKUP(H38,Results!$A$8:$G$104,7,FALSE)","v":{"$error":"#N/A"}},{"$f":"VLOOKUP(H38,$B$4:B38,1,FALSE)","v":{"$error":"#N/A"}}]
[null,{"$f":"Results!A42","v":0},{"$f":"Results!C42","v":0},{"$f":"Results!B42","v":0},{"$f":"Results!D42","v":0},{"$f":"Results!G42","v":""},"- vs -",{"$f":"VLOOKUP(B39,Results!$A$8:$BF$104,58,FALSE)","v":{"$error":"#N/A"}},{"$f":"VLOOKUP(H39,Results!A$8:$G$104,3,FALSE)","v":{"$error":"#N/A"}},{"$f":"VLOOKUP(H39,Results!$A$8:$G$104,2,FALSE)","v":{"$error":"#N/A"}},{"$f":"VLOOKUP(H39,Results!$A$8:$G$104,4,FALSE)","v":{"$error":"#N/A"}},{"$f":"VLOOKUP(H39,Results!$A$8:$G$104,7,FALSE)","v":{"$error":"#N/A"}},{"$f":"VLOOKUP(H39,$B$4:B39,1,FALSE)","v":{"$error":"#N/A"}}]
[null,{"$f":"Results!A43","v":0},{"$f":"Results!C43","v":0},{"$f":"Results!B43","v":0},{"$f":"Results!D43","v":0},{"$f":"Results!G43","v":""},"- vs -",{"$f":"VLOOKUP(B40,Results!$A$8:$BF$104,58,FALSE)","v":{"$error":"#N/A"}},{"$f":"VLOOKUP(H40,Results!A$8:$G$104,3,FALSE)","v":{"$error":"#N/A"}},{"$f":"VLOOKUP(H40,Results!$A$8:$G$104,2,FALSE)","v":{"$error":"#N/A"}},{"$f":"VLOOKUP(H40,Results!$A$8:$G$104,4,FALSE)","v":{"$error":"#N/A"}},{"$f":"VLOOKUP(H40,Results!$A$8:$G$104,7,FALSE)","v":{"$error":"#N/A"}},{"$f":"VLOOKUP(H40,$B$4:B40,1,FALSE)","v":{"$error":"#N/A"}}]
[null,{"$f":"Results!A44","v":0},{"$f":"Results!C44","v":0},{"$f":"Results!B44","v":0},{"$f":"Results!D44","v":0},{"$f":"Results!G44","v":""},"- vs -",{"$f":"VLOOKUP(B41,Results!$A$8:$BF$104,58,FALSE)","v":{"$error":"#N/A"}},{"$f":"VLOOKUP(H41,Results!A$8:$G$104,3,FALSE)","v":{"$error":"#N/A"}},{"$f":"VLOOKUP(H41,Results!$A$8:$G$104,2,FALSE)","v":{"$error":"#N/A"}},{"$f":"VLOOKUP(H41,Results!$A$8:$G$104,4,FALSE)","v":{"$error":"#N/A"}},{"$f":"VLOOKUP(H41,Results!$A$8:$G$104,7,FALSE)","v":{"$error":"#N/A"}},{"$f":"VLOOKUP(H41,$B$4:B41,1,FALSE)","v":{"$error":"#N/A"}}]
[null,{"$f":"Results!A45","v":0},{"$f":"Results!C45","v":0},{"$f":"Results!B45","v":0},{"$f":"Results!D45","v":0},{"$f":"Results!G45","v":""},"- vs -",{"$f":"VLOOKUP(B42,Results!$A$8:$BF$104,58,FALSE)","v":{"$error":"#N/A"}},{"$f":"VLOOKUP(H42,Results!A$8:$G$104,3,FALSE)","v":{"$error":"#N/A"}},{"$f":"VLOOKUP(H42,Results!$A$8:$G$104,2,FALSE)","v":{"$error":"#N/A"}},{"$f":"VLOOKUP(H42,Results!$A$8:$G$104,4,FALSE)","v":{"$error":"#N/A"}},{"$f":"VLOOKUP(H42,Results!$A$8:$G$104,7,FALSE)","v":{"$error":"#N/A"}},{"$f":"VLOOKUP(H42,$B$4:B42,1,FALSE)","v":{"$error":"#N/A"}}]
[null,{"$f":"Results!A46","v":0},{"$f":"Results!C46","v":0},{"$f":"Results!B46","v":0},{"$f":"Results!D46","v":0},{"$f":"Results!G46","v":""},"- vs -",{"$f":"VLOOKUP(B43,Results!$A$8:$BF$104,58,FALSE)","v":{"$error":"#N/A"}},{"$f":"VLOOKUP(H43,Results!A$8:$G$104,3,FALSE)","v":{"$error":"#N/A"}},{"$f":"VLOOKUP(H43,Results!$A$8:$G$104,2,FALSE)","v":{"$error":"#N/A"}},{"$f":"VLOOKUP(H43,Results!$A$8:$G$104,4,FALSE)","v":{"$error":"#N/A"}},{"$f":"VLOOKUP(H43,Results!$A$8:$G$104,7,FALSE)","v":{"$error":"#N/A"}},{"$f":"VLOOKUP(H43,$B$4:B43,1,FALSE)","v":{"$error":"#N/A"}}]
[null,{"$f":"Results!A47","v":0},{"$f":"Results!C47","v":0},{"$f":"Results!B47","v":0},{"$f":"Results!D47","v":0},{"$f":"Results!G47","v":""},"- vs -",{"$f":"VLOOKUP(B44,Results!$A$8:$BF$104,58,FALSE)","v":{"$error":"#N/A"}},{"$f":"VLOOKUP(H44,Results!A$8:$G$104,3,FALSE)","v":{"$error":"#N/A"}},{"$f":"VLOOKUP(H44,Results!$A$8:$G$104,2,FALSE)","v":{"$error":"#N/A"}},{"$f":"VLOOKUP(H44,Results!$A$8:$G$104,4,FALSE)","v":{"$error":"#N/A"}},{"$f":"VLOOKUP(H44,Results!$A$8:$G$104,7,FALSE)","v":{"$error":"#N/A"}},{"$f":"VLOOKUP(H44,$B$4:B44,1,FALSE)","v":{"$error":"#N/A"}}]
[null,{"$f":"Results!A48","v":0},{"$f":"Results!C48","v":0},{"$f":"Results!B48","v":0},{"$f":"Results!D48","v":0},{"$f":"Results!G48","v":""},"- vs -",{"$f":"VLOOKUP(B45,Results!$A$8:$BF$104,58,FALSE)","v":{"$error":"#N/A"}},{"$f":"VLOOKUP(H45,Results!A$8:$G$104,3,FALSE)","v":{"$error":"#N/A"}},{"$f":"VLOOKUP(H45,Results!$A$8:$G$104,2,FALSE)","v":{"$error":"#N/A"}},{"$f":"VLOOKUP(H45,Results!$A$8:$G$104,4,FALSE)","v":{"$error":"#N/A"}},{"$f":"VLOOKUP(H45,Results!$A$8:$G$104,7,FALSE)","v":{"$error":"#N/A"}},{"$f":"VLOOKUP(H45,$B$4:B45,1,FALSE)","v":{"$error":"#N/A"}}]
[null,{"$f":"Results!A49","v":0},{"$f":"Results!C49","v":0},{"$f":"Results!B49","v":0},{"$f":"Results!D49","v":0},{"$f":"Results!G49","v":""},"- vs -",{"$f":"VLOOKUP(B46,Results!$A$8:$BF$104,58,FALSE)","v":{"$error":"#N/A"}},{"$f":"VLOOKUP(H46,Results!A$8:$G$104,3,FALSE)","v":{"$error":"#N/A"}},{"$f":"VLOOKUP(H46,Results!$A$8:$G$104,2,FALSE)","v":{"$error":"#N/A"}},{"$f":"VLOOKUP(H46,Results!$A$8:$G$104,4,FALSE)","v":{"$error":"#N/A"}},{"$f":"VLOOKUP(H46,Results!$A$8:$G$104,7,FALSE)","v":{"$error":"#N/A"}},{"$f":"VLOOKUP(H46,$B$4:B46,1,FALSE)","v":{"$error":"#N/A"}}]
[null,{"$f":"Results!A50","v":0},{"$f":"Results!C50","v":0},{"$f":"Results!B50","v":0},{"$f":"Results!D50","v":0},{"$f":"Results!G50","v":""},"- vs -",{"$f":"VLOOKUP(B47,Results!$A$8:$BF$104,58,FALSE)","v":{"$error":"#N/A"}},{"$f":"VLOOKUP(H47,Results!A$8:$G$104,3,FALSE)","v":{"$error":"#N/A"}},{"$f":"VLOOKUP(H47,Results!$A$8:$G$104,2,FALSE)","v":{"$error":"#N/A"}},{"$f":"VLOOKUP(H47,Results!$A$8:$G$104,4,FALSE)","v":{"$error":"#N/A"}},{"$f":"VLOOKUP(H47,Results!$A$8:$G$104,7,FALSE)","v":{"$error":"#N/A"}},{"$f":"VLOOKUP(H47,$B$4:B47,1,FALSE)","v":{"$error":"#N/A"}}]
[null,{"$f":"Results!A51","v":0},{"$f":"Results!C51","v":0},{"$f":"Results!B51","v":0},{"$f":"Results!D51","v":0},{"$f":"Results!G51","v":""},"- vs -",{"$f":"VLOOKUP(B48,Results!$A$8:$BF$104,58,FALSE)","v":{"$error":"#N/A"}},{"$f":"VLOOKUP(H48,Results!A$8:$G$104,3,FALSE)","v":{"$error":"#N/A"}},{"$f":"VLOOKUP(H48,Results!$A$8:$G$104,2,FALSE)","v":{"$error":"#N/A"}},{"$f":"VLOOKUP(H48,Results!$A$8:$G$104,4,FALSE)","v":{"$error":"#N/A"}},{"$f":"VLOOKUP(H48,Results!$A$8:$G$104,7,FALSE)","v":{"$error":"#N/A"}},{"$f":"VLOOKUP(H48,$B$4:B48,1,FALSE)","v":{"$error":"#N/A"}}]
[null,{"$f":"Results!A52","v":0},{"$f":"Results!C52","v":0},{"$f":"Results!B52","v":0},{"$f":"Results!D52","v":0},{"$f":"Results!G52","v":""},"- vs -",{"$f":"VLOOKUP(B49,Results!$A$8:$BF$104,58,FALSE)","v":{"$error":"#N/A"}},{"$f":"VLOOKUP(H49,Results!A$8:$G$104,3,FALSE)","v":{"$error":"#N/A"}},{"$f":"VLOOKUP(H49,Results!$A$8:$G$104,2,FALSE)","v":{"$error":"#N/A"}},{"$f":"VLOOKUP(H49,Results!$A$8:$G$104,4,FALSE)","v":{"$error":"#N/A"}},{"$f":"VLOOKUP(H49,Results!$A$8:$G$104,7,FALSE)","v":{"$error":"#N/A"}},{"$f":"VLOOKUP(H49,$B$4:B49,1,FALSE)","v":{"$error":"#N/A"}}]
[null,{"$f":"Results!A53","v":0},{"$f":"Results!C53","v":0},{"$f":"Results!B53","v":0},{"$f":"Results!D53","v":0},{"$f":"Results!G53","v":""},"- vs -",{"$f":"VLOOKUP(B50,Results!$A$8:$BF$104,58,FALSE)","v":{"$error":"#N/A"}},{"$f":"VLOOKUP(H50,Results!A$8:$G$104,3,FALSE)","v":{"$error":"#N/A"}},{"$f":"VLOOKUP(H50,Results!$A$8:$G$104,2,FALSE)","v":{"$error":"#N/A"}},{"$f":"VLOOKUP(H50,Results!$A$8:$G$104,4,FALSE)","v":{"$error":"#N/A"}},{"$f":"VLOOKUP(H50,Results!$A$8:$G$104,7,FALSE)","v":{"$error":"#N/A"}},{"$f":"VLOOKUP(H50,$B$4:B50,1,FALSE)","v":{"$error":"#N/A"}}]
[null,{"$f":"Results!A54","v":0},{"$f":"Results!C54","v":0},{"$f":"Results!B54","v":0},{"$f":"Results!D54","v":0},{"$f":"Results!G54","v":""},"- vs -",{"$f":"VLOOKUP(B51,Results!$A$8:$BF$104,58,FALSE)","v":{"$error":"#N/A"}},{"$f":"VLOOKUP(H51,Results!A$8:$G$104,3,FALSE)","v":{"$error":"#N/A"}},{"$f":"VLOOKUP(H51,Results!$A$8:$G$104,2,FALSE)","v":{"$error":"#N/A"}},{"$f":"VLOOKUP(H51,Results!$A$8:$G$104,4,FALSE)","v":{"$error":"#N/A"}},{"$f":"VLOOKUP(H51,Results!$A$8:$G$104,7,FALSE)","v":{"$error":"#N/A"}},{"$f":"VLOOKUP(H51,$B$4:B51,1,FALSE)","v":{"$error":"#N/A"}}]
[null,{"$f":"Results!A55","v":0},{"$f":"Results!C55","v":0},{"$f":"Results!B55","v":0},{"$f":"Results!D55","v":0},{"$f":"Results!G55","v":""},"- vs -",{"$f":"VLOOKUP(B52,Results!$A$8:$BF$104,58,FALSE)","v":{"$error":"#N/A"}},{"$f":"VLOOKUP(H52,Results!A$8:$G$104,3,FALSE)","v":{"$error":"#N/A"}},{"$f":"VLOOKUP(H52,Results!$A$8:$G$104,2,FALSE)","v":{"$error":"#N/A"}},{"$f":"VLOOKUP(H52,Results!$A$8:$G$104,4,FALSE)","v":{"$error":"#N/A"}},{"$f":"VLOOKUP(H52,Results!$A$8:$G$104,7,FALSE)","v":{"$error":"#N/A"}},{"$f":"VLOOKUP(H52,$B$4:B52,1,FALSE)","v":{"$error":"#N/A"}}]
[null,{"$f":"Results!A56","v":0},{"$f":"Results!C56","v":0},{"$f":"Results!B56","v":0},{"$f":"Results!D56","v":0},{"$f":"Results!G56","v":""},"- vs -",{"$f":"VLOOKUP(B53,Results!$A$8:$BF$104,58,FALSE)","v":{"$error":"#N/A"}},{"$f":"VLOOKUP(H53,Results!A$8:$G$104,3,FALSE)","v":{"$error":"#N/A"}},{"$f":"VLOOKUP(H53,Results!$A$8:$G$104,2,FALSE)","v":{"$error":"#N/A"}},{"$f":"VLOOKUP(H53,Results!$A$8:$G$104,4,FALSE)","v":{"$error":"#N/A"}},{"$f":"VLOOKUP(H53,Results!$A$8:$G$104,7,FALSE)","v":{"$error":"#N/A"}},{"$f":"VLOOKUP(H53,$B$4:B53,1,FALSE)","v":{"$error":"#N/A"}}]
[null,{"$f":"Results!A57","v":0},{"$f":"Results!C57","v":0},{"$f":"Results!B57","v":0},{"$f":"Results!D57","v":0},{"$f":"Results!G57","v":""},"- vs -",{"$f":"VLOOKUP(B54,Results!$A$8:$BF$104,58,FALSE)","v":{"$error":"#N/A"}},{"$f":"VLOOKUP(H54,Results!A$8:$G$104,3,FALSE)","v":{"$error":"#N/A"}},{"$f":"VLOOKUP(H54,Results!$A$8:$G$104,2,FALSE)","v":{"$error":"#N/A"}},{"$f":"VLOOKUP(H54,Results!$A$8:$G$104,4,FALSE)","v":{"$error":"#N/A"}},{"$f":"VLOOKUP(H54,Results!$A$8:$G$104,7,FALSE)","v":{"$error":"#N/A"}},{"$f":"VLOOKUP(H54,$B$4:B54,1,FALSE)","v":{"$error":"#N/A"}}]
[null,{"$f":"Results!A58","v":0},{"$f":"Results!C58","v":0},{"$f":"Results!B58","v":0},{"$f":"Results!D58","v":0},{"$f":"Results!G58","v":""},"- vs -",{"$f":"VLOOKUP(B55,Results!$A$8:$BF$104,58,FALSE)","v":{"$error":"#N/A"}},{"$f":"VLOOKUP(H55,Results!A$8:$G$104,3,FALSE)","v":{"$error":"#N/A"}},{"$f":"VLOOKUP(H55,Results!$A$8:$G$104,2,FALSE)","v":{"$error":"#N/A"}},{"$f":"VLOOKUP(H55,Results!$A$8:$G$104,4,FALSE)","v":{"$error":"#N/A"}},{"$f":"VLOOKUP(H55,Results!$A$8:$G$104,7,FALSE)","v":{"$error":"#N/A"}},{"$f":"VLOOKUP(H55,$B$4:B55,1,FALSE)","v":{"$error":"#N/A"}}]
[null,{"$f":"Results!A59","v":0},{"$f":"Results!C59","v":0},{"$f":"Results!B59","v":0},{"$f":"Results!D59","v":0},{"$f":"Results!G59","v":""},"- vs -",{"$f":"VLOOKUP(B56,Results!$A$8:$BF$104,58,FALSE)","v":{"$error":"#N/A"}},{"$f":"VLOOKUP(H56,Results!A$8:$G$104,3,FALSE)","v":{"$error":"#N/A"}},{"$f":"VLOOKUP(H56,Results!$A$8:$G$104,2,FALSE)","v":{"$error":"#N/A"}},{"$f":"VLOOKUP(H56,Results!$A$8:$G$104,4,FALSE)","v":{"$error":"#N/A"}},{"$f":"VLOOKUP(H56,Results!$A$8:$G$104,7,FALSE)","v":{"$error":"#N/A"}},{"$f":"VLOOKUP(H56,$B$4:B56,1,FALSE)","v":{"$error":"#N/A"}}]
[null,{"$f":"Results!A60","v":0},{"$f":"Results!C60","v":0},{"$f":"Results!B60","v":0},{"$f":"Results!D60","v":0},{"$f":"Results!G60","v":""},"- vs -",{"$f":"VLOOKUP(B57,Results!$A$8:$BF$104,58,FALSE)","v":{"$error":"#N/A"}},{"$f":"VLOOKUP(H57,Results!A$8:$G$104,3,FALSE)","v":{"$error":"#N/A"}},{"$f":"VLOOKUP(H57,Results!$A$8:$G$104,2,FALSE)","v":{"$error":"#N/A"}},{"$f":"VLOOKUP(H57,Results!$A$8:$G$104,4,FALSE)","v":{"$error":"#N/A"}},{"$f":"VLOOKUP(H57,Results!$A$8:$G$104,7,FALSE)","v":{"$error":"#N/A"}},{"$f":"VLOOKUP(H57,$B$4:B57,1,FALSE)","v":{"$error":"#N/A"}}]
[null,{"$f":"Results!A61","v":0},{"$f":"Results!C61","v":0},{"$f":"Results!B61","v":0},{"$f":"Results!D61","v":0},{"$f":"Results!G61","v":""},"- vs -",{"$f":"VLOOKUP(B58,Results!$A$8:$BF$104,58,FALSE)","v":{"$error":"#N/A"}},{"$f":"VLOOKUP(H58,Results!A$8:$G$104,3,FALSE)","v":{"$error":"#N/A"}},{"$f":"VLOOKUP(H58,Results!$A$8:$G$104,2,FALSE)","v":{"$error":"#N/A"}},{"$f":"VLOOKUP(H58,Results!$A$8:$G$104,4,FALSE)","v":{"$error":"#N/A"}},{"$f":"VLOOKUP(H58,Results!$A$8:$G$104,7,FALSE)","v":{"$error":"#N/A"}},{"$f":"VLOOKUP(H58,$B$4:B58,1,FALSE)","v":{"$error":"#N/A"}}]
[null,{"$f":"Results!A62","v":0},{"$f":"Results!C62","v":0},{"$f":"Results!B62","v":0},{"$f":"Results!D62","v":0},{"$f":"Results!G62","v":""},"- vs -",{"$f":"VLOOKUP(B59,Results!$A$8:$BF$104,58,FALSE)","v":{"$error":"#N/A"}},{"$f":"VLOOKUP(H59,Results!A$8:$G$104,3,FALSE)","v":{"$error":"#N/A"}},{"$f":"VLOOKUP(H59,Results!$A$8:$G$104,2,FALSE)","v":{"$error":"#N/A"}},{"$f":"VLOOKUP(H59,Results!$A$8:$G$104,4,FALSE)","v":{"$error":"#N/A"}},{"$f":"VLOOKUP(H59,Results!$A$8:$G$104,7,FALSE)","v":{"$error":"#N/A"}},{"$f":"VLOOKUP(H59,$B$4:B59,1,FALSE)","v":{"$error":"#N/A"}}]
[null,{"$f":"Results!A63","v":0},{"$f":"Results!C63","v":0},{"$f":"Results!B63","v":0},{"$f":"Results!D63","v":0},{"$f":"Results!G63","v":""},"- vs -",{"$f":"VLOOKUP(B60,Results!$A$8:$BF$104,58,FALSE)","v":{"$error":"#N/A"}},{"$f":"VLOOKUP(H60,Results!A$8:$G$104,3,FALSE)","v":{"$error":"#N/A"}},{"$f":"VLOOKUP(H60,Results!$A$8:$G$104,2,FALSE)","v":{"$error":"#N/A"}},{"$f":"VLOOKUP(H60,Results!$A$8:$G$104,4,FALSE)","v":{"$error":"#N/A"}},{"$f":"VLOOKUP(H60,Results!$A$8:$G$104,7,FALSE)","v":{"$error":"#N/A"}},{"$f":"VLOOKUP(H60,$B$4:B60,1,FALSE)","v":{"$error":"#N/A"}}]
[null,{"$f":"Results!A64","v":0},{"$f":"Results!C64","v":0},{"$f":"Results!B64","v":0},{"$f":"Results!D64","v":0},{"$f":"Results!G64","v":""},"- vs -",{"$f":"VLOOKUP(B61,Results!$A$8:$BF$104,58,FALSE)","v":{"$error":"#N/A"}},{"$f":"VLOOKUP(H61,Results!A$8:$G$104,3,FALSE)","v":{"$error":"#N/A"}},{"$f":"VLOOKUP(H61,Results!$A$8:$G$104,2,FALSE)","v":{"$error":"#N/A"}},{"$f":"VLOOKUP(H61,Results!$A$8:$G$104,4,FALSE)","v":{"$error":"#N/A"}},{"$f":"VLOOKUP(H61,Results!$A$8:$G$104,7,FALSE)","v":{"$error":"#N/A"}},{"$f":"VLOOKUP(H61,$B$4:B61,1,FALSE)","v":{"$error":"#N/A"}}]
[null,{"$f":"Results!A65","v":0},{"$f":"Results!C65","v":0},{"$f":"Results!B65","v":0},{"$f":"Results!D65","v":0},{"$f":"Results!G65","v":""},"- vs -",{"$f":"VLOOKUP(B62,Results!$A$8:$BF$104,58,FALSE)","v":{"$error":"#N/A"}},{"$f":"VLOOKUP(H62,Results!A$8:$G$104,3,FALSE)","v":{"$error":"#N/A"}},{"$f":"VLOOKUP(H62,Results!$A$8:$G$104,2,FALSE)","v":{"$error":"#N/A"}},{"$f":"VLOOKUP(H62,Results!$A$8:$G$104,4,FALSE)","v":{"$error":"#N/A"}},{"$f":"VLOOKUP(H62,Results!$A$8:$G$104,7,FALSE)","v":{"$error":"#N/A"}},{"$f":"VLOOKUP(H62,$B$4:B62,1,FALSE)","v":{"$error":"#N/A"}}]
[null,{"$f":"Results!A66","v":0},{"$f":"Results!C66","v":0},{"$f":"Results!B66","v":0},{"$f":"Results!D66","v":0},{"$f":"Results!G66","v":""},"- vs -",{"$f":"VLOOKUP(B63,Results!$A$8:$BF$104,58,FALSE)","v":{"$error":"#N/A"}},{"$f":"VLOOKUP(H63,Results!A$8:$G$104,3,FALSE)","v":{"$error":"#N/A"}},{"$f":"VLOOKUP(H63,Results!$A$8:$G$104,2,FALSE)","v":{"$error":"#N/A"}},{"$f":"VLOOKUP(H63,Results!$A$8:$G$104,4,FALSE)","v":{"$error":"#N/A"}},{"$f":"VLOOKUP(H63,Results!$A$8:$G$104,7,FALSE)","v":{"$error":"#N/A"}},{"$f":"VLOOKUP(H63,$B$4:B63,1,FALSE)","v":{"$error":"#N/A"}}]
[null,{"$f":"Results!A67","v":0},{"$f":"Results!C67","v":0},{"$f":"Results!B67","v":0},{"$f":"Results!D67","v":0},{"$f":"Results!G67","v":""},"- vs -",{"$f":"VLOOKUP(B64,Results!$A$8:$BF$104,58,FALSE)","v":{"$error":"#N/A"}},{"$f":"VLOOKUP(H64,Results!A$8:$G$104,3,FALSE)","v":{"$error":"#N/A"}},{"$f":"VLOOKUP(H64,Results!$A$8:$G$104,2,FALSE)","v":{"$error":"#N/A"}},{"$f":"VLOOKUP(H64,Results!$A$8:$G$104,4,FALSE)","v":{"$error":"#N/A"}},{"$f":"VLOOKUP(H64,Results!$A$8:$G$104,7,FALSE)","v":{"$error":"#N/A"}}]
[null,{"$f":"Results!A68","v":0},{"$f":"Results!C68","v":0},{"$f":"Results!B68","v":0},{"$f":"Results!D68","v":0},{"$f":"Results!G68","v":""},"- vs -",{"$f":"VLOOKUP(B65,Results!$A$8:$BF$104,58,FALSE)","v":{"$error":"#N/A"}},{"$f":"VLOOKUP(H65,Results!A$8:$G$104,3,FALSE)","v":{"$error":"#N/A"}},{"$f":"VLOOKUP(H65,Results!$A$8:$G$104,2,FALSE)","v":{"$error":"#N/A"}},{"$f":"VLOOKUP(H65,Results!$A$8:$G$104,4,FALSE)","v":{"$error":"#N/A"}},{"$f":"VLOOKUP(H65,Results!$A$8:$G$104,7,FALSE)","v":{"$error":"#N/A"}}]
[null,{"$f":"Results!A69","v":0},{"$f":"Results!C69","v":0},{"$f":"Results!B69","v":0},{"$f":"Results!D69","v":0},{"$f":"Results!G69","v":""},"- vs -",{"$f":"VLOOKUP(B66,Results!$A$8:$BF$104,58,FALSE)","v":{"$error":"#N/A"}},{"$f":"VLOOKUP(H66,Results!A$8:$G$104,3,FALSE)","v":{"$error":"#N/A"}},{"$f":"VLOOKUP(H66,Results!$A$8:$G$104,2,FALSE)","v":{"$error":"#N/A"}},{"$f":"VLOOKUP(H66,Results!$A$8:$G$104,4,FALSE)","v":{"$error":"#N/A"}},{"$f":"VLOOKUP(H66,Results!$A$8:$G$104,7,FALSE)","v":{"$error":"#N/A"}}]
[null,{"$f":"Results!A70","v":0},{"$f":"Results!C70","v":0},{"$f":"Results!B70","v":0},{"$f":"Results!D70","v":0},{"$f":"Results!G70","v":""},"- vs -",{"$f":"VLOOKUP(B67,Results!$A$8:$BF$104,58,FALSE)","v":{"$error":"#N/A"}},{"$f":"VLOOKUP(H67,Results!A$8:$G$104,3,FALSE)","v":{"$error":"#N/A"}},{"$f":"VLOOKUP(H67,Results!$A$8:$G$104,2,FALSE)","v":{"$error":"#N/A"}},{"$f":"VLOOKUP(H67,Results!$A$8:$G$104,4,FALSE)","v":{"$error":"#N/A"}},{"$f":"VLOOKUP(H67,Results!$A$8:$G$104,7,FALSE)","v":{"$error":"#N/A"}}]
[null,{"$f":"Results!A71","v":0},{"$f":"Results!C71","v":0},{"$f":"Results!B71","v":0},{"$f":"Results!D71","v":0},{"$f":"Results!G71","v":""},"- vs -",{"$f":"VLOOKUP(B68,Results!$A$8:$BF$104,58,FALSE)","v":{"$error":"#N/A"}},{"$f":"VLOOKUP(H68,Results!A$8:$G$104,3,FALSE)","v":{"$error":"#N/A"}},{"$f":"VLOOKUP(H68,Results!$A$8:$G$104,2,FALSE)","v":{"$error":"#N/A"}},{"$f":"VLOOKUP(H68,Results!$A$8:$G$104,4,FALSE)","v":{"$error":"#N/A"}},{"$f":"VLOOKUP(H68,Results!$A$8:$G$104,7,FALSE)","v":{"$error":"#N/A"}}]
[null,{"$f":"Results!A72","v":0},{"$f":"Results!C72","v":0},{"$f":"Results!B72","v":0},{"$f":"Results!D72","v":0},{"$f":"Results!G72","v":""},"- vs -",{"$f":"VLOOKUP(B69,Results!$A$8:$BF$104,58,FALSE)","v":{"$error":"#N/A"}},{"$f":"VLOOKUP(H69,Results!A$8:$G$104,3,FALSE)","v":{"$error":"#N/A"}},{"$f":"VLOOKUP(H69,Results!$A$8:$G$104,2,FALSE)","v":{"$error":"#N/A"}},{"$f":"VLOOKUP(H69,Results!$A$8:$G$104,4,FALSE)","v":{"$error":"#N/A"}},{"$f":"VLOOKUP(H69,Results!$A$8:$G$104,7,FALSE)","v":{"$error":"#N/A"}}]
[null,{"$f":"Results!A73","v":0},{"$f":"Results!C73","v":0},{"$f":"Results!B73","v":0},{"$f":"Results!D73","v":0},{"$f":"Results!G73","v":""},"- vs -",{"$f":"VLOOKUP(B70,Results!$A$8:$BF$104,58,FALSE)","v":{"$error":"#N/A"}},{"$f":"VLOOKUP(H70,Results!A$8:$G$104,3,FALSE)","v":{"$error":"#N/A"}},{"$f":"VLOOKUP(H70,Results!$A$8:$G$104,2,FALSE)","v":{"$error":"#N/A"}},{"$f":"VLOOKUP(H70,Results!$A$8:$G$104,4,FALSE)","v":{"$error":"#N/A"}},{"$f":"VLOOKUP(H70,Results!$A$8:$G$104,7,FALSE)","v":{"$error":"#N/A"}}]
[null,{"$f":"Results!A74","v":0},{"$f":"Results!C74","v":0},{"$f":"Results!B74","v":0},{"$f":"Results!D74","v":0},{"$f":"Results!G74","v":""},"- vs -",{"$f":"VLOOKUP(B71,Results!$A$8:$BF$104,58,FALSE)","v":{"$error":"#N/A"}},{"$f":"VLOOKUP(H71,Results!A$8:$G$104,3,FALSE)","v":{"$error":"#N/A"}},{"$f":"VLOOKUP(H71,Results!$A$8:$G$104,2,FALSE)","v":{"$error":"#N/A"}},{"$f":"VLOOKUP(H71,Results!$A$8:$G$104,4,FALSE)","v":{"$error":"#N/A"}},{"$f":"VLOOKUP(H71,Results!$A$8:$G$104,7,FALSE)","v":{"$error":"#N/A"}}]
[null,{"$f":"Results!A75","v":0},{"$f":"Results!C75","v":0},{"$f":"Results!B75","v":0},{"$f":"Results!D75","v":0},{"$f":"Results!G75","v":""},"- vs -",{"$f":"VLOOKUP(B72,Results!$A$8:$BF$104,58,FALSE)","v":{"$error":"#N/A"}},{"$f":"VLOOKUP(H72,Results!A$8:$G$104,3,FALSE)","v":{"$error":"#N/A"}},{"$f":"VLOOKUP(H72,Results!$A$8:$G$104,2,FALSE)","v":{"$error":"#N/A"}},{"$f":"VLOOKUP(H72,Results!$A$8:$G$104,4,FALSE)","v":{"$error":"#N/A"}},{"$f":"VLOOKUP(H72,Results!$A$8:$G$104,7,FALSE)","v":{"$error":"#N/A"}}]
[null,{"$f":"Results!A76","v":0},{"$f":"Results!C76","v":0},{"$f":"Results!B76","v":0},{"$f":"Results!D76","v":0},{"$f":"Results!G76","v":""},"- vs -",{"$f":"VLOOKUP(B73,Results!$A$8:$BF$104,58,FALSE)","v":{"$error":"#N/A"}},{"$f":"VLOOKUP(H73,Results!A$8:$G$104,3,FALSE)","v":{"$error":"#N/A"}},{"$f":"VLOOKUP(H73,Results!$A$8:$G$104,2,FALSE)","v":{"$error":"#N/A"}},{"$f":"VLOOKUP(H73,Results!$A$8:$G$104,4,FALSE)","v":{"$error":"#N/A"}},{"$f":"VLOOKUP(H73,Results!$A$8:$G$104,7,FALSE)","v":{"$error":"#N/A"}}]
[null,{"$f":"Results!A77","v":0},{"$f":"Results!C77","v":0},{"$f":"Results!B77","v":0},{"$f":"Results!D77","v":0},{"$f":"Results!G77","v":""},"- vs -",{"$f":"VLOOKUP(B74,Results!$A$8:$BF$104,58,FALSE)","v":{"$error":"#N/A"}},{"$f":"VLOOKUP(H74,Results!A$8:$G$104,3,FALSE)","v":{"$error":"#N/A"}},{"$f":"VLOOKUP(H74,Results!$A$8:$G$104,2,FALSE)","v":{"$error":"#N/A"}},{"$f":"VLOOKUP(H74,Results!$A$8:$G$104,4,FALSE)","v":{"$error":"#N/A"}},{"$f":"VLOOKUP(H74,Results!$A$8:$G$104,7,FALSE)","v":{"$error":"#N/A"}}]
[null,{"$f":"Results!A78","v":0},{"$f":"Results!C78","v":0},{"$f":"Results!B78","v":0},{"$f":"Results!D78","v":0},{"$f":"Results!G78","v":""},"- vs -",{"$f":"VLOOKUP(B75,Results!$A$8:$BF$104,58,FALSE)","v":{"$error":"#N/A"}},{"$f":"VLOOKUP(H75,Results!A$8:$G$104,3,FALSE)","v":{"$error":"#N/A"}},{"$f":"VLOOKUP(H75,Results!$A$8:$G$104,2,FALSE)","v":{"$error":"#N/A"}},{"$f":"VLOOKUP(H75,Results!$A$8:$G$104,4,FALSE)","v":{"$error":"#N/A"}},{"$f":"VLOOKUP(H75,Results!$A$8:$G$104,7,FALSE)","v":{"$error":"#N/A"}}]
[null,{"$f":"Results!A79","v":0},{"$f":"Results!C79","v":0},{"$f":"Results!B79","v":0},{"$f":"Results!D79","v":0},{"$f":"Results!G79","v":""},"- vs -",{"$f":"VLOOKUP(B76,Results!$A$8:$BF$104,58,FALSE)","v":{"$error":"#N/A"}},{"$f":"VLOOKUP(H76,Results!A$8:$G$104,3,FALSE)","v":{"$error":"#N/A"}},{"$f":"VLOOKUP(H76,Results!$A$8:$G$104,2,FALSE)","v":{"$error":"#N/A"}},{"$f":"VLOOKUP(H76,Results!$A$8:$G$104,4,FALSE)","v":{"$error":"#N/A"}},{"$f":"VLOOKUP(H76,Results!$A$8:$G$104,7,FALSE)","v":{"$error":"#N/A"}}]
[null,{"$f":"Results!A80","v":0},{"$f":"Results!C80","v":0},{"$f":"Results!B80","v":0},{"$f":"Results!D80","v":0},{"$f":"Results!G80","v":""},"- vs -",{"$f":"VLOOKUP(B77,Results!$A$8:$BF$104,58,FALSE)","v":{"$error":"#N/A"}},{"$f":"VLOOKUP(H77,Results!A$8:$G$104,3,FALSE)","v":{"$error":"#N/A"}},{"$f":"VLOOKUP(H77,Results!$A$8:$G$104,2,FALSE)","v":{"$error":"#N/A"}},{"$f":"VLOOKUP(H77,Results!$A$8:$G$104,4,FALSE)","v":{"$error":"#N/A"}},{"$f":"VLOOKUP(H77,Results!$A$8:$G$104,7,FALSE)","v":{"$error":"#N/A"}}]
[null,{"$f":"Results!A81","v":0},{"$f":"Results!C81","v":0},{"$f":"Results!B81","v":0},{"$f":"Results!D81","v":0},{"$f":"Results!G81","v":""},"- vs -",{"$f":"VLOOKUP(B78,Results!$A$8:$BF$104,58,FALSE)","v":{"$error":"#N/A"}},{"$f":"VLOOKUP(H78,Results!A$8:$G$104,3,FALSE)","v":{"$error":"#N/A"}},{"$f":"VLOOKUP(H78,Results!$A$8:$G$104,2,FALSE)","v":{"$error":"#N/A"}},{"$f":"VLOOKUP(H78,Results!$A$8:$G$104,4,FALSE)","v":{"$error":"#N/A"}},{"$f":"VLOOKUP(H78,Results!$A$8:$G$104,7,FALSE)","v":{"$error":"#N/A"}}]
[null,{"$f":"Results!A82","v":0},{"$f":"Results!C82","v":0},{"$f":"Results!B82","v":0},{"$f":"Results!D82","v":0},{"$f":"Results!G82","v":""},"- vs -",{"$f":"VLOOKUP(B79,Results!$A$8:$BF$104,58,FALSE)","v":{"$error":"#N/A"}},{"$f":"VLOOKUP(H79,Results!A$8:$G$104,3,FALSE)","v":{"$error":"#N/A"}},{"$f":"VLOOKUP(H79,Results!$A$8:$G$104,2,FALSE)","v":{"$error":"#N/A"}},{"$f":"VLOOKUP(H79,Results!$A$8:$G$104,4,FALSE)","v":{"$error":"#N/A"}},{"$f":"VLOOKUP(H79,Results!$A$8:$G$104,7,FALSE)","v":{"$error":"#N/A"}}]
[null,{"$f":"Results!A83","v":0},{"$f":"Results!C83","v":0},{"$f":"Results!B83","v":0},{"$f":"Results!D83","v":0},{"$f":"Results!G83","v":""},"- vs -",{"$f":"VLOOKUP(B80,Results!$A$8:$BF$104,58,FALSE)","v":{"$error":"#N/A"}},{"$f":"VLOOKUP(H80,Results!A$8:$G$104,3,FALSE)","v":{"$error":"#N/A"}},{"$f":"VLOOKUP(H80,Results!$A$8:$G$104,2,FALSE)","v":{"$error":"#N/A"}},{"$f":"VLOOKUP(H80,Results!$A$8:$G$104,4,FALSE)","v":{"$error":"#N/A"}},{"$f":"VLOOKUP(H80,Results!$A$8:$G$104,7,FALSE)","v":{"$error":"#N/A"}}]
[null,{"$f":"Results!A84","v":0},{"$f":"Results!C84","v":0},{"$f":"Results!B84","v":0},{"$f":"Results!D84","v":0},{"$f":"Results!G84","v":""},"- vs -",{"$f":"VLOOKUP(B81,Results!$A$8:$BF$104,58,FALSE)","v":{"$error":"#N/A"}},{"$f":"VLOOKUP(H81,Results!A$8:$G$104,3,FALSE)","v":{"$error":"#N/A"}},{"$f":"VLOOKUP(H81,Results!$A$8:$G$104,2,FALSE)","v":{"$error":"#N/A"}},{"$f":"VLOOKUP(H81,Results!$A$8:$G$104,4,FALSE)","v":{"$error":"#N/A"}},{"$f":"VLOOKUP(H81,Results!$A$8:$G$104,7,FALSE)","v":{"$error":"#N/A"}}]
[null,{"$f":"Results!A85","v":0},{"$f":"Results!C85","v":0},{"$f":"Results!B85","v":0},{"$f":"Results!D85","v":0},{"$f":"Results!G85","v":""},"- vs -",{"$f":"VLOOKUP(B82,Results!$A$8:$BF$104,58,FALSE)","v":{"$error":"#N/A"}},{"$f":"VLOOKUP(H82,Results!A$8:$G$104,3,FALSE)","v":{"$error":"#N/A"}},{"$f":"VLOOKUP(H82,Results!$A$8:$G$104,2,FALSE)","v":{"$error":"#N/A"}},{"$f":"VLOOKUP(H82,Results!$A$8:$G$104,4,FALSE)","v":{"$error":"#N/A"}},{"$f":"VLOOKUP(H82,Results!$A$8:$G$104,7,FALSE)","v":{"$error":"#N/A"}}]
[null,{"$f":"Results!A86","v":0},{"$f":"Results!C86","v":0},{"$f":"Results!B86","v":0},{"$f":"Results!D86","v":0},{"$f":"Results!G86","v":""},"- vs -",{"$f":"VLOOKUP(B83,Results!$A$8:$BF$104,58,FALSE)","v":{"$error":"#N/A"}},{"$f":"VLOOKUP(H83,Results!A$8:$G$104,3,FALSE)","v":{"$error":"#N/A"}},{"$f":"VLOOKUP(H83,Results!$A$8:$G$104,2,FALSE)","v":{"$error":"#N/A"}},{"$f":"VLOOKUP(H83,Results!$A$8:$G$104,4,FALSE)","v":{"$error":"#N/A"}},{"$f":"VLOOKUP(H83,Results!$A$8:$G$104,7,FALSE)","v":{"$error":"#N/A"}}]
[null,{"$f":"Results!A87","v":0},{"$f":"Results!C87","v":0},{"$f":"Results!B87","v":0},{"$f":"Results!D87","v":0},{"$f":"Results!G87","v":""},"- vs -",{"$f":"VLOOKUP(B84,Results!$A$8:$BF$104,58,FALSE)","v":{"$error":"#N/A"}},{"$f":"VLOOKUP(H84,Results!A$8:$G$104,3,FALSE)","v":{"$error":"#N/A"}},{"$f":"VLOOKUP(H84,Results!$A$8:$G$104,2,FALSE)","v":{"$error":"#N/A"}},{"$f":"VLOOKUP(H84,Results!$A$8:$G$104,4,FALSE)","v":{"$error":"#N/A"}},{"$f":"VLOOKUP(H84,Results!$A$8:$G$104,7,FALSE)","v":{"$error":"#N/A"}}]
[null,{"$f":"Results!A88","v":0},{"$f":"Results!C88","v":0},{"$f":"Results!B88","v":0},{"$f":"Results!D88","v":0},{"$f":"Results!G88","v":""},"- vs -",{"$f":"VLOOKUP(B85,Results!$A$8:$BF$104,58,FALSE)","v":{"$error":"#N/A"}},{"$f":"VLOOKUP(H85,Results!A$8:$G$104,3,FALSE)","v":{"$error":"#N/A"}},{"$f":"VLOOKUP(H85,Results!$A$8:$G$104,2,FALSE)","v":{"$error":"#N/A"}},{"$f":"VLOOKUP(H85,Results!$A$8:$G$104,4,FALSE)","v":{"$error":"#N/A"}},{"$f":"VLOOKUP(H85,Results!$A$8:$G$104,7,FALSE)","v":{"$error":"#N/A"}}]
[null,{"$f":"Results!A89","v":0},{"$f":"Results!C89","v":0},{"$f":"Results!B89","v":0},{"$f":"Results!D89","v":0},{"$f":"Results!G89","v":""},"- vs -",{"$f":"VLOOKUP(B86,Results!$A$8:$BF$104,58,FALSE)","v":{"$error":"#N/A"}},{"$f":"VLOOKUP(H86,Results!A$8:$G$104,3,FALSE)","v":{"$error":"#N/A"}},{"$f":"VLOOKUP(H86,Results!$A$8:$G$104,2,FALSE)","v":{"$error":"#N/A"}},{"$f":"VLOOKUP(H86,Results!$A$8:$G$104,4,FALSE)","v":{"$error":"#N/A"}},{"$f":"VLOOKUP(H86,Results!$A$8:$G$104,7,FALSE)","v":{"$error":"#N/A"}}]
[null,{"$f":"Results!A90","v":0},{"$f":"Results!C90","v":0},{"$f":"Results!B90","v":0},{"$f":"Results!D90","v":0},{"$f":"Results!G90","v":""},"- vs -",{"$f":"VLOOKUP(B87,Results!$A$8:$BF$104,58,FALSE)","v":{"$error":"#N/A"}},{"$f":"VLOOKUP(H87,Results!A$8:$G$104,3,FALSE)","v":{"$error":"#N/A"}},{"$f":"VLOOKUP(H87,Results!$A$8:$G$104,2,FALSE)","v":{"$error":"#N/A"}},{"$f":"VLOOKUP(H87,Results!$A$8:$G$104,4,FALSE)","v":{"$error":"#N/A"}},{"$f":"VLOOKUP(H87,Results!$A$8:$G$104,7,FALSE)","v":{"$error":"#N/A"}}]
[null,{"$f":"Results!A91","v":0},{"$f":"Results!C91","v":0},{"$f":"Results!B91","v":0},{"$f":"Results!D91","v":0},{"$f":"Results!G91","v":""},"- vs -",{"$f":"VLOOKUP(B88,Results!$A$8:$BF$104,58,FALSE)","v":{"$error":"#N/A"}},{"$f":"VLOOKUP(H88,Results!A$8:$G$104,3,FALSE)","v":{"$error":"#N/A"}},{"$f":"VLOOKUP(H88,Results!$A$8:$G$104,2,FALSE)","v":{"$error":"#N/A"}},{"$f":"VLOOKUP(H88,Results!$A$8:$G$104,4,FALSE)","v":{"$error":"#N/A"}},{"$f":"VLOOKUP(H88,Results!$A$8:$G$104,7,FALSE)","v":{"$error":"#N/A"}}]
[null,{"$f":"Results!A92","v":0},{"$f":"Results!C92","v":0},{"$f":"Results!B92","v":0},{"$f":"Results!D92","v":0},{"$f":"Results!G92","v":""},"- vs -",{"$f":"VLOOKUP(B89,Results!$A$8:$BF$104,58,FALSE)","v":{"$error":"#N/A"}},{"$f":"VLOOKUP(H89,Results!A$8:$G$104,3,FALSE)","v":{"$error":"#N/A"}},{"$f":"VLOOKUP(H89,Results!$A$8:$G$104,2,FALSE)","v":{"$error":"#N/A"}},{"$f":"VLOOKUP(H89,Results!$A$8:$G$104,4,FALSE)","v":{"$error":"#N/A"}},{"$f":"VLOOKUP(H89,Results!$A$8:$G$104,7,FALSE)","v":{"$error":"#N/A"}}]
[null,{"$f":"Results!A93","v":0},{"$f":"Results!C93","v":0},{"$f":"Results!B93","v":0},{"$f":"Results!D93","v":0},{"$f":"Results!G93","v":""},"- vs -",{"$f":"VLOOKUP(B90,Results!$A$8:$BF$104,58,FALSE)","v":{"$error":"#N/A"}},{"$f":"VLOOKUP(H90,Results!A$8:$G$104,3,FALSE)","v":{"$error":"#N/A"}},{"$f":"VLOOKUP(H90,Results!$A$8:$G$104,2,FALSE)","v":{"$error":"#N/A"}},{"$f":"VLOOKUP(H90,Results!$A$8:$G$104,4,FALSE)","v":{"$error":"#N/A"}},{"$f":"VLOOKUP(H90,Results!$A$8:$G$104,7,FALSE)","v":{"$error":"#N/A"}}]
[null,{"$f":"Results!A94","v":0},{"$f":"Results!C94","v":0},{"$f":"Results!B94","v":0},{"$f":"Results!D94","v":0},{"$f":"Results!G94","v":""},"- vs -",{"$f":"VLOOKUP(B91,Results!$A$8:$BF$104,58,FALSE)","v":{"$error":"#N/A"}},{"$f":"VLOOKUP(H91,Results!A$8:$G$104,3,FALSE)","v":{"$error":"#N/A"}},{"$f":"VLOOKUP(H91,Results!$A$8:$G$104,2,FALSE)","v":{"$error":"#N/A"}},{"$f":"VLOOKUP(H91,Results!$A$8:$G$104,4,FALSE)","v":{"$error":"#N/A"}},{"$f":"VLOOKUP(H91,Results!$A$8:$G$104,7,FALSE)","v":{"$error":"#N/A"}}]
[null,{"$f":"Results!A95","v":0},{"$f":"Results!C95","v":0},{"$f":"Results!B95","v":0},{"$f":"Results!D95","v":0},{"$f":"Results!G95","v":""},"- vs -",{"$f":"VLOOKUP(B92,Results!$A$8:$BF$104,58,FALSE)","v":{"$error":"#N/A"}},{"$f":"VLOOKUP(H92,Results!A$8:$G$104,3,FALSE)","v":{"$error":"#N/A"}},{"$f":"VLOOKUP(H92,Results!$A$8:$G$104,2,FALSE)","v":{"$error":"#N/A"}},{"$f":"VLOOKUP(H92,Results!$A$8:$G$104,4,FALSE)","v":{"$error":"#N/A"}},{"$f":"VLOOKUP(H92,Results!$A$8:$G$104,7,FALSE)","v":{"$error":"#N/A"}}]
[null,{"$f":"Results!A96","v":0},{"$f":"Results!C96","v":0},{"$f":"Results!B96","v":0},{"$f":"Results!D96","v":0},{"$f":"Results!G96","v":""},"- vs -",{"$f":"VLOOKUP(B93,Results!$A$8:$BF$104,58,FALSE)","v":{"$error":"#N/A"}},{"$f":"VLOOKUP(H93,Results!A$8:$G$104,3,FALSE)","v":{"$error":"#N/A"}},{"$f":"VLOOKUP(H93,Results!$A$8:$G$104,2,FALSE)","v":{"$error":"#N/A"}},{"$f":"VLOOKUP(H93,Results!$A$8:$G$104,4,FALSE)","v":{"$error":"#N/A"}},{"$f":"VLOOKUP(H93,Results!$A$8:$G$104,7,FALSE)","v":{"$error":"#N/A"}}]
[null,{"$f":"Results!A97","v":0},{"$f":"Results!C97","v":0},{"$f":"Results!B97","v":0},{"$f":"Results!D97","v":0},{"$f":"Results!G97","v":""},"- vs -",{"$f":"VLOOKUP(B94,Results!$A$8:$BF$104,58,FALSE)","v":{"$error":"#N/A"}},{"$f":"VLOOKUP(H94,Results!A$8:$G$104,3,FALSE)","v":{"$error":"#N/A"}},{"$f":"VLOOKUP(H94,Results!$A$8:$G$104,2,FALSE)","v":{"$error":"#N/A"}},{"$f":"VLOOKUP(H94,Results!$A$8:$G$104,4,FALSE)","v":{"$error":"#N/A"}},{"$f":"VLOOKUP(H94,Results!$A$8:$G$104,7,FALSE)","v":{"$error":"#N/A"}}]
[null,{"$f":"Results!A98","v":0},{"$f":"Results!C98","v":0},{"$f":"Results!B98","v":0},{"$f":"Results!D98","v":0},{"$f":"Results!G98","v":""},"- vs -",{"$f":"VLOOKUP(B95,Results!$A$8:$BF$104,58,FALSE)","v":{"$error":"#N/A"}},{"$f":"VLOOKUP(H95,Results!A$8:$G$104,3,FALSE)","v":{"$error":"#N/A"}},{"$f":"VLOOKUP(H95,Results!$A$8:$G$104,2,FALSE)","v":{"$error":"#N/A"}},{"$f":"VLOOKUP(H95,Results!$A$8:$G$104,4,FALSE)","v":{"$error":"#N/A"}},{"$f":"VLOOKUP(H95,Results!$A$8:$G$104,7,FALSE)","v":{"$error":"#N/A"}}]
[null,{"$f":"Results!A99","v":0},{"$f":"Results!C99","v":0},{"$f":"Results!B99","v":0},{"$f":"Results!D99","v":0},{"$f":"Results!G99","v":""},"- vs -",{"$f":"VLOOKUP(B96,Results!$A$8:$BF$104,58,FALSE)","v":{"$error":"#N/A"}},{"$f":"VLOOKUP(H96,Results!A$8:$G$104,3,FALSE)","v":{"$error":"#N/A"}},{"$f":"VLOOKUP(H96,Results!$A$8:$G$104,2,FALSE)","v":{"$error":"#N/A"}},{"$f":"VLOOKUP(H96,Results!$A$8:$G$104,4,FALSE)","v":{"$error":"#N/A"}},{"$f":"VLOOKUP(H96,Results!$A$8:$G$104,7,FALSE)","v":{"$error":"#N/A"}}]
[null,{"$f":"Results!A100","v":0},{"$f":"Results!C100","v":0},{"$f":"Results!B100","v":0},{"$f":"Results!D100","v":0},{"$f":"Results!G100","v":""},"- vs -",{"$f":"VLOOKUP(B97,Results!$A$8:$BF$104,58,FALSE)","v":{"$error":"#N/A"}},{"$f":"VLOOKUP(H97,Results!A$8:$G$104,3,FALSE)","v":{"$error":"#N/A"}},{"$f":"VLOOKUP(H97,Results!$A$8:$G$104,2,FALSE)","v":{"$error":"#N/A"}},{"$f":"VLOOKUP(H97,Results!$A$8:$G$104,4,FALSE)","v":{"$error":"#N/A"}},{"$f":"VLOOKUP(H97,Results!$A$8:$G$104,7,FALSE)","v":{"$error":"#N/A"}}]
[null,{"$f":"Results!A101","v":0},{"$f":"Results!C101","v":0},{"$f":"Results!B101","v":0},{"$f":"Results!D101","v":0},{"$f":"Results!G101","v":""},"- vs -",{"$f":"VLOOKUP(B98,Results!$A$8:$BF$104,58,FALSE)","v":{"$error":"#N/A"}},{"$f":"VLOOKUP(H98,Results!A$8:$G$104,3,FALSE)","v":{"$error":"#N/A"}},{"$f":"VLOOKUP(H98,Results!$A$8:$G$104,2,FALSE)","v":{"$error":"#N/A"}},{"$f":"VLOOKUP(H98,Results!$A$8:$G$104,4,FALSE)","v":{"$error":"#N/A"}},{"$f":"VLOOKUP(H98,Results!$A$8:$G$104,7,FALSE)","v":{"$error":"#N/A"}}]
[null,{"$f":"Results!A102","v":0},{"$f":"Results!C102","v":0},{"$f":"Results!B102","v":0},{"$f":"Results!D102","v":0},{"$f":"Results!G102","v":""},"- vs -",{"$f":"VLOOKUP(B99,Results!$A$8:$BF$104,58,FALSE)","v":{"$error":"#N/A"}},{"$f":"VLOOKUP(H99,Results!A$8:$G$104,3,FALSE)","v":{"$error":"#N/A"}},{"$f":"VLOOKUP(H99,Results!$A$8:$G$104,2,FALSE)","v":{"$error":"#N/A"}},{"$f":"VLOOKUP(H99,Results!$A$8:$G$104,4,FALSE)","v":{"$error":"#N/A"}},{"$f":"VLOOKUP(H99,Results!$A$8:$G$104,7,FALSE)","v":{"$error":"#N/A"}}]
[null,{"$f":"Results!A103","v":0},{"$f":"Results!C103","v":0},{"$f":"Results!B103","v":0},{"$f":"Results!D103","v":0},{"$f":"Results!G103","v":""},"- vs -",{"$f":"VLOOKUP(B100,Results!$A$8:$BF$104,58,FALSE)","v":{"$error":"#N/A"}},{"$f":"VLOOKUP(H100,Results!A$8:$G$104,3,FALSE)","v":{"$error":"#N/A"}},{"$f":"VLOOKUP(H100,Results!$A$8:$G$104,2,FALSE)","v":{"$error":"#N/A"}},{"$f":"VLOOKUP(H100,Results!$A$8:$G$104,4,FALSE)","v":{"$error":"#N/A"}},{"$f":"VLOOKUP(H100,Results!$A$8:$G$104,7,FALSE)","v":{"$error":"#N/A"}}]
[null,{"$f":"Results!A104","v":0},{"$f":"Results!C104","v":0},{"$f":"Results!B104","v":0},{"$f":"Results!D104","v":0},{"$f":"Results!G104","v":""},"- vs -",{"$f":"VLOOKUP(B101,Results!$A$8:$BF$104,58,FALSE)","v":{"$error":"#N/A"}},{"$f":"VLOOKUP(H101,Results!A$8:$G$104,3,FALSE)","v":{"$error":"#N/A"}},{"$f":"VLOOKUP(H101,Results!$A$8:$G$104,2,FALSE)","v":{"$error":"#N/A"}},{"$f":"VLOOKUP(H101,Results!$A$8:$G$104,4,FALSE)","v":{"$error":"#N/A"}},{"$f":"VLOOKUP(H101,Results!$A$8:$G$104,7,FALSE)","v":{"$error":"#N/A"}}]
[null,{"$f":"Results!A105","v":0},{"$f":"Results!C105","v":0},{"$f":"Results!B105","v":0},{"$f":"Results!D105","v":0},{"$f":"Results!G105","v":""},"- vs -",{"$f":"VLOOKUP(B102,Results!$A$8:$BF$104,58,FALSE)","v":{"$error":"#N/A"}},{"$f":"VLOOKUP(H102,Results!A$8:$G$104,3,FALSE)","v":{"$error":"#N/A"}},{"$f":"VLOOKUP(H102,Results!$A$8:$G$104,2,FALSE)","v":{"$error":"#N/A"}},{"$f":"VLOOKUP(H102,Results!$A$8:$G$104,4,FALSE)","v":{"$error":"#N/A"}},{"$f":"VLOOKUP(H102,Results!$A$8:$G$104,7,FALSE)","v":{"$error":"#N/A"}}]
[null,{"$f":"Results!A106","v":0},{"$f":"Results!C106","v":0},{"$f":"Results!B106","v":0},{"$f":"Results!D106","v":0},{"$f":"Results!G106","v":""},"- vs -",{"$f":"VLOOKUP(B103,Results!$A$8:$BF$104,58,FALSE)","v":{"$error":"#N/A"}},{"$f":"VLOOKUP(H103,Results!A$8:$G$104,3,FALSE)","v":{"$error":"#N/A"}},{"$f":"VLOOKUP(H103,Results!$A$8:$G$104,2,FALSE)","v":{"$error":"#N/A"}},{"$f":"VLOOKUP(H103,Results!$A$8:$G$104,4,FALSE)","v":{"$error":"#N/A"}},{"$f":"VLOOKUP(H103,Results!$A$8:$G$104,7,FALSE)","v":{"$error":"#N/A"}}]
[null,{"$f":"Results!A107","v":0},{"$f":"Results!C107","v":0},{"$f":"Results!B107","v":0},{"$f":"Results!D107","v":0},{"$f":"Results!G107","v":""},"- vs -",{"$f":"VLOOKUP(B104,Results!$A$8:$BF$104,58,FALSE)","v":{"$error":"#N/A"}},{"$f":"VLOOKUP(H104,Results!A$8:$G$104,3,FALSE)","v":{"$error":"#N/A"}},{"$f":"VLOOKUP(H104,Results!$A$8:$G$104,2,FALSE)","v":{"$error":"#N/A"}},{"$f":"VLOOKUP(H104,Results!$A$8:$G$104,4,FALSE)","v":{"$error":"#N/A"}},{"$f":"VLOOKUP(H104,Results!$A$8:$G$104,7,FALSE)","v":{"$error":"#N/A"}}]

{"sheet":"Round 9","index":17,"n_rows":69,"n_cols":13,"rows_kept":69}
[{"$nulls":4},"Round 9 Draw"]
[null,null,{"$f":"Results!B3","v":0}]
[null,null,{"$f":"Results!B4","v":"Classical Period"}]
[{"$nulls":12},"VALID?"]
[null,{"$f":"Results!A8","v":0},{"$f":"Results!C8","v":0},{"$f":"Results!B8","v":0},{"$f":"Results!D8","v":0},{"$f":"Results!G8","v":""},"- vs -",{"$f":"VLOOKUP(B5,Results!$A$8:$BM$104,65,FALSE)","v":{"$error":"#N/A"}},{"$f":"VLOOKUP(H5,Results!A$8:$G$104,3,FALSE)","v":{"$error":"#N/A"}},{"$f":"VLOOKUP(H5,Results!$A$8:$G$104,2,FALSE)","v":{"$error":"#N/A"}},{"$f":"VLOOKUP(H5,Results!$A$8:$G$104,4,FALSE)","v":{"$error":"#N/A"}},{"$f":"VLOOKUP(H5,Results!$A$8:$G$104,7,FALSE)","v":{"$error":"#N/A"}},{"$f":"VLOOKUP(H5,$B$4:B5,1,FALSE)","v":{"$error":"#N/A"}}]
[null,{"$f":"Results!A9","v":0},{"$f":"Results!C9","v":0},{"$f":"Results!B9","v":0},{"$f":"Results!D9","v":0},{"$f":"Results!G9","v":""},"- vs -",{"$f":"VLOOKUP(B6,Results!$A$8:$BM$104,65,FALSE)","v":{"$error":"#N/A"}},{"$f":"VLOOKUP(H6,Results!A$8:$G$104,3,FALSE)","v":{"$error":"#N/A"}},{"$f":"VLOOKUP(H6,Results!$A$8:$G$104,2,FALSE)","v":{"$error":"#N/A"}},{"$f":"VLOOKUP(H6,Results!$A$8:$G$104,4,FALSE)","v":{"$error":"#N/A"}},{"$f":"VLOOKUP(H6,Results!$A$8:$G$104,7,FALSE)","v":{"$error":"#N/A"}},{"$f":"VLOOKUP(H6,$B$4:B6,1,FALSE)","v":{"$error":"#N/A"}}]
[null,{"$f":"Results!A10","v":0},{"$f":"Results!C10","v":0},{"$f":"Results!B10","v":0},{"$f":"Results!D10","v":0},{"$f":"Results!G10","v":""},"- vs -",{"$f":"VLOOKUP(B7,Results!$A$8:$BM$104,65,FALSE)","v":{"$error":"#N/A"}},{"$f":"VLOOKUP(H7,Results!A$8:$G$104,3,FALSE)","v":{"$error":"#N/A"}},{"$f":"VLOOKUP(H7,Results!$A$8:$G$104,2,FALSE)","v":{"$error":"#N/A"}},{"$f":"VLOOKUP(H7,Results!$A$8:$G$104,4,FALSE)","v":{"$error":"#N/A"}},{"$f":"VLOOKUP(H7,Results!$A$8:$G$104,7,FALSE)","v":{"$error":"#N/A"}},{"$f":"VLOOKUP(H7,$B$4:B7,1,FALSE)","v":{"$error":"#N/A"}}]
[null,{"$f":"Results!A11","v":0},{"$f":"Results!C11","v":0},{"$f":"Results!B11","v":0},{"$f":"Results!D11","v":0},{"$f":"Results!G11","v":""},"- vs -",{"$f":"VLOOKUP(B8,Results!$A$8:$BM$104,65,FALSE)","v":{"$error":"#N/A"}},{"$f":"VLOOKUP(H8,Results!A$8:$G$104,3,FALSE)","v":{"$error":"#N/A"}},{"$f":"VLOOKUP(H8,Results!$A$8:$G$104,2,FALSE)","v":{"$error":"#N/A"}},{"$f":"VLOOKUP(H8,Results!$A$8:$G$104,4,FALSE)","v":{"$error":"#N/A"}},{"$f":"VLOOKUP(H8,Results!$A$8:$G$104,7,FALSE)","v":{"$error":"#N/A"}},{"$f":"VLOOKUP(H8,$B$4:B8,1,FALSE)","v":{"$error":"#N/A"}}]
[null,{"$f":"Results!A12","v":0},{"$f":"Results!C12","v":0},{"$f":"Results!B12","v":0},{"$f":"Results!D12","v":0},{"$f":"Results!G12","v":""},"- vs -",{"$f":"VLOOKUP(B9,Results!$A$8:$BM$104,65,FALSE)","v":{"$error":"#N/A"}},{"$f":"VLOOKUP(H9,Results!A$8:$G$104,3,FALSE)","v":{"$error":"#N/A"}},{"$f":"VLOOKUP(H9,Results!$A$8:$G$104,2,FALSE)","v":{"$error":"#N/A"}},{"$f":"VLOOKUP(H9,Results!$A$8:$G$104,4,FALSE)","v":{"$error":"#N/A"}},{"$f":"VLOOKUP(H9,Results!$A$8:$G$104,7,FALSE)","v":{"$error":"#N/A"}},{"$f":"VLOOKUP(H9,$B$4:B9,1,FALSE)","v":{"$error":"#N/A"}}]
[null,{"$f":"Results!A13","v":0},{"$f":"Results!C13","v":0},{"$f":"Results!B13","v":0},{"$f":"Results!D13","v":0},{"$f":"Results!G13","v":""},"- vs -",{"$f":"VLOOKUP(B10,Results!$A$8:$BM$104,65,FALSE)","v":{"$error":"#N/A"}},{"$f":"VLOOKUP(H10,Results!A$8:$G$104,3,FALSE)","v":{"$error":"#N/A"}},{"$f":"VLOOKUP(H10,Results!$A$8:$G$104,2,FALSE)","v":{"$error":"#N/A"}},{"$f":"VLOOKUP(H10,Results!$A$8:$G$104,4,FALSE)","v":{"$error":"#N/A"}},{"$f":"VLOOKUP(H10,Results!$A$8:$G$104,7,FALSE)","v":{"$error":"#N/A"}},{"$f":"VLOOKUP(H10,$B$4:B10,1,FALSE)","v":{"$error":"#N/A"}}]
[null,{"$f":"Results!A14","v":0},{"$f":"Results!C14","v":0},{"$f":"Results!B14","v":0},{"$f":"Results!D14","v":0},{"$f":"Results!G14","v":""},"- vs -",{"$f":"VLOOKUP(B11,Results!$A$8:$BM$104,65,FALSE)","v":{"$error":"#N/A"}},{"$f":"VLOOKUP(H11,Results!A$8:$G$104,3,FALSE)","v":{"$error":"#N/A"}},{"$f":"VLOOKUP(H11,Results!$A$8:$G$104,2,FALSE)","v":{"$error":"#N/A"}},{"$f":"VLOOKUP(H11,Results!$A$8:$G$104,4,FALSE)","v":{"$error":"#N/A"}},{"$f":"VLOOKUP(H11,Results!$A$8:$G$104,7,FALSE)","v":{"$error":"#N/A"}},{"$f":"VLOOKUP(H11,$B$4:B11,1,FALSE)","v":{"$error":"#N/A"}}]
[null,{"$f":"Results!A15","v":0},{"$f":"Results!C15","v":0},{"$f":"Results!B15","v":0},{"$f":"Results!D15","v":0},{"$f":"Results!G15","v":""},"- vs -",{"$f":"VLOOKUP(B12,Results!$A$8:$BM$104,65,FALSE)","v":{"$error":"#N/A"}},{"$f":"VLOOKUP(H12,Results!A$8:$G$104,3,FALSE)","v":{"$error":"#N/A"}},{"$f":"VLOOKUP(H12,Results!$A$8:$G$104,2,FALSE)","v":{"$error":"#N/A"}},{"$f":"VLOOKUP(H12,Results!$A$8:$G$104,4,FALSE)","v":{"$error":"#N/A"}},{"$f":"VLOOKUP(H12,Results!$A$8:$G$104,7,FALSE)","v":{"$error":"#N/A"}},{"$f":"VLOOKUP(H12,$B$4:B12,1,FALSE)","v":{"$error":"#N/A"}}]
[null,{"$f":"Results!A16","v":0},{"$f":"Results!C16","v":0},{"$f":"Results!B16","v":0},{"$f":"Results!D16","v":0},{"$f":"Results!G16","v":""},"- vs -",{"$f":"VLOOKUP(B13,Results!$A$8:$BM$104,65,FALSE)","v":{"$error":"#N/A"}},{"$f":"VLOOKUP(H13,Results!A$8:$G$104,3,FALSE)","v":{"$error":"#N/A"}},{"$f":"VLOOKUP(H13,Results!$A$8:$G$104,2,FALSE)","v":{"$error":"#N/A"}},{"$f":"VLOOKUP(H13,Results!$A$8:$G$104,4,FALSE)","v":{"$error":"#N/A"}},{"$f":"VLOOKUP(H13,Results!$A$8:$G$104,7,FALSE)","v":{"$error":"#N/A"}},{"$f":"VLOOKUP(H13,$B$4:B13,1,FALSE)","v":{"$error":"#N/A"}}]
[null,{"$f":"Results!A17","v":0},{"$f":"Results!C17","v":0},{"$f":"Results!B17","v":0},{"$f":"Results!D17","v":0},{"$f":"Results!G17","v":""},"- vs -",{"$f":"VLOOKUP(B14,Results!$A$8:$BM$104,65,FALSE)","v":{"$error":"#N/A"}},{"$f":"VLOOKUP(H14,Results!A$8:$G$104,3,FALSE)","v":{"$error":"#N/A"}},{"$f":"VLOOKUP(H14,Results!$A$8:$G$104,2,FALSE)","v":{"$error":"#N/A"}},{"$f":"VLOOKUP(H14,Results!$A$8:$G$104,4,FALSE)","v":{"$error":"#N/A"}},{"$f":"VLOOKUP(H14,Results!$A$8:$G$104,7,FALSE)","v":{"$error":"#N/A"}},{"$f":"VLOOKUP(H14,$B$4:B14,1,FALSE)","v":{"$error":"#N/A"}}]
[null,{"$f":"Results!A18","v":0},{"$f":"Results!C18","v":0},{"$f":"Results!B18","v":0},{"$f":"Results!D18","v":0},{"$f":"Results!G18","v":""},"- vs -",{"$f":"VLOOKUP(B15,Results!$A$8:$BM$104,65,FALSE)","v":{"$error":"#N/A"}},{"$f":"VLOOKUP(H15,Results!A$8:$G$104,3,FALSE)","v":{"$error":"#N/A"}},{"$f":"VLOOKUP(H15,Results!$A$8:$G$104,2,FALSE)","v":{"$error":"#N/A"}},{"$f":"VLOOKUP(H15,Results!$A$8:$G$104,4,FALSE)","v":{"$error":"#N/A"}},{"$f":"VLOOKUP(H15,Results!$A$8:$G$104,7,FALSE)","v":{"$error":"#N/A"}},{"$f":"VLOOKUP(H15,$B$4:B15,1,FALSE)","v":{"$error":"#N/A"}}]
[null,{"$f":"Results!A19","v":0},{"$f":"Results!C19","v":0},{"$f":"Results!B19","v":0},{"$f":"Results!D19","v":0},{"$f":"Results!G19","v":""},"- vs -",{"$f":"VLOOKUP(B16,Results!$A$8:$BM$104,65,FALSE)","v":{"$error":"#N/A"}},{"$f":"VLOOKUP(H16,Results!A$8:$G$104,3,FALSE)","v":{"$error":"#N/A"}},{"$f":"VLOOKUP(H16,Results!$A$8:$G$104,2,FALSE)","v":{"$error":"#N/A"}},{"$f":"VLOOKUP(H16,Results!$A$8:$G$104,4,FALSE)","v":{"$error":"#N/A"}},{"$f":"VLOOKUP(H16,Results!$A$8:$G$104,7,FALSE)","v":{"$error":"#N/A"}},{"$f":"VLOOKUP(H16,$B$4:B16,1,FALSE)","v":{"$error":"#N/A"}}]
[null,{"$f":"Results!A20","v":0},{"$f":"Results!C20","v":0},{"$f":"Results!B20","v":0},{"$f":"Results!D20","v":0},{"$f":"Results!G20","v":""},"- vs -",{"$f":"VLOOKUP(B17,Results!$A$8:$BM$104,65,FALSE)","v":{"$error":"#N/A"}},{"$f":"VLOOKUP(H17,Results!A$8:$G$104,3,FALSE)","v":{"$error":"#N/A"}},{"$f":"VLOOKUP(H17,Results!$A$8:$G$104,2,FALSE)","v":{"$error":"#N/A"}},{"$f":"VLOOKUP(H17,Results!$A$8:$G$104,4,FALSE)","v":{"$error":"#N/A"}},{"$f":"VLOOKUP(H17,Results!$A$8:$G$104,7,FALSE)","v":{"$error":"#N/A"}},{"$f":"VLOOKUP(H17,$B$4:B17,1,FALSE)","v":{"$error":"#N/A"}}]
[null,{"$f":"Results!A21","v":0},{"$f":"Results!C21","v":0},{"$f":"Results!B21","v":0},{"$f":"Results!D21","v":0},{"$f":"Results!G21","v":""},"- vs -",{"$f":"VLOOKUP(B18,Results!$A$8:$BM$104,65,FALSE)","v":{"$error":"#N/A"}},{"$f":"VLOOKUP(H18,Results!A$8:$G$104,3,FALSE)","v":{"$error":"#N/A"}},{"$f":"VLOOKUP(H18,Results!$A$8:$G$104,2,FALSE)","v":{"$error":"#N/A"}},{"$f":"VLOOKUP(H18,Results!$A$8:$G$104,4,FALSE)","v":{"$error":"#N/A"}},{"$f":"VLOOKUP(H18,Results!$A$8:$G$104,7,FALSE)","v":{"$error":"#N/A"}},{"$f":"VLOOKUP(H18,$B$4:B18,1,FALSE)","v":{"$error":"#N/A"}}]
[null,{"$f":"Results!A22","v":0},{"$f":"Results!C22","v":0},{"$f":"Results!B22","v":0},{"$f":"Results!D22","v":0},{"$f":"Results!G22","v":""},"- vs -",{"$f":"VLOOKUP(B19,Results!$A$8:$BM$104,65,FALSE)","v":{"$error":"#N/A"}},{"$f":"VLOOKUP(H19,Results!A$8:$G$104,3,FALSE)","v":{"$error":"#N/A"}},{"$f":"VLOOKUP(H19,Results!$A$8:$G$104,2,FALSE)","v":{"$error":"#N/A"}},{"$f":"VLOOKUP(H19,Results!$A$8:$G$104,4,FALSE)","v":{"$error":"#N/A"}},{"$f":"VLOOKUP(H19,Results!$A$8:$G$104,7,FALSE)","v":{"$error":"#N/A"}},{"$f":"VLOOKUP(H19,$B$4:B19,1,FALSE)","v":{"$error":"#N/A"}}]
[null,{"$f":"Results!A23","v":0},{"$f":"Results!C23","v":0},{"$f":"Results!B23","v":0},{"$f":"Results!D23","v":0},{"$f":"Results!G23","v":""},"- vs -",{"$f":"VLOOKUP(B20,Results!$A$8:$BM$104,65,FALSE)","v":{"$error":"#N/A"}},{"$f":"VLOOKUP(H20,Results!A$8:$G$104,3,FALSE)","v":{"$error":"#N/A"}},{"$f":"VLOOKUP(H20,Results!$A$8:$G$104,2,FALSE)","v":{"$error":"#N/A"}},{"$f":"VLOOKUP(H20,Results!$A$8:$G$104,4,FALSE)","v":{"$error":"#N/A"}},{"$f":"VLOOKUP(H20,Results!$A$8:$G$104,7,FALSE)","v":{"$error":"#N/A"}},{"$f":"VLOOKUP(H20,$B$4:B20,1,FALSE)","v":{"$error":"#N/A"}}]
[null,{"$f":"Results!A24","v":0},{"$f":"Results!C24","v":0},{"$f":"Results!B24","v":0},{"$f":"Results!D24","v":0},{"$f":"Results!G24","v":""},"- vs -",{"$f":"VLOOKUP(B21,Results!$A$8:$BM$104,65,FALSE)","v":{"$error":"#N/A"}},{"$f":"VLOOKUP(H21,Results!A$8:$G$104,3,FALSE)","v":{"$error":"#N/A"}},{"$f":"VLOOKUP(H21,Results!$A$8:$G$104,2,FALSE)","v":{"$error":"#N/A"}},{"$f":"VLOOKUP(H21,Results!$A$8:$G$104,4,FALSE)","v":{"$error":"#N/A"}},{"$f":"VLOOKUP(H21,Results!$A$8:$G$104,7,FALSE)","v":{"$error":"#N/A"}},{"$f":"VLOOKUP(H21,$B$4:B21,1,FALSE)","v":{"$error":"#N/A"}}]
[null,{"$f":"Results!A25","v":0},{"$f":"Results!C25","v":0},{"$f":"Results!B25","v":0},{"$f":"Results!D25","v":0},{"$f":"Results!G25","v":""},"- vs -",{"$f":"VLOOKUP(B22,Results!$A$8:$BM$104,65,FALSE)","v":{"$error":"#N/A"}},{"$f":"VLOOKUP(H22,Results!A$8:$G$104,3,FALSE)","v":{"$error":"#N/A"}},{"$f":"VLOOKUP(H22,Results!$A$8:$G$104,2,FALSE)","v":{"$error":"#N/A"}},{"$f":"VLOOKUP(H22,Results!$A$8:$G$104,4,FALSE)","v":{"$error":"#N/A"}},{"$f":"VLOOKUP(H22,Results!$A$8:$G$104,7,FALSE)","v":{"$error":"#N/A"}},{"$f":"VLOOKUP(H22,$B$4:B22,1,FALSE)","v":{"$error":"#N/A"}}]
[null,{"$f":"Results!A26","v":0},{"$f":"Results!C26","v":0},{"$f":"Results!B26","v":0},{"$f":"Results!D26","v":0},{"$f":"Results!G26","v":""},"- vs -",{"$f":"VLOOKUP(B23,Results!$A$8:$BM$104,65,FALSE)","v":{"$error":"#N/A"}},{"$f":"VLOOKUP(H23,Results!A$8:$G$104,3,FALSE)","v":{"$error":"#N/A"}},{"$f":"VLOOKUP(H23,Results!$A$8:$G$104,2,FALSE)","v":{"$error":"#N/A"}},{"$f":"VLOOKUP(H23,Results!$A$8:$G$104,4,FALSE)","v":{"$error":"#N/A"}},{"$f":"VLOOKUP(H23,Results!$A$8:$G$104,7,FALSE)","v":{"$error":"#N/A"}},{"$f":"VLOOKUP(H23,$B$4:B23,1,FALSE)","v":{"$error":"#N/A"}}]
[null,{"$f":"Results!A27","v":0},{"$f":"Results!C27","v":0},{"$f":"Results!B27","v":0},{"$f":"Results!D27","v":0},{"$f":"Results!G27","v":""},"- vs -",{"$f":"VLOOKUP(B24,Results!$A$8:$BM$104,65,FALSE)","v":{"$error":"#N/A"}},{"$f":"VLOOKUP(H24,Results!A$8:$G$104,3,FALSE)","v":{"$error":"#N/A"}},{"$f":"VLOOKUP(H24,Results!$A$8:$G$104,2,FALSE)","v":{"$error":"#N/A"}},{"$f":"VLOOKUP(H24,Results!$A$8:$G$104,4,FALSE)","v":{"$error":"#N/A"}},{"$f":"VLOOKUP(H24,Results!$A$8:$G$104,7,FALSE)","v":{"$error":"#N/A"}},{"$f":"VLOOKUP(H24,$B$4:B24,1,FALSE)","v":{"$error":"#N/A"}}]
[null,{"$f":"Results!A28","v":0},{"$f":"Results!C28","v":0},{"$f":"Results!B28","v":0},{"$f":"Results!D28","v":0},{"$f":"Results!G28","v":""},"- vs -",{"$f":"VLOOKUP(B25,Results!$A$8:$BM$104,65,FALSE)","v":{"$error":"#N/A"}},{"$f":"VLOOKUP(H25,Results!A$8:$G$104,3,FALSE)","v":{"$error":"#N/A"}},{"$f":"VLOOKUP(H25,Results!$A$8:$G$104,2,FALSE)","v":{"$error":"#N/A"}},{"$f":"VLOOKUP(H25,Results!$A$8:$G$104,4,FALSE)","v":{"$error":"#N/A"}},{"$f":"VLOOKUP(H25,Results!$A$8:$G$104,7,FALSE)","v":{"$error":"#N/A"}},{"$f":"VLOOKUP(H25,$B$4:B25,1,FALSE)","v":{"$error":"#N/A"}}]
[null,{"$f":"Results!A29","v":0},{"$f":"Results!C29","v":0},{"$f":"Results!B29","v":0},{"$f":"Results!D29","v":0},{"$f":"Results!G29","v":""},"- vs -",{"$f":"VLOOKUP(B26,Results!$A$8:$BM$104,65,FALSE)","v":{"$error":"#N/A"}},{"$f":"VLOOKUP(H26,Results!A$8:$G$104,3,FALSE)","v":{"$error":"#N/A"}},{"$f":"VLOOKUP(H26,Results!$A$8:$G$104,2,FALSE)","v":{"$error":"#N/A"}},{"$f":"VLOOKUP(H26,Results!$A$8:$G$104,4,FALSE)","v":{"$error":"#N/A"}},{"$f":"VLOOKUP(H26,Results!$A$8:$G$104,7,FALSE)","v":{"$error":"#N/A"}},{"$f":"VLOOKUP(H26,$B$4:B26,1,FALSE)","v":{"$error":"#N/A"}}]
[null,{"$f":"Results!A30","v":0},{"$f":"Results!C30","v":0},{"$f":"Results!B30","v":0},{"$f":"Results!D30","v":0},{"$f":"Results!G30","v":""},"- vs -",{"$f":"VLOOKUP(B27,Results!$A$8:$BM$104,65,FALSE)","v":{"$error":"#N/A"}},{"$f":"VLOOKUP(H27,Results!A$8:$G$104,3,FALSE)","v":{"$error":"#N/A"}},{"$f":"VLOOKUP(H27,Results!$A$8:$G$104,2,FALSE)","v":{"$error":"#N/A"}},{"$f":"VLOOKUP(H27,Results!$A$8:$G$104,4,FALSE)","v":{"$error":"#N/A"}},{"$f":"VLOOKUP(H27,Results!$A$8:$G$104,7,FALSE)","v":{"$error":"#N/A"}},{"$f":"VLOOKUP(H27,$B$4:B27,1,FALSE)","v":{"$error":"#N/A"}}]
[null,{"$f":"Results!A31","v":0},{"$f":"Results!C31","v":0},{"$f":"Results!B31","v":0},{"$f":"Results!D31","v":0},{"$f":"Results!G31","v":""},"- vs -",{"$f":"VLOOKUP(B28,Results!$A$8:$BM$104,65,FALSE)","v":{"$error":"#N/A"}},{"$f":"VLOOKUP(H28,Results!A$8:$G$104,3,FALSE)","v":{"$error":"#N/A"}},{"$f":"VLOOKUP(H28,Results!$A$8:$G$104,2,FALSE)","v":{"$error":"#N/A"}},{"$f":"VLOOKUP(H28,Results!$A$8:$G$104,4,FALSE)","v":{"$error":"#N/A"}},{"$f":"VLOOKUP(H28,Results!$A$8:$G$104,7,FALSE)","v":{"$error":"#N/A"}},{"$f":"VLOOKUP(H28,$B$4:B28,1,FALSE)","v":{"$error":"#N/A"}}]
[null,{"$f":"Results!A32","v":0},{"$f":"Results!C32","v":0},{"$f":"Results!B32","v":0},{"$f":"Results!D32","v":0},{"$f":"Results!G32","v":""},"- vs -",{"$f":"VLOOKUP(B29,Results!$A$8:$BM$104,65,FALSE)","v":{"$error":"#N/A"}},{"$f":"VLOOKUP(H29,Results!A$8:$G$104,3,FALSE)","v":{"$error":"#N/A"}},{"$f":"VLOOKUP(H29,Results!$A$8:$G$104,2,FALSE)","v":{"$error":"#N/A"}},{"$f":"VLOOKUP(H29,Results!$A$8:$G$104,4,FALSE)","v":{"$error":"#N/A"}},{"$f":"VLOOKUP(H29,Results!$A$8:$G$104,7,FALSE)","v":{"$error":"#N/A"}},{"$f":"VLOOKUP(H29,$B$4:B29,1,FALSE)","v":{"$error":"#N/A"}}]
[null,{"$f":"Results!A33","v":0},{"$f":"Results!C33","v":0},{"$f":"Results!B33","v":0},{"$f":"Results!D33","v":0},{"$f":"Results!G33","v":""},"- vs -",{"$f":"VLOOKUP(B30,Results!$A$8:$BM$104,65,FALSE)","v":{"$error":"#N/A"}},{"$f":"VLOOKUP(H30,Results!A$8:$G$104,3,FALSE)","v":{"$error":"#N/A"}},{"$f":"VLOOKUP(H30,Results!$A$8:$G$104,2,FALSE)","v":{"$error":"#N/A"}},{"$f":"VLOOKUP(H30,Results!$A$8:$G$104,4,FALSE)","v":{"$error":"#N/A"}},{"$f":"VLOOKUP(H30,Results!$A$8:$G$104,7,FALSE)","v":{"$error":"#N/A"}},{"$f":"VLOOKUP(H30,$B$4:B30,1,FALSE)","v":{"$error":"#N/A"}}]
[null,{"$f":"Results!A34","v":0},{"$f":"Results!C34","v":0},{"$f":"Results!B34","v":0},{"$f":"Results!D34","v":0},{"$f":"Results!G34","v":""},"- vs -",{"$f":"VLOOKUP(B31,Results!$A$8:$BM$104,65,FALSE)","v":{"$error":"#N/A"}},{"$f":"VLOOKUP(H31,Results!A$8:$G$104,3,FALSE)","v":{"$error":"#N/A"}},{"$f":"VLOOKUP(H31,Results!$A$8:$G$104,2,FALSE)","v":{"$error":"#N/A"}},{"$f":"VLOOKUP(H31,Results!$A$8:$G$104,4,FALSE)","v":{"$error":"#N/A"}},{"$f":"VLOOKUP(H31,Results!$A$8:$G$104,7,FALSE)","v":{"$error":"#N/A"}},{"$f":"VLOOKUP(H31,$B$4:B31,1,FALSE)","v":{"$error":"#N/A"}}]
[null,{"$f":"Results!A35","v":0},{"$f":"Results!C35","v":0},{"$f":"Results!B35","v":0},{"$f":"Results!D35","v":0},{"$f":"Results!G35","v":""},"- vs -",{"$f":"VLOOKUP(B32,Results!$A$8:$BM$104,65,FALSE)","v":{"$error":"#N/A"}},{"$f":"VLOOKUP(H32,Results!A$8:$G$104,3,FALSE)","v":{"$error":"#N/A"}},{"$f":"VLOOKUP(H32,Results!$A$8:$G$104,2,FALSE)","v":{"$error":"#N/A"}},{"$f":"VLOOKUP(H32,Results!$A$8:$G$104,4,FALSE)","v":{"$error":"#N/A"}},{"$f":"VLOOKUP(H32,Results!$A$8:$G$104,7,FALSE)","v":{"$error":"#N/A"}},{"$f":"VLOOKUP(H32,$B$4:B32,1,FALSE)","v":{"$error":"#N/A"}}]
[null,{"$f":"Results!A36","v":0},{"$f":"Results!C36","v":0},{"$f":"Results!B36","v":0},{"$f":"Results!D36","v":0},{"$f":"Results!G36","v":""},"- vs -",{"$f":"VLOOKUP(B33,Results!$A$8:$BM$104,65,FALSE)","v":{"$error":"#N/A"}},{"$f":"VLOOKUP(H33,Results!A$8:$G$104,3,FALSE)","v":{"$error":"#N/A"}},{"$f":"VLOOKUP(H33,Results!$A$8:$G$104,2,FALSE)","v":{"$error":"#N/A"}},{"$f":"VLOOKUP(H33,Results!$A$8:$G$104,4,FALSE)","v":{"$error":"#N/A"}},{"$f":"VLOOKUP(H33,Results!$A$8:$G$104,7,FALSE)","v":{"$error":"#N/A"}},{"$f":"VLOOKUP(H33,$B$4:B33,1,FALSE)","v":{"$error":"#N/A"}}]
[null,{"$f":"Results!A37","v":0},{"$f":"Results!C37","v":0},{"$f":"Results!B37","v":0},{"$f":"Results!D37","v":0},{"$f":"Results!G37","v":""},"- vs -",{"$f":"VLOOKUP(B34,Results!$A$8:$BM$104,65,FALSE)","v":{"$error":"#N/A"}},{"$f":"VLOOKUP(H34,Results!A$8:$G$104,3,FALSE)","v":{"$error":"#N/A"}},{"$f":"VLOOKUP(H34,Results!$A$8:$G$104,2,FALSE)","v":{"$error":"#N/A"}},{"$f":"VLOOKUP(H34,Results!$A$8:$G$104,4,FALSE)","v":{"$error":"#N/A"}},{"$f":"VLOOKUP(H34,Results!$A$8:$G$104,7,FALSE)","v":{"$error":"#N/A"}},{"$f":"VLOOKUP(H34,$B$4:B34,1,FALSE)","v":{"$error":"#N/A"}}]
[null,{"$f":"Results!A38","v":0},{"$f":"Results!C38","v":0},{"$f":"Results!B38","v":0},{"$f":"Results!D38","v":0},{"$f":"Results!G38","v":""},"- vs -",{"$f":"VLOOKUP(B35,Results!$A$8:$BM$104,65,FALSE)","v":{"$error":"#N/A"}},{"$f":"VLOOKUP(H35,Results!A$8:$G$104,3,FALSE)","v":{"$error":"#N/A"}},{"$f":"VLOOKUP(H35,Results!$A$8:$G$104,2,FALSE)","v":{"$error":"#N/A"}},{"$f":"VLOOKUP(H35,Results!$A$8:$G$104,4,FALSE)","v":{"$error":"#N/A"}},{"$f":"VLOOKUP(H35,Results!$A$8:$G$104,7,FALSE)","v":{"$error":"#N/A"}},{"$f":"VLOOKUP(H35,$B$4:B35,1,FALSE)","v":{"$error":"#N/A"}}]
[null,{"$f":"Results!A39","v":0},{"$f":"Results!C39","v":0},{"$f":"Results!B39","v":0},{"$f":"Results!D39","v":0},{"$f":"Results!G39","v":""},"- vs -",{"$f":"VLOOKUP(B36,Results!$A$8:$BM$104,65,FALSE)","v":{"$error":"#N/A"}},{"$f":"VLOOKUP(H36,Results!A$8:$G$104,3,FALSE)","v":{"$error":"#N/A"}},{"$f":"VLOOKUP(H36,Results!$A$8:$G$104,2,FALSE)","v":{"$error":"#N/A"}},{"$f":"VLOOKUP(H36,Results!$A$8:$G$104,4,FALSE)","v":{"$error":"#N/A"}},{"$f":"VLOOKUP(H36,Results!$A$8:$G$104,7,FALSE)","v":{"$error":"#N/A"}},{"$f":"VLOOKUP(H36,$B$4:B36,1,FALSE)","v":{"$error":"#N/A"}}]
[null,{"$f":"Results!A40","v":0},{"$f":"Results!C40","v":0},{"$f":"Results!B40","v":0},{"$f":"Results!D40","v":0},{"$f":"Results!G40","v":""},"- vs -",{"$f":"VLOOKUP(B37,Results!$A$8:$BM$104,65,FALSE)","v":{"$error":"#N/A"}},{"$f":"VLOOKUP(H37,Results!A$8:$G$104,3,FALSE)","v":{"$error":"#N/A"}},{"$f":"VLOOKUP(H37,Results!$A$8:$G$104,2,FALSE)","v":{"$error":"#N/A"}},{"$f":"VLOOKUP(H37,Results!$A$8:$G$104,4,FALSE)","v":{"$error":"#N/A"}},{"$f":"VLOOKUP(H37,Results!$A$8:$G$104,7,FALSE)","v":{"$error":"#N/A"}},{"$f":"VLOOKUP(H37,$B$4:B37,1,FALSE)","v":{"$error":"#N/A"}}]
[null,{"$f":"Results!A41","v":0},{"$f":"Results!C41","v":0},{"$f":"Results!B41","v":0},{"$f":"Results!D41","v":0},{"$f":"Results!G41","v":""},"- vs -",{"$f":"VLOOKUP(B38,Results!$A$8:$BM$104,65,FALSE)","v":{"$error":"#N/A"}},{"$f":"VLOOKUP(H38,Results!A$8:$G$104,3,FALSE)","v":{"$error":"#N/A"}},{"$f":"VLOOKUP(H38,Results!$A$8:$G$104,2,FALSE)","v":{"$error":"#N/A"}},{"$f":"VLOOKUP(H38,Results!$A$8:$G$104,4,FALSE)","v":{"$error":"#N/A"}},{"$f":"VLOOKUP(H38,Results!$A$8:$G$104,7,FALSE)","v":{"$error":"#N/A"}},{"$f":"VLOOKUP(H38,$B$4:B38,1,FALSE)","v":{"$error":"#N/A"}}]
[null,{"$f":"Results!A42","v":0},{"$f":"Results!C42","v":0},{"$f":"Results!B42","v":0},{"$f":"Results!D42","v":0},{"$f":"Results!G42","v":""},"- vs -",{"$f":"VLOOKUP(B39,Results!$A$8:$BM$104,65,FALSE)","v":{"$error":"#N/A"}},{"$f":"VLOOKUP(H39,Results!A$8:$G$104,3,FALSE)","v":{"$error":"#N/A"}},{"$f":"VLOOKUP(H39,Results!$A$8:$G$104,2,FALSE)","v":{"$error":"#N/A"}},{"$f":"VLOOKUP(H39,Results!$A$8:$G$104,4,FALSE)","v":{"$error":"#N/A"}},{"$f":"VLOOKUP(H39,Results!$A$8:$G$104,7,FALSE)","v":{"$error":"#N/A"}},{"$f":"VLOOKUP(H39,$B$4:B39,1,FALSE)","v":{"$error":"#N/A"}}]
[null,{"$f":"Results!A43","v":0},{"$f":"Results!C43","v":0},{"$f":"Results!B43","v":0},{"$f":"Results!D43","v":0},{"$f":"Results!G43","v":""},"- vs -",{"$f":"VLOOKUP(B40,Results!$A$8:$BM$104,65,FALSE)","v":{"$error":"#N/A"}},{"$f":"VLOOKUP(H40,Results!A$8:$G$104,3,FALSE)","v":{"$error":"#N/A"}},{"$f":"VLOOKUP(H40,Results!$A$8:$G$104,2,FALSE)","v":{"$error":"#N/A"}},{"$f":"VLOOKUP(H40,Results!$A$8:$G$104,4,FALSE)","v":{"$error":"#N/A"}},{"$f":"VLOOKUP(H40,Results!$A$8:$G$104,7,FALSE)","v":{"$error":"#N/A"}},{"$f":"VLOOKUP(H40,$B$4:B40,1,FALSE)","v":{"$error":"#N/A"}}]
[null,{"$f":"Results!A44","v":0},{"$f":"Results!C44","v":0},{"$f":"Results!B44","v":0},{"$f":"Results!D44","v":0},{"$f":"Results!G44","v":""},"- vs -",{"$f":"VLOOKUP(B41,Results!$A$8:$BM$104,65,FALSE)","v":{"$error":"#N/A"}},{"$f":"VLOOKUP(H41,Results!A$8:$G$104,3,FALSE)","v":{"$error":"#N/A"}},{"$f":"VLOOKUP(H41,Results!$A$8:$G$104,2,FALSE)","v":{"$error":"#N/A"}},{"$f":"VLOOKUP(H41,Results!$A$8:$G$104,4,FALSE)","v":{"$error":"#N/A"}},{"$f":"VLOOKUP(H41,Results!$A$8:$G$104,7,FALSE)","v":{"$error":"#N/A"}},{"$f":"VLOOKUP(H41,$B$4:B41,1,FALSE)","v":{"$error":"#N/A"}}]
[null,{"$f":"Results!A45","v":0},{"$f":"Results!C45","v":0},{"$f":"Results!B45","v":0},{"$f":"Results!D45","v":0},{"$f":"Results!G45","v":""},"- vs -",{"$f":"VLOOKUP(B42,Results!$A$8:$BM$104,65,FALSE)","v":{"$error":"#N/A"}},{"$f":"VLOOKUP(H42,Results!A$8:$G$104,3,FALSE)","v":{"$error":"#N/A"}},{"$f":"VLOOKUP(H42,Results!$A$8:$G$104,2,FALSE)","v":{"$error":"#N/A"}},{"$f":"VLOOKUP(H42,Results!$A$8:$G$104,4,FALSE)","v":{"$error":"#N/A"}},{"$f":"VLOOKUP(H42,Results!$A$8:$G$104,7,FALSE)","v":{"$error":"#N/A"}},{"$f":"VLOOKUP(H42,$B$4:B42,1,FALSE)","v":{"$error":"#N/A"}}]
[null,{"$f":"Results!A46","v":0},{"$f":"Results!C46","v":0},{"$f":"Results!B46","v":0},{"$f":"Results!D46","v":0},{"$f":"Results!G46","v":""},"- vs -",{"$f":"VLOOKUP(B43,Results!$A$8:$BM$104,65,FALSE)","v":{"$error":"#N/A"}},{"$f":"VLOOKUP(H43,Results!A$8:$G$104,3,FALSE)","v":{"$error":"#N/A"}},{"$f":"VLOOKUP(H43,Results!$A$8:$G$104,2,FALSE)","v":{"$error":"#N/A"}},{"$f":"VLOOKUP(H43,Results!$A$8:$G$104,4,FALSE)","v":{"$error":"#N/A"}},{"$f":"VLOOKUP(H43,Results!$A$8:$G$104,7,FALSE)","v":{"$error":"#N/A"}},{"$f":"VLOOKUP(H43,$B$4:B43,1,FALSE)","v":{"$error":"#N/A"}}]
[null,{"$f":"Results!A47","v":0},{"$f":"Results!C47","v":0},{"$f":"Results!B47","v":0},{"$f":"Results!D47","v":0},{"$f":"Results!G47","v":""},"- vs -",{"$f":"VLOOKUP(B44,Results!$A$8:$BM$104,65,FALSE)","v":{"$error":"#N/A"}},{"$f":"VLOOKUP(H44,Results!A$8:$G$104,3,FALSE)","v":{"$error":"#N/A"}},{"$f":"VLOOKUP(H44,Results!$A$8:$G$104,2,FALSE)","v":{"$error":"#N/A"}},{"$f":"VLOOKUP(H44,Results!$A$8:$G$104,4,FALSE)","v":{"$error":"#N/A"}},{"$f":"VLOOKUP(H44,Results!$A$8:$G$104,7,FALSE)","v":{"$error":"#N/A"}},{"$f":"VLOOKUP(H44,$B$4:B44,1,FALSE)","v":{"$error":"#N/A"}}]
[null,{"$f":"Results!A48","v":0},{"$f":"Results!C48","v":0},{"$f":"Results!B48","v":0},{"$f":"Results!D48","v":0},{"$f":"Results!G48","v":""},"- vs -",{"$f":"VLOOKUP(B45,Results!$A$8:$BM$104,65,FALSE)","v":{"$error":"#N/A"}},{"$f":"VLOOKUP(H45,Results!A$8:$G$104,3,FALSE)","v":{"$error":"#N/A"}},{"$f":"VLOOKUP(H45,Results!$A$8:$G$104,2,FALSE)","v":{"$error":"#N/A"}},{"$f":"VLOOKUP(H45,Results!$A$8:$G$104,4,FALSE)","v":{"$error":"#N/A"}},{"$f":"VLOOKUP(H45,Results!$A$8:$G$104,7,FALSE)","v":{"$error":"#N/A"}},{"$f":"VLOOKUP(H45,$B$4:B45,1,FALSE)","v":{"$error":"#N/A"}}]
[null,{"$f":"Results!A49","v":0},{"$f":"Results!C49","v":0},{"$f":"Results!B49","v":0},{"$f":"Results!D49","v":0},{"$f":"Results!G49","v":""},"- vs -",{"$f":"VLOOKUP(B46,Results!$A$8:$BM$104,65,FALSE)","v":{"$error":"#N/A"}},{"$f":"VLOOKUP(H46,Results!A$8:$G$104,3,FALSE)","v":{"$error":"#N/A"}},{"$f":"VLOOKUP(H46,Results!$A$8:$G$104,2,FALSE)","v":{"$error":"#N/A"}},{"$f":"VLOOKUP(H46,Results!$A$8:$G$104,4,FALSE)","v":{"$error":"#N/A"}},{"$f":"VLOOKUP(H46,Results!$A$8:$G$104,7,FALSE)","v":{"$error":"#N/A"}},{"$f":"VLOOKUP(H46,$B$4:B46,1,FALSE)","v":{"$error":"#N/A"}}]
[null,{"$f":"Results!A50","v":0},{"$f":"Results!C50","v":0},{"$f":"Results!B50","v":0},{"$f":"Results!D50","v":0},{"$f":"Results!G50","v":""},"- vs -",{"$f":"VLOOKUP(B47,Results!$A$8:$BM$104,65,FALSE)","v":{"$error":"#N/A"}},{"$f":"VLOOKUP(H47,Results!A$8:$G$104,3,FALSE)","v":{"$error":"#N/A"}},{"$f":"VLOOKUP(H47,Results!$A$8:$G$104,2,FALSE)","v":{"$error":"#N/A"}},{"$f":"VLOOKUP(H47,Results!$A$8:$G$104,4,FALSE)","v":{"$error":"#N/A"}},{"$f":"VLOOKUP(H47,Results!$A$8:$G$104,7,FALSE)","v":{"$error":"#N/A"}},{"$f":"VLOOKUP(H47,$B$4:B47,1,FALSE)","v":{"$error":"#N/A"}}]
[null,{"$f":"Results!A51","v":0},{"$f":"Results!C51","v":0},{"$f":"Results!B51","v":0},{"$f":"Results!D51","v":0},{"$f":"Results!G51","v":""},"- vs -",{"$f":"VLOOKUP(B48,Results!$A$8:$BM$104,65,FALSE)","v":{"$error":"#N/A"}},{"$f":"VLOOKUP(H48,Results!A$8:$G$104,3,FALSE)","v":{"$error":"#N/A"}},{"$f":"VLOOKUP(H48,Results!$A$8:$G$104,2,FALSE)","v":{"$error":"#N/A"}},{"$f":"VLOOKUP(H48,Results!$A$8:$G$104,4,FALSE)","v":{"$error":"#N/A"}},{"$f":"VLOOKUP(H48,Results!$A$8:$G$104,7,FALSE)","v":{"$error":"#N/A"}},{"$f":"VLOOKUP(H48,$B$4:B48,1,FALSE)","v":{"$error":"#N/A"}}]
[null,{"$f":"Results!A52","v":0},{"$f":"Results!C52","v":0},{"$f":"Results!B52","v":0},{"$f":"Results!D52","v":0},{"$f":"Results!G52","v":""},"- vs -",{"$f":"VLOOKUP(B49,Results!$A$8:$BM$104,65,FALSE)","v":{"$error":"#N/A"}},{"$f":"VLOOKUP(H49,Results!A$8:$G$104,3,FALSE)","v":{"$error":"#N/A"}},{"$f":"VLOOKUP(H49,Results!$A$8:$G$104,2,FALSE)","v":{"$error":"#N/A"}},{"$f":"VLOOKUP(H49,Results!$A$8:$G$104,4,FALSE)","v":{"$error":"#N/A"}},{"$f":"VLOOKUP(H49,Results!$A$8:$G$104,7,FALSE)","v":{"$error":"#N/A"}},{"$f":"VLOOKUP(H49,$B$4:B49,1,FALSE)","v":{"$error":"#N/A"}}]
[null,{"$f":"Results!A53","v":0},{"$f":"Results!C53","v":0},{"$f":"Results!B53","v":0},{"$f":"Results!D53","v":0},{"$f":"Results!G53","v":""},"- vs -",{"$f":"VLOOKUP(B50,Results!$A$8:$BM$104,65,FALSE)","v":{"$error":"#N/A"}},{"$f":"VLOOKUP(H50,Results!A$8:$G$104,3,FALSE)","v":{"$error":"#N/A"}},{"$f":"VLOOKUP(H50,Results!$A$8:$G$104,2,FALSE)","v":{"$error":"#N/A"}},{"$f":"VLOOKUP(H50,Results!$A$8:$G$104,4,FALSE)","v":{"$error":"#N/A"}},{"$f":"VLOOKUP(H50,Results!$A$8:$G$104,7,FALSE)","v":{"$error":"#N/A"}},{"$f":"VLOOKUP(H50,$B$4:B50,1,FALSE)","v":{"$error":"#N/A"}}]
[null,{"$f":"Results!A54","v":0},{"$f":"Results!C54","v":0},{"$f":"Results!B54","v":0},{"$f":"Results!D54","v":0},{"$f":"Results!G54","v":""},"- vs -",{"$f":"VLOOKUP(B51,Results!$A$8:$BM$104,65,FALSE)","v":{"$error":"#N/A"}},{"$f":"VLOOKUP(H51,Results!A$8:$G$104,3,FALSE)","v":{"$error":"#N/A"}},{"$f":"VLOOKUP(H51,Results!$A$8:$G$104,2,FALSE)","v":{"$error":"#N/A"}},{"$f":"VLOOKUP(H51,Results!$A$8:$G$104,4,FALSE)","v":{"$error":"#N/A"}},{"$f":"VLOOKUP(H51,Results!$A$8:$G$104,7,FALSE)","v":{"$error":"#N/A"}},{"$f":"VLOOKUP(H51,$B$4:B51,1,FALSE)","v":{"$error":"#N/A"}}]
[null,{"$f":"Results!A55","v":0},{"$f":"Results!C55","v":0},{"$f":"Results!B55","v":0},{"$f":"Results!D55","v":0},{"$f":"Results!G55","v":""},"- vs -",{"$f":"VLOOKUP(B52,Results!$A$8:$BM$104,65,FALSE)","v":{"$error":"#N/A"}},{"$f":"VLOOKUP(H52,Results!A$8:$G$104,3,FALSE)","v":{"$error":"#N/A"}},{"$f":"VLOOKUP(H52,Results!$A$8:$G$104,2,FALSE)","v":{"$error":"#N/A"}},{"$f":"VLOOKUP(H52,Results!$A$8:$G$104,4,FALSE)","v":{"$error":"#N/A"}},{"$f":"VLOOKUP(H52,Results!$A$8:$G$104,7,FALSE)","v":{"$error":"#N/A"}},{"$f":"VLOOKUP(H52,$B$4:B52,1,FALSE)","v":{"$error":"#N/A"}}]
[null,{"$f":"Results!A56","v":0},{"$f":"Results!C56","v":0},{"$f":"Results!B56","v":0},{"$f":"Results!D56","v":0},{"$f":"Results!G56","v":""},"- vs -",{"$f":"VLOOKUP(B53,Results!$A$8:$BM$104,65,FALSE)","v":{"$error":"#N/A"}},{"$f":"VLOOKUP(H53,Results!A$8:$G$104,3,FALSE)","v":{"$error":"#N/A"}},{"$f":"VLOOKUP(H53,Results!$A$8:$G$104,2,FALSE)","v":{"$error":"#N/A"}},{"$f":"VLOOKUP(H53,Results!$A$8:$G$104,4,FALSE)","v":{"$error":"#N/A"}},{"$f":"VLOOKUP(H53,Results!$A$8:$G$104,7,FALSE)","v":{"$error":"#N/A"}},{"$f":"VLOOKUP(H53,$B$4:B53,1,FALSE)","v":{"$error":"#N/A"}}]
[null,{"$f":"Results!A57","v":0},{"$f":"Results!C57","v":0},{"$f":"Results!B57","v":0},{"$f":"Results!D57","v":0},{"$f":"Results!G57","v":""},"- vs -",{"$f":"VLOOKUP(B54,Results!$A$8:$BM$104,65,FALSE)","v":{"$error":"#N/A"}},{"$f":"VLOOKUP(H54,Results!A$8:$G$104,3,FALSE)","v":{"$error":"#N/A"}},{"$f":"VLOOKUP(H54,Results!$A$8:$G$104,2,FALSE)","v":{"$error":"#N/A"}},{"$f":"VLOOKUP(H54,Results!$A$8:$G$104,4,FALSE)","v":{"$error":"#N/A"}},{"$f":"VLOOKUP(H54,Results!$A$8:$G$104,7,FALSE)","v":{"$error":"#N/A"}},{"$f":"VLOOKUP(H54,$B$4:B54,1,FALSE)","v":{"$error":"#N/A"}}]
[null,{"$f":"Results!A58","v":0},{"$f":"Results!C58","v":0},{"$f":"Results!B58","v":0},{"$f":"Results!D58","v":0},{"$f":"Results!G58","v":""},"- vs -",{"$f":"VLOOKUP(B55,Results!$A$8:$BM$104,65,FALSE)","v":{"$error":"#N/A"}},{"$f":"VLOOKUP(H55,Results!A$8:$G$104,3,FALSE)","v":{"$error":"#N/A"}},{"$f":"VLOOKUP(H55,Results!$A$8:$G$104,2,FALSE)","v":{"$error":"#N/A"}},{"$f":"VLOOKUP(H55,Results!$A$8:$G$104,4,FALSE)","v":{"$error":"#N/A"}},{"$f":"VLOOKUP(H55,Results!$A$8:$G$104,7,FALSE)","v":{"$error":"#N/A"}},{"$f":"VLOOKUP(H55,$B$4:B55,1,FALSE)","v":{"$error":"#N/A"}}]
[null,{"$f":"Results!A59","v":0},{"$f":"Results!C59","v":0},{"$f":"Results!B59","v":0},{"$f":"Results!D59","v":0},{"$f":"Results!G59","v":""},"- vs -",{"$f":"VLOOKUP(B56,Results!$A$8:$BM$104,65,FALSE)","v":{"$error":"#N/A"}},{"$f":"VLOOKUP(H56,Results!A$8:$G$104,3,FALSE)","v":{"$error":"#N/A"}},{"$f":"VLOOKUP(H56,Results!$A$8:$G$104,2,FALSE)","v":{"$error":"#N/A"}},{"$f":"VLOOKUP(H56,Results!$A$8:$G$104,4,FALSE)","v":{"$error":"#N/A"}},{"$f":"VLOOKUP(H56,Results!$A$8:$G$104,7,FALSE)","v":{"$error":"#N/A"}},{"$f":"VLOOKUP(H56,$B$4:B56,1,FALSE)","v":{"$error":"#N/A"}}]
[null,{"$f":"Results!A60","v":0},{"$f":"Results!C60","v":0},{"$f":"Results!B60","v":0},{"$f":"Results!D60","v":0},{"$f":"Results!G60","v":""},"- vs -",{"$f":"VLOOKUP(B57,Results!$A$8:$BM$104,65,FALSE)","v":{"$error":"#N/A"}},{"$f":"VLOOKUP(H57,Results!A$8:$G$104,3,FALSE)","v":{"$error":"#N/A"}},{"$f":"VLOOKUP(H57,Results!$A$8:$G$104,2,FALSE)","v":{"$error":"#N/A"}},{"$f":"VLOOKUP(H57,Results!$A$8:$G$104,4,FALSE)","v":{"$error":"#N/A"}},{"$f":"VLOOKUP(H57,Results!$A$8:$G$104,7,FALSE)","v":{"$error":"#N/A"}},{"$f":"VLOOKUP(H57,$B$4:B57,1,FALSE)","v":{"$error":"#N/A"}}]
[null,{"$f":"Results!A61","v":0},{"$f":"Results!C61","v":0},{"$f":"Results!B61","v":0},{"$f":"Results!D61","v":0},{"$f":"Results!G61","v":""},"- vs -",{"$f":"VLOOKUP(B58,Results!$A$8:$BM$104,65,FALSE)","v":{"$error":"#N/A"}},{"$f":"VLOOKUP(H58,Results!A$8:$G$104,3,FALSE)","v":{"$error":"#N/A"}},{"$f":"VLOOKUP(H58,Results!$A$8:$G$104,2,FALSE)","v":{"$error":"#N/A"}},{"$f":"VLOOKUP(H58,Results!$A$8:$G$104,4,FALSE)","v":{"$error":"#N/A"}},{"$f":"VLOOKUP(H58,Results!$A$8:$G$104,7,FALSE)","v":{"$error":"#N/A"}},{"$f":"VLOOKUP(H58,$B$4:B58,1,FALSE)","v":{"$error":"#N/A"}}]
[null,{"$f":"Results!A62","v":0},{"$f":"Results!C62","v":0},{"$f":"Results!B62","v":0},{"$f":"Results!D62","v":0},{"$f":"Results!G62","v":""},"- vs -",{"$f":"VLOOKUP(B59,Results!$A$8:$BM$104,65,FALSE)","v":{"$error":"#N/A"}},{"$f":"VLOOKUP(H59,Results!A$8:$G$104,3,FALSE)","v":{"$error":"#N/A"}},{"$f":"VLOOKUP(H59,Results!$A$8:$G$104,2,FALSE)","v":{"$error":"#N/A"}},{"$f":"VLOOKUP(H59,Results!$A$8:$G$104,4,FALSE)","v":{"$error":"#N/A"}},{"$f":"VLOOKUP(H59,Results!$A$8:$G$104,7,FALSE)","v":{"$error":"#N/A"}},{"$f":"VLOOKUP(H59,$B$4:B59,1,FALSE)","v":{"$error":"#N/A"}}]
[null,{"$f":"Results!A63","v":0},{"$f":"Results!C63","v":0},{"$f":"Results!B63","v":0},{"$f":"Results!D63","v":0},{"$f":"Results!G63","v":""},"- vs -",{"$f":"VLOOKUP(B60,Results!$A$8:$BM$104,65,FALSE)","v":{"$error":"#N/A"}},{"$f":"VLOOKUP(H60,Results!A$8:$G$104,3,FALSE)","v":{"$error":"#N/A"}},{"$f":"VLOOKUP(H60,Results!$A$8:$G$104,2,FALSE)","v":{"$error":"#N/A"}},{"$f":"VLOOKUP(H60,Results!$A$8:$G$104,4,FALSE)","v":{"$error":"#N/A"}},{"$f":"VLOOKUP(H60,Results!$A$8:$G$104,7,FALSE)","v":{"$error":"#N/A"}},{"$f":"VLOOKUP(H60,$B$4:B60,1,FALSE)","v":{"$error":"#N/A"}}]
[null,{"$f":"Results!A64","v":0},{"$f":"Results!C64","v":0},{"$f":"Results!B64","v":0},{"$f":"Results!D64","v":0},{"$f":"Results!G64","v":""},"- vs -",{"$f":"VLOOKUP(B61,Results!$A$8:$BM$104,65,FALSE)","v":{"$error":"#N/A"}},{"$f":"VLOOKUP(H61,Results!A$8:$G$104,3,FALSE)","v":{"$error":"#N/A"}},{"$f":"VLOOKUP(H61,Results!$A$8:$G$104,2,FALSE)","v":{"$error":"#N/A"}},{"$f":"VLOOKUP(H61,Results!$A$8:$G$104,4,FALSE)","v":{"$error":"#N/A"}},{"$f":"VLOOKUP(H61,Results!$A$8:$G$104,7,FALSE)","v":{"$error":"#N/A"}},{"$f":"VLOOKUP(H61,$B$4:B61,1,FALSE)","v":{"$error":"#N/A"}}]
[null,{"$f":"Results!A65","v":0},{"$f":"Results!C65","v":0},{"$f":"Results!B65","v":0},{"$f":"Results!D65","v":0},{"$f":"Results!G65","v":""},"- vs -",{"$f":"VLOOKUP(B62,Results!$A$8:$BM$104,65,FALSE)","v":{"$error":"#N/A"}},{"$f":"VLOOKUP(H62,Results!A$8:$G$104,3,FALSE)","v":{"$error":"#N/A"}},{"$f":"VLOOKUP(H62,Results!$A$8:$G$104,2,FALSE)","v":{"$error":"#N/A"}},{"$f":"VLOOKUP(H62,Results!$A$8:$G$104,4,FALSE)","v":{"$error":"#N/A"}},{"$f":"VLOOKUP(H62,Results!$A$8:$G$104,7,FALSE)","v":{"$error":"#N/A"}},{"$f":"VLOOKUP(H62,$B$4:B62,1,FALSE)","v":{"$error":"#N/A"}}]
[null,{"$f":"Results!A66","v":0},{"$f":"Results!C66","v":0},{"$f":"Results!B66","v":0},{"$f":"Results!D66","v":0},{"$f":"Results!G66","v":""},"- vs -",{"$f":"VLOOKUP(B63,Results!$A$8:$BM$104,65,FALSE)","v":{"$error":"#N/A"}},{"$f":"VLOOKUP(H63,Results!A$8:$G$104,3,FALSE)","v":{"$error":"#N/A"}},{"$f":"VLOOKUP(H63,Results!$A$8:$G$104,2,FALSE)","v":{"$error":"#N/A"}},{"$f":"VLOOKUP(H63,Results!$A$8:$G$104,4,FALSE)","v":{"$error":"#N/A"}},{"$f":"VLOOKUP(H63,Results!$A$8:$G$104,7,FALSE)","v":{"$error":"#N/A"}},{"$f":"VLOOKUP(H63,$B$4:B63,1,FALSE)","v":{"$error":"#N/A"}}]
[null,{"$f":"Results!A67","v":0},{"$f":"Results!C67","v":0},{"$f":"Results!B67","v":0},{"$f":"Results!D67","v":0},{"$f":"Results!G67","v":""},"- vs -",{"$f":"VLOOKUP(B64,Results!$A$8:$BM$104,65,FALSE)","v":{"$error":"#N/A"}},{"$f":"VLOOKUP(H64,Results!A$8:$G$104,3,FALSE)","v":{"$error":"#N/A"}},{"$f":"VLOOKUP(H64,Results!$A$8:$G$104,2,FALSE)","v":{"$error":"#N/A"}},{"$f":"VLOOKUP(H64,Results!$A$8:$G$104,4,FALSE)","v":{"$error":"#N/A"}},{"$f":"VLOOKUP(H64,Results!$A$8:$G$104,7,FALSE)","v":{"$error":"#N/A"}}]
[null,{"$f":"Results!A68","v":0},{"$f":"Results!C68","v":0},{"$f":"Results!B68","v":0},{"$f":"Results!D68","v":0},{"$f":"Results!G68","v":""},"- vs -",{"$f":"VLOOKUP(B65,Results!$A$8:$BM$104,65,FALSE)","v":{"$error":"#N/A"}},{"$f":"VLOOKUP(H65,Results!A$8:$G$104,3,FALSE)","v":{"$error":"#N/A"}},{"$f":"VLOOKUP(H65,Results!$A$8:$G$104,2,FALSE)","v":{"$error":"#N/A"}},{"$f":"VLOOKUP(H65,Results!$A$8:$G$104,4,FALSE)","v":{"$error":"#N/A"}},{"$f":"VLOOKUP(H65,Results!$A$8:$G$104,7,FALSE)","v":{"$error":"#N/A"}}]
[null,{"$f":"Results!A69","v":0},{"$f":"Results!C69","v":0},{"$f":"Results!B69","v":0},{"$f":"Results!D69","v":0},{"$f":"Results!G69","v":""},"- vs -",{"$f":"VLOOKUP(B66,Results!$A$8:$BM$104,65,FALSE)","v":{"$error":"#N/A"}},{"$f":"VLOOKUP(H66,Results!A$8:$G$104,3,FALSE)","v":{"$error":"#N/A"}},{"$f":"VLOOKUP(H66,Results!$A$8:$G$104,2,FALSE)","v":{"$error":"#N/A"}},{"$f":"VLOOKUP(H66,Results!$A$8:$G$104,4,FALSE)","v":{"$error":"#N/A"}},{"$f":"VLOOKUP(H66,Results!$A$8:$G$104,7,FALSE)","v":{"$error":"#N/A"}}]
[null,{"$f":"Results!A70","v":0},{"$f":"Results!C70","v":0},{"$f":"Results!B70","v":0},{"$f":"Results!D70","v":0},{"$f":"Results!G70","v":""},"- vs -",{"$f":"VLOOKUP(B67,Results!$A$8:$BM$104,65,FALSE)","v":{"$error":"#N/A"}},{"$f":"VLOOKUP(H67,Results!A$8:$G$104,3,FALSE)","v":{"$error":"#N/A"}},{"$f":"VLOOKUP(H67,Results!$A$8:$G$104,2,FALSE)","v":{"$error":"#N/A"}},{"$f":"VLOOKUP(H67,Results!$A$8:$G$104,4,FALSE)","v":{"$error":"#N/A"}},{"$f":"VLOOKUP(H67,Results!$A$8:$G$104,7,FALSE)","v":{"$error":"#N/A"}}]
[null,{"$f":"Results!A71","v":0},{"$f":"Results!C71","v":0},{"$f":"Results!B71","v":0},{"$f":"Results!D71","v":0},{"$f":"Results!G71","v":""},"- vs -",{"$f":"VLOOKUP(B68,Results!$A$8:$BM$104,65,FALSE)","v":{"$error":"#N/A"}},{"$f":"VLOOKUP(H68,Results!A$8:$G$104,3,FALSE)","v":{"$error":"#N/A"}},{"$f":"VLOOKUP(H68,Results!$A$8:$G$104,2,FALSE)","v":{"$error":"#N/A"}},{"$f":"VLOOKUP(H68,Results!$A$8:$G$104,4,FALSE)","v":{"$error":"#N/A"}},{"$f":"VLOOKUP(H68,Results!$A$8:$G$104,7,FALSE)","v":{"$error":"#N/A"}}]
[null,{"$f":"Results!A72","v":0},{"$f":"Results!C72","v":0},{"$f":"Results!B72","v":0},{"$f":"Results!D72","v":0},{"$f":"Results!G72","v":""},"- vs -",{"$f":"VLOOKUP(B69,Results!$A$8:$BM$104,65,FALSE)","v":{"$error":"#N/A"}},{"$f":"VLOOKUP(H69,Results!A$8:$G$104,3,FALSE)","v":{"$error":"#N/A"}},{"$f":"VLOOKUP(H69,Results!$A$8:$G$104,2,FALSE)","v":{"$error":"#N/A"}},{"$f":"VLOOKUP(H69,Results!$A$8:$G$104,4,FALSE)","v":{"$error":"#N/A"}},{"$f":"VLOOKUP(H69,Results!$A$8:$G$104,7,FALSE)","v":{"$error":"#N/A"}}]