{"text_format":"1","workbook":"xlsx","n_sheets":15,"sheets":["Results","Instructions","Round Draws","Armies","Module1","Module2","Module3","Module4","Module5","Round 1","Round 2","Round 3","Round 4","Round 5","Round 6"],"not_rendered":{"charts":0,"images":13,"macros":1,"external_links":0,"defined_names":3,"comments":0,"pivot_tables":0},"unopened":[{"sheet":"Module1","index":4,"reason":"part_missing"},{"sheet":"Module2","index":5,"reason":"part_missing"},{"sheet":"Module3","index":6,"reason":"part_missing"},{"sheet":"Module4","index":7,"reason":"part_missing"},{"sheet":"Module5","index":8,"reason":"part_missing"}],"bounds":{"document_bytes":16777216,"sheet_cells":100000,"rows_first":2000,"rows_last":500,"rows_between":2000,"halvings":0,"cell_chars":16384,"cell_head_chars":4096},"cells_cut":0,"cells_raw":0,"read":"whole","date_system":"1900"}

{"sheet":"Results","index":0,"n_rows":116,"n_cols":54,"rows_kept":116,"cut":false,"hidden":false,"merged":[[1,51,1,53],[2,4,2,5],[3,4,3,5],[2,1,2,2],[3,1,3,2]]}
["V2.0",null,null,"L'Art de la Guerre - Result Sheet"]
[null,null,null,null,null,null,null,null,null,null,null,null,null,null,null,null,null,null,null,null,null,null,null,null,null,null,null,null,null,null,null,null,null,null,null,null,null,null,null,null,null,null,null,null,null,null,null,null,null,null,null,"Umpire Zone"]
["Tournament","Warfare",null,"Date","2017-11-17",null,"# Players (4 - 65)",44]
["Theme","Période Ancienne",null,"Country","UK",null,"# Rounds (3 - 6)",5]
[]
[null,null,null,null,null,null,null,null,null,null,null,"Tour 1",null,null,null,null,null,null,"Tour 2",null,null,null,null,null,null,"Tour 3",null,null,null,null,null,null,"Tour 4",null,null,null,null,null,null,"Tour 5",null,null,null,null,null,null,"Tour 6",null,null,null,null,"Opponents","Ex-Aequo","Ajustment"]
["ID","Surname","First Name","Club","Points","N°","Army","Units","ID ","Opponent",null,"Result",null,"Losses","Points","ID ","Opponent",null,"Result",null,"Losses","Points","ID ","Opponent",null,"Result",null,"Losses","Points","ID ","Opponent",null,"Result",null,"Losses","Points","ID ","Opponent",null,"Result",null,"Losses","Points","ID ","Oppoenent",null,"Result",null,"Losses","Points",null,"Scores",null,"Points"]
[null,null,null,null,{"$f":"O8+V8+AC8+AJ8+AQ8+AX8+BB8","v":0},null,{"$f":"IF($F8<>\"\",VLOOKUP(F8,Armies!$A$1:$B$283,2,FALSE),\"\")","v":""},null,null,{"$f":"IF(I8<>\"\",VLOOKUP(I8,$A$8:$C$72,2,FALSE),\"\")","v":""},{"$f":"IF(I8<>\"\",IF(I8=$A8,\"ERR\",IF(OR(I8=$P8,I8=$W8,I8=$AD8,I8=$AK8,I8=$AR8),\"DUP\",IF(ISNA(VLOOKUP(I8,$A$8:$A$72,1,FALSE)),\"ERR\",IF(COUNTIF($I$8:$I$72,I8)>1,\"ERR\",IF($D8=VLOOKUP(I8,$A$8:$D$72,4,FALSE),\"CLUB\",\"OK\"))))),\"\")","v":""},null,{"$f":"IF(L8<>\"\",IF(L8=\"Victoire\",IF(VLOOKUP(I8,$A$8:$L$72,12,FALSE)=\"Défaite\",\"OK\",\"ERR\"),IF(L8=\"Défaite\",IF(VLOOKUP(I8,$A$8:$L$72,12,FALSE)=\"Victoire\",\"OK\",\"ERR\"),IF(L8=\"Nul\",IF(VLOOKUP(I8,$A$8:$L$72,12,FALSE)=\"Nul\",\"OK\",\"ERR\")))),\"\")","v":""},null,{"$f":"IF(L8=\"Victoire\",100-ROUNDDOWN(20*N8/$H8,0),\nIF(L8=\"Défaite\",10+ROUNDDOWN(20*VLOOKUP(I8,$A$8:$N$72,14,FALSE)/VLOOKUP(I8,$A$8:$H$72,8,FALSE),0),\nIF(AND(L8=\"Nul\",$N8<>$H8),40+(2*ROUNDDOWN(10*VLOOKUP(I8,$A$8:$N$72,14,FALSE)/VLOOKUP(I8,$A$8:$H$72,8,FALSE),0)-ROUNDDOWN(10*N8/$H8,0)),IF(AND(L8=\"Nul\",$N8=$H8),58,0))))","v":0},null,{"$f":"IF(P8<>\"\",VLOOKUP(P8,$A$8:$C$72,2,FALSE),\"\")","v":""},{"$f":"IF(P8<>\"\",IF(P8=$A8,\"ERR\",IF(OR(P8=$I8,P8=$W8,P8=$AD8,P8=$AK8,P8=$AR8),\"DUP\",IF(ISNA(VLOOKUP(P8,$A$8:$A$72,1,FALSE)),\"ERR\",IF(COUNTIF($I$8:$I$72,P8)>1,\"ERR\",IF($D8=VLOOKUP(P8,$A$8:$D$72,4,FALSE),\"CLUB\",\"OK\"))))),\"\")","v":""},null,{"$f":"IF(S8<>\"\",IF(S8=\"Victoire\",IF(VLOOKUP(P8,$A$8:$AO$72,19,FALSE)=\"Défaite\",\"OK\",\"ERR\"),IF(S8=\"Défaite\",IF(VLOOKUP(P8,$A$8:$AO$72,19,FALSE)=\"Victoire\",\"OK\",\"ERR\"),IF(S8=\"Nul\",IF(VLOOKUP(P8,$A$8:$AO$72,19,FALSE)=\"Nul\",\"OK\",\"ERR\")))),\"\")","v":""},null,{"$f":"IF(S8=\"Victoire\",100-ROUNDDOWN(20*U8/$H8,0),\nIF(S8=\"Défaite\",10+ROUNDDOWN(20*VLOOKUP(P8,$A$8:$AO$72,21,FALSE)/VLOOKUP(P8,$A$8:$H$72,8,FALSE),0),\nIF(AND(S8=\"Nul\",$U8<>$H8),40+(2*ROUNDDOWN(10*VLOOKUP(P8,$A$8:$AO$72,21,FALSE)/VLOOKUP(P8,$A$8:$H$72,8,FALSE),0)-ROUNDDOWN(10*U8/$H8,0)),IF(AND(S8=\"Nul\",$U8=$H8),58,0))))","v":0},null,{"$f":"IF(W8<>\"\",VLOOKUP(W8,$A$8:$C$72,2,FALSE),\"\")","v":""},{"$f":"IF(W8<>\"\",IF(W8=$A8,\"ERR\",IF(OR(W8=$P8,W8=$I8,W8=$AD8,W8=$AK8,W8=$AR8),\"DUP\",IF(ISNA(VLOOKUP(W8,$A$8:$A$72,1,FALSE)),\"ERR\",IF(COUNTIF($I$8:$I$72,W8)>1,\"ERR\",IF($D8=VLOOKUP(W8,$A$8:$D$72,4,FALSE),\"CLUB\",\"OK\"))))),\"\")","v":""},null,{"$f":"IF(Z8<>\"\",IF(Z8=\"Victoire\",IF(VLOOKUP(W8,$A$8:$AO$72,26,FALSE)=\"Défaite\",\"OK\",\"ERR\"),IF(Z8=\"Défaite\",IF(VLOOKUP(W8,$A$8:$AO$72,26,FALSE)=\"Victoire\",\"OK\",\"ERR\"),IF(Z8=\"Nul\",IF(VLOOKUP(W8,$A$8:$AO$72,26,FALSE)=\"Nul\",\"OK\",\"ERR\")))),\"\")","v":""},null,{"$f":"IF(Z8=\"Victoire\",100-ROUNDDOWN(20*AB8/$H8,0),\nIF(Z8=\"Défaite\",10+ROUNDDOWN(20*VLOOKUP(W8,$A$8:$AO$72,28,FALSE)/VLOOKUP(W8,$A$8:$H$72,8,FALSE),0),\nIF(AND(Z8=\"Nul\",$AB8<>$H8),40+(2*ROUNDDOWN(10*VLOOKUP(W8,$A$8:$AO$72,28,FALSE)/VLOOKUP(W8,$A$8:$H$72,8,FALSE),0)-ROUNDDOWN(10*AB8/$H8,0)),IF(AND(Z8=\"Nul\",$AB8=$H8),58,0))))","v":0},null,{"$f":"IF(AD8<>\"\",VLOOKUP(AD8,$A$8:$C$72,2,FALSE),\"\")","v":""},{"$f":"IF(AD8<>\"\",IF(AD8=$A8,\"ERR\",IF(OR(AD8=$P8,AD8=$W8,AD8=$I8,AD8=$AK8,AD8=$AR8),\"DUP\",IF(ISNA(VLOOKUP(AD8,$A$8:$A$72,1,FALSE)),\"ERR\",IF(COUNTIF($I$8:$I$72,AD8)>1,\"ERR\",IF($D8=VLOOKUP(AD8,$A$8:$D$72,4,FALSE),\"CLUB\",\"OK\"))))),\"\")","v":""},null,{"$f":"IF(AG8<>\"\",IF(AG8=\"Victoire\",IF(VLOOKUP(AD8,$A$8:$AO$72,33,FALSE)=\"Défaite\",\"OK\",\"ERR\"),IF(AG8=\"Défaite\",IF(VLOOKUP(AD8,$A$8:$AO$72,33,FALSE)=\"Victoire\",\"OK\",\"ERR\"),IF(AG8=\"Nul\",IF(VLOOKUP(AD8,$A$8:$AO$72,33,FALSE)=\"Nul\",\"OK\",\"ERR\")))),\"\")","v":""},null,{"$f":"IF(AG8=\"Victoire\",100-ROUNDDOWN(20*AI8/$H8,0),\nIF(AG8=\"Défaite\",10+ROUNDDOWN(20*VLOOKUP(AD8,$A$8:$AO$72,35,FALSE)/VLOOKUP(AD8,$A$8:$H$72,8,FALSE),0),\nIF(AND(AG8=\"Nul\",$AI8<>$H8),40+(2*ROUNDDOWN(10*VLOOKUP(AD8,$A$8:$AO$72,35,FALSE)/VLOOKUP(AD8,$A$8:$H$72,8,FALSE),0)-ROUNDDOWN(10*AI8/$H8,0)),IF(AND(AG8=\"Nul\",$AI8=$H8),58,0))))","v":0},null,{"$f":"IF(AK8<>\"\",VLOOKUP(AK8,$A$8:$C$72,2,FALSE),\"\")","v":""},{"$f":"IF(AK8<>\"\",IF(AK8=$A8,\"ERR\",IF(OR(AK8=$P8,AK8=$W8,AK8=$AD8,AK8=$I8,AK8=$AR8),\"DUP\",IF(ISNA(VLOOKUP(AK8,$A$8:$A$72,1,FALSE)),\"ERR\",IF(COUNTIF($I$8:$I$72,AK8)>1,\"ERR\",IF($D8=VLOOKUP(AK8,$A$8:$D$72,4,FALSE),\"CLUB\",\"OK\"))))),\"\")","v":""},null,{"$f":"IF(AN8<>\"\",IF(AN8=\"Victoire\",IF(VLOOKUP(AK8,$A$8:$AO$72,40,FALSE)=\"Défaite\",\"OK\",\"ERR\"),IF(AN8=\"Défaite\",IF(VLOOKUP(AK8,$A$8:$AO$72,40,FALSE)=\"Victoire\",\"OK\",\"ERR\"),IF(AN8=\"Nul\",IF(VLOOKUP(AK8,$A$8:$AO$72,40,FALSE)=\"Nul\",\"OK\",\"ERR\")))),\"\")","v":""},null,{"$f":"IF(AN8=\"Victoire\",100-ROUNDDOWN(20*AP8/$H8,0),\nIF(AN8=\"Défaite\",10+ROUNDDOWN(20*VLOOKUP(AK8,$A$8:$BG$72,42,FALSE)/VLOOKUP(AK8,$A$8:$H$72,8,FALSE),0),\nIF(AND(AN8=\"Nul\",$AP8<>$H8),40+(2*ROUNDDOWN(10*VLOOKUP(AK8,$A$8:$BG$72,42,FALSE)/VLOOKUP(AK8,$A$8:$H$72,8,FALSE),0)-ROUNDDOWN(10*AP8/$H8,0)),IF(AND(AN8=\"Nul\",$AP8=$H8),58,0))))","v":0},null,{"$f":"IF(AR8<>\"\",VLOOKUP(AR8,$A$8:$C$72,2,FALSE),\"\")","v":""},{"$f":"IF(AR8<>\"\",IF(AR8=$A8,\"ERR\",IF(OR(AR8=$P8,AR8=$W8,AR8=$AD8,AR8=$I8,AR8=$AK8),\"DUP\",IF(ISNA(VLOOKUP(AR8,$A$8:$A$72,1,FALSE)),\"ERR\",IF(COUNTIF($I$8:$I$72,AR8)>1,\"ERR\",IF($D8=VLOOKUP(AR8,$A$8:$D$72,4,FALSE),\"CLUB\",\"OK\"))))),\"\")","v":""},null,{"$f":"IF(AU8<>\"\",IF(AU8=\"Victoire\",IF(VLOOKUP(AR8,$A$8:$AO$72,47,FALSE)=\"Défaite\",\"OK\",\"ERR\"),IF(AU8=\"Défaite\",IF(VLOOKUP(AR8,$A$8:$AO$72,47,FALSE)=\"Victoire\",\"OK\",\"ERR\"),IF(AU8=\"Nul\",IF(VLOOKUP(AR8,$A$8:$AO$72,47,FALSE)=\"Nul\",\"OK\",\"ERR\")))),\"\")","v":""},null,{"$f":"IF(AU8=\"Victoire\",100-ROUNDDOWN(20*AW8/$H8,0),\nIF(AU8=\"Défaite\",10+ROUNDDOWN(20*VLOOKUP(AR8,$A$8:$BG$72,49,FALSE)/VLOOKUP(AR8,$A$8:$H$72,8,FALSE),0),\nIF(AND(AU8=\"Nul\",$AP8<>$H8),40+(2*ROUNDDOWN(10*VLOOKUP(AR8,$A$8:$BG$72,49,FALSE)/VLOOKUP(AR8,$A$8:$H$72,8,FALSE),0)-ROUNDDOWN(10*AW8/$H8,0)),IF(AND(AU8=\"Nul\",$AP8=$H8),58,0))))","v":0},null,{"$f":"IF($I8<>\"\",VLOOKUP($I8,$A$8:$N$72,5,FALSE),0)+IF($P8<>\"\",VLOOKUP($P8,$A$8:$N$72,5,FALSE),0)+IF($W8<>\"\",VLOOKUP($W8,$A$8:$N$72,5,FALSE),0)+IF($AD8<>\"\",VLOOKUP($AD8,$A$8:$N$72,5,FALSE),0)+IF($AK8<>\"\",VLOOKUP($AK8,$A$8:$N$72,5,FALSE),0)+IF($AR8<>\"\",VLOOKUP($AR8,$A$8:$N$72,5,FALSE),0)","v":0}]
[null,null,null,null,0,null,{"$f":"IF($F9<>\"\",VLOOKUP(F9,Armies!$A$1:$B$283,2,FALSE),\"\")","v":""},null,null,"","",null,"",null,0,null,"","",null,"",null,0,null,"","",null,"",null,0,null,"","",null,"",null,0,null,"","",null,"",null,0,null,"","",null,"",null,0,null,0]
[null,null,null,null,0,null,{"$f":"IF($F10<>\"\",VLOOKUP(F10,Armies!$A$1:$B$283,2,FALSE),\"\")","v":""},null,null,"","",null,"",null,0,null,"","",null,"",null,0,null,"","",null,"",null,0,null,"","",null,"",null,0,null,"","",null,"",null,0,null,"","",null,"",null,0,null,0]
[null,null,null,null,0,null,{"$f":"IF($F11<>\"\",VLOOKUP(F11,Armies!$A$1:$B$283,2,FALSE),\"\")","v":""},null,null,"","",null,"",null,0,null,"","",null,"",null,0,null,"","",null,"",null,0,null,"","",null,"",null,0,null,"","",null,"",null,0,null,"","",null,"",null,0,null,0]
[null,null,null,null,0,null,{"$f":"IF($F12<>\"\",VLOOKUP(F12,Armies!$A$1:$B$283,2,FALSE),\"\")","v":""},null,null,"","",null,"",null,0,null,"","",null,"",null,0,null,"","",null,"",null,0,null,"","",null,"",null,0,null,"","",null,"",null,0,null,"","",null,"",null,0,null,0]
[null,null,null,null,0,null,{"$f":"IF($F13<>\"\",VLOOKUP(F13,Armies!$A$1:$B$283,2,FALSE),\"\")","v":""},null,null,"","",null,"",null,0,null,"","",null,"",null,0,null,"","",null,"",null,0,null,"","",null,"",null,0,null,"","",null,"",null,0,null,"","",null,"",null,0,null,0]
[null,null,null,null,0,null,{"$f":"IF($F14<>\"\",VLOOKUP(F14,Armies!$A$1:$B$283,2,FALSE),\"\")","v":""},null,null,"","",null,"",null,0,null,"","",null,"",null,0,null,"","",null,"",null,0,null,"","",null,"",null,0,null,"","",null,"",null,0,null,"","",null,"",null,0,null,0]
[null,null,null,null,0,null,{"$f":"IF($F15<>\"\",VLOOKUP(F15,Armies!$A$1:$B$283,2,FALSE),\"\")","v":""},null,null,"","",null,"",null,0,null,"","",null,"",null,0,null,"","",null,"",null,0,null,"","",null,"",null,0,null,"","",null,"",null,0,null,"","",null,"",null,0,null,0]
[null,null,null,null,0,null,{"$f":"IF($F16<>\"\",VLOOKUP(F16,Armies!$A$1:$B$283,2,FALSE),\"\")","v":""},null,null,"","",null,"",null,0,null,"","",null,"",null,0,null,"","",null,"",null,0,null,"","",null,"",null,0,null,"","",null,"",null,0,null,"","",null,"",null,0,null,0]
[null,null,null,null,0,null,{"$f":"IF($F17<>\"\",VLOOKUP(F17,Armies!$A$1:$B$283,2,FALSE),\"\")","v":""},null,null,"","",null,"",null,0,null,"","",null,"",null,0,null,"","",null,"",null,0,null,"","",null,"",null,0,null,"","",null,"",null,0,null,"","",null,"",null,0,null,0]
[null,null,null,null,0,null,{"$f":"IF($F18<>\"\",VLOOKUP(F18,Armies!$A$1:$B$283,2,FALSE),\"\")","v":""},null,null,"","",null,"",null,0,null,"","",null,"",null,0,null,"","",null,"",null,0,null,"","",null,"",null,0,null,"","",null,"",null,0,null,"","",null,"",null,0,null,0]
[null,null,null,null,0,null,{"$f":"IF($F19<>\"\",VLOOKUP(F19,Armies!$A$1:$B$283,2,FALSE),\"\")","v":""},null,null,"","",null,"",null,0,null,"","",null,"",null,0,null,"","",null,"",null,0,null,"","",null,"",null,0,null,"","",null,"",null,0,null,"","",null,"",null,0,null,0]
[null,null,null,null,0,null,{"$f":"IF($F20<>\"\",VLOOKUP(F20,Armies!$A$1:$B$283,2,FALSE),\"\")","v":""},null,null,"","",null,"",null,0,null,"","",null,"",null,0,null,"","",null,"",null,0,null,"","",null,"",null,0,null,"","",null,"",null,0,null,"","",null,"",null,0,null,0]
[null,null,null,null,0,null,{"$f":"IF($F21<>\"\",VLOOKUP(F21,Armies!$A$1:$B$283,2,FALSE),\"\")","v":""},null,null,"","",null,"",null,0,null,"","",null,"",null,0,null,"","",null,"",null,0,null,"","",null,"",null,0,null,"","",null,"",null,0,null,"","",null,"",null,0,null,0]
[null,null,null,null,0,null,{"$f":"IF($F22<>\"\",VLOOKUP(F22,Armies!$A$1:$B$283,2,FALSE),\"\")","v":""},null,null,"","",null,"",null,0,null,"","",null,"",null,0,null,"","",null,"",null,0,null,"","",null,"",null,0,null,"","",null,"",null,0,null,"","",null,"",null,0,null,0]
[null,null,null,null,0,null,{"$f":"IF($F23<>\"\",VLOOKUP(F23,Armies!$A$1:$B$283,2,FALSE),\"\")","v":""},null,null,"","",null,"",null,0,null,"","",null,"",null,0,null,"","",null,"",null,0,null,"","",null,"",null,0,null,"","",null,"",null,0,null,"","",null,"",null,0,null,0]
[null,null,null,null,0,null,{"$f":"IF($F24<>\"\",VLOOKUP(F24,Armies!$A$1:$B$283,2,FALSE),\"\")","v":""},null,null,"","",null,"",null,0,null,"","",null,"",null,0,null,"","",null,"",null,0,null,"","",null,"",null,0,null,"","",null,"",null,0,null,"","",null,"",null,0,null,0]
[null,null,null,null,0,null,{"$f":"IF($F25<>\"\",VLOOKUP(F25,Armies!$A$1:$B$283,2,FALSE),\"\")","v":""},null,null,"","",null,"",null,0,null,"","",null,"",null,0,null,"","",null,"",null,0,null,"","",null,"",null,0,null,"","",null,"",null,0,null,"","",null,"",null,0,null,0]
[null,null,null,null,0,null,{"$f":"IF($F26<>\"\",VLOOKUP(F26,Armies!$A$1:$B$283,2,FALSE),\"\")","v":""},null,null,"","",null,"",null,0,null,"","",null,"",null,0,null,"","",null,"",null,0,null,"","",null,"",null,0,null,"","",null,"",null,0,null,"","",null,"",null,0,null,0]
[null,null,null,null,0,null,{"$f":"IF($F27<>\"\",VLOOKUP(F27,Armies!$A$1:$B$283,2,FALSE),\"\")","v":""},null,null,"","",null,"",null,0,null,"","",null,"",null,0,null,"","",null,"",null,0,null,"","",null,"",null,0,null,"","",null,"",null,0,null,"","",null,"",null,0,null,0]
[null,null,null,null,0,null,{"$f":"IF($F28<>\"\",VLOOKUP(F28,Armies!$A$1:$B$283,2,FALSE),\"\")","v":""},null,null,"","",null,"",null,0,null,"","",null,"",null,0,null,"","",null,"",null,0,null,"","",null,"",null,0,null,"","",null,"",null,0,null,"","",null,"",null,0,null,0]
[null,null,null,null,0,null,{"$f":"IF($F29<>\"\",VLOOKUP(F29,Armies!$A$1:$B$283,2,FALSE),\"\")","v":""},null,null,"","",null,"",null,0,null,"","",null,"",null,0,null,"","",null,"",null,0,null,"","",null,"",null,0,null,"","",null,"",null,0,null,"","",null,"",null,0,null,0]
[null,null,null,null,0,null,{"$f":"IF($F30<>\"\",VLOOKUP(F30,Armies!$A$1:$B$283,2,FALSE),\"\")","v":""},null,null,"","",null,"",null,0,null,"","",null,"",null,0,null,"","",null,"",null,0,null,"","",null,"",null,0,null,"","",null,"",null,0,null,"","",null,"",null,0,null,0]
[null,null,null,null,0,null,{"$f":"IF($F31<>\"\",VLOOKUP(F31,Armies!$A$1:$B$283,2,FALSE),\"\")","v":""},null,null,"","",null,"",null,0,null,"","",null,"",null,0,null,"","",null,"",null,0,null,"","",null,"",null,0,null,"","",null,"",null,0,null,"","",null,"",null,0,null,0]
[null,null,null,null,0,null,{"$f":"IF($F32<>\"\",VLOOKUP(F32,Armies!$A$1:$B$283,2,FALSE),\"\")","v":""},null,null,"","",null,"",null,0,null,"","",null,"",null,0,null,"","",null,"",null,0,null,"","",null,"",null,0,null,"","",null,"",null,0,null,"","",null,"",null,0,null,0]
[null,null,null,null,0,null,{"$f":"IF($F33<>\"\",VLOOKUP(F33,Armies!$A$1:$B$283,2,FALSE),\"\")","v":""},null,null,"","",null,"",null,0,null,"","",null,"",null,0,null,"","",null,"",null,0,null,"","",null,"",null,0,null,"","",null,"",null,0,null,"","",null,"",null,0,null,0]
[null,null,null,null,0,null,{"$f":"IF($F34<>\"\",VLOOKUP(F34,Armies!$A$1:$B$283,2,FALSE),\"\")","v":""},null,null,"","",null,"",null,0,null,"","",null,"",null,0,null,"","",null,"",null,0,null,"","",null,"",null,0,null,"","",null,"",null,0,null,"","",null,"",null,0,null,0]
[null,null,null,null,0,null,{"$f":"IF($F35<>\"\",VLOOKUP(F35,Armies!$A$1:$B$283,2,FALSE),\"\")","v":""},null,null,"","",null,"",null,0,null,"","",null,"",null,0,null,"","",null,"",null,0,null,"","",null,"",null,0,null,"","",null,"",null,0,null,"","",null,"",null,0,null,0]
[null,null,null,null,0,null,{"$f":"IF($F36<>\"\",VLOOKUP(F36,Armies!$A$1:$B$283,2,FALSE),\"\")","v":""},null,null,"","",null,"",null,0,null,"","",null,"",null,0,null,"","",null,"",null,0,null,"","",null,"",null,0,null,"","",null,"",null,0,null,"","",null,"",null,0,null,0]
[null,null,null,null,0,null,{"$f":"IF($F37<>\"\",VLOOKUP(F37,Armies!$A$1:$B$283,2,FALSE),\"\")","v":""},null,null,"","",null,"",null,0,null,"","",null,"",null,0,null,"","",null,"",null,0,null,"","",null,"",null,0,null,"","",null,"",null,0,null,"","",null,"",null,0,null,0]
[null,null,null,null,0,null,{"$f":"IF($F38<>\"\",VLOOKUP(F38,Armies!$A$1:$B$283,2,FALSE),\"\")","v":""},null,null,"","",null,"",null,0,null,"","",null,"",null,0,null,"","",null,"",null,0,null,"","",null,"",null,0,null,"","",null,"",null,0,null,"","",null,"",null,0,null,0]
[null,null,null,null,0,null,{"$f":"IF($F39<>\"\",VLOOKUP(F39,Armies!$A$1:$B$283,2,FALSE),\"\")","v":""},null,null,"","",null,"",null,0,null,"","",null,"",null,0,null,"","",null,"",null,0,null,"","",null,"",null,0,null,"","",null,"",null,0,null,"","",null,"",null,0,null,0]
[null,null,null,null,{"$f":"O40+V40+AC40+AJ40+AQ40+AX40+BB40","v":0},null,{"$f":"IF($F40<>\"\",VLOOKUP(F40,Armies!$A$1:$B$283,2,FALSE),\"\")","v":""},null,null,{"$f":"IF(I40<>\"\",VLOOKUP(I40,$A$8:$C$72,2,FALSE),\"\")","v":""},{"$f":"IF(I40<>\"\",IF(I40=$A40,\"ERR\",IF(OR(I40=$P40,I40=$W40,I40=$AD40,I40=$AK40,I40=$AR40),\"DUP\",IF(ISNA(VLOOKUP(I40,$A$8:$A$72,1,FALSE)),\"ERR\",IF(COUNTIF($I$8:$I$72,I40)>1,\"ERR\",IF($D40=VLOOKUP(I40,$A$8:$D$72,4,FALSE),\"CLUB\",\"OK\"))))),\"\")","v":""},null,{"$f":"IF(L40<>\"\",IF(L40=\"Victoire\",IF(VLOOKUP(I40,$A$8:$L$72,12,FALSE)=\"Défaite\",\"OK\",\"ERR\"),IF(L40=\"Défaite\",IF(VLOOKUP(I40,$A$8:$L$72,12,FALSE)=\"Victoire\",\"OK\",\"ERR\"),IF(L40=\"Nul\",IF(VLOOKUP(I40,$A$8:$L$72,12,FALSE)=\"Nul\",\"OK\",\"ERR\")))),\"\")","v":""},null,{"$f":"IF(L40=\"Victoire\",100-ROUNDDOWN(20*N40/$H40,0),\nIF(L40=\"Défaite\",10+ROUNDDOWN(20*VLOOKUP(I40,$A$8:$N$72,14,FALSE)/VLOOKUP(I40,$A$8:$H$72,8,FALSE),0),\nIF(AND(L40=\"Nul\",$N40<>$H40),40+(2*ROUNDDOWN(10*VLOOKUP(I40,$A$8:$N$72,14,FALSE)/VLOOKUP(I40,$A$8:$H$72,8,FALSE),0)-ROUNDDOWN(10*N40/$H40,0)),IF(AND(L40=\"Nul\",$N40=$H40),58,0))))","v":0},null,{"$f":"IF(P40<>\"\",VLOOKUP(P40,$A$8:$C$72,2,FALSE),\"\")","v":""},{"$f":"IF(P40<>\"\",IF(P40=$A40,\"ERR\",IF(OR(P40=$I40,P40=$W40,P40=$AD40,P40=$AK40,P40=$AR40),\"DUP\",IF(ISNA(VLOOKUP(P40,$A$8:$A$72,1,FALSE)),\"ERR\",IF(COUNTIF($I$8:$I$72,P40)>1,\"ERR\",IF($D40=VLOOKUP(P40,$A$8:$D$72,4,FALSE),\"CLUB\",\"OK\"))))),\"\")","v":""},null,{"$f":"IF(S40<>\"\",IF(S40=\"Victoire\",IF(VLOOKUP(P40,$A$8:$AO$72,19,FALSE)=\"Défaite\",\"OK\",\"ERR\"),IF(S40=\"Défaite\",IF(VLOOKUP(P40,$A$8:$AO$72,19,FALSE)=\"Victoire\",\"OK\",\"ERR\"),IF(S40=\"Nul\",IF(VLOOKUP(P40,$A$8:$AO$72,19,FALSE)=\"Nul\",\"OK\",\"ERR\")))),\"\")","v":""},null,{"$f":"IF(S40=\"Victoire\",100-ROUNDDOWN(20*U40/$H40,0),\nIF(S40=\"Défaite\",10+ROUNDDOWN(20*VLOOKUP(P40,$A$8:$AO$72,21,FALSE)/VLOOKUP(P40,$A$8:$H$72,8,FALSE),0),\nIF(AND(S40=\"Nul\",$U40<>$H40),40+(2*ROUNDDOWN(10*VLOOKUP(P40,$A$8:$AO$72,21,FALSE)/VLOOKUP(P40,$A$8:$H$72,8,FALSE),0)-ROUNDDOWN(10*U40/$H40,0)),IF(AND(S40=\"Nul\",$U40=$H40),58,0))))","v":0},null,{"$f":"IF(W40<>\"\",VLOOKUP(W40,$A$8:$C$72,2,FALSE),\"\")","v":""},{"$f":"IF(W40<>\"\",IF(W40=$A40,\"ERR\",IF(OR(W40=$P40,W40=$I40,W40=$AD40,W40=$AK40,W40=$AR40),\"DUP\",IF(ISNA(VLOOKUP(W40,$A$8:$A$72,1,FALSE)),\"ERR\",IF(COUNTIF($I$8:$I$72,W40)>1,\"ERR\",IF($D40=VLOOKUP(W40,$A$8:$D$72,4,FALSE),\"CLUB\",\"OK\"))))),\"\")","v":""},null,{"$f":"IF(Z40<>\"\",IF(Z40=\"Victoire\",IF(VLOOKUP(W40,$A$8:$AO$72,26,FALSE)=\"Défaite\",\"OK\",\"ERR\"),IF(Z40=\"Défaite\",IF(VLOOKUP(W40,$A$8:$AO$72,26,FALSE)=\"Victoire\",\"OK\",\"ERR\"),IF(Z40=\"Nul\",IF(VLOOKUP(W40,$A$8:$AO$72,26,FALSE)=\"Nul\",\"OK\",\"ERR\")))),\"\")","v":""},null,{"$f":"IF(Z40=\"Victoire\",100-ROUNDDOWN(20*AB40/$H40,0),\nIF(Z40=\"Défaite\",10+ROUNDDOWN(20*VLOOKUP(W40,$A$8:$AO$72,28,FALSE)/VLOOKUP(W40,$A$8:$H$72,8,FALSE),0),\nIF(AND(Z40=\"Nul\",$AB40<>$H40),40+(2*ROUNDDOWN(10*VLOOKUP(W40,$A$8:$AO$72,28,FALSE)/VLOOKUP(W40,$A$8:$H$72,8,FALSE),0)-ROUNDDOWN(10*AB40/$H40,0)),IF(AND(Z40=\"Nul\",$AB40=$H40),58,0))))","v":0},null,{"$f":"IF(AD40<>\"\",VLOOKUP(AD40,$A$8:$C$72,2,FALSE),\"\")","v":""},{"$f":"IF(AD40<>\"\",IF(AD40=$A40,\"ERR\",IF(OR(AD40=$P40,AD40=$W40,AD40=$I40,AD40=$AK40,AD40=$AR40),\"DUP\",IF(ISNA(VLOOKUP(AD40,$A$8:$A$72,1,FALSE)),\"ERR\",IF(COUNTIF($I$8:$I$72,AD40)>1,\"ERR\",IF($D40=VLOOKUP(AD40,$A$8:$D$72,4,FALSE),\"CLUB\",\"OK\"))))),\"\")","v":""},null,{"$f":"IF(AG40<>\"\",IF(AG40=\"Victoire\",IF(VLOOKUP(AD40,$A$8:$AO$72,33,FALSE)=\"Défaite\",\"OK\",\"ERR\"),IF(AG40=\"Défaite\",IF(VLOOKUP(AD40,$A$8:$AO$72,33,FALSE)=\"Victoire\",\"OK\",\"ERR\"),IF(AG40=\"Nul\",IF(VLOOKUP(AD40,$A$8:$AO$72,33,FALSE)=\"Nul\",\"OK\",\"ERR\")))),\"\")","v":""},null,{"$f":"IF(AG40=\"Victoire\",100-ROUNDDOWN(20*AI40/$H40,0),\nIF(AG40=\"Défaite\",10+ROUNDDOWN(20*VLOOKUP(AD40,$A$8:$AO$72,35,FALSE)/VLOOKUP(AD40,$A$8:$H$72,8,FALSE),0),\nIF(AND(AG40=\"Nul\",$AI40<>$H40),40+(2*ROUNDDOWN(10*VLOOKUP(AD40,$A$8:$AO$72,35,FALSE)/VLOOKUP(AD40,$A$8:$H$72,8,FALSE),0)-ROUNDDOWN(10*AI40/$H40,0)),IF(AND(AG40=\"Nul\",$AI40=$H40),58,0))))","v":0},null,{"$f":"IF(AK40<>\"\",VLOOKUP(AK40,$A$8:$C$72,2,FALSE),\"\")","v":""},{"$f":"IF(AK40<>\"\",IF(AK40=$A40,\"ERR\",IF(OR(AK40=$P40,AK40=$W40,AK40=$AD40,AK40=$I40,AK40=$AR40),\"DUP\",IF(ISNA(VLOOKUP(AK40,$A$8:$A$72,1,FALSE)),\"ERR\",IF(COUNTIF($I$8:$I$72,AK40)>1,\"ERR\",IF($D40=VLOOKUP(AK40,$A$8:$D$72,4,FALSE),\"CLUB\",\"OK\"))))),\"\")","v":""},null,{"$f":"IF(AN40<>\"\",IF(AN40=\"Victoire\",IF(VLOOKUP(AK40,$A$8:$AO$72,40,FALSE)=\"Défaite\",\"OK\",\"ERR\"),IF(AN40=\"Défaite\",IF(VLOOKUP(AK40,$A$8:$AO$72,40,FALSE)=\"Victoire\",\"OK\",\"ERR\"),IF(AN40=\"Nul\",IF(VLOOKUP(AK40,$A$8:$AO$72,40,FALSE)=\"Nul\",\"OK\",\"ERR\")))),\"\")","v":""},null,{"$f":"IF(AN40=\"Victoire\",100-ROUNDDOWN(20*AP40/$H40,0),\nIF(AN40=\"Défaite\",10+ROUNDDOWN(20*VLOOKUP(AK40,$A$8:$BG$72,42,FALSE)/VLOOKUP(AK40,$A$8:$H$72,8,FALSE),0),\nIF(AND(AN40=\"Nul\",$AP40<>$H40),40+(2*ROUNDDOWN(10*VLOOKUP(AK40,$A$8:$BG$72,42,FALSE)/VLOOKUP(AK40,$A$8:$H$72,8,FALSE),0)-ROUNDDOWN(10*AP40/$H40,0)),IF(AND(AN40=\"Nul\",$AP40=$H40),58,0))))","v":0},null,{"$f":"IF(AR40<>\"\",VLOOKUP(AR40,$A$8:$C$72,2,FALSE),\"\")","v":""},{"$f":"IF(AR40<>\"\",IF(AR40=$A40,\"ERR\",IF(OR(AR40=$P40,AR40=$W40,AR40=$AD40,AR40=$I40,AR40=$AK40),\"DUP\",IF(ISNA(VLOOKUP(AR40,$A$8:$A$72,1,FALSE)),\"ERR\",IF(COUNTIF($I$8:$I$72,AR40)>1,\"ERR\",IF($D40=VLOOKUP(AR40,$A$8:$D$72,4,FALSE),\"CLUB\",\"OK\"))))),\"\")","v":""},null,{"$f":"IF(AU40<>\"\",IF(AU40=\"Victoire\",IF(VLOOKUP(AR40,$A$8:$AO$72,47,FALSE)=\"Défaite\",\"OK\",\"ERR\"),IF(AU40=\"Défaite\",IF(VLOOKUP(AR40,$A$8:$AO$72,47,FALSE)=\"Victoire\",\"OK\",\"ERR\"),IF(AU40=\"Nul\",IF(VLOOKUP(AR40,$A$8:$AO$72,47,FALSE)=\"Nul\",\"OK\",\"ERR\")))),\"\")","v":""},null,{"$f":"IF(AU40=\"Victoire\",100-ROUNDDOWN(20*AW40/$H40,0),\nIF(AU40=\"Défaite\",10+ROUNDDOWN(20*VLOOKUP(AR40,$A$8:$BG$72,49,FALSE)/VLOOKUP(AR40,$A$8:$H$72,8,FALSE),0),\nIF(AND(AU40=\"Nul\",$AP40<>$H40),40+(2*ROUNDDOWN(10*VLOOKUP(AR40,$A$8:$BG$72,49,FALSE)/VLOOKUP(AR40,$A$8:$H$72,8,FALSE),0)-ROUNDDOWN(10*AW40/$H40,0)),IF(AND(AU40=\"Nul\",$AP40=$H40),58,0))))","v":0},null,{"$f":"IF($I40<>\"\",VLOOKUP($I40,$A$8:$N$72,5,FALSE),0)+IF($P40<>\"\",VLOOKUP($P40,$A$8:$N$72,5,FALSE),0)+IF($W40<>\"\",VLOOKUP($W40,$A$8:$N$72,5,FALSE),0)+IF($AD40<>\"\",VLOOKUP($AD40,$A$8:$N$72,5,FALSE),0)+IF($AK40<>\"\",VLOOKUP($AK40,$A$8:$N$72,5,FALSE),0)+IF($AR40<>\"\",VLOOKUP($AR40,$A$8:$N$72,5,FALSE),0)","v":0}]
[null,null,null,null,0,null,{"$f":"IF($F41<>\"\",VLOOKUP(F41,Armies!$A$1:$B$283,2,FALSE),\"\")","v":""},null,null,"","",null,"",null,0,null,"","",null,"",null,0,null,"","",null,"",null,0,null,"","",null,"",null,0,null,"","",null,"",null,0,null,"","",null,"",null,0,null,0]
[null,null,null,null,0,null,{"$f":"IF($F42<>\"\",VLOOKUP(F42,Armies!$A$1:$B$283,2,FALSE),\"\")","v":""},null,null,"","",null,"",null,0,null,"","",null,"",null,0,null,"","",null,"",null,0,null,"","",null,"",null,0,null,"","",null,"",null,0,null,"","",null,"",null,0,null,0]
[null,null,null,null,0,null,{"$f":"IF($F43<>\"\",VLOOKUP(F43,Armies!$A$1:$B$283,2,FALSE),\"\")","v":""},null,null,"","",null,"",null,0,null,"","",null,"",null,0,null,"","",null,"",null,0,null,"","",null,"",null,0,null,"","",null,"",null,0,null,"","",null,"",null,0,null,0]
[null,null,null,null,0,null,{"$f":"IF($F44<>\"\",VLOOKUP(F44,Armies!$A$1:$B$283,2,FALSE),\"\")","v":""},null,null,"","",null,"",null,0,null,"","",null,"",null,0,null,"","",null,"",null,0,null,"","",null,"",null,0,null,"","",null,"",null,0,null,"","",null,"",null,0,null,0]
[null,null,null,null,0,null,{"$f":"IF($F45<>\"\",VLOOKUP(F45,Armies!$A$1:$B$283,2,FALSE),\"\")","v":""},null,null,"","",null,"",null,0,null,"","",null,"",null,0,null,"","",null,"",null,0,null,"","",null,"",null,0,null,"","",null,"",null,0,null,"","",null,"",null,0,null,0]
[null,null,null,null,0,null,{"$f":"IF($F46<>\"\",VLOOKUP(F46,Armies!$A$1:$B$283,2,FALSE),\"\")","v":""},null,null,"","",null,"",null,0,null,"","",null,"",null,0,null,"","",null,"",null,0,null,"","",null,"",null,0,null,"","",null,"",null,0,null,"","",null,"",null,0,null,0]
[null,null,null,null,0,null,{"$f":"IF($F47<>\"\",VLOOKUP(F47,Armies!$A$1:$B$283,2,FALSE),\"\")","v":""},null,null,"","",null,"",null,0,null,"","",null,"",null,0,null,"","",null,"",null,0,null,"","",null,"",null,0,null,"","",null,"",null,0,null,"","",null,"",null,0,null,0]
[null,null,null,null,0,null,{"$f":"IF($F48<>\"\",VLOOKUP(F48,Armies!$A$1:$B$283,2,FALSE),\"\")","v":""},null,null,"","",null,"",null,0,null,"","",null,"",null,0,null,"","",null,"",null,0,null,"","",null,"",null,0,null,"","",null,"",null,0,null,"","",null,"",null,0,null,0]
[null,null,null,null,0,null,{"$f":"IF($F49<>\"\",VLOOKUP(F49,Armies!$A$1:$B$283,2,FALSE),\"\")","v":""},null,null,"","",null,"",null,0,null,"","",null,"",null,0,null,"","",null,"",null,0,null,"","",null,"",null,0,null,"","",null,"",null,0,null,"","",null,"",null,0,null,0]
[null,null,null,null,0,null,{"$f":"IF($F50<>\"\",VLOOKUP(F50,Armies!$A$1:$B$283,2,FALSE),\"\")","v":""},null,null,"","",null,"",null,0,null,"","",null,"",null,0,null,"","",null,"",null,0,null,"","",null,"",null,0,null,"","",null,"",null,0,null,"","",null,"",null,0,null,0]
[null,null,null,null,0,null,{"$f":"IF($F51<>\"\",VLOOKUP(F51,Armies!$A$1:$B$283,2,FALSE),\"\")","v":""},null,null,"","",null,"",null,0,null,"","",null,"",null,0,null,"","",null,"",null,0,null,"","",null,"",null,0,null,"","",null,"",null,0,null,"","",null,"",null,0,null,0]
[null,null,null,null,0,null,{"$f":"IF($F52<>\"\",VLOOKUP(F52,Armies!$A$1:$B$283,2,FALSE),\"\")","v":""},null,null,"","",null,"",null,0,null,"","",null,"",null,0,null,"","",null,"",null,0,null,"","",null,"",null,0,null,"","",null,"",null,0,null,"","",null,"",null,0,null,0]
[null,null,null,null,0,null,{"$f":"IF($F53<>\"\",VLOOKUP(F53,Armies!$A$1:$B$283,2,FALSE),\"\")","v":""},null,null,"","",null,"",null,0,null,"","",null,"",null,0,null,"","",null,"",null,0,null,"","",null,"",null,0,null,"","",null,"",null,0,null,"","",null,"",null,0,null,0]
[null,null,null,null,0,null,{"$f":"IF($F54<>\"\",VLOOKUP(F54,Armies!$A$1:$B$283,2,FALSE),\"\")","v":""},null,null,"","",null,"",null,0,null,"","",null,"",null,0,null,"","",null,"",null,0,null,"","",null,"",null,0,null,"","",null,"",null,0,null,"","",null,"",null,0,null,0]
[null,null,null,null,0,null,{"$f":"IF($F55<>\"\",VLOOKUP(F55,Armies!$A$1:$B$283,2,FALSE),\"\")","v":""},null,null,"","",null,"",null,0,null,"","",null,"",null,0,null,"","",null,"",null,0,null,"","",null,"",null,0,null,"","",null,"",null,0,null,"","",null,"",null,0,null,0]
[null,null,null,null,0,null,{"$f":"IF($F56<>\"\",VLOOKUP(F56,Armies!$A$1:$B$283,2,FALSE),\"\")","v":""},null,null,"","",null,"",null,0,null,"","",null,"",null,0,null,"","",null,"",null,0,null,"","",null,"",null,0,null,"","",null,"",null,0,null,"","",null,"",null,0,null,0]
[null,null,null,null,0,null,{"$f":"IF($F57<>\"\",VLOOKUP(F57,Armies!$A$1:$B$283,2,FALSE),\"\")","v":""},null,null,"","",null,"",null,0,null,"","",null,"",null,0,null,"","",null,"",null,0,null,"","",null,"",null,0,null,"","",null,"",null,0,null,"","",null,"",null,0,null,0]
[null,null,null,null,0,null,{"$f":"IF($F58<>\"\",VLOOKUP(F58,Armies!$A$1:$B$283,2,FALSE),\"\")","v":""},null,null,"","",null,"",null,0,null,"","",null,"",null,0,null,"","",null,"",null,0,null,"","",null,"",null,0,null,"","",null,"",null,0,null,"","",null,"",null,0,null,0]
[null,null,null,null,0,null,{"$f":"IF($F59<>\"\",VLOOKUP(F59,Armies!$A$1:$B$283,2,FALSE),\"\")","v":""},null,null,"","",null,"",null,0,null,"","",null,"",null,0,null,"","",null,"",null,0,null,"","",null,"",null,0,null,"","",null,"",null,0,null,"","",null,"",null,0,null,0]
[null,null,null,null,0,null,{"$f":"IF($F60<>\"\",VLOOKUP(F60,Armies!$A$1:$B$283,2,FALSE),\"\")","v":""},null,null,"","",null,"",null,0,null,"","",null,"",null,0,null,"","",null,"",null,0,null,"","",null,"",null,0,null,"","",null,"",null,0,null,"","",null,"",null,0,null,0]
[null,null,null,null,0,null,{"$f":"IF($F61<>\"\",VLOOKUP(F61,Armies!$A$1:$B$283,2,FALSE),\"\")","v":""},null,null,"","",null,"",null,0,null,"","",null,"",null,0,null,"","",null,"",null,0,null,"","",null,"",null,0,null,"","",null,"",null,0,null,"","",null,"",null,0,null,0]
[null,null,null,null,0,null,{"$f":"IF($F62<>\"\",VLOOKUP(F62,Armies!$A$1:$B$283,2,FALSE),\"\")","v":""},null,null,"","",null,"",null,0,null,"","",null,"",null,0,null,"","",null,"",null,0,null,"","",null,"",null,0,null,"","",null,"",null,0,null,"","",null,"",null,0,null,0]
[null,null,null,null,0,null,{"$f":"IF($F63<>\"\",VLOOKUP(F63,Armies!$A$1:$B$283,2,FALSE),\"\")","v":""},null,null,"","",null,"",null,0,null,"","",null,"",null,0,null,"","",null,"",null,0,null,"","",null,"",null,0,null,"","",null,"",null,0,null,"","",null,"",null,0,null,0]
[null,null,null,null,0,null,{"$f":"IF($F64<>\"\",VLOOKUP(F64,Armies!$A$1:$B$283,2,FALSE),\"\")","v":""},null,null,"","",null,"",null,0,null,"","",null,"",null,0,null,"","",null,"",null,0,null,"","",null,"",null,0,null,"","",null,"",null,0,null,"","",null,"",null,0,null,0]
[null,null,null,null,0,null,{"$f":"IF($F65<>\"\",VLOOKUP(F65,Armies!$A$1:$B$283,2,FALSE),\"\")","v":""},null,null,"","",null,"",null,0,null,"","",null,"",null,0,null,"","",null,"",null,0,null,"","",null,"",null,0,null,"","",null,"",null,0,null,"","",null,"",null,0,null,0]
[null,null,null,null,0,null,{"$f":"IF($F66<>\"\",VLOOKUP(F66,Armies!$A$1:$B$283,2,FALSE),\"\")","v":""},null,null,"","",null,"",null,0,null,"","",null,"",null,0,null,"","",null,"",null,0,null,"","",null,"",null,0,null,"","",null,"",null,0,null,"","",null,"",null,0,null,0]
[null,null,null,null,0,null,{"$f":"IF($F67<>\"\",VLOOKUP(F67,Armies!$A$1:$B$283,2,FALSE),\"\")","v":""},null,null,"","",null,"",null,0,null,"","",null,"",null,0,null,"","",null,"",null,0,null,"","",null,"",null,0,null,"","",null,"",null,0,null,"","",null,"",null,0,null,0]
[null,null,null,null,0,null,{"$f":"IF($F68<>\"\",VLOOKUP(F68,Armies!$A$1:$B$283,2,FALSE),\"\")","v":""},null,null,"","",null,"",null,0,null,"","",null,"",null,0,null,"","",null,"",null,0,null,"","",null,"",null,0,null,"","",null,"",null,0,null,"","",null,"",null,0,null,0]
[null,null,null,null,0,null,{"$f":"IF($F69<>\"\",VLOOKUP(F69,Armies!$A$1:$B$283,2,FALSE),\"\")","v":""},null,null,"","",null,"",null,0,null,"","",null,"",null,0,null,"","",null,"",null,0,null,"","",null,"",null,0,null,"","",null,"",null,0,null,"","",null,"",null,0,null,0]
[null,null,null,null,0,null,{"$f":"IF($F70<>\"\",VLOOKUP(F70,Armies!$A$1:$B$283,2,FALSE),\"\")","v":""},null,null,"","",null,"",null,0,null,"","",null,"",null,0,null,"","",null,"",null,0,null,"","",null,"",null,0,null,"","",null,"",null,0,null,"","",null,"",null,0,null,0]
[null,null,null,null,0,null,{"$f":"IF($F71<>\"\",VLOOKUP(F71,Armies!$A$1:$B$283,2,FALSE),\"\")","v":""},null,null,"","",null,"",null,0,null,"","",null,"",null,0,null,"","",null,"",null,0,null,"","",null,"",null,0,null,"","",null,"",null,0,null,"","",null,"",null,0,null,0]
[null,null,null,null,0,null,{"$f":"IF($F72<>\"\",VLOOKUP(F72,Armies!$A$1:$B$283,2,FALSE),\"\")","v":""},null,null,{"$f":"IF(I72<>\"\",VLOOKUP(I72,$A$8:$C$72,2,FALSE),\"\")","v":""},"",null,{"$f":"IF(L72<>\"\",IF(L72=\"Victoire\",IF(VLOOKUP(I72,$A$8:$L$72,12,FALSE)=\"Défaite\",\"OK\",\"ERR\"),IF(L72=\"Défaite\",IF(VLOOKUP(I72,$A$8:$L$72,12,FALSE)=\"Victoire\",\"OK\",\"ERR\"),IF(L72=\"Nul\",IF(VLOOKUP(I72,$A$8:$L$72,12,FALSE)=\"Nul\",\"OK\",\"ERR\")))),\"\")","v":""},null,{"$f":"IF(L72=\"Victoire\",100-ROUNDDOWN(20*N72/$H72,0),\nIF(L72=\"Défaite\",10+ROUNDDOWN(20*VLOOKUP(I72,$A$8:$N$72,14,FALSE)/VLOOKUP(I72,$A$8:$H$72,8,FALSE),0),\nIF(AND(L72=\"Nul\",$N72<>$H72),40+(2*ROUNDDOWN(10*VLOOKUP(I72,$A$8:$N$72,14,FALSE)/VLOOKUP(I72,$A$8:$H$72,8,FALSE),0)-ROUNDDOWN(10*N72/$H72,0)),IF(AND(L72=\"Nul\",$N72=$H72),58,0))))","v":0},null,{"$f":"IF(P72<>\"\",VLOOKUP(P72,$A$8:$C$72,2,FALSE),\"\")","v":""},"",null,{"$f":"IF(S72<>\"\",IF(S72=\"Victoire\",IF(VLOOKUP(P72,$A$8:$AO$72,19,FALSE)=\"Défaite\",\"OK\",\"ERR\"),IF(S72=\"Défaite\",IF(VLOOKUP(P72,$A$8:$AO$72,19,FALSE)=\"Victoire\",\"OK\",\"ERR\"),IF(S72=\"Nul\",IF(VLOOKUP(P72,$A$8:$AO$72,19,FALSE)=\"Nul\",\"OK\",\"ERR\")))),\"\")","v":""},null,{"$f":"IF(S72=\"Victoire\",100-ROUNDDOWN(20*U72/$H72,0),\nIF(S72=\"Défaite\",10+ROUNDDOWN(20*VLOOKUP(P72,$A$8:$AO$72,21,FALSE)/VLOOKUP(P72,$A$8:$H$72,8,FALSE),0),\nIF(AND(S72=\"Nul\",$U72<>$H72),40+(2*ROUNDDOWN(10*VLOOKUP(P72,$A$8:$AO$72,21,FALSE)/VLOOKUP(P72,$A$8:$H$72,8,FALSE),0)-ROUNDDOWN(10*U72/$H72,0)),IF(AND(S72=\"Nul\",$U72=$H72),58,0))))","v":0},null,{"$f":"IF(W72<>\"\",VLOOKUP(W72,$A$8:$C$72,2,FALSE),\"\")","v":""},"",null,{"$f":"IF(Z72<>\"\",IF(Z72=\"Victoire\",IF(VLOOKUP(W72,$A$8:$AO$72,26,FALSE)=\"Défaite\",\"OK\",\"ERR\"),IF(Z72=\"Défaite\",IF(VLOOKUP(W72,$A$8:$AO$72,26,FALSE)=\"Victoire\",\"OK\",\"ERR\"),IF(Z72=\"Nul\",IF(VLOOKUP(W72,$A$8:$AO$72,26,FALSE)=\"Nul\",\"OK\",\"ERR\")))),\"\")","v":""},null,{"$f":"IF(Z72=\"Victoire\",100-ROUNDDOWN(20*AB72/$H72,0),\nIF(Z72=\"Défaite\",10+ROUNDDOWN(20*VLOOKUP(W72,$A$8:$AO$72,28,FALSE)/VLOOKUP(W72,$A$8:$H$72,8,FALSE),0),\nIF(AND(Z72=\"Nul\",$AB72<>$H72),40+(2*ROUNDDOWN(10*VLOOKUP(W72,$A$8:$AO$72,28,FALSE)/VLOOKUP(W72,$A$8:$H$72,8,FALSE),0)-ROUNDDOWN(10*AB72/$H72,0)),IF(AND(Z72=\"Nul\",$AB72=$H72),58,0))))","v":0},null,{"$f":"IF(AD72<>\"\",VLOOKUP(AD72,$A$8:$C$72,2,FALSE),\"\")","v":""},"",null,{"$f":"IF(AG72<>\"\",IF(AG72=\"Victoire\",IF(VLOOKUP(AD72,$A$8:$AO$72,33,FALSE)=\"Défaite\",\"OK\",\"ERR\"),IF(AG72=\"Défaite\",IF(VLOOKUP(AD72,$A$8:$AO$72,33,FALSE)=\"Victoire\",\"OK\",\"ERR\"),IF(AG72=\"Nul\",IF(VLOOKUP(AD72,$A$8:$AO$72,33,FALSE)=\"Nul\",\"OK\",\"ERR\")))),\"\")","v":""},null,{"$f":"IF(AG72=\"Victoire\",100-ROUNDDOWN(20*AI72/$H72,0),\nIF(AG72=\"Défaite\",10+ROUNDDOWN(20*VLOOKUP(AD72,$A$8:$AO$72,35,FALSE)/VLOOKUP(AD72,$A$8:$H$72,8,FALSE),0),\nIF(AND(AG72=\"Nul\",$AI72<>$H72),40+(2*ROUNDDOWN(10*VLOOKUP(AD72,$A$8:$AO$72,35,FALSE)/VLOOKUP(AD72,$A$8:$H$72,8,FALSE),0)-ROUNDDOWN(10*AI72/$H72,0)),IF(AND(AG72=\"Nul\",$AI72=$H72),58,0))))","v":0},null,{"$f":"IF(AK72<>\"\",VLOOKUP(AK72,$A$8:$C$72,2,FALSE),\"\")","v":""},"",null,{"$f":"IF(AN72<>\"\",IF(AN72=\"Victoire\",IF(VLOOKUP(AK72,$A$8:$AO$72,40,FALSE)=\"Défaite\",\"OK\",\"ERR\"),IF(AN72=\"Défaite\",IF(VLOOKUP(AK72,$A$8:$AO$72,40,FALSE)=\"Victoire\",\"OK\",\"ERR\"),IF(AN72=\"Nul\",IF(VLOOKUP(AK72,$A$8:$AO$72,40,FALSE)=\"Nul\",\"OK\",\"ERR\")))),\"\")","v":""},null,{"$f":"IF(AN72=\"Victoire\",100-ROUNDDOWN(20*AP72/$H72,0),\nIF(AN72=\"Défaite\",10+ROUNDDOWN(20*VLOOKUP(AK72,$A$8:$BG$72,42,FALSE)/VLOOKUP(AK72,$A$8:$H$72,8,FALSE),0),\nIF(AND(AN72=\"Nul\",$AP72<>$H72),40+(2*ROUNDDOWN(10*VLOOKUP(AK72,$A$8:$BG$72,42,FALSE)/VLOOKUP(AK72,$A$8:$H$72,8,FALSE),0)-ROUNDDOWN(10*AP72/$H72,0)),IF(AND(AN72=\"Nul\",$AP72=$H72),58,0))))","v":0},null,{"$f":"IF(AR72<>\"\",VLOOKUP(AR72,$A$8:$C$72,2,FALSE),\"\")","v":""},"",null,{"$f":"IF(AU72<>\"\",IF(AU72=\"Victoire\",IF(VLOOKUP(AR72,$A$8:$AO$72,47,FALSE)=\"Défaite\",\"OK\",\"ERR\"),IF(AU72=\"Défaite\",IF(VLOOKUP(AR72,$A$8:$AO$72,47,FALSE)=\"Victoire\",\"OK\",\"ERR\"),IF(AU72=\"Nul\",IF(VLOOKUP(AR72,$A$8:$AO$72,47,FALSE)=\"Nul\",\"OK\",\"ERR\")))),\"\")","v":""},null,{"$f":"IF(AU72=\"Victoire\",100-ROUNDDOWN(20*AW72/$H72,0),\nIF(AU72=\"Défaite\",10+ROUNDDOWN(20*VLOOKUP(AR72,$A$8:$BG$72,49,FALSE)/VLOOKUP(AR72,$A$8:$H$72,8,FALSE),0),\nIF(AND(AU72=\"Nul\",$AP72<>$H72),40+(2*ROUNDDOWN(10*VLOOKUP(AR72,$A$8:$BG$72,49,FALSE)/VLOOKUP(AR72,$A$8:$H$72,8,FALSE),0)-ROUNDDOWN(10*AW72/$H72,0)),IF(AND(AU72=\"Nul\",$AP72=$H72),58,0))))","v":0},null,0]
[]
[]
[]
[]
[]
[]
[]
[]
[]
[]
[]
[]
[]
[]
[]
[]
[]
[]
[]
[]
[]
[]
[null,"Data"]
[null,"AUS"]
[null,"BEL"]
[null,"ESP"]
[null,"FRA"]
[null,"GRC"]
[null,"ITA","Victoire"]
[null,"NZL","Nul"]
[null,"POR","Défaite"]
[null,"SUI"]
[null,"UK"]
[null,"US"]
[null,"Toutes les périodes"]
[null,"Période Antique"]
[null,"Période Médiévale"]
[null,"Période Ancienne"]
[null,"Période Classique"]
[null,"Période Romaine"]
[null,"Ages Sombres"]
[null,"Age Féodal"]
[null,"Moyen âge tardif"]
[null,"Autres thème"]

{"sheet":"Instructions","index":1,"n_rows":26,"n_cols":1,"rows_kept":26,"cut":false,"hidden":false,"merged":[]}
["L'Art de la Guerre"]
["The results excel file"]
[]
["The excel file is used to help to pair up and to record Tournament results for L'Art de la Guerre. "]
["Using this spreadsheet allows the Tournament Organiser to submit the results for automatic inclusion in the global tournament database. This generates ELO rankings for players across the world."]
[]
["Instructions"]
["1 - Enter the tournament’s data: tournament name, theme, date, country where it takes place, number of players and number of rounds (3 to 5). Theses pieces of information will be saved in the database."]
["2 - Copy the list of players by filling the following columns: ID, Surname, First Name, Club, army list nbr and its nbr of units. Each ID is linked to only one player. If a player has already played in a tournament, he has an ID nbr, that can be found on the ADLG website. For the new players, the umpires can obtain their ID by calling the championship master. Otherwise take ID nbr as N101 to N150."]
["3 - For each round, pairings arecalculated manually by the umpire. You can show or hide the details of each round by clicking on buttons.  Entering the ID of each players opponent in the draw will generate an automatic check for mistakes: a red highlighted cell means that an incorrect player number has been entered, a purple cell means that the players have already played together and an amber cell means that the players come from the same club. The opponent’s name is automatically generated from the ID number. A summary of the pairings for that turn is generated when the (\"Rnd\") button is clicked. "]
["4 - A the end of each game players only need to submit the result (victory, a defeat or a draw) and also the number of of losses (not required for broken armies). Both players results need to be entered, and if their results are incompatible (ie both are listed as winning outright) the cell will be highlighted in red. The points accruing to each player are calculated automatically (based on the army sizes entered earlier) and added in the Points columns in green."]
["5 - At the end of the round, you can get the overall ranking by clicking the (sort out) button “Sort”. This will be sorted by increasing points. Players equally placed are sorted by the amount of points earned by all of their opponents. If some ties are left, the umpire can manually add a player ranking in the “ex-aequo” column. This could be based on ELO rank, the result of the match they played together, or any other random criteria decided by the Umpire."]
["6 - The column “Ajustment Points” allows the umpire to manually add or subtract points from the player’s total. It could be used to implement penalties or bonuses such as:\n-10pts to a player for a late list;\n-100pts for a player that changes or provides his list at the beginning of the tournament;\n-30pts for unsporting behaviour."]
["7 - When the tournament is over, please send this results file to the AGLG Tournament admin. The results will be recorded in the tournament database."]
[]
[]
[]
[]
[]
["Versions"]
["1.0 : Initial version"]
["1.1 : Minor corrections"]
["1.2 : Corrections to draw matches’ rounds"]
["1.3 : Addition of the army list in version 2"]
["1.4 : Modifications for the draw matches (base 35pts instead of 40)"]
["2.0 : Modifications due to new organisation charter for tournaments, counting for the championship"]

{"sheet":"Round Draws","index":2,"n_rows":2,"n_cols":2,"rows_kept":2,"cut":false,"hidden":false,"merged":[]}
[]
[null,"Round Draws Round 1"]

{"sheet":"Armies","index":3,"n_rows":283,"n_cols":2,"rows_kept":283,"cut":false,"hidden":false,"merged":[]}
[1,"Sumer and Akkad"]
[2,"Sumerian Successor"]
[3,"Amorite Highlanders"]
[4,"Elamites"]
[5,"Ancient Assyrian & Babylonian"]
[6,"Kassite Babylonian"]
[7,"Assyrian"]
[8,"Neo-Babylonian"]
[9,"Assyrian & Sargonid"]
[10,"Old & Middle Kingdom Eyptian"]
[11,"Nubians"]
[12,"Libyan"]
[13,"Hyksos"]
[14,"New Kingdom Egyptian"]
[15,"Libyan Egyptian"]
[16,"Kushite Egyptian"]
[17,"Ancient Bedouin"]
[18,"Syrian City States"]
[19,"Omani Gulf States"]
[20,"Hittites"]
[21,"Hourri & Mitanni"]
[22,"Syrian, Canaan & Ugaritic"]
[23,"Ancient Hebrew"]
[24,"Sea People"]
[25,"Philistine"]
[26,"Neo-Hittite & Aramean"]
[27,"Urartu"]
[28,"Medes"]
[29,"Phrygians"]
[30,"Mycenean"]
[31,"Geometric Greek"]
[32,"Phonecian Cypriot"]
[33,"Celts"]
[34,"Indus Valley Civilizations"]
[35,"Vedic Indian"]
[36,"Shang Chinese"]
[37,"Spring & Autumn Chinese"]
[38,"Early Macedonian"]
[39,"Alexandrian Macedonian"]
[40,"Alexander the Great"]
[41,"Early Successors"]
[42,"Seleucid"]
[43,"Ptolemaic"]
[44,"Phyrric"]
[45,"Later Macedonian"]
[46,"Bactrians & Indo-Greek"]
[47,"Italian City States"]
[48,"Etruscans"]
[49,"Tullian Roman"]
[50,"Syracusan"]
[51,"Campanian, Lucanian, Apulian & Bruttian"]
[52,"Camillan Roman"]
[53,"Republican Roman"]
[54,"Early Carthaginian"]
[55,"Later Carthaginian"]
[56,"Numidian"]
[57,"Saiatic Egyptian"]
[58,"Cyrenian Greek"]
[59,"Meriotic Kushite"]
[60,"Classical Greek"]
[61,"Hellenistic Greek"]
[62,"Illyrian"]
[63,"Thracian"]
[64,"Early Achéménid Persian"]
[65,"Lydian"]
[66,"Lycian"]
[67,"Bithinyan"]
[68,"Later Aechemneid Persian"]
[69,"Cappadocian"]
[70,"Bosporan Kingdom"]
[71,"Armenians"]
[72,"Galatians"]
[73,"Pergame"]
[74,"Aramean"]
[75,"Early Arab"]
[76,"Scythian"]
[77,"Sarmatians"]
[78,"Vietnamese"]
[79,"Classical Indian"]
[80,"Warring Kingdoms"]
[81,"Ch’iang and Ti"]
[82,"Triumvirate Roman"]
[83,"Spartacus Slave Revolt"]
[84,"Early Imperial Roman"]
[85,"Middle Imperial Romas"]
[86,"Late Roman"]
[87,"Patrician Roman"]
[88,"Gallic"]
[89,"Ancient Spanish"]
[90,"Germanic Tribes"]
[91,"Dacians and Carpi"]
[92,"Visigoths"]
[93,"Vandals"]
[94,"Ostrogoths"]
[95,"Gépids, Héruls et Taïfal"]
[96,"Franks, Alamanic Burgundian & Suèvi"]
[97,"Visigoths in Spain"]
[98,"Ancient British"]
[99,"Caledonians, Irish, Scots and Picts"]
[100,"Saxons, Angles, Frisons, Jutes"]
[101,"Romano-British"]
[102,"Parthian"]
[103,"Judean Jewish"]
[104,"Commagène"]
[105,"Mithriditic"]
[106,"Palmyran"]
[107,"Kushan"]
[108,"Alans"]
[109,"Sassanid Persian"]
[110,"Huns"]
[111,"Hephtalite Huns"]
[112,"Blemmyes and Nobades"]
[113,"Moorish"]
[114,"Auximite Kingdom"]
[115,"African Vandal"]
[116,"Hsiung-Nu"]
[117,"Han Chinese"]
[118,"Hsien Pi"]
[119,"Three Kingdoms Chinese"]
[120,"Northern & Southern Dynasties Chinese"]
[121,"Tamil Indian"]
[122,"Three Kingdoms Korean"]
[123,"Japanese"]
[124,"Emishi"]
[125,"Justinian Byzantine"]
[126,"Maurkian Byzantine"]
[127,"Thematic Byzantine"]
[128,"Nikephorian Byzantine"]
[129,"Armenian Principate"]
[130,"Bagratid Armenian"]
[131,"Arab Conquest"]
[132,"Umayyad Arab"]
[133,"North African Arab"]
[134,"Andalusian Arab"]
[135,"Abbasid Arab"]
[136,"Arab Indian"]
[137,"Khurasanian"]
[138,"Tulanid Egyptian"]
[139,"Bédouin Dynasties"]
[140,"Sogdians & Central Asian City States"]
[141,"Central Asian States"]
[142,"Lombards"]
[143,"Italian Ostrogoths"]
[144,"Mérovingian Franks"]
[145,"Amorican Breton"]
[146,"Welsh"]
[147,"Anglo-Saxons"]
[148,"Feudal Spanish"]
[149,"Carolingian Franks"]
[150,"Viking & Leidang"]
[151,"Feudal Irish"]
[152,"Pre-feudal Scots"]
[153,"Slavs"]
[154,"Avars"]
[155,"Bulgars"]
[156,"Khazars"]
[157,"Serbo-Croatian"]
[158,"Magyars"]
[159,"Pechengs"]
[160,"Russ"]
[161,"Christian Nubian"]
[162,"Beja"]
[163,"Burmese"]
[164,"Hundu Indian"]
[165,"Sui & Tang Chinese"]
[166,"Tibetan"]
[167,"Khmer & Champa"]
[168,"Nan-Chao & Dali"]
[169,"Tang & 5 Dynasties Chinese"]
[170,"Sha'to Turkish"]
[171,"Tribal Mongolian"]
[172,"Franks & Normans"]
[173,"Anglo-Danish"]
[174,"Anglo-Normans"]
[175,"Feudal French"]
[176,"Feudal English"]
[177,"Feudal Scots"]
[178,"Anglo-Irish"]
[179,"Scots Isles & Highlanders"]
[180,"Sicilian Normans"]
[181,"Communal Italian"]
[182,"Imperial Frankish"]
[183,"Feudal German"]
[184,"Kommnenan Byzantine"]
[185,"Cilician Armenian"]
[186,"Crusaders"]
[187,"Later Crusaders"]
[188,"Cyprian Frankish"]
[189,"Eastern Latin Empire"]
[190,"Ordre de St Jean"]
[191,"Buyid"]
[192,"Dynastic Kurdish"]
[193,"Ghaznavid"]
[194,"Fatimid Egyptian"]
[195,"Seljuk Turkish"]
[196,"Berbers"]
[197,"Syrians"]
[198,"Ghurids"]
[199,"Ayyubid Egyptian"]
[200,"Khorezmiens"]
[201,"Sahelian Empire"]
[202,"Tuareg"]
[203,"Feudal Polish"]
[204,"Feudal Hungarian"]
[205,"Georgian"]
[206,"Feudal Russian"]
[207,"Cuman"]
[208,"Prussian & Estonian"]
[209,"Teutonic Knights"]
[210,"Samurai"]
[211,"Kithan-Liao"]
[212,"Koryo Korean"]
[213,"Medieval Vietnamese"]
[214,"Song Chinese"]
[215,"Xi-Xia"]
[216,"Jurchen-Chin"]
[217,"Qara-Khitan"]
[218,"Mongol Empire"]
[219,"Kingdom of Grenada"]
[220,"Swiss"]
[221,"Medieval Scandianvian"]
[222,"Medieval Scots"]
[223,"Medieval irish"]
[224,"Condottieri Italian"]
[225,"100YW English"]
[226,"100YW French"]
[227,"Medieval German"]
[228,"Medieval Spanish"]
[229,"Navarrese"]
[230,"Free Companies"]
[231,"Burgundian"]
[232,"Low Countries"]
[233,"Medieval Welsh"]
[234,"Ordonnance French"]
[235,"Ordonnance Burgundian"]
[236,"Wars of the Roses"]
[237,"Lithuanian"]
[238,"Medieval Hungarian"]
[239,"Muscovite Russian"]
[240,"Goldern Horde"]
[241,"Medieval Polish"]
[242,"Hussite"]
[243,"Serbian Empire"]
[244,"Later Bulgarian"]
[245,"Later Byzantine"]
[246,"Turcoman"]
[247,"Ottoman Turkish"]
[248,"Catalan Company"]
[249,"Moldavian & Wallachian"]
[250,"Albanian"]
[251,"Ottoman Empire"]
[252,"Beseiged Byzantine"]
[253,"Mameluk"]
[254,"Islamic Persian"]
[255,"Ilkhanid Persian"]
[256,"Steppe Mongol"]
[257,"Jalayirides"]
[258,"Timurid"]
[259,"White & Black Sheep Turcoman"]
[260,"Delhi Sultanate"]
[261,"Indonesian & Malay"]
[262,"Siamese"]
[263,"Yuan Chinese"]
[264,"Later Samurai"]
[265,"Ming Chinese"]
[266,"Yi Dynasty Korean"]
[267,"Mayan"]
[268,"Zapotèc and Mixtèc"]
[269,"Toltec"]
[270,"Chinantèc"]
[271,"Tarascan"]
[272,"Aztèc"]
[273,"Texcalan"]
[274,"Incas"]
[275,"Chanca"]
[276,"Chimu"]
[277,"Tupi"]
[278,"Mapuche"]
[279,"Chichimèc"]
[280,"Pueblo Indian"]
[281,"American Forest Indian"]
[282,"Mississipi Indian"]
[283,"Plains Indian"]

{"sheet":"Round 1","index":9,"n_rows":93,"n_cols":13,"rows_kept":93,"cut":false,"hidden":false,"merged":[]}
[]
["Round 1 Draw",null,{"$f":"Results!B3","v":"Warfare"}]
[null,null,{"$f":"Results!B4","v":"Période Ancienne"}]
[null,null,null,null,null,null,null,null,null,null,null,null,"VALID?"]
[null,{"$f":"Results!A8","v":0},{"$f":"Results!C8","v":0},{"$f":"Results!B8","v":0},{"$f":"Results!D8","v":0},{"$f":"Results!G8","v":""},"- vs -",{"$f":"VLOOKUP(B5,Results!$A$8:AG60,9,)","v":{"$error":"#N/A"}},{"$f":"VLOOKUP(H5,Results!A$8:G60,3,FALSE)","v":{"$error":"#N/A"}},{"$f":"VLOOKUP(H5,Results!$A$8:G60,2,FALSE)","v":{"$error":"#N/A"}},{"$f":"VLOOKUP(H5,Results!$A$8:G60,4,FALSE)","v":{"$error":"#N/A"}},{"$f":"VLOOKUP(H5,Results!$A$8:G60,7,FALSE)","v":{"$error":"#N/A"}},{"$f":"VLOOKUP(H5,$B$4:B5,1,FALSE)","v":{"$error":"#N/A"}}]
[null,{"$f":"Results!A9","v":0},{"$f":"Results!C9","v":0},{"$f":"Results!B9","v":0},{"$f":"Results!D9","v":0},{"$f":"Results!G9","v":""},"- vs -",{"$f":"VLOOKUP(B6,Results!$A$8:AG61,9,)","v":{"$error":"#N/A"}},{"$f":"VLOOKUP(H6,Results!A$8:G61,3,)","v":{"$error":"#N/A"}},{"$f":"VLOOKUP(H6,Results!$A$8:G61,2,FALSE)","v":{"$error":"#N/A"}},{"$f":"VLOOKUP(H6,Results!$A$8:G61,4,FALSE)","v":{"$error":"#N/A"}},{"$f":"VLOOKUP(H6,Results!$A$8:G61,7,FALSE)","v":{"$error":"#N/A"}},{"$f":"VLOOKUP(H6,$B$4:B6,1,FALSE)","v":{"$error":"#N/A"}}]
[null,{"$f":"Results!A10","v":0},{"$f":"Results!C10","v":0},{"$f":"Results!B10","v":0},{"$f":"Results!D10","v":0},{"$f":"Results!G10","v":""},"- vs -",{"$f":"VLOOKUP(B7,Results!$A$8:AG62,9,)","v":{"$error":"#N/A"}},{"$f":"VLOOKUP(H7,Results!A$8:G62,3,)","v":{"$error":"#N/A"}},{"$f":"VLOOKUP(H7,Results!$A$8:G62,2,FALSE)","v":{"$error":"#N/A"}},{"$f":"VLOOKUP(H7,Results!$A$8:G62,4,FALSE)","v":{"$error":"#N/A"}},{"$f":"VLOOKUP(H7,Results!$A$8:G62,7,FALSE)","v":{"$error":"#N/A"}},{"$f":"VLOOKUP(H7,$B$4:B7,1,FALSE)","v":{"$error":"#N/A"}}]
[null,{"$f":"Results!A11","v":0},{"$f":"Results!C11","v":0},{"$f":"Results!B11","v":0},{"$f":"Results!D11","v":0},{"$f":"Results!G11","v":""},"- vs -",{"$f":"VLOOKUP(B8,Results!$A$8:AG63,9,)","v":{"$error":"#N/A"}},{"$f":"VLOOKUP(H8,Results!A$8:G63,3,)","v":{"$error":"#N/A"}},{"$f":"VLOOKUP(H8,Results!$A$8:G63,2,FALSE)","v":{"$error":"#N/A"}},{"$f":"VLOOKUP(H8,Results!$A$8:G63,4,FALSE)","v":{"$error":"#N/A"}},{"$f":"VLOOKUP(H8,Results!$A$8:G63,7,FALSE)","v":{"$error":"#N/A"}},{"$f":"VLOOKUP(H8,$B$4:B8,1,FALSE)","v":{"$error":"#N/A"}}]
[null,{"$f":"Results!A12","v":0},{"$f":"Results!C12","v":0},{"$f":"Results!B12","v":0},{"$f":"Results!D12","v":0},{"$f":"Results!G12","v":""},"- vs -",{"$f":"VLOOKUP(B9,Results!$A$8:AG64,9,)","v":{"$error":"#N/A"}},{"$f":"VLOOKUP(H9,Results!A$8:G64,3,)","v":{"$error":"#N/A"}},{"$f":"VLOOKUP(H9,Results!$A$8:G64,2,FALSE)","v":{"$error":"#N/A"}},{"$f":"VLOOKUP(H9,Results!$A$8:G64,4,FALSE)","v":{"$error":"#N/A"}},{"$f":"VLOOKUP(H9,Results!$A$8:G64,7,FALSE)","v":{"$error":"#N/A"}},{"$f":"VLOOKUP(H9,$B$4:B9,1,FALSE)","v":{"$error":"#N/A"}}]
[null,{"$f":"Results!A13","v":0},{"$f":"Results!C13","v":0},{"$f":"Results!B13","v":0},{"$f":"Results!D13","v":0},{"$f":"Results!G13","v":""},"- vs -",{"$f":"VLOOKUP(B10,Results!$A$8:AG65,9,)","v":{"$error":"#N/A"}},{"$f":"VLOOKUP(H10,Results!A$8:G65,3,)","v":{"$error":"#N/A"}},{"$f":"VLOOKUP(H10,Results!$A$8:G65,2,FALSE)","v":{"$error":"#N/A"}},{"$f":"VLOOKUP(H10,Results!$A$8:G65,4,FALSE)","v":{"$error":"#N/A"}},{"$f":"VLOOKUP(H10,Results!$A$8:G65,7,FALSE)","v":{"$error":"#N/A"}},{"$f":"VLOOKUP(H10,$B$4:B10,1,FALSE)","v":{"$error":"#N/A"}}]
[null,{"$f":"Results!A14","v":0},{"$f":"Results!C14","v":0},{"$f":"Results!B14","v":0},{"$f":"Results!D14","v":0},{"$f":"Results!G14","v":""},"- vs -",{"$f":"VLOOKUP(B11,Results!$A$8:AG66,9,)","v":{"$error":"#N/A"}},{"$f":"VLOOKUP(H11,Results!A$8:G66,3,)","v":{"$error":"#N/A"}},{"$f":"VLOOKUP(H11,Results!$A$8:G66,2,FALSE)","v":{"$error":"#N/A"}},{"$f":"VLOOKUP(H11,Results!$A$8:G66,4,FALSE)","v":{"$error":"#N/A"}},{"$f":"VLOOKUP(H11,Results!$A$8:G66,7,FALSE)","v":{"$error":"#N/A"}},{"$f":"VLOOKUP(H11,$B$4:B11,1,FALSE)","v":{"$error":"#N/A"}}]
[null,{"$f":"Results!A15","v":0},{"$f":"Results!C15","v":0},{"$f":"Results!B15","v":0},{"$f":"Results!D15","v":0},{"$f":"Results!G15","v":""},"- vs -",{"$f":"VLOOKUP(B12,Results!$A$8:AG67,9,)","v":{"$error":"#N/A"}},{"$f":"VLOOKUP(H12,Results!A$8:G67,3,)","v":{"$error":"#N/A"}},{"$f":"VLOOKUP(H12,Results!$A$8:G67,2,FALSE)","v":{"$error":"#N/A"}},{"$f":"VLOOKUP(H12,Results!$A$8:G67,4,FALSE)","v":{"$error":"#N/A"}},{"$f":"VLOOKUP(H12,Results!$A$8:G67,7,FALSE)","v":{"$error":"#N/A"}},{"$f":"VLOOKUP(H12,$B$4:B12,1,FALSE)","v":{"$error":"#N/A"}}]
[null,{"$f":"Results!A16","v":0},{"$f":"Results!C16","v":0},{"$f":"Results!B16","v":0},{"$f":"Results!D16","v":0},{"$f":"Results!G16","v":""},"- vs -",{"$f":"VLOOKUP(B13,Results!$A$8:AG68,9,)","v":{"$error":"#N/A"}},{"$f":"VLOOKUP(H13,Results!A$8:G68,3,)","v":{"$error":"#N/A"}},{"$f":"VLOOKUP(H13,Results!$A$8:G68,2,FALSE)","v":{"$error":"#N/A"}},{"$f":"VLOOKUP(H13,Results!$A$8:G68,4,FALSE)","v":{"$error":"#N/A"}},{"$f":"VLOOKUP(H13,Results!$A$8:G68,7,FALSE)","v":{"$error":"#N/A"}},{"$f":"VLOOKUP(H13,$B$4:B13,1,FALSE)","v":{"$error":"#N/A"}}]
[null,{"$f":"Results!A17","v":0},{"$f":"Results!C17","v":0},{"$f":"Results!B17","v":0},{"$f":"Results!D17","v":0},{"$f":"Results!G17","v":""},"- vs -",{"$f":"VLOOKUP(B14,Results!$A$8:AG69,9,)","v":{"$error":"#N/A"}},{"$f":"VLOOKUP(H14,Results!A$8:G69,3,)","v":{"$error":"#N/A"}},{"$f":"VLOOKUP(H14,Results!$A$8:G69,2,FALSE)","v":{"$error":"#N/A"}},{"$f":"VLOOKUP(H14,Results!$A$8:G69,4,FALSE)","v":{"$error":"#N/A"}},{"$f":"VLOOKUP(H14,Results!$A$8:G69,7,FALSE)","v":{"$error":"#N/A"}},{"$f":"VLOOKUP(H14,$B$4:B14,1,FALSE)","v":{"$error":"#N/A"}}]
[null,{"$f":"Results!A18","v":0},{"$f":"Results!C18","v":0},{"$f":"Results!B18","v":0},{"$f":"Results!D18","v":0},{"$f":"Results!G18","v":""},"- vs -",{"$f":"VLOOKUP(B15,Results!$A$8:AG70,9,)","v":{"$error":"#N/A"}},{"$f":"VLOOKUP(H15,Results!A$8:G70,3,)","v":{"$error":"#N/A"}},{"$f":"VLOOKUP(H15,Results!$A$8:G70,2,FALSE)","v":{"$error":"#N/A"}},{"$f":"VLOOKUP(H15,Results!$A$8:G70,4,FALSE)","v":{"$error":"#N/A"}},{"$f":"VLOOKUP(H15,Results!$A$8:G70,7,FALSE)","v":{"$error":"#N/A"}},{"$f":"VLOOKUP(H15,$B$4:B15,1,FALSE)","v":{"$error":"#N/A"}}]
[null,{"$f":"Results!A19","v":0},{"$f":"Results!C19","v":0},{"$f":"Results!B19","v":0},{"$f":"Results!D19","v":0},{"$f":"Results!G19","v":""},"- vs -",{"$f":"VLOOKUP(B16,Results!$A$8:AG71,9,)","v":{"$error":"#N/A"}},{"$f":"VLOOKUP(H16,Results!A$8:G71,3,)","v":{"$error":"#N/A"}},{"$f":"VLOOKUP(H16,Results!$A$8:G71,2,FALSE)","v":{"$error":"#N/A"}},{"$f":"VLOOKUP(H16,Results!$A$8:G71,4,FALSE)","v":{"$error":"#N/A"}},{"$f":"VLOOKUP(H16,Results!$A$8:G71,7,FALSE)","v":{"$error":"#N/A"}},{"$f":"VLOOKUP(H16,$B$4:B16,1,FALSE)","v":{"$error":"#N/A"}}]
[null,{"$f":"Results!A20","v":0},{"$f":"Results!C20","v":0},{"$f":"Results!B20","v":0},{"$f":"Results!D20","v":0},{"$f":"Results!G20","v":""},"- vs -",{"$f":"VLOOKUP(B17,Results!$A$8:AG72,9,)","v":{"$error":"#N/A"}},{"$f":"VLOOKUP(H17,Results!A$8:G72,3,)","v":{"$error":"#N/A"}},{"$f":"VLOOKUP(H17,Results!$A$8:G72,2,FALSE)","v":{"$error":"#N/A"}},{"$f":"VLOOKUP(H17,Results!$A$8:G72,4,FALSE)","v":{"$error":"#N/A"}},{"$f":"VLOOKUP(H17,Results!$A$8:G72,7,FALSE)","v":{"$error":"#N/A"}},{"$f":"VLOOKUP(H17,$B$4:B17,1,FALSE)","v":{"$error":"#N/A"}}]
[null,{"$f":"Results!A21","v":0},{"$f":"Results!C21","v":0},{"$f":"Results!B21","v":0},{"$f":"Results!D21","v":0},{"$f":"Results!G21","v":""},"- vs -",{"$f":"VLOOKUP(B18,Results!$A$8:AG73,9,)","v":{"$error":"#N/A"}},{"$f":"VLOOKUP(H18,Results!A$8:G73,3,)","v":{"$error":"#N/A"}},{"$f":"VLOOKUP(H18,Results!$A$8:G73,2,FALSE)","v":{"$error":"#N/A"}},{"$f":"VLOOKUP(H18,Results!$A$8:G73,4,FALSE)","v":{"$error":"#N/A"}},{"$f":"VLOOKUP(H18,Results!$A$8:G73,7,FALSE)","v":{"$error":"#N/A"}},{"$f":"VLOOKUP(H18,$B$4:B18,1,FALSE)","v":{"$error":"#N/A"}}]
[null,{"$f":"Results!A22","v":0},{"$f":"Results!C22","v":0},{"$f":"Results!B22","v":0},{"$f":"Results!D22","v":0},{"$f":"Results!G22","v":""},"- vs -",{"$f":"VLOOKUP(B19,Results!$A$8:AG74,9,)","v":{"$error":"#N/A"}},{"$f":"VLOOKUP(H19,Results!A$8:G74,3,)","v":{"$error":"#N/A"}},{"$f":"VLOOKUP(H19,Results!$A$8:G74,2,FALSE)","v":{"$error":"#N/A"}},{"$f":"VLOOKUP(H19,Results!$A$8:G74,4,FALSE)","v":{"$error":"#N/A"}},{"$f":"VLOOKUP(H19,Results!$A$8:G74,7,FALSE)","v":{"$error":"#N/A"}},{"$f":"VLOOKUP(H19,$B$4:B19,1,FALSE)","v":{"$error":"#N/A"}}]
[null,{"$f":"Results!A23","v":0},{"$f":"Results!C23","v":0},{"$f":"Results!B23","v":0},{"$f":"Results!D23","v":0},{"$f":"Results!G23","v":""},"- vs -",{"$f":"VLOOKUP(B20,Results!$A$8:AG75,9,)","v":{"$error":"#N/A"}},{"$f":"VLOOKUP(H20,Results!A$8:G75,3,)","v":{"$error":"#N/A"}},{"$f":"VLOOKUP(H20,Results!$A$8:G75,2,FALSE)","v":{"$error":"#N/A"}},{"$f":"VLOOKUP(H20,Results!$A$8:G75,4,FALSE)","v":{"$error":"#N/A"}},{"$f":"VLOOKUP(H20,Results!$A$8:G75,7,FALSE)","v":{"$error":"#N/A"}},{"$f":"VLOOKUP(H20,$B$4:B20,1,FALSE)","v":{"$error":"#N/A"}}]
[null,{"$f":"Results!A24","v":0},{"$f":"Results!C24","v":0},{"$f":"Results!B24","v":0},{"$f":"Results!D24","v":0},{"$f":"Results!G24","v":""},"- vs -",{"$f":"VLOOKUP(B21,Results!$A$8:AG76,9,)","v":{"$error":"#N/A"}},{"$f":"VLOOKUP(H21,Results!A$8:G76,3,)","v":{"$error":"#N/A"}},{"$f":"VLOOKUP(H21,Results!$A$8:G76,2,FALSE)","v":{"$error":"#N/A"}},{"$f":"VLOOKUP(H21,Results!$A$8:G76,4,FALSE)","v":{"$error":"#N/A"}},{"$f":"VLOOKUP(H21,Results!$A$8:G76,7,FALSE)","v":{"$error":"#N/A"}},{"$f":"VLOOKUP(H21,$B$4:B21,1,FALSE)","v":{"$error":"#N/A"}}]
[null,{"$f":"Results!A25","v":0},{"$f":"Results!C25","v":0},{"$f":"Results!B25","v":0},{"$f":"Results!D25","v":0},{"$f":"Results!G25","v":""},"- vs -",{"$f":"VLOOKUP(B22,Results!$A$8:AG77,9,)","v":{"$error":"#N/A"}},{"$f":"VLOOKUP(H22,Results!A$8:G77,3,)","v":{"$error":"#N/A"}},{"$f":"VLOOKUP(H22,Results!$A$8:G77,2,FALSE)","v":{"$error":"#N/A"}},{"$f":"VLOOKUP(H22,Results!$A$8:G77,4,FALSE)","v":{"$error":"#N/A"}},{"$f":"VLOOKUP(H22,Results!$A$8:G77,7,FALSE)","v":{"$error":"#N/A"}},{"$f":"VLOOKUP(H22,$B$4:B22,1,FALSE)","v":{"$error":"#N/A"}}]
[null,{"$f":"Results!A26","v":0},{"$f":"Results!C26","v":0},{"$f":"Results!B26","v":0},{"$f":"Results!D26","v":0},{"$f":"Results!G26","v":""},"- vs -",{"$f":"VLOOKUP(B23,Results!$A$8:AG78,9,)","v":{"$error":"#N/A"}},{"$f":"VLOOKUP(H23,Results!A$8:G78,3,)","v":{"$error":"#N/A"}},{"$f":"VLOOKUP(H23,Results!$A$8:G78,2,FALSE)","v":{"$error":"#N/A"}},{"$f":"VLOOKUP(H23,Results!$A$8:G78,4,FALSE)","v":{"$error":"#N/A"}},{"$f":"VLOOKUP(H23,Results!$A$8:G78,7,FALSE)","v":{"$error":"#N/A"}},{"$f":"VLOOKUP(H23,$B$4:B23,1,FALSE)","v":{"$error":"#N/A"}}]
[null,{"$f":"Results!A27","v":0},{"$f":"Results!C27","v":0},{"$f":"Results!B27","v":0},{"$f":"Results!D27","v":0},{"$f":"Results!G27","v":""},"- vs -",{"$f":"VLOOKUP(B24,Results!$A$8:AG79,9,)","v":{"$error":"#N/A"}},{"$f":"VLOOKUP(H24,Results!A$8:G79,3,)","v":{"$error":"#N/A"}},{"$f":"VLOOKUP(H24,Results!$A$8:G79,2,FALSE)","v":{"$error":"#N/A"}},{"$f":"VLOOKUP(H24,Results!$A$8:G79,4,FALSE)","v":{"$error":"#N/A"}},{"$f":"VLOOKUP(H24,Results!$A$8:G79,7,FALSE)","v":{"$error":"#N/A"}},{"$f":"VLOOKUP(H24,$B$4:B24,1,FALSE)","v":{"$error":"#N/A"}}]
[null,{"$f":"Results!A28","v":0},{"$f":"Results!C28","v":0},{"$f":"Results!B28","v":0},{"$f":"Results!D28","v":0},{"$f":"Results!G28","v":""},"- vs -",{"$f":"VLOOKUP(B25,Results!$A$8:AG80,9,)","v":{"$error":"#N/A"}},{"$f":"VLOOKUP(H25,Results!A$8:G80,3,)","v":{"$error":"#N/A"}},{"$f":"VLOOKUP(H25,Results!$A$8:G80,2,FALSE)","v":{"$error":"#N/A"}},{"$f":"VLOOKUP(H25,Results!$A$8:G80,4,FALSE)","v":{"$error":"#N/A"}},{"$f":"VLOOKUP(H25,Results!$A$8:G80,7,FALSE)","v":{"$error":"#N/A"}},{"$f":"VLOOKUP(H25,$B$4:B25,1,FALSE)","v":{"$error":"#N/A"}}]
[null,{"$f":"Results!A29","v":0},{"$f":"Results!C29","v":0},{"$f":"Results!B29","v":0},{"$f":"Results!D29","v":0},{"$f":"Results!G29","v":""},"- vs -",{"$f":"VLOOKUP(B26,Results!$A$8:AG81,9,)","v":{"$error":"#N/A"}},{"$f":"VLOOKUP(H26,Results!A$8:G81,3,)","v":{"$error":"#N/A"}},{"$f":"VLOOKUP(H26,Results!$A$8:G81,2,FALSE)","v":{"$error":"#N/A"}},{"$f":"VLOOKUP(H26,Results!$A$8:G81,4,FALSE)","v":{"$error":"#N/A"}},{"$f":"VLOOKUP(H26,Results!$A$8:G81,7,FALSE)","v":{"$error":"#N/A"}},{"$f":"VLOOKUP(H26,$B$4:B26,1,FALSE)","v":{"$error":"#N/A"}}]
[null,{"$f":"Results!A30","v":0},{"$f":"Results!C30","v":0},{"$f":"Results!B30","v":0},{"$f":"Results!D30","v":0},{"$f":"Results!G30","v":""},"- vs -",{"$f":"VLOOKUP(B27,Results!$A$8:AG82,9,)","v":{"$error":"#N/A"}},{"$f":"VLOOKUP(H27,Results!A$8:G82,3,)","v":{"$error":"#N/A"}},{"$f":"VLOOKUP(H27,Results!$A$8:G82,2,FALSE)","v":{"$error":"#N/A"}},{"$f":"VLOOKUP(H27,Results!$A$8:G82,4,FALSE)","v":{"$error":"#N/A"}},{"$f":"VLOOKUP(H27,Results!$A$8:G82,7,FALSE)","v":{"$error":"#N/A"}},{"$f":"VLOOKUP(H27,$B$4:B27,1,FALSE)","v":{"$error":"#N/A"}}]
[null,{"$f":"Results!A31","v":0},{"$f":"Results!C31","v":0},{"$f":"Results!B31","v":0},{"$f":"Results!D31","v":0},{"$f":"Results!G31","v":""},"- vs -",{"$f":"VLOOKUP(B28,Results!$A$8:AG83,9,)","v":{"$error":"#N/A"}},{"$f":"VLOOKUP(H28,Results!A$8:G83,3,)","v":{"$error":"#N/A"}},{"$f":"VLOOKUP(H28,Results!$A$8:G83,2,FALSE)","v":{"$error":"#N/A"}},{"$f":"VLOOKUP(H28,Results!$A$8:G83,4,FALSE)","v":{"$error":"#N/A"}},{"$f":"VLOOKUP(H28,Results!$A$8:G83,7,FALSE)","v":{"$error":"#N/A"}},{"$f":"VLOOKUP(H28,$B$4:B28,1,FALSE)","v":{"$error":"#N/A"}}]
[null,{"$f":"Results!A32","v":0},{"$f":"Results!C32","v":0},{"$f":"Results!B32","v":0},{"$f":"Results!D32","v":0},{"$f":"Results!G32","v":""},"- vs -",{"$f":"VLOOKUP(B29,Results!$A$8:AG84,9,)","v":{"$error":"#N/A"}},{"$f":"VLOOKUP(H29,Results!A$8:G84,3,)","v":{"$error":"#N/A"}},{"$f":"VLOOKUP(H29,Results!$A$8:G84,2,FALSE)","v":{"$error":"#N/A"}},{"$f":"VLOOKUP(H29,Results!$A$8:G84,4,FALSE)","v":{"$error":"#N/A"}},{"$f":"VLOOKUP(H29,Results!$A$8:G84,7,FALSE)","v":{"$error":"#N/A"}},{"$f":"VLOOKUP(H29,$B$4:B29,1,FALSE)","v":{"$error":"#N/A"}}]
[null,{"$f":"Results!A33","v":0},{"$f":"Results!C33","v":0},{"$f":"Results!B33","v":0},{"$f":"Results!D33","v":0},{"$f":"Results!G33","v":""},"- vs -",{"$f":"VLOOKUP(B30,Results!$A$8:AG85,9,)","v":{"$error":"#N/A"}},{"$f":"VLOOKUP(H30,Results!A$8:G85,3,)","v":{"$error":"#N/A"}},{"$f":"VLOOKUP(H30,Results!$A$8:G85,2,FALSE)","v":{"$error":"#N/A"}},{"$f":"VLOOKUP(H30,Results!$A$8:G85,4,FALSE)","v":{"$error":"#N/A"}},{"$f":"VLOOKUP(H30,Results!$A$8:G85,7,FALSE)","v":{"$error":"#N/A"}},{"$f":"VLOOKUP(H30,$B$4:B30,1,FALSE)","v":{"$error":"#N/A"}}]
[null,{"$f":"Results!A34","v":0},{"$f":"Results!C34","v":0},{"$f":"Results!B34","v":0},{"$f":"Results!D34","v":0},{"$f":"Results!G34","v":""},"- vs -",{"$f":"VLOOKUP(B31,Results!$A$8:AG86,9,)","v":{"$error":"#N/A"}},{"$f":"VLOOKUP(H31,Results!A$8:G86,3,)","v":{"$error":"#N/A"}},{"$f":"VLOOKUP(H31,Results!$A$8:G86,2,FALSE)","v":{"$error":"#N/A"}},{"$f":"VLOOKUP(H31,Results!$A$8:G86,4,FALSE)","v":{"$error":"#N/A"}},{"$f":"VLOOKUP(H31,Results!$A$8:G86,7,FALSE)","v":{"$error":"#N/A"}},{"$f":"VLOOKUP(H31,$B$4:B31,1,FALSE)","v":{"$error":"#N/A"}}]
[null,{"$f":"Results!A35","v":0},{"$f":"Results!C35","v":0},{"$f":"Results!B35","v":0},{"$f":"Results!D35","v":0},{"$f":"Results!G35","v":""},"- vs -",{"$f":"VLOOKUP(B32,Results!$A$8:AG87,9,)","v":{"$error":"#N/A"}},{"$f":"VLOOKUP(H32,Results!A$8:G87,3,)","v":{"$error":"#N/A"}},{"$f":"VLOOKUP(H32,Results!$A$8:G87,2,FALSE)","v":{"$error":"#N/A"}},{"$f":"VLOOKUP(H32,Results!$A$8:G87,4,FALSE)","v":{"$error":"#N/A"}},{"$f":"VLOOKUP(H32,Results!$A$8:G87,7,FALSE)","v":{"$error":"#N/A"}},{"$f":"VLOOKUP(H32,$B$4:B32,1,FALSE)","v":{"$error":"#N/A"}}]
[null,{"$f":"Results!A36","v":0},{"$f":"Results!C36","v":0},{"$f":"Results!B36","v":0},{"$f":"Results!D36","v":0},{"$f":"Results!G36","v":""},"- vs -",{"$f":"VLOOKUP(B33,Results!$A$8:AG88,9,)","v":{"$error":"#N/A"}},{"$f":"VLOOKUP(H33,Results!A$8:G88,3,)","v":{"$error":"#N/A"}},{"$f":"VLOOKUP(H33,Results!$A$8:G88,2,FALSE)","v":{"$error":"#N/A"}},{"$f":"VLOOKUP(H33,Results!$A$8:G88,4,FALSE)","v":{"$error":"#N/A"}},{"$f":"VLOOKUP(H33,Results!$A$8:G88,7,FALSE)","v":{"$error":"#N/A"}},{"$f":"VLOOKUP(H33,$B$4:B33,1,FALSE)","v":{"$error":"#N/A"}}]
[null,{"$f":"Results!A37","v":0},{"$f":"Results!C37","v":0},{"$f":"Results!B37","v":0},{"$f":"Results!D37","v":0},{"$f":"Results!G37","v":""},"- vs -",{"$f":"VLOOKUP(B34,Results!$A$8:AG89,9,)","v":{"$error":"#N/A"}},{"$f":"VLOOKUP(H34,Results!A$8:G89,3,)","v":{"$error":"#N/A"}},{"$f":"VLOOKUP(H34,Results!$A$8:G89,2,FALSE)","v":{"$error":"#N/A"}},{"$f":"VLOOKUP(H34,Results!$A$8:G89,4,FALSE)","v":{"$error":"#N/A"}},{"$f":"VLOOKUP(H34,Results!$A$8:G89,7,FALSE)","v":{"$error":"#N/A"}},{"$f":"VLOOKUP(H34,$B$4:B34,1,FALSE)","v":{"$error":"#N/A"}}]
[null,{"$f":"Results!A38","v":0},{"$f":"Results!C38","v":0},{"$f":"Results!B38","v":0},{"$f":"Results!D38","v":0},{"$f":"Results!G38","v":""},"- vs -",{"$f":"VLOOKUP(B35,Results!$A$8:AG90,9,)","v":{"$error":"#N/A"}},{"$f":"VLOOKUP(H35,Results!A$8:G90,3,)","v":{"$error":"#N/A"}},{"$f":"VLOOKUP(H35,Results!$A$8:G90,2,FALSE)","v":{"$error":"#N/A"}},{"$f":"VLOOKUP(H35,Results!$A$8:G90,4,FALSE)","v":{"$error":"#N/A"}},{"$f":"VLOOKUP(H35,Results!$A$8:G90,7,FALSE)","v":{"$error":"#N/A"}},{"$f":"VLOOKUP(H35,$B$4:B35,1,FALSE)","v":{"$error":"#N/A"}}]
[null,{"$f":"Results!A39","v":0},{"$f":"Results!C39","v":0},{"$f":"Results!B39","v":0},{"$f":"Results!D39","v":0},{"$f":"Results!G39","v":""},"- vs -",{"$f":"VLOOKUP(B36,Results!$A$8:AG91,9,)","v":{"$error":"#N/A"}},{"$f":"VLOOKUP(H36,Results!A$8:G91,3,)","v":{"$error":"#N/A"}},{"$f":"VLOOKUP(H36,Results!$A$8:G91,2,FALSE)","v":{"$error":"#N/A"}},{"$f":"VLOOKUP(H36,Results!$A$8:G91,4,FALSE)","v":{"$error":"#N/A"}},{"$f":"VLOOKUP(H36,Results!$A$8:G91,7,FALSE)","v":{"$error":"#N/A"}},{"$f":"VLOOKUP(H36,$B$4:B36,1,FALSE)","v":{"$error":"#N/A"}}]
[null,{"$f":"Results!A40","v":0},{"$f":"Results!C40","v":0},{"$f":"Results!B40","v":0},{"$f":"Results!D40","v":0},{"$f":"Results!G40","v":""},"- vs -",{"$f":"VLOOKUP(B37,Results!$A$8:AG92,9,)","v":{"$error":"#N/A"}},{"$f":"VLOOKUP(H37,Results!A$8:G92,3,)","v":{"$error":"#N/A"}},{"$f":"VLOOKUP(H37,Results!$A$8:G92,2,FALSE)","v":{"$error":"#N/A"}},{"$f":"VLOOKUP(H37,Results!$A$8:G92,4,FALSE)","v":{"$error":"#N/A"}},{"$f":"VLOOKUP(H37,Results!$A$8:G92,7,FALSE)","v":{"$error":"#N/A"}},{"$f":"VLOOKUP(H37,$B$4:B37,1,FALSE)","v":{"$error":"#N/A"}}]
[null,{"$f":"Results!A41","v":0},{"$f":"Results!C41","v":0},{"$f":"Results!B41","v":0},{"$f":"Results!D41","v":0},{"$f":"Results!G41","v":""},"- vs -",{"$f":"VLOOKUP(B38,Results!$A$8:AG93,9,)","v":{"$error":"#N/A"}},{"$f":"VLOOKUP(H38,Results!A$8:G93,3,)","v":{"$error":"#N/A"}},{"$f":"VLOOKUP(H38,Results!$A$8:G93,2,FALSE)","v":{"$error":"#N/A"}},{"$f":"VLOOKUP(H38,Results!$A$8:G93,4,FALSE)","v":{"$error":"#N/A"}},{"$f":"VLOOKUP(H38,Results!$A$8:G93,7,FALSE)","v":{"$error":"#N/A"}},{"$f":"VLOOKUP(H38,$B$4:B38,1,FALSE)","v":{"$error":"#N/A"}}]
[null,{"$f":"Results!A42","v":0},{"$f":"Results!C42","v":0},{"$f":"Results!B42","v":0},{"$f":"Results!D42","v":0},{"$f":"Results!G42","v":""},"- vs -",{"$f":"VLOOKUP(B39,Results!$A$8:AG94,9,)","v":{"$error":"#N/A"}},{"$f":"VLOOKUP(H39,Results!A$8:G94,3,)","v":{"$error":"#N/A"}},{"$f":"VLOOKUP(H39,Results!$A$8:G94,2,FALSE)","v":{"$error":"#N/A"}},{"$f":"VLOOKUP(H39,Results!$A$8:G94,4,FALSE)","v":{"$error":"#N/A"}},{"$f":"VLOOKUP(H39,Results!$A$8:G94,7,FALSE)","v":{"$error":"#N/A"}},{"$f":"VLOOKUP(H39,$B$4:B39,1,FALSE)","v":{"$error":"#N/A"}}]
[null,{"$f":"Results!A43","v":0},{"$f":"Results!C43","v":0},{"$f":"Results!B43","v":0},{"$f":"Results!D43","v":0},{"$f":"Results!G43","v":""},"- vs -",{"$f":"VLOOKUP(B40,Results!$A$8:AG95,9,)","v":{"$error":"#N/A"}},{"$f":"VLOOKUP(H40,Results!A$8:G95,3,)","v":{"$error":"#N/A"}},{"$f":"VLOOKUP(H40,Results!$A$8:G95,2,FALSE)","v":{"$error":"#N/A"}},{"$f":"VLOOKUP(H40,Results!$A$8:G95,4,FALSE)","v":{"$error":"#N/A"}},{"$f":"VLOOKUP(H40,Results!$A$8:G95,7,FALSE)","v":{"$error":"#N/A"}},{"$f":"VLOOKUP(H40,$B$4:B40,1,FALSE)","v":{"$error":"#N/A"}}]
[null,{"$f":"Results!A44","v":0},{"$f":"Results!C44","v":0},{"$f":"Results!B44","v":0},{"$f":"Results!D44","v":0},{"$f":"Results!G44","v":""},"- vs -",{"$f":"VLOOKUP(B41,Results!$A$8:AG96,9,)","v":{"$error":"#N/A"}},{"$f":"VLOOKUP(H41,Results!A$8:G96,3,)","v":{"$error":"#N/A"}},{"$f":"VLOOKUP(H41,Results!$A$8:G96,2,FALSE)","v":{"$error":"#N/A"}},{"$f":"VLOOKUP(H41,Results!$A$8:G96,4,FALSE)","v":{"$error":"#N/A"}},{"$f":"VLOOKUP(H41,Results!$A$8:G96,7,FALSE)","v":{"$error":"#N/A"}},{"$f":"VLOOKUP(H41,$B$4:B41,1,FALSE)","v":{"$error":"#N/A"}}]
[null,{"$f":"Results!A45","v":0},{"$f":"Results!C45","v":0},{"$f":"Results!B45","v":0},{"$f":"Results!D45","v":0},{"$f":"Results!G45","v":""},"- vs -",{"$f":"VLOOKUP(B42,Results!$A$8:AG97,9,)","v":{"$error":"#N/A"}},{"$f":"VLOOKUP(H42,Results!A$8:G97,3,)","v":{"$error":"#N/A"}},{"$f":"VLOOKUP(H42,Results!$A$8:G97,2,FALSE)","v":{"$error":"#N/A"}},{"$f":"VLOOKUP(H42,Results!$A$8:G97,4,FALSE)","v":{"$error":"#N/A"}},{"$f":"VLOOKUP(H42,Results!$A$8:G97,7,FALSE)","v":{"$error":"#N/A"}},{"$f":"VLOOKUP(H42,$B$4:B42,1,FALSE)","v":{"$error":"#N/A"}}]
[null,{"$f":"Results!A46","v":0},{"$f":"Results!C46","v":0},{"$f":"Results!B46","v":0},{"$f":"Results!D46","v":0},{"$f":"Results!G46","v":""},"- vs -",{"$f":"VLOOKUP(B43,Results!$A$8:AG98,9,)","v":{"$error":"#N/A"}},{"$f":"VLOOKUP(H43,Results!A$8:G98,3,)","v":{"$error":"#N/A"}},{"$f":"VLOOKUP(H43,Results!$A$8:G98,2,FALSE)","v":{"$error":"#N/A"}},{"$f":"VLOOKUP(H43,Results!$A$8:G98,4,FALSE)","v":{"$error":"#N/A"}},{"$f":"VLOOKUP(H43,Results!$A$8:G98,7,FALSE)","v":{"$error":"#N/A"}},{"$f":"VLOOKUP(H43,$B$4:B43,1,FALSE)","v":{"$error":"#N/A"}}]
[null,{"$f":"Results!A47","v":0},{"$f":"Results!C47","v":0},{"$f":"Results!B47","v":0},{"$f":"Results!D47","v":0},{"$f":"Results!G47","v":""},"- vs -",{"$f":"VLOOKUP(B44,Results!$A$8:AG99,9,)","v":{"$error":"#N/A"}},{"$f":"VLOOKUP(H44,Results!A$8:G99,3,)","v":{"$error":"#N/A"}},{"$f":"VLOOKUP(H44,Results!$A$8:G99,2,FALSE)","v":{"$error":"#N/A"}},{"$f":"VLOOKUP(H44,Results!$A$8:G99,4,FALSE)","v":{"$error":"#N/A"}},{"$f":"VLOOKUP(H44,Results!$A$8:G99,7,FALSE)","v":{"$error":"#N/A"}},{"$f":"VLOOKUP(H44,$B$4:B44,1,FALSE)","v":{"$error":"#N/A"}}]
[null,{"$f":"Results!A48","v":0},{"$f":"Results!C48","v":0},{"$f":"Results!B48","v":0},{"$f":"Results!D48","v":0},{"$f":"Results!G48","v":""},"- vs -",{"$f":"VLOOKUP(B45,Results!$A$8:AG100,9,)","v":{"$error":"#N/A"}},{"$f":"VLOOKUP(H45,Results!A$8:G100,3,)","v":{"$error":"#N/A"}},{"$f":"VLOOKUP(H45,Results!$A$8:G100,2,FALSE)","v":{"$error":"#N/A"}},{"$f":"VLOOKUP(H45,Results!$A$8:G100,4,FALSE)","v":{"$error":"#N/A"}},{"$f":"VLOOKUP(H45,Results!$A$8:G100,7,FALSE)","v":{"$error":"#N/A"}},{"$f":"VLOOKUP(H45,$B$4:B45,1,FALSE)","v":{"$error":"#N/A"}}]
[null,{"$f":"Results!A49","v":0},{"$f":"Results!C49","v":0},{"$f":"Results!B49","v":0},{"$f":"Results!D49","v":0},{"$f":"Results!G49","v":""},"- vs -",{"$f":"VLOOKUP(B46,Results!$A$8:AG101,9,)","v":{"$error":"#N/A"}},{"$f":"VLOOKUP(H46,Results!A$8:G101,3,)","v":{"$error":"#N/A"}},{"$f":"VLOOKUP(H46,Results!$A$8:G101,2,FALSE)","v":{"$error":"#N/A"}},{"$f":"VLOOKUP(H46,Results!$A$8:G101,4,FALSE)","v":{"$error":"#N/A"}},{"$f":"VLOOKUP(H46,Results!$A$8:G101,7,FALSE)","v":{"$error":"#N/A"}},{"$f":"VLOOKUP(H46,$B$4:B46,1,FALSE)","v":{"$error":"#N/A"}}]
[null,{"$f":"Results!A50","v":0},{"$f":"Results!C50","v":0},{"$f":"Results!B50","v":0},{"$f":"Results!D50","v":0},{"$f":"Results!G50","v":""},"- vs -",{"$f":"VLOOKUP(B47,Results!$A$8:AG102,9,)","v":{"$error":"#N/A"}},{"$f":"VLOOKUP(H47,Results!A$8:G102,3,)","v":{"$error":"#N/A"}},{"$f":"VLOOKUP(H47,Results!$A$8:G102,2,FALSE)","v":{"$error":"#N/A"}},{"$f":"VLOOKUP(H47,Results!$A$8:G102,4,FALSE)","v":{"$error":"#N/A"}},{"$f":"VLOOKUP(H47,Results!$A$8:G102,7,FALSE)","v":{"$error":"#N/A"}},{"$f":"VLOOKUP(H47,$B$4:B47,1,FALSE)","v":{"$error":"#N/A"}}]
[null,{"$f":"Results!A51","v":0},{"$f":"Results!C51","v":0},{"$f":"Results!B51","v":0},{"$f":"Results!D51","v":0},{"$f":"Results!G51","v":""},"- vs -",{"$f":"VLOOKUP(B48,Results!$A$8:AG103,9,)","v":{"$error":"#N/A"}},{"$f":"VLOOKUP(H48,Results!A$8:G103,3,)","v":{"$error":"#N/A"}},{"$f":"VLOOKUP(H48,Results!$A$8:G103,2,FALSE)","v":{"$error":"#N/A"}},{"$f":"VLOOKUP(H48,Results!$A$8:G103,4,FALSE)","v":{"$error":"#N/A"}},{"$f":"VLOOKUP(H48,Results!$A$8:G103,7,FALSE)","v":{"$error":"#N/A"}},{"$f":"VLOOKUP(H48,$B$4:B48,1,FALSE)","v":{"$error":"#N/A"}}]
[null,{"$f":"Results!A52","v":0},{"$f":"Results!C52","v":0},{"$f":"Results!B52","v":0},{"$f":"Results!D52","v":0},{"$f":"Results!G52","v":""},"- vs -",{"$f":"VLOOKUP(B49,Results!$A$8:AG104,9,)","v":{"$error":"#N/A"}},{"$f":"VLOOKUP(H49,Results!A$8:G104,3,)","v":{"$error":"#N/A"}},{"$f":"VLOOKUP(H49,Results!$A$8:G104,2,FALSE)","v":{"$error":"#N/A"}},{"$f":"VLOOKUP(H49,Results!$A$8:G104,4,FALSE)","v":{"$error":"#N/A"}},{"$f":"VLOOKUP(H49,Results!$A$8:G104,7,FALSE)","v":{"$error":"#N/A"}},{"$f":"VLOOKUP(H49,$B$4:B49,1,FALSE)","v":{"$error":"#N/A"}}]
[null,{"$f":"Results!A53","v":0},{"$f":"Results!C53","v":0},{"$f":"Results!B53","v":0},{"$f":"Results!D53","v":0},{"$f":"Results!G53","v":""},"- vs -",{"$f":"VLOOKUP(B50,Results!$A$8:AG105,9,)","v":{"$error":"#N/A"}},{"$f":"VLOOKUP(H50,Results!A$8:G105,3,)","v":{"$error":"#N/A"}},{"$f":"VLOOKUP(H50,Results!$A$8:G105,2,FALSE)","v":{"$error":"#N/A"}},{"$f":"VLOOKUP(H50,Results!$A$8:G105,4,FALSE)","v":{"$error":"#N/A"}},{"$f":"VLOOKUP(H50,Results!$A$8:G105,7,FALSE)","v":{"$error":"#N/A"}},{"$f":"VLOOKUP(H50,$B$4:B50,1,FALSE)","v":{"$error":"#N/A"}}]
[null,{"$f":"Results!A54","v":0},{"$f":"Results!C54","v":0},{"$f":"Results!B54","v":0},{"$f":"Results!D54","v":0},{"$f":"Results!G54","v":""},"- vs -",{"$f":"VLOOKUP(B51,Results!$A$8:AG106,9,)","v":{"$error":"#N/A"}},{"$f":"VLOOKUP(H51,Results!A$8:G106,3,)","v":{"$error":"#N/A"}},{"$f":"VLOOKUP(H51,Results!$A$8:G106,2,FALSE)","v":{"$error":"#N/A"}},{"$f":"VLOOKUP(H51,Results!$A$8:G106,4,FALSE)","v":{"$error":"#N/A"}},{"$f":"VLOOKUP(H51,Results!$A$8:G106,7,FALSE)","v":{"$error":"#N/A"}},{"$f":"VLOOKUP(H51,$B$4:B51,1,FALSE)","v":{"$error":"#N/A"}}]
[null,{"$f":"Results!A55","v":0},{"$f":"Results!C55","v":0},{"$f":"Results!B55","v":0},{"$f":"Results!D55","v":0},{"$f":"Results!G55","v":""},"- vs -",{"$f":"VLOOKUP(B52,Results!$A$8:AG107,9,)","v":{"$error":"#N/A"}},{"$f":"VLOOKUP(H52,Results!A$8:G107,3,)","v":{"$error":"#N/A"}},{"$f":"VLOOKUP(H52,Results!$A$8:G107,2,FALSE)","v":{"$error":"#N/A"}},{"$f":"VLOOKUP(H52,Results!$A$8:G107,4,FALSE)","v":{"$error":"#N/A"}},{"$f":"VLOOKUP(H52,Results!$A$8:G107,7,FALSE)","v":{"$error":"#N/A"}},{"$f":"VLOOKUP(H52,$B$4:B52,1,FALSE)","v":{"$error":"#N/A"}}]
[null,{"$f":"Results!A56","v":0},{"$f":"Results!C56","v":0},{"$f":"Results!B56","v":0},{"$f":"Results!D56","v":0},{"$f":"Results!G56","v":""},"- vs -",{"$f":"VLOOKUP(B53,Results!$A$8:AG108,9,)","v":{"$error":"#N/A"}},{"$f":"VLOOKUP(H53,Results!A$8:G108,3,)","v":{"$error":"#N/A"}},{"$f":"VLOOKUP(H53,Results!$A$8:G108,2,FALSE)","v":{"$error":"#N/A"}},{"$f":"VLOOKUP(H53,Results!$A$8:G108,4,FALSE)","v":{"$error":"#N/A"}},{"$f":"VLOOKUP(H53,Results!$A$8:G108,7,FALSE)","v":{"$error":"#N/A"}},{"$f":"VLOOKUP(H53,$B$4:B53,1,FALSE)","v":{"$error":"#N/A"}}]
[null,{"$f":"Results!A57","v":0},{"$f":"Results!C57","v":0},{"$f":"Results!B57","v":0},{"$f":"Results!D57","v":0},{"$f":"Results!G57","v":""},"- vs -",{"$f":"VLOOKUP(B54,Results!$A$8:AG109,9,)","v":{"$error":"#N/A"}},{"$f":"VLOOKUP(H54,Results!A$8:G109,3,)","v":{"$error":"#N/A"}},{"$f":"VLOOKUP(H54,Results!$A$8:G109,2,FALSE)","v":{"$error":"#N/A"}},{"$f":"VLOOKUP(H54,Results!$A$8:G109,4,FALSE)","v":{"$error":"#N/A"}},{"$f":"VLOOKUP(H54,Results!$A$8:G109,7,FALSE)","v":{"$error":"#N/A"}},{"$f":"VLOOKUP(H54,$B$4:B54,1,FALSE)","v":{"$error":"#N/A"}}]
[null,{"$f":"Results!A58","v":0},{"$f":"Results!C58","v":0},{"$f":"Results!B58","v":0},{"$f":"Results!D58","v":0},{"$f":"Results!G58","v":""},"- vs -",{"$f":"VLOOKUP(B55,Results!$A$8:AG110,9,)","v":{"$error":"#N/A"}},{"$f":"VLOOKUP(H55,Results!A$8:G110,3,)","v":{"$error":"#N/A"}},{"$f":"VLOOKUP(H55,Results!$A$8:G110,2,FALSE)","v":{"$error":"#N/A"}},{"$f":"VLOOKUP(H55,Results!$A$8:G110,4,FALSE)","v":{"$error":"#N/A"}},{"$f":"VLOOKUP(H55,Results!$A$8:G110,7,FALSE)","v":{"$error":"#N/A"}},{"$f":"VLOOKUP(H55,$B$4:B55,1,FALSE)","v":{"$error":"#N/A"}}]
[null,{"$f":"Results!A59","v":0},{"$f":"Results!C59","v":0},{"$f":"Results!B59","v":0},{"$f":"Results!D59","v":0},{"$f":"Results!G59","v":""},"- vs -",{"$f":"VLOOKUP(B56,Results!$A$8:AG111,9,)","v":{"$error":"#N/A"}},{"$f":"VLOOKUP(H56,Results!A$8:G111,3,)","v":{"$error":"#N/A"}},{"$f":"VLOOKUP(H56,Results!$A$8:G111,2,FALSE)","v":{"$error":"#N/A"}},{"$f":"VLOOKUP(H56,Results!$A$8:G111,4,FALSE)","v":{"$error":"#N/A"}},{"$f":"VLOOKUP(H56,Results!$A$8:G111,7,FALSE)","v":{"$error":"#N/A"}},{"$f":"VLOOKUP(H56,$B$4:B56,1,FALSE)","v":{"$error":"#N/A"}}]
[null,{"$f":"Results!A60","v":0},{"$f":"Results!C60","v":0},{"$f":"Results!B60","v":0},{"$f":"Results!D60","v":0},{"$f":"Results!G60","v":""},"- vs -",{"$f":"VLOOKUP(B57,Results!$A$8:AG112,9,)","v":{"$error":"#N/A"}},{"$f":"VLOOKUP(H57,Results!A$8:G112,3,)","v":{"$error":"#N/A"}},{"$f":"VLOOKUP(H57,Results!$A$8:G112,2,FALSE)","v":{"$error":"#N/A"}},{"$f":"VLOOKUP(H57,Results!$A$8:G112,4,FALSE)","v":{"$error":"#N/A"}},{"$f":"VLOOKUP(H57,Results!$A$8:G112,7,FALSE)","v":{"$error":"#N/A"}},{"$f":"VLOOKUP(H57,$B$4:B57,1,FALSE)","v":{"$error":"#N/A"}}]
[null,{"$f":"Results!A61","v":0},{"$f":"Results!C61","v":0},{"$f":"Results!B61","v":0},{"$f":"Results!D61","v":0},{"$f":"Results!G61","v":""},"- vs -",{"$f":"VLOOKUP(B58,Results!$A$8:AG113,9,)","v":{"$error":"#N/A"}},{"$f":"VLOOKUP(H58,Results!A$8:G113,3,)","v":{"$error":"#N/A"}},{"$f":"VLOOKUP(H58,Results!$A$8:G113,2,FALSE)","v":{"$error":"#N/A"}},{"$f":"VLOOKUP(H58,Results!$A$8:G113,4,FALSE)","v":{"$error":"#N/A"}},{"$f":"VLOOKUP(H58,Results!$A$8:G113,7,FALSE)","v":{"$error":"#N/A"}},{"$f":"VLOOKUP(H58,$B$4:B58,1,FALSE)","v":{"$error":"#N/A"}}]
[null,{"$f":"Results!A62","v":0},{"$f":"Results!C62","v":0},{"$f":"Results!B62","v":0},{"$f":"Results!D62","v":0},{"$f":"Results!G62","v":""},"- vs -",{"$f":"VLOOKUP(B59,Results!$A$8:AG114,9,)","v":{"$error":"#N/A"}},{"$f":"VLOOKUP(H59,Results!A$8:G114,3,)","v":{"$error":"#N/A"}},{"$f":"VLOOKUP(H59,Results!$A$8:G114,2,FALSE)","v":{"$error":"#N/A"}},{"$f":"VLOOKUP(H59,Results!$A$8:G114,4,FALSE)","v":{"$error":"#N/A"}},{"$f":"VLOOKUP(H59,Results!$A$8:G114,7,FALSE)","v":{"$error":"#N/A"}},{"$f":"VLOOKUP(H59,$B$4:B59,1,FALSE)","v":{"$error":"#N/A"}}]
[null,{"$f":"Results!A63","v":0},{"$f":"Results!C63","v":0},{"$f":"Results!B63","v":0},{"$f":"Results!D63","v":0},{"$f":"Results!G63","v":""},"- vs -",{"$f":"VLOOKUP(B60,Results!$A$8:AG115,9,)","v":{"$error":"#N/A"}},{"$f":"VLOOKUP(H60,Results!A$8:G115,3,)","v":{"$error":"#N/A"}},{"$f":"VLOOKUP(H60,Results!$A$8:G115,2,FALSE)","v":{"$error":"#N/A"}},{"$f":"VLOOKUP(H60,Results!$A$8:G115,4,FALSE)","v":{"$error":"#N/A"}},{"$f":"VLOOKUP(H60,Results!$A$8:G115,7,FALSE)","v":{"$error":"#N/A"}},{"$f":"VLOOKUP(H60,$B$4:B60,1,FALSE)","v":{"$error":"#N/A"}}]
[null,{"$f":"Results!A64","v":0},{"$f":"Results!C64","v":0},{"$f":"Results!B64","v":0},{"$f":"Results!D64","v":0},{"$f":"Results!G64","v":""},"- vs -",{"$f":"VLOOKUP(B61,Results!$A$8:AG116,9,)","v":{"$error":"#N/A"}},{"$f":"VLOOKUP(H61,Results!A$8:G116,3,)","v":{"$error":"#N/A"}},{"$f":"VLOOKUP(H61,Results!$A$8:G116,2,FALSE)","v":{"$error":"#N/A"}},{"$f":"VLOOKUP(H61,Results!$A$8:G116,4,FALSE)","v":{"$error":"#N/A"}},{"$f":"VLOOKUP(H61,Results!$A$8:G116,7,FALSE)","v":{"$error":"#N/A"}},{"$f":"VLOOKUP(H61,$B$4:B61,1,FALSE)","v":{"$error":"#N/A"}}]
[null,{"$f":"Results!A65","v":0},{"$f":"Results!C65","v":0},{"$f":"Results!B65","v":0},{"$f":"Results!D65","v":0},{"$f":"Results!G65","v":""},"- vs -",{"$f":"VLOOKUP(B62,Results!$A$8:AG117,9,)","v":{"$error":"#N/A"}},{"$f":"VLOOKUP(H62,Results!A$8:G117,3,)","v":{"$error":"#N/A"}},{"$f":"VLOOKUP(H62,Results!$A$8:G117,2,FALSE)","v":{"$error":"#N/A"}},{"$f":"VLOOKUP(H62,Results!$A$8:G117,4,FALSE)","v":{"$error":"#N/A"}},{"$f":"VLOOKUP(H62,Results!$A$8:G117,7,FALSE)","v":{"$error":"#N/A"}},{"$f":"VLOOKUP(H62,$B$4:B62,1,FALSE)","v":{"$error":"#N/A"}}]
[null,{"$f":"Results!A66","v":0},{"$f":"Results!C66","v":0},{"$f":"Results!B66","v":0},{"$f":"Results!D66","v":0},{"$f":"Results!G66","v":""},"- vs -",{"$f":"VLOOKUP(B63,Results!$A$8:AG118,9,)","v":{"$error":"#N/A"}},{"$f":"VLOOKUP(H63,Results!A$8:G118,3,)","v":{"$error":"#N/A"}},{"$f":"VLOOKUP(H63,Results!$A$8:G118,2,FALSE)","v":{"$error":"#N/A"}},{"$f":"VLOOKUP(H63,Results!$A$8:G118,4,FALSE)","v":{"$error":"#N/A"}},{"$f":"VLOOKUP(H63,Results!$A$8:G118,7,FALSE)","v":{"$error":"#N/A"}},{"$f":"VLOOKUP(H63,$B$4:B63,1,FALSE)","v":{"$error":"#N/A"}}]
[null,{"$f":"Results!A67","v":0},{"$f":"Results!C67","v":0},{"$f":"Results!B67","v":0},{"$f":"Results!D67","v":0},{"$f":"Results!G67","v":""},"- vs -",{"$f":"VLOOKUP(B64,Results!$A$8:AG119,9,)","v":{"$error":"#N/A"}},{"$f":"VLOOKUP(H64,Results!A$8:G119,3,)","v":{"$error":"#N/A"}},{"$f":"VLOOKUP(H64,Results!$A$8:G119,2,FALSE)","v":{"$error":"#N/A"}},{"$f":"VLOOKUP(H64,Results!$A$8:G119,4,FALSE)","v":{"$error":"#N/A"}},{"$f":"VLOOKUP(H64,Results!$A$8:G119,7,FALSE)","v":{"$error":"#N/A"}}]
[null,{"$f":"Results!A68","v":0},{"$f":"Results!C68","v":0},{"$f":"Results!B68","v":0},{"$f":"Results!D68","v":0},{"$f":"Results!G68","v":""},"- vs -",{"$f":"VLOOKUP(B65,Results!$A$8:AG120,9,)","v":{"$error":"#N/A"}},{"$f":"VLOOKUP(H65,Results!A$8:G120,3,)","v":{"$error":"#N/A"}},{"$f":"VLOOKUP(H65,Results!$A$8:G120,2,FALSE)","v":{"$error":"#N/A"}},{"$f":"VLOOKUP(H65,Results!$A$8:G120,4,FALSE)","v":{"$error":"#N/A"}},{"$f":"VLOOKUP(H65,Results!$A$8:G120,7,FALSE)","v":{"$error":"#N/A"}}]
[null,{"$f":"Results!A69","v":0},{"$f":"Results!C69","v":0},{"$f":"Results!B69","v":0},{"$f":"Results!D69","v":0},{"$f":"Results!G69","v":""},"- vs -",{"$f":"VLOOKUP(B66,Results!$A$8:AG121,9,)","v":{"$error":"#N/A"}},{"$f":"VLOOKUP(H66,Results!A$8:G121,3,)","v":{"$error":"#N/A"}},{"$f":"VLOOKUP(H66,Results!$A$8:G121,2,FALSE)","v":{"$error":"#N/A"}},{"$f":"VLOOKUP(H66,Results!$A$8:G121,4,FALSE)","v":{"$error":"#N/A"}},{"$f":"VLOOKUP(H66,Results!$A$8:G121,7,FALSE)","v":{"$error":"#N/A"}}]
[null,{"$f":"Results!A70","v":0},{"$f":"Results!C70","v":0},{"$f":"Results!B70","v":0},{"$f":"Results!D70","v":0},{"$f":"Results!G70","v":""},"- vs -",{"$f":"VLOOKUP(B67,Results!$A$8:AG122,9,)","v":{"$error":"#N/A"}},{"$f":"VLOOKUP(H67,Results!A$8:G122,3,)","v":{"$error":"#N/A"}},{"$f":"VLOOKUP(H67,Results!$A$8:G122,2,FALSE)","v":{"$error":"#N/A"}},{"$f":"VLOOKUP(H67,Results!$A$8:G122,4,FALSE)","v":{"$error":"#N/A"}},{"$f":"VLOOKUP(H67,Results!$A$8:G122,7,FALSE)","v":{"$error":"#N/A"}}]
[null,{"$f":"Results!A71","v":0},{"$f":"Results!C71","v":0},{"$f":"Results!B71","v":0},{"$f":"Results!D71","v":0},{"$f":"Results!G71","v":""},"- vs -",{"$f":"VLOOKUP(B68,Results!$A$8:AG123,9,)","v":{"$error":"#N/A"}},{"$f":"VLOOKUP(H68,Results!A$8:G123,3,)","v":{"$error":"#N/A"}},{"$f":"VLOOKUP(H68,Results!$A$8:G123,2,FALSE)","v":{"$error":"#N/A"}},{"$f":"VLOOKUP(H68,Results!$A$8:G123,4,FALSE)","v":{"$error":"#N/A"}},{"$f":"VLOOKUP(H68,Results!$A$8:G123,7,FALSE)","v":{"$error":"#N/A"}}]
[null,{"$f":"Results!A72","v":0},{"$f":"Results!C72","v":0},{"$f":"Results!B72","v":0},{"$f":"Results!D72","v":0},{"$f":"Results!G72","v":""},"- vs -",{"$f":"VLOOKUP(B69,Results!$A$8:AG124,9,)","v":{"$error":"#N/A"}},{"$f":"VLOOKUP(H69,Results!A$8:G124,3,)","v":{"$error":"#N/A"}},{"$f":"VLOOKUP(H69,Results!$A$8:G124,2,FALSE)","v":{"$error":"#N/A"}},{"$f":"VLOOKUP(H69,Results!$A$8:G124,4,FALSE)","v":{"$error":"#N/A"}},{"$f":"VLOOKUP(H69,Results!$A$8:G124,7,FALSE)","v":{"$error":"#N/A"}}]
[]
[]
[null,1015,"Nik","Sharp","Derby","Libyan Egyptian","- vs -",862,"Andy","Finkel","CLWC","Ancient Hebrew"]
[null,974,"Simon","Ellis","Farnborough","Hittites","- vs -",717,"Clive","McLeod","CLWC","Assyrian"]
[null,720,"Nigel","Poole","Gloucester","Mycenean","- vs -",710,"Dave","Saunders","CLWC","Early Carthaginian"]
[null,1014,"Keith","Martin-Smith","Hexwar","Assyrian","- vs -",768,"David","Allen","CLWC","Mycenean"]
[null,861,"Colin","Sharpe","Ilford","Ancient Bedouin","- vs -",715,"Gordon","Jamieson","CLWC","Assyrian & Sargonid"]
[null,713,"Darrell","Pearce ","MKWS","Assyrian & Sargonid","- vs -",397,"Hubert","Bretagne","CLWC","Assyrian"]
[null,711,"Harrison","Pearce ","MKWS","Assyrian & Sargonid","- vs -",800,"Ian","Mackay","CLWC","Assyrian"]
[null,773,"Charles","Masefield","Oxford","Early Carthaginian","- vs -",485,"Jesse","Schoor","CLWC","Kushite Egyptian"]
[null,868,"George","Hobday","SELWG","New Kingdom Egyptian","- vs -",858,"Mike","Bennett","CLWC","Early Achéménid Persian"]
[null,772,"Richard","Young","SoA","Assyrian & Sargonid","- vs -",708,"Peter","Webb","CLWC","Vedic Indian"]
[null,714,"Andy","Gilbert","Solent","Libyan Egyptian","- vs -",864,"Alex","Webb","CLWC","Assyrian & Sargonid"]
[null,556,"Iniaki","Iraizoz","Spain","Vedic Indian","- vs -",752,"Mark","Clarke","Birmingham","Early Carthaginian"]
[null,523,"Euardo","De Mira","Spain","Kushite Egyptian","- vs -",1017,"David","Roberts","Cambridge","Assyrian & Sargonid"]
[null,610,"Rober","Riviero","Spain","Ancient Bedouin","- vs -",749,"Andy","Claxton","Clevedon","Lydian"]
[null,754,"Colin","Cavanagh ","SSWG","Early Achéménid Persian","- vs -",746,"Don","McHugh","Clevedon","Vedic Indian"]
[null,1024,"Martyn","Hayes","SSWG","Libyan Egyptian","- vs -",503,"Rafael","Aullo","Spain","Sumer and Akkad"]
[null,755,"Mike","Baldwin","Tercio","Vedic Indian","- vs -",968,"Juan Carlos","Gomez","Spain","Assyrian & Sargonid"]
[null,1022,"Dave","Handley","Warlords","Hourri & Mitanni","- vs -",553,"Jose Vincente","Garcia","Spain","Early Achéménid Persian"]
[null,110,"Derek","Bruce",0,"Assyrian & Sargonid","- vs -",769,"Richard","Case","CLWC","Assyrian & Sargonid"]
[null,111,"Graeme","Carroll",0,"Spring & Autumn Chinese","- vs -",906,"Rob","James","CLWC","Early Carthaginian"]
[null,112,"Paul","Bulpin",0,"Early Carthaginian","- vs -",872,"Simon","Finney","CLWC","Early Achéménid Persian"]
[null,1020,"Richard","Hellston ",0,"Sumer and Akkad","- vs -",751,"Steven","Hacker","Clevedon","Early Carthaginian"]

{"sheet":"Round 2","index":10,"n_rows":69,"n_cols":13,"rows_kept":69,"cut":false,"hidden":false,"merged":[]}
[]
["Round 2 Draw",null,{"$f":"Results!B3","v":"Warfare"}]
[null,null,{"$f":"Results!B4","v":"Période Ancienne"}]
[null,null,null,null,null,null,null,null,null,null,null,null,"VALID?"]
[null,{"$f":"Results!A8","v":0},{"$f":"Results!C8","v":0},{"$f":"Results!B8","v":0},{"$f":"Results!D8","v":0},{"$f":"Results!G8","v":""},"- vs -",{"$f":"VLOOKUP(B5,Results!$A$8:$AG$60,16,FALSE)","v":{"$error":"#N/A"}},{"$f":"VLOOKUP(H5,Results!A$8:$G$60,3,FALSE)","v":{"$error":"#N/A"}},{"$f":"VLOOKUP(H5,Results!$A$8:$G$60,2,FALSE)","v":{"$error":"#N/A"}},{"$f":"VLOOKUP(H5,Results!$A$8:$G$60,4,FALSE)","v":{"$error":"#N/A"}},{"$f":"VLOOKUP(H5,Results!$A$8:$G$60,7,FALSE)","v":{"$error":"#N/A"}},{"$f":"VLOOKUP(H5,$B$4:B5,1,FALSE)","v":{"$error":"#N/A"}}]
[null,{"$f":"Results!A9","v":0},{"$f":"Results!C9","v":0},{"$f":"Results!B9","v":0},{"$f":"Results!D9","v":0},{"$f":"Results!G9","v":""},"- vs -",{"$f":"VLOOKUP(B6,Results!$A$8:$AG$60,16,FALSE)","v":{"$error":"#N/A"}},{"$f":"VLOOKUP(H6,Results!A$8:$G$60,3,FALSE)","v":{"$error":"#N/A"}},{"$f":"VLOOKUP(H6,Results!$A$8:$G$60,2,FALSE)","v":{"$error":"#N/A"}},{"$f":"VLOOKUP(H6,Results!$A$8:$G$60,4,FALSE)","v":{"$error":"#N/A"}},{"$f":"VLOOKUP(H6,Results!$A$8:$G$60,7,FALSE)","v":{"$error":"#N/A"}},{"$f":"VLOOKUP(H6,$B$4:B6,1,FALSE)","v":{"$error":"#N/A"}}]
[null,{"$f":"Results!A10","v":0},{"$f":"Results!C10","v":0},{"$f":"Results!B10","v":0},{"$f":"Results!D10","v":0},{"$f":"Results!G10","v":""},"- vs -",{"$f":"VLOOKUP(B7,Results!$A$8:$AG$60,16,FALSE)","v":{"$error":"#N/A"}},{"$f":"VLOOKUP(H7,Results!A$8:$G$60,3,FALSE)","v":{"$error":"#N/A"}},{"$f":"VLOOKUP(H7,Results!$A$8:$G$60,2,FALSE)","v":{"$error":"#N/A"}},{"$f":"VLOOKUP(H7,Results!$A$8:$G$60,4,FALSE)","v":{"$error":"#N/A"}},{"$f":"VLOOKUP(H7,Results!$A$8:$G$60,7,FALSE)","v":{"$error":"#N/A"}},{"$f":"VLOOKUP(H7,$B$4:B7,1,FALSE)","v":{"$error":"#N/A"}}]
[null,{"$f":"Results!A11","v":0},{"$f":"Results!C11","v":0},{"$f":"Results!B11","v":0},{"$f":"Results!D11","v":0},{"$f":"Results!G11","v":""},"- vs -",{"$f":"VLOOKUP(B8,Results!$A$8:$AG$60,16,FALSE)","v":{"$error":"#N/A"}},{"$f":"VLOOKUP(H8,Results!A$8:$G$60,3,FALSE)","v":{"$error":"#N/A"}},{"$f":"VLOOKUP(H8,Results!$A$8:$G$60,2,FALSE)","v":{"$error":"#N/A"}},{"$f":"VLOOKUP(H8,Results!$A$8:$G$60,4,FALSE)","v":{"$error":"#N/A"}},{"$f":"VLOOKUP(H8,Results!$A$8:$G$60,7,FALSE)","v":{"$error":"#N/A"}},{"$f":"VLOOKUP(H8,$B$4:B8,1,FALSE)","v":{"$error":"#N/A"}}]
[null,{"$f":"Results!A12","v":0},{"$f":"Results!C12","v":0},{"$f":"Results!B12","v":0},{"$f":"Results!D12","v":0},{"$f":"Results!G12","v":""},"- vs -",{"$f":"VLOOKUP(B9,Results!$A$8:$AG$60,16,FALSE)","v":{"$error":"#N/A"}},{"$f":"VLOOKUP(H9,Results!A$8:$G$60,3,FALSE)","v":{"$error":"#N/A"}},{"$f":"VLOOKUP(H9,Results!$A$8:$G$60,2,FALSE)","v":{"$error":"#N/A"}},{"$f":"VLOOKUP(H9,Results!$A$8:$G$60,4,FALSE)","v":{"$error":"#N/A"}},{"$f":"VLOOKUP(H9,Results!$A$8:$G$60,7,FALSE)","v":{"$error":"#N/A"}},{"$f":"VLOOKUP(H9,$B$4:B9,1,FALSE)","v":{"$error":"#N/A"}}]
[null,{"$f":"Results!A13","v":0},{"$f":"Results!C13","v":0},{"$f":"Results!B13","v":0},{"$f":"Results!D13","v":0},{"$f":"Results!G13","v":""},"- vs -",{"$f":"VLOOKUP(B10,Results!$A$8:$AG$60,16,FALSE)","v":{"$error":"#N/A"}},{"$f":"VLOOKUP(H10,Results!A$8:$G$60,3,FALSE)","v":{"$error":"#N/A"}},{"$f":"VLOOKUP(H10,Results!$A$8:$G$60,2,FALSE)","v":{"$error":"#N/A"}},{"$f":"VLOOKUP(H10,Results!$A$8:$G$60,4,FALSE)","v":{"$error":"#N/A"}},{"$f":"VLOOKUP(H10,Results!$A$8:$G$60,7,FALSE)","v":{"$error":"#N/A"}},{"$f":"VLOOKUP(H10,$B$4:B10,1,FALSE)","v":{"$error":"#N/A"}}]
[null,{"$f":"Results!A14","v":0},{"$f":"Results!C14","v":0},{"$f":"Results!B14","v":0},{"$f":"Results!D14","v":0},{"$f":"Results!G14","v":""},"- vs -",{"$f":"VLOOKUP(B11,Results!$A$8:$AG$60,16,FALSE)","v":{"$error":"#N/A"}},{"$f":"VLOOKUP(H11,Results!A$8:$G$60,3,FALSE)","v":{"$error":"#N/A"}},{"$f":"VLOOKUP(H11,Results!$A$8:$G$60,2,FALSE)","v":{"$error":"#N/A"}},{"$f":"VLOOKUP(H11,Results!$A$8:$G$60,4,FALSE)","v":{"$error":"#N/A"}},{"$f":"VLOOKUP(H11,Results!$A$8:$G$60,7,FALSE)","v":{"$error":"#N/A"}},{"$f":"VLOOKUP(H11,$B$4:B11,1,FALSE)","v":{"$error":"#N/A"}}]
[null,{"$f":"Results!A15","v":0},{"$f":"Results!C15","v":0},{"$f":"Results!B15","v":0},{"$f":"Results!D15","v":0},{"$f":"Results!G15","v":""},"- vs -",{"$f":"VLOOKUP(B12,Results!$A$8:$AG$60,16,FALSE)","v":{"$error":"#N/A"}},{"$f":"VLOOKUP(H12,Results!A$8:$G$60,3,FALSE)","v":{"$error":"#N/A"}},{"$f":"VLOOKUP(H12,Results!$A$8:$G$60,2,FALSE)","v":{"$error":"#N/A"}},{"$f":"VLOOKUP(H12,Results!$A$8:$G$60,4,FALSE)","v":{"$error":"#N/A"}},{"$f":"VLOOKUP(H12,Results!$A$8:$G$60,7,FALSE)","v":{"$error":"#N/A"}},{"$f":"VLOOKUP(H12,$B$4:B12,1,FALSE)","v":{"$error":"#N/A"}}]
[null,{"$f":"Results!A16","v":0},{"$f":"Results!C16","v":0},{"$f":"Results!B16","v":0},{"$f":"Results!D16","v":0},{"$f":"Results!G16","v":""},"- vs -",{"$f":"VLOOKUP(B13,Results!$A$8:$AG$60,16,FALSE)","v":{"$error":"#N/A"}},{"$f":"VLOOKUP(H13,Results!A$8:$G$60,3,FALSE)","v":{"$error":"#N/A"}},{"$f":"VLOOKUP(H13,Results!$A$8:$G$60,2,FALSE)","v":{"$error":"#N/A"}},{"$f":"VLOOKUP(H13,Results!$A$8:$G$60,4,FALSE)","v":{"$error":"#N/A"}},{"$f":"VLOOKUP(H13,Results!$A$8:$G$60,7,FALSE)","v":{"$error":"#N/A"}},{"$f":"VLOOKUP(H13,$B$4:B13,1,FALSE)","v":{"$error":"#N/A"}}]
[null,{"$f":"Results!A17","v":0},{"$f":"Results!C17","v":0},{"$f":"Results!B17","v":0},{"$f":"Results!D17","v":0},{"$f":"Results!G17","v":""},"- vs -",{"$f":"VLOOKUP(B14,Results!$A$8:$AG$60,16,FALSE)","v":{"$error":"#N/A"}},{"$f":"VLOOKUP(H14,Results!A$8:$G$60,3,FALSE)","v":{"$error":"#N/A"}},{"$f":"VLOOKUP(H14,Results!$A$8:$G$60,2,FALSE)","v":{"$error":"#N/A"}},{"$f":"VLOOKUP(H14,Results!$A$8:$G$60,4,FALSE)","v":{"$error":"#N/A"}},{"$f":"VLOOKUP(H14,Results!$A$8:$G$60,7,FALSE)","v":{"$error":"#N/A"}},{"$f":"VLOOKUP(H14,$B$4:B14,1,FALSE)","v":{"$error":"#N/A"}}]
[null,{"$f":"Results!A18","v":0},{"$f":"Results!C18","v":0},{"$f":"Results!B18","v":0},{"$f":"Results!D18","v":0},{"$f":"Results!G18","v":""},"- vs -",{"$f":"VLOOKUP(B15,Results!$A$8:$AG$60,16,FALSE)","v":{"$error":"#N/A"}},{"$f":"VLOOKUP(H15,Results!A$8:$G$60,3,FALSE)","v":{"$error":"#N/A"}},{"$f":"VLOOKUP(H15,Results!$A$8:$G$60,2,FALSE)","v":{"$error":"#N/A"}},{"$f":"VLOOKUP(H15,Results!$A$8:$G$60,4,FALSE)","v":{"$error":"#N/A"}},{"$f":"VLOOKUP(H15,Results!$A$8:$G$60,7,FALSE)","v":{"$error":"#N/A"}},{"$f":"VLOOKUP(H15,$B$4:B15,1,FALSE)","v":{"$error":"#N/A"}}]
[null,{"$f":"Results!A19","v":0},{"$f":"Results!C19","v":0},{"$f":"Results!B19","v":0},{"$f":"Results!D19","v":0},{"$f":"Results!G19","v":""},"- vs -",{"$f":"VLOOKUP(B16,Results!$A$8:$AG$60,16,FALSE)","v":{"$error":"#N/A"}},{"$f":"VLOOKUP(H16,Results!A$8:$G$60,3,FALSE)","v":{"$error":"#N/A"}},{"$f":"VLOOKUP(H16,Results!$A$8:$G$60,2,FALSE)","v":{"$error":"#N/A"}},{"$f":"VLOOKUP(H16,Results!$A$8:$G$60,4,FALSE)","v":{"$error":"#N/A"}},{"$f":"VLOOKUP(H16,Results!$A$8:$G$60,7,FALSE)","v":{"$error":"#N/A"}},{"$f":"VLOOKUP(H16,$B$4:B16,1,FALSE)","v":{"$error":"#N/A"}}]
[null,{"$f":"Results!A20","v":0},{"$f":"Results!C20","v":0},{"$f":"Results!B20","v":0},{"$f":"Results!D20","v":0},{"$f":"Results!G20","v":""},"- vs -",{"$f":"VLOOKUP(B17,Results!$A$8:$AG$60,16,FALSE)","v":{"$error":"#N/A"}},{"$f":"VLOOKUP(H17,Results!A$8:$G$60,3,FALSE)","v":{"$error":"#N/A"}},{"$f":"VLOOKUP(H17,Results!$A$8:$G$60,2,FALSE)","v":{"$error":"#N/A"}},{"$f":"VLOOKUP(H17,Results!$A$8:$G$60,4,FALSE)","v":{"$error":"#N/A"}},{"$f":"VLOOKUP(H17,Results!$A$8:$G$60,7,FALSE)","v":{"$error":"#N/A"}},{"$f":"VLOOKUP(H17,$B$4:B17,1,FALSE)","v":{"$error":"#N/A"}}]
[null,{"$f":"Results!A21","v":0},{"$f":"Results!C21","v":0},{"$f":"Results!B21","v":0},{"$f":"Results!D21","v":0},{"$f":"Results!G21","v":""},"- vs -",{"$f":"VLOOKUP(B18,Results!$A$8:$AG$60,16,FALSE)","v":{"$error":"#N/A"}},{"$f":"VLOOKUP(H18,Results!A$8:$G$60,3,FALSE)","v":{"$error":"#N/A"}},{"$f":"VLOOKUP(H18,Results!$A$8:$G$60,2,FALSE)","v":{"$error":"#N/A"}},{"$f":"VLOOKUP(H18,Results!$A$8:$G$60,4,FALSE)","v":{"$error":"#N/A"}},{"$f":"VLOOKUP(H18,Results!$A$8:$G$60,7,FALSE)","v":{"$error":"#N/A"}},{"$f":"VLOOKUP(H18,$B$4:B18,1,FALSE)","v":{"$error":"#N/A"}}]
[null,{"$f":"Results!A22","v":0},{"$f":"Results!C22","v":0},{"$f":"Results!B22","v":0},{"$f":"Results!D22","v":0},{"$f":"Results!G22","v":""},"- vs -",{"$f":"VLOOKUP(B19,Results!$A$8:$AG$60,16,FALSE)","v":{"$error":"#N/A"}},{"$f":"VLOOKUP(H19,Results!A$8:$G$60,3,FALSE)","v":{"$error":"#N/A"}},{"$f":"VLOOKUP(H19,Results!$A$8:$G$60,2,FALSE)","v":{"$error":"#N/A"}},{"$f":"VLOOKUP(H19,Results!$A$8:$G$60,4,FALSE)","v":{"$error":"#N/A"}},{"$f":"VLOOKUP(H19,Results!$A$8:$G$60,7,FALSE)","v":{"$error":"#N/A"}},{"$f":"VLOOKUP(H19,$B$4:B19,1,FALSE)","v":{"$error":"#N/A"}}]
[null,{"$f":"Results!A23","v":0},{"$f":"Results!C23","v":0},{"$f":"Results!B23","v":0},{"$f":"Results!D23","v":0},{"$f":"Results!G23","v":""},"- vs -",{"$f":"VLOOKUP(B20,Results!$A$8:$AG$60,16,FALSE)","v":{"$error":"#N/A"}},{"$f":"VLOOKUP(H20,Results!A$8:$G$60,3,FALSE)","v":{"$error":"#N/A"}},{"$f":"VLOOKUP(H20,Results!$A$8:$G$60,2,FALSE)","v":{"$error":"#N/A"}},{"$f":"VLOOKUP(H20,Results!$A$8:$G$60,4,FALSE)","v":{"$error":"#N/A"}},{"$f":"VLOOKUP(H20,Results!$A$8:$G$60,7,FALSE)","v":{"$error":"#N/A"}},{"$f":"VLOOKUP(H20,$B$4:B20,1,FALSE)","v":{"$error":"#N/A"}}]
[null,{"$f":"Results!A24","v":0},{"$f":"Results!C24","v":0},{"$f":"Results!B24","v":0},{"$f":"Results!D24","v":0},{"$f":"Results!G24","v":""},"- vs -",{"$f":"VLOOKUP(B21,Results!$A$8:$AG$60,16,FALSE)","v":{"$error":"#N/A"}},{"$f":"VLOOKUP(H21,Results!A$8:$G$60,3,FALSE)","v":{"$error":"#N/A"}},{"$f":"VLOOKUP(H21,Results!$A$8:$G$60,2,FALSE)","v":{"$error":"#N/A"}},{"$f":"VLOOKUP(H21,Results!$A$8:$G$60,4,FALSE)","v":{"$error":"#N/A"}},{"$f":"VLOOKUP(H21,Results!$A$8:$G$60,7,FALSE)","v":{"$error":"#N/A"}},{"$f":"VLOOKUP(H21,$B$4:B21,1,FALSE)","v":{"$error":"#N/A"}}]
[null,{"$f":"Results!A25","v":0},{"$f":"Results!C25","v":0},{"$f":"Results!B25","v":0},{"$f":"Results!D25","v":0},{"$f":"Results!G25","v":""},"- vs -",{"$f":"VLOOKUP(B22,Results!$A$8:$AG$60,16,FALSE)","v":{"$error":"#N/A"}},{"$f":"VLOOKUP(H22,Results!A$8:$G$60,3,FALSE)","v":{"$error":"#N/A"}},{"$f":"VLOOKUP(H22,Results!$A$8:$G$60,2,FALSE)","v":{"$error":"#N/A"}},{"$f":"VLOOKUP(H22,Results!$A$8:$G$60,4,FALSE)","v":{"$error":"#N/A"}},{"$f":"VLOOKUP(H22,Results!$A$8:$G$60,7,FALSE)","v":{"$error":"#N/A"}},{"$f":"VLOOKUP(H22,$B$4:B22,1,FALSE)","v":{"$error":"#N/A"}}]
[null,{"$f":"Results!A26","v":0},{"$f":"Results!C26","v":0},{"$f":"Results!B26","v":0},{"$f":"Results!D26","v":0},{"$f":"Results!G26","v":""},"- vs -",{"$f":"VLOOKUP(B23,Results!$A$8:$AG$60,16,FALSE)","v":{"$error":"#N/A"}},{"$f":"VLOOKUP(H23,Results!A$8:$G$60,3,FALSE)","v":{"$error":"#N/A"}},{"$f":"VLOOKUP(H23,Results!$A$8:$G$60,2,FALSE)","v":{"$error":"#N/A"}},{"$f":"VLOOKUP(H23,Results!$A$8:$G$60,4,FALSE)","v":{"$error":"#N/A"}},{"$f":"VLOOKUP(H23,Results!$A$8:$G$60,7,FALSE)","v":{"$error":"#N/A"}},{"$f":"VLOOKUP(H23,$B$4:B23,1,FALSE)","v":{"$error":"#N/A"}}]
[null,{"$f":"Results!A27","v":0},{"$f":"Results!C27","v":0},{"$f":"Results!B27","v":0},{"$f":"Results!D27","v":0},{"$f":"Results!G27","v":""},"- vs -",{"$f":"VLOOKUP(B24,Results!$A$8:$AG$60,16,FALSE)","v":{"$error":"#N/A"}},{"$f":"VLOOKUP(H24,Results!A$8:$G$60,3,FALSE)","v":{"$error":"#N/A"}},{"$f":"VLOOKUP(H24,Results!$A$8:$G$60,2,FALSE)","v":{"$error":"#N/A"}},{"$f":"VLOOKUP(H24,Results!$A$8:$G$60,4,FALSE)","v":{"$error":"#N/A"}},{"$f":"VLOOKUP(H24,Results!$A$8:$G$60,7,FALSE)","v":{"$error":"#N/A"}},{"$f":"VLOOKUP(H24,$B$4:B24,1,FALSE)","v":{"$error":"#N/A"}}]
[null,{"$f":"Results!A28","v":0},{"$f":"Results!C28","v":0},{"$f":"Results!B28","v":0},{"$f":"Results!D28","v":0},{"$f":"Results!G28","v":""},"- vs -",{"$f":"VLOOKUP(B25,Results!$A$8:$AG$60,16,FALSE)","v":{"$error":"#N/A"}},{"$f":"VLOOKUP(H25,Results!A$8:$G$60,3,FALSE)","v":{"$error":"#N/A"}},{"$f":"VLOOKUP(H25,Results!$A$8:$G$60,2,FALSE)","v":{"$error":"#N/A"}},{"$f":"VLOOKUP(H25,Results!$A$8:$G$60,4,FALSE)","v":{"$error":"#N/A"}},{"$f":"VLOOKUP(H25,Results!$A$8:$G$60,7,FALSE)","v":{"$error":"#N/A"}},{"$f":"VLOOKUP(H25,$B$4:B25,1,FALSE)","v":{"$error":"#N/A"}}]
[null,{"$f":"Results!A29","v":0},{"$f":"Results!C29","v":0},{"$f":"Results!B29","v":0},{"$f":"Results!D29","v":0},{"$f":"Results!G29","v":""},"- vs -",{"$f":"VLOOKUP(B26,Results!$A$8:$AG$60,16,FALSE)","v":{"$error":"#N/A"}},{"$f":"VLOOKUP(H26,Results!A$8:$G$60,3,FALSE)","v":{"$error":"#N/A"}},{"$f":"VLOOKUP(H26,Results!$A$8:$G$60,2,FALSE)","v":{"$error":"#N/A"}},{"$f":"VLOOKUP(H26,Results!$A$8:$G$60,4,FALSE)","v":{"$error":"#N/A"}},{"$f":"VLOOKUP(H26,Results!$A$8:$G$60,7,FALSE)","v":{"$error":"#N/A"}},{"$f":"VLOOKUP(H26,$B$4:B26,1,FALSE)","v":{"$error":"#N/A"}}]
[null,{"$f":"Results!A30","v":0},{"$f":"Results!C30","v":0},{"$f":"Results!B30","v":0},{"$f":"Results!D30","v":0},{"$f":"Results!G30","v":""},"- vs -",{"$f":"VLOOKUP(B27,Results!$A$8:$AG$60,16,FALSE)","v":{"$error":"#N/A"}},{"$f":"VLOOKUP(H27,Results!A$8:$G$60,3,FALSE)","v":{"$error":"#N/A"}},{"$f":"VLOOKUP(H27,Results!$A$8:$G$60,2,FALSE)","v":{"$error":"#N/A"}},{"$f":"VLOOKUP(H27,Results!$A$8:$G$60,4,FALSE)","v":{"$error":"#N/A"}},{"$f":"VLOOKUP(H27,Results!$A$8:$G$60,7,FALSE)","v":{"$error":"#N/A"}},{"$f":"VLOOKUP(H27,$B$4:B27,1,FALSE)","v":{"$error":"#N/A"}}]
[null,{"$f":"Results!A31","v":0},{"$f":"Results!C31","v":0},{"$f":"Results!B31","v":0},{"$f":"Results!D31","v":0},{"$f":"Results!G31","v":""},"- vs -",{"$f":"VLOOKUP(B28,Results!$A$8:$AG$60,16,FALSE)","v":{"$error":"#N/A"}},{"$f":"VLOOKUP(H28,Results!A$8:$G$60,3,FALSE)","v":{"$error":"#N/A"}},{"$f":"VLOOKUP(H28,Results!$A$8:$G$60,2,FALSE)","v":{"$error":"#N/A"}},{"$f":"VLOOKUP(H28,Results!$A$8:$G$60,4,FALSE)","v":{"$error":"#N/A"}},{"$f":"VLOOKUP(H28,Results!$A$8:$G$60,7,FALSE)","v":{"$error":"#N/A"}},{"$f":"VLOOKUP(H28,$B$4:B28,1,FALSE)","v":{"$error":"#N/A"}}]
[null,{"$f":"Results!A32","v":0},{"$f":"Results!C32","v":0},{"$f":"Results!B32","v":0},{"$f":"Results!D32","v":0},{"$f":"Results!G32","v":""},"- vs -",{"$f":"VLOOKUP(B29,Results!$A$8:$AG$60,16,FALSE)","v":{"$error":"#N/A"}},{"$f":"VLOOKUP(H29,Results!A$8:$G$60,3,FALSE)","v":{"$error":"#N/A"}},{"$f":"VLOOKUP(H29,Results!$A$8:$G$60,2,FALSE)","v":{"$error":"#N/A"}},{"$f":"VLOOKUP(H29,Results!$A$8:$G$60,4,FALSE)","v":{"$error":"#N/A"}},{"$f":"VLOOKUP(H29,Results!$A$8:$G$60,7,FALSE)","v":{"$error":"#N/A"}},{"$f":"VLOOKUP(H29,$B$4:B29,1,FALSE)","v":{"$error":"#N/A"}}]
[null,{"$f":"Results!A33","v":0},{"$f":"Results!C33","v":0},{"$f":"Results!B33","v":0},{"$f":"Results!D33","v":0},{"$f":"Results!G33","v":""},"- vs -",{"$f":"VLOOKUP(B30,Results!$A$8:$AG$60,16,FALSE)","v":{"$error":"#N/A"}},{"$f":"VLOOKUP(H30,Results!A$8:$G$60,3,FALSE)","v":{"$error":"#N/A"}},{"$f":"VLOOKUP(H30,Results!$A$8:$G$60,2,FALSE)","v":{"$error":"#N/A"}},{"$f":"VLOOKUP(H30,Results!$A$8:$G$60,4,FALSE)","v":{"$error":"#N/A"}},{"$f":"VLOOKUP(H30,Results!$A$8:$G$60,7,FALSE)","v":{"$error":"#N/A"}},{"$f":"VLOOKUP(H30,$B$4:B30,1,FALSE)","v":{"$error":"#N/A"}}]
[null,{"$f":"Results!A34","v":0},{"$f":"Results!C34","v":0},{"$f":"Results!B34","v":0},{"$f":"Results!D34","v":0},{"$f":"Results!G34","v":""},"- vs -",{"$f":"VLOOKUP(B31,Results!$A$8:$AG$60,16,FALSE)","v":{"$error":"#N/A"}},{"$f":"VLOOKUP(H31,Results!A$8:$G$60,3,FALSE)","v":{"$error":"#N/A"}},{"$f":"VLOOKUP(H31,Results!$A$8:$G$60,2,FALSE)","v":{"$error":"#N/A"}},{"$f":"VLOOKUP(H31,Results!$A$8:$G$60,4,FALSE)","v":{"$error":"#N/A"}},{"$f":"VLOOKUP(H31,Results!$A$8:$G$60,7,FALSE)","v":{"$error":"#N/A"}},{"$f":"VLOOKUP(H31,$B$4:B31,1,FALSE)","v":{"$error":"#N/A"}}]
[null,{"$f":"Results!A35","v":0},{"$f":"Results!C35","v":0},{"$f":"Results!B35","v":0},{"$f":"Results!D35","v":0},{"$f":"Results!G35","v":""},"- vs -",{"$f":"VLOOKUP(B32,Results!$A$8:$AG$60,16,FALSE)","v":{"$error":"#N/A"}},{"$f":"VLOOKUP(H32,Results!A$8:$G$60,3,FALSE)","v":{"$error":"#N/A"}},{"$f":"VLOOKUP(H32,Results!$A$8:$G$60,2,FALSE)","v":{"$error":"#N/A"}},{"$f":"VLOOKUP(H32,Results!$A$8:$G$60,4,FALSE)","v":{"$error":"#N/A"}},{"$f":"VLOOKUP(H32,Results!$A$8:$G$60,7,FALSE)","v":{"$error":"#N/A"}},{"$f":"VLOOKUP(H32,$B$4:B32,1,FALSE)","v":{"$error":"#N/A"}}]
[null,{"$f":"Results!A36","v":0},{"$f":"Results!C36","v":0},{"$f":"Results!B36","v":0},{"$f":"Results!D36","v":0},{"$f":"Results!G36","v":""},"- vs -",{"$f":"VLOOKUP(B33,Results!$A$8:$AG$60,16,FALSE)","v":{"$error":"#N/A"}},{"$f":"VLOOKUP(H33,Results!A$8:$G$60,3,FALSE)","v":{"$error":"#N/A"}},{"$f":"VLOOKUP(H33,Results!$A$8:$G$60,2,FALSE)","v":{"$error":"#N/A"}},{"$f":"VLOOKUP(H33,Results!$A$8:$G$60,4,FALSE)","v":{"$error":"#N/A"}},{"$f":"VLOOKUP(H33,Results!$A$8:$G$60,7,FALSE)","v":{"$error":"#N/A"}},{"$f":"VLOOKUP(H33,$B$4:B33,1,FALSE)","v":{"$error":"#N/A"}}]
[null,{"$f":"Results!A37","v":0},{"$f":"Results!C37","v":0},{"$f":"Results!B37","v":0},{"$f":"Results!D37","v":0},{"$f":"Results!G37","v":""},"- vs -",{"$f":"VLOOKUP(B34,Results!$A$8:$AG$60,16,FALSE)","v":{"$error":"#N/A"}},{"$f":"VLOOKUP(H34,Results!A$8:$G$60,3,FALSE)","v":{"$error":"#N/A"}},{"$f":"VLOOKUP(H34,Results!$A$8:$G$60,2,FALSE)","v":{"$error":"#N/A"}},{"$f":"VLOOKUP(H34,Results!$A$8:$G$60,4,FALSE)","v":{"$error":"#N/A"}},{"$f":"VLOOKUP(H34,Results!$A$8:$G$60,7,FALSE)","v":{"$error":"#N/A"}},{"$f":"VLOOKUP(H34,$B$4:B34,1,FALSE)","v":{"$error":"#N/A"}}]
[null,{"$f":"Results!A38","v":0},{"$f":"Results!C38","v":0},{"$f":"Results!B38","v":0},{"$f":"Results!D38","v":0},{"$f":"Results!G38","v":""},"- vs -",{"$f":"VLOOKUP(B35,Results!$A$8:$AG$60,16,FALSE)","v":{"$error":"#N/A"}},{"$f":"VLOOKUP(H35,Results!A$8:$G$60,3,FALSE)","v":{"$error":"#N/A"}},{"$f":"VLOOKUP(H35,Results!$A$8:$G$60,2,FALSE)","v":{"$error":"#N/A"}},{"$f":"VLOOKUP(H35,Results!$A$8:$G$60,4,FALSE)","v":{"$error":"#N/A"}},{"$f":"VLOOKUP(H35,Results!$A$8:$G$60,7,FALSE)","v":{"$error":"#N/A"}},{"$f":"VLOOKUP(H35,$B$4:B35,1,FALSE)","v":{"$error":"#N/A"}}]
[null,{"$f":"Results!A39","v":0},{"$f":"Results!C39","v":0},{"$f":"Results!B39","v":0},{"$f":"Results!D39","v":0},{"$f":"Results!G39","v":""},"- vs -",{"$f":"VLOOKUP(B36,Results!$A$8:$AG$60,16,FALSE)","v":{"$error":"#N/A"}},{"$f":"VLOOKUP(H36,Results!A$8:$G$60,3,FALSE)","v":{"$error":"#N/A"}},{"$f":"VLOOKUP(H36,Results!$A$8:$G$60,2,FALSE)","v":{"$error":"#N/A"}},{"$f":"VLOOKUP(H36,Results!$A$8:$G$60,4,FALSE)","v":{"$error":"#N/A"}},{"$f":"VLOOKUP(H36,Results!$A$8:$G$60,7,FALSE)","v":{"$error":"#N/A"}},{"$f":"VLOOKUP(H36,$B$4:B36,1,FALSE)","v":{"$error":"#N/A"}}]
[null,{"$f":"Results!A40","v":0},{"$f":"Results!C40","v":0},{"$f":"Results!B40","v":0},{"$f":"Results!D40","v":0},{"$f":"Results!G40","v":""},"- vs -",{"$f":"VLOOKUP(B37,Results!$A$8:$AG$60,16,FALSE)","v":{"$error":"#N/A"}},{"$f":"VLOOKUP(H37,Results!A$8:$G$60,3,FALSE)","v":{"$error":"#N/A"}},{"$f":"VLOOKUP(H37,Results!$A$8:$G$60,2,FALSE)","v":{"$error":"#N/A"}},{"$f":"VLOOKUP(H37,Results!$A$8:$G$60,4,FALSE)","v":{"$error":"#N/A"}},{"$f":"VLOOKUP(H37,Results!$A$8:$G$60,7,FALSE)","v":{"$error":"#N/A"}},{"$f":"VLOOKUP(H37,$B$4:B37,1,FALSE)","v":{"$error":"#N/A"}}]
[null,{"$f":"Results!A41","v":0},{"$f":"Results!C41","v":0},{"$f":"Results!B41","v":0},{"$f":"Results!D41","v":0},{"$f":"Results!G41","v":""},"- vs -",{"$f":"VLOOKUP(B38,Results!$A$8:$AG$60,16,FALSE)","v":{"$error":"#N/A"}},{"$f":"VLOOKUP(H38,Results!A$8:$G$60,3,FALSE)","v":{"$error":"#N/A"}},{"$f":"VLOOKUP(H38,Results!$A$8:$G$60,2,FALSE)","v":{"$error":"#N/A"}},{"$f":"VLOOKUP(H38,Results!$A$8:$G$60,4,FALSE)","v":{"$error":"#N/A"}},{"$f":"VLOOKUP(H38,Results!$A$8:$G$60,7,FALSE)","v":{"$error":"#N/A"}},{"$f":"VLOOKUP(H38,$B$4:B38,1,FALSE)","v":{"$error":"#N/A"}}]
[null,{"$f":"Results!A42","v":0},{"$f":"Results!C42","v":0},{"$f":"Results!B42","v":0},{"$f":"Results!D42","v":0},{"$f":"Results!G42","v":""},"- vs -",{"$f":"VLOOKUP(B39,Results!$A$8:$AG$60,16,FALSE)","v":{"$error":"#N/A"}},{"$f":"VLOOKUP(H39,Results!A$8:$G$60,3,FALSE)","v":{"$error":"#N/A"}},{"$f":"VLOOKUP(H39,Results!$A$8:$G$60,2,FALSE)","v":{"$error":"#N/A"}},{"$f":"VLOOKUP(H39,Results!$A$8:$G$60,4,FALSE)","v":{"$error":"#N/A"}},{"$f":"VLOOKUP(H39,Results!$A$8:$G$60,7,FALSE)","v":{"$error":"#N/A"}},{"$f":"VLOOKUP(H39,$B$4:B39,1,FALSE)","v":{"$error":"#N/A"}}]
[null,{"$f":"Results!A43","v":0},{"$f":"Results!C43","v":0},{"$f":"Results!B43","v":0},{"$f":"Results!D43","v":0},{"$f":"Results!G43","v":""},"- vs -",{"$f":"VLOOKUP(B40,Results!$A$8:$AG$60,16,FALSE)","v":{"$error":"#N/A"}},{"$f":"VLOOKUP(H40,Results!A$8:$G$60,3,FALSE)","v":{"$error":"#N/A"}},{"$f":"VLOOKUP(H40,Results!$A$8:$G$60,2,FALSE)","v":{"$error":"#N/A"}},{"$f":"VLOOKUP(H40,Results!$A$8:$G$60,4,FALSE)","v":{"$error":"#N/A"}},{"$f":"VLOOKUP(H40,Results!$A$8:$G$60,7,FALSE)","v":{"$error":"#N/A"}},{"$f":"VLOOKUP(H40,$B$4:B40,1,FALSE)","v":{"$error":"#N/A"}}]
[null,{"$f":"Results!A44","v":0},{"$f":"Results!C44","v":0},{"$f":"Results!B44","v":0},{"$f":"Results!D44","v":0},{"$f":"Results!G44","v":""},"- vs -",{"$f":"VLOOKUP(B41,Results!$A$8:$AG$60,16,FALSE)","v":{"$error":"#N/A"}},{"$f":"VLOOKUP(H41,Results!A$8:$G$60,3,FALSE)","v":{"$error":"#N/A"}},{"$f":"VLOOKUP(H41,Results!$A$8:$G$60,2,FALSE)","v":{"$error":"#N/A"}},{"$f":"VLOOKUP(H41,Results!$A$8:$G$60,4,FALSE)","v":{"$error":"#N/A"}},{"$f":"VLOOKUP(H41,Results!$A$8:$G$60,7,FALSE)","v":{"$error":"#N/A"}},{"$f":"VLOOKUP(H41,$B$4:B41,1,FALSE)","v":{"$error":"#N/A"}}]
[null,{"$f":"Results!A45","v":0},{"$f":"Results!C45","v":0},{"$f":"Results!B45","v":0},{"$f":"Results!D45","v":0},{"$f":"Results!G45","v":""},"- vs -",{"$f":"VLOOKUP(B42,Results!$A$8:$AG$60,16,FALSE)","v":{"$error":"#N/A"}},{"$f":"VLOOKUP(H42,Results!A$8:$G$60,3,FALSE)","v":{"$error":"#N/A"}},{"$f":"VLOOKUP(H42,Results!$A$8:$G$60,2,FALSE)","v":{"$error":"#N/A"}},{"$f":"VLOOKUP(H42,Results!$A$8:$G$60,4,FALSE)","v":{"$error":"#N/A"}},{"$f":"VLOOKUP(H42,Results!$A$8:$G$60,7,FALSE)","v":{"$error":"#N/A"}},{"$f":"VLOOKUP(H42,$B$4:B42,1,FALSE)","v":{"$error":"#N/A"}}]
[null,{"$f":"Results!A46","v":0},{"$f":"Results!C46","v":0},{"$f":"Results!B46","v":0},{"$f":"Results!D46","v":0},{"$f":"Results!G46","v":""},"- vs -",{"$f":"VLOOKUP(B43,Results!$A$8:$AG$60,16,FALSE)","v":{"$error":"#N/A"}},{"$f":"VLOOKUP(H43,Results!A$8:$G$60,3,FALSE)","v":{"$error":"#N/A"}},{"$f":"VLOOKUP(H43,Results!$A$8:$G$60,2,FALSE)","v":{"$error":"#N/A"}},{"$f":"VLOOKUP(H43,Results!$A$8:$G$60,4,FALSE)","v":{"$error":"#N/A"}},{"$f":"VLOOKUP(H43,Results!$A$8:$G$60,7,FALSE)","v":{"$error":"#N/A"}},{"$f":"VLOOKUP(H43,$B$4:B43,1,FALSE)","v":{"$error":"#N/A"}}]
[null,{"$f":"Results!A47","v":0},{"$f":"Results!C47","v":0},{"$f":"Results!B47","v":0},{"$f":"Results!D47","v":0},{"$f":"Results!G47","v":""},"- vs -",{"$f":"VLOOKUP(B44,Results!$A$8:$AG$60,16,FALSE)","v":{"$error":"#N/A"}},{"$f":"VLOOKUP(H44,Results!A$8:$G$60,3,FALSE)","v":{"$error":"#N/A"}},{"$f":"VLOOKUP(H44,Results!$A$8:$G$60,2,FALSE)","v":{"$error":"#N/A"}},{"$f":"VLOOKUP(H44,Results!$A$8:$G$60,4,FALSE)","v":{"$error":"#N/A"}},{"$f":"VLOOKUP(H44,Results!$A$8:$G$60,7,FALSE)","v":{"$error":"#N/A"}},{"$f":"VLOOKUP(H44,$B$4:B44,1,FALSE)","v":{"$error":"#N/A"}}]
[null,{"$f":"Results!A48","v":0},{"$f":"Results!C48","v":0},{"$f":"Results!B48","v":0},{"$f":"Results!D48","v":0},{"$f":"Results!G48","v":""},"- vs -",{"$f":"VLOOKUP(B45,Results!$A$8:$AG$60,16,FALSE)","v":{"$error":"#N/A"}},{"$f":"VLOOKUP(H45,Results!A$8:$G$60,3,FALSE)","v":{"$error":"#N/A"}},{"$f":"VLOOKUP(H45,Results!$A$8:$G$60,2,FALSE)","v":{"$error":"#N/A"}},{"$f":"VLOOKUP(H45,Results!$A$8:$G$60,4,FALSE)","v":{"$error":"#N/A"}},{"$f":"VLOOKUP(H45,Results!$A$8:$G$60,7,FALSE)","v":{"$error":"#N/A"}},{"$f":"VLOOKUP(H45,$B$4:B45,1,FALSE)","v":{"$error":"#N/A"}}]
[null,{"$f":"Results!A49","v":0},{"$f":"Results!C49","v":0},{"$f":"Results!B49","v":0},{"$f":"Results!D49","v":0},{"$f":"Results!G49","v":""},"- vs -",{"$f":"VLOOKUP(B46,Results!$A$8:$AG$60,16,FALSE)","v":{"$error":"#N/A"}},{"$f":"VLOOKUP(H46,Results!A$8:$G$60,3,FALSE)","v":{"$error":"#N/A"}},{"$f":"VLOOKUP(H46,Results!$A$8:$G$60,2,FALSE)","v":{"$error":"#N/A"}},{"$f":"VLOOKUP(H46,Results!$A$8:$G$60,4,FALSE)","v":{"$error":"#N/A"}},{"$f":"VLOOKUP(H46,Results!$A$8:$G$60,7,FALSE)","v":{"$error":"#N/A"}},{"$f":"VLOOKUP(H46,$B$4:B46,1,FALSE)","v":{"$error":"#N/A"}}]
[null,{"$f":"Results!A50","v":0},{"$f":"Results!C50","v":0},{"$f":"Results!B50","v":0},{"$f":"Results!D50","v":0},{"$f":"Results!G50","v":""},"- vs -",{"$f":"VLOOKUP(B47,Results!$A$8:$AG$60,16,FALSE)","v":{"$error":"#N/A"}},{"$f":"VLOOKUP(H47,Results!A$8:$G$60,3,FALSE)","v":{"$error":"#N/A"}},{"$f":"VLOOKUP(H47,Results!$A$8:$G$60,2,FALSE)","v":{"$error":"#N/A"}},{"$f":"VLOOKUP(H47,Results!$A$8:$G$60,4,FALSE)","v":{"$error":"#N/A"}},{"$f":"VLOOKUP(H47,Results!$A$8:$G$60,7,FALSE)","v":{"$error":"#N/A"}},{"$f":"VLOOKUP(H47,$B$4:B47,1,FALSE)","v":{"$error":"#N/A"}}]
[null,{"$f":"Results!A51","v":0},{"$f":"Results!C51","v":0},{"$f":"Results!B51","v":0},{"$f":"Results!D51","v":0},{"$f":"Results!G51","v":""},"- vs -",{"$f":"VLOOKUP(B48,Results!$A$8:$AG$60,16,FALSE)","v":{"$error":"#N/A"}},{"$f":"VLOOKUP(H48,Results!A$8:$G$60,3,FALSE)","v":{"$error":"#N/A"}},{"$f":"VLOOKUP(H48,Results!$A$8:$G$60,2,FALSE)","v":{"$error":"#N/A"}},{"$f":"VLOOKUP(H48,Results!$A$8:$G$60,4,FALSE)","v":{"$error":"#N/A"}},{"$f":"VLOOKUP(H48,Results!$A$8:$G$60,7,FALSE)","v":{"$error":"#N/A"}},{"$f":"VLOOKUP(H48,$B$4:B48,1,FALSE)","v":{"$error":"#N/A"}}]
[null,{"$f":"Results!A52","v":0},{"$f":"Results!C52","v":0},{"$f":"Results!B52","v":0},{"$f":"Results!D52","v":0},{"$f":"Results!G52","v":""},"- vs -",{"$f":"VLOOKUP(B49,Results!$A$8:$AG$60,16,FALSE)","v":{"$error":"#N/A"}},{"$f":"VLOOKUP(H49,Results!A$8:$G$60,3,FALSE)","v":{"$error":"#N/A"}},{"$f":"VLOOKUP(H49,Results!$A$8:$G$60,2,FALSE)","v":{"$error":"#N/A"}},{"$f":"VLOOKUP(H49,Results!$A$8:$G$60,4,FALSE)","v":{"$error":"#N/A"}},{"$f":"VLOOKUP(H49,Results!$A$8:$G$60,7,FALSE)","v":{"$error":"#N/A"}},{"$f":"VLOOKUP(H49,$B$4:B49,1,FALSE)","v":{"$error":"#N/A"}}]
[null,{"$f":"Results!A53","v":0},{"$f":"Results!C53","v":0},{"$f":"Results!B53","v":0},{"$f":"Results!D53","v":0},{"$f":"Results!G53","v":""},"- vs -",{"$f":"VLOOKUP(B50,Results!$A$8:$AG$60,16,FALSE)","v":{"$error":"#N/A"}},{"$f":"VLOOKUP(H50,Results!A$8:$G$60,3,FALSE)","v":{"$error":"#N/A"}},{"$f":"VLOOKUP(H50,Results!$A$8:$G$60,2,FALSE)","v":{"$error":"#N/A"}},{"$f":"VLOOKUP(H50,Results!$A$8:$G$60,4,FALSE)","v":{"$error":"#N/A"}},{"$f":"VLOOKUP(H50,Results!$A$8:$G$60,7,FALSE)","v":{"$error":"#N/A"}},{"$f":"VLOOKUP(H50,$B$4:B50,1,FALSE)","v":{"$error":"#N/A"}}]
[null,{"$f":"Results!A54","v":0},{"$f":"Results!C54","v":0},{"$f":"Results!B54","v":0},{"$f":"Results!D54","v":0},{"$f":"Results!G54","v":""},"- vs -",{"$f":"VLOOKUP(B51,Results!$A$8:$AG$60,16,FALSE)","v":{"$error":"#N/A"}},{"$f":"VLOOKUP(H51,Results!A$8:$G$60,3,FALSE)","v":{"$error":"#N/A"}},{"$f":"VLOOKUP(H51,Results!$A$8:$G$60,2,FALSE)","v":{"$error":"#N/A"}},{"$f":"VLOOKUP(H51,Results!$A$8:$G$60,4,FALSE)","v":{"$error":"#N/A"}},{"$f":"VLOOKUP(H51,Results!$A$8:$G$60,7,FALSE)","v":{"$error":"#N/A"}},{"$f":"VLOOKUP(H51,$B$4:B51,1,FALSE)","v":{"$error":"#N/A"}}]
[null,{"$f":"Results!A55","v":0},{"$f":"Results!C55","v":0},{"$f":"Results!B55","v":0},{"$f":"Results!D55","v":0},{"$f":"Results!G55","v":""},"- vs -",{"$f":"VLOOKUP(B52,Results!$A$8:$AG$60,16,FALSE)","v":{"$error":"#N/A"}},{"$f":"VLOOKUP(H52,Results!A$8:$G$60,3,FALSE)","v":{"$error":"#N/A"}},{"$f":"VLOOKUP(H52,Results!$A$8:$G$60,2,FALSE)","v":{"$error":"#N/A"}},{"$f":"VLOOKUP(H52,Results!$A$8:$G$60,4,FALSE)","v":{"$error":"#N/A"}},{"$f":"VLOOKUP(H52,Results!$A$8:$G$60,7,FALSE)","v":{"$error":"#N/A"}},{"$f":"VLOOKUP(H52,$B$4:B52,1,FALSE)","v":{"$error":"#N/A"}}]
[null,{"$f":"Results!A56","v":0},{"$f":"Results!C56","v":0},{"$f":"Results!B56","v":0},{"$f":"Results!D56","v":0},{"$f":"Results!G56","v":""},"- vs -",{"$f":"VLOOKUP(B53,Results!$A$8:$AG$60,16,FALSE)","v":{"$error":"#N/A"}},{"$f":"VLOOKUP(H53,Results!A$8:$G$60,3,FALSE)","v":{"$error":"#N/A"}},{"$f":"VLOOKUP(H53,Results!$A$8:$G$60,2,FALSE)","v":{"$error":"#N/A"}},{"$f":"VLOOKUP(H53,Results!$A$8:$G$60,4,FALSE)","v":{"$error":"#N/A"}},{"$f":"VLOOKUP(H53,Results!$A$8:$G$60,7,FALSE)","v":{"$error":"#N/A"}},{"$f":"VLOOKUP(H53,$B$4:B53,1,FALSE)","v":{"$error":"#N/A"}}]
[null,{"$f":"Results!A57","v":0},{"$f":"Results!C57","v":0},{"$f":"Results!B57","v":0},{"$f":"Results!D57","v":0},{"$f":"Results!G57","v":""},"- vs -",{"$f":"VLOOKUP(B54,Results!$A$8:$AG$60,16,FALSE)","v":{"$error":"#N/A"}},{"$f":"VLOOKUP(H54,Results!A$8:$G$60,3,FALSE)","v":{"$error":"#N/A"}},{"$f":"VLOOKUP(H54,Results!$A$8:$G$60,2,FALSE)","v":{"$error":"#N/A"}},{"$f":"VLOOKUP(H54,Results!$A$8:$G$60,4,FALSE)","v":{"$error":"#N/A"}},{"$f":"VLOOKUP(H54,Results!$A$8:$G$60,7,FALSE)","v":{"$error":"#N/A"}},{"$f":"VLOOKUP(H54,$B$4:B54,1,FALSE)","v":{"$error":"#N/A"}}]
[null,{"$f":"Results!A58","v":0},{"$f":"Results!C58","v":0},{"$f":"Results!B58","v":0},{"$f":"Results!D58","v":0},{"$f":"Results!G58","v":""},"- vs -",{"$f":"VLOOKUP(B55,Results!$A$8:$AG$60,16,FALSE)","v":{"$error":"#N/A"}},{"$f":"VLOOKUP(H55,Results!A$8:$G$60,3,FALSE)","v":{"$error":"#N/A"}},{"$f":"VLOOKUP(H55,Results!$A$8:$G$60,2,FALSE)","v":{"$error":"#N/A"}},{"$f":"VLOOKUP(H55,Results!$A$8:$G$60,4,FALSE)","v":{"$error":"#N/A"}},{"$f":"VLOOKUP(H55,Results!$A$8:$G$60,7,FALSE)","v":{"$error":"#N/A"}},{"$f":"VLOOKUP(H55,$B$4:B55,1,FALSE)","v":{"$error":"#N/A"}}]
[null,{"$f":"Results!A59","v":0},{"$f":"Results!C59","v":0},{"$f":"Results!B59","v":0},{"$f":"Results!D59","v":0},{"$f":"Results!G59","v":""},"- vs -",{"$f":"VLOOKUP(B56,Results!$A$8:$AG$60,16,FALSE)","v":{"$error":"#N/A"}},{"$f":"VLOOKUP(H56,Results!A$8:$G$60,3,FALSE)","v":{"$error":"#N/A"}},{"$f":"VLOOKUP(H56,Results!$A$8:$G$60,2,FALSE)","v":{"$error":"#N/A"}},{"$f":"VLOOKUP(H56,Results!$A$8:$G$60,4,FALSE)","v":{"$error":"#N/A"}},{"$f":"VLOOKUP(H56,Results!$A$8:$G$60,7,FALSE)","v":{"$error":"#N/A"}},{"$f":"VLOOKUP(H56,$B$4:B56,1,FALSE)","v":{"$error":"#N/A"}}]
[null,{"$f":"Results!A60","v":0},{"$f":"Results!C60","v":0},{"$f":"Results!B60","v":0},{"$f":"Results!D60","v":0},{"$f":"Results!G60","v":""},"- vs -",{"$f":"VLOOKUP(B57,Results!$A$8:$AG$60,16,FALSE)","v":{"$error":"#N/A"}},{"$f":"VLOOKUP(H57,Results!A$8:$G$60,3,FALSE)","v":{"$error":"#N/A"}},{"$f":"VLOOKUP(H57,Results!$A$8:$G$60,2,FALSE)","v":{"$error":"#N/A"}},{"$f":"VLOOKUP(H57,Results!$A$8:$G$60,4,FALSE)","v":{"$error":"#N/A"}},{"$f":"VLOOKUP(H57,Results!$A$8:$G$60,7,FALSE)","v":{"$error":"#N/A"}},{"$f":"VLOOKUP(H57,$B$4:B57,1,FALSE)","v":{"$error":"#N/A"}}]
[null,{"$f":"Results!A61","v":0},{"$f":"Results!C61","v":0},{"$f":"Results!B61","v":0},{"$f":"Results!D61","v":0},{"$f":"Results!G61","v":""},"- vs -",{"$f":"VLOOKUP(B58,Results!$A$8:$AG$60,16,FALSE)","v":{"$error":"#N/A"}},{"$f":"VLOOKUP(H58,Results!A$8:$G$60,3,FALSE)","v":{"$error":"#N/A"}},{"$f":"VLOOKUP(H58,Results!$A$8:$G$60,2,FALSE)","v":{"$error":"#N/A"}},{"$f":"VLOOKUP(H58,Results!$A$8:$G$60,4,FALSE)","v":{"$error":"#N/A"}},{"$f":"VLOOKUP(H58,Results!$A$8:$G$60,7,FALSE)","v":{"$error":"#N/A"}},{"$f":"VLOOKUP(H58,$B$4:B58,1,FALSE)","v":{"$error":"#N/A"}}]
[null,{"$f":"Results!A62","v":0},{"$f":"Results!C62","v":0},{"$f":"Results!B62","v":0},{"$f":"Results!D62","v":0},{"$f":"Results!G62","v":""},"- vs -",{"$f":"VLOOKUP(B59,Results!$A$8:$AG$60,16,FALSE)","v":{"$error":"#N/A"}},{"$f":"VLOOKUP(H59,Results!A$8:$G$60,3,FALSE)","v":{"$error":"#N/A"}},{"$f":"VLOOKUP(H59,Results!$A$8:$G$60,2,FALSE)","v":{"$error":"#N/A"}},{"$f":"VLOOKUP(H59,Results!$A$8:$G$60,4,FALSE)","v":{"$error":"#N/A"}},{"$f":"VLOOKUP(H59,Results!$A$8:$G$60,7,FALSE)","v":{"$error":"#N/A"}},{"$f":"VLOOKUP(H59,$B$4:B59,1,FALSE)","v":{"$error":"#N/A"}}]
[null,{"$f":"Results!A63","v":0},{"$f":"Results!C63","v":0},{"$f":"Results!B63","v":0},{"$f":"Results!D63","v":0},{"$f":"Results!G63","v":""},"- vs -",{"$f":"VLOOKUP(B60,Results!$A$8:$AG$60,16,FALSE)","v":{"$error":"#N/A"}},{"$f":"VLOOKUP(H60,Results!A$8:$G$60,3,FALSE)","v":{"$error":"#N/A"}},{"$f":"VLOOKUP(H60,Results!$A$8:$G$60,2,FALSE)","v":{"$error":"#N/A"}},{"$f":"VLOOKUP(H60,Results!$A$8:$G$60,4,FALSE)","v":{"$error":"#N/A"}},{"$f":"VLOOKUP(H60,Results!$A$8:$G$60,7,FALSE)","v":{"$error":"#N/A"}},{"$f":"VLOOKUP(H60,$B$4:B60,1,FALSE)","v":{"$error":"#N/A"}}]
[null,{"$f":"Results!A64","v":0},{"$f":"Results!C64","v":0},{"$f":"Results!B64","v":0},{"$f":"Results!D64","v":0},{"$f":"Results!G64","v":""},"- vs -",{"$f":"VLOOKUP(B61,Results!$A$8:$AG$60,16,FALSE)","v":{"$error":"#N/A"}},{"$f":"VLOOKUP(H61,Results!A$8:$G$60,3,FALSE)","v":{"$error":"#N/A"}},{"$f":"VLOOKUP(H61,Results!$A$8:$G$60,2,FALSE)","v":{"$error":"#N/A"}},{"$f":"VLOOKUP(H61,Results!$A$8:$G$60,4,FALSE)","v":{"$error":"#N/A"}},{"$f":"VLOOKUP(H61,Results!$A$8:$G$60,7,FALSE)","v":{"$error":"#N/A"}},{"$f":"VLOOKUP(H61,$B$4:B61,1,FALSE)","v":{"$error":"#N/A"}}]
[null,{"$f":"Results!A65","v":0},{"$f":"Results!C65","v":0},{"$f":"Results!B65","v":0},{"$f":"Results!D65","v":0},{"$f":"Results!G65","v":""},"- vs -",{"$f":"VLOOKUP(B62,Results!$A$8:$AG$60,16,FALSE)","v":{"$error":"#N/A"}},{"$f":"VLOOKUP(H62,Results!A$8:$G$60,3,FALSE)","v":{"$error":"#N/A"}},{"$f":"VLOOKUP(H62,Results!$A$8:$G$60,2,FALSE)","v":{"$error":"#N/A"}},{"$f":"VLOOKUP(H62,Results!$A$8:$G$60,4,FALSE)","v":{"$error":"#N/A"}},{"$f":"VLOOKUP(H62,Results!$A$8:$G$60,7,FALSE)","v":{"$error":"#N/A"}},{"$f":"VLOOKUP(H62,$B$4:B62,1,FALSE)","v":{"$error":"#N/A"}}]
[null,{"$f":"Results!A66","v":0},{"$f":"Results!C66","v":0},{"$f":"Results!B66","v":0},{"$f":"Results!D66","v":0},{"$f":"Results!G66","v":""},"- vs -",{"$f":"VLOOKUP(B63,Results!$A$8:$AG$60,16,FALSE)","v":{"$error":"#N/A"}},{"$f":"VLOOKUP(H63,Results!A$8:$G$60,3,FALSE)","v":{"$error":"#N/A"}},{"$f":"VLOOKUP(H63,Results!$A$8:$G$60,2,FALSE)","v":{"$error":"#N/A"}},{"$f":"VLOOKUP(H63,Results!$A$8:$G$60,4,FALSE)","v":{"$error":"#N/A"}},{"$f":"VLOOKUP(H63,Results!$A$8:$G$60,7,FALSE)","v":{"$error":"#N/A"}},{"$f":"VLOOKUP(H63,$B$4:B63,1,FALSE)","v":{"$error":"#N/A"}}]
[null,{"$f":"Results!A67","v":0},{"$f":"Results!C67","v":0},{"$f":"Results!B67","v":0},{"$f":"Results!D67","v":0},{"$f":"Results!G67","v":""},"- vs -",{"$f":"VLOOKUP(B64,Results!$A$8:$AG$60,16,FALSE)","v":{"$error":"#N/A"}},{"$f":"VLOOKUP(H64,Results!A$8:$G$60,3,FALSE)","v":{"$error":"#N/A"}},{"$f":"VLOOKUP(H64,Results!$A$8:$G$60,2,FALSE)","v":{"$error":"#N/A"}},{"$f":"VLOOKUP(H64,Results!$A$8:$G$60,4,FALSE)","v":{"$error":"#N/A"}},{"$f":"VLOOKUP(H64,Results!$A$8:$G$60,7,FALSE)","v":{"$error":"#N/A"}}]
[null,{"$f":"Results!A68","v":0},{"$f":"Results!C68","v":0},{"$f":"Results!B68","v":0},{"$f":"Results!D68","v":0},{"$f":"Results!G68","v":""},"- vs -",{"$f":"VLOOKUP(B65,Results!$A$8:$AG$60,16,FALSE)","v":{"$error":"#N/A"}},{"$f":"VLOOKUP(H65,Results!A$8:$G$60,3,FALSE)","v":{"$error":"#N/A"}},{"$f":"VLOOKUP(H65,Results!$A$8:$G$60,2,FALSE)","v":{"$error":"#N/A"}},{"$f":"VLOOKUP(H65,Results!$A$8:$G$60,4,FALSE)","v":{"$error":"#N/A"}},{"$f":"VLOOKUP(H65,Results!$A$8:$G$60,7,FALSE)","v":{"$error":"#N/A"}}]
[null,{"$f":"Results!A69","v":0},{"$f":"Results!C69","v":0},{"$f":"Results!B69","v":0},{"$f":"Results!D69","v":0},{"$f":"Results!G69","v":""},"- vs -",{"$f":"VLOOKUP(B66,Results!$A$8:$AG$60,16,FALSE)","v":{"$error":"#N/A"}},{"$f":"VLOOKUP(H66,Results!A$8:$G$60,3,FALSE)","v":{"$error":"#N/A"}},{"$f":"VLOOKUP(H66,Results!$A$8:$G$60,2,FALSE)","v":{"$error":"#N/A"}},{"$f":"VLOOKUP(H66,Results!$A$8:$G$60,4,FALSE)","v":{"$error":"#N/A"}},{"$f":"VLOOKUP(H66,Results!$A$8:$G$60,7,FALSE)","v":{"$error":"#N/A"}}]
[null,{"$f":"Results!A70","v":0},{"$f":"Results!C70","v":0},{"$f":"Results!B70","v":0},{"$f":"Results!D70","v":0},{"$f":"Results!G70","v":""},"- vs -",{"$f":"VLOOKUP(B67,Results!$A$8:$AG$60,16,FALSE)","v":{"$error":"#N/A"}},{"$f":"VLOOKUP(H67,Results!A$8:$G$60,3,FALSE)","v":{"$error":"#N/A"}},{"$f":"VLOOKUP(H67,Results!$A$8:$G$60,2,FALSE)","v":{"$error":"#N/A"}},{"$f":"VLOOKUP(H67,Results!$A$8:$G$60,4,FALSE)","v":{"$error":"#N/A"}},{"$f":"VLOOKUP(H67,Results!$A$8:$G$60,7,FALSE)","v":{"$error":"#N/A"}}]
[null,{"$f":"Results!A71","v":0},{"$f":"Results!C71","v":0},{"$f":"Results!B71","v":0},{"$f":"Results!D71","v":0},{"$f":"Results!G71","v":""},"- vs -",{"$f":"VLOOKUP(B68,Results!$A$8:$AG$60,16,FALSE)","v":{"$error":"#N/A"}},{"$f":"VLOOKUP(H68,Results!A$8:$G$60,3,FALSE)","v":{"$error":"#N/A"}},{"$f":"VLOOKUP(H68,Results!$A$8:$G$60,2,FALSE)","v":{"$error":"#N/A"}},{"$f":"VLOOKUP(H68,Results!$A$8:$G$60,4,FALSE)","v":{"$error":"#N/A"}},{"$f":"VLOOKUP(H68,Results!$A$8:$G$60,7,FALSE)","v":{"$error":"#N/A"}}]
[null,{"$f":"Results!A72","v":0},{"$f":"Results!C72","v":0},{"$f":"Results!B72","v":0},{"$f":"Results!D72","v":0},{"$f":"Results!G72","v":""},"- vs -",{"$f":"VLOOKUP(B69,Results!$A$8:$AG$60,16,FALSE)","v":{"$error":"#N/A"}},{"$f":"VLOOKUP(H69,Results!A$8:$G$60,3,FALSE)","v":{"$error":"#N/A"}},{"$f":"VLOOKUP(H69,Results!$A$8:$G$60,2,FALSE)","v":{"$error":"#N/A"}},{"$f":"VLOOKUP(H69,Results!$A$8:$G$60,4,FALSE)","v":{"$error":"#N/A"}},{"$f":"VLOOKUP(H69,Results!$A$8:$G$60,7,FALSE)","v":{"$error":"#N/A"}}]

{"sheet":"Round 3","index":11,"n_rows":69,"n_cols":13,"rows_kept":69,"cut":false,"hidden":false,"merged":[]}
[]
["Round 3 Draw",null,null,{"$f":"Results!B3","v":"Warfare"}]
[null,null,null,{"$f":"Results!B4","v":"Période Ancienne"}]
[null,null,null,null,null,null,null,null,null,null,null,null,"VALID?"]
[null,{"$f":"Results!A8","v":0},{"$f":"Results!C8","v":0},{"$f":"Results!B8","v":0},{"$f":"Results!D8","v":0},{"$f":"Results!G8","v":""},"- vs -",{"$f":"VLOOKUP(B5,Results!$A$8:$AG$60,23,FALSE)","v":{"$error":"#N/A"}},{"$f":"VLOOKUP(H5,Results!A$8:$G$60,3,FALSE)","v":{"$error":"#N/A"}},{"$f":"VLOOKUP(H5,Results!$A$8:$G$60,2,FALSE)","v":{"$error":"#N/A"}},{"$f":"VLOOKUP(H5,Results!$A$8:$G$60,4,FALSE)","v":{"$error":"#N/A"}},{"$f":"VLOOKUP(H5,Results!$A$8:$G$60,7,FALSE)","v":{"$error":"#N/A"}},{"$f":"VLOOKUP(H5,$B$4:B5,1,FALSE)","v":{"$error":"#N/A"}}]
[null,{"$f":"Results!A9","v":0},{"$f":"Results!C9","v":0},{"$f":"Results!B9","v":0},{"$f":"Results!D9","v":0},{"$f":"Results!G9","v":""},"- vs -",{"$f":"VLOOKUP(B6,Results!$A$8:$AG$60,23,FALSE)","v":{"$error":"#N/A"}},{"$f":"VLOOKUP(H6,Results!A$8:$G$60,3,FALSE)","v":{"$error":"#N/A"}},{"$f":"VLOOKUP(H6,Results!$A$8:$G$60,2,FALSE)","v":{"$error":"#N/A"}},{"$f":"VLOOKUP(H6,Results!$A$8:$G$60,4,FALSE)","v":{"$error":"#N/A"}},{"$f":"VLOOKUP(H6,Results!$A$8:$G$60,7,FALSE)","v":{"$error":"#N/A"}},{"$f":"VLOOKUP(H6,$B$4:B6,1,FALSE)","v":{"$error":"#N/A"}}]
[null,{"$f":"Results!A10","v":0},{"$f":"Results!C10","v":0},{"$f":"Results!B10","v":0},{"$f":"Results!D10","v":0},{"$f":"Results!G10","v":""},"- vs -",{"$f":"VLOOKUP(B7,Results!$A$8:$AG$60,23,FALSE)","v":{"$error":"#N/A"}},{"$f":"VLOOKUP(H7,Results!A$8:$G$60,3,FALSE)","v":{"$error":"#N/A"}},{"$f":"VLOOKUP(H7,Results!$A$8:$G$60,2,FALSE)","v":{"$error":"#N/A"}},{"$f":"VLOOKUP(H7,Results!$A$8:$G$60,4,FALSE)","v":{"$error":"#N/A"}},{"$f":"VLOOKUP(H7,Results!$A$8:$G$60,7,FALSE)","v":{"$error":"#N/A"}},{"$f":"VLOOKUP(H7,$B$4:B7,1,FALSE)","v":{"$error":"#N/A"}}]
[null,{"$f":"Results!A11","v":0},{"$f":"Results!C11","v":0},{"$f":"Results!B11","v":0},{"$f":"Results!D11","v":0},{"$f":"Results!G11","v":""},"- vs -",{"$f":"VLOOKUP(B8,Results!$A$8:$AG$60,23,FALSE)","v":{"$error":"#N/A"}},{"$f":"VLOOKUP(H8,Results!A$8:$G$60,3,FALSE)","v":{"$error":"#N/A"}},{"$f":"VLOOKUP(H8,Results!$A$8:$G$60,2,FALSE)","v":{"$error":"#N/A"}},{"$f":"VLOOKUP(H8,Results!$A$8:$G$60,4,FALSE)","v":{"$error":"#N/A"}},{"$f":"VLOOKUP(H8,Results!$A$8:$G$60,7,FALSE)","v":{"$error":"#N/A"}},{"$f":"VLOOKUP(H8,$B$4:B8,1,FALSE)","v":{"$error":"#N/A"}}]
[null,{"$f":"Results!A12","v":0},{"$f":"Results!C12","v":0},{"$f":"Results!B12","v":0},{"$f":"Results!D12","v":0},{"$f":"Results!G12","v":""},"- vs -",{"$f":"VLOOKUP(B9,Results!$A$8:$AG$60,23,FALSE)","v":{"$error":"#N/A"}},{"$f":"VLOOKUP(H9,Results!A$8:$G$60,3,FALSE)","v":{"$error":"#N/A"}},{"$f":"VLOOKUP(H9,Results!$A$8:$G$60,2,FALSE)","v":{"$error":"#N/A"}},{"$f":"VLOOKUP(H9,Results!$A$8:$G$60,4,FALSE)","v":{"$error":"#N/A"}},{"$f":"VLOOKUP(H9,Results!$A$8:$G$60,7,FALSE)","v":{"$error":"#N/A"}},{"$f":"VLOOKUP(H9,$B$4:B9,1,FALSE)","v":{"$error":"#N/A"}}]
[null,{"$f":"Results!A13","v":0},{"$f":"Results!C13","v":0},{"$f":"Results!B13","v":0},{"$f":"Results!D13","v":0},{"$f":"Results!G13","v":""},"- vs -",{"$f":"VLOOKUP(B10,Results!$A$8:$AG$60,23,FALSE)","v":{"$error":"#N/A"}},{"$f":"VLOOKUP(H10,Results!A$8:$G$60,3,FALSE)","v":{"$error":"#N/A"}},{"$f":"VLOOKUP(H10,Results!$A$8:$G$60,2,FALSE)","v":{"$error":"#N/A"}},{"$f":"VLOOKUP(H10,Results!$A$8:$G$60,4,FALSE)","v":{"$error":"#N/A"}},{"$f":"VLOOKUP(H10,Results!$A$8:$G$60,7,FALSE)","v":{"$error":"#N/A"}},{"$f":"VLOOKUP(H10,$B$4:B10,1,FALSE)","v":{"$error":"#N/A"}}]
[null,{"$f":"Results!A14","v":0},{"$f":"Results!C14","v":0},{"$f":"Results!B14","v":0},{"$f":"Results!D14","v":0},{"$f":"Results!G14","v":""},"- vs -",{"$f":"VLOOKUP(B11,Results!$A$8:$AG$60,23,FALSE)","v":{"$error":"#N/A"}},{"$f":"VLOOKUP(H11,Results!A$8:$G$60,3,FALSE)","v":{"$error":"#N/A"}},{"$f":"VLOOKUP(H11,Results!$A$8:$G$60,2,FALSE)","v":{"$error":"#N/A"}},{"$f":"VLOOKUP(H11,Results!$A$8:$G$60,4,FALSE)","v":{"$error":"#N/A"}},{"$f":"VLOOKUP(H11,Results!$A$8:$G$60,7,FALSE)","v":{"$error":"#N/A"}},{"$f":"VLOOKUP(H11,$B$4:B11,1,FALSE)","v":{"$error":"#N/A"}}]
[null,{"$f":"Results!A15","v":0},{"$f":"Results!C15","v":0},{"$f":"Results!B15","v":0},{"$f":"Results!D15","v":0},{"$f":"Results!G15","v":""},"- vs -",{"$f":"VLOOKUP(B12,Results!$A$8:$AG$60,23,FALSE)","v":{"$error":"#N/A"}},{"$f":"VLOOKUP(H12,Results!A$8:$G$60,3,FALSE)","v":{"$error":"#N/A"}},{"$f":"VLOOKUP(H12,Results!$A$8:$G$60,2,FALSE)","v":{"$error":"#N/A"}},{"$f":"VLOOKUP(H12,Results!$A$8:$G$60,4,FALSE)","v":{"$error":"#N/A"}},{"$f":"VLOOKUP(H12,Results!$A$8:$G$60,7,FALSE)","v":{"$error":"#N/A"}},{"$f":"VLOOKUP(H12,$B$4:B12,1,FALSE)","v":{"$error":"#N/A"}}]
[null,{"$f":"Results!A16","v":0},{"$f":"Results!C16","v":0},{"$f":"Results!B16","v":0},{"$f":"Results!D16","v":0},{"$f":"Results!G16","v":""},"- vs -",{"$f":"VLOOKUP(B13,Results!$A$8:$AG$60,23,FALSE)","v":{"$error":"#N/A"}},{"$f":"VLOOKUP(H13,Results!A$8:$G$60,3,FALSE)","v":{"$error":"#N/A"}},{"$f":"VLOOKUP(H13,Results!$A$8:$G$60,2,FALSE)","v":{"$error":"#N/A"}},{"$f":"VLOOKUP(H13,Results!$A$8:$G$60,4,FALSE)","v":{"$error":"#N/A"}},{"$f":"VLOOKUP(H13,Results!$A$8:$G$60,7,FALSE)","v":{"$error":"#N/A"}},{"$f":"VLOOKUP(H13,$B$4:B13,1,FALSE)","v":{"$error":"#N/A"}}]
[null,{"$f":"Results!A17","v":0},{"$f":"Results!C17","v":0},{"$f":"Results!B17","v":0},{"$f":"Results!D17","v":0},{"$f":"Results!G17","v":""},"- vs -",{"$f":"VLOOKUP(B14,Results!$A$8:$AG$60,23,FALSE)","v":{"$error":"#N/A"}},{"$f":"VLOOKUP(H14,Results!A$8:$G$60,3,FALSE)","v":{"$error":"#N/A"}},{"$f":"VLOOKUP(H14,Results!$A$8:$G$60,2,FALSE)","v":{"$error":"#N/A"}},{"$f":"VLOOKUP(H14,Results!$A$8:$G$60,4,FALSE)","v":{"$error":"#N/A"}},{"$f":"VLOOKUP(H14,Results!$A$8:$G$60,7,FALSE)","v":{"$error":"#N/A"}},{"$f":"VLOOKUP(H14,$B$4:B14,1,FALSE)","v":{"$error":"#N/A"}}]
[null,{"$f":"Results!A18","v":0},{"$f":"Results!C18","v":0},{"$f":"Results!B18","v":0},{"$f":"Results!D18","v":0},{"$f":"Results!G18","v":""},"- vs -",{"$f":"VLOOKUP(B15,Results!$A$8:$AG$60,23,FALSE)","v":{"$error":"#N/A"}},{"$f":"VLOOKUP(H15,Results!A$8:$G$60,3,FALSE)","v":{"$error":"#N/A"}},{"$f":"VLOOKUP(H15,Results!$A$8:$G$60,2,FALSE)","v":{"$error":"#N/A"}},{"$f":"VLOOKUP(H15,Results!$A$8:$G$60,4,FALSE)","v":{"$error":"#N/A"}},{"$f":"VLOOKUP(H15,Results!$A$8:$G$60,7,FALSE)","v":{"$error":"#N/A"}},{"$f":"VLOOKUP(H15,$B$4:B15,1,FALSE)","v":{"$error":"#N/A"}}]
[null,{"$f":"Results!A19","v":0},{"$f":"Results!C19","v":0},{"$f":"Results!B19","v":0},{"$f":"Results!D19","v":0},{"$f":"Results!G19","v":""},"- vs -",{"$f":"VLOOKUP(B16,Results!$A$8:$AG$60,23,FALSE)","v":{"$error":"#N/A"}},{"$f":"VLOOKUP(H16,Results!A$8:$G$60,3,FALSE)","v":{"$error":"#N/A"}},{"$f":"VLOOKUP(H16,Results!$A$8:$G$60,2,FALSE)","v":{"$error":"#N/A"}},{"$f":"VLOOKUP(H16,Results!$A$8:$G$60,4,FALSE)","v":{"$error":"#N/A"}},{"$f":"VLOOKUP(H16,Results!$A$8:$G$60,7,FALSE)","v":{"$error":"#N/A"}},{"$f":"VLOOKUP(H16,$B$4:B16,1,FALSE)","v":{"$error":"#N/A"}}]
[null,{"$f":"Results!A20","v":0},{"$f":"Results!C20","v":0},{"$f":"Results!B20","v":0},{"$f":"Results!D20","v":0},{"$f":"Results!G20","v":""},"- vs -",{"$f":"VLOOKUP(B17,Results!$A$8:$AG$60,23,FALSE)","v":{"$error":"#N/A"}},{"$f":"VLOOKUP(H17,Results!A$8:$G$60,3,FALSE)","v":{"$error":"#N/A"}},{"$f":"VLOOKUP(H17,Results!$A$8:$G$60,2,FALSE)","v":{"$error":"#N/A"}},{"$f":"VLOOKUP(H17,Results!$A$8:$G$60,4,FALSE)","v":{"$error":"#N/A"}},{"$f":"VLOOKUP(H17,Results!$A$8:$G$60,7,FALSE)","v":{"$error":"#N/A"}},{"$f":"VLOOKUP(H17,$B$4:B17,1,FALSE)","v":{"$error":"#N/A"}}]
[null,{"$f":"Results!A21","v":0},{"$f":"Results!C21","v":0},{"$f":"Results!B21","v":0},{"$f":"Results!D21","v":0},{"$f":"Results!G21","v":""},"- vs -",{"$f":"VLOOKUP(B18,Results!$A$8:$AG$60,23,FALSE)","v":{"$error":"#N/A"}},{"$f":"VLOOKUP(H18,Results!A$8:$G$60,3,FALSE)","v":{"$error":"#N/A"}},{"$f":"VLOOKUP(H18,Results!$A$8:$G$60,2,FALSE)","v":{"$error":"#N/A"}},{"$f":"VLOOKUP(H18,Results!$A$8:$G$60,4,FALSE)","v":{"$error":"#N/A"}},{"$f":"VLOOKUP(H18,Results!$A$8:$G$60,7,FALSE)","v":{"$error":"#N/A"}},{"$f":"VLOOKUP(H18,$B$4:B18,1,FALSE)","v":{"$error":"#N/A"}}]
[null,{"$f":"Results!A22","v":0},{"$f":"Results!C22","v":0},{"$f":"Results!B22","v":0},{"$f":"Results!D22","v":0},{"$f":"Results!G22","v":""},"- vs -",{"$f":"VLOOKUP(B19,Results!$A$8:$AG$60,23,FALSE)","v":{"$error":"#N/A"}},{"$f":"VLOOKUP(H19,Results!A$8:$G$60,3,FALSE)","v":{"$error":"#N/A"}},{"$f":"VLOOKUP(H19,Results!$A$8:$G$60,2,FALSE)","v":{"$error":"#N/A"}},{"$f":"VLOOKUP(H19,Results!$A$8:$G$60,4,FALSE)","v":{"$error":"#N/A"}},{"$f":"VLOOKUP(H19,Results!$A$8:$G$60,7,FALSE)","v":{"$error":"#N/A"}},{"$f":"VLOOKUP(H19,$B$4:B19,1,FALSE)","v":{"$error":"#N/A"}}]
[null,{"$f":"Results!A23","v":0},{"$f":"Results!C23","v":0},{"$f":"Results!B23","v":0},{"$f":"Results!D23","v":0},{"$f":"Results!G23","v":""},"- vs -",{"$f":"VLOOKUP(B20,Results!$A$8:$AG$60,23,FALSE)","v":{"$error":"#N/A"}},{"$f":"VLOOKUP(H20,Results!A$8:$G$60,3,FALSE)","v":{"$error":"#N/A"}},{"$f":"VLOOKUP(H20,Results!$A$8:$G$60,2,FALSE)","v":{"$error":"#N/A"}},{"$f":"VLOOKUP(H20,Results!$A$8:$G$60,4,FALSE)","v":{"$error":"#N/A"}},{"$f":"VLOOKUP(H20,Results!$A$8:$G$60,7,FALSE)","v":{"$error":"#N/A"}},{"$f":"VLOOKUP(H20,$B$4:B20,1,FALSE)","v":{"$error":"#N/A"}}]
[null,{"$f":"Results!A24","v":0},{"$f":"Results!C24","v":0},{"$f":"Results!B24","v":0},{"$f":"Results!D24","v":0},{"$f":"Results!G24","v":""},"- vs -",{"$f":"VLOOKUP(B21,Results!$A$8:$AG$60,23,FALSE)","v":{"$error":"#N/A"}},{"$f":"VLOOKUP(H21,Results!A$8:$G$60,3,FALSE)","v":{"$error":"#N/A"}},{"$f":"VLOOKUP(H21,Results!$A$8:$G$60,2,FALSE)","v":{"$error":"#N/A"}},{"$f":"VLOOKUP(H21,Results!$A$8:$G$60,4,FALSE)","v":{"$error":"#N/A"}},{"$f":"VLOOKUP(H21,Results!$A$8:$G$60,7,FALSE)","v":{"$error":"#N/A"}},{"$f":"VLOOKUP(H21,$B$4:B21,1,FALSE)","v":{"$error":"#N/A"}}]
[null,{"$f":"Results!A25","v":0},{"$f":"Results!C25","v":0},{"$f":"Results!B25","v":0},{"$f":"Results!D25","v":0},{"$f":"Results!G25","v":""},"- vs -",{"$f":"VLOOKUP(B22,Results!$A$8:$AG$60,23,FALSE)","v":{"$error":"#N/A"}},{"$f":"VLOOKUP(H22,Results!A$8:$G$60,3,FALSE)","v":{"$error":"#N/A"}},{"$f":"VLOOKUP(H22,Results!$A$8:$G$60,2,FALSE)","v":{"$error":"#N/A"}},{"$f":"VLOOKUP(H22,Results!$A$8:$G$60,4,FALSE)","v":{"$error":"#N/A"}},{"$f":"VLOOKUP(H22,Results!$A$8:$G$60,7,FALSE)","v":{"$error":"#N/A"}},{"$f":"VLOOKUP(H22,$B$4:B22,1,FALSE)","v":{"$error":"#N/A"}}]
[null,{"$f":"Results!A26","v":0},{"$f":"Results!C26","v":0},{"$f":"Results!B26","v":0},{"$f":"Results!D26","v":0},{"$f":"Results!G26","v":""},"- vs -",{"$f":"VLOOKUP(B23,Results!$A$8:$AG$60,23,FALSE)","v":{"$error":"#N/A"}},{"$f":"VLOOKUP(H23,Results!A$8:$G$60,3,FALSE)","v":{"$error":"#N/A"}},{"$f":"VLOOKUP(H23,Results!$A$8:$G$60,2,FALSE)","v":{"$error":"#N/A"}},{"$f":"VLOOKUP(H23,Results!$A$8:$G$60,4,FALSE)","v":{"$error":"#N/A"}},{"$f":"VLOOKUP(H23,Results!$A$8:$G$60,7,FALSE)","v":{"$error":"#N/A"}},{"$f":"VLOOKUP(H23,$B$4:B23,1,FALSE)","v":{"$error":"#N/A"}}]
[null,{"$f":"Results!A27","v":0},{"$f":"Results!C27","v":0},{"$f":"Results!B27","v":0},{"$f":"Results!D27","v":0},{"$f":"Results!G27","v":""},"- vs -",{"$f":"VLOOKUP(B24,Results!$A$8:$AG$60,23,FALSE)","v":{"$error":"#N/A"}},{"$f":"VLOOKUP(H24,Results!A$8:$G$60,3,FALSE)","v":{"$error":"#N/A"}},{"$f":"VLOOKUP(H24,Results!$A$8:$G$60,2,FALSE)","v":{"$error":"#N/A"}},{"$f":"VLOOKUP(H24,Results!$A$8:$G$60,4,FALSE)","v":{"$error":"#N/A"}},{"$f":"VLOOKUP(H24,Results!$A$8:$G$60,7,FALSE)","v":{"$error":"#N/A"}},{"$f":"VLOOKUP(H24,$B$4:B24,1,FALSE)","v":{"$error":"#N/A"}}]
[null,{"$f":"Results!A28","v":0},{"$f":"Results!C28","v":0},{"$f":"Results!B28","v":0},{"$f":"Results!D28","v":0},{"$f":"Results!G28","v":""},"- vs -",{"$f":"VLOOKUP(B25,Results!$A$8:$AG$60,23,FALSE)","v":{"$error":"#N/A"}},{"$f":"VLOOKUP(H25,Results!A$8:$G$60,3,FALSE)","v":{"$error":"#N/A"}},{"$f":"VLOOKUP(H25,Results!$A$8:$G$60,2,FALSE)","v":{"$error":"#N/A"}},{"$f":"VLOOKUP(H25,Results!$A$8:$G$60,4,FALSE)","v":{"$error":"#N/A"}},{"$f":"VLOOKUP(H25,Results!$A$8:$G$60,7,FALSE)","v":{"$error":"#N/A"}},{"$f":"VLOOKUP(H25,$B$4:B25,1,FALSE)","v":{"$error":"#N/A"}}]
[null,{"$f":"Results!A29","v":0},{"$f":"Results!C29","v":0},{"$f":"Results!B29","v":0},{"$f":"Results!D29","v":0},{"$f":"Results!G29","v":""},"- vs -",{"$f":"VLOOKUP(B26,Results!$A$8:$AG$60,23,FALSE)","v":{"$error":"#N/A"}},{"$f":"VLOOKUP(H26,Results!A$8:$G$60,3,FALSE)","v":{"$error":"#N/A"}},{"$f":"VLOOKUP(H26,Results!$A$8:$G$60,2,FALSE)","v":{"$error":"#N/A"}},{"$f":"VLOOKUP(H26,Results!$A$8:$G$60,4,FALSE)","v":{"$error":"#N/A"}},{"$f":"VLOOKUP(H26,Results!$A$8:$G$60,7,FALSE)","v":{"$error":"#N/A"}},{"$f":"VLOOKUP(H26,$B$4:B26,1,FALSE)","v":{"$error":"#N/A"}}]
[null,{"$f":"Results!A30","v":0},{"$f":"Results!C30","v":0},{"$f":"Results!B30","v":0},{"$f":"Results!D30","v":0},{"$f":"Results!G30","v":""},"- vs -",{"$f":"VLOOKUP(B27,Results!$A$8:$AG$60,23,FALSE)","v":{"$error":"#N/A"}},{"$f":"VLOOKUP(H27,Results!A$8:$G$60,3,FALSE)","v":{"$error":"#N/A"}},{"$f":"VLOOKUP(H27,Results!$A$8:$G$60,2,FALSE)","v":{"$error":"#N/A"}},{"$f":"VLOOKUP(H27,Results!$A$8:$G$60,4,FALSE)","v":{"$error":"#N/A"}},{"$f":"VLOOKUP(H27,Results!$A$8:$G$60,7,FALSE)","v":{"$error":"#N/A"}},{"$f":"VLOOKUP(H27,$B$4:B27,1,FALSE)","v":{"$error":"#N/A"}}]
[null,{"$f":"Results!A31","v":0},{"$f":"Results!C31","v":0},{"$f":"Results!B31","v":0},{"$f":"Results!D31","v":0},{"$f":"Results!G31","v":""},"- vs -",{"$f":"VLOOKUP(B28,Results!$A$8:$AG$60,23,FALSE)","v":{"$error":"#N/A"}},{"$f":"VLOOKUP(H28,Results!A$8:$G$60,3,FALSE)","v":{"$error":"#N/A"}},{"$f":"VLOOKUP(H28,Results!$A$8:$G$60,2,FALSE)","v":{"$error":"#N/A"}},{"$f":"VLOOKUP(H28,Results!$A$8:$G$60,4,FALSE)","v":{"$error":"#N/A"}},{"$f":"VLOOKUP(H28,Results!$A$8:$G$60,7,FALSE)","v":{"$error":"#N/A"}},{"$f":"VLOOKUP(H28,$B$4:B28,1,FALSE)","v":{"$error":"#N/A"}}]
[null,{"$f":"Results!A32","v":0},{"$f":"Results!C32","v":0},{"$f":"Results!B32","v":0},{"$f":"Results!D32","v":0},{"$f":"Results!G32","v":""},"- vs -",{"$f":"VLOOKUP(B29,Results!$A$8:$AG$60,23,FALSE)","v":{"$error":"#N/A"}},{"$f":"VLOOKUP(H29,Results!A$8:$G$60,3,FALSE)","v":{"$error":"#N/A"}},{"$f":"VLOOKUP(H29,Results!$A$8:$G$60,2,FALSE)","v":{"$error":"#N/A"}},{"$f":"VLOOKUP(H29,Results!$A$8:$G$60,4,FALSE)","v":{"$error":"#N/A"}},{"$f":"VLOOKUP(H29,Results!$A$8:$G$60,7,FALSE)","v":{"$error":"#N/A"}},{"$f":"VLOOKUP(H29,$B$4:B29,1,FALSE)","v":{"$error":"#N/A"}}]
[null,{"$f":"Results!A33","v":0},{"$f":"Results!C33","v":0},{"$f":"Results!B33","v":0},{"$f":"Results!D33","v":0},{"$f":"Results!G33","v":""},"- vs -",{"$f":"VLOOKUP(B30,Results!$A$8:$AG$60,23,FALSE)","v":{"$error":"#N/A"}},{"$f":"VLOOKUP(H30,Results!A$8:$G$60,3,FALSE)","v":{"$error":"#N/A"}},{"$f":"VLOOKUP(H30,Results!$A$8:$G$60,2,FALSE)","v":{"$error":"#N/A"}},{"$f":"VLOOKUP(H30,Results!$A$8:$G$60,4,FALSE)","v":{"$error":"#N/A"}},{"$f":"VLOOKUP(H30,Results!$A$8:$G$60,7,FALSE)","v":{"$error":"#N/A"}},{"$f":"VLOOKUP(H30,$B$4:B30,1,FALSE)","v":{"$error":"#N/A"}}]
[null,{"$f":"Results!A34","v":0},{"$f":"Results!C34","v":0},{"$f":"Results!B34","v":0},{"$f":"Results!D34","v":0},{"$f":"Results!G34","v":""},"- vs -",{"$f":"VLOOKUP(B31,Results!$A$8:$AG$60,23,FALSE)","v":{"$error":"#N/A"}},{"$f":"VLOOKUP(H31,Results!A$8:$G$60,3,FALSE)","v":{"$error":"#N/A"}},{"$f":"VLOOKUP(H31,Results!$A$8:$G$60,2,FALSE)","v":{"$error":"#N/A"}},{"$f":"VLOOKUP(H31,Results!$A$8:$G$60,4,FALSE)","v":{"$error":"#N/A"}},{"$f":"VLOOKUP(H31,Results!$A$8:$G$60,7,FALSE)","v":{"$error":"#N/A"}},{"$f":"VLOOKUP(H31,$B$4:B31,1,FALSE)","v":{"$error":"#N/A"}}]
[null,{"$f":"Results!A35","v":0},{"$f":"Results!C35","v":0},{"$f":"Results!B35","v":0},{"$f":"Results!D35","v":0},{"$f":"Results!G35","v":""},"- vs -",{"$f":"VLOOKUP(B32,Results!$A$8:$AG$60,23,FALSE)","v":{"$error":"#N/A"}},{"$f":"VLOOKUP(H32,Results!A$8:$G$60,3,FALSE)","v":{"$error":"#N/A"}},{"$f":"VLOOKUP(H32,Results!$A$8:$G$60,2,FALSE)","v":{"$error":"#N/A"}},{"$f":"VLOOKUP(H32,Results!$A$8:$G$60,4,FALSE)","v":{"$error":"#N/A"}},{"$f":"VLOOKUP(H32,Results!$A$8:$G$60,7,FALSE)","v":{"$error":"#N/A"}},{"$f":"VLOOKUP(H32,$B$4:B32,1,FALSE)","v":{"$error":"#N/A"}}]
[null,{"$f":"Results!A36","v":0},{"$f":"Results!C36","v":0},{"$f":"Results!B36","v":0},{"$f":"Results!D36","v":0},{"$f":"Results!G36","v":""},"- vs -",{"$f":"VLOOKUP(B33,Results!$A$8:$AG$60,23,FALSE)","v":{"$error":"#N/A"}},{"$f":"VLOOKUP(H33,Results!A$8:$G$60,3,FALSE)","v":{"$error":"#N/A"}},{"$f":"VLOOKUP(H33,Results!$A$8:$G$60,2,FALSE)","v":{"$error":"#N/A"}},{"$f":"VLOOKUP(H33,Results!$A$8:$G$60,4,FALSE)","v":{"$error":"#N/A"}},{"$f":"VLOOKUP(H33,Results!$A$8:$G$60,7,FALSE)","v":{"$error":"#N/A"}},{"$f":"VLOOKUP(H33,$B$4:B33,1,FALSE)","v":{"$error":"#N/A"}}]
[null,{"$f":"Results!A37","v":0},{"$f":"Results!C37","v":0},{"$f":"Results!B37","v":0},{"$f":"Results!D37","v":0},{"$f":"Results!G37","v":""},"- vs -",{"$f":"VLOOKUP(B34,Results!$A$8:$AG$60,23,FALSE)","v":{"$error":"#N/A"}},{"$f":"VLOOKUP(H34,Results!A$8:$G$60,3,FALSE)","v":{"$error":"#N/A"}},{"$f":"VLOOKUP(H34,Results!$A$8:$G$60,2,FALSE)","v":{"$error":"#N/A"}},{"$f":"VLOOKUP(H34,Results!$A$8:$G$60,4,FALSE)","v":{"$error":"#N/A"}},{"$f":"VLOOKUP(H34,Results!$A$8:$G$60,7,FALSE)","v":{"$error":"#N/A"}},{"$f":"VLOOKUP(H34,$B$4:B34,1,FALSE)","v":{"$error":"#N/A"}}]
[null,{"$f":"Results!A38","v":0},{"$f":"Results!C38","v":0},{"$f":"Results!B38","v":0},{"$f":"Results!D38","v":0},{"$f":"Results!G38","v":""},"- vs -",{"$f":"VLOOKUP(B35,Results!$A$8:$AG$60,23,FALSE)","v":{"$error":"#N/A"}},{"$f":"VLOOKUP(H35,Results!A$8:$G$60,3,FALSE)","v":{"$error":"#N/A"}},{"$f":"VLOOKUP(H35,Results!$A$8:$G$60,2,FALSE)","v":{"$error":"#N/A"}},{"$f":"VLOOKUP(H35,Results!$A$8:$G$60,4,FALSE)","v":{"$error":"#N/A"}},{"$f":"VLOOKUP(H35,Results!$A$8:$G$60,7,FALSE)","v":{"$error":"#N/A"}},{"$f":"VLOOKUP(H35,$B$4:B35,1,FALSE)","v":{"$error":"#N/A"}}]
[null,{"$f":"Results!A39","v":0},{"$f":"Results!C39","v":0},{"$f":"Results!B39","v":0},{"$f":"Results!D39","v":0},{"$f":"Results!G39","v":""},"- vs -",{"$f":"VLOOKUP(B36,Results!$A$8:$AG$60,23,FALSE)","v":{"$error":"#N/A"}},{"$f":"VLOOKUP(H36,Results!A$8:$G$60,3,FALSE)","v":{"$error":"#N/A"}},{"$f":"VLOOKUP(H36,Results!$A$8:$G$60,2,FALSE)","v":{"$error":"#N/A"}},{"$f":"VLOOKUP(H36,Results!$A$8:$G$60,4,FALSE)","v":{"$error":"#N/A"}},{"$f":"VLOOKUP(H36,Results!$A$8:$G$60,7,FALSE)","v":{"$error":"#N/A"}},{"$f":"VLOOKUP(H36,$B$4:B36,1,FALSE)","v":{"$error":"#N/A"}}]
[null,{"$f":"Results!A40","v":0},{"$f":"Results!C40","v":0},{"$f":"Results!B40","v":0},{"$f":"Results!D40","v":0},{"$f":"Results!G40","v":""},"- vs -",{"$f":"VLOOKUP(B37,Results!$A$8:$AG$60,23,FALSE)","v":{"$error":"#N/A"}},{"$f":"VLOOKUP(H37,Results!A$8:$G$60,3,FALSE)","v":{"$error":"#N/A"}},{"$f":"VLOOKUP(H37,Results!$A$8:$G$60,2,FALSE)","v":{"$error":"#N/A"}},{"$f":"VLOOKUP(H37,Results!$A$8:$G$60,4,FALSE)","v":{"$error":"#N/A"}},{"$f":"VLOOKUP(H37,Results!$A$8:$G$60,7,FALSE)","v":{"$error":"#N/A"}},{"$f":"VLOOKUP(H37,$B$4:B37,1,FALSE)","v":{"$error":"#N/A"}}]
[null,{"$f":"Results!A41","v":0},{"$f":"Results!C41","v":0},{"$f":"Results!B41","v":0},{"$f":"Results!D41","v":0},{"$f":"Results!G41","v":""},"- vs -",{"$f":"VLOOKUP(B38,Results!$A$8:$AG$60,23,FALSE)","v":{"$error":"#N/A"}},{"$f":"VLOOKUP(H38,Results!A$8:$G$60,3,FALSE)","v":{"$error":"#N/A"}},{"$f":"VLOOKUP(H38,Results!$A$8:$G$60,2,FALSE)","v":{"$error":"#N/A"}},{"$f":"VLOOKUP(H38,Results!$A$8:$G$60,4,FALSE)","v":{"$error":"#N/A"}},{"$f":"VLOOKUP(H38,Results!$A$8:$G$60,7,FALSE)","v":{"$error":"#N/A"}},{"$f":"VLOOKUP(H38,$B$4:B38,1,FALSE)","v":{"$error":"#N/A"}}]
[null,{"$f":"Results!A42","v":0},{"$f":"Results!C42","v":0},{"$f":"Results!B42","v":0},{"$f":"Results!D42","v":0},{"$f":"Results!G42","v":""},"- vs -",{"$f":"VLOOKUP(B39,Results!$A$8:$AG$60,23,FALSE)","v":{"$error":"#N/A"}},{"$f":"VLOOKUP(H39,Results!A$8:$G$60,3,FALSE)","v":{"$error":"#N/A"}},{"$f":"VLOOKUP(H39,Results!$A$8:$G$60,2,FALSE)","v":{"$error":"#N/A"}},{"$f":"VLOOKUP(H39,Results!$A$8:$G$60,4,FALSE)","v":{"$error":"#N/A"}},{"$f":"VLOOKUP(H39,Results!$A$8:$G$60,7,FALSE)","v":{"$error":"#N/A"}},{"$f":"VLOOKUP(H39,$B$4:B39,1,FALSE)","v":{"$error":"#N/A"}}]
[null,{"$f":"Results!A43","v":0},{"$f":"Results!C43","v":0},{"$f":"Results!B43","v":0},{"$f":"Results!D43","v":0},{"$f":"Results!G43","v":""},"- vs -",{"$f":"VLOOKUP(B40,Results!$A$8:$AG$60,23,FALSE)","v":{"$error":"#N/A"}},{"$f":"VLOOKUP(H40,Results!A$8:$G$60,3,FALSE)","v":{"$error":"#N/A"}},{"$f":"VLOOKUP(H40,Results!$A$8:$G$60,2,FALSE)","v":{"$error":"#N/A"}},{"$f":"VLOOKUP(H40,Results!$A$8:$G$60,4,FALSE)","v":{"$error":"#N/A"}},{"$f":"VLOOKUP(H40,Results!$A$8:$G$60,7,FALSE)","v":{"$error":"#N/A"}},{"$f":"VLOOKUP(H40,$B$4:B40,1,FALSE)","v":{"$error":"#N/A"}}]
[null,{"$f":"Results!A44","v":0},{"$f":"Results!C44","v":0},{"$f":"Results!B44","v":0},{"$f":"Results!D44","v":0},{"$f":"Results!G44","v":""},"- vs -",{"$f":"VLOOKUP(B41,Results!$A$8:$AG$60,23,FALSE)","v":{"$error":"#N/A"}},{"$f":"VLOOKUP(H41,Results!A$8:$G$60,3,FALSE)","v":{"$error":"#N/A"}},{"$f":"VLOOKUP(H41,Results!$A$8:$G$60,2,FALSE)","v":{"$error":"#N/A"}},{"$f":"VLOOKUP(H41,Results!$A$8:$G$60,4,FALSE)","v":{"$error":"#N/A"}},{"$f":"VLOOKUP(H41,Results!$A$8:$G$60,7,FALSE)","v":{"$error":"#N/A"}},{"$f":"VLOOKUP(H41,$B$4:B41,1,FALSE)","v":{"$error":"#N/A"}}]
[null,{"$f":"Results!A45","v":0},{"$f":"Results!C45","v":0},{"$f":"Results!B45","v":0},{"$f":"Results!D45","v":0},{"$f":"Results!G45","v":""},"- vs -",{"$f":"VLOOKUP(B42,Results!$A$8:$AG$60,23,FALSE)","v":{"$error":"#N/A"}},{"$f":"VLOOKUP(H42,Results!A$8:$G$60,3,FALSE)","v":{"$error":"#N/A"}},{"$f":"VLOOKUP(H42,Results!$A$8:$G$60,2,FALSE)","v":{"$error":"#N/A"}},{"$f":"VLOOKUP(H42,Results!$A$8:$G$60,4,FALSE)","v":{"$error":"#N/A"}},{"$f":"VLOOKUP(H42,Results!$A$8:$G$60,7,FALSE)","v":{"$error":"#N/A"}},{"$f":"VLOOKUP(H42,$B$4:B42,1,FALSE)","v":{"$error":"#N/A"}}]
[null,{"$f":"Results!A46","v":0},{"$f":"Results!C46","v":0},{"$f":"Results!B46","v":0},{"$f":"Results!D46","v":0},{"$f":"Results!G46","v":""},"- vs -",{"$f":"VLOOKUP(B43,Results!$A$8:$AG$60,23,FALSE)","v":{"$error":"#N/A"}},{"$f":"VLOOKUP(H43,Results!A$8:$G$60,3,FALSE)","v":{"$error":"#N/A"}},{"$f":"VLOOKUP(H43,Results!$A$8:$G$60,2,FALSE)","v":{"$error":"#N/A"}},{"$f":"VLOOKUP(H43,Results!$A$8:$G$60,4,FALSE)","v":{"$error":"#N/A"}},{"$f":"VLOOKUP(H43,Results!$A$8:$G$60,7,FALSE)","v":{"$error":"#N/A"}},{"$f":"VLOOKUP(H43,$B$4:B43,1,FALSE)","v":{"$error":"#N/A"}}]
[null,{"$f":"Results!A47","v":0},{"$f":"Results!C47","v":0},{"$f":"Results!B47","v":0},{"$f":"Results!D47","v":0},{"$f":"Results!G47","v":""},"- vs -",{"$f":"VLOOKUP(B44,Results!$A$8:$AG$60,23,FALSE)","v":{"$error":"#N/A"}},{"$f":"VLOOKUP(H44,Results!A$8:$G$60,3,FALSE)","v":{"$error":"#N/A"}},{"$f":"VLOOKUP(H44,Results!$A$8:$G$60,2,FALSE)","v":{"$error":"#N/A"}},{"$f":"VLOOKUP(H44,Results!$A$8:$G$60,4,FALSE)","v":{"$error":"#N/A"}},{"$f":"VLOOKUP(H44,Results!$A$8:$G$60,7,FALSE)","v":{"$error":"#N/A"}},{"$f":"VLOOKUP(H44,$B$4:B44,1,FALSE)","v":{"$error":"#N/A"}}]
[null,{"$f":"Results!A48","v":0},{"$f":"Results!C48","v":0},{"$f":"Results!B48","v":0},{"$f":"Results!D48","v":0},{"$f":"Results!G48","v":""},"- vs -",{"$f":"VLOOKUP(B45,Results!$A$8:$AG$60,23,FALSE)","v":{"$error":"#N/A"}},{"$f":"VLOOKUP(H45,Results!A$8:$G$60,3,FALSE)","v":{"$error":"#N/A"}},{"$f":"VLOOKUP(H45,Results!$A$8:$G$60,2,FALSE)","v":{"$error":"#N/A"}},{"$f":"VLOOKUP(H45,Results!$A$8:$G$60,4,FALSE)","v":{"$error":"#N/A"}},{"$f":"VLOOKUP(H45,Results!$A$8:$G$60,7,FALSE)","v":{"$error":"#N/A"}},{"$f":"VLOOKUP(H45,$B$4:B45,1,FALSE)","v":{"$error":"#N/A"}}]
[null,{"$f":"Results!A49","v":0},{"$f":"Results!C49","v":0},{"$f":"Results!B49","v":0},{"$f":"Results!D49","v":0},{"$f":"Results!G49","v":""},"- vs -",{"$f":"VLOOKUP(B46,Results!$A$8:$AG$60,23,FALSE)","v":{"$error":"#N/A"}},{"$f":"VLOOKUP(H46,Results!A$8:$G$60,3,FALSE)","v":{"$error":"#N/A"}},{"$f":"VLOOKUP(H46,Results!$A$8:$G$60,2,FALSE)","v":{"$error":"#N/A"}},{"$f":"VLOOKUP(H46,Results!$A$8:$G$60,4,FALSE)","v":{"$error":"#N/A"}},{"$f":"VLOOKUP(H46,Results!$A$8:$G$60,7,FALSE)","v":{"$error":"#N/A"}},{"$f":"VLOOKUP(H46,$B$4:B46,1,FALSE)","v":{"$error":"#N/A"}}]
[null,{"$f":"Results!A50","v":0},{"$f":"Results!C50","v":0},{"$f":"Results!B50","v":0},{"$f":"Results!D50","v":0},{"$f":"Results!G50","v":""},"- vs -",{"$f":"VLOOKUP(B47,Results!$A$8:$AG$60,23,FALSE)","v":{"$error":"#N/A"}},{"$f":"VLOOKUP(H47,Results!A$8:$G$60,3,FALSE)","v":{"$error":"#N/A"}},{"$f":"VLOOKUP(H47,Results!$A$8:$G$60,2,FALSE)","v":{"$error":"#N/A"}},{"$f":"VLOOKUP(H47,Results!$A$8:$G$60,4,FALSE)","v":{"$error":"#N/A"}},{"$f":"VLOOKUP(H47,Results!$A$8:$G$60,7,FALSE)","v":{"$error":"#N/A"}},{"$f":"VLOOKUP(H47,$B$4:B47,1,FALSE)","v":{"$error":"#N/A"}}]
[null,{"$f":"Results!A51","v":0},{"$f":"Results!C51","v":0},{"$f":"Results!B51","v":0},{"$f":"Results!D51","v":0},{"$f":"Results!G51","v":""},"- vs -",{"$f":"VLOOKUP(B48,Results!$A$8:$AG$60,23,FALSE)","v":{"$error":"#N/A"}},{"$f":"VLOOKUP(H48,Results!A$8:$G$60,3,FALSE)","v":{"$error":"#N/A"}},{"$f":"VLOOKUP(H48,Results!$A$8:$G$60,2,FALSE)","v":{"$error":"#N/A"}},{"$f":"VLOOKUP(H48,Results!$A$8:$G$60,4,FALSE)","v":{"$error":"#N/A"}},{"$f":"VLOOKUP(H48,Results!$A$8:$G$60,7,FALSE)","v":{"$error":"#N/A"}},{"$f":"VLOOKUP(H48,$B$4:B48,1,FALSE)","v":{"$error":"#N/A"}}]
[null,{"$f":"Results!A52","v":0},{"$f":"Results!C52","v":0},{"$f":"Results!B52","v":0},{"$f":"Results!D52","v":0},{"$f":"Results!G52","v":""},"- vs -",{"$f":"VLOOKUP(B49,Results!$A$8:$AG$60,23,FALSE)","v":{"$error":"#N/A"}},{"$f":"VLOOKUP(H49,Results!A$8:$G$60,3,FALSE)","v":{"$error":"#N/A"}},{"$f":"VLOOKUP(H49,Results!$A$8:$G$60,2,FALSE)","v":{"$error":"#N/A"}},{"$f":"VLOOKUP(H49,Results!$A$8:$G$60,4,FALSE)","v":{"$error":"#N/A"}},{"$f":"VLOOKUP(H49,Results!$A$8:$G$60,7,FALSE)","v":{"$error":"#N/A"}},{"$f":"VLOOKUP(H49,$B$4:B49,1,FALSE)","v":{"$error":"#N/A"}}]
[null,{"$f":"Results!A53","v":0},{"$f":"Results!C53","v":0},{"$f":"Results!B53","v":0},{"$f":"Results!D53","v":0},{"$f":"Results!G53","v":""},"- vs -",{"$f":"VLOOKUP(B50,Results!$A$8:$AG$60,23,FALSE)","v":{"$error":"#N/A"}},{"$f":"VLOOKUP(H50,Results!A$8:$G$60,3,FALSE)","v":{"$error":"#N/A"}},{"$f":"VLOOKUP(H50,Results!$A$8:$G$60,2,FALSE)","v":{"$error":"#N/A"}},{"$f":"VLOOKUP(H50,Results!$A$8:$G$60,4,FALSE)","v":{"$error":"#N/A"}},{"$f":"VLOOKUP(H50,Results!$A$8:$G$60,7,FALSE)","v":{"$error":"#N/A"}},{"$f":"VLOOKUP(H50,$B$4:B50,1,FALSE)","v":{"$error":"#N/A"}}]
[null,{"$f":"Results!A54","v":0},{"$f":"Results!C54","v":0},{"$f":"Results!B54","v":0},{"$f":"Results!D54","v":0},{"$f":"Results!G54","v":""},"- vs -",{"$f":"VLOOKUP(B51,Results!$A$8:$AG$60,23,FALSE)","v":{"$error":"#N/A"}},{"$f":"VLOOKUP(H51,Results!A$8:$G$60,3,FALSE)","v":{"$error":"#N/A"}},{"$f":"VLOOKUP(H51,Results!$A$8:$G$60,2,FALSE)","v":{"$error":"#N/A"}},{"$f":"VLOOKUP(H51,Results!$A$8:$G$60,4,FALSE)","v":{"$error":"#N/A"}},{"$f":"VLOOKUP(H51,Results!$A$8:$G$60,7,FALSE)","v":{"$error":"#N/A"}},{"$f":"VLOOKUP(H51,$B$4:B51,1,FALSE)","v":{"$error":"#N/A"}}]
[null,{"$f":"Results!A55","v":0},{"$f":"Results!C55","v":0},{"$f":"Results!B55","v":0},{"$f":"Results!D55","v":0},{"$f":"Results!G55","v":""},"- vs -",{"$f":"VLOOKUP(B52,Results!$A$8:$AG$60,23,FALSE)","v":{"$error":"#N/A"}},{"$f":"VLOOKUP(H52,Results!A$8:$G$60,3,FALSE)","v":{"$error":"#N/A"}},{"$f":"VLOOKUP(H52,Results!$A$8:$G$60,2,FALSE)","v":{"$error":"#N/A"}},{"$f":"VLOOKUP(H52,Results!$A$8:$G$60,4,FALSE)","v":{"$error":"#N/A"}},{"$f":"VLOOKUP(H52,Results!$A$8:$G$60,7,FALSE)","v":{"$error":"#N/A"}},{"$f":"VLOOKUP(H52,$B$4:B52,1,FALSE)","v":{"$error":"#N/A"}}]
[null,{"$f":"Results!A56","v":0},{"$f":"Results!C56","v":0},{"$f":"Results!B56","v":0},{"$f":"Results!D56","v":0},{"$f":"Results!G56","v":""},"- vs -",{"$f":"VLOOKUP(B53,Results!$A$8:$AG$60,23,FALSE)","v":{"$error":"#N/A"}},{"$f":"VLOOKUP(H53,Results!A$8:$G$60,3,FALSE)","v":{"$error":"#N/A"}},{"$f":"VLOOKUP(H53,Results!$A$8:$G$60,2,FALSE)","v":{"$error":"#N/A"}},{"$f":"VLOOKUP(H53,Results!$A$8:$G$60,4,FALSE)","v":{"$error":"#N/A"}},{"$f":"VLOOKUP(H53,Results!$A$8:$G$60,7,FALSE)","v":{"$error":"#N/A"}},{"$f":"VLOOKUP(H53,$B$4:B53,1,FALSE)","v":{"$error":"#N/A"}}]
[null,{"$f":"Results!A57","v":0},{"$f":"Results!C57","v":0},{"$f":"Results!B57","v":0},{"$f":"Results!D57","v":0},{"$f":"Results!G57","v":""},"- vs -",{"$f":"VLOOKUP(B54,Results!$A$8:$AG$60,23,FALSE)","v":{"$error":"#N/A"}},{"$f":"VLOOKUP(H54,Results!A$8:$G$60,3,FALSE)","v":{"$error":"#N/A"}},{"$f":"VLOOKUP(H54,Results!$A$8:$G$60,2,FALSE)","v":{"$error":"#N/A"}},{"$f":"VLOOKUP(H54,Results!$A$8:$G$60,4,FALSE)","v":{"$error":"#N/A"}},{"$f":"VLOOKUP(H54,Results!$A$8:$G$60,7,FALSE)","v":{"$error":"#N/A"}},{"$f":"VLOOKUP(H54,$B$4:B54,1,FALSE)","v":{"$error":"#N/A"}}]
[null,{"$f":"Results!A58","v":0},{"$f":"Results!C58","v":0},{"$f":"Results!B58","v":0},{"$f":"Results!D58","v":0},{"$f":"Results!G58","v":""},"- vs -",{"$f":"VLOOKUP(B55,Results!$A$8:$AG$60,23,FALSE)","v":{"$error":"#N/A"}},{"$f":"VLOOKUP(H55,Results!A$8:$G$60,3,FALSE)","v":{"$error":"#N/A"}},{"$f":"VLOOKUP(H55,Results!$A$8:$G$60,2,FALSE)","v":{"$error":"#N/A"}},{"$f":"VLOOKUP(H55,Results!$A$8:$G$60,4,FALSE)","v":{"$error":"#N/A"}},{"$f":"VLOOKUP(H55,Results!$A$8:$G$60,7,FALSE)","v":{"$error":"#N/A"}},{"$f":"VLOOKUP(H55,$B$4:B55,1,FALSE)","v":{"$error":"#N/A"}}]
[null,{"$f":"Results!A59","v":0},{"$f":"Results!C59","v":0},{"$f":"Results!B59","v":0},{"$f":"Results!D59","v":0},{"$f":"Results!G59","v":""},"- vs -",{"$f":"VLOOKUP(B56,Results!$A$8:$AG$60,23,FALSE)","v":{"$error":"#N/A"}},{"$f":"VLOOKUP(H56,Results!A$8:$G$60,3,FALSE)","v":{"$error":"#N/A"}},{"$f":"VLOOKUP(H56,Results!$A$8:$G$60,2,FALSE)","v":{"$error":"#N/A"}},{"$f":"VLOOKUP(H56,Results!$A$8:$G$60,4,FALSE)","v":{"$error":"#N/A"}},{"$f":"VLOOKUP(H56,Results!$A$8:$G$60,7,FALSE)","v":{"$error":"#N/A"}},{"$f":"VLOOKUP(H56,$B$4:B56,1,FALSE)","v":{"$error":"#N/A"}}]
[null,{"$f":"Results!A60","v":0},{"$f":"Results!C60","v":0},{"$f":"Results!B60","v":0},{"$f":"Results!D60","v":0},{"$f":"Results!G60","v":""},"- vs -",{"$f":"VLOOKUP(B57,Results!$A$8:$AG$60,23,FALSE)","v":{"$error":"#N/A"}},{"$f":"VLOOKUP(H57,Results!A$8:$G$60,3,FALSE)","v":{"$error":"#N/A"}},{"$f":"VLOOKUP(H57,Results!$A$8:$G$60,2,FALSE)","v":{"$error":"#N/A"}},{"$f":"VLOOKUP(H57,Results!$A$8:$G$60,4,FALSE)","v":{"$error":"#N/A"}},{"$f":"VLOOKUP(H57,Results!$A$8:$G$60,7,FALSE)","v":{"$error":"#N/A"}},{"$f":"VLOOKUP(H57,$B$4:B57,1,FALSE)","v":{"$error":"#N/A"}}]
[null,{"$f":"Results!A61","v":0},{"$f":"Results!C61","v":0},{"$f":"Results!B61","v":0},{"$f":"Results!D61","v":0},{"$f":"Results!G61","v":""},"- vs -",{"$f":"VLOOKUP(B58,Results!$A$8:$AG$60,23,FALSE)","v":{"$error":"#N/A"}},{"$f":"VLOOKUP(H58,Results!A$8:$G$60,3,FALSE)","v":{"$error":"#N/A"}},{"$f":"VLOOKUP(H58,Results!$A$8:$G$60,2,FALSE)","v":{"$error":"#N/A"}},{"$f":"VLOOKUP(H58,Results!$A$8:$G$60,4,FALSE)","v":{"$error":"#N/A"}},{"$f":"VLOOKUP(H58,Results!$A$8:$G$60,7,FALSE)","v":{"$error":"#N/A"}},{"$f":"VLOOKUP(H58,$B$4:B58,1,FALSE)","v":{"$error":"#N/A"}}]
[null,{"$f":"Results!A62","v":0},{"$f":"Results!C62","v":0},{"$f":"Results!B62","v":0},{"$f":"Results!D62","v":0},{"$f":"Results!G62","v":""},"- vs -",{"$f":"VLOOKUP(B59,Results!$A$8:$AG$60,23,FALSE)","v":{"$error":"#N/A"}},{"$f":"VLOOKUP(H59,Results!A$8:$G$60,3,FALSE)","v":{"$error":"#N/A"}},{"$f":"VLOOKUP(H59,Results!$A$8:$G$60,2,FALSE)","v":{"$error":"#N/A"}},{"$f":"VLOOKUP(H59,Results!$A$8:$G$60,4,FALSE)","v":{"$error":"#N/A"}},{"$f":"VLOOKUP(H59,Results!$A$8:$G$60,7,FALSE)","v":{"$error":"#N/A"}},{"$f":"VLOOKUP(H59,$B$4:B59,1,FALSE)","v":{"$error":"#N/A"}}]
[null,{"$f":"Results!A63","v":0},{"$f":"Results!C63","v":0},{"$f":"Results!B63","v":0},{"$f":"Results!D63","v":0},{"$f":"Results!G63","v":""},"- vs -",{"$f":"VLOOKUP(B60,Results!$A$8:$AG$60,23,FALSE)","v":{"$error":"#N/A"}},{"$f":"VLOOKUP(H60,Results!A$8:$G$60,3,FALSE)","v":{"$error":"#N/A"}},{"$f":"VLOOKUP(H60,Results!$A$8:$G$60,2,FALSE)","v":{"$error":"#N/A"}},{"$f":"VLOOKUP(H60,Results!$A$8:$G$60,4,FALSE)","v":{"$error":"#N/A"}},{"$f":"VLOOKUP(H60,Results!$A$8:$G$60,7,FALSE)","v":{"$error":"#N/A"}},{"$f":"VLOOKUP(H60,$B$4:B60,1,FALSE)","v":{"$error":"#N/A"}}]
[null,{"$f":"Results!A64","v":0},{"$f":"Results!C64","v":0},{"$f":"Results!B64","v":0},{"$f":"Results!D64","v":0},{"$f":"Results!G64","v":""},"- vs -",{"$f":"VLOOKUP(B61,Results!$A$8:$AG$60,23,FALSE)","v":{"$error":"#N/A"}},{"$f":"VLOOKUP(H61,Results!A$8:$G$60,3,FALSE)","v":{"$error":"#N/A"}},{"$f":"VLOOKUP(H61,Results!$A$8:$G$60,2,FALSE)","v":{"$error":"#N/A"}},{"$f":"VLOOKUP(H61,Results!$A$8:$G$60,4,FALSE)","v":{"$error":"#N/A"}},{"$f":"VLOOKUP(H61,Results!$A$8:$G$60,7,FALSE)","v":{"$error":"#N/A"}},{"$f":"VLOOKUP(H61,$B$4:B61,1,FALSE)","v":{"$error":"#N/A"}}]
[null,{"$f":"Results!A65","v":0},{"$f":"Results!C65","v":0},{"$f":"Results!B65","v":0},{"$f":"Results!D65","v":0},{"$f":"Results!G65","v":""},"- vs -",{"$f":"VLOOKUP(B62,Results!$A$8:$AG$60,23,FALSE)","v":{"$error":"#N/A"}},{"$f":"VLOOKUP(H62,Results!A$8:$G$60,3,FALSE)","v":{"$error":"#N/A"}},{"$f":"VLOOKUP(H62,Results!$A$8:$G$60,2,FALSE)","v":{"$error":"#N/A"}},{"$f":"VLOOKUP(H62,Results!$A$8:$G$60,4,FALSE)","v":{"$error":"#N/A"}},{"$f":"VLOOKUP(H62,Results!$A$8:$G$60,7,FALSE)","v":{"$error":"#N/A"}},{"$f":"VLOOKUP(H62,$B$4:B62,1,FALSE)","v":{"$error":"#N/A"}}]
[null,{"$f":"Results!A66","v":0},{"$f":"Results!C66","v":0},{"$f":"Results!B66","v":0},{"$f":"Results!D66","v":0},{"$f":"Results!G66","v":""},"- vs -",{"$f":"VLOOKUP(B63,Results!$A$8:$AG$60,23,FALSE)","v":{"$error":"#N/A"}},{"$f":"VLOOKUP(H63,Results!A$8:$G$60,3,FALSE)","v":{"$error":"#N/A"}},{"$f":"VLOOKUP(H63,Results!$A$8:$G$60,2,FALSE)","v":{"$error":"#N/A"}},{"$f":"VLOOKUP(H63,Results!$A$8:$G$60,4,FALSE)","v":{"$error":"#N/A"}},{"$f":"VLOOKUP(H63,Results!$A$8:$G$60,7,FALSE)","v":{"$error":"#N/A"}},{"$f":"VLOOKUP(H63,$B$4:B63,1,FALSE)","v":{"$error":"#N/A"}}]
[null,{"$f":"Results!A67","v":0},{"$f":"Results!C67","v":0},{"$f":"Results!B67","v":0},{"$f":"Results!D67","v":0},{"$f":"Results!G67","v":""},"- vs -",{"$f":"VLOOKUP(B64,Results!$A$8:$AG$60,23,FALSE)","v":{"$error":"#N/A"}},{"$f":"VLOOKUP(H64,Results!A$8:$G$60,3,FALSE)","v":{"$error":"#N/A"}},{"$f":"VLOOKUP(H64,Results!$A$8:$G$60,2,FALSE)","v":{"$error":"#N/A"}},{"$f":"VLOOKUP(H64,Results!$A$8:$G$60,4,FALSE)","v":{"$error":"#N/A"}},{"$f":"VLOOKUP(H64,Results!$A$8:$G$60,7,FALSE)","v":{"$error":"#N/A"}}]
[null,{"$f":"Results!A68","v":0},{"$f":"Results!C68","v":0},{"$f":"Results!B68","v":0},{"$f":"Results!D68","v":0},{"$f":"Results!G68","v":""},"- vs -",{"$f":"VLOOKUP(B65,Results!$A$8:$AG$60,23,FALSE)","v":{"$error":"#N/A"}},{"$f":"VLOOKUP(H65,Results!A$8:$G$60,3,FALSE)","v":{"$error":"#N/A"}},{"$f":"VLOOKUP(H65,Results!$A$8:$G$60,2,FALSE)","v":{"$error":"#N/A"}},{"$f":"VLOOKUP(H65,Results!$A$8:$G$60,4,FALSE)","v":{"$error":"#N/A"}},{"$f":"VLOOKUP(H65,Results!$A$8:$G$60,7,FALSE)","v":{"$error":"#N/A"}}]
[null,{"$f":"Results!A69","v":0},{"$f":"Results!C69","v":0},{"$f":"Results!B69","v":0},{"$f":"Results!D69","v":0},{"$f":"Results!G69","v":""},"- vs -",{"$f":"VLOOKUP(B66,Results!$A$8:$AG$60,23,FALSE)","v":{"$error":"#N/A"}},{"$f":"VLOOKUP(H66,Results!A$8:$G$60,3,FALSE)","v":{"$error":"#N/A"}},{"$f":"VLOOKUP(H66,Results!$A$8:$G$60,2,FALSE)","v":{"$error":"#N/A"}},{"$f":"VLOOKUP(H66,Results!$A$8:$G$60,4,FALSE)","v":{"$error":"#N/A"}},{"$f":"VLOOKUP(H66,Results!$A$8:$G$60,7,FALSE)","v":{"$error":"#N/A"}}]
[null,{"$f":"Results!A70","v":0},{"$f":"Results!C70","v":0},{"$f":"Results!B70","v":0},{"$f":"Results!D70","v":0},{"$f":"Results!G70","v":""},"- vs -",{"$f":"VLOOKUP(B67,Results!$A$8:$AG$60,23,FALSE)","v":{"$error":"#N/A"}},{"$f":"VLOOKUP(H67,Results!A$8:$G$60,3,FALSE)","v":{"$error":"#N/A"}},{"$f":"VLOOKUP(H67,Results!$A$8:$G$60,2,FALSE)","v":{"$error":"#N/A"}},{"$f":"VLOOKUP(H67,Results!$A$8:$G$60,4,FALSE)","v":{"$error":"#N/A"}},{"$f":"VLOOKUP(H67,Results!$A$8:$G$60,7,FALSE)","v":{"$error":"#N/A"}}]
[null,{"$f":"Results!A71","v":0},{"$f":"Results!C71","v":0},{"$f":"Results!B71","v":0},{"$f":"Results!D71","v":0},{"$f":"Results!G71","v":""},"- vs -",{"$f":"VLOOKUP(B68,Results!$A$8:$AG$60,23,FALSE)","v":{"$error":"#N/A"}},{"$f":"VLOOKUP(H68,Results!A$8:$G$60,3,FALSE)","v":{"$error":"#N/A"}},{"$f":"VLOOKUP(H68,Results!$A$8:$G$60,2,FALSE)","v":{"$error":"#N/A"}},{"$f":"VLOOKUP(H68,Results!$A$8:$G$60,4,FALSE)","v":{"$error":"#N/A"}},{"$f":"VLOOKUP(H68,Results!$A$8:$G$60,7,FALSE)","v":{"$error":"#N/A"}}]
[null,{"$f":"Results!A72","v":0},{"$f":"Results!C72","v":0},{"$f":"Results!B72","v":0},{"$f":"Results!D72","v":0},{"$f":"Results!G72","v":""},"- vs -",{"$f":"VLOOKUP(B69,Results!$A$8:$AG$60,23,FALSE)","v":{"$error":"#N/A"}},{"$f":"VLOOKUP(H69,Results!A$8:$G$60,3,FALSE)","v":{"$error":"#N/A"}},{"$f":"VLOOKUP(H69,Results!$A$8:$G$60,2,FALSE)","v":{"$error":"#N/A"}},{"$f":"VLOOKUP(H69,Results!$A$8:$G$60,4,FALSE)","v":{"$error":"#N/A"}},{"$f":"VLOOKUP(H69,Results!$A$8:$G$60,7,FALSE)","v":{"$error":"#N/A"}}]

{"sheet":"Round 4","index":12,"n_rows":69,"n_cols":13,"rows_kept":69,"cut":false,"hidden":false,"merged":[]}
[]
[null,null,{"$f":"Results!B3","v":"Warfare"},null,"Round 4 Draw"]
[null,null,{"$f":"Results!B4","v":"Période Ancienne"}]
[null,null,null,null,null,null,null,null,null,null,null,null,"VALID?"]
[null,{"$f":"Results!A8","v":0},{"$f":"Results!C8","v":0},{"$f":"Results!B8","v":0},{"$f":"Results!D8","v":0},{"$f":"Results!G8","v":""},"- vs -",{"$f":"VLOOKUP(B5,Results!$A$8:$AG$60,30,FALSE)","v":{"$error":"#N/A"}},{"$f":"VLOOKUP(H5,Results!A$8:$G$60,3,FALSE)","v":{"$error":"#N/A"}},{"$f":"VLOOKUP(H5,Results!$A$8:$G$60,2,FALSE)","v":{"$error":"#N/A"}},{"$f":"VLOOKUP(H5,Results!$A$8:$G$60,4,FALSE)","v":{"$error":"#N/A"}},{"$f":"VLOOKUP(H5,Results!$A$8:$G$60,7,FALSE)","v":{"$error":"#N/A"}},{"$f":"VLOOKUP(H5,$B$4:B5,1,FALSE)","v":{"$error":"#N/A"}}]
[null,{"$f":"Results!A9","v":0},{"$f":"Results!C9","v":0},{"$f":"Results!B9","v":0},{"$f":"Results!D9","v":0},{"$f":"Results!G9","v":""},"- vs -",{"$f":"VLOOKUP(B6,Results!$A$8:$AG$60,30,FALSE)","v":{"$error":"#N/A"}},{"$f":"VLOOKUP(H6,Results!A$8:$G$60,3,FALSE)","v":{"$error":"#N/A"}},{"$f":"VLOOKUP(H6,Results!$A$8:$G$60,2,FALSE)","v":{"$error":"#N/A"}},{"$f":"VLOOKUP(H6,Results!$A$8:$G$60,4,FALSE)","v":{"$error":"#N/A"}},{"$f":"VLOOKUP(H6,Results!$A$8:$G$60,7,FALSE)","v":{"$error":"#N/A"}},{"$f":"VLOOKUP(H6,$B$4:B6,1,FALSE)","v":{"$error":"#N/A"}}]
[null,{"$f":"Results!A10","v":0},{"$f":"Results!C10","v":0},{"$f":"Results!B10","v":0},{"$f":"Results!D10","v":0},{"$f":"Results!G10","v":""},"- vs -",{"$f":"VLOOKUP(B7,Results!$A$8:$AG$60,30,FALSE)","v":{"$error":"#N/A"}},{"$f":"VLOOKUP(H7,Results!A$8:$G$60,3,FALSE)","v":{"$error":"#N/A"}},{"$f":"VLOOKUP(H7,Results!$A$8:$G$60,2,FALSE)","v":{"$error":"#N/A"}},{"$f":"VLOOKUP(H7,Results!$A$8:$G$60,4,FALSE)","v":{"$error":"#N/A"}},{"$f":"VLOOKUP(H7,Results!$A$8:$G$60,7,FALSE)","v":{"$error":"#N/A"}},{"$f":"VLOOKUP(H7,$B$4:B7,1,FALSE)","v":{"$error":"#N/A"}}]
[null,{"$f":"Results!A11","v":0},{"$f":"Results!C11","v":0},{"$f":"Results!B11","v":0},{"$f":"Results!D11","v":0},{"$f":"Results!G11","v":""},"- vs -",{"$f":"VLOOKUP(B8,Results!$A$8:$AG$60,30,FALSE)","v":{"$error":"#N/A"}},{"$f":"VLOOKUP(H8,Results!A$8:$G$60,3,FALSE)","v":{"$error":"#N/A"}},{"$f":"VLOOKUP(H8,Results!$A$8:$G$60,2,FALSE)","v":{"$error":"#N/A"}},{"$f":"VLOOKUP(H8,Results!$A$8:$G$60,4,FALSE)","v":{"$error":"#N/A"}},{"$f":"VLOOKUP(H8,Results!$A$8:$G$60,7,FALSE)","v":{"$error":"#N/A"}},{"$f":"VLOOKUP(H8,$B$4:B8,1,FALSE)","v":{"$error":"#N/A"}}]
[null,{"$f":"Results!A12","v":0},{"$f":"Results!C12","v":0},{"$f":"Results!B12","v":0},{"$f":"Results!D12","v":0},{"$f":"Results!G12","v":""},"- vs -",{"$f":"VLOOKUP(B9,Results!$A$8:$AG$60,30,FALSE)","v":{"$error":"#N/A"}},{"$f":"VLOOKUP(H9,Results!A$8:$G$60,3,FALSE)","v":{"$error":"#N/A"}},{"$f":"VLOOKUP(H9,Results!$A$8:$G$60,2,FALSE)","v":{"$error":"#N/A"}},{"$f":"VLOOKUP(H9,Results!$A$8:$G$60,4,FALSE)","v":{"$error":"#N/A"}},{"$f":"VLOOKUP(H9,Results!$A$8:$G$60,7,FALSE)","v":{"$error":"#N/A"}},{"$f":"VLOOKUP(H9,$B$4:B9,1,FALSE)","v":{"$error":"#N/A"}}]
[null,{"$f":"Results!A13","v":0},{"$f":"Results!C13","v":0},{"$f":"Results!B13","v":0},{"$f":"Results!D13","v":0},{"$f":"Results!G13","v":""},"- vs -",{"$f":"VLOOKUP(B10,Results!$A$8:$AG$60,30,FALSE)","v":{"$error":"#N/A"}},{"$f":"VLOOKUP(H10,Results!A$8:$G$60,3,FALSE)","v":{"$error":"#N/A"}},{"$f":"VLOOKUP(H10,Results!$A$8:$G$60,2,FALSE)","v":{"$error":"#N/A"}},{"$f":"VLOOKUP(H10,Results!$A$8:$G$60,4,FALSE)","v":{"$error":"#N/A"}},{"$f":"VLOOKUP(H10,Results!$A$8:$G$60,7,FALSE)","v":{"$error":"#N/A"}},{"$f":"VLOOKUP(H10,$B$4:B10,1,FALSE)","v":{"$error":"#N/A"}}]
[null,{"$f":"Results!A14","v":0},{"$f":"Results!C14","v":0},{"$f":"Results!B14","v":0},{"$f":"Results!D14","v":0},{"$f":"Results!G14","v":""},"- vs -",{"$f":"VLOOKUP(B11,Results!$A$8:$AG$60,30,FALSE)","v":{"$error":"#N/A"}},{"$f":"VLOOKUP(H11,Results!A$8:$G$60,3,FALSE)","v":{"$error":"#N/A"}},{"$f":"VLOOKUP(H11,Results!$A$8:$G$60,2,FALSE)","v":{"$error":"#N/A"}},{"$f":"VLOOKUP(H11,Results!$A$8:$G$60,4,FALSE)","v":{"$error":"#N/A"}},{"$f":"VLOOKUP(H11,Results!$A$8:$G$60,7,FALSE)","v":{"$error":"#N/A"}},{"$f":"VLOOKUP(H11,$B$4:B11,1,FALSE)","v":{"$error":"#N/A"}}]
[null,{"$f":"Results!A15","v":0},{"$f":"Results!C15","v":0},{"$f":"Results!B15","v":0},{"$f":"Results!D15","v":0},{"$f":"Results!G15","v":""},"- vs -",{"$f":"VLOOKUP(B12,Results!$A$8:$AG$60,30,FALSE)","v":{"$error":"#N/A"}},{"$f":"VLOOKUP(H12,Results!A$8:$G$60,3,FALSE)","v":{"$error":"#N/A"}},{"$f":"VLOOKUP(H12,Results!$A$8:$G$60,2,FALSE)","v":{"$error":"#N/A"}},{"$f":"VLOOKUP(H12,Results!$A$8:$G$60,4,FALSE)","v":{"$error":"#N/A"}},{"$f":"VLOOKUP(H12,Results!$A$8:$G$60,7,FALSE)","v":{"$error":"#N/A"}},{"$f":"VLOOKUP(H12,$B$4:B12,1,FALSE)","v":{"$error":"#N/A"}}]
[null,{"$f":"Results!A16","v":0},{"$f":"Results!C16","v":0},{"$f":"Results!B16","v":0},{"$f":"Results!D16","v":0},{"$f":"Results!G16","v":""},"- vs -",{"$f":"VLOOKUP(B13,Results!$A$8:$AG$60,30,FALSE)","v":{"$error":"#N/A"}},{"$f":"VLOOKUP(H13,Results!A$8:$G$60,3,FALSE)","v":{"$error":"#N/A"}},{"$f":"VLOOKUP(H13,Results!$A$8:$G$60,2,FALSE)","v":{"$error":"#N/A"}},{"$f":"VLOOKUP(H13,Results!$A$8:$G$60,4,FALSE)","v":{"$error":"#N/A"}},{"$f":"VLOOKUP(H13,Results!$A$8:$G$60,7,FALSE)","v":{"$error":"#N/A"}},{"$f":"VLOOKUP(H13,$B$4:B13,1,FALSE)","v":{"$error":"#N/A"}}]
[null,{"$f":"Results!A17","v":0},{"$f":"Results!C17","v":0},{"$f":"Results!B17","v":0},{"$f":"Results!D17","v":0},{"$f":"Results!G17","v":""},"- vs -",{"$f":"VLOOKUP(B14,Results!$A$8:$AG$60,30,FALSE)","v":{"$error":"#N/A"}},{"$f":"VLOOKUP(H14,Results!A$8:$G$60,3,FALSE)","v":{"$error":"#N/A"}},{"$f":"VLOOKUP(H14,Results!$A$8:$G$60,2,FALSE)","v":{"$error":"#N/A"}},{"$f":"VLOOKUP(H14,Results!$A$8:$G$60,4,FALSE)","v":{"$error":"#N/A"}},{"$f":"VLOOKUP(H14,Results!$A$8:$G$60,7,FALSE)","v":{"$error":"#N/A"}},{"$f":"VLOOKUP(H14,$B$4:B14,1,FALSE)","v":{"$error":"#N/A"}}]
[null,{"$f":"Results!A18","v":0},{"$f":"Results!C18","v":0},{"$f":"Results!B18","v":0},{"$f":"Results!D18","v":0},{"$f":"Results!G18","v":""},"- vs -",{"$f":"VLOOKUP(B15,Results!$A$8:$AG$60,30,FALSE)","v":{"$error":"#N/A"}},{"$f":"VLOOKUP(H15,Results!A$8:$G$60,3,FALSE)","v":{"$error":"#N/A"}},{"$f":"VLOOKUP(H15,Results!$A$8:$G$60,2,FALSE)","v":{"$error":"#N/A"}},{"$f":"VLOOKUP(H15,Results!$A$8:$G$60,4,FALSE)","v":{"$error":"#N/A"}},{"$f":"VLOOKUP(H15,Results!$A$8:$G$60,7,FALSE)","v":{"$error":"#N/A"}},{"$f":"VLOOKUP(H15,$B$4:B15,1,FALSE)","v":{"$error":"#N/A"}}]
[null,{"$f":"Results!A19","v":0},{"$f":"Results!C19","v":0},{"$f":"Results!B19","v":0},{"$f":"Results!D19","v":0},{"$f":"Results!G19","v":""},"- vs -",{"$f":"VLOOKUP(B16,Results!$A$8:$AG$60,30,FALSE)","v":{"$error":"#N/A"}},{"$f":"VLOOKUP(H16,Results!A$8:$G$60,3,FALSE)","v":{"$error":"#N/A"}},{"$f":"VLOOKUP(H16,Results!$A$8:$G$60,2,FALSE)","v":{"$error":"#N/A"}},{"$f":"VLOOKUP(H16,Results!$A$8:$G$60,4,FALSE)","v":{"$error":"#N/A"}},{"$f":"VLOOKUP(H16,Results!$A$8:$G$60,7,FALSE)","v":{"$error":"#N/A"}},{"$f":"VLOOKUP(H16,$B$4:B16,1,FALSE)","v":{"$error":"#N/A"}}]
[null,{"$f":"Results!A20","v":0},{"$f":"Results!C20","v":0},{"$f":"Results!B20","v":0},{"$f":"Results!D20","v":0},{"$f":"Results!G20","v":""},"- vs -",{"$f":"VLOOKUP(B17,Results!$A$8:$AG$60,30,FALSE)","v":{"$error":"#N/A"}},{"$f":"VLOOKUP(H17,Results!A$8:$G$60,3,FALSE)","v":{"$error":"#N/A"}},{"$f":"VLOOKUP(H17,Results!$A$8:$G$60,2,FALSE)","v":{"$error":"#N/A"}},{"$f":"VLOOKUP(H17,Results!$A$8:$G$60,4,FALSE)","v":{"$error":"#N/A"}},{"$f":"VLOOKUP(H17,Results!$A$8:$G$60,7,FALSE)","v":{"$error":"#N/A"}},{"$f":"VLOOKUP(H17,$B$4:B17,1,FALSE)","v":{"$error":"#N/A"}}]
[null,{"$f":"Results!A21","v":0},{"$f":"Results!C21","v":0},{"$f":"Results!B21","v":0},{"$f":"Results!D21","v":0},{"$f":"Results!G21","v":""},"- vs -",{"$f":"VLOOKUP(B18,Results!$A$8:$AG$60,30,FALSE)","v":{"$error":"#N/A"}},{"$f":"VLOOKUP(H18,Results!A$8:$G$60,3,FALSE)","v":{"$error":"#N/A"}},{"$f":"VLOOKUP(H18,Results!$A$8:$G$60,2,FALSE)","v":{"$error":"#N/A"}},{"$f":"VLOOKUP(H18,Results!$A$8:$G$60,4,FALSE)","v":{"$error":"#N/A"}},{"$f":"VLOOKUP(H18,Results!$A$8:$G$60,7,FALSE)","v":{"$error":"#N/A"}},{"$f":"VLOOKUP(H18,$B$4:B18,1,FALSE)","v":{"$error":"#N/A"}}]
[null,{"$f":"Results!A22","v":0},{"$f":"Results!C22","v":0},{"$f":"Results!B22","v":0},{"$f":"Results!D22","v":0},{"$f":"Results!G22","v":""},"- vs -",{"$f":"VLOOKUP(B19,Results!$A$8:$AG$60,30,FALSE)","v":{"$error":"#N/A"}},{"$f":"VLOOKUP(H19,Results!A$8:$G$60,3,FALSE)","v":{"$error":"#N/A"}},{"$f":"VLOOKUP(H19,Results!$A$8:$G$60,2,FALSE)","v":{"$error":"#N/A"}},{"$f":"VLOOKUP(H19,Results!$A$8:$G$60,4,FALSE)","v":{"$error":"#N/A"}},{"$f":"VLOOKUP(H19,Results!$A$8:$G$60,7,FALSE)","v":{"$error":"#N/A"}},{"$f":"VLOOKUP(H19,$B$4:B19,1,FALSE)","v":{"$error":"#N/A"}}]
[null,{"$f":"Results!A23","v":0},{"$f":"Results!C23","v":0},{"$f":"Results!B23","v":0},{"$f":"Results!D23","v":0},{"$f":"Results!G23","v":""},"- vs -",{"$f":"VLOOKUP(B20,Results!$A$8:$AG$60,30,FALSE)","v":{"$error":"#N/A"}},{"$f":"VLOOKUP(H20,Results!A$8:$G$60,3,FALSE)","v":{"$error":"#N/A"}},{"$f":"VLOOKUP(H20,Results!$A$8:$G$60,2,FALSE)","v":{"$error":"#N/A"}},{"$f":"VLOOKUP(H20,Results!$A$8:$G$60,4,FALSE)","v":{"$error":"#N/A"}},{"$f":"VLOOKUP(H20,Results!$A$8:$G$60,7,FALSE)","v":{"$error":"#N/A"}},{"$f":"VLOOKUP(H20,$B$4:B20,1,FALSE)","v":{"$error":"#N/A"}}]
[null,{"$f":"Results!A24","v":0},{"$f":"Results!C24","v":0},{"$f":"Results!B24","v":0},{"$f":"Results!D24","v":0},{"$f":"Results!G24","v":""},"- vs -",{"$f":"VLOOKUP(B21,Results!$A$8:$AG$60,30,FALSE)","v":{"$error":"#N/A"}},{"$f":"VLOOKUP(H21,Results!A$8:$G$60,3,FALSE)","v":{"$error":"#N/A"}},{"$f":"VLOOKUP(H21,Results!$A$8:$G$60,2,FALSE)","v":{"$error":"#N/A"}},{"$f":"VLOOKUP(H21,Results!$A$8:$G$60,4,FALSE)","v":{"$error":"#N/A"}},{"$f":"VLOOKUP(H21,Results!$A$8:$G$60,7,FALSE)","v":{"$error":"#N/A"}},{"$f":"VLOOKUP(H21,$B$4:B21,1,FALSE)","v":{"$error":"#N/A"}}]
[null,{"$f":"Results!A25","v":0},{"$f":"Results!C25","v":0},{"$f":"Results!B25","v":0},{"$f":"Results!D25","v":0},{"$f":"Results!G25","v":""},"- vs -",{"$f":"VLOOKUP(B22,Results!$A$8:$AG$60,30,FALSE)","v":{"$error":"#N/A"}},{"$f":"VLOOKUP(H22,Results!A$8:$G$60,3,FALSE)","v":{"$error":"#N/A"}},{"$f":"VLOOKUP(H22,Results!$A$8:$G$60,2,FALSE)","v":{"$error":"#N/A"}},{"$f":"VLOOKUP(H22,Results!$A$8:$G$60,4,FALSE)","v":{"$error":"#N/A"}},{"$f":"VLOOKUP(H22,Results!$A$8:$G$60,7,FALSE)","v":{"$error":"#N/A"}},{"$f":"VLOOKUP(H22,$B$4:B22,1,FALSE)","v":{"$error":"#N/A"}}]
[null,{"$f":"Results!A26","v":0},{"$f":"Results!C26","v":0},{"$f":"Results!B26","v":0},{"$f":"Results!D26","v":0},{"$f":"Results!G26","v":""},"- vs -",{"$f":"VLOOKUP(B23,Results!$A$8:$AG$60,30,FALSE)","v":{"$error":"#N/A"}},{"$f":"VLOOKUP(H23,Results!A$8:$G$60,3,FALSE)","v":{"$error":"#N/A"}},{"$f":"VLOOKUP(H23,Results!$A$8:$G$60,2,FALSE)","v":{"$error":"#N/A"}},{"$f":"VLOOKUP(H23,Results!$A$8:$G$60,4,FALSE)","v":{"$error":"#N/A"}},{"$f":"VLOOKUP(H23,Results!$A$8:$G$60,7,FALSE)","v":{"$error":"#N/A"}},{"$f":"VLOOKUP(H23,$B$4:B23,1,FALSE)","v":{"$error":"#N/A"}}]
[null,{"$f":"Results!A27","v":0},{"$f":"Results!C27","v":0},{"$f":"Results!B27","v":0},{"$f":"Results!D27","v":0},{"$f":"Results!G27","v":""},"- vs -",{"$f":"VLOOKUP(B24,Results!$A$8:$AG$60,30,FALSE)","v":{"$error":"#N/A"}},{"$f":"VLOOKUP(H24,Results!A$8:$G$60,3,FALSE)","v":{"$error":"#N/A"}},{"$f":"VLOOKUP(H24,Results!$A$8:$G$60,2,FALSE)","v":{"$error":"#N/A"}},{"$f":"VLOOKUP(H24,Results!$A$8:$G$60,4,FALSE)","v":{"$error":"#N/A"}},{"$f":"VLOOKUP(H24,Results!$A$8:$G$60,7,FALSE)","v":{"$error":"#N/A"}},{"$f":"VLOOKUP(H24,$B$4:B24,1,FALSE)","v":{"$error":"#N/A"}}]
[null,{"$f":"Results!A28","v":0},{"$f":"Results!C28","v":0},{"$f":"Results!B28","v":0},{"$f":"Results!D28","v":0},{"$f":"Results!G28","v":""},"- vs -",{"$f":"VLOOKUP(B25,Results!$A$8:$AG$60,30,FALSE)","v":{"$error":"#N/A"}},{"$f":"VLOOKUP(H25,Results!A$8:$G$60,3,FALSE)","v":{"$error":"#N/A"}},{"$f":"VLOOKUP(H25,Results!$A$8:$G$60,2,FALSE)","v":{"$error":"#N/A"}},{"$f":"VLOOKUP(H25,Results!$A$8:$G$60,4,FALSE)","v":{"$error":"#N/A"}},{"$f":"VLOOKUP(H25,Results!$A$8:$G$60,7,FALSE)","v":{"$error":"#N/A"}},{"$f":"VLOOKUP(H25,$B$4:B25,1,FALSE)","v":{"$error":"#N/A"}}]
[null,{"$f":"Results!A29","v":0},{"$f":"Results!C29","v":0},{"$f":"Results!B29","v":0},{"$f":"Results!D29","v":0},{"$f":"Results!G29","v":""},"- vs -",{"$f":"VLOOKUP(B26,Results!$A$8:$AG$60,30,FALSE)","v":{"$error":"#N/A"}},{"$f":"VLOOKUP(H26,Results!A$8:$G$60,3,FALSE)","v":{"$error":"#N/A"}},{"$f":"VLOOKUP(H26,Results!$A$8:$G$60,2,FALSE)","v":{"$error":"#N/A"}},{"$f":"VLOOKUP(H26,Results!$A$8:$G$60,4,FALSE)","v":{"$error":"#N/A"}},{"$f":"VLOOKUP(H26,Results!$A$8:$G$60,7,FALSE)","v":{"$error":"#N/A"}},{"$f":"VLOOKUP(H26,$B$4:B26,1,FALSE)","v":{"$error":"#N/A"}}]
[null,{"$f":"Results!A30","v":0},{"$f":"Results!C30","v":0},{"$f":"Results!B30","v":0},{"$f":"Results!D30","v":0},{"$f":"Results!G30","v":""},"- vs -",{"$f":"VLOOKUP(B27,Results!$A$8:$AG$60,30,FALSE)","v":{"$error":"#N/A"}},{"$f":"VLOOKUP(H27,Results!A$8:$G$60,3,FALSE)","v":{"$error":"#N/A"}},{"$f":"VLOOKUP(H27,Results!$A$8:$G$60,2,FALSE)","v":{"$error":"#N/A"}},{"$f":"VLOOKUP(H27,Results!$A$8:$G$60,4,FALSE)","v":{"$error":"#N/A"}},{"$f":"VLOOKUP(H27,Results!$A$8:$G$60,7,FALSE)","v":{"$error":"#N/A"}},{"$f":"VLOOKUP(H27,$B$4:B27,1,FALSE)","v":{"$error":"#N/A"}}]
[null,{"$f":"Results!A31","v":0},{"$f":"Results!C31","v":0},{"$f":"Results!B31","v":0},{"$f":"Results!D31","v":0},{"$f":"Results!G31","v":""},"- vs -",{"$f":"VLOOKUP(B28,Results!$A$8:$AG$60,30,FALSE)","v":{"$error":"#N/A"}},{"$f":"VLOOKUP(H28,Results!A$8:$G$60,3,FALSE)","v":{"$error":"#N/A"}},{"$f":"VLOOKUP(H28,Results!$A$8:$G$60,2,FALSE)","v":{"$error":"#N/A"}},{"$f":"VLOOKUP(H28,Results!$A$8:$G$60,4,FALSE)","v":{"$error":"#N/A"}},{"$f":"VLOOKUP(H28,Results!$A$8:$G$60,7,FALSE)","v":{"$error":"#N/A"}},{"$f":"VLOOKUP(H28,$B$4:B28,1,FALSE)","v":{"$error":"#N/A"}}]
[null,{"$f":"Results!A32","v":0},{"$f":"Results!C32","v":0},{"$f":"Results!B32","v":0},{"$f":"Results!D32","v":0},{"$f":"Results!G32","v":""},"- vs -",{"$f":"VLOOKUP(B29,Results!$A$8:$AG$60,30,FALSE)","v":{"$error":"#N/A"}},{"$f":"VLOOKUP(H29,Results!A$8:$G$60,3,FALSE)","v":{"$error":"#N/A"}},{"$f":"VLOOKUP(H29,Results!$A$8:$G$60,2,FALSE)","v":{"$error":"#N/A"}},{"$f":"VLOOKUP(H29,Results!$A$8:$G$60,4,FALSE)","v":{"$error":"#N/A"}},{"$f":"VLOOKUP(H29,Results!$A$8:$G$60,7,FALSE)","v":{"$error":"#N/A"}},{"$f":"VLOOKUP(H29,$B$4:B29,1,FALSE)","v":{"$error":"#N/A"}}]
[null,{"$f":"Results!A33","v":0},{"$f":"Results!C33","v":0},{"$f":"Results!B33","v":0},{"$f":"Results!D33","v":0},{"$f":"Results!G33","v":""},"- vs -",{"$f":"VLOOKUP(B30,Results!$A$8:$AG$60,30,FALSE)","v":{"$error":"#N/A"}},{"$f":"VLOOKUP(H30,Results!A$8:$G$60,3,FALSE)","v":{"$error":"#N/A"}},{"$f":"VLOOKUP(H30,Results!$A$8:$G$60,2,FALSE)","v":{"$error":"#N/A"}},{"$f":"VLOOKUP(H30,Results!$A$8:$G$60,4,FALSE)","v":{"$error":"#N/A"}},{"$f":"VLOOKUP(H30,Results!$A$8:$G$60,7,FALSE)","v":{"$error":"#N/A"}},{"$f":"VLOOKUP(H30,$B$4:B30,1,FALSE)","v":{"$error":"#N/A"}}]
[null,{"$f":"Results!A34","v":0},{"$f":"Results!C34","v":0},{"$f":"Results!B34","v":0},{"$f":"Results!D34","v":0},{"$f":"Results!G34","v":""},"- vs -",{"$f":"VLOOKUP(B31,Results!$A$8:$AG$60,30,FALSE)","v":{"$error":"#N/A"}},{"$f":"VLOOKUP(H31,Results!A$8:$G$60,3,FALSE)","v":{"$error":"#N/A"}},{"$f":"VLOOKUP(H31,Results!$A$8:$G$60,2,FALSE)","v":{"$error":"#N/A"}},{"$f":"VLOOKUP(H31,Results!$A$8:$G$60,4,FALSE)","v":{"$error":"#N/A"}},{"$f":"VLOOKUP(H31,Results!$A$8:$G$60,7,FALSE)","v":{"$error":"#N/A"}},{"$f":"VLOOKUP(H31,$B$4:B31,1,FALSE)","v":{"$error":"#N/A"}}]
[null,{"$f":"Results!A35","v":0},{"$f":"Results!C35","v":0},{"$f":"Results!B35","v":0},{"$f":"Results!D35","v":0},{"$f":"Results!G35","v":""},"- vs -",{"$f":"VLOOKUP(B32,Results!$A$8:$AG$60,30,FALSE)","v":{"$error":"#N/A"}},{"$f":"VLOOKUP(H32,Results!A$8:$G$60,3,FALSE)","v":{"$error":"#N/A"}},{"$f":"VLOOKUP(H32,Results!$A$8:$G$60,2,FALSE)","v":{"$error":"#N/A"}},{"$f":"VLOOKUP(H32,Results!$A$8:$G$60,4,FALSE)","v":{"$error":"#N/A"}},{"$f":"VLOOKUP(H32,Results!$A$8:$G$60,7,FALSE)","v":{"$error":"#N/A"}},{"$f":"VLOOKUP(H32,$B$4:B32,1,FALSE)","v":{"$error":"#N/A"}}]
[null,{"$f":"Results!A36","v":0},{"$f":"Results!C36","v":0},{"$f":"Results!B36","v":0},{"$f":"Results!D36","v":0},{"$f":"Results!G36","v":""},"- vs -",{"$f":"VLOOKUP(B33,Results!$A$8:$AG$60,30,FALSE)","v":{"$error":"#N/A"}},{"$f":"VLOOKUP(H33,Results!A$8:$G$60,3,FALSE)","v":{"$error":"#N/A"}},{"$f":"VLOOKUP(H33,Results!$A$8:$G$60,2,FALSE)","v":{"$error":"#N/A"}},{"$f":"VLOOKUP(H33,Results!$A$8:$G$60,4,FALSE)","v":{"$error":"#N/A"}},{"$f":"VLOOKUP(H33,Results!$A$8:$G$60,7,FALSE)","v":{"$error":"#N/A"}},{"$f":"VLOOKUP(H33,$B$4:B33,1,FALSE)","v":{"$error":"#N/A"}}]
[null,{"$f":"Results!A37","v":0},{"$f":"Results!C37","v":0},{"$f":"Results!B37","v":0},{"$f":"Results!D37","v":0},{"$f":"Results!G37","v":""},"- vs -",{"$f":"VLOOKUP(B34,Results!$A$8:$AG$60,30,FALSE)","v":{"$error":"#N/A"}},{"$f":"VLOOKUP(H34,Results!A$8:$G$60,3,FALSE)","v":{"$error":"#N/A"}},{"$f":"VLOOKUP(H34,Results!$A$8:$G$60,2,FALSE)","v":{"$error":"#N/A"}},{"$f":"VLOOKUP(H34,Results!$A$8:$G$60,4,FALSE)","v":{"$error":"#N/A"}},{"$f":"VLOOKUP(H34,Results!$A$8:$G$60,7,FALSE)","v":{"$error":"#N/A"}},{"$f":"VLOOKUP(H34,$B$4:B34,1,FALSE)","v":{"$error":"#N/A"}}]
[null,{"$f":"Results!A38","v":0},{"$f":"Results!C38","v":0},{"$f":"Results!B38","v":0},{"$f":"Results!D38","v":0},{"$f":"Results!G38","v":""},"- vs -",{"$f":"VLOOKUP(B35,Results!$A$8:$AG$60,30,FALSE)","v":{"$error":"#N/A"}},{"$f":"VLOOKUP(H35,Results!A$8:$G$60,3,FALSE)","v":{"$error":"#N/A"}},{"$f":"VLOOKUP(H35,Results!$A$8:$G$60,2,FALSE)","v":{"$error":"#N/A"}},{"$f":"VLOOKUP(H35,Results!$A$8:$G$60,4,FALSE)","v":{"$error":"#N/A"}},{"$f":"VLOOKUP(H35,Results!$A$8:$G$60,7,FALSE)","v":{"$error":"#N/A"}},{"$f":"VLOOKUP(H35,$B$4:B35,1,FALSE)","v":{"$error":"#N/A"}}]
[null,{"$f":"Results!A39","v":0},{"$f":"Results!C39","v":0},{"$f":"Results!B39","v":0},{"$f":"Results!D39","v":0},{"$f":"Results!G39","v":""},"- vs -",{"$f":"VLOOKUP(B36,Results!$A$8:$AG$60,30,FALSE)","v":{"$error":"#N/A"}},{"$f":"VLOOKUP(H36,Results!A$8:$G$60,3,FALSE)","v":{"$error":"#N/A"}},{"$f":"VLOOKUP(H36,Results!$A$8:$G$60,2,FALSE)","v":{"$error":"#N/A"}},{"$f":"VLOOKUP(H36,Results!$A$8:$G$60,4,FALSE)","v":{"$error":"#N/A"}},{"$f":"VLOOKUP(H36,Results!$A$8:$G$60,7,FALSE)","v":{"$error":"#N/A"}},{"$f":"VLOOKUP(H36,$B$4:B36,1,FALSE)","v":{"$error":"#N/A"}}]
[null,{"$f":"Results!A40","v":0},{"$f":"Results!C40","v":0},{"$f":"Results!B40","v":0},{"$f":"Results!D40","v":0},{"$f":"Results!G40","v":""},"- vs -",{"$f":"VLOOKUP(B37,Results!$A$8:$AG$60,30,FALSE)","v":{"$error":"#N/A"}},{"$f":"VLOOKUP(H37,Results!A$8:$G$60,3,FALSE)","v":{"$error":"#N/A"}},{"$f":"VLOOKUP(H37,Results!$A$8:$G$60,2,FALSE)","v":{"$error":"#N/A"}},{"$f":"VLOOKUP(H37,Results!$A$8:$G$60,4,FALSE)","v":{"$error":"#N/A"}},{"$f":"VLOOKUP(H37,Results!$A$8:$G$60,7,FALSE)","v":{"$error":"#N/A"}},{"$f":"VLOOKUP(H37,$B$4:B37,1,FALSE)","v":{"$error":"#N/A"}}]
[null,{"$f":"Results!A41","v":0},{"$f":"Results!C41","v":0},{"$f":"Results!B41","v":0},{"$f":"Results!D41","v":0},{"$f":"Results!G41","v":""},"- vs -",{"$f":"VLOOKUP(B38,Results!$A$8:$AG$60,30,FALSE)","v":{"$error":"#N/A"}},{"$f":"VLOOKUP(H38,Results!A$8:$G$60,3,FALSE)","v":{"$error":"#N/A"}},{"$f":"VLOOKUP(H38,Results!$A$8:$G$60,2,FALSE)","v":{"$error":"#N/A"}},{"$f":"VLOOKUP(H38,Results!$A$8:$G$60,4,FALSE)","v":{"$error":"#N/A"}},{"$f":"VLOOKUP(H38,Results!$A$8:$G$60,7,FALSE)","v":{"$error":"#N/A"}},{"$f":"VLOOKUP(H38,$B$4:B38,1,FALSE)","v":{"$error":"#N/A"}}]
[null,{"$f":"Results!A42","v":0},{"$f":"Results!C42","v":0},{"$f":"Results!B42","v":0},{"$f":"Results!D42","v":0},{"$f":"Results!G42","v":""},"- vs -",{"$f":"VLOOKUP(B39,Results!$A$8:$AG$60,30,FALSE)","v":{"$error":"#N/A"}},{"$f":"VLOOKUP(H39,Results!A$8:$G$60,3,FALSE)","v":{"$error":"#N/A"}},{"$f":"VLOOKUP(H39,Results!$A$8:$G$60,2,FALSE)","v":{"$error":"#N/A"}},{"$f":"VLOOKUP(H39,Results!$A$8:$G$60,4,FALSE)","v":{"$error":"#N/A"}},{"$f":"VLOOKUP(H39,Results!$A$8:$G$60,7,FALSE)","v":{"$error":"#N/A"}},{"$f":"VLOOKUP(H39,$B$4:B39,1,FALSE)","v":{"$error":"#N/A"}}]
[null,{"$f":"Results!A43","v":0},{"$f":"Results!C43","v":0},{"$f":"Results!B43","v":0},{"$f":"Results!D43","v":0},{"$f":"Results!G43","v":""},"- vs -",{"$f":"VLOOKUP(B40,Results!$A$8:$AG$60,30,FALSE)","v":{"$error":"#N/A"}},{"$f":"VLOOKUP(H40,Results!A$8:$G$60,3,FALSE)","v":{"$error":"#N/A"}},{"$f":"VLOOKUP(H40,Results!$A$8:$G$60,2,FALSE)","v":{"$error":"#N/A"}},{"$f":"VLOOKUP(H40,Results!$A$8:$G$60,4,FALSE)","v":{"$error":"#N/A"}},{"$f":"VLOOKUP(H40,Results!$A$8:$G$60,7,FALSE)","v":{"$error":"#N/A"}},{"$f":"VLOOKUP(H40,$B$4:B40,1,FALSE)","v":{"$error":"#N/A"}}]
[null,{"$f":"Results!A44","v":0},{"$f":"Results!C44","v":0},{"$f":"Results!B44","v":0},{"$f":"Results!D44","v":0},{"$f":"Results!G44","v":""},"- vs -",{"$f":"VLOOKUP(B41,Results!$A$8:$AG$60,30,FALSE)","v":{"$error":"#N/A"}},{"$f":"VLOOKUP(H41,Results!A$8:$G$60,3,FALSE)","v":{"$error":"#N/A"}},{"$f":"VLOOKUP(H41,Results!$A$8:$G$60,2,FALSE)","v":{"$error":"#N/A"}},{"$f":"VLOOKUP(H41,Results!$A$8:$G$60,4,FALSE)","v":{"$error":"#N/A"}},{"$f":"VLOOKUP(H41,Results!$A$8:$G$60,7,FALSE)","v":{"$error":"#N/A"}},{"$f":"VLOOKUP(H41,$B$4:B41,1,FALSE)","v":{"$error":"#N/A"}}]
[null,{"$f":"Results!A45","v":0},{"$f":"Results!C45","v":0},{"$f":"Results!B45","v":0},{"$f":"Results!D45","v":0},{"$f":"Results!G45","v":""},"- vs -",{"$f":"VLOOKUP(B42,Results!$A$8:$AG$60,30,FALSE)","v":{"$error":"#N/A"}},{"$f":"VLOOKUP(H42,Results!A$8:$G$60,3,FALSE)","v":{"$error":"#N/A"}},{"$f":"VLOOKUP(H42,Results!$A$8:$G$60,2,FALSE)","v":{"$error":"#N/A"}},{"$f":"VLOOKUP(H42,Results!$A$8:$G$60,4,FALSE)","v":{"$error":"#N/A"}},{"$f":"VLOOKUP(H42,Results!$A$8:$G$60,7,FALSE)","v":{"$error":"#N/A"}},{"$f":"VLOOKUP(H42,$B$4:B42,1,FALSE)","v":{"$error":"#N/A"}}]
[null,{"$f":"Results!A46","v":0},{"$f":"Results!C46","v":0},{"$f":"Results!B46","v":0},{"$f":"Results!D46","v":0},{"$f":"Results!G46","v":""},"- vs -",{"$f":"VLOOKUP(B43,Results!$A$8:$AG$60,30,FALSE)","v":{"$error":"#N/A"}},{"$f":"VLOOKUP(H43,Results!A$8:$G$60,3,FALSE)","v":{"$error":"#N/A"}},{"$f":"VLOOKUP(H43,Results!$A$8:$G$60,2,FALSE)","v":{"$error":"#N/A"}},{"$f":"VLOOKUP(H43,Results!$A$8:$G$60,4,FALSE)","v":{"$error":"#N/A"}},{"$f":"VLOOKUP(H43,Results!$A$8:$G$60,7,FALSE)","v":{"$error":"#N/A"}},{"$f":"VLOOKUP(H43,$B$4:B43,1,FALSE)","v":{"$error":"#N/A"}}]
[null,{"$f":"Results!A47","v":0},{"$f":"Results!C47","v":0},{"$f":"Results!B47","v":0},{"$f":"Results!D47","v":0},{"$f":"Results!G47","v":""},"- vs -",{"$f":"VLOOKUP(B44,Results!$A$8:$AG$60,30,FALSE)","v":{"$error":"#N/A"}},{"$f":"VLOOKUP(H44,Results!A$8:$G$60,3,FALSE)","v":{"$error":"#N/A"}},{"$f":"VLOOKUP(H44,Results!$A$8:$G$60,2,FALSE)","v":{"$error":"#N/A"}},{"$f":"VLOOKUP(H44,Results!$A$8:$G$60,4,FALSE)","v":{"$error":"#N/A"}},{"$f":"VLOOKUP(H44,Results!$A$8:$G$60,7,FALSE)","v":{"$error":"#N/A"}},{"$f":"VLOOKUP(H44,$B$4:B44,1,FALSE)","v":{"$error":"#N/A"}}]
[null,{"$f":"Results!A48","v":0},{"$f":"Results!C48","v":0},{"$f":"Results!B48","v":0},{"$f":"Results!D48","v":0},{"$f":"Results!G48","v":""},"- vs -",{"$f":"VLOOKUP(B45,Results!$A$8:$AG$60,30,FALSE)","v":{"$error":"#N/A"}},{"$f":"VLOOKUP(H45,Results!A$8:$G$60,3,FALSE)","v":{"$error":"#N/A"}},{"$f":"VLOOKUP(H45,Results!$A$8:$G$60,2,FALSE)","v":{"$error":"#N/A"}},{"$f":"VLOOKUP(H45,Results!$A$8:$G$60,4,FALSE)","v":{"$error":"#N/A"}},{"$f":"VLOOKUP(H45,Results!$A$8:$G$60,7,FALSE)","v":{"$error":"#N/A"}},{"$f":"VLOOKUP(H45,$B$4:B45,1,FALSE)","v":{"$error":"#N/A"}}]
[null,{"$f":"Results!A49","v":0},{"$f":"Results!C49","v":0},{"$f":"Results!B49","v":0},{"$f":"Results!D49","v":0},{"$f":"Results!G49","v":""},"- vs -",{"$f":"VLOOKUP(B46,Results!$A$8:$AG$60,30,FALSE)","v":{"$error":"#N/A"}},{"$f":"VLOOKUP(H46,Results!A$8:$G$60,3,FALSE)","v":{"$error":"#N/A"}},{"$f":"VLOOKUP(H46,Results!$A$8:$G$60,2,FALSE)","v":{"$error":"#N/A"}},{"$f":"VLOOKUP(H46,Results!$A$8:$G$60,4,FALSE)","v":{"$error":"#N/A"}},{"$f":"VLOOKUP(H46,Results!$A$8:$G$60,7,FALSE)","v":{"$error":"#N/A"}},{"$f":"VLOOKUP(H46,$B$4:B46,1,FALSE)","v":{"$error":"#N/A"}}]
[null,{"$f":"Results!A50","v":0},{"$f":"Results!C50","v":0},{"$f":"Results!B50","v":0},{"$f":"Results!D50","v":0},{"$f":"Results!G50","v":""},"- vs -",{"$f":"VLOOKUP(B47,Results!$A$8:$AG$60,30,FALSE)","v":{"$error":"#N/A"}},{"$f":"VLOOKUP(H47,Results!A$8:$G$60,3,FALSE)","v":{"$error":"#N/A"}},{"$f":"VLOOKUP(H47,Results!$A$8:$G$60,2,FALSE)","v":{"$error":"#N/A"}},{"$f":"VLOOKUP(H47,Results!$A$8:$G$60,4,FALSE)","v":{"$error":"#N/A"}},{"$f":"VLOOKUP(H47,Results!$A$8:$G$60,7,FALSE)","v":{"$error":"#N/A"}},{"$f":"VLOOKUP(H47,$B$4:B47,1,FALSE)","v":{"$error":"#N/A"}}]
[null,{"$f":"Results!A51","v":0},{"$f":"Results!C51","v":0},{"$f":"Results!B51","v":0},{"$f":"Results!D51","v":0},{"$f":"Results!G51","v":""},"- vs -",{"$f":"VLOOKUP(B48,Results!$A$8:$AG$60,30,FALSE)","v":{"$error":"#N/A"}},{"$f":"VLOOKUP(H48,Results!A$8:$G$60,3,FALSE)","v":{"$error":"#N/A"}},{"$f":"VLOOKUP(H48,Results!$A$8:$G$60,2,FALSE)","v":{"$error":"#N/A"}},{"$f":"VLOOKUP(H48,Results!$A$8:$G$60,4,FALSE)","v":{"$error":"#N/A"}},{"$f":"VLOOKUP(H48,Results!$A$8:$G$60,7,FALSE)","v":{"$error":"#N/A"}},{"$f":"VLOOKUP(H48,$B$4:B48,1,FALSE)","v":{"$error":"#N/A"}}]
[null,{"$f":"Results!A52","v":0},{"$f":"Results!C52","v":0},{"$f":"Results!B52","v":0},{"$f":"Results!D52","v":0},{"$f":"Results!G52","v":""},"- vs -",{"$f":"VLOOKUP(B49,Results!$A$8:$AG$60,30,FALSE)","v":{"$error":"#N/A"}},{"$f":"VLOOKUP(H49,Results!A$8:$G$60,3,FALSE)","v":{"$error":"#N/A"}},{"$f":"VLOOKUP(H49,Results!$A$8:$G$60,2,FALSE)","v":{"$error":"#N/A"}},{"$f":"VLOOKUP(H49,Results!$A$8:$G$60,4,FALSE)","v":{"$error":"#N/A"}},{"$f":"VLOOKUP(H49,Results!$A$8:$G$60,7,FALSE)","v":{"$error":"#N/A"}},{"$f":"VLOOKUP(H49,$B$4:B49,1,FALSE)","v":{"$error":"#N/A"}}]
[null,{"$f":"Results!A53","v":0},{"$f":"Results!C53","v":0},{"$f":"Results!B53","v":0},{"$f":"Results!D53","v":0},{"$f":"Results!G53","v":""},"- vs -",{"$f":"VLOOKUP(B50,Results!$A$8:$AG$60,30,FALSE)","v":{"$error":"#N/A"}},{"$f":"VLOOKUP(H50,Results!A$8:$G$60,3,FALSE)","v":{"$error":"#N/A"}},{"$f":"VLOOKUP(H50,Results!$A$8:$G$60,2,FALSE)","v":{"$error":"#N/A"}},{"$f":"VLOOKUP(H50,Results!$A$8:$G$60,4,FALSE)","v":{"$error":"#N/A"}},{"$f":"VLOOKUP(H50,Results!$A$8:$G$60,7,FALSE)","v":{"$error":"#N/A"}},{"$f":"VLOOKUP(H50,$B$4:B50,1,FALSE)","v":{"$error":"#N/A"}}]
[null,{"$f":"Results!A54","v":0},{"$f":"Results!C54","v":0},{"$f":"Results!B54","v":0},{"$f":"Results!D54","v":0},{"$f":"Results!G54","v":""},"- vs -",{"$f":"VLOOKUP(B51,Results!$A$8:$AG$60,30,FALSE)","v":{"$error":"#N/A"}},{"$f":"VLOOKUP(H51,Results!A$8:$G$60,3,FALSE)","v":{"$error":"#N/A"}},{"$f":"VLOOKUP(H51,Results!$A$8:$G$60,2,FALSE)","v":{"$error":"#N/A"}},{"$f":"VLOOKUP(H51,Results!$A$8:$G$60,4,FALSE)","v":{"$error":"#N/A"}},{"$f":"VLOOKUP(H51,Results!$A$8:$G$60,7,FALSE)","v":{"$error":"#N/A"}},{"$f":"VLOOKUP(H51,$B$4:B51,1,FALSE)","v":{"$error":"#N/A"}}]
[null,{"$f":"Results!A55","v":0},{"$f":"Results!C55","v":0},{"$f":"Results!B55","v":0},{"$f":"Results!D55","v":0},{"$f":"Results!G55","v":""},"- vs -",{"$f":"VLOOKUP(B52,Results!$A$8:$AG$60,30,FALSE)","v":{"$error":"#N/A"}},{"$f":"VLOOKUP(H52,Results!A$8:$G$60,3,FALSE)","v":{"$error":"#N/A"}},{"$f":"VLOOKUP(H52,Results!$A$8:$G$60,2,FALSE)","v":{"$error":"#N/A"}},{"$f":"VLOOKUP(H52,Results!$A$8:$G$60,4,FALSE)","v":{"$error":"#N/A"}},{"$f":"VLOOKUP(H52,Results!$A$8:$G$60,7,FALSE)","v":{"$error":"#N/A"}},{"$f":"VLOOKUP(H52,$B$4:B52,1,FALSE)","v":{"$error":"#N/A"}}]
[null,{"$f":"Results!A56","v":0},{"$f":"Results!C56","v":0},{"$f":"Results!B56","v":0},{"$f":"Results!D56","v":0},{"$f":"Results!G56","v":""},"- vs -",{"$f":"VLOOKUP(B53,Results!$A$8:$AG$60,30,FALSE)","v":{"$error":"#N/A"}},{"$f":"VLOOKUP(H53,Results!A$8:$G$60,3,FALSE)","v":{"$error":"#N/A"}},{"$f":"VLOOKUP(H53,Results!$A$8:$G$60,2,FALSE)","v":{"$error":"#N/A"}},{"$f":"VLOOKUP(H53,Results!$A$8:$G$60,4,FALSE)","v":{"$error":"#N/A"}},{"$f":"VLOOKUP(H53,Results!$A$8:$G$60,7,FALSE)","v":{"$error":"#N/A"}},{"$f":"VLOOKUP(H53,$B$4:B53,1,FALSE)","v":{"$error":"#N/A"}}]
[null,{"$f":"Results!A57","v":0},{"$f":"Results!C57","v":0},{"$f":"Results!B57","v":0},{"$f":"Results!D57","v":0},{"$f":"Results!G57","v":""},"- vs -",{"$f":"VLOOKUP(B54,Results!$A$8:$AG$60,30,FALSE)","v":{"$error":"#N/A"}},{"$f":"VLOOKUP(H54,Results!A$8:$G$60,3,FALSE)","v":{"$error":"#N/A"}},{"$f":"VLOOKUP(H54,Results!$A$8:$G$60,2,FALSE)","v":{"$error":"#N/A"}},{"$f":"VLOOKUP(H54,Results!$A$8:$G$60,4,FALSE)","v":{"$error":"#N/A"}},{"$f":"VLOOKUP(H54,Results!$A$8:$G$60,7,FALSE)","v":{"$error":"#N/A"}},{"$f":"VLOOKUP(H54,$B$4:B54,1,FALSE)","v":{"$error":"#N/A"}}]
[null,{"$f":"Results!A58","v":0},{"$f":"Results!C58","v":0},{"$f":"Results!B58","v":0},{"$f":"Results!D58","v":0},{"$f":"Results!G58","v":""},"- vs -",{"$f":"VLOOKUP(B55,Results!$A$8:$AG$60,30,FALSE)","v":{"$error":"#N/A"}},{"$f":"VLOOKUP(H55,Results!A$8:$G$60,3,FALSE)","v":{"$error":"#N/A"}},{"$f":"VLOOKUP(H55,Results!$A$8:$G$60,2,FALSE)","v":{"$error":"#N/A"}},{"$f":"VLOOKUP(H55,Results!$A$8:$G$60,4,FALSE)","v":{"$error":"#N/A"}},{"$f":"VLOOKUP(H55,Results!$A$8:$G$60,7,FALSE)","v":{"$error":"#N/A"}},{"$f":"VLOOKUP(H55,$B$4:B55,1,FALSE)","v":{"$error":"#N/A"}}]
[null,{"$f":"Results!A59","v":0},{"$f":"Results!C59","v":0},{"$f":"Results!B59","v":0},{"$f":"Results!D59","v":0},{"$f":"Results!G59","v":""},"- vs -",{"$f":"VLOOKUP(B56,Results!$A$8:$AG$60,30,FALSE)","v":{"$error":"#N/A"}},{"$f":"VLOOKUP(H56,Results!A$8:$G$60,3,FALSE)","v":{"$error":"#N/A"}},{"$f":"VLOOKUP(H56,Results!$A$8:$G$60,2,FALSE)","v":{"$error":"#N/A"}},{"$f":"VLOOKUP(H56,Results!$A$8:$G$60,4,FALSE)","v":{"$error":"#N/A"}},{"$f":"VLOOKUP(H56,Results!$A$8:$G$60,7,FALSE)","v":{"$error":"#N/A"}},{"$f":"VLOOKUP(H56,$B$4:B56,1,FALSE)","v":{"$error":"#N/A"}}]
[null,{"$f":"Results!A60","v":0},{"$f":"Results!C60","v":0},{"$f":"Results!B60","v":0},{"$f":"Results!D60","v":0},{"$f":"Results!G60","v":""},"- vs -",{"$f":"VLOOKUP(B57,Results!$A$8:$AG$60,30,FALSE)","v":{"$error":"#N/A"}},{"$f":"VLOOKUP(H57,Results!A$8:$G$60,3,FALSE)","v":{"$error":"#N/A"}},{"$f":"VLOOKUP(H57,Results!$A$8:$G$60,2,FALSE)","v":{"$error":"#N/A"}},{"$f":"VLOOKUP(H57,Results!$A$8:$G$60,4,FALSE)","v":{"$error":"#N/A"}},{"$f":"VLOOKUP(H57,Results!$A$8:$G$60,7,FALSE)","v":{"$error":"#N/A"}},{"$f":"VLOOKUP(H57,$B$4:B57,1,FALSE)","v":{"$error":"#N/A"}}]
[null,{"$f":"Results!A61","v":0},{"$f":"Results!C61","v":0},{"$f":"Results!B61","v":0},{"$f":"Results!D61","v":0},{"$f":"Results!G61","v":""},"- vs -",{"$f":"VLOOKUP(B58,Results!$A$8:$AG$60,30,FALSE)","v":{"$error":"#N/A"}},{"$f":"VLOOKUP(H58,Results!A$8:$G$60,3,FALSE)","v":{"$error":"#N/A"}},{"$f":"VLOOKUP(H58,Results!$A$8:$G$60,2,FALSE)","v":{"$error":"#N/A"}},{"$f":"VLOOKUP(H58,Results!$A$8:$G$60,4,FALSE)","v":{"$error":"#N/A"}},{"$f":"VLOOKUP(H58,Results!$A$8:$G$60,7,FALSE)","v":{"$error":"#N/A"}},{"$f":"VLOOKUP(H58,$B$4:B58,1,FALSE)","v":{"$error":"#N/A"}}]
[null,{"$f":"Results!A62","v":0},{"$f":"Results!C62","v":0},{"$f":"Results!B62","v":0},{"$f":"Results!D62","v":0},{"$f":"Results!G62","v":""},"- vs -",{"$f":"VLOOKUP(B59,Results!$A$8:$AG$60,30,FALSE)","v":{"$error":"#N/A"}},{"$f":"VLOOKUP(H59,Results!A$8:$G$60,3,FALSE)","v":{"$error":"#N/A"}},{"$f":"VLOOKUP(H59,Results!$A$8:$G$60,2,FALSE)","v":{"$error":"#N/A"}},{"$f":"VLOOKUP(H59,Results!$A$8:$G$60,4,FALSE)","v":{"$error":"#N/A"}},{"$f":"VLOOKUP(H59,Results!$A$8:$G$60,7,FALSE)","v":{"$error":"#N/A"}},{"$f":"VLOOKUP(H59,$B$4:B59,1,FALSE)","v":{"$error":"#N/A"}}]
[null,{"$f":"Results!A63","v":0},{"$f":"Results!C63","v":0},{"$f":"Results!B63","v":0},{"$f":"Results!D63","v":0},{"$f":"Results!G63","v":""},"- vs -",{"$f":"VLOOKUP(B60,Results!$A$8:$AG$60,30,FALSE)","v":{"$error":"#N/A"}},{"$f":"VLOOKUP(H60,Results!A$8:$G$60,3,FALSE)","v":{"$error":"#N/A"}},{"$f":"VLOOKUP(H60,Results!$A$8:$G$60,2,FALSE)","v":{"$error":"#N/A"}},{"$f":"VLOOKUP(H60,Results!$A$8:$G$60,4,FALSE)","v":{"$error":"#N/A"}},{"$f":"VLOOKUP(H60,Results!$A$8:$G$60,7,FALSE)","v":{"$error":"#N/A"}},{"$f":"VLOOKUP(H60,$B$4:B60,1,FALSE)","v":{"$error":"#N/A"}}]
[null,{"$f":"Results!A64","v":0},{"$f":"Results!C64","v":0},{"$f":"Results!B64","v":0},{"$f":"Results!D64","v":0},{"$f":"Results!G64","v":""},"- vs -",{"$f":"VLOOKUP(B61,Results!$A$8:$AG$60,30,FALSE)","v":{"$error":"#N/A"}},{"$f":"VLOOKUP(H61,Results!A$8:$G$60,3,FALSE)","v":{"$error":"#N/A"}},{"$f":"VLOOKUP(H61,Results!$A$8:$G$60,2,FALSE)","v":{"$error":"#N/A"}},{"$f":"VLOOKUP(H61,Results!$A$8:$G$60,4,FALSE)","v":{"$error":"#N/A"}},{"$f":"VLOOKUP(H61,Results!$A$8:$G$60,7,FALSE)","v":{"$error":"#N/A"}},{"$f":"VLOOKUP(H61,$B$4:B61,1,FALSE)","v":{"$error":"#N/A"}}]
[null,{"$f":"Results!A65","v":0},{"$f":"Results!C65","v":0},{"$f":"Results!B65","v":0},{"$f":"Results!D65","v":0},{"$f":"Results!G65","v":""},"- vs -",{"$f":"VLOOKUP(B62,Results!$A$8:$AG$60,30,FALSE)","v":{"$error":"#N/A"}},{"$f":"VLOOKUP(H62,Results!A$8:$G$60,3,FALSE)","v":{"$error":"#N/A"}},{"$f":"VLOOKUP(H62,Results!$A$8:$G$60,2,FALSE)","v":{"$error":"#N/A"}},{"$f":"VLOOKUP(H62,Results!$A$8:$G$60,4,FALSE)","v":{"$error":"#N/A"}},{"$f":"VLOOKUP(H62,Results!$A$8:$G$60,7,FALSE)","v":{"$error":"#N/A"}},{"$f":"VLOOKUP(H62,$B$4:B62,1,FALSE)","v":{"$error":"#N/A"}}]
[null,{"$f":"Results!A66","v":0},{"$f":"Results!C66","v":0},{"$f":"Results!B66","v":0},{"$f":"Results!D66","v":0},{"$f":"Results!G66","v":""},"- vs -",{"$f":"VLOOKUP(B63,Results!$A$8:$AG$60,30,FALSE)","v":{"$error":"#N/A"}},{"$f":"VLOOKUP(H63,Results!A$8:$G$60,3,FALSE)","v":{"$error":"#N/A"}},{"$f":"VLOOKUP(H63,Results!$A$8:$G$60,2,FALSE)","v":{"$error":"#N/A"}},{"$f":"VLOOKUP(H63,Results!$A$8:$G$60,4,FALSE)","v":{"$error":"#N/A"}},{"$f":"VLOOKUP(H63,Results!$A$8:$G$60,7,FALSE)","v":{"$error":"#N/A"}},{"$f":"VLOOKUP(H63,$B$4:B63,1,FALSE)","v":{"$error":"#N/A"}}]
[null,{"$f":"Results!A67","v":0},{"$f":"Results!C67","v":0},{"$f":"Results!B67","v":0},{"$f":"Results!D67","v":0},{"$f":"Results!G67","v":""},"- vs -",{"$f":"VLOOKUP(B64,Results!$A$8:$AG$60,30,FALSE)","v":{"$error":"#N/A"}},{"$f":"VLOOKUP(H64,Results!A$8:$G$60,3,FALSE)","v":{"$error":"#N/A"}},{"$f":"VLOOKUP(H64,Results!$A$8:$G$60,2,FALSE)","v":{"$error":"#N/A"}},{"$f":"VLOOKUP(H64,Results!$A$8:$G$60,4,FALSE)","v":{"$error":"#N/A"}},{"$f":"VLOOKUP(H64,Results!$A$8:$G$60,7,FALSE)","v":{"$error":"#N/A"}}]
[null,{"$f":"Results!A68","v":0},{"$f":"Results!C68","v":0},{"$f":"Results!B68","v":0},{"$f":"Results!D68","v":0},{"$f":"Results!G68","v":""},"- vs -",{"$f":"VLOOKUP(B65,Results!$A$8:$AG$60,30,FALSE)","v":{"$error":"#N/A"}},{"$f":"VLOOKUP(H65,Results!A$8:$G$60,3,FALSE)","v":{"$error":"#N/A"}},{"$f":"VLOOKUP(H65,Results!$A$8:$G$60,2,FALSE)","v":{"$error":"#N/A"}},{"$f":"VLOOKUP(H65,Results!$A$8:$G$60,4,FALSE)","v":{"$error":"#N/A"}},{"$f":"VLOOKUP(H65,Results!$A$8:$G$60,7,FALSE)","v":{"$error":"#N/A"}}]
[null,{"$f":"Results!A69","v":0},{"$f":"Results!C69","v":0},{"$f":"Results!B69","v":0},{"$f":"Results!D69","v":0},{"$f":"Results!G69","v":""},"- vs -",{"$f":"VLOOKUP(B66,Results!$A$8:$AG$60,30,FALSE)","v":{"$error":"#N/A"}},{"$f":"VLOOKUP(H66,Results!A$8:$G$60,3,FALSE)","v":{"$error":"#N/A"}},{"$f":"VLOOKUP(H66,Results!$A$8:$G$60,2,FALSE)","v":{"$error":"#N/A"}},{"$f":"VLOOKUP(H66,Results!$A$8:$G$60,4,FALSE)","v":{"$error":"#N/A"}},{"$f":"VLOOKUP(H66,Results!$A$8:$G$60,7,FALSE)","v":{"$error":"#N/A"}}]
[null,{"$f":"Results!A70","v":0},{"$f":"Results!C70","v":0},{"$f":"Results!B70","v":0},{"$f":"Results!D70","v":0},{"$f":"Results!G70","v":""},"- vs -",{"$f":"VLOOKUP(B67,Results!$A$8:$AG$60,30,FALSE)","v":{"$error":"#N/A"}},{"$f":"VLOOKUP(H67,Results!A$8:$G$60,3,FALSE)","v":{"$error":"#N/A"}},{"$f":"VLOOKUP(H67,Results!$A$8:$G$60,2,FALSE)","v":{"$error":"#N/A"}},{"$f":"VLOOKUP(H67,Results!$A$8:$G$60,4,FALSE)","v":{"$error":"#N/A"}},{"$f":"VLOOKUP(H67,Results!$A$8:$G$60,7,FALSE)","v":{"$error":"#N/A"}}]
[null,{"$f":"Results!A71","v":0},{"$f":"Results!C71","v":0},{"$f":"Results!B71","v":0},{"$f":"Results!D71","v":0},{"$f":"Results!G71","v":""},"- vs -",{"$f":"VLOOKUP(B68,Results!$A$8:$AG$60,30,FALSE)","v":{"$error":"#N/A"}},{"$f":"VLOOKUP(H68,Results!A$8:$G$60,3,FALSE)","v":{"$error":"#N/A"}},{"$f":"VLOOKUP(H68,Results!$A$8:$G$60,2,FALSE)","v":{"$error":"#N/A"}},{"$f":"VLOOKUP(H68,Results!$A$8:$G$60,4,FALSE)","v":{"$error":"#N/A"}},{"$f":"VLOOKUP(H68,Results!$A$8:$G$60,7,FALSE)","v":{"$error":"#N/A"}}]
[null,{"$f":"Results!A72","v":0},{"$f":"Results!C72","v":0},{"$f":"Results!B72","v":0},{"$f":"Results!D72","v":0},{"$f":"Results!G72","v":""},"- vs -",{"$f":"VLOOKUP(B69,Results!$A$8:$AG$60,30,FALSE)","v":{"$error":"#N/A"}},{"$f":"VLOOKUP(H69,Results!A$8:$G$60,3,FALSE)","v":{"$error":"#N/A"}},{"$f":"VLOOKUP(H69,Results!$A$8:$G$60,2,FALSE)","v":{"$error":"#N/A"}},{"$f":"VLOOKUP(H69,Results!$A$8:$G$60,4,FALSE)","v":{"$error":"#N/A"}},{"$f":"VLOOKUP(H69,Results!$A$8:$G$60,7,FALSE)","v":{"$error":"#N/A"}}]

{"sheet":"Round 5","index":13,"n_rows":69,"n_cols":13,"rows_kept":69,"cut":false,"hidden":false,"merged":[]}
[null,null,null,null,"Round 5 Draw"]
[null,null,{"$f":"Results!B3","v":"Warfare"}]
[null,null,{"$f":"Results!B4","v":"Période Ancienne"}]
[null,null,null,null,null,null,null,null,null,null,null,null,"VALID?"]
[null,{"$f":"Results!A8","v":0},{"$f":"Results!C8","v":0},{"$f":"Results!B8","v":0},{"$f":"Results!D8","v":0},{"$f":"Results!G8","v":""},"- vs -",{"$f":"VLOOKUP(B5,Results!$A$8:AK59,37,FALSE)","v":{"$error":"#N/A"}},{"$f":"VLOOKUP(H5,Results!A$8:G60,3,FALSE)","v":{"$error":"#N/A"}},{"$f":"VLOOKUP(H5,Results!$A$8:G60,2,FALSE)","v":{"$error":"#N/A"}},{"$f":"VLOOKUP(H5,Results!$A$8:G60,4,FALSE)","v":{"$error":"#N/A"}},{"$f":"VLOOKUP(H5,Results!$A$8:G60,7,FALSE)","v":{"$error":"#N/A"}},{"$f":"VLOOKUP(H5,$B$4:B5,1,FALSE)","v":{"$error":"#N/A"}}]
[null,{"$f":"Results!A9","v":0},{"$f":"Results!C9","v":0},{"$f":"Results!B9","v":0},{"$f":"Results!D9","v":0},{"$f":"Results!G9","v":""},"- vs -",{"$f":"VLOOKUP(B6,Results!$A$8:AK60,37,FALSE)","v":{"$error":"#N/A"}},{"$f":"VLOOKUP(H6,Results!A$8:G61,3,FALSE)","v":{"$error":"#N/A"}},{"$f":"VLOOKUP(H6,Results!$A$8:G61,2,FALSE)","v":{"$error":"#N/A"}},{"$f":"VLOOKUP(H6,Results!$A$8:G61,4,FALSE)","v":{"$error":"#N/A"}},{"$f":"VLOOKUP(H6,Results!$A$8:G61,7,FALSE)","v":{"$error":"#N/A"}},{"$f":"VLOOKUP(H6,$B$4:B6,1,FALSE)","v":{"$error":"#N/A"}}]
[null,{"$f":"Results!A10","v":0},{"$f":"Results!C10","v":0},{"$f":"Results!B10","v":0},{"$f":"Results!D10","v":0},{"$f":"Results!G10","v":""},"- vs -",{"$f":"VLOOKUP(B7,Results!$A$8:AK61,37,FALSE)","v":{"$error":"#N/A"}},{"$f":"VLOOKUP(H7,Results!A$8:G62,3,FALSE)","v":{"$error":"#N/A"}},{"$f":"VLOOKUP(H7,Results!$A$8:G62,2,FALSE)","v":{"$error":"#N/A"}},{"$f":"VLOOKUP(H7,Results!$A$8:G62,4,FALSE)","v":{"$error":"#N/A"}},{"$f":"VLOOKUP(H7,Results!$A$8:G62,7,FALSE)","v":{"$error":"#N/A"}},{"$f":"VLOOKUP(H7,$B$4:B7,1,FALSE)","v":{"$error":"#N/A"}}]
[null,{"$f":"Results!A11","v":0},{"$f":"Results!C11","v":0},{"$f":"Results!B11","v":0},{"$f":"Results!D11","v":0},{"$f":"Results!G11","v":""},"- vs -",{"$f":"VLOOKUP(B8,Results!$A$8:AK62,37,FALSE)","v":{"$error":"#N/A"}},{"$f":"VLOOKUP(H8,Results!A$8:G63,3,FALSE)","v":{"$error":"#N/A"}},{"$f":"VLOOKUP(H8,Results!$A$8:G63,2,FALSE)","v":{"$error":"#N/A"}},{"$f":"VLOOKUP(H8,Results!$A$8:G63,4,FALSE)","v":{"$error":"#N/A"}},{"$f":"VLOOKUP(H8,Results!$A$8:G63,7,FALSE)","v":{"$error":"#N/A"}},{"$f":"VLOOKUP(H8,$B$4:B8,1,FALSE)","v":{"$error":"#N/A"}}]
[null,{"$f":"Results!A12","v":0},{"$f":"Results!C12","v":0},{"$f":"Results!B12","v":0},{"$f":"Results!D12","v":0},{"$f":"Results!G12","v":""},"- vs -",{"$f":"VLOOKUP(B9,Results!$A$8:AK63,37,FALSE)","v":{"$error":"#N/A"}},{"$f":"VLOOKUP(H9,Results!A$8:G64,3,FALSE)","v":{"$error":"#N/A"}},{"$f":"VLOOKUP(H9,Results!$A$8:G64,2,FALSE)","v":{"$error":"#N/A"}},{"$f":"VLOOKUP(H9,Results!$A$8:G64,4,FALSE)","v":{"$error":"#N/A"}},{"$f":"VLOOKUP(H9,Results!$A$8:G64,7,FALSE)","v":{"$error":"#N/A"}},{"$f":"VLOOKUP(H9,$B$4:B9,1,FALSE)","v":{"$error":"#N/A"}}]
[null,{"$f":"Results!A13","v":0},{"$f":"Results!C13","v":0},{"$f":"Results!B13","v":0},{"$f":"Results!D13","v":0},{"$f":"Results!G13","v":""},"- vs -",{"$f":"VLOOKUP(B10,Results!$A$8:AK64,37,FALSE)","v":{"$error":"#N/A"}},{"$f":"VLOOKUP(H10,Results!A$8:G65,3,FALSE)","v":{"$error":"#N/A"}},{"$f":"VLOOKUP(H10,Results!$A$8:G65,2,FALSE)","v":{"$error":"#N/A"}},{"$f":"VLOOKUP(H10,Results!$A$8:G65,4,FALSE)","v":{"$error":"#N/A"}},{"$f":"VLOOKUP(H10,Results!$A$8:G65,7,FALSE)","v":{"$error":"#N/A"}},{"$f":"VLOOKUP(H10,$B$4:B10,1,FALSE)","v":{"$error":"#N/A"}}]
[null,{"$f":"Results!A14","v":0},{"$f":"Results!C14","v":0},{"$f":"Results!B14","v":0},{"$f":"Results!D14","v":0},{"$f":"Results!G14","v":""},"- vs -",{"$f":"VLOOKUP(B11,Results!$A$8:AK65,37,FALSE)","v":{"$error":"#N/A"}},{"$f":"VLOOKUP(H11,Results!A$8:G66,3,FALSE)","v":{"$error":"#N/A"}},{"$f":"VLOOKUP(H11,Results!$A$8:G66,2,FALSE)","v":{"$error":"#N/A"}},{"$f":"VLOOKUP(H11,Results!$A$8:G66,4,FALSE)","v":{"$error":"#N/A"}},{"$f":"VLOOKUP(H11,Results!$A$8:G66,7,FALSE)","v":{"$error":"#N/A"}},{"$f":"VLOOKUP(H11,$B$4:B11,1,FALSE)","v":{"$error":"#N/A"}}]
[null,{"$f":"Results!A15","v":0},{"$f":"Results!C15","v":0},{"$f":"Results!B15","v":0},{"$f":"Results!D15","v":0},{"$f":"Results!G15","v":""},"- vs -",{"$f":"VLOOKUP(B12,Results!$A$8:AK66,37,FALSE)","v":{"$error":"#N/A"}},{"$f":"VLOOKUP(H12,Results!A$8:G67,3,FALSE)","v":{"$error":"#N/A"}},{"$f":"VLOOKUP(H12,Results!$A$8:G67,2,FALSE)","v":{"$error":"#N/A"}},{"$f":"VLOOKUP(H12,Results!$A$8:G67,4,FALSE)","v":{"$error":"#N/A"}},{"$f":"VLOOKUP(H12,Results!$A$8:G67,7,FALSE)","v":{"$error":"#N/A"}},{"$f":"VLOOKUP(H12,$B$4:B12,1,FALSE)","v":{"$error":"#N/A"}}]
[null,{"$f":"Results!A16","v":0},{"$f":"Results!C16","v":0},{"$f":"Results!B16","v":0},{"$f":"Results!D16","v":0},{"$f":"Results!G16","v":""},"- vs -",{"$f":"VLOOKUP(B13,Results!$A$8:AK67,37,FALSE)","v":{"$error":"#N/A"}},{"$f":"VLOOKUP(H13,Results!A$8:G68,3,FALSE)","v":{"$error":"#N/A"}},{"$f":"VLOOKUP(H13,Results!$A$8:G68,2,FALSE)","v":{"$error":"#N/A"}},{"$f":"VLOOKUP(H13,Results!$A$8:G68,4,FALSE)","v":{"$error":"#N/A"}},{"$f":"VLOOKUP(H13,Results!$A$8:G68,7,FALSE)","v":{"$error":"#N/A"}},{"$f":"VLOOKUP(H13,$B$4:B13,1,FALSE)","v":{"$error":"#N/A"}}]
[null,{"$f":"Results!A17","v":0},{"$f":"Results!C17","v":0},{"$f":"Results!B17","v":0},{"$f":"Results!D17","v":0},{"$f":"Results!G17","v":""},"- vs -",{"$f":"VLOOKUP(B14,Results!$A$8:AK68,37,FALSE)","v":{"$error":"#N/A"}},{"$f":"VLOOKUP(H14,Results!A$8:G69,3,FALSE)","v":{"$error":"#N/A"}},{"$f":"VLOOKUP(H14,Results!$A$8:G69,2,FALSE)","v":{"$error":"#N/A"}},{"$f":"VLOOKUP(H14,Results!$A$8:G69,4,FALSE)","v":{"$error":"#N/A"}},{"$f":"VLOOKUP(H14,Results!$A$8:G69,7,FALSE)","v":{"$error":"#N/A"}},{"$f":"VLOOKUP(H14,$B$4:B14,1,FALSE)","v":{"$error":"#N/A"}}]
[null,{"$f":"Results!A18","v":0},{"$f":"Results!C18","v":0},{"$f":"Results!B18","v":0},{"$f":"Results!D18","v":0},{"$f":"Results!G18","v":""},"- vs -",{"$f":"VLOOKUP(B15,Results!$A$8:AK69,37,FALSE)","v":{"$error":"#N/A"}},{"$f":"VLOOKUP(H15,Results!A$8:G70,3,FALSE)","v":{"$error":"#N/A"}},{"$f":"VLOOKUP(H15,Results!$A$8:G70,2,FALSE)","v":{"$error":"#N/A"}},{"$f":"VLOOKUP(H15,Results!$A$8:G70,4,FALSE)","v":{"$error":"#N/A"}},{"$f":"VLOOKUP(H15,Results!$A$8:G70,7,FALSE)","v":{"$error":"#N/A"}},{"$f":"VLOOKUP(H15,$B$4:B15,1,FALSE)","v":{"$error":"#N/A"}}]
[null,{"$f":"Results!A19","v":0},{"$f":"Results!C19","v":0},{"$f":"Results!B19","v":0},{"$f":"Results!D19","v":0},{"$f":"Results!G19","v":""},"- vs -",{"$f":"VLOOKUP(B16,Results!$A$8:AK70,37,FALSE)","v":{"$error":"#N/A"}},{"$f":"VLOOKUP(H16,Results!A$8:G71,3,FALSE)","v":{"$error":"#N/A"}},{"$f":"VLOOKUP(H16,Results!$A$8:G71,2,FALSE)","v":{"$error":"#N/A"}},{"$f":"VLOOKUP(H16,Results!$A$8:G71,4,FALSE)","v":{"$error":"#N/A"}},{"$f":"VLOOKUP(H16,Results!$A$8:G71,7,FALSE)","v":{"$error":"#N/A"}},{"$f":"VLOOKUP(H16,$B$4:B16,1,FALSE)","v":{"$error":"#N/A"}}]
[null,{"$f":"Results!A20","v":0},{"$f":"Results!C20","v":0},{"$f":"Results!B20","v":0},{"$f":"Results!D20","v":0},{"$f":"Results!G20","v":""},"- vs -",{"$f":"VLOOKUP(B17,Results!$A$8:AK71,37,FALSE)","v":{"$error":"#N/A"}},{"$f":"VLOOKUP(H17,Results!A$8:G72,3,FALSE)","v":{"$error":"#N/A"}},{"$f":"VLOOKUP(H17,Results!$A$8:G72,2,FALSE)","v":{"$error":"#N/A"}},{"$f":"VLOOKUP(H17,Results!$A$8:G72,4,FALSE)","v":{"$error":"#N/A"}},{"$f":"VLOOKUP(H17,Results!$A$8:G72,7,FALSE)","v":{"$error":"#N/A"}},{"$f":"VLOOKUP(H17,$B$4:B17,1,FALSE)","v":{"$error":"#N/A"}}]
[null,{"$f":"Results!A21","v":0},{"$f":"Results!C21","v":0},{"$f":"Results!B21","v":0},{"$f":"Results!D21","v":0},{"$f":"Results!G21","v":""},"- vs -",{"$f":"VLOOKUP(B18,Results!$A$8:AK72,37,FALSE)","v":{"$error":"#N/A"}},{"$f":"VLOOKUP(H18,Results!A$8:G73,3,FALSE)","v":{"$error":"#N/A"}},{"$f":"VLOOKUP(H18,Results!$A$8:G73,2,FALSE)","v":{"$error":"#N/A"}},{"$f":"VLOOKUP(H18,Results!$A$8:G73,4,FALSE)","v":{"$error":"#N/A"}},{"$f":"VLOOKUP(H18,Results!$A$8:G73,7,FALSE)","v":{"$error":"#N/A"}},{"$f":"VLOOKUP(H18,$B$4:B18,1,FALSE)","v":{"$error":"#N/A"}}]
[null,{"$f":"Results!A22","v":0},{"$f":"Results!C22","v":0},{"$f":"Results!B22","v":0},{"$f":"Results!D22","v":0},{"$f":"Results!G22","v":""},"- vs -",{"$f":"VLOOKUP(B19,Results!$A$8:AK73,37,FALSE)","v":{"$error":"#N/A"}},{"$f":"VLOOKUP(H19,Results!A$8:G74,3,FALSE)","v":{"$error":"#N/A"}},{"$f":"VLOOKUP(H19,Results!$A$8:G74,2,FALSE)","v":{"$error":"#N/A"}},{"$f":"VLOOKUP(H19,Results!$A$8:G74,4,FALSE)","v":{"$error":"#N/A"}},{"$f":"VLOOKUP(H19,Results!$A$8:G74,7,FALSE)","v":{"$error":"#N/A"}},{"$f":"VLOOKUP(H19,$B$4:B19,1,FALSE)","v":{"$error":"#N/A"}}]
[null,{"$f":"Results!A23","v":0},{"$f":"Results!C23","v":0},{"$f":"Results!B23","v":0},{"$f":"Results!D23","v":0},{"$f":"Results!G23","v":""},"- vs -",{"$f":"VLOOKUP(B20,Results!$A$8:AK74,37,FALSE)","v":{"$error":"#N/A"}},{"$f":"VLOOKUP(H20,Results!A$8:G75,3,FALSE)","v":{"$error":"#N/A"}},{"$f":"VLOOKUP(H20,Results!$A$8:G75,2,FALSE)","v":{"$error":"#N/A"}},{"$f":"VLOOKUP(H20,Results!$A$8:G75,4,FALSE)","v":{"$error":"#N/A"}},{"$f":"VLOOKUP(H20,Results!$A$8:G75,7,FALSE)","v":{"$error":"#N/A"}},{"$f":"VLOOKUP(H20,$B$4:B20,1,FALSE)","v":{"$error":"#N/A"}}]
[null,{"$f":"Results!A24","v":0},{"$f":"Results!C24","v":0},{"$f":"Results!B24","v":0},{"$f":"Results!D24","v":0},{"$f":"Results!G24","v":""},"- vs -",{"$f":"VLOOKUP(B21,Results!$A$8:AK75,37,FALSE)","v":{"$error":"#N/A"}},{"$f":"VLOOKUP(H21,Results!A$8:G76,3,FALSE)","v":{"$error":"#N/A"}},{"$f":"VLOOKUP(H21,Results!$A$8:G76,2,FALSE)","v":{"$error":"#N/A"}},{"$f":"VLOOKUP(H21,Results!$A$8:G76,4,FALSE)","v":{"$error":"#N/A"}},{"$f":"VLOOKUP(H21,Results!$A$8:G76,7,FALSE)","v":{"$error":"#N/A"}},{"$f":"VLOOKUP(H21,$B$4:B21,1,FALSE)","v":{"$error":"#N/A"}}]
[null,{"$f":"Results!A25","v":0},{"$f":"Results!C25","v":0},{"$f":"Results!B25","v":0},{"$f":"Results!D25","v":0},{"$f":"Results!G25","v":""},"- vs -",{"$f":"VLOOKUP(B22,Results!$A$8:AK76,37,FALSE)","v":{"$error":"#N/A"}},{"$f":"VLOOKUP(H22,Results!A$8:G77,3,FALSE)","v":{"$error":"#N/A"}},{"$f":"VLOOKUP(H22,Results!$A$8:G77,2,FALSE)","v":{"$error":"#N/A"}},{"$f":"VLOOKUP(H22,Results!$A$8:G77,4,FALSE)","v":{"$error":"#N/A"}},{"$f":"VLOOKUP(H22,Results!$A$8:G77,7,FALSE)","v":{"$error":"#N/A"}},{"$f":"VLOOKUP(H22,$B$4:B22,1,FALSE)","v":{"$error":"#N/A"}}]
[null,{"$f":"Results!A26","v":0},{"$f":"Results!C26","v":0},{"$f":"Results!B26","v":0},{"$f":"Results!D26","v":0},{"$f":"Results!G26","v":""},"- vs -",{"$f":"VLOOKUP(B23,Results!$A$8:AK77,37,FALSE)","v":{"$error":"#N/A"}},{"$f":"VLOOKUP(H23,Results!A$8:G78,3,FALSE)","v":{"$error":"#N/A"}},{"$f":"VLOOKUP(H23,Results!$A$8:G78,2,FALSE)","v":{"$error":"#N/A"}},{"$f":"VLOOKUP(H23,Results!$A$8:G78,4,FALSE)","v":{"$error":"#N/A"}},{"$f":"VLOOKUP(H23,Results!$A$8:G78,7,FALSE)","v":{"$error":"#N/A"}},{"$f":"VLOOKUP(H23,$B$4:B23,1,FALSE)","v":{"$error":"#N/A"}}]
[null,{"$f":"Results!A27","v":0},{"$f":"Results!C27","v":0},{"$f":"Results!B27","v":0},{"$f":"Results!D27","v":0},{"$f":"Results!G27","v":""},"- vs -",{"$f":"VLOOKUP(B24,Results!$A$8:AK78,37,FALSE)","v":{"$error":"#N/A"}},{"$f":"VLOOKUP(H24,Results!A$8:G79,3,FALSE)","v":{"$error":"#N/A"}},{"$f":"VLOOKUP(H24,Results!$A$8:G79,2,FALSE)","v":{"$error":"#N/A"}},{"$f":"VLOOKUP(H24,Results!$A$8:G79,4,FALSE)","v":{"$error":"#N/A"}},{"$f":"VLOOKUP(H24,Results!$A$8:G79,7,FALSE)","v":{"$error":"#N/A"}},{"$f":"VLOOKUP(H24,$B$4:B24,1,FALSE)","v":{"$error":"#N/A"}}]
[null,{"$f":"Results!A28","v":0},{"$f":"Results!C28","v":0},{"$f":"Results!B28","v":0},{"$f":"Results!D28","v":0},{"$f":"Results!G28","v":""},"- vs -",{"$f":"VLOOKUP(B25,Results!$A$8:AK79,37,FALSE)","v":{"$error":"#N/A"}},{"$f":"VLOOKUP(H25,Results!A$8:G80,3,FALSE)","v":{"$error":"#N/A"}},{"$f":"VLOOKUP(H25,Results!$A$8:G80,2,FALSE)","v":{"$error":"#N/A"}},{"$f":"VLOOKUP(H25,Results!$A$8:G80,4,FALSE)","v":{"$error":"#N/A"}},{"$f":"VLOOKUP(H25,Results!$A$8:G80,7,FALSE)","v":{"$error":"#N/A"}},{"$f":"VLOOKUP(H25,$B$4:B25,1,FALSE)","v":{"$error":"#N/A"}}]
[null,{"$f":"Results!A29","v":0},{"$f":"Results!C29","v":0},{"$f":"Results!B29","v":0},{"$f":"Results!D29","v":0},{"$f":"Results!G29","v":""},"- vs -",{"$f":"VLOOKUP(B26,Results!$A$8:AK80,37,FALSE)","v":{"$error":"#N/A"}},{"$f":"VLOOKUP(H26,Results!A$8:G81,3,FALSE)","v":{"$error":"#N/A"}},{"$f":"VLOOKUP(H26,Results!$A$8:G81,2,FALSE)","v":{"$error":"#N/A"}},{"$f":"VLOOKUP(H26,Results!$A$8:G81,4,FALSE)","v":{"$error":"#N/A"}},{"$f":"VLOOKUP(H26,Results!$A$8:G81,7,FALSE)","v":{"$error":"#N/A"}},{"$f":"VLOOKUP(H26,$B$4:B26,1,FALSE)","v":{"$error":"#N/A"}}]
[null,{"$f":"Results!A30","v":0},{"$f":"Results!C30","v":0},{"$f":"Results!B30","v":0},{"$f":"Results!D30","v":0},{"$f":"Results!G30","v":""},"- vs -",{"$f":"VLOOKUP(B27,Results!$A$8:AK81,37,FALSE)","v":{"$error":"#N/A"}},{"$f":"VLOOKUP(H27,Results!A$8:G82,3,FALSE)","v":{"$error":"#N/A"}},{"$f":"VLOOKUP(H27,Results!$A$8:G82,2,FALSE)","v":{"$error":"#N/A"}},{"$f":"VLOOKUP(H27,Results!$A$8:G82,4,FALSE)","v":{"$error":"#N/A"}},{"$f":"VLOOKUP(H27,Results!$A$8:G82,7,FALSE)","v":{"$error":"#N/A"}},{"$f":"VLOOKUP(H27,$B$4:B27,1,FALSE)","v":{"$error":"#N/A"}}]
[null,{"$f":"Results!A31","v":0},{"$f":"Results!C31","v":0},{"$f":"Results!B31","v":0},{"$f":"Results!D31","v":0},{"$f":"Results!G31","v":""},"- vs -",{"$f":"VLOOKUP(B28,Results!$A$8:AK82,37,FALSE)","v":{"$error":"#N/A"}},{"$f":"VLOOKUP(H28,Results!A$8:G83,3,FALSE)","v":{"$error":"#N/A"}},{"$f":"VLOOKUP(H28,Results!$A$8:G83,2,FALSE)","v":{"$error":"#N/A"}},{"$f":"VLOOKUP(H28,Results!$A$8:G83,4,FALSE)","v":{"$error":"#N/A"}},{"$f":"VLOOKUP(H28,Results!$A$8:G83,7,FALSE)","v":{"$error":"#N/A"}},{"$f":"VLOOKUP(H28,$B$4:B28,1,FALSE)","v":{"$error":"#N/A"}}]
[null,{"$f":"Results!A32","v":0},{"$f":"Results!C32","v":0},{"$f":"Results!B32","v":0},{"$f":"Results!D32","v":0},{"$f":"Results!G32","v":""},"- vs -",{"$f":"VLOOKUP(B29,Results!$A$8:AK83,37,FALSE)","v":{"$error":"#N/A"}},{"$f":"VLOOKUP(H29,Results!A$8:G84,3,FALSE)","v":{"$error":"#N/A"}},{"$f":"VLOOKUP(H29,Results!$A$8:G84,2,FALSE)","v":{"$error":"#N/A"}},{"$f":"VLOOKUP(H29,Results!$A$8:G84,4,FALSE)","v":{"$error":"#N/A"}},{"$f":"VLOOKUP(H29,Results!$A$8:G84,7,FALSE)","v":{"$error":"#N/A"}},{"$f":"VLOOKUP(H29,$B$4:B29,1,FALSE)","v":{"$error":"#N/A"}}]
[null,{"$f":"Results!A33","v":0},{"$f":"Results!C33","v":0},{"$f":"Results!B33","v":0},{"$f":"Results!D33","v":0},{"$f":"Results!G33","v":""},"- vs -",{"$f":"VLOOKUP(B30,Results!$A$8:AK84,37,FALSE)","v":{"$error":"#N/A"}},{"$f":"VLOOKUP(H30,Results!A$8:G85,3,FALSE)","v":{"$error":"#N/A"}},{"$f":"VLOOKUP(H30,Results!$A$8:G85,2,FALSE)","v":{"$error":"#N/A"}},{"$f":"VLOOKUP(H30,Results!$A$8:G85,4,FALSE)","v":{"$error":"#N/A"}},{"$f":"VLOOKUP(H30,Results!$A$8:G85,7,FALSE)","v":{"$error":"#N/A"}},{"$f":"VLOOKUP(H30,$B$4:B30,1,FALSE)","v":{"$error":"#N/A"}}]
[null,{"$f":"Results!A34","v":0},{"$f":"Results!C34","v":0},{"$f":"Results!B34","v":0},{"$f":"Results!D34","v":0},{"$f":"Results!G34","v":""},"- vs -",{"$f":"VLOOKUP(B31,Results!$A$8:AK85,37,FALSE)","v":{"$error":"#N/A"}},{"$f":"VLOOKUP(H31,Results!A$8:G86,3,FALSE)","v":{"$error":"#N/A"}},{"$f":"VLOOKUP(H31,Results!$A$8:G86,2,FALSE)","v":{"$error":"#N/A"}},{"$f":"VLOOKUP(H31,Results!$A$8:G86,4,FALSE)","v":{"$error":"#N/A"}},{"$f":"VLOOKUP(H31,Results!$A$8:G86,7,FALSE)","v":{"$error":"#N/A"}},{"$f":"VLOOKUP(H31,$B$4:B31,1,FALSE)","v":{"$error":"#N/A"}}]
[null,{"$f":"Results!A35","v":0},{"$f":"Results!C35","v":0},{"$f":"Results!B35","v":0},{"$f":"Results!D35","v":0},{"$f":"Results!G35","v":""},"- vs -",{"$f":"VLOOKUP(B32,Results!$A$8:AK86,37,FALSE)","v":{"$error":"#N/A"}},{"$f":"VLOOKUP(H32,Results!A$8:G87,3,FALSE)","v":{"$error":"#N/A"}},{"$f":"VLOOKUP(H32,Results!$A$8:G87,2,FALSE)","v":{"$error":"#N/A"}},{"$f":"VLOOKUP(H32,Results!$A$8:G87,4,FALSE)","v":{"$error":"#N/A"}},{"$f":"VLOOKUP(H32,Results!$A$8:G87,7,FALSE)","v":{"$error":"#N/A"}},{"$f":"VLOOKUP(H32,$B$4:B32,1,FALSE)","v":{"$error":"#N/A"}}]
[null,{"$f":"Results!A36","v":0},{"$f":"Results!C36","v":0},{"$f":"Results!B36","v":0},{"$f":"Results!D36","v":0},{"$f":"Results!G36","v":""},"- vs -",{"$f":"VLOOKUP(B33,Results!$A$8:AK87,37,FALSE)","v":{"$error":"#N/A"}},{"$f":"VLOOKUP(H33,Results!A$8:G88,3,FALSE)","v":{"$error":"#N/A"}},{"$f":"VLOOKUP(H33,Results!$A$8:G88,2,FALSE)","v":{"$error":"#N/A"}},{"$f":"VLOOKUP(H33,Results!$A$8:G88,4,FALSE)","v":{"$error":"#N/A"}},{"$f":"VLOOKUP(H33,Results!$A$8:G88,7,FALSE)","v":{"$error":"#N/A"}},{"$f":"VLOOKUP(H33,$B$4:B33,1,FALSE)","v":{"$error":"#N/A"}}]
[null,{"$f":"Results!A37","v":0},{"$f":"Results!C37","v":0},{"$f":"Results!B37","v":0},{"$f":"Results!D37","v":0},{"$f":"Results!G37","v":""},"- vs -",{"$f":"VLOOKUP(B34,Results!$A$8:AK88,37,FALSE)","v":{"$error":"#N/A"}},{"$f":"VLOOKUP(H34,Results!A$8:G89,3,FALSE)","v":{"$error":"#N/A"}},{"$f":"VLOOKUP(H34,Results!$A$8:G89,2,FALSE)","v":{"$error":"#N/A"}},{"$f":"VLOOKUP(H34,Results!$A$8:G89,4,FALSE)","v":{"$error":"#N/A"}},{"$f":"VLOOKUP(H34,Results!$A$8:G89,7,FALSE)","v":{"$error":"#N/A"}},{"$f":"VLOOKUP(H34,$B$4:B34,1,FALSE)","v":{"$error":"#N/A"}}]
[null,{"$f":"Results!A38","v":0},{"$f":"Results!C38","v":0},{"$f":"Results!B38","v":0},{"$f":"Results!D38","v":0},{"$f":"Results!G38","v":""},"- vs -",{"$f":"VLOOKUP(B35,Results!$A$8:AK89,37,FALSE)","v":{"$error":"#N/A"}},{"$f":"VLOOKUP(H35,Results!A$8:G90,3,FALSE)","v":{"$error":"#N/A"}},{"$f":"VLOOKUP(H35,Results!$A$8:G90,2,FALSE)","v":{"$error":"#N/A"}},{"$f":"VLOOKUP(H35,Results!$A$8:G90,4,FALSE)","v":{"$error":"#N/A"}},{"$f":"VLOOKUP(H35,Results!$A$8:G90,7,FALSE)","v":{"$error":"#N/A"}},{"$f":"VLOOKUP(H35,$B$4:B35,1,FALSE)","v":{"$error":"#N/A"}}]
[null,{"$f":"Results!A39","v":0},{"$f":"Results!C39","v":0},{"$f":"Results!B39","v":0},{"$f":"Results!D39","v":0},{"$f":"Results!G39","v":""},"- vs -",{"$f":"VLOOKUP(B36,Results!$A$8:AK90,37,FALSE)","v":{"$error":"#N/A"}},{"$f":"VLOOKUP(H36,Results!A$8:G91,3,FALSE)","v":{"$error":"#N/A"}},{"$f":"VLOOKUP(H36,Results!$A$8:G91,2,FALSE)","v":{"$error":"#N/A"}},{"$f":"VLOOKUP(H36,Results!$A$8:G91,4,FALSE)","v":{"$error":"#N/A"}},{"$f":"VLOOKUP(H36,Results!$A$8:G91,7,FALSE)","v":{"$error":"#N/A"}},{"$f":"VLOOKUP(H36,$B$4:B36,1,FALSE)","v":{"$error":"#N/A"}}]
[null,{"$f":"Results!A40","v":0},{"$f":"Results!C40","v":0},{"$f":"Results!B40","v":0},{"$f":"Results!D40","v":0},{"$f":"Results!G40","v":""},"- vs -",{"$f":"VLOOKUP(B37,Results!$A$8:AK91,37,FALSE)","v":{"$error":"#N/A"}},{"$f":"VLOOKUP(H37,Results!A$8:G92,3,FALSE)","v":{"$error":"#N/A"}},{"$f":"VLOOKUP(H37,Results!$A$8:G92,2,FALSE)","v":{"$error":"#N/A"}},{"$f":"VLOOKUP(H37,Results!$A$8:G92,4,FALSE)","v":{"$error":"#N/A"}},{"$f":"VLOOKUP(H37,Results!$A$8:G92,7,FALSE)","v":{"$error":"#N/A"}},{"$f":"VLOOKUP(H37,$B$4:B37,1,FALSE)","v":{"$error":"#N/A"}}]
[null,{"$f":"Results!A41","v":0},{"$f":"Results!C41","v":0},{"$f":"Results!B41","v":0},{"$f":"Results!D41","v":0},{"$f":"Results!G41","v":""},"- vs -",{"$f":"VLOOKUP(B38,Results!$A$8:AK92,37,FALSE)","v":{"$error":"#N/A"}},{"$f":"VLOOKUP(H38,Results!A$8:G93,3,FALSE)","v":{"$error":"#N/A"}},{"$f":"VLOOKUP(H38,Results!$A$8:G93,2,FALSE)","v":{"$error":"#N/A"}},{"$f":"VLOOKUP(H38,Results!$A$8:G93,4,FALSE)","v":{"$error":"#N/A"}},{"$f":"VLOOKUP(H38,Results!$A$8:G93,7,FALSE)","v":{"$error":"#N/A"}},{"$f":"VLOOKUP(H38,$B$4:B38,1,FALSE)","v":{"$error":"#N/A"}}]
[null,{"$f":"Results!A42","v":0},{"$f":"Results!C42","v":0},{"$f":"Results!B42","v":0},{"$f":"Results!D42","v":0},{"$f":"Results!G42","v":""},"- vs -",{"$f":"VLOOKUP(B39,Results!$A$8:AK93,37,FALSE)","v":{"$error":"#N/A"}},{"$f":"VLOOKUP(H39,Results!A$8:G94,3,FALSE)","v":{"$error":"#N/A"}},{"$f":"VLOOKUP(H39,Results!$A$8:G94,2,FALSE)","v":{"$error":"#N/A"}},{"$f":"VLOOKUP(H39,Results!$A$8:G94,4,FALSE)","v":{"$error":"#N/A"}},{"$f":"VLOOKUP(H39,Results!$A$8:G94,7,FALSE)","v":{"$error":"#N/A"}},{"$f":"VLOOKUP(H39,$B$4:B39,1,FALSE)","v":{"$error":"#N/A"}}]
[null,{"$f":"Results!A43","v":0},{"$f":"Results!C43","v":0},{"$f":"Results!B43","v":0},{"$f":"Results!D43","v":0},{"$f":"Results!G43","v":""},"- vs -",{"$f":"VLOOKUP(B40,Results!$A$8:AK94,37,FALSE)","v":{"$error":"#N/A"}},{"$f":"VLOOKUP(H40,Results!A$8:G95,3,FALSE)","v":{"$error":"#N/A"}},{"$f":"VLOOKUP(H40,Results!$A$8:G95,2,FALSE)","v":{"$error":"#N/A"}},{"$f":"VLOOKUP(H40,Results!$A$8:G95,4,FALSE)","v":{"$error":"#N/A"}},{"$f":"VLOOKUP(H40,Results!$A$8:G95,7,FALSE)","v":{"$error":"#N/A"}},{"$f":"VLOOKUP(H40,$B$4:B40,1,FALSE)","v":{"$error":"#N/A"}}]
[null,{"$f":"Results!A44","v":0},{"$f":"Results!C44","v":0},{"$f":"Results!B44","v":0},{"$f":"Results!D44","v":0},{"$f":"Results!G44","v":""},"- vs -",{"$f":"VLOOKUP(B41,Results!$A$8:AK95,37,FALSE)","v":{"$error":"#N/A"}},{"$f":"VLOOKUP(H41,Results!A$8:G96,3,FALSE)","v":{"$error":"#N/A"}},{"$f":"VLOOKUP(H41,Results!$A$8:G96,2,FALSE)","v":{"$error":"#N/A"}},{"$f":"VLOOKUP(H41,Results!$A$8:G96,4,FALSE)","v":{"$error":"#N/A"}},{"$f":"VLOOKUP(H41,Results!$A$8:G96,7,FALSE)","v":{"$error":"#N/A"}},{"$f":"VLOOKUP(H41,$B$4:B41,1,FALSE)","v":{"$error":"#N/A"}}]
[null,{"$f":"Results!A45","v":0},{"$f":"Results!C45","v":0},{"$f":"Results!B45","v":0},{"$f":"Results!D45","v":0},{"$f":"Results!G45","v":""},"- vs -",{"$f":"VLOOKUP(B42,Results!$A$8:AK96,37,FALSE)","v":{"$error":"#N/A"}},{"$f":"VLOOKUP(H42,Results!A$8:G97,3,FALSE)","v":{"$error":"#N/A"}},{"$f":"VLOOKUP(H42,Results!$A$8:G97,2,FALSE)","v":{"$error":"#N/A"}},{"$f":"VLOOKUP(H42,Results!$A$8:G97,4,FALSE)","v":{"$error":"#N/A"}},{"$f":"VLOOKUP(H42,Results!$A$8:G97,7,FALSE)","v":{"$error":"#N/A"}},{"$f":"VLOOKUP(H42,$B$4:B42,1,FALSE)","v":{"$error":"#N/A"}}]
[null,{"$f":"Results!A46","v":0},{"$f":"Results!C46","v":0},{"$f":"Results!B46","v":0},{"$f":"Results!D46","v":0},{"$f":"Results!G46","v":""},"- vs -",{"$f":"VLOOKUP(B43,Results!$A$8:AK97,37,FALSE)","v":{"$error":"#N/A"}},{"$f":"VLOOKUP(H43,Results!A$8:G98,3,FALSE)","v":{"$error":"#N/A"}},{"$f":"VLOOKUP(H43,Results!$A$8:G98,2,FALSE)","v":{"$error":"#N/A"}},{"$f":"VLOOKUP(H43,Results!$A$8:G98,4,FALSE)","v":{"$error":"#N/A"}},{"$f":"VLOOKUP(H43,Results!$A$8:G98,7,FALSE)","v":{"$error":"#N/A"}},{"$f":"VLOOKUP(H43,$B$4:B43,1,FALSE)","v":{"$error":"#N/A"}}]
[null,{"$f":"Results!A47","v":0},{"$f":"Results!C47","v":0},{"$f":"Results!B47","v":0},{"$f":"Results!D47","v":0},{"$f":"Results!G47","v":""},"- vs -",{"$f":"VLOOKUP(B44,Results!$A$8:AK98,37,FALSE)","v":{"$error":"#N/A"}},{"$f":"VLOOKUP(H44,Results!A$8:G99,3,FALSE)","v":{"$error":"#N/A"}},{"$f":"VLOOKUP(H44,Results!$A$8:G99,2,FALSE)","v":{"$error":"#N/A"}},{"$f":"VLOOKUP(H44,Results!$A$8:G99,4,FALSE)","v":{"$error":"#N/A"}},{"$f":"VLOOKUP(H44,Results!$A$8:G99,7,FALSE)","v":{"$error":"#N/A"}},{"$f":"VLOOKUP(H44,$B$4:B44,1,FALSE)","v":{"$error":"#N/A"}}]
[null,{"$f":"Results!A48","v":0},{"$f":"Results!C48","v":0},{"$f":"Results!B48","v":0},{"$f":"Results!D48","v":0},{"$f":"Results!G48","v":""},"- vs -",{"$f":"VLOOKUP(B45,Results!$A$8:AK99,37,FALSE)","v":{"$error":"#N/A"}},{"$f":"VLOOKUP(H45,Results!A$8:G100,3,FALSE)","v":{"$error":"#N/A"}},{"$f":"VLOOKUP(H45,Results!$A$8:G100,2,FALSE)","v":{"$error":"#N/A"}},{"$f":"VLOOKUP(H45,Results!$A$8:G100,4,FALSE)","v":{"$error":"#N/A"}},{"$f":"VLOOKUP(H45,Results!$A$8:G100,7,FALSE)","v":{"$error":"#N/A"}},{"$f":"VLOOKUP(H45,$B$4:B45,1,FALSE)","v":{"$error":"#N/A"}}]
[null,{"$f":"Results!A49","v":0},{"$f":"Results!C49","v":0},{"$f":"Results!B49","v":0},{"$f":"Results!D49","v":0},{"$f":"Results!G49","v":""},"- vs -",{"$f":"VLOOKUP(B46,Results!$A$8:AK100,37,FALSE)","v":{"$error":"#N/A"}},{"$f":"VLOOKUP(H46,Results!A$8:G101,3,FALSE)","v":{"$error":"#N/A"}},{"$f":"VLOOKUP(H46,Results!$A$8:G101,2,FALSE)","v":{"$error":"#N/A"}},{"$f":"VLOOKUP(H46,Results!$A$8:G101,4,FALSE)","v":{"$error":"#N/A"}},{"$f":"VLOOKUP(H46,Results!$A$8:G101,7,FALSE)","v":{"$error":"#N/A"}},{"$f":"VLOOKUP(H46,$B$4:B46,1,FALSE)","v":{"$error":"#N/A"}}]
[null,{"$f":"Results!A50","v":0},{"$f":"Results!C50","v":0},{"$f":"Results!B50","v":0},{"$f":"Results!D50","v":0},{"$f":"Results!G50","v":""},"- vs -",{"$f":"VLOOKUP(B47,Results!$A$8:AK101,37,FALSE)","v":{"$error":"#N/A"}},{"$f":"VLOOKUP(H47,Results!A$8:G102,3,FALSE)","v":{"$error":"#N/A"}},{"$f":"VLOOKUP(H47,Results!$A$8:G102,2,FALSE)","v":{"$error":"#N/A"}},{"$f":"VLOOKUP(H47,Results!$A$8:G102,4,FALSE)","v":{"$error":"#N/A"}},{"$f":"VLOOKUP(H47,Results!$A$8:G102,7,FALSE)","v":{"$error":"#N/A"}},{"$f":"VLOOKUP(H47,$B$4:B47,1,FALSE)","v":{"$error":"#N/A"}}]
[null,{"$f":"Results!A51","v":0},{"$f":"Results!C51","v":0},{"$f":"Results!B51","v":0},{"$f":"Results!D51","v":0},{"$f":"Results!G51","v":""},"- vs -",{"$f":"VLOOKUP(B48,Results!$A$8:AK102,37,FALSE)","v":{"$error":"#N/A"}},{"$f":"VLOOKUP(H48,Results!A$8:G103,3,FALSE)","v":{"$error":"#N/A"}},{"$f":"VLOOKUP(H48,Results!$A$8:G103,2,FALSE)","v":{"$error":"#N/A"}},{"$f":"VLOOKUP(H48,Results!$A$8:G103,4,FALSE)","v":{"$error":"#N/A"}},{"$f":"VLOOKUP(H48,Results!$A$8:G103,7,FALSE)","v":{"$error":"#N/A"}},{"$f":"VLOOKUP(H48,$B$4:B48,1,FALSE)","v":{"$error":"#N/A"}}]
[null,{"$f":"Results!A52","v":0},{"$f":"Results!C52","v":0},{"$f":"Results!B52","v":0},{"$f":"Results!D52","v":0},{"$f":"Results!G52","v":""},"- vs -",{"$f":"VLOOKUP(B49,Results!$A$8:AK103,37,FALSE)","v":{"$error":"#N/A"}},{"$f":"VLOOKUP(H49,Results!A$8:G104,3,FALSE)","v":{"$error":"#N/A"}},{"$f":"VLOOKUP(H49,Results!$A$8:G104,2,FALSE)","v":{"$error":"#N/A"}},{"$f":"VLOOKUP(H49,Results!$A$8:G104,4,FALSE)","v":{"$error":"#N/A"}},{"$f":"VLOOKUP(H49,Results!$A$8:G104,7,FALSE)","v":{"$error":"#N/A"}},{"$f":"VLOOKUP(H49,$B$4:B49,1,FALSE)","v":{"$error":"#N/A"}}]
[null,{"$f":"Results!A53","v":0},{"$f":"Results!C53","v":0},{"$f":"Results!B53","v":0},{"$f":"Results!D53","v":0},{"$f":"Results!G53","v":""},"- vs -",{"$f":"VLOOKUP(B50,Results!$A$8:AK104,37,FALSE)","v":{"$error":"#N/A"}},{"$f":"VLOOKUP(H50,Results!A$8:G105,3,FALSE)","v":{"$error":"#N/A"}},{"$f":"VLOOKUP(H50,Results!$A$8:G105,2,FALSE)","v":{"$error":"#N/A"}},{"$f":"VLOOKUP(H50,Results!$A$8:G105,4,FALSE)","v":{"$error":"#N/A"}},{"$f":"VLOOKUP(H50,Results!$A$8:G105,7,FALSE)","v":{"$error":"#N/A"}},{"$f":"VLOOKUP(H50,$B$4:B50,1,FALSE)","v":{"$error":"#N/A"}}]
[null,{"$f":"Results!A54","v":0},{"$f":"Results!C54","v":0},{"$f":"Results!B54","v":0},{"$f":"Results!D54","v":0},{"$f":"Results!G54","v":""},"- vs -",{"$f":"VLOOKUP(B51,Results!$A$8:AK105,37,FALSE)","v":{"$error":"#N/A"}},{"$f":"VLOOKUP(H51,Results!A$8:G106,3,FALSE)","v":{"$error":"#N/A"}},{"$f":"VLOOKUP(H51,Results!$A$8:G106,2,FALSE)","v":{"$error":"#N/A"}},{"$f":"VLOOKUP(H51,Results!$A$8:G106,4,FALSE)","v":{"$error":"#N/A"}},{"$f":"VLOOKUP(H51,Results!$A$8:G106,7,FALSE)","v":{"$error":"#N/A"}},{"$f":"VLOOKUP(H51,$B$4:B51,1,FALSE)","v":{"$error":"#N/A"}}]
[null,{"$f":"Results!A55","v":0},{"$f":"Results!C55","v":0},{"$f":"Results!B55","v":0},{"$f":"Results!D55","v":0},{"$f":"Results!G55","v":""},"- vs -",{"$f":"VLOOKUP(B52,Results!$A$8:AK106,37,FALSE)","v":{"$error":"#N/A"}},{"$f":"VLOOKUP(H52,Results!A$8:G107,3,FALSE)","v":{"$error":"#N/A"}},{"$f":"VLOOKUP(H52,Results!$A$8:G107,2,FALSE)","v":{"$error":"#N/A"}},{"$f":"VLOOKUP(H52,Results!$A$8:G107,4,FALSE)","v":{"$error":"#N/A"}},{"$f":"VLOOKUP(H52,Results!$A$8:G107,7,FALSE)","v":{"$error":"#N/A"}},{"$f":"VLOOKUP(H52,$B$4:B52,1,FALSE)","v":{"$error":"#N/A"}}]
[null,{"$f":"Results!A56","v":0},{"$f":"Results!C56","v":0},{"$f":"Results!B56","v":0},{"$f":"Results!D56","v":0},{"$f":"Results!G56","v":""},"- vs -",{"$f":"VLOOKUP(B53,Results!$A$8:AK107,37,FALSE)","v":{"$error":"#N/A"}},{"$f":"VLOOKUP(H53,Results!A$8:G108,3,FALSE)","v":{"$error":"#N/A"}},{"$f":"VLOOKUP(H53,Results!$A$8:G108,2,FALSE)","v":{"$error":"#N/A"}},{"$f":"VLOOKUP(H53,Results!$A$8:G108,4,FALSE)","v":{"$error":"#N/A"}},{"$f":"VLOOKUP(H53,Results!$A$8:G108,7,FALSE)","v":{"$error":"#N/A"}},{"$f":"VLOOKUP(H53,$B$4:B53,1,FALSE)","v":{"$error":"#N/A"}}]
[null,{"$f":"Results!A57","v":0},{"$f":"Results!C57","v":0},{"$f":"Results!B57","v":0},{"$f":"Results!D57","v":0},{"$f":"Results!G57","v":""},"- vs -",{"$f":"VLOOKUP(B54,Results!$A$8:AK108,37,FALSE)","v":{"$error":"#N/A"}},{"$f":"VLOOKUP(H54,Results!A$8:G109,3,FALSE)","v":{"$error":"#N/A"}},{"$f":"VLOOKUP(H54,Results!$A$8:G109,2,FALSE)","v":{"$error":"#N/A"}},{"$f":"VLOOKUP(H54,Results!$A$8:G109,4,FALSE)","v":{"$error":"#N/A"}},{"$f":"VLOOKUP(H54,Results!$A$8:G109,7,FALSE)","v":{"$error":"#N/A"}},{"$f":"VLOOKUP(H54,$B$4:B54,1,FALSE)","v":{"$error":"#N/A"}}]
[null,{"$f":"Results!A58","v":0},{"$f":"Results!C58","v":0},{"$f":"Results!B58","v":0},{"$f":"Results!D58","v":0},{"$f":"Results!G58","v":""},"- vs -",{"$f":"VLOOKUP(B55,Results!$A$8:AK109,37,FALSE)","v":{"$error":"#N/A"}},{"$f":"VLOOKUP(H55,Results!A$8:G110,3,FALSE)","v":{"$error":"#N/A"}},{"$f":"VLOOKUP(H55,Results!$A$8:G110,2,FALSE)","v":{"$error":"#N/A"}},{"$f":"VLOOKUP(H55,Results!$A$8:G110,4,FALSE)","v":{"$error":"#N/A"}},{"$f":"VLOOKUP(H55,Results!$A$8:G110,7,FALSE)","v":{"$error":"#N/A"}},{"$f":"VLOOKUP(H55,$B$4:B55,1,FALSE)","v":{"$error":"#N/A"}}]
[null,{"$f":"Results!A59","v":0},{"$f":"Results!C59","v":0},{"$f":"Results!B59","v":0},{"$f":"Results!D59","v":0},{"$f":"Results!G59","v":""},"- vs -",{"$f":"VLOOKUP(B56,Results!$A$8:AK110,37,FALSE)","v":{"$error":"#N/A"}},{"$f":"VLOOKUP(H56,Results!A$8:G111,3,FALSE)","v":{"$error":"#N/A"}},{"$f":"VLOOKUP(H56,Results!$A$8:G111,2,FALSE)","v":{"$error":"#N/A"}},{"$f":"VLOOKUP(H56,Results!$A$8:G111,4,FALSE)","v":{"$error":"#N/A"}},{"$f":"VLOOKUP(H56,Results!$A$8:G111,7,FALSE)","v":{"$error":"#N/A"}},{"$f":"VLOOKUP(H56,$B$4:B56,1,FALSE)","v":{"$error":"#N/A"}}]
[null,{"$f":"Results!A60","v":0},{"$f":"Results!C60","v":0},{"$f":"Results!B60","v":0},{"$f":"Results!D60","v":0},{"$f":"Results!G60","v":""},"- vs -",{"$f":"VLOOKUP(B57,Results!$A$8:AK111,37,FALSE)","v":{"$error":"#N/A"}},{"$f":"VLOOKUP(H57,Results!A$8:G112,3,FALSE)","v":{"$error":"#N/A"}},{"$f":"VLOOKUP(H57,Results!$A$8:G112,2,FALSE)","v":{"$error":"#N/A"}},{"$f":"VLOOKUP(H57,Results!$A$8:G112,4,FALSE)","v":{"$error":"#N/A"}},{"$f":"VLOOKUP(H57,Results!$A$8:G112,7,FALSE)","v":{"$error":"#N/A"}},{"$f":"VLOOKUP(H57,$B$4:B57,1,FALSE)","v":{"$error":"#N/A"}}]
[null,{"$f":"Results!A61","v":0},{"$f":"Results!C61","v":0},{"$f":"Results!B61","v":0},{"$f":"Results!D61","v":0},{"$f":"Results!G61","v":""},"- vs -",{"$f":"VLOOKUP(B58,Results!$A$8:AK112,37,FALSE)","v":{"$error":"#N/A"}},{"$f":"VLOOKUP(H58,Results!A$8:G113,3,FALSE)","v":{"$error":"#N/A"}},{"$f":"VLOOKUP(H58,Results!$A$8:G113,2,FALSE)","v":{"$error":"#N/A"}},{"$f":"VLOOKUP(H58,Results!$A$8:G113,4,FALSE)","v":{"$error":"#N/A"}},{"$f":"VLOOKUP(H58,Results!$A$8:G113,7,FALSE)","v":{"$error":"#N/A"}},{"$f":"VLOOKUP(H58,$B$4:B58,1,FALSE)","v":{"$error":"#N/A"}}]
[null,{"$f":"Results!A62","v":0},{"$f":"Results!C62","v":0},{"$f":"Results!B62","v":0},{"$f":"Results!D62","v":0},{"$f":"Results!G62","v":""},"- vs -",{"$f":"VLOOKUP(B59,Results!$A$8:AK113,37,FALSE)","v":{"$error":"#N/A"}},{"$f":"VLOOKUP(H59,Results!A$8:G114,3,FALSE)","v":{"$error":"#N/A"}},{"$f":"VLOOKUP(H59,Results!$A$8:G114,2,FALSE)","v":{"$error":"#N/A"}},{"$f":"VLOOKUP(H59,Results!$A$8:G114,4,FALSE)","v":{"$error":"#N/A"}},{"$f":"VLOOKUP(H59,Results!$A$8:G114,7,FALSE)","v":{"$error":"#N/A"}},{"$f":"VLOOKUP(H59,$B$4:B59,1,FALSE)","v":{"$error":"#N/A"}}]
[null,{"$f":"Results!A63","v":0},{"$f":"Results!C63","v":0},{"$f":"Results!B63","v":0},{"$f":"Results!D63","v":0},{"$f":"Results!G63","v":""},"- vs -",{"$f":"VLOOKUP(B60,Results!$A$8:AK114,37,FALSE)","v":{"$error":"#N/A"}},{"$f":"VLOOKUP(H60,Results!A$8:G115,3,FALSE)","v":{"$error":"#N/A"}},{"$f":"VLOOKUP(H60,Results!$A$8:G115,2,FALSE)","v":{"$error":"#N/A"}},{"$f":"VLOOKUP(H60,Results!$A$8:G115,4,FALSE)","v":{"$error":"#N/A"}},{"$f":"VLOOKUP(H60,Results!$A$8:G115,7,FALSE)","v":{"$error":"#N/A"}},{"$f":"VLOOKUP(H60,$B$4:B60,1,FALSE)","v":{"$error":"#N/A"}}]
[null,{"$f":"Results!A64","v":0},{"$f":"Results!C64","v":0},{"$f":"Results!B64","v":0},{"$f":"Results!D64","v":0},{"$f":"Results!G64","v":""},"- vs -",{"$f":"VLOOKUP(B61,Results!$A$8:AK115,37,FALSE)","v":{"$error":"#N/A"}},{"$f":"VLOOKUP(H61,Results!A$8:G116,3,FALSE)","v":{"$error":"#N/A"}},{"$f":"VLOOKUP(H61,Results!$A$8:G116,2,FALSE)","v":{"$error":"#N/A"}},{"$f":"VLOOKUP(H61,Results!$A$8:G116,4,FALSE)","v":{"$error":"#N/A"}},{"$f":"VLOOKUP(H61,Results!$A$8:G116,7,FALSE)","v":{"$error":"#N/A"}},{"$f":"VLOOKUP(H61,$B$4:B61,1,FALSE)","v":{"$error":"#N/A"}}]
[null,{"$f":"Results!A65","v":0},{"$f":"Results!C65","v":0},{"$f":"Results!B65","v":0},{"$f":"Results!D65","v":0},{"$f":"Results!G65","v":""},"- vs -",{"$f":"VLOOKUP(B62,Results!$A$8:AK116,37,FALSE)","v":{"$error":"#N/A"}},{"$f":"VLOOKUP(H62,Results!A$8:G117,3,FALSE)","v":{"$error":"#N/A"}},{"$f":"VLOOKUP(H62,Results!$A$8:G117,2,FALSE)","v":{"$error":"#N/A"}},{"$f":"VLOOKUP(H62,Results!$A$8:G117,4,FALSE)","v":{"$error":"#N/A"}},{"$f":"VLOOKUP(H62,Results!$A$8:G117,7,FALSE)","v":{"$error":"#N/A"}},{"$f":"VLOOKUP(H62,$B$4:B62,1,FALSE)","v":{"$error":"#N/A"}}]
[null,{"$f":"Results!A66","v":0},{"$f":"Results!C66","v":0},{"$f":"Results!B66","v":0},{"$f":"Results!D66","v":0},{"$f":"Results!G66","v":""},"- vs -",{"$f":"VLOOKUP(B63,Results!$A$8:AK117,37,FALSE)","v":{"$error":"#N/A"}},{"$f":"VLOOKUP(H63,Results!A$8:G118,3,FALSE)","v":{"$error":"#N/A"}},{"$f":"VLOOKUP(H63,Results!$A$8:G118,2,FALSE)","v":{"$error":"#N/A"}},{"$f":"VLOOKUP(H63,Results!$A$8:G118,4,FALSE)","v":{"$error":"#N/A"}},{"$f":"VLOOKUP(H63,Results!$A$8:G118,7,FALSE)","v":{"$error":"#N/A"}},{"$f":"VLOOKUP(H63,$B$4:B63,1,FALSE)","v":{"$error":"#N/A"}}]
[null,{"$f":"Results!A67","v":0},{"$f":"Results!C67","v":0},{"$f":"Results!B67","v":0},{"$f":"Results!D67","v":0},{"$f":"Results!G67","v":""},"- vs -",{"$f":"VLOOKUP(B64,Results!$A$8:AK118,37,FALSE)","v":{"$error":"#N/A"}},{"$f":"VLOOKUP(H64,Results!A$8:G119,3,FALSE)","v":{"$error":"#N/A"}},{"$f":"VLOOKUP(H64,Results!$A$8:G119,2,FALSE)","v":{"$error":"#N/A"}},{"$f":"VLOOKUP(H64,Results!$A$8:G119,4,FALSE)","v":{"$error":"#N/A"}},{"$f":"VLOOKUP(H64,Results!$A$8:G119,7,FALSE)","v":{"$error":"#N/A"}}]
[null,{"$f":"Results!A68","v":0},{"$f":"Results!C68","v":0},{"$f":"Results!B68","v":0},{"$f":"Results!D68","v":0},{"$f":"Results!G68","v":""},"- vs -",{"$f":"VLOOKUP(B65,Results!$A$8:AK119,37,FALSE)","v":{"$error":"#N/A"}},{"$f":"VLOOKUP(H65,Results!A$8:G120,3,FALSE)","v":{"$error":"#N/A"}},{"$f":"VLOOKUP(H65,Results!$A$8:G120,2,FALSE)","v":{"$error":"#N/A"}},{"$f":"VLOOKUP(H65,Results!$A$8:G120,4,FALSE)","v":{"$error":"#N/A"}},{"$f":"VLOOKUP(H65,Results!$A$8:G120,7,FALSE)","v":{"$error":"#N/A"}}]
[null,{"$f":"Results!A69","v":0},{"$f":"Results!C69","v":0},{"$f":"Results!B69","v":0},{"$f":"Results!D69","v":0},{"$f":"Results!G69","v":""},"- vs -",{"$f":"VLOOKUP(B66,Results!$A$8:AK120,37,FALSE)","v":{"$error":"#N/A"}},{"$f":"VLOOKUP(H66,Results!A$8:G121,3,FALSE)","v":{"$error":"#N/A"}},{"$f":"VLOOKUP(H66,Results!$A$8:G121,2,FALSE)","v":{"$error":"#N/A"}},{"$f":"VLOOKUP(H66,Results!$A$8:G121,4,FALSE)","v":{"$error":"#N/A"}},{"$f":"VLOOKUP(H66,Results!$A$8:G121,7,FALSE)","v":{"$error":"#N/A"}}]
[null,{"$f":"Results!A70","v":0},{"$f":"Results!C70","v":0},{"$f":"Results!B70","v":0},{"$f":"Results!D70","v":0},{"$f":"Results!G70","v":""},"- vs -",{"$f":"VLOOKUP(B67,Results!$A$8:AK121,37,FALSE)","v":{"$error":"#N/A"}},{"$f":"VLOOKUP(H67,Results!A$8:G122,3,FALSE)","v":{"$error":"#N/A"}},{"$f":"VLOOKUP(H67,Results!$A$8:G122,2,FALSE)","v":{"$error":"#N/A"}},{"$f":"VLOOKUP(H67,Results!$A$8:G122,4,FALSE)","v":{"$error":"#N/A"}},{"$f":"VLOOKUP(H67,Results!$A$8:G122,7,FALSE)","v":{"$error":"#N/A"}}]
[null,{"$f":"Results!A71","v":0},{"$f":"Results!C71","v":0},{"$f":"Results!B71","v":0},{"$f":"Results!D71","v":0},{"$f":"Results!G71","v":""},"- vs -",{"$f":"VLOOKUP(B68,Results!$A$8:AK122,37,FALSE)","v":{"$error":"#N/A"}},{"$f":"VLOOKUP(H68,Results!A$8:G123,3,FALSE)","v":{"$error":"#N/A"}},{"$f":"VLOOKUP(H68,Results!$A$8:G123,2,FALSE)","v":{"$error":"#N/A"}},{"$f":"VLOOKUP(H68,Results!$A$8:G123,4,FALSE)","v":{"$error":"#N/A"}},{"$f":"VLOOKUP(H68,Results!$A$8:G123,7,FALSE)","v":{"$error":"#N/A"}}]
[null,{"$f":"Results!A72","v":0},{"$f":"Results!C72","v":0},{"$f":"Results!B72","v":0},{"$f":"Results!D72","v":0},{"$f":"Results!G72","v":""},"- vs -",{"$f":"VLOOKUP(B69,Results!$A$8:AK123,37,FALSE)","v":{"$error":"#N/A"}},{"$f":"VLOOKUP(H69,Results!A$8:G124,3,FALSE)","v":{"$error":"#N/A"}},{"$f":"VLOOKUP(H69,Results!$A$8:G124,2,FALSE)","v":{"$error":"#N/A"}},{"$f":"VLOOKUP(H69,Results!$A$8:G124,4,FALSE)","v":{"$error":"#N/A"}},{"$f":"VLOOKUP(H69,Results!$A$8:G124,7,FALSE)","v":{"$error":"#N/A"}}]

{"sheet":"Round 6","index":14,"n_rows":69,"n_cols":13,"rows_kept":69,"cut":false,"hidden":false,"merged":[]}
[]
["Round 6 Draw",null,{"$f":"Results!B3","v":"Warfare"}]
[null,null,{"$f":"Results!B4","v":"Période Ancienne"}]
[null,null,null,null,null,null,null,null,null,null,null,null,"VALID?"]
[null,{"$f":"Results!A8","v":0},{"$f":"Results!C8","v":0},{"$f":"Results!B8","v":0},{"$f":"Results!D8","v":0},{"$f":"Results!G8","v":""},"- vs -",{"$f":"VLOOKUP(B5,Results!$A$8:AR59,44,FALSE)","v":{"$error":"#N/A"}},{"$f":"VLOOKUP(H5,Results!A$8:G60,3,FALSE)","v":{"$error":"#N/A"}},{"$f":"VLOOKUP(H5,Results!$A$8:G60,2,FALSE)","v":{"$error":"#N/A"}},{"$f":"VLOOKUP(H5,Results!$A$8:G60,4,FALSE)","v":{"$error":"#N/A"}},{"$f":"VLOOKUP(H5,Results!$A$8:G60,7,FALSE)","v":{"$error":"#N/A"}},{"$f":"VLOOKUP(H5,$B$4:B5,1,FALSE)","v":{"$error":"#N/A"}}]
[null,{"$f":"Results!A9","v":0},{"$f":"Results!C9","v":0},{"$f":"Results!B9","v":0},{"$f":"Results!D9","v":0},{"$f":"Results!G9","v":""},"- vs -",{"$f":"VLOOKUP(B6,Results!$A$8:AR60,44,FALSE)","v":{"$error":"#N/A"}},{"$f":"VLOOKUP(H6,Results!A$8:G61,3,FALSE)","v":{"$error":"#N/A"}},{"$f":"VLOOKUP(H6,Results!$A$8:G61,2,FALSE)","v":{"$error":"#N/A"}},{"$f":"VLOOKUP(H6,Results!$A$8:G61,4,FALSE)","v":{"$error":"#N/A"}},{"$f":"VLOOKUP(H6,Results!$A$8:G61,7,FALSE)","v":{"$error":"#N/A"}},{"$f":"VLOOKUP(H6,$B$4:B6,1,FALSE)","v":{"$error":"#N/A"}}]
[null,{"$f":"Results!A10","v":0},{"$f":"Results!C10","v":0},{"$f":"Results!B10","v":0},{"$f":"Results!D10","v":0},{"$f":"Results!G10","v":""},"- vs -",{"$f":"VLOOKUP(B7,Results!$A$8:AR61,44,FALSE)","v":{"$error":"#N/A"}},{"$f":"VLOOKUP(H7,Results!A$8:G62,3,FALSE)","v":{"$error":"#N/A"}},{"$f":"VLOOKUP(H7,Results!$A$8:G62,2,FALSE)","v":{"$error":"#N/A"}},{"$f":"VLOOKUP(H7,Results!$A$8:G62,4,FALSE)","v":{"$error":"#N/A"}},{"$f":"VLOOKUP(H7,Results!$A$8:G62,7,FALSE)","v":{"$error":"#N/A"}},{"$f":"VLOOKUP(H7,$B$4:B7,1,FALSE)","v":{"$error":"#N/A"}}]
[null,{"$f":"Results!A11","v":0},{"$f":"Results!C11","v":0},{"$f":"Results!B11","v":0},{"$f":"Results!D11","v":0},{"$f":"Results!G11","v":""},"- vs -",{"$f":"VLOOKUP(B8,Results!$A$8:AR62,44,FALSE)","v":{"$error":"#N/A"}},{"$f":"VLOOKUP(H8,Results!A$8:G63,3,FALSE)","v":{"$error":"#N/A"}},{"$f":"VLOOKUP(H8,Results!$A$8:G63,2,FALSE)","v":{"$error":"#N/A"}},{"$f":"VLOOKUP(H8,Results!$A$8:G63,4,FALSE)","v":{"$error":"#N/A"}},{"$f":"VLOOKUP(H8,Results!$A$8:G63,7,FALSE)","v":{"$error":"#N/A"}},{"$f":"VLOOKUP(H8,$B$4:B8,1,FALSE)","v":{"$error":"#N/A"}}]
[null,{"$f":"Results!A12","v":0},{"$f":"Results!C12","v":0},{"$f":"Results!B12","v":0},{"$f":"Results!D12","v":0},{"$f":"Results!G12","v":""},"- vs -",{"$f":"VLOOKUP(B9,Results!$A$8:AR63,44,FALSE)","v":{"$error":"#N/A"}},{"$f":"VLOOKUP(H9,Results!A$8:G64,3,FALSE)","v":{"$error":"#N/A"}},{"$f":"VLOOKUP(H9,Results!$A$8:G64,2,FALSE)","v":{"$error":"#N/A"}},{"$f":"VLOOKUP(H9,Results!$A$8:G64,4,FALSE)","v":{"$error":"#N/A"}},{"$f":"VLOOKUP(H9,Results!$A$8:G64,7,FALSE)","v":{"$error":"#N/A"}},{"$f":"VLOOKUP(H9,$B$4:B9,1,FALSE)","v":{"$error":"#N/A"}}]
[null,{"$f":"Results!A13","v":0},{"$f":"Results!C13","v":0},{"$f":"Results!B13","v":0},{"$f":"Results!D13","v":0},{"$f":"Results!G13","v":""},"- vs -",{"$f":"VLOOKUP(B10,Results!$A$8:AR64,44,FALSE)","v":{"$error":"#N/A"}},{"$f":"VLOOKUP(H10,Results!A$8:G65,3,FALSE)","v":{"$error":"#N/A"}},{"$f":"VLOOKUP(H10,Results!$A$8:G65,2,FALSE)","v":{"$error":"#N/A"}},{"$f":"VLOOKUP(H10,Results!$A$8:G65,4,FALSE)","v":{"$error":"#N/A"}},{"$f":"VLOOKUP(H10,Results!$A$8:G65,7,FALSE)","v":{"$error":"#N/A"}},{"$f":"VLOOKUP(H10,$B$4:B10,1,FALSE)","v":{"$error":"#N/A"}}]
[null,{"$f":"Results!A14","v":0},{"$f":"Results!C14","v":0},{"$f":"Results!B14","v":0},{"$f":"Results!D14","v":0},{"$f":"Results!G14","v":""},"- vs -",{"$f":"VLOOKUP(B11,Results!$A$8:AR65,44,FALSE)","v":{"$error":"#N/A"}},{"$f":"VLOOKUP(H11,Results!A$8:G66,3,FALSE)","v":{"$error":"#N/A"}},{"$f":"VLOOKUP(H11,Results!$A$8:G66,2,FALSE)","v":{"$error":"#N/A"}},{"$f":"VLOOKUP(H11,Results!$A$8:G66,4,FALSE)","v":{"$error":"#N/A"}},{"$f":"VLOOKUP(H11,Results!$A$8:G66,7,FALSE)","v":{"$error":"#N/A"}},{"$f":"VLOOKUP(H11,$B$4:B11,1,FALSE)","v":{"$error":"#N/A"}}]
[null,{"$f":"Results!A15","v":0},{"$f":"Results!C15","v":0},{"$f":"Results!B15","v":0},{"$f":"Results!D15","v":0},{"$f":"Results!G15","v":""},"- vs -",{"$f":"VLOOKUP(B12,Results!$A$8:AR66,44,FALSE)","v":{"$error":"#N/A"}},{"$f":"VLOOKUP(H12,Results!A$8:G67,3,FALSE)","v":{"$error":"#N/A"}},{"$f":"VLOOKUP(H12,Results!$A$8:G67,2,FALSE)","v":{"$error":"#N/A"}},{"$f":"VLOOKUP(H12,Results!$A$8:G67,4,FALSE)","v":{"$error":"#N/A"}},{"$f":"VLOOKUP(H12,Results!$A$8:G67,7,FALSE)","v":{"$error":"#N/A"}},{"$f":"VLOOKUP(H12,$B$4:B12,1,FALSE)","v":{"$error":"#N/A"}}]
[null,{"$f":"Results!A16","v":0},{"$f":"Results!C16","v":0},{"$f":"Results!B16","v":0},{"$f":"Results!D16","v":0},{"$f":"Results!G16","v":""},"- vs -",{"$f":"VLOOKUP(B13,Results!$A$8:AR67,44,FALSE)","v":{"$error":"#N/A"}},{"$f":"VLOOKUP(H13,Results!A$8:G68,3,FALSE)","v":{"$error":"#N/A"}},{"$f":"VLOOKUP(H13,Results!$A$8:G68,2,FALSE)","v":{"$error":"#N/A"}},{"$f":"VLOOKUP(H13,Results!$A$8:G68,4,FALSE)","v":{"$error":"#N/A"}},{"$f":"VLOOKUP(H13,Results!$A$8:G68,7,FALSE)","v":{"$error":"#N/A"}},{"$f":"VLOOKUP(H13,$B$4:B13,1,FALSE)","v":{"$error":"#N/A"}}]
[null,{"$f":"Results!A17","v":0},{"$f":"Results!C17","v":0},{"$f":"Results!B17","v":0},{"$f":"Results!D17","v":0},{"$f":"Results!G17","v":""},"- vs -",{"$f":"VLOOKUP(B14,Results!$A$8:AR68,44,FALSE)","v":{"$error":"#N/A"}},{"$f":"VLOOKUP(H14,Results!A$8:G69,3,FALSE)","v":{"$error":"#N/A"}},{"$f":"VLOOKUP(H14,Results!$A$8:G69,2,FALSE)","v":{"$error":"#N/A"}},{"$f":"VLOOKUP(H14,Results!$A$8:G69,4,FALSE)","v":{"$error":"#N/A"}},{"$f":"VLOOKUP(H14,Results!$A$8:G69,7,FALSE)","v":{"$error":"#N/A"}},{"$f":"VLOOKUP(H14,$B$4:B14,1,FALSE)","v":{"$error":"#N/A"}}]
[null,{"$f":"Results!A18","v":0},{"$f":"Results!C18","v":0},{"$f":"Results!B18","v":0},{"$f":"Results!D18","v":0},{"$f":"Results!G18","v":""},"- vs -",{"$f":"VLOOKUP(B15,Results!$A$8:AR69,44,FALSE)","v":{"$error":"#N/A"}},{"$f":"VLOOKUP(H15,Results!A$8:G70,3,FALSE)","v":{"$error":"#N/A"}},{"$f":"VLOOKUP(H15,Results!$A$8:G70,2,FALSE)","v":{"$error":"#N/A"}},{"$f":"VLOOKUP(H15,Results!$A$8:G70,4,FALSE)","v":{"$error":"#N/A"}},{"$f":"VLOOKUP(H15,Results!$A$8:G70,7,FALSE)","v":{"$error":"#N/A"}},{"$f":"VLOOKUP(H15,$B$4:B15,1,FALSE)","v":{"$error":"#N/A"}}]
[null,{"$f":"Results!A19","v":0},{"$f":"Results!C19","v":0},{"$f":"Results!B19","v":0},{"$f":"Results!D19","v":0},{"$f":"Results!G19","v":""},"- vs -",{"$f":"VLOOKUP(B16,Results!$A$8:AR70,44,FALSE)","v":{"$error":"#N/A"}},{"$f":"VLOOKUP(H16,Results!A$8:G71,3,FALSE)","v":{"$error":"#N/A"}},{"$f":"VLOOKUP(H16,Results!$A$8:G71,2,FALSE)","v":{"$error":"#N/A"}},{"$f":"VLOOKUP(H16,Results!$A$8:G71,4,FALSE)","v":{"$error":"#N/A"}},{"$f":"VLOOKUP(H16,Results!$A$8:G71,7,FALSE)","v":{"$error":"#N/A"}},{"$f":"VLOOKUP(H16,$B$4:B16,1,FALSE)","v":{"$error":"#N/A"}}]
[null,{"$f":"Results!A20","v":0},{"$f":"Results!C20","v":0},{"$f":"Results!B20","v":0},{"$f":"Results!D20","v":0},{"$f":"Results!G20","v":""},"- vs -",{"$f":"VLOOKUP(B17,Results!$A$8:AR71,44,FALSE)","v":{"$error":"#N/A"}},{"$f":"VLOOKUP(H17,Results!A$8:G72,3,FALSE)","v":{"$error":"#N/A"}},{"$f":"VLOOKUP(H17,Results!$A$8:G72,2,FALSE)","v":{"$error":"#N/A"}},{"$f":"VLOOKUP(H17,Results!$A$8:G72,4,FALSE)","v":{"$error":"#N/A"}},{"$f":"VLOOKUP(H17,Results!$A$8:G72,7,FALSE)","v":{"$error":"#N/A"}},{"$f":"VLOOKUP(H17,$B$4:B17,1,FALSE)","v":{"$error":"#N/A"}}]
[null,{"$f":"Results!A21","v":0},{"$f":"Results!C21","v":0},{"$f":"Results!B21","v":0},{"$f":"Results!D21","v":0},{"$f":"Results!G21","v":""},"- vs -",{"$f":"VLOOKUP(B18,Results!$A$8:AR72,44,FALSE)","v":{"$error":"#N/A"}},{"$f":"VLOOKUP(H18,Results!A$8:G73,3,FALSE)","v":{"$error":"#N/A"}},{"$f":"VLOOKUP(H18,Results!$A$8:G73,2,FALSE)","v":{"$error":"#N/A"}},{"$f":"VLOOKUP(H18,Results!$A$8:G73,4,FALSE)","v":{"$error":"#N/A"}},{"$f":"VLOOKUP(H18,Results!$A$8:G73,7,FALSE)","v":{"$error":"#N/A"}},{"$f":"VLOOKUP(H18,$B$4:B18,1,FALSE)","v":{"$error":"#N/A"}}]
[null,{"$f":"Results!A22","v":0},{"$f":"Results!C22","v":0},{"$f":"Results!B22","v":0},{"$f":"Results!D22","v":0},{"$f":"Results!G22","v":""},"- vs -",{"$f":"VLOOKUP(B19,Results!$A$8:AR73,44,FALSE)","v":{"$error":"#N/A"}},{"$f":"VLOOKUP(H19,Results!A$8:G74,3,FALSE)","v":{"$error":"#N/A"}},{"$f":"VLOOKUP(H19,Results!$A$8:G74,2,FALSE)","v":{"$error":"#N/A"}},{"$f":"VLOOKUP(H19,Results!$A$8:G74,4,FALSE)","v":{"$error":"#N/A"}},{"$f":"VLOOKUP(H19,Results!$A$8:G74,7,FALSE)","v":{"$error":"#N/A"}},{"$f":"VLOOKUP(H19,$B$4:B19,1,FALSE)","v":{"$error":"#N/A"}}]
[null,{"$f":"Results!A23","v":0},{"$f":"Results!C23","v":0},{"$f":"Results!B23","v":0},{"$f":"Results!D23","v":0},{"$f":"Results!G23","v":""},"- vs -",{"$f":"VLOOKUP(B20,Results!$A$8:AR74,44,FALSE)","v":{"$error":"#N/A"}},{"$f":"VLOOKUP(H20,Results!A$8:G75,3,FALSE)","v":{"$error":"#N/A"}},{"$f":"VLOOKUP(H20,Results!$A$8:G75,2,FALSE)","v":{"$error":"#N/A"}},{"$f":"VLOOKUP(H20,Results!$A$8:G75,4,FALSE)","v":{"$error":"#N/A"}},{"$f":"VLOOKUP(H20,Results!$A$8:G75,7,FALSE)","v":{"$error":"#N/A"}},{"$f":"VLOOKUP(H20,$B$4:B20,1,FALSE)","v":{"$error":"#N/A"}}]
[null,{"$f":"Results!A24","v":0},{"$f":"Results!C24","v":0},{"$f":"Results!B24","v":0},{"$f":"Results!D24","v":0},{"$f":"Results!G24","v":""},"- vs -",{"$f":"VLOOKUP(B21,Results!$A$8:AR75,44,FALSE)","v":{"$error":"#N/A"}},{"$f":"VLOOKUP(H21,Results!A$8:G76,3,FALSE)","v":{"$error":"#N/A"}},{"$f":"VLOOKUP(H21,Results!$A$8:G76,2,FALSE)","v":{"$error":"#N/A"}},{"$f":"VLOOKUP(H21,Results!$A$8:G76,4,FALSE)","v":{"$error":"#N/A"}},{"$f":"VLOOKUP(H21,Results!$A$8:G76,7,FALSE)","v":{"$error":"#N/A"}},{"$f":"VLOOKUP(H21,$B$4:B21,1,FALSE)","v":{"$error":"#N/A"}}]
[null,{"$f":"Results!A25","v":0},{"$f":"Results!C25","v":0},{"$f":"Results!B25","v":0},{"$f":"Results!D25","v":0},{"$f":"Results!G25","v":""},"- vs -",{"$f":"VLOOKUP(B22,Results!$A$8:AR76,44,FALSE)","v":{"$error":"#N/A"}},{"$f":"VLOOKUP(H22,Results!A$8:G77,3,FALSE)","v":{"$error":"#N/A"}},{"$f":"VLOOKUP(H22,Results!$A$8:G77,2,FALSE)","v":{"$error":"#N/A"}},{"$f":"VLOOKUP(H22,Results!$A$8:G77,4,FALSE)","v":{"$error":"#N/A"}},{"$f":"VLOOKUP(H22,Results!$A$8:G77,7,FALSE)","v":{"$error":"#N/A"}},{"$f":"VLOOKUP(H22,$B$4:B22,1,FALSE)","v":{"$error":"#N/A"}}]
[null,{"$f":"Results!A26","v":0},{"$f":"Results!C26","v":0},{"$f":"Results!B26","v":0},{"$f":"Results!D26","v":0},{"$f":"Results!G26","v":""},"- vs -",{"$f":"VLOOKUP(B23,Results!$A$8:AR77,44,FALSE)","v":{"$error":"#N/A"}},{"$f":"VLOOKUP(H23,Results!A$8:G78,3,FALSE)","v":{"$error":"#N/A"}},{"$f":"VLOOKUP(H23,Results!$A$8:G78,2,FALSE)","v":{"$error":"#N/A"}},{"$f":"VLOOKUP(H23,Results!$A$8:G78,4,FALSE)","v":{"$error":"#N/A"}},{"$f":"VLOOKUP(H23,Results!$A$8:G78,7,FALSE)","v":{"$error":"#N/A"}},{"$f":"VLOOKUP(H23,$B$4:B23,1,FALSE)","v":{"$error":"#N/A"}}]
[null,{"$f":"Results!A27","v":0},{"$f":"Results!C27","v":0},{"$f":"Results!B27","v":0},{"$f":"Results!D27","v":0},{"$f":"Results!G27","v":""},"- vs -",{"$f":"VLOOKUP(B24,Results!$A$8:AR78,44,FALSE)","v":{"$error":"#N/A"}},{"$f":"VLOOKUP(H24,Results!A$8:G79,3,FALSE)","v":{"$error":"#N/A"}},{"$f":"VLOOKUP(H24,Results!$A$8:G79,2,FALSE)","v":{"$error":"#N/A"}},{"$f":"VLOOKUP(H24,Results!$A$8:G79,4,FALSE)","v":{"$error":"#N/A"}},{"$f":"VLOOKUP(H24,Results!$A$8:G79,7,FALSE)","v":{"$error":"#N/A"}},{"$f":"VLOOKUP(H24,$B$4:B24,1,FALSE)","v":{"$error":"#N/A"}}]
[null,{"$f":"Results!A28","v":0},{"$f":"Results!C28","v":0},{"$f":"Results!B28","v":0},{"$f":"Results!D28","v":0},{"$f":"Results!G28","v":""},"- vs -",{"$f":"VLOOKUP(B25,Results!$A$8:AR79,44,FALSE)","v":{"$error":"#N/A"}},{"$f":"VLOOKUP(H25,Results!A$8:G80,3,FALSE)","v":{"$error":"#N/A"}},{"$f":"VLOOKUP(H25,Results!$A$8:G80,2,FALSE)","v":{"$error":"#N/A"}},{"$f":"VLOOKUP(H25,Results!$A$8:G80,4,FALSE)","v":{"$error":"#N/A"}},{"$f":"VLOOKUP(H25,Results!$A$8:G80,7,FALSE)","v":{"$error":"#N/A"}},{"$f":"VLOOKUP(H25,$B$4:B25,1,FALSE)","v":{"$error":"#N/A"}}]
[null,{"$f":"Results!A29","v":0},{"$f":"Results!C29","v":0},{"$f":"Results!B29","v":0},{"$f":"Results!D29","v":0},{"$f":"Results!G29","v":""},"- vs -",{"$f":"VLOOKUP(B26,Results!$A$8:AR80,44,FALSE)","v":{"$error":"#N/A"}},{"$f":"VLOOKUP(H26,Results!A$8:G81,3,FALSE)","v":{"$error":"#N/A"}},{"$f":"VLOOKUP(H26,Results!$A$8:G81,2,FALSE)","v":{"$error":"#N/A"}},{"$f":"VLOOKUP(H26,Results!$A$8:G81,4,FALSE)","v":{"$error":"#N/A"}},{"$f":"VLOOKUP(H26,Results!$A$8:G81,7,FALSE)","v":{"$error":"#N/A"}},{"$f":"VLOOKUP(H26,$B$4:B26,1,FALSE)","v":{"$error":"#N/A"}}]
[null,{"$f":"Results!A30","v":0},{"$f":"Results!C30","v":0},{"$f":"Results!B30","v":0},{"$f":"Results!D30","v":0},{"$f":"Results!G30","v":""},"- vs -",{"$f":"VLOOKUP(B27,Results!$A$8:AR81,44,FALSE)","v":{"$error":"#N/A"}},{"$f":"VLOOKUP(H27,Results!A$8:G82,3,FALSE)","v":{"$error":"#N/A"}},{"$f":"VLOOKUP(H27,Results!$A$8:G82,2,FALSE)","v":{"$error":"#N/A"}},{"$f":"VLOOKUP(H27,Results!$A$8:G82,4,FALSE)","v":{"$error":"#N/A"}},{"$f":"VLOOKUP(H27,Results!$A$8:G82,7,FALSE)","v":{"$error":"#N/A"}},{"$f":"VLOOKUP(H27,$B$4:B27,1,FALSE)","v":{"$error":"#N/A"}}]
[null,{"$f":"Results!A31","v":0},{"$f":"Results!C31","v":0},{"$f":"Results!B31","v":0},{"$f":"Results!D31","v":0},{"$f":"Results!G31","v":""},"- vs -",{"$f":"VLOOKUP(B28,Results!$A$8:AR82,44,FALSE)","v":{"$error":"#N/A"}},{"$f":"VLOOKUP(H28,Results!A$8:G83,3,FALSE)","v":{"$error":"#N/A"}},{"$f":"VLOOKUP(H28,Results!$A$8:G83,2,FALSE)","v":{"$error":"#N/A"}},{"$f":"VLOOKUP(H28,Results!$A$8:G83,4,FALSE)","v":{"$error":"#N/A"}},{"$f":"VLOOKUP(H28,Results!$A$8:G83,7,FALSE)","v":{"$error":"#N/A"}},{"$f":"VLOOKUP(H28,$B$4:B28,1,FALSE)","v":{"$error":"#N/A"}}]
[null,{"$f":"Results!A32","v":0},{"$f":"Results!C32","v":0},{"$f":"Results!B32","v":0},{"$f":"Results!D32","v":0},{"$f":"Results!G32","v":""},"- vs -",{"$f":"VLOOKUP(B29,Results!$A$8:AR83,44,FALSE)","v":{"$error":"#N/A"}},{"$f":"VLOOKUP(H29,Results!A$8:G84,3,FALSE)","v":{"$error":"#N/A"}},{"$f":"VLOOKUP(H29,Results!$A$8:G84,2,FALSE)","v":{"$error":"#N/A"}},{"$f":"VLOOKUP(H29,Results!$A$8:G84,4,FALSE)","v":{"$error":"#N/A"}},{"$f":"VLOOKUP(H29,Results!$A$8:G84,7,FALSE)","v":{"$error":"#N/A"}},{"$f":"VLOOKUP(H29,$B$4:B29,1,FALSE)","v":{"$error":"#N/A"}}]
[null,{"$f":"Results!A33","v":0},{"$f":"Results!C33","v":0},{"$f":"Results!B33","v":0},{"$f":"Results!D33","v":0},{"$f":"Results!G33","v":""},"- vs -",{"$f":"VLOOKUP(B30,Results!$A$8:AR84,44,FALSE)","v":{"$error":"#N/A"}},{"$f":"VLOOKUP(H30,Results!A$8:G85,3,FALSE)","v":{"$error":"#N/A"}},{"$f":"VLOOKUP(H30,Results!$A$8:G85,2,FALSE)","v":{"$error":"#N/A"}},{"$f":"VLOOKUP(H30,Results!$A$8:G85,4,FALSE)","v":{"$error":"#N/A"}},{"$f":"VLOOKUP(H30,Results!$A$8:G85,7,FALSE)","v":{"$error":"#N/A"}},{"$f":"VLOOKUP(H30,$B$4:B30,1,FALSE)","v":{"$error":"#N/A"}}]
[null,{"$f":"Results!A34","v":0},{"$f":"Results!C34","v":0},{"$f":"Results!B34","v":0},{"$f":"Results!D34","v":0},{"$f":"Results!G34","v":""},"- vs -",{"$f":"VLOOKUP(B31,Results!$A$8:AR85,44,FALSE)","v":{"$error":"#N/A"}},{"$f":"VLOOKUP(H31,Results!A$8:G86,3,FALSE)","v":{"$error":"#N/A"}},{"$f":"VLOOKUP(H31,Results!$A$8:G86,2,FALSE)","v":{"$error":"#N/A"}},{"$f":"VLOOKUP(H31,Results!$A$8:G86,4,FALSE)","v":{"$error":"#N/A"}},{"$f":"VLOOKUP(H31,Results!$A$8:G86,7,FALSE)","v":{"$error":"#N/A"}},{"$f":"VLOOKUP(H31,$B$4:B31,1,FALSE)","v":{"$error":"#N/A"}}]
[null,{"$f":"Results!A35","v":0},{"$f":"Results!C35","v":0},{"$f":"Results!B35","v":0},{"$f":"Results!D35","v":0},{"$f":"Results!G35","v":""},"- vs -",{"$f":"VLOOKUP(B32,Results!$A$8:AR86,44,FALSE)","v":{"$error":"#N/A"}},{"$f":"VLOOKUP(H32,Results!A$8:G87,3,FALSE)","v":{"$error":"#N/A"}},{"$f":"VLOOKUP(H32,Results!$A$8:G87,2,FALSE)","v":{"$error":"#N/A"}},{"$f":"VLOOKUP(H32,Results!$A$8:G87,4,FALSE)","v":{"$error":"#N/A"}},{"$f":"VLOOKUP(H32,Results!$A$8:G87,7,FALSE)","v":{"$error":"#N/A"}},{"$f":"VLOOKUP(H32,$B$4:B32,1,FALSE)","v":{"$error":"#N/A"}}]
[null,{"$f":"Results!A36","v":0},{"$f":"Results!C36","v":0},{"$f":"Results!B36","v":0},{"$f":"Results!D36","v":0},{"$f":"Results!G36","v":""},"- vs -",{"$f":"VLOOKUP(B33,Results!$A$8:AR87,44,FALSE)","v":{"$error":"#N/A"}},{"$f":"VLOOKUP(H33,Results!A$8:G88,3,FALSE)","v":{"$error":"#N/A"}},{"$f":"VLOOKUP(H33,Results!$A$8:G88,2,FALSE)","v":{"$error":"#N/A"}},{"$f":"VLOOKUP(H33,Results!$A$8:G88,4,FALSE)","v":{"$error":"#N/A"}},{"$f":"VLOOKUP(H33,Results!$A$8:G88,7,FALSE)","v":{"$error":"#N/A"}},{"$f":"VLOOKUP(H33,$B$4:B33,1,FALSE)","v":{"$error":"#N/A"}}]
[null,{"$f":"Results!A37","v":0},{"$f":"Results!C37","v":0},{"$f":"Results!B37","v":0},{"$f":"Results!D37","v":0},{"$f":"Results!G37","v":""},"- vs -",{"$f":"VLOOKUP(B34,Results!$A$8:AR88,44,FALSE)","v":{"$error":"#N/A"}},{"$f":"VLOOKUP(H34,Results!A$8:G89,3,FALSE)","v":{"$error":"#N/A"}},{"$f":"VLOOKUP(H34,Results!$A$8:G89,2,FALSE)","v":{"$error":"#N/A"}},{"$f":"VLOOKUP(H34,Results!$A$8:G89,4,FALSE)","v":{"$error":"#N/A"}},{"$f":"VLOOKUP(H34,Results!$A$8:G89,7,FALSE)","v":{"$error":"#N/A"}},{"$f":"VLOOKUP(H34,$B$4:B34,1,FALSE)","v":{"$error":"#N/A"}}]
[null,{"$f":"Results!A38","v":0},{"$f":"Results!C38","v":0},{"$f":"Results!B38","v":0},{"$f":"Results!D38","v":0},{"$f":"Results!G38","v":""},"- vs -",{"$f":"VLOOKUP(B35,Results!$A$8:AR89,44,FALSE)","v":{"$error":"#N/A"}},{"$f":"VLOOKUP(H35,Results!A$8:G90,3,FALSE)","v":{"$error":"#N/A"}},{"$f":"VLOOKUP(H35,Results!$A$8:G90,2,FALSE)","v":{"$error":"#N/A"}},{"$f":"VLOOKUP(H35,Results!$A$8:G90,4,FALSE)","v":{"$error":"#N/A"}},{"$f":"VLOOKUP(H35,Results!$A$8:G90,7,FALSE)","v":{"$error":"#N/A"}},{"$f":"VLOOKUP(H35,$B$4:B35,1,FALSE)","v":{"$error":"#N/A"}}]
[null,{"$f":"Results!A39","v":0},{"$f":"Results!C39","v":0},{"$f":"Results!B39","v":0},{"$f":"Results!D39","v":0},{"$f":"Results!G39","v":""},"- vs -",{"$f":"VLOOKUP(B36,Results!$A$8:AR90,44,FALSE)","v":{"$error":"#N/A"}},{"$f":"VLOOKUP(H36,Results!A$8:G91,3,FALSE)","v":{"$error":"#N/A"}},{"$f":"VLOOKUP(H36,Results!$A$8:G91,2,FALSE)","v":{"$error":"#N/A"}},{"$f":"VLOOKUP(H36,Results!$A$8:G91,4,FALSE)","v":{"$error":"#N/A"}},{"$f":"VLOOKUP(H36,Results!$A$8:G91,7,FALSE)","v":{"$error":"#N/A"}},{"$f":"VLOOKUP(H36,$B$4:B36,1,FALSE)","v":{"$error":"#N/A"}}]
[null,{"$f":"Results!A40","v":0},{"$f":"Results!C40","v":0},{"$f":"Results!B40","v":0},{"$f":"Results!D40","v":0},{"$f":"Results!G40","v":""},"- vs -",{"$f":"VLOOKUP(B37,Results!$A$8:AR91,44,FALSE)","v":{"$error":"#N/A"}},{"$f":"VLOOKUP(H37,Results!A$8:G92,3,FALSE)","v":{"$error":"#N/A"}},{"$f":"VLOOKUP(H37,Results!$A$8:G92,2,FALSE)","v":{"$error":"#N/A"}},{"$f":"VLOOKUP(H37,Results!$A$8:G92,4,FALSE)","v":{"$error":"#N/A"}},{"$f":"VLOOKUP(H37,Results!$A$8:G92,7,FALSE)","v":{"$error":"#N/A"}},{"$f":"VLOOKUP(H37,$B$4:B37,1,FALSE)","v":{"$error":"#N/A"}}]
[null,{"$f":"Results!A41","v":0},{"$f":"Results!C41","v":0},{"$f":"Results!B41","v":0},{"$f":"Results!D41","v":0},{"$f":"Results!G41","v":""},"- vs -",{"$f":"VLOOKUP(B38,Results!$A$8:AR92,44,FALSE)","v":{"$error":"#N/A"}},{"$f":"VLOOKUP(H38,Results!A$8:G93,3,FALSE)","v":{"$error":"#N/A"}},{"$f":"VLOOKUP(H38,Results!$A$8:G93,2,FALSE)","v":{"$error":"#N/A"}},{"$f":"VLOOKUP(H38,Results!$A$8:G93,4,FALSE)","v":{"$error":"#N/A"}},{"$f":"VLOOKUP(H38,Results!$A$8:G93,7,FALSE)","v":{"$error":"#N/A"}},{"$f":"VLOOKUP(H38,$B$4:B38,1,FALSE)","v":{"$error":"#N/A"}}]
[null,{"$f":"Results!A42","v":0},{"$f":"Results!C42","v":0},{"$f":"Results!B42","v":0},{"$f":"Results!D42","v":0},{"$f":"Results!G42","v":""},"- vs -",{"$f":"VLOOKUP(B39,Results!$A$8:AR93,44,FALSE)","v":{"$error":"#N/A"}},{"$f":"VLOOKUP(H39,Results!A$8:G94,3,FALSE)","v":{"$error":"#N/A"}},{"$f":"VLOOKUP(H39,Results!$A$8:G94,2,FALSE)","v":{"$error":"#N/A"}},{"$f":"VLOOKUP(H39,Results!$A$8:G94,4,FALSE)","v":{"$error":"#N/A"}},{"$f":"VLOOKUP(H39,Results!$A$8:G94,7,FALSE)","v":{"$error":"#N/A"}},{"$f":"VLOOKUP(H39,$B$4:B39,1,FALSE)","v":{"$error":"#N/A"}}]
[null,{"$f":"Results!A43","v":0},{"$f":"Results!C43","v":0},{"$f":"Results!B43","v":0},{"$f":"Results!D43","v":0},{"$f":"Results!G43","v":""},"- vs -",{"$f":"VLOOKUP(B40,Results!$A$8:AR94,44,FALSE)","v":{"$error":"#N/A"}},{"$f":"VLOOKUP(H40,Results!A$8:G95,3,FALSE)","v":{"$error":"#N/A"}},{"$f":"VLOOKUP(H40,Results!$A$8:G95,2,FALSE)","v":{"$error":"#N/A"}},{"$f":"VLOOKUP(H40,Results!$A$8:G95,4,FALSE)","v":{"$error":"#N/A"}},{"$f":"VLOOKUP(H40,Results!$A$8:G95,7,FALSE)","v":{"$error":"#N/A"}},{"$f":"VLOOKUP(H40,$B$4:B40,1,FALSE)","v":{"$error":"#N/A"}}]
[null,{"$f":"Results!A44","v":0},{"$f":"Results!C44","v":0},{"$f":"Results!B44","v":0},{"$f":"Results!D44","v":0},{"$f":"Results!G44","v":""},"- vs -",{"$f":"VLOOKUP(B41,Results!$A$8:AR95,44,FALSE)","v":{"$error":"#N/A"}},{"$f":"VLOOKUP(H41,Results!A$8:G96,3,FALSE)","v":{"$error":"#N/A"}},{"$f":"VLOOKUP(H41,Results!$A$8:G96,2,FALSE)","v":{"$error":"#N/A"}},{"$f":"VLOOKUP(H41,Results!$A$8:G96,4,FALSE)","v":{"$error":"#N/A"}},{"$f":"VLOOKUP(H41,Results!$A$8:G96,7,FALSE)","v":{"$error":"#N/A"}},{"$f":"VLOOKUP(H41,$B$4:B41,1,FALSE)","v":{"$error":"#N/A"}}]
[null,{"$f":"Results!A45","v":0},{"$f":"Results!C45","v":0},{"$f":"Results!B45","v":0},{"$f":"Results!D45","v":0},{"$f":"Results!G45","v":""},"- vs -",{"$f":"VLOOKUP(B42,Results!$A$8:AR96,44,FALSE)","v":{"$error":"#N/A"}},{"$f":"VLOOKUP(H42,Results!A$8:G97,3,FALSE)","v":{"$error":"#N/A"}},{"$f":"VLOOKUP(H42,Results!$A$8:G97,2,FALSE)","v":{"$error":"#N/A"}},{"$f":"VLOOKUP(H42,Results!$A$8:G97,4,FALSE)","v":{"$error":"#N/A"}},{"$f":"VLOOKUP(H42,Results!$A$8:G97,7,FALSE)","v":{"$error":"#N/A"}},{"$f":"VLOOKUP(H42,$B$4:B42,1,FALSE)","v":{"$error":"#N/A"}}]
[null,{"$f":"Results!A46","v":0},{"$f":"Results!C46","v":0},{"$f":"Results!B46","v":0},{"$f":"Results!D46","v":0},{"$f":"Results!G46","v":""},"- vs -",{"$f":"VLOOKUP(B43,Results!$A$8:AR97,44,FALSE)","v":{"$error":"#N/A"}},{"$f":"VLOOKUP(H43,Results!A$8:G98,3,FALSE)","v":{"$error":"#N/A"}},{"$f":"VLOOKUP(H43,Results!$A$8:G98,2,FALSE)","v":{"$error":"#N/A"}},{"$f":"VLOOKUP(H43,Results!$A$8:G98,4,FALSE)","v":{"$error":"#N/A"}},{"$f":"VLOOKUP(H43,Results!$A$8:G98,7,FALSE)","v":{"$error":"#N/A"}},{"$f":"VLOOKUP(H43,$B$4:B43,1,FALSE)","v":{"$error":"#N/A"}}]
[null,{"$f":"Results!A47","v":0},{"$f":"Results!C47","v":0},{"$f":"Results!B47","v":0},{"$f":"Results!D47","v":0},{"$f":"Results!G47","v":""},"- vs -",{"$f":"VLOOKUP(B44,Results!$A$8:AR98,44,FALSE)","v":{"$error":"#N/A"}},{"$f":"VLOOKUP(H44,Results!A$8:G99,3,FALSE)","v":{"$error":"#N/A"}},{"$f":"VLOOKUP(H44,Results!$A$8:G99,2,FALSE)","v":{"$error":"#N/A"}},{"$f":"VLOOKUP(H44,Results!$A$8:G99,4,FALSE)","v":{"$error":"#N/A"}},{"$f":"VLOOKUP(H44,Results!$A$8:G99,7,FALSE)","v":{"$error":"#N/A"}},{"$f":"VLOOKUP(H44,$B$4:B44,1,FALSE)","v":{"$error":"#N/A"}}]
[null,{"$f":"Results!A48","v":0},{"$f":"Results!C48","v":0},{"$f":"Results!B48","v":0},{"$f":"Results!D48","v":0},{"$f":"Results!G48","v":""},"- vs -",{"$f":"VLOOKUP(B45,Results!$A$8:AR99,44,FALSE)","v":{"$error":"#N/A"}},{"$f":"VLOOKUP(H45,Results!A$8:G100,3,FALSE)","v":{"$error":"#N/A"}},{"$f":"VLOOKUP(H45,Results!$A$8:G100,2,FALSE)","v":{"$error":"#N/A"}},{"$f":"VLOOKUP(H45,Results!$A$8:G100,4,FALSE)","v":{"$error":"#N/A"}},{"$f":"VLOOKUP(H45,Results!$A$8:G100,7,FALSE)","v":{"$error":"#N/A"}},{"$f":"VLOOKUP(H45,$B$4:B45,1,FALSE)","v":{"$error":"#N/A"}}]
[null,{"$f":"Results!A49","v":0},{"$f":"Results!C49","v":0},{"$f":"Results!B49","v":0},{"$f":"Results!D49","v":0},{"$f":"Results!G49","v":""},"- vs -",{"$f":"VLOOKUP(B46,Results!$A$8:AR100,44,FALSE)","v":{"$error":"#N/A"}},{"$f":"VLOOKUP(H46,Results!A$8:G101,3,FALSE)","v":{"$error":"#N/A"}},{"$f":"VLOOKUP(H46,Results!$A$8:G101,2,FALSE)","v":{"$error":"#N/A"}},{"$f":"VLOOKUP(H46,Results!$A$8:G101,4,FALSE)","v":{"$error":"#N/A"}},{"$f":"VLOOKUP(H46,Results!$A$8:G101,7,FALSE)","v":{"$error":"#N/A"}},{"$f":"VLOOKUP(H46,$B$4:B46,1,FALSE)","v":{"$error":"#N/A"}}]
[null,{"$f":"Results!A50","v":0},{"$f":"Results!C50","v":0},{"$f":"Results!B50","v":0},{"$f":"Results!D50","v":0},{"$f":"Results!G50","v":""},"- vs -",{"$f":"VLOOKUP(B47,Results!$A$8:AR101,44,FALSE)","v":{"$error":"#N/A"}},{"$f":"VLOOKUP(H47,Results!A$8:G102,3,FALSE)","v":{"$error":"#N/A"}},{"$f":"VLOOKUP(H47,Results!$A$8:G102,2,FALSE)","v":{"$error":"#N/A"}},{"$f":"VLOOKUP(H47,Results!$A$8:G102,4,FALSE)","v":{"$error":"#N/A"}},{"$f":"VLOOKUP(H47,Results!$A$8:G102,7,FALSE)","v":{"$error":"#N/A"}},{"$f":"VLOOKUP(H47,$B$4:B47,1,FALSE)","v":{"$error":"#N/A"}}]
[null,{"$f":"Results!A51","v":0},{"$f":"Results!C51","v":0},{"$f":"Results!B51","v":0},{"$f":"Results!D51","v":0},{"$f":"Results!G51","v":""},"- vs -",{"$f":"VLOOKUP(B48,Results!$A$8:AR102,44,FALSE)","v":{"$error":"#N/A"}},{"$f":"VLOOKUP(H48,Results!A$8:G103,3,FALSE)","v":{"$error":"#N/A"}},{"$f":"VLOOKUP(H48,Results!$A$8:G103,2,FALSE)","v":{"$error":"#N/A"}},{"$f":"VLOOKUP(H48,Results!$A$8:G103,4,FALSE)","v":{"$error":"#N/A"}},{"$f":"VLOOKUP(H48,Results!$A$8:G103,7,FALSE)","v":{"$error":"#N/A"}},{"$f":"VLOOKUP(H48,$B$4:B48,1,FALSE)","v":{"$error":"#N/A"}}]
[null,{"$f":"Results!A52","v":0},{"$f":"Results!C52","v":0},{"$f":"Results!B52","v":0},{"$f":"Results!D52","v":0},{"$f":"Results!G52","v":""},"- vs -",{"$f":"VLOOKUP(B49,Results!$A$8:AR103,44,FALSE)","v":{"$error":"#N/A"}},{"$f":"VLOOKUP(H49,Results!A$8:G104,3,FALSE)","v":{"$error":"#N/A"}},{"$f":"VLOOKUP(H49,Results!$A$8:G104,2,FALSE)","v":{"$error":"#N/A"}},{"$f":"VLOOKUP(H49,Results!$A$8:G104,4,FALSE)","v":{"$error":"#N/A"}},{"$f":"VLOOKUP(H49,Results!$A$8:G104,7,FALSE)","v":{"$error":"#N/A"}},{"$f":"VLOOKUP(H49,$B$4:B49,1,FALSE)","v":{"$error":"#N/A"}}]
[null,{"$f":"Results!A53","v":0},{"$f":"Results!C53","v":0},{"$f":"Results!B53","v":0},{"$f":"Results!D53","v":0},{"$f":"Results!G53","v":""},"- vs -",{"$f":"VLOOKUP(B50,Results!$A$8:AR104,44,FALSE)","v":{"$error":"#N/A"}},{"$f":"VLOOKUP(H50,Results!A$8:G105,3,FALSE)","v":{"$error":"#N/A"}},{"$f":"VLOOKUP(H50,Results!$A$8:G105,2,FALSE)","v":{"$error":"#N/A"}},{"$f":"VLOOKUP(H50,Results!$A$8:G105,4,FALSE)","v":{"$error":"#N/A"}},{"$f":"VLOOKUP(H50,Results!$A$8:G105,7,FALSE)","v":{"$error":"#N/A"}},{"$f":"VLOOKUP(H50,$B$4:B50,1,FALSE)","v":{"$error":"#N/A"}}]
[null,{"$f":"Results!A54","v":0},{"$f":"Results!C54","v":0},{"$f":"Results!B54","v":0},{"$f":"Results!D54","v":0},{"$f":"Results!G54","v":""},"- vs -",{"$f":"VLOOKUP(B51,Results!$A$8:AR105,44,FALSE)","v":{"$error":"#N/A"}},{"$f":"VLOOKUP(H51,Results!A$8:G106,3,FALSE)","v":{"$error":"#N/A"}},{"$f":"VLOOKUP(H51,Results!$A$8:G106,2,FALSE)","v":{"$error":"#N/A"}},{"$f":"VLOOKUP(H51,Results!$A$8:G106,4,FALSE)","v":{"$error":"#N/A"}},{"$f":"VLOOKUP(H51,Results!$A$8:G106,7,FALSE)","v":{"$error":"#N/A"}},{"$f":"VLOOKUP(H51,$B$4:B51,1,FALSE)","v":{"$error":"#N/A"}}]
[null,{"$f":"Results!A55","v":0},{"$f":"Results!C55","v":0},{"$f":"Results!B55","v":0},{"$f":"Results!D55","v":0},{"$f":"Results!G55","v":""},"- vs -",{"$f":"VLOOKUP(B52,Results!$A$8:AR106,44,FALSE)","v":{"$error":"#N/A"}},{"$f":"VLOOKUP(H52,Results!A$8:G107,3,FALSE)","v":{"$error":"#N/A"}},{"$f":"VLOOKUP(H52,Results!$A$8:G107,2,FALSE)","v":{"$error":"#N/A"}},{"$f":"VLOOKUP(H52,Results!$A$8:G107,4,FALSE)","v":{"$error":"#N/A"}},{"$f":"VLOOKUP(H52,Results!$A$8:G107,7,FALSE)","v":{"$error":"#N/A"}},{"$f":"VLOOKUP(H52,$B$4:B52,1,FALSE)","v":{"$error":"#N/A"}}]
[null,{"$f":"Results!A56","v":0},{"$f":"Results!C56","v":0},{"$f":"Results!B56","v":0},{"$f":"Results!D56","v":0},{"$f":"Results!G56","v":""},"- vs -",{"$f":"VLOOKUP(B53,Results!$A$8:AR107,44,FALSE)","v":{"$error":"#N/A"}},{"$f":"VLOOKUP(H53,Results!A$8:G108,3,FALSE)","v":{"$error":"#N/A"}},{"$f":"VLOOKUP(H53,Results!$A$8:G108,2,FALSE)","v":{"$error":"#N/A"}},{"$f":"VLOOKUP(H53,Results!$A$8:G108,4,FALSE)","v":{"$error":"#N/A"}},{"$f":"VLOOKUP(H53,Results!$A$8:G108,7,FALSE)","v":{"$error":"#N/A"}},{"$f":"VLOOKUP(H53,$B$4:B53,1,FALSE)","v":{"$error":"#N/A"}}]
[null,{"$f":"Results!A57","v":0},{"$f":"Results!C57","v":0},{"$f":"Results!B57","v":0},{"$f":"Results!D57","v":0},{"$f":"Results!G57","v":""},"- vs -",{"$f":"VLOOKUP(B54,Results!$A$8:AR108,44,FALSE)","v":{"$error":"#N/A"}},{"$f":"VLOOKUP(H54,Results!A$8:G109,3,FALSE)","v":{"$error":"#N/A"}},{"$f":"VLOOKUP(H54,Results!$A$8:G109,2,FALSE)","v":{"$error":"#N/A"}},{"$f":"VLOOKUP(H54,Results!$A$8:G109,4,FALSE)","v":{"$error":"#N/A"}},{"$f":"VLOOKUP(H54,Results!$A$8:G109,7,FALSE)","v":{"$error":"#N/A"}},{"$f":"VLOOKUP(H54,$B$4:B54,1,FALSE)","v":{"$error":"#N/A"}}]
[null,{"$f":"Results!A58","v":0},{"$f":"Results!C58","v":0},{"$f":"Results!B58","v":0},{"$f":"Results!D58","v":0},{"$f":"Results!G58","v":""},"- vs -",{"$f":"VLOOKUP(B55,Results!$A$8:AR109,44,FALSE)","v":{"$error":"#N/A"}},{"$f":"VLOOKUP(H55,Results!A$8:G110,3,FALSE)","v":{"$error":"#N/A"}},{"$f":"VLOOKUP(H55,Results!$A$8:G110,2,FALSE)","v":{"$error":"#N/A"}},{"$f":"VLOOKUP(H55,Results!$A$8:G110,4,FALSE)","v":{"$error":"#N/A"}},{"$f":"VLOOKUP(H55,Results!$A$8:G110,7,FALSE)","v":{"$error":"#N/A"}},{"$f":"VLOOKUP(H55,$B$4:B55,1,FALSE)","v":{"$error":"#N/A"}}]
[null,{"$f":"Results!A59","v":0},{"$f":"Results!C59","v":0},{"$f":"Results!B59","v":0},{"$f":"Results!D59","v":0},{"$f":"Results!G59","v":""},"- vs -",{"$f":"VLOOKUP(B56,Results!$A$8:AR110,44,FALSE)","v":{"$error":"#N/A"}},{"$f":"VLOOKUP(H56,Results!A$8:G111,3,FALSE)","v":{"$error":"#N/A"}},{"$f":"VLOOKUP(H56,Results!$A$8:G111,2,FALSE)","v":{"$error":"#N/A"}},{"$f":"VLOOKUP(H56,Results!$A$8:G111,4,FALSE)","v":{"$error":"#N/A"}},{"$f":"VLOOKUP(H56,Results!$A$8:G111,7,FALSE)","v":{"$error":"#N/A"}},{"$f":"VLOOKUP(H56,$B$4:B56,1,FALSE)","v":{"$error":"#N/A"}}]
[null,{"$f":"Results!A60","v":0},{"$f":"Results!C60","v":0},{"$f":"Results!B60","v":0},{"$f":"Results!D60","v":0},{"$f":"Results!G60","v":""},"- vs -",{"$f":"VLOOKUP(B57,Results!$A$8:AR111,44,FALSE)","v":{"$error":"#N/A"}},{"$f":"VLOOKUP(H57,Results!A$8:G112,3,FALSE)","v":{"$error":"#N/A"}},{"$f":"VLOOKUP(H57,Results!$A$8:G112,2,FALSE)","v":{"$error":"#N/A"}},{"$f":"VLOOKUP(H57,Results!$A$8:G112,4,FALSE)","v":{"$error":"#N/A"}},{"$f":"VLOOKUP(H57,Results!$A$8:G112,7,FALSE)","v":{"$error":"#N/A"}},{"$f":"VLOOKUP(H57,$B$4:B57,1,FALSE)","v":{"$error":"#N/A"}}]
[null,{"$f":"Results!A61","v":0},{"$f":"Results!C61","v":0},{"$f":"Results!B61","v":0},{"$f":"Results!D61","v":0},{"$f":"Results!G61","v":""},"- vs -",{"$f":"VLOOKUP(B58,Results!$A$8:AR112,44,FALSE)","v":{"$error":"#N/A"}},{"$f":"VLOOKUP(H58,Results!A$8:G113,3,FALSE)","v":{"$error":"#N/A"}},{"$f":"VLOOKUP(H58,Results!$A$8:G113,2,FALSE)","v":{"$error":"#N/A"}},{"$f":"VLOOKUP(H58,Results!$A$8:G113,4,FALSE)","v":{"$error":"#N/A"}},{"$f":"VLOOKUP(H58,Results!$A$8:G113,7,FALSE)","v":{"$error":"#N/A"}},{"$f":"VLOOKUP(H58,$B$4:B58,1,FALSE)","v":{"$error":"#N/A"}}]
[null,{"$f":"Results!A62","v":0},{"$f":"Results!C62","v":0},{"$f":"Results!B62","v":0},{"$f":"Results!D62","v":0},{"$f":"Results!G62","v":""},"- vs -",{"$f":"VLOOKUP(B59,Results!$A$8:AR113,44,FALSE)","v":{"$error":"#N/A"}},{"$f":"VLOOKUP(H59,Results!A$8:G114,3,FALSE)","v":{"$error":"#N/A"}},{"$f":"VLOOKUP(H59,Results!$A$8:G114,2,FALSE)","v":{"$error":"#N/A"}},{"$f":"VLOOKUP(H59,Results!$A$8:G114,4,FALSE)","v":{"$error":"#N/A"}},{"$f":"VLOOKUP(H59,Results!$A$8:G114,7,FALSE)","v":{"$error":"#N/A"}},{"$f":"VLOOKUP(H59,$B$4:B59,1,FALSE)","v":{"$error":"#N/A"}}]
[null,{"$f":"Results!A63","v":0},{"$f":"Results!C63","v":0},{"$f":"Results!B63","v":0},{"$f":"Results!D63","v":0},{"$f":"Results!G63","v":""},"- vs -",{"$f":"VLOOKUP(B60,Results!$A$8:AR114,44,FALSE)","v":{"$error":"#N/A"}},{"$f":"VLOOKUP(H60,Results!A$8:G115,3,FALSE)","v":{"$error":"#N/A"}},{"$f":"VLOOKUP(H60,Results!$A$8:G115,2,FALSE)","v":{"$error":"#N/A"}},{"$f":"VLOOKUP(H60,Results!$A$8:G115,4,FALSE)","v":{"$error":"#N/A"}},{"$f":"VLOOKUP(H60,Results!$A$8:G115,7,FALSE)","v":{"$error":"#N/A"}},{"$f":"VLOOKUP(H60,$B$4:B60,1,FALSE)","v":{"$error":"#N/A"}}]
[null,{"$f":"Results!A64","v":0},{"$f":"Results!C64","v":0},{"$f":"Results!B64","v":0},{"$f":"Results!D64","v":0},{"$f":"Results!G64","v":""},"- vs -",{"$f":"VLOOKUP(B61,Results!$A$8:AR115,44,FALSE)","v":{"$error":"#N/A"}},{"$f":"VLOOKUP(H61,Results!A$8:G116,3,FALSE)","v":{"$error":"#N/A"}},{"$f":"VLOOKUP(H61,Results!$A$8:G116,2,FALSE)","v":{"$error":"#N/A"}},{"$f":"VLOOKUP(H61,Results!$A$8:G116,4,FALSE)","v":{"$error":"#N/A"}},{"$f":"VLOOKUP(H61,Results!$A$8:G116,7,FALSE)","v":{"$error":"#N/A"}},{"$f":"VLOOKUP(H61,$B$4:B61,1,FALSE)","v":{"$error":"#N/A"}}]
[null,{"$f":"Results!A65","v":0},{"$f":"Results!C65","v":0},{"$f":"Results!B65","v":0},{"$f":"Results!D65","v":0},{"$f":"Results!G65","v":""},"- vs -",{"$f":"VLOOKUP(B62,Results!$A$8:AR116,44,FALSE)","v":{"$error":"#N/A"}},{"$f":"VLOOKUP(H62,Results!A$8:G117,3,FALSE)","v":{"$error":"#N/A"}},{"$f":"VLOOKUP(H62,Results!$A$8:G117,2,FALSE)","v":{"$error":"#N/A"}},{"$f":"VLOOKUP(H62,Results!$A$8:G117,4,FALSE)","v":{"$error":"#N/A"}},{"$f":"VLOOKUP(H62,Results!$A$8:G117,7,FALSE)","v":{"$error":"#N/A"}},{"$f":"VLOOKUP(H62,$B$4:B62,1,FALSE)","v":{"$error":"#N/A"}}]
[null,{"$f":"Results!A66","v":0},{"$f":"Results!C66","v":0},{"$f":"Results!B66","v":0},{"$f":"Results!D66","v":0},{"$f":"Results!G66","v":""},"- vs -",{"$f":"VLOOKUP(B63,Results!$A$8:AR117,44,FALSE)","v":{"$error":"#N/A"}},{"$f":"VLOOKUP(H63,Results!A$8:G118,3,FALSE)","v":{"$error":"#N/A"}},{"$f":"VLOOKUP(H63,Results!$A$8:G118,2,FALSE)","v":{"$error":"#N/A"}},{"$f":"VLOOKUP(H63,Results!$A$8:G118,4,FALSE)","v":{"$error":"#N/A"}},{"$f":"VLOOKUP(H63,Results!$A$8:G118,7,FALSE)","v":{"$error":"#N/A"}},{"$f":"VLOOKUP(H63,$B$4:B63,1,FALSE)","v":{"$error":"#N/A"}}]
[null,{"$f":"Results!A67","v":0},{"$f":"Results!C67","v":0},{"$f":"Results!B67","v":0},{"$f":"Results!D67","v":0},{"$f":"Results!G67","v":""},"- vs -",{"$f":"VLOOKUP(B64,Results!$A$8:AR118,44,FALSE)","v":{"$error":"#N/A"}},{"$f":"VLOOKUP(H64,Results!A$8:G119,3,FALSE)","v":{"$error":"#N/A"}},{"$f":"VLOOKUP(H64,Results!$A$8:G119,2,FALSE)","v":{"$error":"#N/A"}},{"$f":"VLOOKUP(H64,Results!$A$8:G119,4,FALSE)","v":{"$error":"#N/A"}},{"$f":"VLOOKUP(H64,Results!$A$8:G119,7,FALSE)","v":{"$error":"#N/A"}}]
[null,{"$f":"Results!A68","v":0},{"$f":"Results!C68","v":0},{"$f":"Results!B68","v":0},{"$f":"Results!D68","v":0},{"$f":"Results!G68","v":""},"- vs -",{"$f":"VLOOKUP(B65,Results!$A$8:AR119,44,FALSE)","v":{"$error":"#N/A"}},{"$f":"VLOOKUP(H65,Results!A$8:G120,3,FALSE)","v":{"$error":"#N/A"}},{"$f":"VLOOKUP(H65,Results!$A$8:G120,2,FALSE)","v":{"$error":"#N/A"}},{"$f":"VLOOKUP(H65,Results!$A$8:G120,4,FALSE)","v":{"$error":"#N/A"}},{"$f":"VLOOKUP(H65,Results!$A$8:G120,7,FALSE)","v":{"$error":"#N/A"}}]
[null,{"$f":"Results!A69","v":0},{"$f":"Results!C69","v":0},{"$f":"Results!B69","v":0},{"$f":"Results!D69","v":0},{"$f":"Results!G69","v":""},"- vs -",{"$f":"VLOOKUP(B66,Results!$A$8:AR120,44,FALSE)","v":{"$error":"#N/A"}},{"$f":"VLOOKUP(H66,Results!A$8:G121,3,FALSE)","v":{"$error":"#N/A"}},{"$f":"VLOOKUP(H66,Results!$A$8:G121,2,FALSE)","v":{"$error":"#N/A"}},{"$f":"VLOOKUP(H66,Results!$A$8:G121,4,FALSE)","v":{"$error":"#N/A"}},{"$f":"VLOOKUP(H66,Results!$A$8:G121,7,FALSE)","v":{"$error":"#N/A"}}]
[null,{"$f":"Results!A70","v":0},{"$f":"Results!C70","v":0},{"$f":"Results!B70","v":0},{"$f":"Results!D70","v":0},{"$f":"Results!G70","v":""},"- vs -",{"$f":"VLOOKUP(B67,Results!$A$8:AR121,44,FALSE)","v":{"$error":"#N/A"}},{"$f":"VLOOKUP(H67,Results!A$8:G122,3,FALSE)","v":{"$error":"#N/A"}},{"$f":"VLOOKUP(H67,Results!$A$8:G122,2,FALSE)","v":{"$error":"#N/A"}},{"$f":"VLOOKUP(H67,Results!$A$8:G122,4,FALSE)","v":{"$error":"#N/A"}},{"$f":"VLOOKUP(H67,Results!$A$8:G122,7,FALSE)","v":{"$error":"#N/A"}}]
[null,{"$f":"Results!A71","v":0},{"$f":"Results!C71","v":0},{"$f":"Results!B71","v":0},{"$f":"Results!D71","v":0},{"$f":"Results!G71","v":""},"- vs -",{"$f":"VLOOKUP(B68,Results!$A$8:AR122,44,FALSE)","v":{"$error":"#N/A"}},{"$f":"VLOOKUP(H68,Results!A$8:G123,3,FALSE)","v":{"$error":"#N/A"}},{"$f":"VLOOKUP(H68,Results!$A$8:G123,2,FALSE)","v":{"$error":"#N/A"}},{"$f":"VLOOKUP(H68,Results!$A$8:G123,4,FALSE)","v":{"$error":"#N/A"}},{"$f":"VLOOKUP(H68,Results!$A$8:G123,7,FALSE)","v":{"$error":"#N/A"}}]
[null,{"$f":"Results!A72","v":0},{"$f":"Results!C72","v":0},{"$f":"Results!B72","v":0},{"$f":"Results!D72","v":0},{"$f":"Results!G72","v":""},"- vs -",{"$f":"VLOOKUP(B69,Results!$A$8:AR123,44,FALSE)","v":{"$error":"#N/A"}},{"$f":"VLOOKUP(H69,Results!A$8:G124,3,FALSE)","v":{"$error":"#N/A"}},{"$f":"VLOOKUP(H69,Results!$A$8:G124,2,FALSE)","v":{"$error":"#N/A"}},{"$f":"VLOOKUP(H69,Results!$A$8:G124,4,FALSE)","v":{"$error":"#N/A"}},{"$f":"VLOOKUP(H69,Results!$A$8:G124,7,FALSE)","v":{"$error":"#N/A"}}]