{"text_format":"1","workbook":"xlsx","n_sheets":18,"sheets":["Results","Instructions","Round Draws","Armees","Module1","Module2","Module3","Module4","Module5","Round 1","Round 2","Round 3","Round 4","Round 5","Round 6","Round 7","Round 8","Standings"],"not_rendered":{"charts":0,"images":9,"macros":1,"external_links":0,"defined_names":9,"comments":0,"pivot_tables":0},"unopened":[{"sheet":"Module1","index":4,"reason":"part_missing"},{"sheet":"Module2","index":5,"reason":"part_missing"},{"sheet":"Module3","index":6,"reason":"part_missing"},{"sheet":"Module4","index":7,"reason":"part_missing"},{"sheet":"Module5","index":8,"reason":"part_missing"}],"bounds":{"document_bytes":16777216,"sheet_cells":100000,"rows_first":2000,"rows_last":500,"rows_between":2000,"halvings":0,"cell_chars":16384,"cell_head_chars":4096},"cells_cut":0,"cells_raw":0,"read":"whole","date_system":"1900"}

{"sheet":"Results","index":0,"n_rows":116,"n_cols":68,"rows_kept":116,"cut":false,"hidden":false,"merged":[[1,65,1,67],[2,4,2,5],[3,4,3,5],[2,1,2,2],[3,1,3,2]]}
["V2.1.1",null,null,"L'Art de la Guerre - Result Sheet"]
[null,null,null,null,null,null,null,null,null,null,null,null,null,null,null,null,null,null,null,null,null,null,null,null,null,null,null,null,null,null,null,null,null,null,null,null,null,null,null,null,null,null,null,null,null,null,null,null,null,null,null,null,null,null,null,null,null,null,null,null,null,null,null,null,null,"Umpire Zone"]
["Tournament",null,null,"Date",null,null,"# Players (8 - 52)"]
["Theme","Open Theme",null,"Country","UK",null,"# Rounds (3 - 8)"]
[]
[null,null,null,null,null,null,null,null,null,null,null,"Rnd 1",null,null,null,null,null,null,"Rnd 2",null,null,null,null,null,null,"Rnd 3",null,null,null,null,null,null,"Rnd 4",null,null,null,null,null,null,"Rnd 5",null,null,null,null,null,null,"Rnd 6",null,null,null,null,null,null,"Rnd 7",null,null,null,null,null,null,"Rnd 8",null,null,null,null,"Opponents","Ex-Aequo","Ajustment"]
["ID","Surname","First Name","Club","Points","N°","Army","Units","ID ","Adversaire",null,"Result",null,"Losses","Points","ID ","Adversaire",null,"Result",null,"Losses","Points","ID ","Adversaire",null,"Result",null,"Losses","Points","ID ","Adversaire",null,"Result",null,"Losses","Points","ID ","Adversaire",null,"Result",null,"Losses","Points","ID ","Adversaire",null,"Result",null,"Losses","Points","ID ","Adversaire",null,"Result",null,"Losses","Points","ID ","Adversaire",null,"Result",null,"Losses","Points",null,"Scores",null,"Points"]
[null,null,null,null,{"$f":"O8+V8+AC8+AJ8+AQ8+BP8+AX8+BE8+BL8","v":0},null,{"$f":"IF($F8<>\"\",VLOOKUP(F8,Armees!$A$1:$B$283,2,FALSE),\"\")","v":""},null,null,{"$f":"IF(I8<>\"\",VLOOKUP(I8,$A$8:$C$60,2,FALSE),\"\")","v":""},{"$f":"IF(I8<>\"\",IF(I8=$A8,\"ERR\",IF(OR(I8=$P8,I8=$W8,I8=$AD8,I8=$AK8,I8=$AR8,I8=$AY8,I8=$BF8),\"DUP\",IF(ISNA(VLOOKUP(I8,$A$8:$A$60,1,FALSE)),\"ERR\",IF(COUNTIF($I$8:$I$60,I8)>1,\"ERR\",IF($D8=VLOOKUP(I8,$A$8:$D$60,4,FALSE),\"CLUB\",\"OK\"))))),\"\")","v":""},null,{"$f":"IF(L8<>\"\",IF(L8=\"Victoire\",IF(VLOOKUP(I8,$A$8:$L$60,12,FALSE)=\"Défaite\",\"OK\",\"ERR\"),IF(L8=\"Défaite\",IF(VLOOKUP(I8,$A$8:$L$60,12,FALSE)=\"Victoire\",\"OK\",\"ERR\"),IF(L8=\"Nul\",IF(VLOOKUP(I8,$A$8:$L$60,12,FALSE)=\"Nul\",\"OK\",\"ERR\")))),\"\")","v":""},null,{"$f":"IF(L8=\"Victoire\",100-ROUNDDOWN(20*N8/$H8,0),\nIF(L8=\"Défaite\",10+ROUNDDOWN(20*VLOOKUP(I8,$A$8:$N$60,14,FALSE)/VLOOKUP(I8,$A$8:$H$60,8,FALSE),0),\nIF(AND(L8=\"Nul\",$N8<>$H8),40+(2*ROUNDDOWN(10*VLOOKUP(I8,$A$8:$N$60,14,FALSE)/VLOOKUP(I8,$A$8:$H$60,8,FALSE),0)-ROUNDDOWN(10*N8/$H8,0)),IF(AND(L8=\"Nul\",$N8=$H8),58,0))))","v":0},null,null,null,null,{"$f":"IF(S8<>\"\",IF(S8=\"Victoire\",IF(VLOOKUP(P8,$A$8:$BL$60,19,FALSE)=\"Défaite\",\"OK\",\"ERR\"),IF(S8=\"Défaite\",IF(VLOOKUP(P8,$A$8:$BL$60,19,FALSE)=\"Victoire\",\"OK\",\"ERR\"),IF(S8=\"Nul\",IF(VLOOKUP(P8,$A$8:$BL$60,19,FALSE)=\"Nul\",\"OK\",\"ERR\")))),\"\")","v":""},null,{"$f":"IF(S8=\"Victoire\",100-ROUNDDOWN(20*U8/$H8,0),\nIF(S8=\"Défaite\",10+ROUNDDOWN(20*VLOOKUP(P8,$A$8:$AO$60,21,FALSE)/VLOOKUP(P8,$A$8:$H$60,8,FALSE),0),\nIF(AND(S8=\"Nul\",$U8<>$H8),40+(2*ROUNDDOWN(10*VLOOKUP(P8,$A$8:$AO$60,21,FALSE)/VLOOKUP(P8,$A$8:$H$60,8,FALSE),0)-ROUNDDOWN(10*U8/$H8,0)),IF(AND(S8=\"Nul\",$U8=$H8),58,0))))","v":0},null,{"$f":"IF(W8<>\"\",VLOOKUP(W8,$A$8:$C$60,2,FALSE),\"\")","v":""},{"$f":"IF(W8<>\"\",IF(W8=$A8,\"ERR\",IF(OR(W8=$P8,W8=$I8,W8=$AD8,W8=$AK8,W8=$AR8,W8=$AY8,W8=$BF8),\"DUP\",IF(ISNA(VLOOKUP(W8,$A$8:$A$60,1,FALSE)),\"ERR\",IF(COUNTIF($I$8:$I$60,W8)>1,\"ERR\",IF($D8=VLOOKUP(W8,$A$8:$D$60,4,FALSE),\"CLUB\",\"OK\"))))),\"\")","v":""},null,{"$f":"IF(Z8<>\"\",IF(Z8=\"Victoire\",IF(VLOOKUP(W8,$A$8:$BJ$60,26,FALSE)=\"Défaite\",\"OK\",\"ERR\"),IF(Z8=\"Défaite\",IF(VLOOKUP(W8,$A$8:$BJ$60,26,FALSE)=\"Victoire\",\"OK\",\"ERR\"),IF(Z8=\"Nul\",IF(VLOOKUP(W8,$A$8:$BJ$60,26,FALSE)=\"Nul\",\"OK\",\"ERR\")))),\"\")","v":""},null,{"$f":"IF(Z8=\"Victoire\",100-ROUNDDOWN(20*AB8/$H8,0),\nIF(Z8=\"Défaite\",10+ROUNDDOWN(20*VLOOKUP(W8,$A$8:$AO$60,28,FALSE)/VLOOKUP(W8,$A$8:$H$60,8,FALSE),0),\nIF(AND(Z8=\"Nul\",$AB8<>$H8),40+(2*ROUNDDOWN(10*VLOOKUP(W8,$A$8:$AO$60,28,FALSE)/VLOOKUP(W8,$A$8:$H$60,8,FALSE),0)-ROUNDDOWN(10*AB8/$H8,0)),IF(AND(Z8=\"Nul\",$AB8=$H8),58,0))))","v":0},null,{"$f":"IF(AD8<>\"\",VLOOKUP(AD8,$A$8:$C$60,2,FALSE),\"\")","v":""},{"$f":"IF(AD8<>\"\",IF(AD8=$A8,\"ERR\",IF(OR(AD8=$P8,AD8=$W8,AD8=$I8,AD8=$AK8, AD8=$AR8,AD8=$AY8,AD8=$BF8),\"DUP\",IF(ISNA(VLOOKUP(AD8,$A$8:$A$60,1,FALSE)),\"ERR\",IF(COUNTIF($I$8:$I$60,AD8)>1,\"ERR\",IF($D8=VLOOKUP(AD8,$A$8:$D$60,4,FALSE),\"CLUB\",\"OK\"))))),\"\")","v":""},null,{"$f":"IF(AG8<>\"\",IF(AG8=\"Victoire\",IF(VLOOKUP(AD8,$A$8:$BJ$60,33,FALSE)=\"Défaite\",\"OK\",\"ERR\"),IF(AG8=\"Défaite\",IF(VLOOKUP(AD8,$A$8:$BJ$60,33,FALSE)=\"Victoire\",\"OK\",\"ERR\"),IF(AG8=\"Nul\",IF(VLOOKUP(AD8,$A$8:$BJ$60,33,FALSE)=\"Nul\",\"OK\",\"ERR\")))),\"\")","v":""},null,{"$f":"IF(AG8=\"Victoire\",100-ROUNDDOWN(20*AI8/$H8,0),\nIF(AG8=\"Défaite\",10+ROUNDDOWN(20*VLOOKUP(AD8,$A$8:$AO$60,35,FALSE)/VLOOKUP(AD8,$A$8:$H$60,8,FALSE),0),\nIF(AND(AG8=\"Nul\",$AI8<>$H8),40+(2*ROUNDDOWN(10*VLOOKUP(AD8,$A$8:$AO$60,35,FALSE)/VLOOKUP(AD8,$A$8:$H$60,8,FALSE),0)-ROUNDDOWN(10*AI8/$H8,0)),IF(AND(AG8=\"Nul\",$AI8=$H8),58,0))))","v":0},null,{"$f":"IF(AK8<>\"\",VLOOKUP(AK8,$A$8:$C$60,2,FALSE),\"\")","v":""},{"$f":"IF(AK8<>\"\",IF(AK8=$A8,\"ERR\",IF(OR(AK8=$P8,AK8=$W8,AK8=$AD8,AK8=$I8, AK8=$AR8,AK8=$AY8,AK8=$BF8),\"DUP\",IF(ISNA(VLOOKUP(AK8,$A$8:$A$48,1,FALSE)),\"ERR\",IF(COUNTIF($I$8:$I$48,AK8)>1,\"ERR\",IF($D8=VLOOKUP(AK8,$A$8:$D$48,4,FALSE),\"CLUB\",\"OK\"))))),\"\")","v":""},null,{"$f":"IF(AN8<>\"\",IF(AN8=\"Victoire\",IF(VLOOKUP(AK8,$A$8:$BL$60,40,FALSE)=\"Défaite\",\"OK\",\"ERR\"),IF(AN8=\"Défaite\",IF(VLOOKUP(AK8,$A$8:$BL$60,40,FALSE)=\"Victoire\",\"OK\",\"ERR\"),IF(AN8=\"Nul\",IF(VLOOKUP(AK8,$A$8:$BL$60,40,FALSE)=\"Nul\",\"OK\",\"ERR\")))),\"\")","v":""},null,{"$f":"IF(AN8=\"Victoire\",100-ROUNDDOWN(20*AP8/$H8,0),\nIF(AN8=\"Défaite\",10+ROUNDDOWN(20*VLOOKUP(AK8,$A$8:$BU$60,42,FALSE)/VLOOKUP(AK8,$A$8:$H$60,8,FALSE),0),\nIF(AND(AN8=\"Nul\",$AP8<>$H8),40+(2*ROUNDDOWN(10*VLOOKUP(AK8,$A$8:$BU$60,42,FALSE)/VLOOKUP(AK8,$A$8:$H$60,8,FALSE),0)-ROUNDDOWN(10*AP8/$H8,0)),IF(AND(AN8=\"Nul\",$AP8=$H8),58,0))))","v":0},null,{"$f":"IF(AR8<>\"\",VLOOKUP(AR8,$A$8:$C$60,2,FALSE),\"\")","v":""},{"$f":"IF(AR8<>\"\",IF(AR8=$A8,\"ERR\",IF(OR(AR8=$P8,AR8=$W8,AR8=$AD8,AR8=$AK8,AR8=$AY8,AR8=$BF8),\"DUP\",IF(ISNA(VLOOKUP(AR8,$A$8:$A$48,1,FALSE)),\"ERR\",IF(COUNTIF($I$8:$I$48,AR8)>1,\"ERR\",IF($D8=VLOOKUP(AR8,$A$8:$D$48,4,FALSE),\"CLUB\",\"OK\"))))),\"\")","v":""},null,{"$f":"IF(AU8<>\"\",IF(AU8=\"Victoire\",IF(VLOOKUP(AR8,$A$8:$BL$60,47,FALSE)=\"Défaite\",\"OK\",\"ERR\"),IF(AU8=\"Défaite\",IF(VLOOKUP(AR8,$A$8:$BL$60,47,FALSE)=\"Victoire\",\"OK\",\"ERR\"),IF(AU8=\"Nul\",IF(VLOOKUP(AR8,$A$8:$BL$60,47,FALSE)=\"Nul\",\"OK\",\"ERR\")))),\"\")","v":""},null,{"$f":"IF(AU8=\"Victoire\",100-ROUNDDOWN(20*AW8/$H8,0),\nIF(AU8=\"Défaite\",10+ROUNDDOWN(20*VLOOKUP(AR8,$A$8:$BU$60,49,FALSE)/VLOOKUP(AR8,$A$8:$H$60,8,FALSE),0),\nIF(AND(AU8=\"Nul\",$AW8<>$H8),40+(2*ROUNDDOWN(10*VLOOKUP(AR8,$A$8:$BU$60,49,FALSE)/VLOOKUP(AR8,$A$8:$H$60,8,FALSE),0)-ROUNDDOWN(10*AW8/$H8,0)),IF(AND(AU8=\"Nul\",$AW8=$H8),58,0))))","v":0},null,{"$f":"IF(AY8<>\"\",VLOOKUP(AY8,$A$8:$C$60,2,FALSE),\"\")","v":""},{"$f":"IF(AY8<>\"\",IF(AY8=$A8,\"ERR\",IF(OR(AY8=$P8,AY8=$W8,AY8=$AD8,AY8=$AK8,AY8=$AR8,AY8=$BG8,AY8=$BF8),\"DUP\",IF(ISNA(VLOOKUP(AY8,$A$8:$A$48,1,FALSE)),\"ERR\",IF(COUNTIF($I$8:$I$48,AY8)>1,\"ERR\",IF($D8=VLOOKUP(AY8,$A$8:$D$48,4,FALSE),\"CLUB\",\"OK\"))))),\"\")","v":""},null,{"$f":"IF(BB8<>\"\",IF(BB8=\"Victoire\",IF(VLOOKUP(AY8,$A$8:$BL$60,54,FALSE)=\"Défaite\",\"OK\",\"ERR\"),IF(BB8=\"Défaite\",IF(VLOOKUP(AY8,$A$8:$BL$60,54,FALSE)=\"Victoire\",\"OK\",\"ERR\"),IF(BB8=\"Nul\",IF(VLOOKUP(AY8,$A$8:$BL$54,54,FALSE)=\"Nul\",\"OK\",\"ERR\")))),\"\")","v":""},null,{"$f":"IF(BB8=\"Victoire\",100-ROUNDDOWN(20*BD8/$H8,0),\nIF(BB8=\"Défaite\",10+ROUNDDOWN(20*VLOOKUP(AY8,$A$8:$BU$60,56,FALSE)/VLOOKUP(AY8,$A$8:$H$60,8,FALSE),0),\nIF(AND(BB8=\"Nul\",$BD8<>$H8),40+(2*ROUNDDOWN(10*VLOOKUP(AY8,$A$8:$BU$60,56,FALSE)/VLOOKUP(AY8,$A$8:$BU$60,8,FALSE),0)-ROUNDDOWN(10*BD8/$H8,0)),IF(AND(BB8=\"Nul\",$BD8=$H8),58,0))))","v":0},null,{"$f":"IF(BF8<>\"\",VLOOKUP(BF8,$A$8:$C$60,2,FALSE),\"\")","v":""},{"$f":"IF(BF8<>\"\",IF(BF8=$A8,\"ERR\",IF(OR(BF8=$P8,BF8=$W8,BF8=$AD8,BF8=$AK8,BF8=$AR8,BF8=$AY8),\"DUP\",IF(ISNA(VLOOKUP(BF8,$A$8:$A$48,1,FALSE)),\"ERR\",IF(COUNTIF($I$8:$I$48,BF8)>1,\"ERR\",IF($D8=VLOOKUP(BF8,$A$8:$D$48,4,FALSE),\"CLUB\",\"OK\"))))),\"\")","v":""},null,{"$f":"IF(BI8<>\"\",IF(BI8=\"Victoire\",IF(VLOOKUP(BF8,$A$8:$BL$60,61,FALSE)=\"Défaite\",\"OK\",\"ERR\"),IF(BI8=\"Défaite\",IF(VLOOKUP(BF8,$A$8:$BL$60,61,FALSE)=\"Victoire\",\"OK\",\"ERR\"),IF(BI8=\"Nul\",IF(VLOOKUP(BF8,$A$8:$BL$60,61,FALSE)=\"Nul\",\"OK\",\"ERR\")))),\"\")","v":""},null,{"$f":"IF(BI8=\"Victoire\",100-ROUNDDOWN(20*BK8/$H8,0),\nIF(BI8=\"Défaite\",10+ROUNDDOWN(20*VLOOKUP(BF8,$A$8:$BU$60,63,FALSE)/VLOOKUP(BF8,$A$8:$H$60,8,FALSE),0),\nIF(AND(BI8=\"Nul\",$BK8<>$H8),40+(2*ROUNDDOWN(10*VLOOKUP(BF8,$A$8:$BU$60,63,FALSE)/VLOOKUP(BF8,$A$8:$H$60,8,FALSE),0)-ROUNDDOWN(10*BK8/$H8,0)),IF(AND(BI8=\"Nul\",$BK8=$H8),58,0))))","v":0},null,{"$f":"IF($I8<>\"\",VLOOKUP($I8,$A$8:$H$60,5,FALSE),0)+IF($P8<>\"\",VLOOKUP($P8,$A$8:$H$60,5,FALSE),0)+IF($W8<>\"\",VLOOKUP($W8,$A$8:$H$60,5,FALSE),0)+IF($AD8<>\"\",VLOOKUP($AD8,$A$8:$H$60,5,FALSE),0)+IF($AK8<>\"\",VLOOKUP($AK8,$A$8:$H$60,5,FALSE),0)+IF($AY8<>\"\",VLOOKUP($AY8,$A$8:$H$60,5,FALSE),0)+IF($BF8<>\"\",VLOOKUP($BF8,$A$8:$H$60,5,FALSE),0)+IF($AR8<>\"\",VLOOKUP($AR8,$A$8:$H$60,5,FALSE),0)","v":0}]
[null,null,null,null,{"$f":"O9+V9+AC9+AJ9+AQ9+BP9+AX9+BE9+BL9","v":0},null,{"$f":"IF($F9<>\"\",VLOOKUP(F9,Armees!$A$1:$B$283,2,FALSE),\"\")","v":""},null,null,{"$f":"IF(I9<>\"\",VLOOKUP(I9,$A$8:$C$60,2,FALSE),\"\")","v":""},{"$f":"IF(I9<>\"\",IF(I9=$A9,\"ERR\",IF(OR(I9=$P9,I9=$W9,I9=$AD9,I9=$AK9,I9=$AR9,I9=$AY9,I9=$BF9),\"DUP\",IF(ISNA(VLOOKUP(I9,$A$8:$A$60,1,FALSE)),\"ERR\",IF(COUNTIF($I$8:$I$60,I9)>1,\"ERR\",IF($D9=VLOOKUP(I9,$A$8:$D$60,4,FALSE),\"CLUB\",\"OK\"))))),\"\")","v":""},null,{"$f":"IF(L9<>\"\",IF(L9=\"Victoire\",IF(VLOOKUP(I9,$A$8:$L$60,12,FALSE)=\"Défaite\",\"OK\",\"ERR\"),IF(L9=\"Défaite\",IF(VLOOKUP(I9,$A$8:$L$60,12,FALSE)=\"Victoire\",\"OK\",\"ERR\"),IF(L9=\"Nul\",IF(VLOOKUP(I9,$A$8:$L$60,12,FALSE)=\"Nul\",\"OK\",\"ERR\")))),\"\")","v":""},null,{"$f":"IF(L9=\"Victoire\",100-ROUNDDOWN(20*N9/$H9,0),\nIF(L9=\"Défaite\",10+ROUNDDOWN(20*VLOOKUP(I9,$A$8:$N$60,14,FALSE)/VLOOKUP(I9,$A$8:$H$60,8,FALSE),0),\nIF(AND(L9=\"Nul\",$N9<>$H9),40+(2*ROUNDDOWN(10*VLOOKUP(I9,$A$8:$N$60,14,FALSE)/VLOOKUP(I9,$A$8:$H$60,8,FALSE),0)-ROUNDDOWN(10*N9/$H9,0)),IF(AND(L9=\"Nul\",$N9=$H9),58,0))))","v":0},null,null,null,null,{"$f":"IF(S9<>\"\",IF(S9=\"Victoire\",IF(VLOOKUP(P9,$A$8:$BL$60,19,FALSE)=\"Défaite\",\"OK\",\"ERR\"),IF(S9=\"Défaite\",IF(VLOOKUP(P9,$A$8:$BL$60,19,FALSE)=\"Victoire\",\"OK\",\"ERR\"),IF(S9=\"Nul\",IF(VLOOKUP(P9,$A$8:$BL$60,19,FALSE)=\"Nul\",\"OK\",\"ERR\")))),\"\")","v":""},null,{"$f":"IF(S9=\"Victoire\",100-ROUNDDOWN(20*U9/$H9,0),\nIF(S9=\"Défaite\",10+ROUNDDOWN(20*VLOOKUP(P9,$A$8:$AO$60,21,FALSE)/VLOOKUP(P9,$A$8:$H$60,8,FALSE),0),\nIF(AND(S9=\"Nul\",$U9<>$H9),40+(2*ROUNDDOWN(10*VLOOKUP(P9,$A$8:$AO$60,21,FALSE)/VLOOKUP(P9,$A$8:$H$60,8,FALSE),0)-ROUNDDOWN(10*U9/$H9,0)),IF(AND(S9=\"Nul\",$U9=$H9),58,0))))","v":0},null,{"$f":"IF(W9<>\"\",VLOOKUP(W9,$A$8:$C$60,2,FALSE),\"\")","v":""},{"$f":"IF(W9<>\"\",IF(W9=$A9,\"ERR\",IF(OR(W9=$P9,W9=$I9,W9=$AD9,W9=$AK9,W9=$AR9,W9=$AY9,W9=$BF9),\"DUP\",IF(ISNA(VLOOKUP(W9,$A$8:$A$60,1,FALSE)),\"ERR\",IF(COUNTIF($I$8:$I$60,W9)>1,\"ERR\",IF($D9=VLOOKUP(W9,$A$8:$D$60,4,FALSE),\"CLUB\",\"OK\"))))),\"\")","v":""},null,{"$f":"IF(Z9<>\"\",IF(Z9=\"Victoire\",IF(VLOOKUP(W9,$A$8:$BJ$60,26,FALSE)=\"Défaite\",\"OK\",\"ERR\"),IF(Z9=\"Défaite\",IF(VLOOKUP(W9,$A$8:$BJ$60,26,FALSE)=\"Victoire\",\"OK\",\"ERR\"),IF(Z9=\"Nul\",IF(VLOOKUP(W9,$A$8:$BJ$60,26,FALSE)=\"Nul\",\"OK\",\"ERR\")))),\"\")","v":""},null,{"$f":"IF(Z9=\"Victoire\",100-ROUNDDOWN(20*AB9/$H9,0),\nIF(Z9=\"Défaite\",10+ROUNDDOWN(20*VLOOKUP(W9,$A$8:$AO$60,28,FALSE)/VLOOKUP(W9,$A$8:$H$60,8,FALSE),0),\nIF(AND(Z9=\"Nul\",$AB9<>$H9),40+(2*ROUNDDOWN(10*VLOOKUP(W9,$A$8:$AO$60,28,FALSE)/VLOOKUP(W9,$A$8:$H$60,8,FALSE),0)-ROUNDDOWN(10*AB9/$H9,0)),IF(AND(Z9=\"Nul\",$AB9=$H9),58,0))))","v":0},null,{"$f":"IF(AD9<>\"\",VLOOKUP(AD9,$A$8:$C$60,2,FALSE),\"\")","v":""},{"$f":"IF(AD9<>\"\",IF(AD9=$A9,\"ERR\",IF(OR(AD9=$P9,AD9=$W9,AD9=$I9,AD9=$AK9, AD9=$AR9,AD9=$AY9,AD9=$BF9),\"DUP\",IF(ISNA(VLOOKUP(AD9,$A$8:$A$60,1,FALSE)),\"ERR\",IF(COUNTIF($I$8:$I$60,AD9)>1,\"ERR\",IF($D9=VLOOKUP(AD9,$A$8:$D$60,4,FALSE),\"CLUB\",\"OK\"))))),\"\")","v":""},null,{"$f":"IF(AG9<>\"\",IF(AG9=\"Victoire\",IF(VLOOKUP(AD9,$A$8:$BJ$60,33,FALSE)=\"Défaite\",\"OK\",\"ERR\"),IF(AG9=\"Défaite\",IF(VLOOKUP(AD9,$A$8:$BJ$60,33,FALSE)=\"Victoire\",\"OK\",\"ERR\"),IF(AG9=\"Nul\",IF(VLOOKUP(AD9,$A$8:$BJ$60,33,FALSE)=\"Nul\",\"OK\",\"ERR\")))),\"\")","v":""},null,{"$f":"IF(AG9=\"Victoire\",100-ROUNDDOWN(20*AI9/$H9,0),\nIF(AG9=\"Défaite\",10+ROUNDDOWN(20*VLOOKUP(AD9,$A$8:$AO$60,35,FALSE)/VLOOKUP(AD9,$A$8:$H$60,8,FALSE),0),\nIF(AND(AG9=\"Nul\",$AI9<>$H9),40+(2*ROUNDDOWN(10*VLOOKUP(AD9,$A$8:$AO$60,35,FALSE)/VLOOKUP(AD9,$A$8:$H$60,8,FALSE),0)-ROUNDDOWN(10*AI9/$H9,0)),IF(AND(AG9=\"Nul\",$AI9=$H9),58,0))))","v":0},null,{"$f":"IF(AK9<>\"\",VLOOKUP(AK9,$A$8:$C$60,2,FALSE),\"\")","v":""},{"$f":"IF(AK9<>\"\",IF(AK9=$A9,\"ERR\",IF(OR(AK9=$P9,AK9=$W9,AK9=$AD9,AK9=$I9, AK9=$AR9,AK9=$AY9,AK9=$BF9),\"DUP\",IF(ISNA(VLOOKUP(AK9,$A$8:$A$48,1,FALSE)),\"ERR\",IF(COUNTIF($I$8:$I$48,AK9)>1,\"ERR\",IF($D9=VLOOKUP(AK9,$A$8:$D$48,4,FALSE),\"CLUB\",\"OK\"))))),\"\")","v":""},null,{"$f":"IF(AN9<>\"\",IF(AN9=\"Victoire\",IF(VLOOKUP(AK9,$A$8:$BL$60,40,FALSE)=\"Défaite\",\"OK\",\"ERR\"),IF(AN9=\"Défaite\",IF(VLOOKUP(AK9,$A$8:$BL$60,40,FALSE)=\"Victoire\",\"OK\",\"ERR\"),IF(AN9=\"Nul\",IF(VLOOKUP(AK9,$A$8:$BL$60,40,FALSE)=\"Nul\",\"OK\",\"ERR\")))),\"\")","v":""},null,{"$f":"IF(AN9=\"Victoire\",100-ROUNDDOWN(20*AP9/$H9,0),\nIF(AN9=\"Défaite\",10+ROUNDDOWN(20*VLOOKUP(AK9,$A$8:$BU$60,42,FALSE)/VLOOKUP(AK9,$A$8:$H$60,8,FALSE),0),\nIF(AND(AN9=\"Nul\",$AP9<>$H9),40+(2*ROUNDDOWN(10*VLOOKUP(AK9,$A$8:$BU$60,42,FALSE)/VLOOKUP(AK9,$A$8:$H$60,8,FALSE),0)-ROUNDDOWN(10*AP9/$H9,0)),IF(AND(AN9=\"Nul\",$AP9=$H9),58,0))))","v":0},null,{"$f":"IF(AR9<>\"\",VLOOKUP(AR9,$A$8:$C$60,2,FALSE),\"\")","v":""},{"$f":"IF(AR9<>\"\",IF(AR9=$A9,\"ERR\",IF(OR(AR9=$P9,AR9=$W9,AR9=$AD9,AR9=$AK9,AR9=$AY9,AR9=$BF9),\"DUP\",IF(ISNA(VLOOKUP(AR9,$A$8:$A$48,1,FALSE)),\"ERR\",IF(COUNTIF($I$8:$I$48,AR9)>1,\"ERR\",IF($D9=VLOOKUP(AR9,$A$8:$D$48,4,FALSE),\"CLUB\",\"OK\"))))),\"\")","v":""},null,{"$f":"IF(AU9<>\"\",IF(AU9=\"Victoire\",IF(VLOOKUP(AR9,$A$8:$BL$60,47,FALSE)=\"Défaite\",\"OK\",\"ERR\"),IF(AU9=\"Défaite\",IF(VLOOKUP(AR9,$A$8:$BL$60,47,FALSE)=\"Victoire\",\"OK\",\"ERR\"),IF(AU9=\"Nul\",IF(VLOOKUP(AR9,$A$8:$BL$60,47,FALSE)=\"Nul\",\"OK\",\"ERR\")))),\"\")","v":""},null,{"$f":"IF(AU9=\"Victoire\",100-ROUNDDOWN(20*AW9/$H9,0),\nIF(AU9=\"Défaite\",10+ROUNDDOWN(20*VLOOKUP(AR9,$A$8:$BU$60,49,FALSE)/VLOOKUP(AR9,$A$8:$H$60,8,FALSE),0),\nIF(AND(AU9=\"Nul\",$AW9<>$H9),40+(2*ROUNDDOWN(10*VLOOKUP(AR9,$A$8:$BU$60,49,FALSE)/VLOOKUP(AR9,$A$8:$H$60,8,FALSE),0)-ROUNDDOWN(10*AW9/$H9,0)),IF(AND(AU9=\"Nul\",$AW9=$H9),58,0))))","v":0},null,{"$f":"IF(AY9<>\"\",VLOOKUP(AY9,$A$8:$C$60,2,FALSE),\"\")","v":""},{"$f":"IF(AY9<>\"\",IF(AY9=$A9,\"ERR\",IF(OR(AY9=$P9,AY9=$W9,AY9=$AD9,AY9=$AK9,AY9=$AR9,AY9=$BG9,AY9=$BF9),\"DUP\",IF(ISNA(VLOOKUP(AY9,$A$8:$A$48,1,FALSE)),\"ERR\",IF(COUNTIF($I$8:$I$48,AY9)>1,\"ERR\",IF($D9=VLOOKUP(AY9,$A$8:$D$48,4,FALSE),\"CLUB\",\"OK\"))))),\"\")","v":""},null,{"$f":"IF(BB9<>\"\",IF(BB9=\"Victoire\",IF(VLOOKUP(AY9,$A$8:$BL$60,54,FALSE)=\"Défaite\",\"OK\",\"ERR\"),IF(BB9=\"Défaite\",IF(VLOOKUP(AY9,$A$8:$BL$60,54,FALSE)=\"Victoire\",\"OK\",\"ERR\"),IF(BB9=\"Nul\",IF(VLOOKUP(AY9,$A$8:$BL$54,54,FALSE)=\"Nul\",\"OK\",\"ERR\")))),\"\")","v":""},null,{"$f":"IF(BB9=\"Victoire\",100-ROUNDDOWN(20*BD9/$H9,0),\nIF(BB9=\"Défaite\",10+ROUNDDOWN(20*VLOOKUP(AY9,$A$8:$BU$60,56,FALSE)/VLOOKUP(AY9,$A$8:$H$60,8,FALSE),0),\nIF(AND(BB9=\"Nul\",$BD9<>$H9),40+(2*ROUNDDOWN(10*VLOOKUP(AY9,$A$8:$BU$60,56,FALSE)/VLOOKUP(AY9,$A$8:$BU$60,8,FALSE),0)-ROUNDDOWN(10*BD9/$H9,0)),IF(AND(BB9=\"Nul\",$BD9=$H9),58,0))))","v":0},null,{"$f":"IF(BF9<>\"\",VLOOKUP(BF9,$A$8:$C$60,2,FALSE),\"\")","v":""},{"$f":"IF(BF9<>\"\",IF(BF9=$A9,\"ERR\",IF(OR(BF9=$P9,BF9=$W9,BF9=$AD9,BF9=$AK9,BF9=$AR9,BF9=$AY9,BF9=$BG9),\"DUP\",IF(ISNA(VLOOKUP(BF9,$A$8:$A$48,1,FALSE)),\"ERR\",IF(COUNTIF($I$8:$I$48,BF9)>1,\"ERR\",IF($D9=VLOOKUP(BF9,$A$8:$D$48,4,FALSE),\"CLUB\",\"OK\"))))),\"\")","v":""},null,{"$f":"IF(BI9<>\"\",IF(BI9=\"Victoire\",IF(VLOOKUP(BF9,$A$8:$BL$60,61,FALSE)=\"Défaite\",\"OK\",\"ERR\"),IF(BI9=\"Défaite\",IF(VLOOKUP(BF9,$A$8:$BL$60,61,FALSE)=\"Victoire\",\"OK\",\"ERR\"),IF(BI9=\"Nul\",IF(VLOOKUP(BF9,$A$8:$BL$60,61,FALSE)=\"Nul\",\"OK\",\"ERR\")))),\"\")","v":""},null,{"$f":"IF(BI9=\"Victoire\",100-ROUNDDOWN(20*BK9/$H9,0),\nIF(BI9=\"Défaite\",10+ROUNDDOWN(20*VLOOKUP(BF9,$A$8:$BU$60,63,FALSE)/VLOOKUP(BF9,$A$8:$H$60,8,FALSE),0),\nIF(AND(BI9=\"Nul\",$BK9<>$H9),40+(2*ROUNDDOWN(10*VLOOKUP(BF9,$A$8:$BU$60,63,FALSE)/VLOOKUP(BF9,$A$8:$H$60,8,FALSE),0)-ROUNDDOWN(10*BK9/$H9,0)),IF(AND(BI9=\"Nul\",$BK9=$H9),58,0))))","v":0},null,{"$f":"IF($I9<>\"\",VLOOKUP($I9,$A$8:$H$60,5,FALSE),0)+IF($P9<>\"\",VLOOKUP($P9,$A$8:$H$60,5,FALSE),0)+IF($W9<>\"\",VLOOKUP($W9,$A$8:$H$60,5,FALSE),0)+IF($AD9<>\"\",VLOOKUP($AD9,$A$8:$H$60,5,FALSE),0)+IF($AK9<>\"\",VLOOKUP($AK9,$A$8:$H$60,5,FALSE),0)+IF($AY9<>\"\",VLOOKUP($AY9,$A$8:$H$60,5,FALSE),0)+IF($BF9<>\"\",VLOOKUP($BF9,$A$8:$H$60,5,FALSE),0)+IF($AR9<>\"\",VLOOKUP($AR9,$A$8:$H$60,5,FALSE),0)","v":0}]
[null,null,null,null,0,null,{"$f":"IF($F10<>\"\",VLOOKUP(F10,Armees!$A$1:$B$283,2,FALSE),\"\")","v":""},null,null,"","",null,"",null,0,null,null,null,null,"",null,0,null,"","",null,"",null,0,null,"","",null,"",null,0,null,"","",null,"",null,0,null,"","",null,"",null,0,null,"","",null,"",null,0,null,"","",null,"",null,0,null,0]
[null,null,null,null,0,null,{"$f":"IF($F11<>\"\",VLOOKUP(F11,Armees!$A$1:$B$283,2,FALSE),\"\")","v":""},null,null,"","",null,"",null,0,null,null,null,null,"",null,0,null,"","",null,"",null,0,null,"","",null,"",null,0,null,"","",null,"",null,0,null,"","",null,"",null,0,null,"","",null,"",null,0,null,"","",null,"",null,0,null,0]
[null,null,null,null,0,null,{"$f":"IF($F12<>\"\",VLOOKUP(F12,Armees!$A$1:$B$283,2,FALSE),\"\")","v":""},null,null,"","",null,"",null,0,null,{"$f":"IF(P12<>\"\",VLOOKUP(P12,$A$8:$C$60,2,FALSE),\"\")","v":""},{"$f":"IF(P12<>\"\",IF(P12=$A12,\"ERR\",IF(OR(P12=$I12,P12=$W12,P12=$AD12,P12=$AK12,P12=$AR12,P12=$AY12,P12=$BF12),\"DUP\",IF(ISNA(VLOOKUP(P12,$A$8:$A$60,1,FALSE)),\"ERR\",IF(COUNTIF($I$8:$I$60,P12)>1,\"ERR\",IF($D12=VLOOKUP(P12,$A$8:$D$60,4,FALSE),\"CLUB\",\"OK\"))))),\"\")","v":""},null,"",null,0,null,"","",null,"",null,0,null,"","",null,"",null,0,null,"","",null,"",null,0,null,"","",null,"",null,0,null,"","",null,"",null,0,null,"","",null,"",null,0,null,0]
[null,null,null,null,0,null,{"$f":"IF($F13<>\"\",VLOOKUP(F13,Armees!$A$1:$B$283,2,FALSE),\"\")","v":""},null,null,"","",null,"",null,0,null,"","",null,"",null,0,null,"","",null,"",null,0,null,"","",null,"",null,0,null,"","",null,"",null,0,null,"","",null,"",null,0,null,"","",null,"",null,0,null,"","",null,"",null,0,null,0]
[null,null,null,null,0,null,{"$f":"IF($F14<>\"\",VLOOKUP(F14,Armees!$A$1:$B$283,2,FALSE),\"\")","v":""},null,null,"","",null,"",null,0,null,"","",null,"",null,0,null,"","",null,"",null,0,null,"","",null,"",null,0,null,"","",null,"",null,0,null,"","",null,"",null,0,null,"","",null,"",null,0,null,"","",null,"",null,0,null,0]
[null,null,null,null,0,null,{"$f":"IF($F15<>\"\",VLOOKUP(F15,Armees!$A$1:$B$283,2,FALSE),\"\")","v":""},null,null,"","",null,"",null,0,null,"","",null,"",null,0,null,"","",null,"",null,0,null,"","",null,"",null,0,null,"","",null,"",null,0,null,"","",null,"",null,0,null,"","",null,"",null,0,null,"","",null,"",null,0,null,0]
[null,null,null,null,0,null,{"$f":"IF($F16<>\"\",VLOOKUP(F16,Armees!$A$1:$B$283,2,FALSE),\"\")","v":""},null,null,"","",null,"",null,0,null,"","",null,"",null,0,null,"","",null,"",null,0,null,"","",null,"",null,0,null,"","",null,"",null,0,null,"","",null,"",null,0,null,"","",null,"",null,0,null,"","",null,"",null,0,null,0]
[null,null,null,null,0,null,{"$f":"IF($F17<>\"\",VLOOKUP(F17,Armees!$A$1:$B$283,2,FALSE),\"\")","v":""},null,null,"","",null,"",null,0,null,"","",null,"",null,0,null,"","",null,"",null,0,null,"","",null,"",null,0,null,"","",null,"",null,0,null,"","",null,"",null,0,null,"","",null,"",null,0,null,"","",null,"",null,0,null,0]
[null,null,null,null,0,null,{"$f":"IF($F18<>\"\",VLOOKUP(F18,Armees!$A$1:$B$283,2,FALSE),\"\")","v":""},null,null,"","",null,"",null,0,null,"","",null,"",null,0,null,"","",null,"",null,0,null,"","",null,"",null,0,null,"","",null,"",null,0,null,"","",null,"",null,0,null,"","",null,"",null,0,null,"","",null,"",null,0,null,0]
[null,null,null,null,0,null,{"$f":"IF($F19<>\"\",VLOOKUP(F19,Armees!$A$1:$B$283,2,FALSE),\"\")","v":""},null,null,"","",null,"",null,0,null,"","",null,"",null,0,null,"","",null,"",null,0,null,"","",null,"",null,0,null,"","",null,"",null,0,null,"","",null,"",null,0,null,"","",null,"",null,0,null,"","",null,"",null,0,null,0]
[null,null,null,null,0,null,{"$f":"IF($F20<>\"\",VLOOKUP(F20,Armees!$A$1:$B$283,2,FALSE),\"\")","v":""},null,null,"","",null,"",null,0,null,"","",null,"",null,0,null,"","",null,"",null,0,null,"","",null,"",null,0,null,"","",null,"",null,0,null,"","",null,"",null,0,null,"","",null,"",null,0,null,"","",null,"",null,0,null,0]
[null,null,null,null,0,null,{"$f":"IF($F21<>\"\",VLOOKUP(F21,Armees!$A$1:$B$283,2,FALSE),\"\")","v":""},null,null,"","",null,"",null,0,null,"","",null,"",null,0,null,"","",null,"",null,0,null,"","",null,"",null,0,null,"","",null,"",null,0,null,"","",null,"",null,0,null,"","",null,"",null,0,null,"","",null,"",null,0,null,0]
[null,null,null,null,0,null,{"$f":"IF($F22<>\"\",VLOOKUP(F22,Armees!$A$1:$B$283,2,FALSE),\"\")","v":""},null,null,"","",null,"",null,0,null,"","",null,"",null,0,null,"","",null,"",null,0,null,"","",null,"",null,0,null,"","",null,"",null,0,null,"","",null,"",null,0,null,"","",null,"",null,0,null,"","",null,"",null,0,null,0]
[null,null,null,null,0,null,{"$f":"IF($F23<>\"\",VLOOKUP(F23,Armees!$A$1:$B$283,2,FALSE),\"\")","v":""},null,null,"","",null,"",null,0,null,"","",null,"",null,0,null,"","",null,"",null,0,null,"","",null,"",null,0,null,"","",null,"",null,0,null,"","",null,"",null,0,null,"","",null,"",null,0,null,"","",null,"",null,0,null,0]
[null,null,null,null,0,null,{"$f":"IF($F24<>\"\",VLOOKUP(F24,Armees!$A$1:$B$283,2,FALSE),\"\")","v":""},null,null,"","",null,"",null,0,null,"","",null,"",null,0,null,"","",null,"",null,0,null,"","",null,"",null,0,null,"","",null,"",null,0,null,"","",null,"",null,0,null,"","",null,"",null,0,null,"","",null,"",null,0,null,0]
[null,null,null,null,0,null,{"$f":"IF($F25<>\"\",VLOOKUP(F25,Armees!$A$1:$B$283,2,FALSE),\"\")","v":""},null,null,"","",null,"",null,0,null,"","",null,"",null,0,null,"","",null,"",null,0,null,"","",null,"",null,0,null,"","",null,"",null,0,null,"","",null,"",null,0,null,"","",null,"",null,0,null,"","",null,"",null,0,null,0]
[null,null,null,null,0,null,{"$f":"IF($F26<>\"\",VLOOKUP(F26,Armees!$A$1:$B$283,2,FALSE),\"\")","v":""},null,null,"","",null,"",null,0,null,"","",null,"",null,0,null,"","",null,"",null,0,null,"","",null,"",null,0,null,"","",null,"",null,0,null,"","",null,"",null,0,null,"","",null,"",null,0,null,"","",null,"",null,0,null,0]
[null,null,null,null,0,null,{"$f":"IF($F27<>\"\",VLOOKUP(F27,Armees!$A$1:$B$283,2,FALSE),\"\")","v":""},null,null,"","",null,"",null,0,null,"","",null,"",null,0,null,"","",null,"",null,0,null,"","",null,"",null,0,null,"","",null,"",null,0,null,"","",null,"",null,0,null,"","",null,"",null,0,null,"","",null,"",null,0,null,0]
[null,null,null,null,0,null,{"$f":"IF($F28<>\"\",VLOOKUP(F28,Armees!$A$1:$B$283,2,FALSE),\"\")","v":""},null,null,"","",null,"",null,0,null,"","",null,"",null,0,null,"","",null,"",null,0,null,"","",null,"",null,0,null,"","",null,"",null,0,null,"","",null,"",null,0,null,"","",null,"",null,0,null,"","",null,"",null,0,null,0]
[null,null,null,null,0,null,{"$f":"IF($F29<>\"\",VLOOKUP(F29,Armees!$A$1:$B$283,2,FALSE),\"\")","v":""},null,null,"","",null,"",null,0,null,"","",null,"",null,0,null,"","",null,"",null,0,null,"","",null,"",null,0,null,"","",null,"",null,0,null,"","",null,"",null,0,null,"","",null,"",null,0,null,"","",null,"",null,0,null,0]
[null,null,null,null,0,null,{"$f":"IF($F30<>\"\",VLOOKUP(F30,Armees!$A$1:$B$283,2,FALSE),\"\")","v":""},null,null,"","",null,"",null,0,null,"","",null,"",null,0,null,"","",null,"",null,0,null,"","",null,"",null,0,null,"","",null,"",null,0,null,"","",null,"",null,0,null,"","",null,"",null,0,null,"","",null,"",null,0,null,0]
[null,null,null,null,0,null,{"$f":"IF($F31<>\"\",VLOOKUP(F31,Armees!$A$1:$B$283,2,FALSE),\"\")","v":""},null,null,"","",null,"",null,0,null,"","",null,"",null,0,null,"","",null,"",null,0,null,"","",null,"",null,0,null,"","",null,"",null,0,null,"","",null,"",null,0,null,"","",null,"",null,0,null,"","",null,"",null,0,null,0]
[null,null,null,null,0,null,{"$f":"IF($F32<>\"\",VLOOKUP(F32,Armees!$A$1:$B$283,2,FALSE),\"\")","v":""},null,null,"","",null,"",null,0,null,"","",null,"",null,0,null,"","",null,"",null,0,null,"","",null,"",null,0,null,"","",null,"",null,0,null,"","",null,"",null,0,null,"","",null,"",null,0,null,"",{"$f":"IF(BF32<>\"\",IF(BF32=$A32,\"ERR\",IF(OR(BF32=$P32,BF32=$W32,BF32=$AD32,BF32=$AK32,BF32=$AR32,BF32=$AY32,BF32=$BG32),\"DUP\",IF(ISNA(VLOOKUP(BF32,$A$8:$A$48,1,FALSE)),\"ERR\",IF(COUNTIF($I$8:$I$48,BF32)>1,\"ERR\",IF($D32=VLOOKUP(BF32,$A$8:$D$48,4,FALSE),\"CLUB\",\"OK\"))))),\"\")","v":""},null,"",null,0,null,0]
[null,null,null,null,0,null,{"$f":"IF($F33<>\"\",VLOOKUP(F33,Armees!$A$1:$B$283,2,FALSE),\"\")","v":""},null,null,"","",null,"",null,0,null,"","",null,"",null,0,null,"","",null,"",null,0,null,"","",null,"",null,0,null,"","",null,"",null,0,null,"","",null,"",null,0,null,"","",null,"",null,0,null,"","",null,"",null,0,null,0]
[null,null,null,null,0,null,{"$f":"IF($F34<>\"\",VLOOKUP(F34,Armees!$A$1:$B$283,2,FALSE),\"\")","v":""},null,null,"","",null,"",null,0,null,"","",null,"",null,0,null,"","",null,"",null,0,null,"","",null,"",null,0,null,"","",null,"",null,0,null,"","",null,"",null,0,null,"","",null,"",null,0,null,"","",null,"",null,0,null,0]
[null,null,null,null,0,null,{"$f":"IF($F35<>\"\",VLOOKUP(F35,Armees!$A$1:$B$283,2,FALSE),\"\")","v":""},null,null,"","",null,"",null,0,null,"","",null,"",null,0,null,"","",null,"",null,0,null,"","",null,"",null,0,null,"","",null,"",null,0,null,"","",null,"",null,0,null,"","",null,"",null,0,null,"","",null,"",null,0,null,0]
[null,null,null,null,0,null,{"$f":"IF($F36<>\"\",VLOOKUP(F36,Armees!$A$1:$B$283,2,FALSE),\"\")","v":""},null,null,"","",null,"",null,0,null,"","",null,"",null,0,null,"","",null,"",null,0,null,"","",null,"",null,0,null,"","",null,"",null,0,null,"","",null,"",null,0,null,"","",null,"",null,0,null,"","",null,"",null,0,null,0]
[null,null,null,null,0,null,{"$f":"IF($F37<>\"\",VLOOKUP(F37,Armees!$A$1:$B$283,2,FALSE),\"\")","v":""},null,null,"","",null,"",null,0,null,"","",null,"",null,0,null,"","",null,"",null,0,null,"","",null,"",null,0,null,"","",null,"",null,0,null,"","",null,"",null,0,null,"","",null,"",null,0,null,"","",null,"",null,0,null,0]
[null,null,null,null,0,null,{"$f":"IF($F38<>\"\",VLOOKUP(F38,Armees!$A$1:$B$283,2,FALSE),\"\")","v":""},null,null,"","",null,"",null,0,null,"","",null,"",null,0,null,"","",null,"",null,0,null,"","",null,"",null,0,null,"","",null,"",null,0,null,"","",null,"",null,0,null,"","",null,"",null,0,null,"","",null,"",null,0,null,0]
[null,null,null,null,0,null,{"$f":"IF($F39<>\"\",VLOOKUP(F39,Armees!$A$1:$B$283,2,FALSE),\"\")","v":""},null,null,"","",null,"",null,0,null,"","",null,"",null,0,null,"","",null,"",null,0,null,"","",null,"",null,0,null,"","",null,"",null,0,null,"","",null,"",null,0,null,"","",null,"",null,0,null,"","",null,"",null,0,null,0]
[null,null,null,null,0,null,{"$f":"IF($F40<>\"\",VLOOKUP(F40,Armees!$A$1:$B$283,2,FALSE),\"\")","v":""},null,null,"","",null,"",null,0,null,"","",null,"",null,0,null,"","",null,"",null,0,null,"","",null,"",null,0,null,"","",null,"",null,0,null,"","",null,"",null,0,null,"","",null,"",null,0,null,"","",null,"",null,0,null,0]
[null,null,null,null,0,null,{"$f":"IF($F41<>\"\",VLOOKUP(F41,Armees!$A$1:$B$283,2,FALSE),\"\")","v":""},null,null,"","",null,"",null,0,null,"","",null,"",null,0,null,"","",null,"",null,0,null,"","",null,"",null,0,null,"","",null,"",null,0,null,"","",null,"",null,0,null,"","",null,"",null,0,null,"","",null,"",null,0,null,0]
[null,null,null,null,0,null,{"$f":"IF($F42<>\"\",VLOOKUP(F42,Armees!$A$1:$B$283,2,FALSE),\"\")","v":""},null,null,"","",null,"",null,0,null,"","",null,"",null,0,null,"","",null,"",null,0,null,"","",null,"",null,0,null,"","",null,"",null,0,null,"","",null,"",null,0,null,"","",null,"",null,0,null,"","",null,"",null,0,null,0]
[null,null,null,null,0,null,{"$f":"IF($F43<>\"\",VLOOKUP(F43,Armees!$A$1:$B$283,2,FALSE),\"\")","v":""},null,null,"","",null,"",null,0,null,"","",null,"",null,0,null,"","",null,"",null,0,null,"","",null,"",null,0,null,"","",null,"",null,0,null,"","",null,"",null,0,null,"","",null,"",null,0,null,"","",null,"",null,0,null,0]
[null,null,null,null,0,null,{"$f":"IF($F44<>\"\",VLOOKUP(F44,Armees!$A$1:$B$283,2,FALSE),\"\")","v":""},null,null,"","",null,"",null,0,null,"","",null,"",null,0,null,"","",null,"",null,0,null,"","",null,"",null,0,null,"","",null,"",null,0,null,"","",null,"",null,0,null,"","",null,"",null,0,null,"","",null,"",null,0,null,0]
[null,null,null,null,0,null,{"$f":"IF($F45<>\"\",VLOOKUP(F45,Armees!$A$1:$B$283,2,FALSE),\"\")","v":""},null,null,"","",null,"",null,0,null,"","",null,"",null,0,null,"","",null,"",null,0,null,"","",null,"",null,0,null,"","",null,"",null,0,null,"","",null,"",null,0,null,"","",null,"",null,0,null,"","",null,"",null,0,null,0]
[null,null,null,null,0,null,{"$f":"IF($F46<>\"\",VLOOKUP(F46,Armees!$A$1:$B$283,2,FALSE),\"\")","v":""},null,null,"","",null,"",null,0,null,"","",null,"",null,0,null,"","",null,"",null,0,null,"","",null,"",null,0,null,"","",null,"",null,0,null,"","",null,"",null,0,null,"","",null,"",null,0,null,"","",null,"",null,0,null,0]
[null,null,null,null,0,null,{"$f":"IF($F47<>\"\",VLOOKUP(F47,Armees!$A$1:$B$283,2,FALSE),\"\")","v":""},null,null,"","",null,"",null,0,null,"","",null,"",null,0,null,"","",null,"",null,0,null,"","",null,"",null,0,null,"","",null,"",null,0,null,"","",null,"",null,0,null,"","",null,"",null,0,null,"","",null,"",null,0,null,0]
[null,null,null,null,0,null,{"$f":"IF($F48<>\"\",VLOOKUP(F48,Armees!$A$1:$B$283,2,FALSE),\"\")","v":""},null,null,"","",null,"",null,0,null,"","",null,"",null,0,null,"","",null,"",null,0,null,"","",null,"",null,0,null,"","",null,"",null,0,null,"","",null,"",null,0,null,"","",null,"",null,0,null,"","",null,"",null,0,null,0]
[null,null,null,null,0,null,{"$f":"IF($F49<>\"\",VLOOKUP(F49,Armees!$A$1:$B$283,2,FALSE),\"\")","v":""},null,null,"","",null,"",null,0,null,"","",null,"",null,0,null,"","",null,"",null,0,null,"","",null,"",null,0,null,"","",null,"",null,0,null,"","",null,"",null,0,null,"","",null,"",null,0,null,"","",null,"",null,0,null,0]
[null,null,null,null,0,null,{"$f":"IF($F50<>\"\",VLOOKUP(F50,Armees!$A$1:$B$283,2,FALSE),\"\")","v":""},null,null,"","",null,"",null,0,null,"","",null,"",null,0,null,"","",null,"",null,0,null,"","",null,"",null,0,null,"","",null,"",null,0,null,"","",null,"",null,0,null,"","",null,"",null,0,null,"","",null,"",null,0,null,0]
[null,null,null,null,0,null,{"$f":"IF($F51<>\"\",VLOOKUP(F51,Armees!$A$1:$B$283,2,FALSE),\"\")","v":""},null,null,"","",null,"",null,0,null,"","",null,"",null,0,null,"","",null,"",null,0,null,"","",null,"",null,0,null,"","",null,"",null,0,null,"","",null,"",null,0,null,"","",null,"",null,0,null,"","",null,"",null,0,null,0]
[null,null,null,null,0,null,{"$f":"IF($F52<>\"\",VLOOKUP(F52,Armees!$A$1:$B$283,2,FALSE),\"\")","v":""},null,null,"","",null,"",null,0,null,"","",null,"",null,0,null,"","",null,"",null,0,null,"","",null,"",null,0,null,"","",null,"",null,0,null,"","",null,"",null,0,null,"","",null,"",null,0,null,"","",null,"",null,0,null,0]
[null,null,null,null,0,null,{"$f":"IF($F53<>\"\",VLOOKUP(F53,Armees!$A$1:$B$283,2,FALSE),\"\")","v":""},null,null,"","",null,"",null,0,null,"","",null,"",null,0,null,"","",null,"",null,0,null,"","",null,"",null,0,null,"","",null,"",null,0,null,"","",null,"",null,0,null,"","",null,"",null,0,null,"","",null,"",null,0,null,0]
[null,null,null,null,0,null,{"$f":"IF($F54<>\"\",VLOOKUP(F54,Armees!$A$1:$B$283,2,FALSE),\"\")","v":""},null,null,"","",null,"",null,0,null,"","",null,"",null,0,null,"","",null,"",null,0,null,"","",null,"",null,0,null,"","",null,"",null,0,null,"","",null,"",null,0,null,"","",null,"",null,0,null,"","",null,"",null,0,null,0]
[null,null,null,null,0,null,{"$f":"IF($F55<>\"\",VLOOKUP(F55,Armees!$A$1:$B$283,2,FALSE),\"\")","v":""},null,null,"","",null,"",null,0,null,"","",null,"",null,0,null,"","",null,"",null,0,null,"","",null,"",null,0,null,"","",null,"",null,0,null,"","",null,"",null,0,null,"","",null,"",null,0,null,"","",null,"",null,0,null,0]
[null,null,null,null,0,null,{"$f":"IF($F56<>\"\",VLOOKUP(F56,Armees!$A$1:$B$283,2,FALSE),\"\")","v":""},null,null,"","",null,"",null,0,null,"","",null,"",null,0,null,"","",null,"",null,0,null,"","",null,"",null,0,null,"","",null,"",null,0,null,"","",null,"",null,0,null,"","",null,"",null,0,null,"","",null,"",null,0,null,0]
[null,null,null,null,0,null,{"$f":"IF($F57<>\"\",VLOOKUP(F57,Armees!$A$1:$B$283,2,FALSE),\"\")","v":""},null,null,"","",null,"",null,0,null,"","",null,"",null,0,null,"","",null,"",null,0,null,"","",null,"",null,0,null,"","",null,"",null,0,null,"","",null,"",null,0,null,"","",null,"",null,0,null,"","",null,"",null,0,null,0]
[null,null,null,null,0,null,{"$f":"IF($F58<>\"\",VLOOKUP(F58,Armees!$A$1:$B$283,2,FALSE),\"\")","v":""},null,null,"","",null,"",null,0,null,"","",null,"",null,0,null,"","",null,"",null,0,null,"","",null,"",null,0,null,"","",null,"",null,0,null,"","",null,"",null,0,null,"","",null,"",null,0,null,"","",null,"",null,0,null,0]
[null,null,null,null,0,null,{"$f":"IF($F59<>\"\",VLOOKUP(F59,Armees!$A$1:$B$283,2,FALSE),\"\")","v":""},null,null,"","",null,"",null,0,null,"","",null,"",null,0,null,"","",null,"",null,0,null,"","",null,"",null,0,null,"","",null,"",null,0,null,"","",null,"",null,0,null,"","",null,"",null,0,null,"","",null,"",null,0,null,0]
[null,null,null,null,{"$f":"O60+V60+AC60+AJ60+AQ60+BP60","v":0},null,{"$f":"IF($F60<>\"\",VLOOKUP(F60,Armees!$A$1:$B$283,2,FALSE),\"\")","v":""},null,null,"","",null,"",null,0,null,"","",null,"",null,0,null,"","",null,"",null,0,null,"","",null,"",null,0,null,"","",null,"",null,0,null,"","",null,"",null,0,null,"","",null,"",null,0,null,"","",null,"",null,0,null,0]
[]
[]
[]
[]
[]
[]
[]
[]
[]
[]
[]
[]
[]
[]
[]
[]
[]
[]
[]
[]
[]
[]
[]
[]
[]
[]
[]
[]
[]
[]
[]
[]
[]
[]
[]
[]
[]
[null,"Data"]
[]
[null,"FRA"]
[null,"BEL","Victoire"]
[null,"SUI","Nul"]
[null,"ITA","Défaite"]
[null,"ESP"]
[null,"UK"]
[null,"US"]
[null,"Open Theme"]
[null,"Biblical"]
[null,"Medieval"]
[null,"Ancient"]
[null,"Classical"]
[null,"Roman"]
[null,"Dark Ages"]
[null,"Feudal"]
[null,"Late Middle Ages"]
[null,"Other Themes"]

{"sheet":"Instructions","index":1,"n_rows":26,"n_cols":1,"rows_kept":26,"cut":false,"hidden":false,"merged":[]}
["L'Art de la Guerre"]
["The results excel file"]
[]
["The excel file is used to help to pair up and to record Tournament results for L'Art de la Guerre. "]
["Using this spreadsheet allows the Tournament Organiser to submit the results for automatic inclusion in the global tournament database. This generates ELO rankings for players across the world."]
[]
["Instructions"]
["1 - Enter the tournament’s data: tournament name, theme, date, country where it takes place, number of players and number of rounds (3 to 5). Theses pieces of information will be saved in the database."]
["2 - Copy the list of players by filling the following columns: ID, Surname, First Name, Club, army list nbr and its nbr of units. Each ID is linked to only one player. If a player has already played in a tournament, he has an ID nbr, that can be found on the ADLG website. For the new players, the umpires can obtain their ID by calling the championship master. Otherwise take ID nbr as N101 to N150."]
["3 - For each round, pairings arecalculated manually by the umpire. You can show or hide the details of each round by clicking on buttons.  Entering the ID of each players opponent in the draw will generate an automatic check for mistakes: a red highlighted cell means that an incorrect player number has been entered, a purple cell means that the players have already played together and an amber cell means that the players come from the same club. The opponent’s name is automatically generated from the ID number. A summary of the pairings for that turn is generated when the (\"Rnd\") button is clicked. "]
["4 - A the end of each game players only need to submit the result (victory, a defeat or a draw) and also the number of of losses (not required for broken armies). Both players results need to be entered, and if their results are incompatible (ie both are listed as winning outright) the cell will be highlighted in red. The points accruing to each player are calculated automatically (based on the army sizes entered earlier) and added in the Points columns in green."]
["5 - At the end of the round, you can get the overall ranking by clicking the (sort out) button “Sort”. This will be sorted by increasing points. Players equally placed are sorted by the amount of points earned by all of their opponents. If some ties are left, the umpire can manually add a player ranking in the “ex-aequo” column. This could be based on ELO rank, the result of the match they played together, or any other random criteria decided by the Umpire."]
["6 - The column “Ajustment Points” allows the umpire to manually add or subtract points from the player’s total. It could be used to implement penalties or bonuses such as:\n-10pts to a player for a late list;\n-100pts for a player that changes or provides his list at the beginning of the tournament;\n-30pts for unsporting behaviour."]
["7 - When the tournament is over, please send this results file to the AGLG Tournament admin. The results will be recorded in the tournament database."]
[]
[]
[]
[]
[]
["Versions"]
["1.0 : Initial version"]
["1.1 : Minor corrections"]
["1.2 : Corrections to draw matches’ rounds"]
["1.3 : Addition of the army list in version 2"]
["1.4 : Modifications for the draw matches (base 35pts instead of 40)"]
["2.0 : Modifications due to new organisation charter for tournaments, counting for the championship"]

{"sheet":"Round Draws","index":2,"n_rows":2,"n_cols":2,"rows_kept":2,"cut":false,"hidden":true,"merged":[]}
[]
[null,"Appariements du tour 4"]

{"sheet":"Armees","index":3,"n_rows":283,"n_cols":2,"rows_kept":283,"cut":false,"hidden":true,"merged":[]}
[1,"Sumer and Akkad"]
[2,"Sumerian Successor"]
[3,"Amorrite Highlanders"]
[4,"Elamites"]
[5,"Ancient Assyrian & Babylonian"]
[6,"Kassite Babylonian"]
[7,"Assyrien"]
[8,"Neo-Babylonian"]
[9,"Assyrian & Sargonid"]
[10,"Old & Middle Kingdom Eyptian"]
[11,"Nubians"]
[12,"Libyan"]
[13,"Hyksos"]
[14,"New Kingdom Egyptian"]
[15,"Libyan Egyptian"]
[16,"Kushite Egyptian"]
[17,"Ancient Bedouin"]
[18,"Syrian City States"]
[19,"Omani Gulf States"]
[20,"Hittites"]
[21,"Hourri & Mitanni"]
[22,"Syrian, Canaan & Ugaritic"]
[23,"Ancient Hebrew"]
[24,"Sea People"]
[25,"Philistine"]
[26,"Neo-Hittite & Aramean"]
[27,"Urartu"]
[28,"Medes"]
[29,"Phrygians"]
[30,"Mycenean"]
[31,"Geometric Greek"]
[32,"Phonecian Cypriot"]
[33,"Celts"]
[34,"Indus Valley Civilizations"]
[35,"Vedic Indian"]
[36,"Shang Chinese"]
[37,"Spring & Autumn Chinese"]
[38,"Early Macedonian"]
[39,"Alexandrian Macedonian"]
[40,"Alexander the Great"]
[41,"Early Successors"]
[42,"Seleucid"]
[43,"Ptolemaic"]
[44,"Phyrric"]
[45,"Later Macedonian"]
[46,"Bactrians & Indo-Greek"]
[47,"Italian City States"]
[48,"Etruscans"]
[49,"Tullian Roman"]
[50,"Syracusan"]
[51,"Campanian, Lucanian, Apulian & Bruttian"]
[52,"Camillan Roman"]
[53,"Republican Roman"]
[54,"Early Carthaginian"]
[55,"Later Carthaginian"]
[56,"Numidian"]
[57,"Saiatic Egyptian"]
[58,"Cyrenian Greek"]
[59,"Meriotic Kushite"]
[60,"Classical Greek"]
[61,"Hellenistic Greek"]
[62,"Illyrian"]
[63,"Thracian"]
[64,"Early Achéménid Persian"]
[65,"Lydian"]
[66,"Lycian"]
[67,"Bithinyan"]
[68,"Later Aechemneid Persian"]
[69,"Cappadocian"]
[70,"Bosporan Kingdom"]
[71,"Armenians"]
[72,"Galatians"]
[73,"Pergame"]
[74,"Aramean"]
[75,"Early Arab"]
[76,"Scythian"]
[77,"Sarmatians"]
[78,"Vietnamese"]
[79,"Classical Indian"]
[80,"Warring Kingdoms"]
[81,"Ch’iang and Ti"]
[82,"Triumvirate Roman"]
[83,"Spartacus Slave Revolt"]
[84,"Early Imperial Roman"]
[85,"Middle Imperial Romas"]
[86,"Late Roman"]
[87,"Patrician Roman"]
[88,"Gallic"]
[89,"Ancient Spanish"]
[90,"Germanic Tribes"]
[91,"Dacians and Carpi"]
[92,"Visigoths"]
[93,"Vandals"]
[94,"Ostrogoths"]
[95,"Gépids, Héruls et Taïfal"]
[96,"Franks, Alamanic Burgundian & Suèvi"]
[97,"Visigoths in Spain"]
[98,"Ancient British"]
[99,"Caledonians, Irish, Scots and Picts"]
[100,"Saxons, Angles, Frisons, Jutes"]
[101,"Romano-British"]
[102,"Parthian"]
[103,"Judean Jewish"]
[104,"Commagène"]
[105,"Mithriditic"]
[106,"Palmyran"]
[107,"Kushan"]
[108,"Alans"]
[109,"Sassanid Persian"]
[110,"Huns"]
[111,"Hephtalite Huns"]
[112,"Blemmyes and Nobades"]
[113,"Moorish"]
[114,"Auximite Kingdom"]
[115,"African Vandal"]
[116,"Hsiung-Nu"]
[117,"Han Chinese"]
[118,"Hsien Pi"]
[119,"Three Kingdoms Chinese"]
[120,"Northern & Southern Dynasties Chinese"]
[121,"Tamil Indian"]
[122,"Three Kingdoms Korean"]
[123,"Japanese"]
[124,"Emishi"]
[125,"Justinian Byzantine"]
[126,"Maurkian Byzantine"]
[127,"Thematic Byzantine"]
[128,"Nikephorian Byzantine"]
[129,"Armenian Principate"]
[130,"Bagratid Armenian"]
[131,"Arab Conquest"]
[132,"Umayyad Arab"]
[133,"North African Arab"]
[134,"Andalusian Arab"]
[135,"Abbasid Arab"]
[136,"Arab Indian"]
[137,"Khurasanian"]
[138,"Tulanid Egyptian"]
[139,"Bédouin Dynasties"]
[140,"Sogdians & Central Asian City States"]
[141,"Central Asian States"]
[142,"Lombards"]
[143,"Italian Ostrogoths"]
[144,"Mérovingian Franks"]
[145,"Amorican Breton"]
[146,"Welsh"]
[147,"Anglo-Saxons"]
[148,"Feudal Spanish"]
[149,"Carolingian Franks"]
[150,"Viking & Leidang"]
[151,"Feudal Irish"]
[152,"Pre-feudal Scots"]
[153,"Slavs"]
[154,"Avars"]
[155,"Bulgars"]
[156,"Khazars"]
[157,"Serbo-Croatian"]
[158,"Magyars"]
[159,"Pechengs"]
[160,"Russ"]
[161,"Christian Nubian"]
[162,"Beja"]
[163,"Burmese"]
[164,"Hundu Indian"]
[165,"Sui & Tang Chinese"]
[166,"Tibetan"]
[167,"Khmer & Champa"]
[168,"Nan-Chao & Dali"]
[169,"Tang & 5 Dynasties Chinese"]
[170,"Sha'to Turkish"]
[171,"Tribal Mongolian"]
[172,"Franks & Normans"]
[173,"Anglo-Danish"]
[174,"Anglo-Normans"]
[175,"Feudal French"]
[176,"Feudal English"]
[177,"Feudal Scots"]
[178,"Anglo-Irish"]
[179,"Scots Isles & Highlanders"]
[180,"Sicilian Normans"]
[181,"Communal Italian"]
[182,"Imperial Frankish"]
[183,"Feudal German"]
[184,"Kommnenan Byzantine"]
[185,"Cilician Armenian"]
[186,"Crusaders"]
[187,"Later Crusaders"]
[188,"Cyprian Frankish"]
[189,"Eastern Latin Empire"]
[190,"Ordre de St Jean"]
[191,"Buyid"]
[192,"Dynastic Kurdish"]
[193,"Ghaznavid"]
[194,"Fatimid Egyptian"]
[195,"Seljuk Turkish"]
[196,"Berbers"]
[197,"Syrians"]
[198,"Ghurids"]
[199,"Ayyubid Egyptian"]
[200,"Khorezmiens"]
[201,"Sahelian Empire"]
[202,"Tuareg"]
[203,"Feudal Polish"]
[204,"Feudal Hungarian"]
[205,"Georgian"]
[206,"Feudal Russian"]
[207,"Cuman"]
[208,"Prussian & Estonian"]
[209,"Teutonic Knights"]
[210,"Samurai"]
[211,"Kithan-Liao"]
[212,"Koryo Korean"]
[213,"Medieval Vietnamese"]
[214,"Song Chinese"]
[215,"Xi-Xia"]
[216,"Jurchen-Chin"]
[217,"Qara-Khitan"]
[218,"Mongol Empire"]
[219,"Kingdom of Grenada"]
[220,"Swiss"]
[221,"Medieval Scandianvian"]
[222,"Medieval Scots"]
[223,"Medieval irish"]
[224,"Condottieri Italian"]
[225,"100YW English"]
[226,"100YW French"]
[227,"Medieval German"]
[228,"Medieval Spanish"]
[229,"Navarrese"]
[230,"Free Companies"]
[231,"Burgundian"]
[232,"Low Countries"]
[233,"Medieval Welsh"]
[234,"Ordonnance French"]
[235,"Ordonnance Burgundian"]
[236,"Wars of the Roses"]
[237,"Lithuanian"]
[238,"Medieval Hungarian"]
[239,"Muscovite Russian"]
[240,"Goldern Horde"]
[241,"Medieval Polish"]
[242,"Hussite"]
[243,"Serbian Empire"]
[244,"Later Bulgarian"]
[245,"Later Byzantine"]
[246,"Turcoman"]
[247,"Ottoman Turkish"]
[248,"Catalan Company"]
[249,"Moldavian & Wallachian"]
[250,"Albanian"]
[251,"Ottoman Empire"]
[252,"Beseiged Byzantine"]
[253,"Mameluk"]
[254,"Islamic Persian"]
[255,"Ilkhanid Persian"]
[256,"Steppe Mongol"]
[257,"Jalayirides"]
[258,"Timurid"]
[259,"White & Black Sheep Turcoman"]
[260,"Delhi Sultanate"]
[261,"Indonesian & Malay"]
[262,"Siamese"]
[263,"Yuan Chinese"]
[264,"Later Samurai"]
[265,"Ming Chinese"]
[266,"Yi Dynasty Korean"]
[267,"Mayan"]
[268,"Zapotèc and Mixtèc"]
[269,"Toltec"]
[270,"Chinantèc"]
[271,"Tarascan"]
[272,"Aztèc"]
[273,"Texcalan"]
[274,"Incas"]
[275,"Chanca"]
[276,"Chimu"]
[277,"Tupi"]
[278,"Mapuche"]
[279,"Chichimèc"]
[280,"Pueblo Indian"]
[281,"American Forest Indian"]
[282,"Mississipi Indian"]
[283,"Plains Indian"]

{"sheet":"Round 1","index":9,"n_rows":75,"n_cols":13,"rows_kept":75,"cut":false,"hidden":false,"merged":[]}
[]
["Round 1 Draw",null,{"$f":"Results!B3","v":0}]
[null,null,{"$f":"Results!B4","v":"Open Theme"}]
[null,null,null,null,null,null,null,null,null,null,null,null,"VALID?"]
[null,{"$f":"Results!A8","v":0},{"$f":"Results!C8","v":0},{"$f":"Results!B8","v":0},{"$f":"Results!D8","v":0},{"$f":"Results!G8","v":""},"- vs -",{"$f":"VLOOKUP(B5,Results!$A$8:AG60,9,)","v":{"$error":"#N/A"}},{"$f":"VLOOKUP(H5,Results!A$8:G60,3,FALSE)","v":{"$error":"#N/A"}},{"$f":"VLOOKUP(H5,Results!$A$8:G60,2,FALSE)","v":{"$error":"#N/A"}},{"$f":"VLOOKUP(H5,Results!$A$8:G60,4,FALSE)","v":{"$error":"#N/A"}},{"$f":"VLOOKUP(H5,Results!$A$8:G60,7,FALSE)","v":{"$error":"#N/A"}},{"$f":"VLOOKUP(H5,$B$4:B5,1,FALSE)","v":{"$error":"#N/A"}}]
[null,{"$f":"Results!A9","v":0},{"$f":"Results!C9","v":0},{"$f":"Results!B9","v":0},{"$f":"Results!D9","v":0},{"$f":"Results!G9","v":""},"- vs -",{"$f":"VLOOKUP(B6,Results!$A$8:AG61,9,)","v":{"$error":"#N/A"}},{"$f":"VLOOKUP(H6,Results!A$8:G61,3,)","v":{"$error":"#N/A"}},{"$f":"VLOOKUP(H6,Results!$A$8:G61,2,FALSE)","v":{"$error":"#N/A"}},{"$f":"VLOOKUP(H6,Results!$A$8:G61,4,FALSE)","v":{"$error":"#N/A"}},{"$f":"VLOOKUP(H6,Results!$A$8:G61,7,FALSE)","v":{"$error":"#N/A"}},{"$f":"VLOOKUP(H6,$B$4:B6,1,FALSE)","v":{"$error":"#N/A"}}]
[null,{"$f":"Results!A10","v":0},{"$f":"Results!C10","v":0},{"$f":"Results!B10","v":0},{"$f":"Results!D10","v":0},{"$f":"Results!G10","v":""},"- vs -",{"$f":"VLOOKUP(B7,Results!$A$8:AG62,9,)","v":{"$error":"#N/A"}},{"$f":"VLOOKUP(H7,Results!A$8:G62,3,)","v":{"$error":"#N/A"}},{"$f":"VLOOKUP(H7,Results!$A$8:G62,2,FALSE)","v":{"$error":"#N/A"}},{"$f":"VLOOKUP(H7,Results!$A$8:G62,4,FALSE)","v":{"$error":"#N/A"}},{"$f":"VLOOKUP(H7,Results!$A$8:G62,7,FALSE)","v":{"$error":"#N/A"}},{"$f":"VLOOKUP(H7,$B$4:B7,1,FALSE)","v":{"$error":"#N/A"}}]
[null,{"$f":"Results!A11","v":0},{"$f":"Results!C11","v":0},{"$f":"Results!B11","v":0},{"$f":"Results!D11","v":0},{"$f":"Results!G11","v":""},"- vs -",{"$f":"VLOOKUP(B8,Results!$A$8:AG63,9,)","v":{"$error":"#N/A"}},{"$f":"VLOOKUP(H8,Results!A$8:G63,3,)","v":{"$error":"#N/A"}},{"$f":"VLOOKUP(H8,Results!$A$8:G63,2,FALSE)","v":{"$error":"#N/A"}},{"$f":"VLOOKUP(H8,Results!$A$8:G63,4,FALSE)","v":{"$error":"#N/A"}},{"$f":"VLOOKUP(H8,Results!$A$8:G63,7,FALSE)","v":{"$error":"#N/A"}},{"$f":"VLOOKUP(H8,$B$4:B8,1,FALSE)","v":{"$error":"#N/A"}}]
[null,{"$f":"Results!A12","v":0},{"$f":"Results!C12","v":0},{"$f":"Results!B12","v":0},{"$f":"Results!D12","v":0},{"$f":"Results!G12","v":""},"- vs -",{"$f":"VLOOKUP(B9,Results!$A$8:AG64,9,)","v":{"$error":"#N/A"}},{"$f":"VLOOKUP(H9,Results!A$8:G64,3,)","v":{"$error":"#N/A"}},{"$f":"VLOOKUP(H9,Results!$A$8:G64,2,FALSE)","v":{"$error":"#N/A"}},{"$f":"VLOOKUP(H9,Results!$A$8:G64,4,FALSE)","v":{"$error":"#N/A"}},{"$f":"VLOOKUP(H9,Results!$A$8:G64,7,FALSE)","v":{"$error":"#N/A"}},{"$f":"VLOOKUP(H9,$B$4:B9,1,FALSE)","v":{"$error":"#N/A"}}]
[null,{"$f":"Results!A13","v":0},{"$f":"Results!C13","v":0},{"$f":"Results!B13","v":0},{"$f":"Results!D13","v":0},{"$f":"Results!G13","v":""},"- vs -",{"$f":"VLOOKUP(B10,Results!$A$8:AG65,9,)","v":{"$error":"#N/A"}},{"$f":"VLOOKUP(H10,Results!A$8:G65,3,)","v":{"$error":"#N/A"}},{"$f":"VLOOKUP(H10,Results!$A$8:G65,2,FALSE)","v":{"$error":"#N/A"}},{"$f":"VLOOKUP(H10,Results!$A$8:G65,4,FALSE)","v":{"$error":"#N/A"}},{"$f":"VLOOKUP(H10,Results!$A$8:G65,7,FALSE)","v":{"$error":"#N/A"}},{"$f":"VLOOKUP(H10,$B$4:B10,1,FALSE)","v":{"$error":"#N/A"}}]
[null,{"$f":"Results!A14","v":0},{"$f":"Results!C14","v":0},{"$f":"Results!B14","v":0},{"$f":"Results!D14","v":0},{"$f":"Results!G14","v":""},"- vs -",{"$f":"VLOOKUP(B11,Results!$A$8:AG66,9,)","v":{"$error":"#N/A"}},{"$f":"VLOOKUP(H11,Results!A$8:G66,3,)","v":{"$error":"#N/A"}},{"$f":"VLOOKUP(H11,Results!$A$8:G66,2,FALSE)","v":{"$error":"#N/A"}},{"$f":"VLOOKUP(H11,Results!$A$8:G66,4,FALSE)","v":{"$error":"#N/A"}},{"$f":"VLOOKUP(H11,Results!$A$8:G66,7,FALSE)","v":{"$error":"#N/A"}},{"$f":"VLOOKUP(H11,$B$4:B11,1,FALSE)","v":{"$error":"#N/A"}}]
[null,{"$f":"Results!A15","v":0},{"$f":"Results!C15","v":0},{"$f":"Results!B15","v":0},{"$f":"Results!D15","v":0},{"$f":"Results!G15","v":""},"- vs -",{"$f":"VLOOKUP(B12,Results!$A$8:AG67,9,)","v":{"$error":"#N/A"}},{"$f":"VLOOKUP(H12,Results!A$8:G67,3,)","v":{"$error":"#N/A"}},{"$f":"VLOOKUP(H12,Results!$A$8:G67,2,FALSE)","v":{"$error":"#N/A"}},{"$f":"VLOOKUP(H12,Results!$A$8:G67,4,FALSE)","v":{"$error":"#N/A"}},{"$f":"VLOOKUP(H12,Results!$A$8:G67,7,FALSE)","v":{"$error":"#N/A"}},{"$f":"VLOOKUP(H12,$B$4:B12,1,FALSE)","v":{"$error":"#N/A"}}]
[null,{"$f":"Results!A16","v":0},{"$f":"Results!C16","v":0},{"$f":"Results!B16","v":0},{"$f":"Results!D16","v":0},{"$f":"Results!G16","v":""},"- vs -",{"$f":"VLOOKUP(B13,Results!$A$8:AG68,9,)","v":{"$error":"#N/A"}},{"$f":"VLOOKUP(H13,Results!A$8:G68,3,)","v":{"$error":"#N/A"}},{"$f":"VLOOKUP(H13,Results!$A$8:G68,2,FALSE)","v":{"$error":"#N/A"}},{"$f":"VLOOKUP(H13,Results!$A$8:G68,4,FALSE)","v":{"$error":"#N/A"}},{"$f":"VLOOKUP(H13,Results!$A$8:G68,7,FALSE)","v":{"$error":"#N/A"}},{"$f":"VLOOKUP(H13,$B$4:B13,1,FALSE)","v":{"$error":"#N/A"}}]
[null,{"$f":"Results!A17","v":0},{"$f":"Results!C17","v":0},{"$f":"Results!B17","v":0},{"$f":"Results!D17","v":0},{"$f":"Results!G17","v":""},"- vs -",{"$f":"VLOOKUP(B14,Results!$A$8:AG69,9,)","v":{"$error":"#N/A"}},{"$f":"VLOOKUP(H14,Results!A$8:G69,3,)","v":{"$error":"#N/A"}},{"$f":"VLOOKUP(H14,Results!$A$8:G69,2,FALSE)","v":{"$error":"#N/A"}},{"$f":"VLOOKUP(H14,Results!$A$8:G69,4,FALSE)","v":{"$error":"#N/A"}},{"$f":"VLOOKUP(H14,Results!$A$8:G69,7,FALSE)","v":{"$error":"#N/A"}},{"$f":"VLOOKUP(H14,$B$4:B14,1,FALSE)","v":{"$error":"#N/A"}}]
[null,{"$f":"Results!A18","v":0},{"$f":"Results!C18","v":0},{"$f":"Results!B18","v":0},{"$f":"Results!D18","v":0},{"$f":"Results!G18","v":""},"- vs -",{"$f":"VLOOKUP(B15,Results!$A$8:AG70,9,)","v":{"$error":"#N/A"}},{"$f":"VLOOKUP(H15,Results!A$8:G70,3,)","v":{"$error":"#N/A"}},{"$f":"VLOOKUP(H15,Results!$A$8:G70,2,FALSE)","v":{"$error":"#N/A"}},{"$f":"VLOOKUP(H15,Results!$A$8:G70,4,FALSE)","v":{"$error":"#N/A"}},{"$f":"VLOOKUP(H15,Results!$A$8:G70,7,FALSE)","v":{"$error":"#N/A"}},{"$f":"VLOOKUP(H15,$B$4:B15,1,FALSE)","v":{"$error":"#N/A"}}]
[null,{"$f":"Results!A19","v":0},{"$f":"Results!C19","v":0},{"$f":"Results!B19","v":0},{"$f":"Results!D19","v":0},{"$f":"Results!G19","v":""},"- vs -",{"$f":"VLOOKUP(B16,Results!$A$8:AG71,9,)","v":{"$error":"#N/A"}},{"$f":"VLOOKUP(H16,Results!A$8:G71,3,)","v":{"$error":"#N/A"}},{"$f":"VLOOKUP(H16,Results!$A$8:G71,2,FALSE)","v":{"$error":"#N/A"}},{"$f":"VLOOKUP(H16,Results!$A$8:G71,4,FALSE)","v":{"$error":"#N/A"}},{"$f":"VLOOKUP(H16,Results!$A$8:G71,7,FALSE)","v":{"$error":"#N/A"}},{"$f":"VLOOKUP(H16,$B$4:B16,1,FALSE)","v":{"$error":"#N/A"}}]
[null,{"$f":"Results!A20","v":0},{"$f":"Results!C20","v":0},{"$f":"Results!B20","v":0},{"$f":"Results!D20","v":0},{"$f":"Results!G20","v":""},"- vs -",{"$f":"VLOOKUP(B17,Results!$A$8:AG72,9,)","v":{"$error":"#N/A"}},{"$f":"VLOOKUP(H17,Results!A$8:G72,3,)","v":{"$error":"#N/A"}},{"$f":"VLOOKUP(H17,Results!$A$8:G72,2,FALSE)","v":{"$error":"#N/A"}},{"$f":"VLOOKUP(H17,Results!$A$8:G72,4,FALSE)","v":{"$error":"#N/A"}},{"$f":"VLOOKUP(H17,Results!$A$8:G72,7,FALSE)","v":{"$error":"#N/A"}},{"$f":"VLOOKUP(H17,$B$4:B17,1,FALSE)","v":{"$error":"#N/A"}}]
[null,{"$f":"Results!A21","v":0},{"$f":"Results!C21","v":0},{"$f":"Results!B21","v":0},{"$f":"Results!D21","v":0},{"$f":"Results!G21","v":""},"- vs -",{"$f":"VLOOKUP(B18,Results!$A$8:AG73,9,)","v":{"$error":"#N/A"}},{"$f":"VLOOKUP(H18,Results!A$8:G73,3,)","v":{"$error":"#N/A"}},{"$f":"VLOOKUP(H18,Results!$A$8:G73,2,FALSE)","v":{"$error":"#N/A"}},{"$f":"VLOOKUP(H18,Results!$A$8:G73,4,FALSE)","v":{"$error":"#N/A"}},{"$f":"VLOOKUP(H18,Results!$A$8:G73,7,FALSE)","v":{"$error":"#N/A"}},{"$f":"VLOOKUP(H18,$B$4:B18,1,FALSE)","v":{"$error":"#N/A"}}]
[null,{"$f":"Results!A22","v":0},{"$f":"Results!C22","v":0},{"$f":"Results!B22","v":0},{"$f":"Results!D22","v":0},{"$f":"Results!G22","v":""},"- vs -",{"$f":"VLOOKUP(B19,Results!$A$8:AG74,9,)","v":{"$error":"#N/A"}},{"$f":"VLOOKUP(H19,Results!A$8:G74,3,)","v":{"$error":"#N/A"}},{"$f":"VLOOKUP(H19,Results!$A$8:G74,2,FALSE)","v":{"$error":"#N/A"}},{"$f":"VLOOKUP(H19,Results!$A$8:G74,4,FALSE)","v":{"$error":"#N/A"}},{"$f":"VLOOKUP(H19,Results!$A$8:G74,7,FALSE)","v":{"$error":"#N/A"}},{"$f":"VLOOKUP(H19,$B$4:B19,1,FALSE)","v":{"$error":"#N/A"}}]
[null,{"$f":"Results!A23","v":0},{"$f":"Results!C23","v":0},{"$f":"Results!B23","v":0},{"$f":"Results!D23","v":0},{"$f":"Results!G23","v":""},"- vs -",{"$f":"VLOOKUP(B20,Results!$A$8:AG75,9,)","v":{"$error":"#N/A"}},{"$f":"VLOOKUP(H20,Results!A$8:G75,3,)","v":{"$error":"#N/A"}},{"$f":"VLOOKUP(H20,Results!$A$8:G75,2,FALSE)","v":{"$error":"#N/A"}},{"$f":"VLOOKUP(H20,Results!$A$8:G75,4,FALSE)","v":{"$error":"#N/A"}},{"$f":"VLOOKUP(H20,Results!$A$8:G75,7,FALSE)","v":{"$error":"#N/A"}},{"$f":"VLOOKUP(H20,$B$4:B20,1,FALSE)","v":{"$error":"#N/A"}}]
[null,{"$f":"Results!A24","v":0},{"$f":"Results!C24","v":0},{"$f":"Results!B24","v":0},{"$f":"Results!D24","v":0},{"$f":"Results!G24","v":""},"- vs -",{"$f":"VLOOKUP(B21,Results!$A$8:AG76,9,)","v":{"$error":"#N/A"}},{"$f":"VLOOKUP(H21,Results!A$8:G76,3,)","v":{"$error":"#N/A"}},{"$f":"VLOOKUP(H21,Results!$A$8:G76,2,FALSE)","v":{"$error":"#N/A"}},{"$f":"VLOOKUP(H21,Results!$A$8:G76,4,FALSE)","v":{"$error":"#N/A"}},{"$f":"VLOOKUP(H21,Results!$A$8:G76,7,FALSE)","v":{"$error":"#N/A"}},{"$f":"VLOOKUP(H21,$B$4:B21,1,FALSE)","v":{"$error":"#N/A"}}]
[null,{"$f":"Results!A25","v":0},{"$f":"Results!C25","v":0},{"$f":"Results!B25","v":0},{"$f":"Results!D25","v":0},{"$f":"Results!G25","v":""},"- vs -",{"$f":"VLOOKUP(B22,Results!$A$8:AG77,9,)","v":{"$error":"#N/A"}},{"$f":"VLOOKUP(H22,Results!A$8:G77,3,)","v":{"$error":"#N/A"}},{"$f":"VLOOKUP(H22,Results!$A$8:G77,2,FALSE)","v":{"$error":"#N/A"}},{"$f":"VLOOKUP(H22,Results!$A$8:G77,4,FALSE)","v":{"$error":"#N/A"}},{"$f":"VLOOKUP(H22,Results!$A$8:G77,7,FALSE)","v":{"$error":"#N/A"}},{"$f":"VLOOKUP(H22,$B$4:B22,1,FALSE)","v":{"$error":"#N/A"}}]
[null,{"$f":"Results!A26","v":0},{"$f":"Results!C26","v":0},{"$f":"Results!B26","v":0},{"$f":"Results!D26","v":0},{"$f":"Results!G26","v":""},"- vs -",{"$f":"VLOOKUP(B23,Results!$A$8:AG78,9,)","v":{"$error":"#N/A"}},{"$f":"VLOOKUP(H23,Results!A$8:G78,3,)","v":{"$error":"#N/A"}},{"$f":"VLOOKUP(H23,Results!$A$8:G78,2,FALSE)","v":{"$error":"#N/A"}},{"$f":"VLOOKUP(H23,Results!$A$8:G78,4,FALSE)","v":{"$error":"#N/A"}},{"$f":"VLOOKUP(H23,Results!$A$8:G78,7,FALSE)","v":{"$error":"#N/A"}},{"$f":"VLOOKUP(H23,$B$4:B23,1,FALSE)","v":{"$error":"#N/A"}}]
[null,{"$f":"Results!A27","v":0},{"$f":"Results!C27","v":0},{"$f":"Results!B27","v":0},{"$f":"Results!D27","v":0},{"$f":"Results!G27","v":""},"- vs -",{"$f":"VLOOKUP(B24,Results!$A$8:AG79,9,)","v":{"$error":"#N/A"}},{"$f":"VLOOKUP(H24,Results!A$8:G79,3,)","v":{"$error":"#N/A"}},{"$f":"VLOOKUP(H24,Results!$A$8:G79,2,FALSE)","v":{"$error":"#N/A"}},{"$f":"VLOOKUP(H24,Results!$A$8:G79,4,FALSE)","v":{"$error":"#N/A"}},{"$f":"VLOOKUP(H24,Results!$A$8:G79,7,FALSE)","v":{"$error":"#N/A"}},{"$f":"VLOOKUP(H24,$B$4:B24,1,FALSE)","v":{"$error":"#N/A"}}]
[null,{"$f":"Results!A28","v":0},{"$f":"Results!C28","v":0},{"$f":"Results!B28","v":0},{"$f":"Results!D28","v":0},{"$f":"Results!G28","v":""},"- vs -",{"$f":"VLOOKUP(B25,Results!$A$8:AG80,9,)","v":{"$error":"#N/A"}},{"$f":"VLOOKUP(H25,Results!A$8:G80,3,)","v":{"$error":"#N/A"}},{"$f":"VLOOKUP(H25,Results!$A$8:G80,2,FALSE)","v":{"$error":"#N/A"}},{"$f":"VLOOKUP(H25,Results!$A$8:G80,4,FALSE)","v":{"$error":"#N/A"}},{"$f":"VLOOKUP(H25,Results!$A$8:G80,7,FALSE)","v":{"$error":"#N/A"}},{"$f":"VLOOKUP(H25,$B$4:B25,1,FALSE)","v":{"$error":"#N/A"}}]
[null,{"$f":"Results!A29","v":0},{"$f":"Results!C29","v":0},{"$f":"Results!B29","v":0},{"$f":"Results!D29","v":0},{"$f":"Results!G29","v":""},"- vs -",{"$f":"VLOOKUP(B26,Results!$A$8:AG81,9,)","v":{"$error":"#N/A"}},{"$f":"VLOOKUP(H26,Results!A$8:G81,3,)","v":{"$error":"#N/A"}},{"$f":"VLOOKUP(H26,Results!$A$8:G81,2,FALSE)","v":{"$error":"#N/A"}},{"$f":"VLOOKUP(H26,Results!$A$8:G81,4,FALSE)","v":{"$error":"#N/A"}},{"$f":"VLOOKUP(H26,Results!$A$8:G81,7,FALSE)","v":{"$error":"#N/A"}},{"$f":"VLOOKUP(H26,$B$4:B26,1,FALSE)","v":{"$error":"#N/A"}}]
[null,{"$f":"Results!A30","v":0},{"$f":"Results!C30","v":0},{"$f":"Results!B30","v":0},{"$f":"Results!D30","v":0},{"$f":"Results!G30","v":""},"- vs -",{"$f":"VLOOKUP(B27,Results!$A$8:AG82,9,)","v":{"$error":"#N/A"}},{"$f":"VLOOKUP(H27,Results!A$8:G82,3,)","v":{"$error":"#N/A"}},{"$f":"VLOOKUP(H27,Results!$A$8:G82,2,FALSE)","v":{"$error":"#N/A"}},{"$f":"VLOOKUP(H27,Results!$A$8:G82,4,FALSE)","v":{"$error":"#N/A"}},{"$f":"VLOOKUP(H27,Results!$A$8:G82,7,FALSE)","v":{"$error":"#N/A"}},{"$f":"VLOOKUP(H27,$B$4:B27,1,FALSE)","v":{"$error":"#N/A"}}]
[null,{"$f":"Results!A31","v":0},{"$f":"Results!C31","v":0},{"$f":"Results!B31","v":0},{"$f":"Results!D31","v":0},{"$f":"Results!G31","v":""},"- vs -",{"$f":"VLOOKUP(B28,Results!$A$8:AG83,9,)","v":{"$error":"#N/A"}},{"$f":"VLOOKUP(H28,Results!A$8:G83,3,)","v":{"$error":"#N/A"}},{"$f":"VLOOKUP(H28,Results!$A$8:G83,2,FALSE)","v":{"$error":"#N/A"}},{"$f":"VLOOKUP(H28,Results!$A$8:G83,4,FALSE)","v":{"$error":"#N/A"}},{"$f":"VLOOKUP(H28,Results!$A$8:G83,7,FALSE)","v":{"$error":"#N/A"}},{"$f":"VLOOKUP(H28,$B$4:B28,1,FALSE)","v":{"$error":"#N/A"}}]
[null,{"$f":"Results!A32","v":0},{"$f":"Results!C32","v":0},{"$f":"Results!B32","v":0},{"$f":"Results!D32","v":0},{"$f":"Results!G32","v":""},"- vs -",{"$f":"VLOOKUP(B29,Results!$A$8:AG84,9,)","v":{"$error":"#N/A"}},{"$f":"VLOOKUP(H29,Results!A$8:G84,3,)","v":{"$error":"#N/A"}},{"$f":"VLOOKUP(H29,Results!$A$8:G84,2,FALSE)","v":{"$error":"#N/A"}},{"$f":"VLOOKUP(H29,Results!$A$8:G84,4,FALSE)","v":{"$error":"#N/A"}},{"$f":"VLOOKUP(H29,Results!$A$8:G84,7,FALSE)","v":{"$error":"#N/A"}},{"$f":"VLOOKUP(H29,$B$4:B29,1,FALSE)","v":{"$error":"#N/A"}}]
[null,{"$f":"Results!A33","v":0},{"$f":"Results!C33","v":0},{"$f":"Results!B33","v":0},{"$f":"Results!D33","v":0},{"$f":"Results!G33","v":""},"- vs -",{"$f":"VLOOKUP(B30,Results!$A$8:AG85,9,)","v":{"$error":"#N/A"}},{"$f":"VLOOKUP(H30,Results!A$8:G85,3,)","v":{"$error":"#N/A"}},{"$f":"VLOOKUP(H30,Results!$A$8:G85,2,FALSE)","v":{"$error":"#N/A"}},{"$f":"VLOOKUP(H30,Results!$A$8:G85,4,FALSE)","v":{"$error":"#N/A"}},{"$f":"VLOOKUP(H30,Results!$A$8:G85,7,FALSE)","v":{"$error":"#N/A"}},{"$f":"VLOOKUP(H30,$B$4:B30,1,FALSE)","v":{"$error":"#N/A"}}]
[null,{"$f":"Results!A34","v":0},{"$f":"Results!C34","v":0},{"$f":"Results!B34","v":0},{"$f":"Results!D34","v":0},{"$f":"Results!G34","v":""},"- vs -",{"$f":"VLOOKUP(B31,Results!$A$8:AG86,9,)","v":{"$error":"#N/A"}},{"$f":"VLOOKUP(H31,Results!A$8:G86,3,)","v":{"$error":"#N/A"}},{"$f":"VLOOKUP(H31,Results!$A$8:G86,2,FALSE)","v":{"$error":"#N/A"}},{"$f":"VLOOKUP(H31,Results!$A$8:G86,4,FALSE)","v":{"$error":"#N/A"}},{"$f":"VLOOKUP(H31,Results!$A$8:G86,7,FALSE)","v":{"$error":"#N/A"}},{"$f":"VLOOKUP(H31,$B$4:B31,1,FALSE)","v":{"$error":"#N/A"}}]
[null,{"$f":"Results!A35","v":0},{"$f":"Results!C35","v":0},{"$f":"Results!B35","v":0},{"$f":"Results!D35","v":0},{"$f":"Results!G35","v":""},"- vs -",{"$f":"VLOOKUP(B32,Results!$A$8:AG87,9,)","v":{"$error":"#N/A"}},{"$f":"VLOOKUP(H32,Results!A$8:G87,3,)","v":{"$error":"#N/A"}},{"$f":"VLOOKUP(H32,Results!$A$8:G87,2,FALSE)","v":{"$error":"#N/A"}},{"$f":"VLOOKUP(H32,Results!$A$8:G87,4,FALSE)","v":{"$error":"#N/A"}},{"$f":"VLOOKUP(H32,Results!$A$8:G87,7,FALSE)","v":{"$error":"#N/A"}},{"$f":"VLOOKUP(H32,$B$4:B32,1,FALSE)","v":{"$error":"#N/A"}}]
[null,{"$f":"Results!A36","v":0},{"$f":"Results!C36","v":0},{"$f":"Results!B36","v":0},{"$f":"Results!D36","v":0},{"$f":"Results!G36","v":""},"- vs -",{"$f":"VLOOKUP(B33,Results!$A$8:AG88,9,)","v":{"$error":"#N/A"}},{"$f":"VLOOKUP(H33,Results!A$8:G88,3,)","v":{"$error":"#N/A"}},{"$f":"VLOOKUP(H33,Results!$A$8:G88,2,FALSE)","v":{"$error":"#N/A"}},{"$f":"VLOOKUP(H33,Results!$A$8:G88,4,FALSE)","v":{"$error":"#N/A"}},{"$f":"VLOOKUP(H33,Results!$A$8:G88,7,FALSE)","v":{"$error":"#N/A"}},{"$f":"VLOOKUP(H33,$B$4:B33,1,FALSE)","v":{"$error":"#N/A"}}]
[null,{"$f":"Results!A37","v":0},{"$f":"Results!C37","v":0},{"$f":"Results!B37","v":0},{"$f":"Results!D37","v":0},{"$f":"Results!G37","v":""},"- vs -",{"$f":"VLOOKUP(B34,Results!$A$8:AG89,9,)","v":{"$error":"#N/A"}},{"$f":"VLOOKUP(H34,Results!A$8:G89,3,)","v":{"$error":"#N/A"}},{"$f":"VLOOKUP(H34,Results!$A$8:G89,2,FALSE)","v":{"$error":"#N/A"}},{"$f":"VLOOKUP(H34,Results!$A$8:G89,4,FALSE)","v":{"$error":"#N/A"}},{"$f":"VLOOKUP(H34,Results!$A$8:G89,7,FALSE)","v":{"$error":"#N/A"}},{"$f":"VLOOKUP(H34,$B$4:B34,1,FALSE)","v":{"$error":"#N/A"}}]
[null,{"$f":"Results!A38","v":0},{"$f":"Results!C38","v":0},{"$f":"Results!B38","v":0},{"$f":"Results!D38","v":0},{"$f":"Results!G38","v":""},"- vs -",{"$f":"VLOOKUP(B35,Results!$A$8:AG90,9,)","v":{"$error":"#N/A"}},{"$f":"VLOOKUP(H35,Results!A$8:G90,3,)","v":{"$error":"#N/A"}},{"$f":"VLOOKUP(H35,Results!$A$8:G90,2,FALSE)","v":{"$error":"#N/A"}},{"$f":"VLOOKUP(H35,Results!$A$8:G90,4,FALSE)","v":{"$error":"#N/A"}},{"$f":"VLOOKUP(H35,Results!$A$8:G90,7,FALSE)","v":{"$error":"#N/A"}},{"$f":"VLOOKUP(H35,$B$4:B35,1,FALSE)","v":{"$error":"#N/A"}}]
[null,{"$f":"Results!A39","v":0},{"$f":"Results!C39","v":0},{"$f":"Results!B39","v":0},{"$f":"Results!D39","v":0},{"$f":"Results!G39","v":""},"- vs -",{"$f":"VLOOKUP(B36,Results!$A$8:AG91,9,)","v":{"$error":"#N/A"}},{"$f":"VLOOKUP(H36,Results!A$8:G91,3,)","v":{"$error":"#N/A"}},{"$f":"VLOOKUP(H36,Results!$A$8:G91,2,FALSE)","v":{"$error":"#N/A"}},{"$f":"VLOOKUP(H36,Results!$A$8:G91,4,FALSE)","v":{"$error":"#N/A"}},{"$f":"VLOOKUP(H36,Results!$A$8:G91,7,FALSE)","v":{"$error":"#N/A"}},{"$f":"VLOOKUP(H36,$B$4:B36,1,FALSE)","v":{"$error":"#N/A"}}]
[null,{"$f":"Results!A40","v":0},{"$f":"Results!C40","v":0},{"$f":"Results!B40","v":0},{"$f":"Results!D40","v":0},{"$f":"Results!G40","v":""},"- vs -",{"$f":"VLOOKUP(B37,Results!$A$8:AG92,9,)","v":{"$error":"#N/A"}},{"$f":"VLOOKUP(H37,Results!A$8:G92,3,)","v":{"$error":"#N/A"}},{"$f":"VLOOKUP(H37,Results!$A$8:G92,2,FALSE)","v":{"$error":"#N/A"}},{"$f":"VLOOKUP(H37,Results!$A$8:G92,4,FALSE)","v":{"$error":"#N/A"}},{"$f":"VLOOKUP(H37,Results!$A$8:G92,7,FALSE)","v":{"$error":"#N/A"}},{"$f":"VLOOKUP(H37,$B$4:B37,1,FALSE)","v":{"$error":"#N/A"}}]
[null,{"$f":"Results!A41","v":0},{"$f":"Results!C41","v":0},{"$f":"Results!B41","v":0},{"$f":"Results!D41","v":0},{"$f":"Results!G41","v":""},"- vs -",{"$f":"VLOOKUP(B38,Results!$A$8:AG93,9,)","v":{"$error":"#N/A"}},{"$f":"VLOOKUP(H38,Results!A$8:G93,3,)","v":{"$error":"#N/A"}},{"$f":"VLOOKUP(H38,Results!$A$8:G93,2,FALSE)","v":{"$error":"#N/A"}},{"$f":"VLOOKUP(H38,Results!$A$8:G93,4,FALSE)","v":{"$error":"#N/A"}},{"$f":"VLOOKUP(H38,Results!$A$8:G93,7,FALSE)","v":{"$error":"#N/A"}},{"$f":"VLOOKUP(H38,$B$4:B38,1,FALSE)","v":{"$error":"#N/A"}}]
[null,{"$f":"Results!A42","v":0},{"$f":"Results!C42","v":0},{"$f":"Results!B42","v":0},{"$f":"Results!D42","v":0},{"$f":"Results!G42","v":""},"- vs -",{"$f":"VLOOKUP(B39,Results!$A$8:AG94,9,)","v":{"$error":"#N/A"}},{"$f":"VLOOKUP(H39,Results!A$8:G94,3,)","v":{"$error":"#N/A"}},{"$f":"VLOOKUP(H39,Results!$A$8:G94,2,FALSE)","v":{"$error":"#N/A"}},{"$f":"VLOOKUP(H39,Results!$A$8:G94,4,FALSE)","v":{"$error":"#N/A"}},{"$f":"VLOOKUP(H39,Results!$A$8:G94,7,FALSE)","v":{"$error":"#N/A"}},{"$f":"VLOOKUP(H39,$B$4:B39,1,FALSE)","v":{"$error":"#N/A"}}]
[null,{"$f":"Results!A43","v":0},{"$f":"Results!C43","v":0},{"$f":"Results!B43","v":0},{"$f":"Results!D43","v":0},{"$f":"Results!G43","v":""},"- vs -",{"$f":"VLOOKUP(B40,Results!$A$8:AG95,9,)","v":{"$error":"#N/A"}},{"$f":"VLOOKUP(H40,Results!A$8:G95,3,)","v":{"$error":"#N/A"}},{"$f":"VLOOKUP(H40,Results!$A$8:G95,2,FALSE)","v":{"$error":"#N/A"}},{"$f":"VLOOKUP(H40,Results!$A$8:G95,4,FALSE)","v":{"$error":"#N/A"}},{"$f":"VLOOKUP(H40,Results!$A$8:G95,7,FALSE)","v":{"$error":"#N/A"}},{"$f":"VLOOKUP(H40,$B$4:B40,1,FALSE)","v":{"$error":"#N/A"}}]
[null,{"$f":"Results!A44","v":0},{"$f":"Results!C44","v":0},{"$f":"Results!B44","v":0},{"$f":"Results!D44","v":0},{"$f":"Results!G44","v":""},"- vs -",{"$f":"VLOOKUP(B41,Results!$A$8:AG96,9,)","v":{"$error":"#N/A"}},{"$f":"VLOOKUP(H41,Results!A$8:G96,3,)","v":{"$error":"#N/A"}},{"$f":"VLOOKUP(H41,Results!$A$8:G96,2,FALSE)","v":{"$error":"#N/A"}},{"$f":"VLOOKUP(H41,Results!$A$8:G96,4,FALSE)","v":{"$error":"#N/A"}},{"$f":"VLOOKUP(H41,Results!$A$8:G96,7,FALSE)","v":{"$error":"#N/A"}},{"$f":"VLOOKUP(H41,$B$4:B41,1,FALSE)","v":{"$error":"#N/A"}}]
[null,{"$f":"Results!A45","v":0},{"$f":"Results!C45","v":0},{"$f":"Results!B45","v":0},{"$f":"Results!D45","v":0},{"$f":"Results!G45","v":""},"- vs -",{"$f":"VLOOKUP(B42,Results!$A$8:AG97,9,)","v":{"$error":"#N/A"}},{"$f":"VLOOKUP(H42,Results!A$8:G97,3,)","v":{"$error":"#N/A"}},{"$f":"VLOOKUP(H42,Results!$A$8:G97,2,FALSE)","v":{"$error":"#N/A"}},{"$f":"VLOOKUP(H42,Results!$A$8:G97,4,FALSE)","v":{"$error":"#N/A"}},{"$f":"VLOOKUP(H42,Results!$A$8:G97,7,FALSE)","v":{"$error":"#N/A"}},{"$f":"VLOOKUP(H42,$B$4:B42,1,FALSE)","v":{"$error":"#N/A"}}]
[null,{"$f":"Results!A46","v":0},{"$f":"Results!C46","v":0},{"$f":"Results!B46","v":0},{"$f":"Results!D46","v":0},{"$f":"Results!G46","v":""},"- vs -",{"$f":"VLOOKUP(B43,Results!$A$8:AG98,9,)","v":{"$error":"#N/A"}},{"$f":"VLOOKUP(H43,Results!A$8:G98,3,)","v":{"$error":"#N/A"}},{"$f":"VLOOKUP(H43,Results!$A$8:G98,2,FALSE)","v":{"$error":"#N/A"}},{"$f":"VLOOKUP(H43,Results!$A$8:G98,4,FALSE)","v":{"$error":"#N/A"}},{"$f":"VLOOKUP(H43,Results!$A$8:G98,7,FALSE)","v":{"$error":"#N/A"}},{"$f":"VLOOKUP(H43,$B$4:B43,1,FALSE)","v":{"$error":"#N/A"}}]
[null,{"$f":"Results!A47","v":0},{"$f":"Results!C47","v":0},{"$f":"Results!B47","v":0},{"$f":"Results!D47","v":0},{"$f":"Results!G47","v":""},"- vs -",{"$f":"VLOOKUP(B44,Results!$A$8:AG99,9,)","v":{"$error":"#N/A"}},{"$f":"VLOOKUP(H44,Results!A$8:G99,3,)","v":{"$error":"#N/A"}},{"$f":"VLOOKUP(H44,Results!$A$8:G99,2,FALSE)","v":{"$error":"#N/A"}},{"$f":"VLOOKUP(H44,Results!$A$8:G99,4,FALSE)","v":{"$error":"#N/A"}},{"$f":"VLOOKUP(H44,Results!$A$8:G99,7,FALSE)","v":{"$error":"#N/A"}},{"$f":"VLOOKUP(H44,$B$4:B44,1,FALSE)","v":{"$error":"#N/A"}}]
[null,{"$f":"Results!A48","v":0},{"$f":"Results!C48","v":0},{"$f":"Results!B48","v":0},{"$f":"Results!D48","v":0},{"$f":"Results!G48","v":""},"- vs -",{"$f":"VLOOKUP(B45,Results!$A$8:AG100,9,)","v":{"$error":"#N/A"}},{"$f":"VLOOKUP(H45,Results!A$8:G100,3,)","v":{"$error":"#N/A"}},{"$f":"VLOOKUP(H45,Results!$A$8:G100,2,FALSE)","v":{"$error":"#N/A"}},{"$f":"VLOOKUP(H45,Results!$A$8:G100,4,FALSE)","v":{"$error":"#N/A"}},{"$f":"VLOOKUP(H45,Results!$A$8:G100,7,FALSE)","v":{"$error":"#N/A"}},{"$f":"VLOOKUP(H45,$B$4:B45,1,FALSE)","v":{"$error":"#N/A"}}]
[null,{"$f":"Results!A49","v":0},{"$f":"Results!C49","v":0},{"$f":"Results!B49","v":0},{"$f":"Results!D49","v":0},{"$f":"Results!G49","v":""},"- vs -",{"$f":"VLOOKUP(B46,Results!$A$8:AG101,9,)","v":{"$error":"#N/A"}},{"$f":"VLOOKUP(H46,Results!A$8:G101,3,)","v":{"$error":"#N/A"}},{"$f":"VLOOKUP(H46,Results!$A$8:G101,2,FALSE)","v":{"$error":"#N/A"}},{"$f":"VLOOKUP(H46,Results!$A$8:G101,4,FALSE)","v":{"$error":"#N/A"}},{"$f":"VLOOKUP(H46,Results!$A$8:G101,7,FALSE)","v":{"$error":"#N/A"}},{"$f":"VLOOKUP(H46,$B$4:B46,1,FALSE)","v":{"$error":"#N/A"}}]
[null,{"$f":"Results!A50","v":0},{"$f":"Results!C50","v":0},{"$f":"Results!B50","v":0},{"$f":"Results!D50","v":0},{"$f":"Results!G50","v":""},"- vs -",{"$f":"VLOOKUP(B47,Results!$A$8:AG102,9,)","v":{"$error":"#N/A"}},{"$f":"VLOOKUP(H47,Results!A$8:G102,3,)","v":{"$error":"#N/A"}},{"$f":"VLOOKUP(H47,Results!$A$8:G102,2,FALSE)","v":{"$error":"#N/A"}},{"$f":"VLOOKUP(H47,Results!$A$8:G102,4,FALSE)","v":{"$error":"#N/A"}},{"$f":"VLOOKUP(H47,Results!$A$8:G102,7,FALSE)","v":{"$error":"#N/A"}},{"$f":"VLOOKUP(H47,$B$4:B47,1,FALSE)","v":{"$error":"#N/A"}}]
[null,{"$f":"Results!A51","v":0},{"$f":"Results!C51","v":0},{"$f":"Results!B51","v":0},{"$f":"Results!D51","v":0},{"$f":"Results!G51","v":""},"- vs -",{"$f":"VLOOKUP(B48,Results!$A$8:AG103,9,)","v":{"$error":"#N/A"}},{"$f":"VLOOKUP(H48,Results!A$8:G103,3,)","v":{"$error":"#N/A"}},{"$f":"VLOOKUP(H48,Results!$A$8:G103,2,FALSE)","v":{"$error":"#N/A"}},{"$f":"VLOOKUP(H48,Results!$A$8:G103,4,FALSE)","v":{"$error":"#N/A"}},{"$f":"VLOOKUP(H48,Results!$A$8:G103,7,FALSE)","v":{"$error":"#N/A"}},{"$f":"VLOOKUP(H48,$B$4:B48,1,FALSE)","v":{"$error":"#N/A"}}]
[null,{"$f":"Results!A52","v":0},{"$f":"Results!C52","v":0},{"$f":"Results!B52","v":0},{"$f":"Results!D52","v":0},{"$f":"Results!G52","v":""},"- vs -",{"$f":"VLOOKUP(B49,Results!$A$8:AG104,9,)","v":{"$error":"#N/A"}},{"$f":"VLOOKUP(H49,Results!A$8:G104,3,)","v":{"$error":"#N/A"}},{"$f":"VLOOKUP(H49,Results!$A$8:G104,2,FALSE)","v":{"$error":"#N/A"}},{"$f":"VLOOKUP(H49,Results!$A$8:G104,4,FALSE)","v":{"$error":"#N/A"}},{"$f":"VLOOKUP(H49,Results!$A$8:G104,7,FALSE)","v":{"$error":"#N/A"}},{"$f":"VLOOKUP(H49,$B$4:B49,1,FALSE)","v":{"$error":"#N/A"}}]
[null,{"$f":"Results!A53","v":0},{"$f":"Results!C53","v":0},{"$f":"Results!B53","v":0},{"$f":"Results!D53","v":0},{"$f":"Results!G53","v":""},"- vs -",{"$f":"VLOOKUP(B50,Results!$A$8:AG105,9,)","v":{"$error":"#N/A"}},{"$f":"VLOOKUP(H50,Results!A$8:G105,3,)","v":{"$error":"#N/A"}},{"$f":"VLOOKUP(H50,Results!$A$8:G105,2,FALSE)","v":{"$error":"#N/A"}},{"$f":"VLOOKUP(H50,Results!$A$8:G105,4,FALSE)","v":{"$error":"#N/A"}},{"$f":"VLOOKUP(H50,Results!$A$8:G105,7,FALSE)","v":{"$error":"#N/A"}},{"$f":"VLOOKUP(H50,$B$4:B50,1,FALSE)","v":{"$error":"#N/A"}}]
[null,{"$f":"Results!A54","v":0},{"$f":"Results!C54","v":0},{"$f":"Results!B54","v":0},{"$f":"Results!D54","v":0},{"$f":"Results!G54","v":""},"- vs -",{"$f":"VLOOKUP(B51,Results!$A$8:AG106,9,)","v":{"$error":"#N/A"}},{"$f":"VLOOKUP(H51,Results!A$8:G106,3,)","v":{"$error":"#N/A"}},{"$f":"VLOOKUP(H51,Results!$A$8:G106,2,FALSE)","v":{"$error":"#N/A"}},{"$f":"VLOOKUP(H51,Results!$A$8:G106,4,FALSE)","v":{"$error":"#N/A"}},{"$f":"VLOOKUP(H51,Results!$A$8:G106,7,FALSE)","v":{"$error":"#N/A"}},{"$f":"VLOOKUP(H51,$B$4:B51,1,FALSE)","v":{"$error":"#N/A"}}]
[null,{"$f":"Results!A55","v":0},{"$f":"Results!C55","v":0},{"$f":"Results!B55","v":0},{"$f":"Results!D55","v":0},{"$f":"Results!G55","v":""},"- vs -",{"$f":"VLOOKUP(B52,Results!$A$8:AG107,9,)","v":{"$error":"#N/A"}},{"$f":"VLOOKUP(H52,Results!A$8:G107,3,)","v":{"$error":"#N/A"}},{"$f":"VLOOKUP(H52,Results!$A$8:G107,2,FALSE)","v":{"$error":"#N/A"}},{"$f":"VLOOKUP(H52,Results!$A$8:G107,4,FALSE)","v":{"$error":"#N/A"}},{"$f":"VLOOKUP(H52,Results!$A$8:G107,7,FALSE)","v":{"$error":"#N/A"}},{"$f":"VLOOKUP(H52,$B$4:B52,1,FALSE)","v":{"$error":"#N/A"}}]
[null,{"$f":"Results!A56","v":0},{"$f":"Results!C56","v":0},{"$f":"Results!B56","v":0},{"$f":"Results!D56","v":0},{"$f":"Results!G56","v":""},"- vs -",{"$f":"VLOOKUP(B53,Results!$A$8:AG108,9,)","v":{"$error":"#N/A"}},{"$f":"VLOOKUP(H53,Results!A$8:G108,3,)","v":{"$error":"#N/A"}},{"$f":"VLOOKUP(H53,Results!$A$8:G108,2,FALSE)","v":{"$error":"#N/A"}},{"$f":"VLOOKUP(H53,Results!$A$8:G108,4,FALSE)","v":{"$error":"#N/A"}},{"$f":"VLOOKUP(H53,Results!$A$8:G108,7,FALSE)","v":{"$error":"#N/A"}},{"$f":"VLOOKUP(H53,$B$4:B53,1,FALSE)","v":{"$error":"#N/A"}}]
[null,{"$f":"Results!A57","v":0},{"$f":"Results!C57","v":0},{"$f":"Results!B57","v":0},{"$f":"Results!D57","v":0},{"$f":"Results!G57","v":""},"- vs -",{"$f":"VLOOKUP(B54,Results!$A$8:AG109,9,)","v":{"$error":"#N/A"}},{"$f":"VLOOKUP(H54,Results!A$8:G109,3,)","v":{"$error":"#N/A"}},{"$f":"VLOOKUP(H54,Results!$A$8:G109,2,FALSE)","v":{"$error":"#N/A"}},{"$f":"VLOOKUP(H54,Results!$A$8:G109,4,FALSE)","v":{"$error":"#N/A"}},{"$f":"VLOOKUP(H54,Results!$A$8:G109,7,FALSE)","v":{"$error":"#N/A"}},{"$f":"VLOOKUP(H54,$B$4:B54,1,FALSE)","v":{"$error":"#N/A"}}]
[null,{"$f":"Results!A58","v":0},{"$f":"Results!C58","v":0},{"$f":"Results!B58","v":0},{"$f":"Results!D58","v":0},{"$f":"Results!G58","v":""},"- vs -",{"$f":"VLOOKUP(B55,Results!$A$8:AG110,9,)","v":{"$error":"#N/A"}},{"$f":"VLOOKUP(H55,Results!A$8:G110,3,)","v":{"$error":"#N/A"}},{"$f":"VLOOKUP(H55,Results!$A$8:G110,2,FALSE)","v":{"$error":"#N/A"}},{"$f":"VLOOKUP(H55,Results!$A$8:G110,4,FALSE)","v":{"$error":"#N/A"}},{"$f":"VLOOKUP(H55,Results!$A$8:G110,7,FALSE)","v":{"$error":"#N/A"}},{"$f":"VLOOKUP(H55,$B$4:B55,1,FALSE)","v":{"$error":"#N/A"}}]
[null,{"$f":"Results!A59","v":0},{"$f":"Results!C59","v":0},{"$f":"Results!B59","v":0},{"$f":"Results!D59","v":0},{"$f":"Results!G59","v":""},"- vs -",{"$f":"VLOOKUP(B56,Results!$A$8:AG111,9,)","v":{"$error":"#N/A"}},{"$f":"VLOOKUP(H56,Results!A$8:G111,3,)","v":{"$error":"#N/A"}},{"$f":"VLOOKUP(H56,Results!$A$8:G111,2,FALSE)","v":{"$error":"#N/A"}},{"$f":"VLOOKUP(H56,Results!$A$8:G111,4,FALSE)","v":{"$error":"#N/A"}},{"$f":"VLOOKUP(H56,Results!$A$8:G111,7,FALSE)","v":{"$error":"#N/A"}},{"$f":"VLOOKUP(H56,$B$4:B56,1,FALSE)","v":{"$error":"#N/A"}}]
[null,{"$f":"Results!A60","v":0},{"$f":"Results!C60","v":0},{"$f":"Results!B60","v":0},{"$f":"Results!D60","v":0},{"$f":"Results!G60","v":""},"- vs -",{"$f":"VLOOKUP(B57,Results!$A$8:AG112,9,)","v":{"$error":"#N/A"}},{"$f":"VLOOKUP(H57,Results!A$8:G112,3,)","v":{"$error":"#N/A"}},{"$f":"VLOOKUP(H57,Results!$A$8:G112,2,FALSE)","v":{"$error":"#N/A"}},{"$f":"VLOOKUP(H57,Results!$A$8:G112,4,FALSE)","v":{"$error":"#N/A"}},{"$f":"VLOOKUP(H57,Results!$A$8:G112,7,FALSE)","v":{"$error":"#N/A"}},{"$f":"VLOOKUP(H57,$B$4:B57,1,FALSE)","v":{"$error":"#N/A"}}]
[null,{"$f":"Results!A61","v":0},{"$f":"Results!C61","v":0},{"$f":"Results!B61","v":0},{"$f":"Results!D61","v":0},{"$f":"Results!G61","v":0},"- vs -",{"$f":"VLOOKUP(B58,Results!$A$8:AG113,9,)","v":{"$error":"#N/A"}},{"$f":"VLOOKUP(H58,Results!A$8:G113,3,)","v":{"$error":"#N/A"}},{"$f":"VLOOKUP(H58,Results!$A$8:G113,2,FALSE)","v":{"$error":"#N/A"}},{"$f":"VLOOKUP(H58,Results!$A$8:G113,4,FALSE)","v":{"$error":"#N/A"}},{"$f":"VLOOKUP(H58,Results!$A$8:G113,7,FALSE)","v":{"$error":"#N/A"}},{"$f":"VLOOKUP(H58,$B$4:B58,1,FALSE)","v":{"$error":"#N/A"}}]
[null,{"$f":"Results!A62","v":0},{"$f":"Results!C62","v":0},{"$f":"Results!B62","v":0},{"$f":"Results!D62","v":0},{"$f":"Results!G62","v":0},"- vs -",{"$f":"VLOOKUP(B59,Results!$A$8:AG114,9,)","v":{"$error":"#N/A"}},{"$f":"VLOOKUP(H59,Results!A$8:G114,3,)","v":{"$error":"#N/A"}},{"$f":"VLOOKUP(H59,Results!$A$8:G114,2,FALSE)","v":{"$error":"#N/A"}},{"$f":"VLOOKUP(H59,Results!$A$8:G114,4,FALSE)","v":{"$error":"#N/A"}},{"$f":"VLOOKUP(H59,Results!$A$8:G114,7,FALSE)","v":{"$error":"#N/A"}},{"$f":"VLOOKUP(H59,$B$4:B59,1,FALSE)","v":{"$error":"#N/A"}}]
[null,{"$f":"Results!A63","v":0},{"$f":"Results!C63","v":0},{"$f":"Results!B63","v":0},{"$f":"Results!D63","v":0},{"$f":"Results!G63","v":0},"- vs -",{"$f":"VLOOKUP(B60,Results!$A$8:AG115,9,)","v":{"$error":"#N/A"}},{"$f":"VLOOKUP(H60,Results!A$8:G115,3,)","v":{"$error":"#N/A"}},{"$f":"VLOOKUP(H60,Results!$A$8:G115,2,FALSE)","v":{"$error":"#N/A"}},{"$f":"VLOOKUP(H60,Results!$A$8:G115,4,FALSE)","v":{"$error":"#N/A"}},{"$f":"VLOOKUP(H60,Results!$A$8:G115,7,FALSE)","v":{"$error":"#N/A"}},{"$f":"VLOOKUP(H60,$B$4:B60,1,FALSE)","v":{"$error":"#N/A"}}]
[null,{"$f":"Results!A64","v":0},{"$f":"Results!C64","v":0},{"$f":"Results!B64","v":0},{"$f":"Results!D64","v":0},{"$f":"Results!G64","v":0},"- vs -",{"$f":"VLOOKUP(B61,Results!$A$8:AG116,9,)","v":{"$error":"#N/A"}},{"$f":"VLOOKUP(H61,Results!A$8:G116,3,)","v":{"$error":"#N/A"}},{"$f":"VLOOKUP(H61,Results!$A$8:G116,2,FALSE)","v":{"$error":"#N/A"}},{"$f":"VLOOKUP(H61,Results!$A$8:G116,4,FALSE)","v":{"$error":"#N/A"}},{"$f":"VLOOKUP(H61,Results!$A$8:G116,7,FALSE)","v":{"$error":"#N/A"}},{"$f":"VLOOKUP(H61,$B$4:B61,1,FALSE)","v":{"$error":"#N/A"}}]
[null,{"$f":"Results!A65","v":0},{"$f":"Results!C65","v":0},{"$f":"Results!B65","v":0},{"$f":"Results!D65","v":0},{"$f":"Results!G65","v":0},"- vs -",{"$f":"VLOOKUP(B62,Results!$A$8:AG117,9,)","v":{"$error":"#N/A"}},{"$f":"VLOOKUP(H62,Results!A$8:G117,3,)","v":{"$error":"#N/A"}},{"$f":"VLOOKUP(H62,Results!$A$8:G117,2,FALSE)","v":{"$error":"#N/A"}},{"$f":"VLOOKUP(H62,Results!$A$8:G117,4,FALSE)","v":{"$error":"#N/A"}},{"$f":"VLOOKUP(H62,Results!$A$8:G117,7,FALSE)","v":{"$error":"#N/A"}},{"$f":"VLOOKUP(H62,$B$4:B62,1,FALSE)","v":{"$error":"#N/A"}}]
[null,{"$f":"Results!A66","v":0},{"$f":"Results!C66","v":0},{"$f":"Results!B66","v":0},{"$f":"Results!D66","v":0},{"$f":"Results!G66","v":0},"- vs -",{"$f":"VLOOKUP(B63,Results!$A$8:AG118,9,)","v":{"$error":"#N/A"}},{"$f":"VLOOKUP(H63,Results!A$8:G118,3,)","v":{"$error":"#N/A"}},{"$f":"VLOOKUP(H63,Results!$A$8:G118,2,FALSE)","v":{"$error":"#N/A"}},{"$f":"VLOOKUP(H63,Results!$A$8:G118,4,FALSE)","v":{"$error":"#N/A"}},{"$f":"VLOOKUP(H63,Results!$A$8:G118,7,FALSE)","v":{"$error":"#N/A"}},{"$f":"VLOOKUP(H63,$B$4:B63,1,FALSE)","v":{"$error":"#N/A"}}]
[]
[]
[]
[]
[null,254,"Bender","Ostap","FRONTON","Later Carthaginian","- vs -",111,"Ralph","Ashdown","SSWG","Triumvirate Roman"]
[null,750,"Chris","Jackson","Cardiff","","- vs -",112,"Gareth","Evans",0,"Triumvirate Roman"]
[null,752,"Mark","Clarke","Alumwell","Mithriditic","- vs -",110,"Rob","James",0,"Huns"]
[null,754,"Colin","Cavanagh","SSWG","Triumvirate Roman","- vs -",751,"Steven","Hacker","Clevedon","Alexander the Great"]
[null,768,"David","Allen","CLWC","Later Aechemneid Persian","- vs -",273,"Lionel","Martinez","ACLEB","Patrician Roman"]
[null,771,"Patrick","Dale","SOA","Dacians and Carpi","- vs -",113,"David","Handley","Warlords",""]
[null,800,"Ian","Mackay","CLWC","Bactrians & Indo-Greek","- vs -",770,"Christopher","Ager","SOA","Classical Indian"]
[null,904,"Tony","Horobin","SSWG","","- vs -",488,"Andrew","Unwin","Berkeley","Classical Indian"]

{"sheet":"Round 2","index":10,"n_rows":75,"n_cols":13,"rows_kept":75,"cut":false,"hidden":false,"merged":[]}
[]
["Round 2 Draw",null,{"$f":"Results!B3","v":0}]
[null,null,{"$f":"Results!B4","v":"Open Theme"}]
[null,null,null,null,null,null,null,null,null,null,null,null,"VALID?"]
[null,{"$f":"Results!A8","v":0},{"$f":"Results!C8","v":0},{"$f":"Results!B8","v":0},{"$f":"Results!D8","v":0},{"$f":"Results!G8","v":""},"- vs -",{"$f":"VLOOKUP(B5,Results!$A$8:$AG$60,16,FALSE)","v":{"$error":"#N/A"}},{"$f":"VLOOKUP(H5,Results!A$8:$G$60,3,FALSE)","v":{"$error":"#N/A"}},{"$f":"VLOOKUP(H5,Results!$A$8:$G$60,2,FALSE)","v":{"$error":"#N/A"}},{"$f":"VLOOKUP(H5,Results!$A$8:$G$60,4,FALSE)","v":{"$error":"#N/A"}},{"$f":"VLOOKUP(H5,Results!$A$8:$G$60,7,FALSE)","v":{"$error":"#N/A"}},{"$f":"VLOOKUP(H5,$B$4:B5,1,FALSE)","v":{"$error":"#N/A"}}]
[null,{"$f":"Results!A9","v":0},{"$f":"Results!C9","v":0},{"$f":"Results!B9","v":0},{"$f":"Results!D9","v":0},{"$f":"Results!G9","v":""},"- vs -",{"$f":"VLOOKUP(B6,Results!$A$8:$AG$60,16,FALSE)","v":{"$error":"#N/A"}},{"$f":"VLOOKUP(H6,Results!A$8:$G$60,3,FALSE)","v":{"$error":"#N/A"}},{"$f":"VLOOKUP(H6,Results!$A$8:$G$60,2,FALSE)","v":{"$error":"#N/A"}},{"$f":"VLOOKUP(H6,Results!$A$8:$G$60,4,FALSE)","v":{"$error":"#N/A"}},{"$f":"VLOOKUP(H6,Results!$A$8:$G$60,7,FALSE)","v":{"$error":"#N/A"}},{"$f":"VLOOKUP(H6,$B$4:B6,1,FALSE)","v":{"$error":"#N/A"}}]
[null,{"$f":"Results!A10","v":0},{"$f":"Results!C10","v":0},{"$f":"Results!B10","v":0},{"$f":"Results!D10","v":0},{"$f":"Results!G8","v":""},"- vs -",{"$f":"VLOOKUP(B7,Results!$A$8:$AG$60,16,FALSE)","v":{"$error":"#N/A"}},{"$f":"VLOOKUP(H7,Results!A$8:$G$60,3,FALSE)","v":{"$error":"#N/A"}},{"$f":"VLOOKUP(H7,Results!$A$8:$G$60,2,FALSE)","v":{"$error":"#N/A"}},{"$f":"VLOOKUP(H7,Results!$A$8:$G$60,4,FALSE)","v":{"$error":"#N/A"}},{"$f":"VLOOKUP(H7,Results!$A$8:$G$60,7,FALSE)","v":{"$error":"#N/A"}},{"$f":"VLOOKUP(H7,$B$4:B7,1,FALSE)","v":{"$error":"#N/A"}}]
[null,{"$f":"Results!A11","v":0},{"$f":"Results!C11","v":0},{"$f":"Results!B11","v":0},{"$f":"Results!D11","v":0},{"$f":"Results!G11","v":""},"- vs -",{"$f":"VLOOKUP(B8,Results!$A$8:$AG$60,16,FALSE)","v":{"$error":"#N/A"}},{"$f":"VLOOKUP(H8,Results!A$8:$G$60,3,FALSE)","v":{"$error":"#N/A"}},{"$f":"VLOOKUP(H8,Results!$A$8:$G$60,2,FALSE)","v":{"$error":"#N/A"}},{"$f":"VLOOKUP(H8,Results!$A$8:$G$60,4,FALSE)","v":{"$error":"#N/A"}},{"$f":"VLOOKUP(H8,Results!$A$8:$G$60,7,FALSE)","v":{"$error":"#N/A"}},{"$f":"VLOOKUP(H8,$B$4:B8,1,FALSE)","v":{"$error":"#N/A"}}]
[null,{"$f":"Results!A12","v":0},{"$f":"Results!C12","v":0},{"$f":"Results!B12","v":0},{"$f":"Results!D12","v":0},{"$f":"Results!G12","v":""},"- vs -",{"$f":"VLOOKUP(B9,Results!$A$8:$AG$60,16,FALSE)","v":{"$error":"#N/A"}},{"$f":"VLOOKUP(H9,Results!A$8:$G$60,3,FALSE)","v":{"$error":"#N/A"}},{"$f":"VLOOKUP(H9,Results!$A$8:$G$60,2,FALSE)","v":{"$error":"#N/A"}},{"$f":"VLOOKUP(H9,Results!$A$8:$G$60,4,FALSE)","v":{"$error":"#N/A"}},{"$f":"VLOOKUP(H9,Results!$A$8:$G$60,7,FALSE)","v":{"$error":"#N/A"}},{"$f":"VLOOKUP(H9,$B$4:B9,1,FALSE)","v":{"$error":"#N/A"}}]
[null,{"$f":"Results!A13","v":0},{"$f":"Results!C13","v":0},{"$f":"Results!B13","v":0},{"$f":"Results!D13","v":0},{"$f":"Results!G13","v":""},"- vs -",{"$f":"VLOOKUP(B10,Results!$A$8:$AG$60,16,FALSE)","v":{"$error":"#N/A"}},{"$f":"VLOOKUP(H10,Results!A$8:$G$60,3,FALSE)","v":{"$error":"#N/A"}},{"$f":"VLOOKUP(H10,Results!$A$8:$G$60,2,FALSE)","v":{"$error":"#N/A"}},{"$f":"VLOOKUP(H10,Results!$A$8:$G$60,4,FALSE)","v":{"$error":"#N/A"}},{"$f":"VLOOKUP(H10,Results!$A$8:$G$60,7,FALSE)","v":{"$error":"#N/A"}},{"$f":"VLOOKUP(H10,$B$4:B10,1,FALSE)","v":{"$error":"#N/A"}}]
[null,{"$f":"Results!A14","v":0},{"$f":"Results!C14","v":0},{"$f":"Results!B14","v":0},{"$f":"Results!D14","v":0},{"$f":"Results!G14","v":""},"- vs -",{"$f":"VLOOKUP(B11,Results!$A$8:$AG$60,16,FALSE)","v":{"$error":"#N/A"}},{"$f":"VLOOKUP(H11,Results!A$8:$G$60,3,FALSE)","v":{"$error":"#N/A"}},{"$f":"VLOOKUP(H11,Results!$A$8:$G$60,2,FALSE)","v":{"$error":"#N/A"}},{"$f":"VLOOKUP(H11,Results!$A$8:$G$60,4,FALSE)","v":{"$error":"#N/A"}},{"$f":"VLOOKUP(H11,Results!$A$8:$G$60,7,FALSE)","v":{"$error":"#N/A"}},{"$f":"VLOOKUP(H11,$B$4:B11,1,FALSE)","v":{"$error":"#N/A"}}]
[null,{"$f":"Results!A15","v":0},{"$f":"Results!C15","v":0},{"$f":"Results!B15","v":0},{"$f":"Results!D15","v":0},{"$f":"Results!G15","v":""},"- vs -",{"$f":"VLOOKUP(B12,Results!$A$8:$AG$60,16,FALSE)","v":{"$error":"#N/A"}},{"$f":"VLOOKUP(H12,Results!A$8:$G$60,3,FALSE)","v":{"$error":"#N/A"}},{"$f":"VLOOKUP(H12,Results!$A$8:$G$60,2,FALSE)","v":{"$error":"#N/A"}},{"$f":"VLOOKUP(H12,Results!$A$8:$G$60,4,FALSE)","v":{"$error":"#N/A"}},{"$f":"VLOOKUP(H12,Results!$A$8:$G$60,7,FALSE)","v":{"$error":"#N/A"}},{"$f":"VLOOKUP(H12,$B$4:B12,1,FALSE)","v":{"$error":"#N/A"}}]
[null,{"$f":"Results!A16","v":0},{"$f":"Results!C16","v":0},{"$f":"Results!B16","v":0},{"$f":"Results!D16","v":0},{"$f":"Results!G16","v":""},"- vs -",{"$f":"VLOOKUP(B13,Results!$A$8:$AG$60,16,FALSE)","v":{"$error":"#N/A"}},{"$f":"VLOOKUP(H13,Results!A$8:$G$60,3,FALSE)","v":{"$error":"#N/A"}},{"$f":"VLOOKUP(H13,Results!$A$8:$G$60,2,FALSE)","v":{"$error":"#N/A"}},{"$f":"VLOOKUP(H13,Results!$A$8:$G$60,4,FALSE)","v":{"$error":"#N/A"}},{"$f":"VLOOKUP(H13,Results!$A$8:$G$60,7,FALSE)","v":{"$error":"#N/A"}},{"$f":"VLOOKUP(H13,$B$4:B13,1,FALSE)","v":{"$error":"#N/A"}}]
[null,{"$f":"Results!A17","v":0},{"$f":"Results!C17","v":0},{"$f":"Results!B17","v":0},{"$f":"Results!D17","v":0},{"$f":"Results!G17","v":""},"- vs -",{"$f":"VLOOKUP(B14,Results!$A$8:$AG$60,16,FALSE)","v":{"$error":"#N/A"}},{"$f":"VLOOKUP(H14,Results!A$8:$G$60,3,FALSE)","v":{"$error":"#N/A"}},{"$f":"VLOOKUP(H14,Results!$A$8:$G$60,2,FALSE)","v":{"$error":"#N/A"}},{"$f":"VLOOKUP(H14,Results!$A$8:$G$60,4,FALSE)","v":{"$error":"#N/A"}},{"$f":"VLOOKUP(H14,Results!$A$8:$G$60,7,FALSE)","v":{"$error":"#N/A"}},{"$f":"VLOOKUP(H14,$B$4:B14,1,FALSE)","v":{"$error":"#N/A"}}]
[null,{"$f":"Results!A18","v":0},{"$f":"Results!C18","v":0},{"$f":"Results!B18","v":0},{"$f":"Results!D18","v":0},{"$f":"Results!G18","v":""},"- vs -",{"$f":"VLOOKUP(B15,Results!$A$8:$AG$60,16,FALSE)","v":{"$error":"#N/A"}},{"$f":"VLOOKUP(H15,Results!A$8:$G$60,3,FALSE)","v":{"$error":"#N/A"}},{"$f":"VLOOKUP(H15,Results!$A$8:$G$60,2,FALSE)","v":{"$error":"#N/A"}},{"$f":"VLOOKUP(H15,Results!$A$8:$G$60,4,FALSE)","v":{"$error":"#N/A"}},{"$f":"VLOOKUP(H15,Results!$A$8:$G$60,7,FALSE)","v":{"$error":"#N/A"}},{"$f":"VLOOKUP(H15,$B$4:B15,1,FALSE)","v":{"$error":"#N/A"}}]
[null,{"$f":"Results!A19","v":0},{"$f":"Results!C19","v":0},{"$f":"Results!B19","v":0},{"$f":"Results!D19","v":0},{"$f":"Results!G19","v":""},"- vs -",{"$f":"VLOOKUP(B16,Results!$A$8:$AG$60,16,FALSE)","v":{"$error":"#N/A"}},{"$f":"VLOOKUP(H16,Results!A$8:$G$60,3,FALSE)","v":{"$error":"#N/A"}},{"$f":"VLOOKUP(H16,Results!$A$8:$G$60,2,FALSE)","v":{"$error":"#N/A"}},{"$f":"VLOOKUP(H16,Results!$A$8:$G$60,4,FALSE)","v":{"$error":"#N/A"}},{"$f":"VLOOKUP(H16,Results!$A$8:$G$60,7,FALSE)","v":{"$error":"#N/A"}},{"$f":"VLOOKUP(H16,$B$4:B16,1,FALSE)","v":{"$error":"#N/A"}}]
[null,{"$f":"Results!A20","v":0},{"$f":"Results!C20","v":0},{"$f":"Results!B20","v":0},{"$f":"Results!D20","v":0},{"$f":"Results!G20","v":""},"- vs -",{"$f":"VLOOKUP(B17,Results!$A$8:$AG$60,16,FALSE)","v":{"$error":"#N/A"}},{"$f":"VLOOKUP(H17,Results!A$8:$G$60,3,FALSE)","v":{"$error":"#N/A"}},{"$f":"VLOOKUP(H17,Results!$A$8:$G$60,2,FALSE)","v":{"$error":"#N/A"}},{"$f":"VLOOKUP(H17,Results!$A$8:$G$60,4,FALSE)","v":{"$error":"#N/A"}},{"$f":"VLOOKUP(H17,Results!$A$8:$G$60,7,FALSE)","v":{"$error":"#N/A"}},{"$f":"VLOOKUP(H17,$B$4:B17,1,FALSE)","v":{"$error":"#N/A"}}]
[null,{"$f":"Results!A21","v":0},{"$f":"Results!C21","v":0},{"$f":"Results!B21","v":0},{"$f":"Results!D21","v":0},{"$f":"Results!G21","v":""},"- vs -",{"$f":"VLOOKUP(B18,Results!$A$8:$AG$60,16,FALSE)","v":{"$error":"#N/A"}},{"$f":"VLOOKUP(H18,Results!A$8:$G$60,3,FALSE)","v":{"$error":"#N/A"}},{"$f":"VLOOKUP(H18,Results!$A$8:$G$60,2,FALSE)","v":{"$error":"#N/A"}},{"$f":"VLOOKUP(H18,Results!$A$8:$G$60,4,FALSE)","v":{"$error":"#N/A"}},{"$f":"VLOOKUP(H18,Results!$A$8:$G$60,7,FALSE)","v":{"$error":"#N/A"}},{"$f":"VLOOKUP(H18,$B$4:B18,1,FALSE)","v":{"$error":"#N/A"}}]
[null,{"$f":"Results!A22","v":0},{"$f":"Results!C22","v":0},{"$f":"Results!B22","v":0},{"$f":"Results!D22","v":0},{"$f":"Results!G22","v":""},"- vs -",{"$f":"VLOOKUP(B19,Results!$A$8:$AG$60,16,FALSE)","v":{"$error":"#N/A"}},{"$f":"VLOOKUP(H19,Results!A$8:$G$60,3,FALSE)","v":{"$error":"#N/A"}},{"$f":"VLOOKUP(H19,Results!$A$8:$G$60,2,FALSE)","v":{"$error":"#N/A"}},{"$f":"VLOOKUP(H19,Results!$A$8:$G$60,4,FALSE)","v":{"$error":"#N/A"}},{"$f":"VLOOKUP(H19,Results!$A$8:$G$60,7,FALSE)","v":{"$error":"#N/A"}},{"$f":"VLOOKUP(H19,$B$4:B19,1,FALSE)","v":{"$error":"#N/A"}}]
[null,{"$f":"Results!A23","v":0},{"$f":"Results!C23","v":0},{"$f":"Results!B23","v":0},{"$f":"Results!D23","v":0},{"$f":"Results!G23","v":""},"- vs -",{"$f":"VLOOKUP(B20,Results!$A$8:$AG$60,16,FALSE)","v":{"$error":"#N/A"}},{"$f":"VLOOKUP(H20,Results!A$8:$G$60,3,FALSE)","v":{"$error":"#N/A"}},{"$f":"VLOOKUP(H20,Results!$A$8:$G$60,2,FALSE)","v":{"$error":"#N/A"}},{"$f":"VLOOKUP(H20,Results!$A$8:$G$60,4,FALSE)","v":{"$error":"#N/A"}},{"$f":"VLOOKUP(H20,Results!$A$8:$G$60,7,FALSE)","v":{"$error":"#N/A"}},{"$f":"VLOOKUP(H20,$B$4:B20,1,FALSE)","v":{"$error":"#N/A"}}]
[null,{"$f":"Results!A24","v":0},{"$f":"Results!C24","v":0},{"$f":"Results!B24","v":0},{"$f":"Results!D24","v":0},{"$f":"Results!G24","v":""},"- vs -",{"$f":"VLOOKUP(B21,Results!$A$8:$AG$60,16,FALSE)","v":{"$error":"#N/A"}},{"$f":"VLOOKUP(H21,Results!A$8:$G$60,3,FALSE)","v":{"$error":"#N/A"}},{"$f":"VLOOKUP(H21,Results!$A$8:$G$60,2,FALSE)","v":{"$error":"#N/A"}},{"$f":"VLOOKUP(H21,Results!$A$8:$G$60,4,FALSE)","v":{"$error":"#N/A"}},{"$f":"VLOOKUP(H21,Results!$A$8:$G$60,7,FALSE)","v":{"$error":"#N/A"}},{"$f":"VLOOKUP(H21,$B$4:B21,1,FALSE)","v":{"$error":"#N/A"}}]
[null,{"$f":"Results!A25","v":0},{"$f":"Results!C25","v":0},{"$f":"Results!B25","v":0},{"$f":"Results!D25","v":0},{"$f":"Results!G25","v":""},"- vs -",{"$f":"VLOOKUP(B22,Results!$A$8:$AG$60,16,FALSE)","v":{"$error":"#N/A"}},{"$f":"VLOOKUP(H22,Results!A$8:$G$60,3,FALSE)","v":{"$error":"#N/A"}},{"$f":"VLOOKUP(H22,Results!$A$8:$G$60,2,FALSE)","v":{"$error":"#N/A"}},{"$f":"VLOOKUP(H22,Results!$A$8:$G$60,4,FALSE)","v":{"$error":"#N/A"}},{"$f":"VLOOKUP(H22,Results!$A$8:$G$60,7,FALSE)","v":{"$error":"#N/A"}},{"$f":"VLOOKUP(H22,$B$4:B22,1,FALSE)","v":{"$error":"#N/A"}}]
[null,{"$f":"Results!A26","v":0},{"$f":"Results!C26","v":0},{"$f":"Results!B26","v":0},{"$f":"Results!D26","v":0},{"$f":"Results!G26","v":""},"- vs -",{"$f":"VLOOKUP(B23,Results!$A$8:$AG$60,16,FALSE)","v":{"$error":"#N/A"}},{"$f":"VLOOKUP(H23,Results!A$8:$G$60,3,FALSE)","v":{"$error":"#N/A"}},{"$f":"VLOOKUP(H23,Results!$A$8:$G$60,2,FALSE)","v":{"$error":"#N/A"}},{"$f":"VLOOKUP(H23,Results!$A$8:$G$60,4,FALSE)","v":{"$error":"#N/A"}},{"$f":"VLOOKUP(H23,Results!$A$8:$G$60,7,FALSE)","v":{"$error":"#N/A"}},{"$f":"VLOOKUP(H23,$B$4:B23,1,FALSE)","v":{"$error":"#N/A"}}]
[null,{"$f":"Results!A27","v":0},{"$f":"Results!C27","v":0},{"$f":"Results!B27","v":0},{"$f":"Results!D27","v":0},{"$f":"Results!G27","v":""},"- vs -",{"$f":"VLOOKUP(B24,Results!$A$8:$AG$60,16,FALSE)","v":{"$error":"#N/A"}},{"$f":"VLOOKUP(H24,Results!A$8:$G$60,3,FALSE)","v":{"$error":"#N/A"}},{"$f":"VLOOKUP(H24,Results!$A$8:$G$60,2,FALSE)","v":{"$error":"#N/A"}},{"$f":"VLOOKUP(H24,Results!$A$8:$G$60,4,FALSE)","v":{"$error":"#N/A"}},{"$f":"VLOOKUP(H24,Results!$A$8:$G$60,7,FALSE)","v":{"$error":"#N/A"}},{"$f":"VLOOKUP(H24,$B$4:B24,1,FALSE)","v":{"$error":"#N/A"}}]
[null,{"$f":"Results!A28","v":0},{"$f":"Results!C28","v":0},{"$f":"Results!B28","v":0},{"$f":"Results!D28","v":0},{"$f":"Results!G28","v":""},"- vs -",{"$f":"VLOOKUP(B25,Results!$A$8:$AG$60,16,FALSE)","v":{"$error":"#N/A"}},{"$f":"VLOOKUP(H25,Results!A$8:$G$60,3,FALSE)","v":{"$error":"#N/A"}},{"$f":"VLOOKUP(H25,Results!$A$8:$G$60,2,FALSE)","v":{"$error":"#N/A"}},{"$f":"VLOOKUP(H25,Results!$A$8:$G$60,4,FALSE)","v":{"$error":"#N/A"}},{"$f":"VLOOKUP(H25,Results!$A$8:$G$60,7,FALSE)","v":{"$error":"#N/A"}},{"$f":"VLOOKUP(H25,$B$4:B25,1,FALSE)","v":{"$error":"#N/A"}}]
[null,{"$f":"Results!A29","v":0},{"$f":"Results!C29","v":0},{"$f":"Results!B29","v":0},{"$f":"Results!D29","v":0},{"$f":"Results!G29","v":""},"- vs -",{"$f":"VLOOKUP(B26,Results!$A$8:$AG$60,16,FALSE)","v":{"$error":"#N/A"}},{"$f":"VLOOKUP(H26,Results!A$8:$G$60,3,FALSE)","v":{"$error":"#N/A"}},{"$f":"VLOOKUP(H26,Results!$A$8:$G$60,2,FALSE)","v":{"$error":"#N/A"}},{"$f":"VLOOKUP(H26,Results!$A$8:$G$60,4,FALSE)","v":{"$error":"#N/A"}},{"$f":"VLOOKUP(H26,Results!$A$8:$G$60,7,FALSE)","v":{"$error":"#N/A"}},{"$f":"VLOOKUP(H26,$B$4:B26,1,FALSE)","v":{"$error":"#N/A"}}]
[null,{"$f":"Results!A30","v":0},{"$f":"Results!C30","v":0},{"$f":"Results!B30","v":0},{"$f":"Results!D30","v":0},{"$f":"Results!G30","v":""},"- vs -",{"$f":"VLOOKUP(B27,Results!$A$8:$AG$60,16,FALSE)","v":{"$error":"#N/A"}},{"$f":"VLOOKUP(H27,Results!A$8:$G$60,3,FALSE)","v":{"$error":"#N/A"}},{"$f":"VLOOKUP(H27,Results!$A$8:$G$60,2,FALSE)","v":{"$error":"#N/A"}},{"$f":"VLOOKUP(H27,Results!$A$8:$G$60,4,FALSE)","v":{"$error":"#N/A"}},{"$f":"VLOOKUP(H27,Results!$A$8:$G$60,7,FALSE)","v":{"$error":"#N/A"}},{"$f":"VLOOKUP(H27,$B$4:B27,1,FALSE)","v":{"$error":"#N/A"}}]
[null,{"$f":"Results!A31","v":0},{"$f":"Results!C31","v":0},{"$f":"Results!B31","v":0},{"$f":"Results!D31","v":0},{"$f":"Results!G31","v":""},"- vs -",{"$f":"VLOOKUP(B28,Results!$A$8:$AG$60,16,FALSE)","v":{"$error":"#N/A"}},{"$f":"VLOOKUP(H28,Results!A$8:$G$60,3,FALSE)","v":{"$error":"#N/A"}},{"$f":"VLOOKUP(H28,Results!$A$8:$G$60,2,FALSE)","v":{"$error":"#N/A"}},{"$f":"VLOOKUP(H28,Results!$A$8:$G$60,4,FALSE)","v":{"$error":"#N/A"}},{"$f":"VLOOKUP(H28,Results!$A$8:$G$60,7,FALSE)","v":{"$error":"#N/A"}},{"$f":"VLOOKUP(H28,$B$4:B28,1,FALSE)","v":{"$error":"#N/A"}}]
[null,{"$f":"Results!A32","v":0},{"$f":"Results!C32","v":0},{"$f":"Results!B32","v":0},{"$f":"Results!D32","v":0},{"$f":"Results!G32","v":""},"- vs -",{"$f":"VLOOKUP(B29,Results!$A$8:$AG$60,16,FALSE)","v":{"$error":"#N/A"}},{"$f":"VLOOKUP(H29,Results!A$8:$G$60,3,FALSE)","v":{"$error":"#N/A"}},{"$f":"VLOOKUP(H29,Results!$A$8:$G$60,2,FALSE)","v":{"$error":"#N/A"}},{"$f":"VLOOKUP(H29,Results!$A$8:$G$60,4,FALSE)","v":{"$error":"#N/A"}},{"$f":"VLOOKUP(H29,Results!$A$8:$G$60,7,FALSE)","v":{"$error":"#N/A"}},{"$f":"VLOOKUP(H29,$B$4:B29,1,FALSE)","v":{"$error":"#N/A"}}]
[null,{"$f":"Results!A33","v":0},{"$f":"Results!C33","v":0},{"$f":"Results!B33","v":0},{"$f":"Results!D33","v":0},{"$f":"Results!G33","v":""},"- vs -",{"$f":"VLOOKUP(B30,Results!$A$8:$AG$60,16,FALSE)","v":{"$error":"#N/A"}},{"$f":"VLOOKUP(H30,Results!A$8:$G$60,3,FALSE)","v":{"$error":"#N/A"}},{"$f":"VLOOKUP(H30,Results!$A$8:$G$60,2,FALSE)","v":{"$error":"#N/A"}},{"$f":"VLOOKUP(H30,Results!$A$8:$G$60,4,FALSE)","v":{"$error":"#N/A"}},{"$f":"VLOOKUP(H30,Results!$A$8:$G$60,7,FALSE)","v":{"$error":"#N/A"}},{"$f":"VLOOKUP(H30,$B$4:B30,1,FALSE)","v":{"$error":"#N/A"}}]
[null,{"$f":"Results!A34","v":0},{"$f":"Results!C34","v":0},{"$f":"Results!B34","v":0},{"$f":"Results!D34","v":0},{"$f":"Results!G34","v":""},"- vs -",{"$f":"VLOOKUP(B31,Results!$A$8:$AG$60,16,FALSE)","v":{"$error":"#N/A"}},{"$f":"VLOOKUP(H31,Results!A$8:$G$60,3,FALSE)","v":{"$error":"#N/A"}},{"$f":"VLOOKUP(H31,Results!$A$8:$G$60,2,FALSE)","v":{"$error":"#N/A"}},{"$f":"VLOOKUP(H31,Results!$A$8:$G$60,4,FALSE)","v":{"$error":"#N/A"}},{"$f":"VLOOKUP(H31,Results!$A$8:$G$60,7,FALSE)","v":{"$error":"#N/A"}},{"$f":"VLOOKUP(H31,$B$4:B31,1,FALSE)","v":{"$error":"#N/A"}}]
[null,{"$f":"Results!A35","v":0},{"$f":"Results!C35","v":0},{"$f":"Results!B35","v":0},{"$f":"Results!D35","v":0},{"$f":"Results!G35","v":""},"- vs -",{"$f":"VLOOKUP(B32,Results!$A$8:$AG$60,16,FALSE)","v":{"$error":"#N/A"}},{"$f":"VLOOKUP(H32,Results!A$8:$G$60,3,FALSE)","v":{"$error":"#N/A"}},{"$f":"VLOOKUP(H32,Results!$A$8:$G$60,2,FALSE)","v":{"$error":"#N/A"}},{"$f":"VLOOKUP(H32,Results!$A$8:$G$60,4,FALSE)","v":{"$error":"#N/A"}},{"$f":"VLOOKUP(H32,Results!$A$8:$G$60,7,FALSE)","v":{"$error":"#N/A"}},{"$f":"VLOOKUP(H32,$B$4:B32,1,FALSE)","v":{"$error":"#N/A"}}]
[null,{"$f":"Results!A36","v":0},{"$f":"Results!C36","v":0},{"$f":"Results!B36","v":0},{"$f":"Results!D36","v":0},{"$f":"Results!G36","v":""},"- vs -",{"$f":"VLOOKUP(B33,Results!$A$8:$AG$60,16,FALSE)","v":{"$error":"#N/A"}},{"$f":"VLOOKUP(H33,Results!A$8:$G$60,3,FALSE)","v":{"$error":"#N/A"}},{"$f":"VLOOKUP(H33,Results!$A$8:$G$60,2,FALSE)","v":{"$error":"#N/A"}},{"$f":"VLOOKUP(H33,Results!$A$8:$G$60,4,FALSE)","v":{"$error":"#N/A"}},{"$f":"VLOOKUP(H33,Results!$A$8:$G$60,7,FALSE)","v":{"$error":"#N/A"}},{"$f":"VLOOKUP(H33,$B$4:B33,1,FALSE)","v":{"$error":"#N/A"}}]
[null,{"$f":"Results!A37","v":0},{"$f":"Results!C37","v":0},{"$f":"Results!B37","v":0},{"$f":"Results!D37","v":0},{"$f":"Results!G37","v":""},"- vs -",{"$f":"VLOOKUP(B34,Results!$A$8:$AG$60,16,FALSE)","v":{"$error":"#N/A"}},{"$f":"VLOOKUP(H34,Results!A$8:$G$60,3,FALSE)","v":{"$error":"#N/A"}},{"$f":"VLOOKUP(H34,Results!$A$8:$G$60,2,FALSE)","v":{"$error":"#N/A"}},{"$f":"VLOOKUP(H34,Results!$A$8:$G$60,4,FALSE)","v":{"$error":"#N/A"}},{"$f":"VLOOKUP(H34,Results!$A$8:$G$60,7,FALSE)","v":{"$error":"#N/A"}},{"$f":"VLOOKUP(H34,$B$4:B34,1,FALSE)","v":{"$error":"#N/A"}}]
[null,{"$f":"Results!A38","v":0},{"$f":"Results!C38","v":0},{"$f":"Results!B38","v":0},{"$f":"Results!D38","v":0},{"$f":"Results!G38","v":""},"- vs -",{"$f":"VLOOKUP(B35,Results!$A$8:$AG$60,16,FALSE)","v":{"$error":"#N/A"}},{"$f":"VLOOKUP(H35,Results!A$8:$G$60,3,FALSE)","v":{"$error":"#N/A"}},{"$f":"VLOOKUP(H35,Results!$A$8:$G$60,2,FALSE)","v":{"$error":"#N/A"}},{"$f":"VLOOKUP(H35,Results!$A$8:$G$60,4,FALSE)","v":{"$error":"#N/A"}},{"$f":"VLOOKUP(H35,Results!$A$8:$G$60,7,FALSE)","v":{"$error":"#N/A"}},{"$f":"VLOOKUP(H35,$B$4:B35,1,FALSE)","v":{"$error":"#N/A"}}]
[null,{"$f":"Results!A39","v":0},{"$f":"Results!C39","v":0},{"$f":"Results!B39","v":0},{"$f":"Results!D39","v":0},{"$f":"Results!G39","v":""},"- vs -",{"$f":"VLOOKUP(B36,Results!$A$8:$AG$60,16,FALSE)","v":{"$error":"#N/A"}},{"$f":"VLOOKUP(H36,Results!A$8:$G$60,3,FALSE)","v":{"$error":"#N/A"}},{"$f":"VLOOKUP(H36,Results!$A$8:$G$60,2,FALSE)","v":{"$error":"#N/A"}},{"$f":"VLOOKUP(H36,Results!$A$8:$G$60,4,FALSE)","v":{"$error":"#N/A"}},{"$f":"VLOOKUP(H36,Results!$A$8:$G$60,7,FALSE)","v":{"$error":"#N/A"}},{"$f":"VLOOKUP(H36,$B$4:B36,1,FALSE)","v":{"$error":"#N/A"}}]
[null,{"$f":"Results!A40","v":0},{"$f":"Results!C40","v":0},{"$f":"Results!B40","v":0},{"$f":"Results!D40","v":0},{"$f":"Results!G40","v":""},"- vs -",{"$f":"VLOOKUP(B37,Results!$A$8:$AG$60,16,FALSE)","v":{"$error":"#N/A"}},{"$f":"VLOOKUP(H37,Results!A$8:$G$60,3,FALSE)","v":{"$error":"#N/A"}},{"$f":"VLOOKUP(H37,Results!$A$8:$G$60,2,FALSE)","v":{"$error":"#N/A"}},{"$f":"VLOOKUP(H37,Results!$A$8:$G$60,4,FALSE)","v":{"$error":"#N/A"}},{"$f":"VLOOKUP(H37,Results!$A$8:$G$60,7,FALSE)","v":{"$error":"#N/A"}},{"$f":"VLOOKUP(H37,$B$4:B37,1,FALSE)","v":{"$error":"#N/A"}}]
[null,{"$f":"Results!A41","v":0},{"$f":"Results!C41","v":0},{"$f":"Results!B41","v":0},{"$f":"Results!D41","v":0},{"$f":"Results!G41","v":""},"- vs -",{"$f":"VLOOKUP(B38,Results!$A$8:$AG$60,16,FALSE)","v":{"$error":"#N/A"}},{"$f":"VLOOKUP(H38,Results!A$8:$G$60,3,FALSE)","v":{"$error":"#N/A"}},{"$f":"VLOOKUP(H38,Results!$A$8:$G$60,2,FALSE)","v":{"$error":"#N/A"}},{"$f":"VLOOKUP(H38,Results!$A$8:$G$60,4,FALSE)","v":{"$error":"#N/A"}},{"$f":"VLOOKUP(H38,Results!$A$8:$G$60,7,FALSE)","v":{"$error":"#N/A"}},{"$f":"VLOOKUP(H38,$B$4:B38,1,FALSE)","v":{"$error":"#N/A"}}]
[null,{"$f":"Results!A42","v":0},{"$f":"Results!C42","v":0},{"$f":"Results!B42","v":0},{"$f":"Results!D42","v":0},{"$f":"Results!G42","v":""},"- vs -",{"$f":"VLOOKUP(B39,Results!$A$8:$AG$60,16,FALSE)","v":{"$error":"#N/A"}},{"$f":"VLOOKUP(H39,Results!A$8:$G$60,3,FALSE)","v":{"$error":"#N/A"}},{"$f":"VLOOKUP(H39,Results!$A$8:$G$60,2,FALSE)","v":{"$error":"#N/A"}},{"$f":"VLOOKUP(H39,Results!$A$8:$G$60,4,FALSE)","v":{"$error":"#N/A"}},{"$f":"VLOOKUP(H39,Results!$A$8:$G$60,7,FALSE)","v":{"$error":"#N/A"}},{"$f":"VLOOKUP(H39,$B$4:B39,1,FALSE)","v":{"$error":"#N/A"}}]
[null,{"$f":"Results!A43","v":0},{"$f":"Results!C43","v":0},{"$f":"Results!B43","v":0},{"$f":"Results!D43","v":0},{"$f":"Results!G43","v":""},"- vs -",{"$f":"VLOOKUP(B40,Results!$A$8:$AG$60,16,FALSE)","v":{"$error":"#N/A"}},{"$f":"VLOOKUP(H40,Results!A$8:$G$60,3,FALSE)","v":{"$error":"#N/A"}},{"$f":"VLOOKUP(H40,Results!$A$8:$G$60,2,FALSE)","v":{"$error":"#N/A"}},{"$f":"VLOOKUP(H40,Results!$A$8:$G$60,4,FALSE)","v":{"$error":"#N/A"}},{"$f":"VLOOKUP(H40,Results!$A$8:$G$60,7,FALSE)","v":{"$error":"#N/A"}},{"$f":"VLOOKUP(H40,$B$4:B40,1,FALSE)","v":{"$error":"#N/A"}}]
[null,{"$f":"Results!A44","v":0},{"$f":"Results!C44","v":0},{"$f":"Results!B44","v":0},{"$f":"Results!D44","v":0},{"$f":"Results!G44","v":""},"- vs -",{"$f":"VLOOKUP(B41,Results!$A$8:$AG$60,16,FALSE)","v":{"$error":"#N/A"}},{"$f":"VLOOKUP(H41,Results!A$8:$G$60,3,FALSE)","v":{"$error":"#N/A"}},{"$f":"VLOOKUP(H41,Results!$A$8:$G$60,2,FALSE)","v":{"$error":"#N/A"}},{"$f":"VLOOKUP(H41,Results!$A$8:$G$60,4,FALSE)","v":{"$error":"#N/A"}},{"$f":"VLOOKUP(H41,Results!$A$8:$G$60,7,FALSE)","v":{"$error":"#N/A"}},{"$f":"VLOOKUP(H41,$B$4:B41,1,FALSE)","v":{"$error":"#N/A"}}]
[null,{"$f":"Results!A45","v":0},{"$f":"Results!C45","v":0},{"$f":"Results!B45","v":0},{"$f":"Results!D45","v":0},{"$f":"Results!G45","v":""},"- vs -",{"$f":"VLOOKUP(B42,Results!$A$8:$AG$60,16,FALSE)","v":{"$error":"#N/A"}},{"$f":"VLOOKUP(H42,Results!A$8:$G$60,3,FALSE)","v":{"$error":"#N/A"}},{"$f":"VLOOKUP(H42,Results!$A$8:$G$60,2,FALSE)","v":{"$error":"#N/A"}},{"$f":"VLOOKUP(H42,Results!$A$8:$G$60,4,FALSE)","v":{"$error":"#N/A"}},{"$f":"VLOOKUP(H42,Results!$A$8:$G$60,7,FALSE)","v":{"$error":"#N/A"}},{"$f":"VLOOKUP(H42,$B$4:B42,1,FALSE)","v":{"$error":"#N/A"}}]
[null,{"$f":"Results!A46","v":0},{"$f":"Results!C46","v":0},{"$f":"Results!B46","v":0},{"$f":"Results!D46","v":0},{"$f":"Results!G46","v":""},"- vs -",{"$f":"VLOOKUP(B43,Results!$A$8:$AG$60,16,FALSE)","v":{"$error":"#N/A"}},{"$f":"VLOOKUP(H43,Results!A$8:$G$60,3,FALSE)","v":{"$error":"#N/A"}},{"$f":"VLOOKUP(H43,Results!$A$8:$G$60,2,FALSE)","v":{"$error":"#N/A"}},{"$f":"VLOOKUP(H43,Results!$A$8:$G$60,4,FALSE)","v":{"$error":"#N/A"}},{"$f":"VLOOKUP(H43,Results!$A$8:$G$60,7,FALSE)","v":{"$error":"#N/A"}},{"$f":"VLOOKUP(H43,$B$4:B43,1,FALSE)","v":{"$error":"#N/A"}}]
[null,{"$f":"Results!A47","v":0},{"$f":"Results!C47","v":0},{"$f":"Results!B47","v":0},{"$f":"Results!D47","v":0},{"$f":"Results!G47","v":""},"- vs -",{"$f":"VLOOKUP(B44,Results!$A$8:$AG$60,16,FALSE)","v":{"$error":"#N/A"}},{"$f":"VLOOKUP(H44,Results!A$8:$G$60,3,FALSE)","v":{"$error":"#N/A"}},{"$f":"VLOOKUP(H44,Results!$A$8:$G$60,2,FALSE)","v":{"$error":"#N/A"}},{"$f":"VLOOKUP(H44,Results!$A$8:$G$60,4,FALSE)","v":{"$error":"#N/A"}},{"$f":"VLOOKUP(H44,Results!$A$8:$G$60,7,FALSE)","v":{"$error":"#N/A"}},{"$f":"VLOOKUP(H44,$B$4:B44,1,FALSE)","v":{"$error":"#N/A"}}]
[null,{"$f":"Results!A48","v":0},{"$f":"Results!C48","v":0},{"$f":"Results!B48","v":0},{"$f":"Results!D48","v":0},{"$f":"Results!G48","v":""},"- vs -",{"$f":"VLOOKUP(B45,Results!$A$8:$AG$60,16,FALSE)","v":{"$error":"#N/A"}},{"$f":"VLOOKUP(H45,Results!A$8:$G$60,3,FALSE)","v":{"$error":"#N/A"}},{"$f":"VLOOKUP(H45,Results!$A$8:$G$60,2,FALSE)","v":{"$error":"#N/A"}},{"$f":"VLOOKUP(H45,Results!$A$8:$G$60,4,FALSE)","v":{"$error":"#N/A"}},{"$f":"VLOOKUP(H45,Results!$A$8:$G$60,7,FALSE)","v":{"$error":"#N/A"}},{"$f":"VLOOKUP(H45,$B$4:B45,1,FALSE)","v":{"$error":"#N/A"}}]
[null,{"$f":"Results!A49","v":0},{"$f":"Results!C49","v":0},{"$f":"Results!B49","v":0},{"$f":"Results!D49","v":0},{"$f":"Results!G49","v":""},"- vs -",{"$f":"VLOOKUP(B46,Results!$A$8:$AG$60,16,FALSE)","v":{"$error":"#N/A"}},{"$f":"VLOOKUP(H46,Results!A$8:$G$60,3,FALSE)","v":{"$error":"#N/A"}},{"$f":"VLOOKUP(H46,Results!$A$8:$G$60,2,FALSE)","v":{"$error":"#N/A"}},{"$f":"VLOOKUP(H46,Results!$A$8:$G$60,4,FALSE)","v":{"$error":"#N/A"}},{"$f":"VLOOKUP(H46,Results!$A$8:$G$60,7,FALSE)","v":{"$error":"#N/A"}},{"$f":"VLOOKUP(H46,$B$4:B46,1,FALSE)","v":{"$error":"#N/A"}}]
[null,{"$f":"Results!A50","v":0},{"$f":"Results!C50","v":0},{"$f":"Results!B50","v":0},{"$f":"Results!D50","v":0},{"$f":"Results!G50","v":""},"- vs -",{"$f":"VLOOKUP(B47,Results!$A$8:$AG$60,16,FALSE)","v":{"$error":"#N/A"}},{"$f":"VLOOKUP(H47,Results!A$8:$G$60,3,FALSE)","v":{"$error":"#N/A"}},{"$f":"VLOOKUP(H47,Results!$A$8:$G$60,2,FALSE)","v":{"$error":"#N/A"}},{"$f":"VLOOKUP(H47,Results!$A$8:$G$60,4,FALSE)","v":{"$error":"#N/A"}},{"$f":"VLOOKUP(H47,Results!$A$8:$G$60,7,FALSE)","v":{"$error":"#N/A"}},{"$f":"VLOOKUP(H47,$B$4:B47,1,FALSE)","v":{"$error":"#N/A"}}]
[null,{"$f":"Results!A51","v":0},{"$f":"Results!C51","v":0},{"$f":"Results!B51","v":0},{"$f":"Results!D51","v":0},{"$f":"Results!G51","v":""},"- vs -",{"$f":"VLOOKUP(B48,Results!$A$8:$AG$60,16,FALSE)","v":{"$error":"#N/A"}},{"$f":"VLOOKUP(H48,Results!A$8:$G$60,3,FALSE)","v":{"$error":"#N/A"}},{"$f":"VLOOKUP(H48,Results!$A$8:$G$60,2,FALSE)","v":{"$error":"#N/A"}},{"$f":"VLOOKUP(H48,Results!$A$8:$G$60,4,FALSE)","v":{"$error":"#N/A"}},{"$f":"VLOOKUP(H48,Results!$A$8:$G$60,7,FALSE)","v":{"$error":"#N/A"}},{"$f":"VLOOKUP(H48,$B$4:B48,1,FALSE)","v":{"$error":"#N/A"}}]
[null,{"$f":"Results!A52","v":0},{"$f":"Results!C52","v":0},{"$f":"Results!B52","v":0},{"$f":"Results!D52","v":0},{"$f":"Results!G52","v":""},"- vs -",{"$f":"VLOOKUP(B49,Results!$A$8:$AG$60,16,FALSE)","v":{"$error":"#N/A"}},{"$f":"VLOOKUP(H49,Results!A$8:$G$60,3,FALSE)","v":{"$error":"#N/A"}},{"$f":"VLOOKUP(H49,Results!$A$8:$G$60,2,FALSE)","v":{"$error":"#N/A"}},{"$f":"VLOOKUP(H49,Results!$A$8:$G$60,4,FALSE)","v":{"$error":"#N/A"}},{"$f":"VLOOKUP(H49,Results!$A$8:$G$60,7,FALSE)","v":{"$error":"#N/A"}},{"$f":"VLOOKUP(H49,$B$4:B49,1,FALSE)","v":{"$error":"#N/A"}}]
[null,{"$f":"Results!A53","v":0},{"$f":"Results!C53","v":0},{"$f":"Results!B53","v":0},{"$f":"Results!D53","v":0},{"$f":"Results!G53","v":""},"- vs -",{"$f":"VLOOKUP(B50,Results!$A$8:$AG$60,16,FALSE)","v":{"$error":"#N/A"}},{"$f":"VLOOKUP(H50,Results!A$8:$G$60,3,FALSE)","v":{"$error":"#N/A"}},{"$f":"VLOOKUP(H50,Results!$A$8:$G$60,2,FALSE)","v":{"$error":"#N/A"}},{"$f":"VLOOKUP(H50,Results!$A$8:$G$60,4,FALSE)","v":{"$error":"#N/A"}},{"$f":"VLOOKUP(H50,Results!$A$8:$G$60,7,FALSE)","v":{"$error":"#N/A"}},{"$f":"VLOOKUP(H50,$B$4:B50,1,FALSE)","v":{"$error":"#N/A"}}]
[null,{"$f":"Results!A54","v":0},{"$f":"Results!C54","v":0},{"$f":"Results!B54","v":0},{"$f":"Results!D54","v":0},{"$f":"Results!G54","v":""},"- vs -",{"$f":"VLOOKUP(B51,Results!$A$8:$AG$60,16,FALSE)","v":{"$error":"#N/A"}},{"$f":"VLOOKUP(H51,Results!A$8:$G$60,3,FALSE)","v":{"$error":"#N/A"}},{"$f":"VLOOKUP(H51,Results!$A$8:$G$60,2,FALSE)","v":{"$error":"#N/A"}},{"$f":"VLOOKUP(H51,Results!$A$8:$G$60,4,FALSE)","v":{"$error":"#N/A"}},{"$f":"VLOOKUP(H51,Results!$A$8:$G$60,7,FALSE)","v":{"$error":"#N/A"}},{"$f":"VLOOKUP(H51,$B$4:B51,1,FALSE)","v":{"$error":"#N/A"}}]
[null,{"$f":"Results!A55","v":0},{"$f":"Results!C55","v":0},{"$f":"Results!B55","v":0},{"$f":"Results!D55","v":0},{"$f":"Results!G55","v":""},"- vs -",{"$f":"VLOOKUP(B52,Results!$A$8:$AG$60,16,FALSE)","v":{"$error":"#N/A"}},{"$f":"VLOOKUP(H52,Results!A$8:$G$60,3,FALSE)","v":{"$error":"#N/A"}},{"$f":"VLOOKUP(H52,Results!$A$8:$G$60,2,FALSE)","v":{"$error":"#N/A"}},{"$f":"VLOOKUP(H52,Results!$A$8:$G$60,4,FALSE)","v":{"$error":"#N/A"}},{"$f":"VLOOKUP(H52,Results!$A$8:$G$60,7,FALSE)","v":{"$error":"#N/A"}},{"$f":"VLOOKUP(H52,$B$4:B52,1,FALSE)","v":{"$error":"#N/A"}}]
[null,{"$f":"Results!A56","v":0},{"$f":"Results!C56","v":0},{"$f":"Results!B56","v":0},{"$f":"Results!D56","v":0},{"$f":"Results!G56","v":""},"- vs -",{"$f":"VLOOKUP(B53,Results!$A$8:$AG$60,16,FALSE)","v":{"$error":"#N/A"}},{"$f":"VLOOKUP(H53,Results!A$8:$G$60,3,FALSE)","v":{"$error":"#N/A"}},{"$f":"VLOOKUP(H53,Results!$A$8:$G$60,2,FALSE)","v":{"$error":"#N/A"}},{"$f":"VLOOKUP(H53,Results!$A$8:$G$60,4,FALSE)","v":{"$error":"#N/A"}},{"$f":"VLOOKUP(H53,Results!$A$8:$G$60,7,FALSE)","v":{"$error":"#N/A"}},{"$f":"VLOOKUP(H53,$B$4:B53,1,FALSE)","v":{"$error":"#N/A"}}]
[null,{"$f":"Results!A57","v":0},{"$f":"Results!C57","v":0},{"$f":"Results!B57","v":0},{"$f":"Results!D57","v":0},{"$f":"Results!G57","v":""},"- vs -",{"$f":"VLOOKUP(B54,Results!$A$8:$AG$60,16,FALSE)","v":{"$error":"#N/A"}},{"$f":"VLOOKUP(H54,Results!A$8:$G$60,3,FALSE)","v":{"$error":"#N/A"}},{"$f":"VLOOKUP(H54,Results!$A$8:$G$60,2,FALSE)","v":{"$error":"#N/A"}},{"$f":"VLOOKUP(H54,Results!$A$8:$G$60,4,FALSE)","v":{"$error":"#N/A"}},{"$f":"VLOOKUP(H54,Results!$A$8:$G$60,7,FALSE)","v":{"$error":"#N/A"}},{"$f":"VLOOKUP(H54,$B$4:B54,1,FALSE)","v":{"$error":"#N/A"}}]
[null,{"$f":"Results!A58","v":0},{"$f":"Results!C58","v":0},{"$f":"Results!B58","v":0},{"$f":"Results!D58","v":0},{"$f":"Results!G58","v":""},"- vs -",{"$f":"VLOOKUP(B55,Results!$A$8:$AG$60,16,FALSE)","v":{"$error":"#N/A"}},{"$f":"VLOOKUP(H55,Results!A$8:$G$60,3,FALSE)","v":{"$error":"#N/A"}},{"$f":"VLOOKUP(H55,Results!$A$8:$G$60,2,FALSE)","v":{"$error":"#N/A"}},{"$f":"VLOOKUP(H55,Results!$A$8:$G$60,4,FALSE)","v":{"$error":"#N/A"}},{"$f":"VLOOKUP(H55,Results!$A$8:$G$60,7,FALSE)","v":{"$error":"#N/A"}},{"$f":"VLOOKUP(H55,$B$4:B55,1,FALSE)","v":{"$error":"#N/A"}}]
[null,{"$f":"Results!A59","v":0},{"$f":"Results!C59","v":0},{"$f":"Results!B59","v":0},{"$f":"Results!D59","v":0},{"$f":"Results!G59","v":""},"- vs -",{"$f":"VLOOKUP(B56,Results!$A$8:$AG$60,16,FALSE)","v":{"$error":"#N/A"}},{"$f":"VLOOKUP(H56,Results!A$8:$G$60,3,FALSE)","v":{"$error":"#N/A"}},{"$f":"VLOOKUP(H56,Results!$A$8:$G$60,2,FALSE)","v":{"$error":"#N/A"}},{"$f":"VLOOKUP(H56,Results!$A$8:$G$60,4,FALSE)","v":{"$error":"#N/A"}},{"$f":"VLOOKUP(H56,Results!$A$8:$G$60,7,FALSE)","v":{"$error":"#N/A"}},{"$f":"VLOOKUP(H56,$B$4:B56,1,FALSE)","v":{"$error":"#N/A"}}]
[null,{"$f":"Results!A60","v":0},{"$f":"Results!C60","v":0},{"$f":"Results!B60","v":0},{"$f":"Results!D60","v":0},{"$f":"Results!G60","v":""},"- vs -",{"$f":"VLOOKUP(B57,Results!$A$8:$AG$60,16,FALSE)","v":{"$error":"#N/A"}},{"$f":"VLOOKUP(H57,Results!A$8:$G$60,3,FALSE)","v":{"$error":"#N/A"}},{"$f":"VLOOKUP(H57,Results!$A$8:$G$60,2,FALSE)","v":{"$error":"#N/A"}},{"$f":"VLOOKUP(H57,Results!$A$8:$G$60,4,FALSE)","v":{"$error":"#N/A"}},{"$f":"VLOOKUP(H57,Results!$A$8:$G$60,7,FALSE)","v":{"$error":"#N/A"}},{"$f":"VLOOKUP(H57,$B$4:B57,1,FALSE)","v":{"$error":"#N/A"}}]
[null,{"$f":"Results!A61","v":0},{"$f":"Results!C61","v":0},{"$f":"Results!B61","v":0},{"$f":"Results!D61","v":0},{"$f":"Results!G61","v":0},"- vs -",{"$f":"VLOOKUP(B58,Results!$A$8:$AG$60,16,FALSE)","v":{"$error":"#N/A"}},{"$f":"VLOOKUP(H58,Results!A$8:$G$60,3,FALSE)","v":{"$error":"#N/A"}},{"$f":"VLOOKUP(H58,Results!$A$8:$G$60,2,FALSE)","v":{"$error":"#N/A"}},{"$f":"VLOOKUP(H58,Results!$A$8:$G$60,4,FALSE)","v":{"$error":"#N/A"}},{"$f":"VLOOKUP(H58,Results!$A$8:$G$60,7,FALSE)","v":{"$error":"#N/A"}},{"$f":"VLOOKUP(H58,$B$4:B58,1,FALSE)","v":{"$error":"#N/A"}}]
[null,{"$f":"Results!A62","v":0},{"$f":"Results!C62","v":0},{"$f":"Results!B62","v":0},{"$f":"Results!D62","v":0},{"$f":"Results!G62","v":0},"- vs -",{"$f":"VLOOKUP(B59,Results!$A$8:$AG$60,16,FALSE)","v":{"$error":"#N/A"}},{"$f":"VLOOKUP(H59,Results!A$8:$G$60,3,FALSE)","v":{"$error":"#N/A"}},{"$f":"VLOOKUP(H59,Results!$A$8:$G$60,2,FALSE)","v":{"$error":"#N/A"}},{"$f":"VLOOKUP(H59,Results!$A$8:$G$60,4,FALSE)","v":{"$error":"#N/A"}},{"$f":"VLOOKUP(H59,Results!$A$8:$G$60,7,FALSE)","v":{"$error":"#N/A"}},{"$f":"VLOOKUP(H59,$B$4:B59,1,FALSE)","v":{"$error":"#N/A"}}]
[null,{"$f":"Results!A63","v":0},{"$f":"Results!C63","v":0},{"$f":"Results!B63","v":0},{"$f":"Results!D63","v":0},{"$f":"Results!G63","v":0},"- vs -",{"$f":"VLOOKUP(B60,Results!$A$8:$AG$60,16,FALSE)","v":{"$error":"#N/A"}},{"$f":"VLOOKUP(H60,Results!A$8:$G$60,3,FALSE)","v":{"$error":"#N/A"}},{"$f":"VLOOKUP(H60,Results!$A$8:$G$60,2,FALSE)","v":{"$error":"#N/A"}},{"$f":"VLOOKUP(H60,Results!$A$8:$G$60,4,FALSE)","v":{"$error":"#N/A"}},{"$f":"VLOOKUP(H60,Results!$A$8:$G$60,7,FALSE)","v":{"$error":"#N/A"}},{"$f":"VLOOKUP(H60,$B$4:B60,1,FALSE)","v":{"$error":"#N/A"}}]
[null,{"$f":"Results!A64","v":0},{"$f":"Results!C64","v":0},{"$f":"Results!B64","v":0},{"$f":"Results!D64","v":0},{"$f":"Results!G64","v":0},"- vs -",{"$f":"VLOOKUP(B61,Results!$A$8:$AG$60,16,FALSE)","v":{"$error":"#N/A"}},{"$f":"VLOOKUP(H61,Results!A$8:$G$60,3,FALSE)","v":{"$error":"#N/A"}},{"$f":"VLOOKUP(H61,Results!$A$8:$G$60,2,FALSE)","v":{"$error":"#N/A"}},{"$f":"VLOOKUP(H61,Results!$A$8:$G$60,4,FALSE)","v":{"$error":"#N/A"}},{"$f":"VLOOKUP(H61,Results!$A$8:$G$60,7,FALSE)","v":{"$error":"#N/A"}},{"$f":"VLOOKUP(H61,$B$4:B61,1,FALSE)","v":{"$error":"#N/A"}}]
[null,{"$f":"Results!A65","v":0},{"$f":"Results!C65","v":0},{"$f":"Results!B65","v":0},{"$f":"Results!D65","v":0},{"$f":"Results!G65","v":0},"- vs -",{"$f":"VLOOKUP(B62,Results!$A$8:$AG$60,16,FALSE)","v":{"$error":"#N/A"}},{"$f":"VLOOKUP(H62,Results!A$8:$G$60,3,FALSE)","v":{"$error":"#N/A"}},{"$f":"VLOOKUP(H62,Results!$A$8:$G$60,2,FALSE)","v":{"$error":"#N/A"}},{"$f":"VLOOKUP(H62,Results!$A$8:$G$60,4,FALSE)","v":{"$error":"#N/A"}},{"$f":"VLOOKUP(H62,Results!$A$8:$G$60,7,FALSE)","v":{"$error":"#N/A"}},{"$f":"VLOOKUP(H62,$B$4:B62,1,FALSE)","v":{"$error":"#N/A"}}]
[null,{"$f":"Results!A66","v":0},{"$f":"Results!C66","v":0},{"$f":"Results!B66","v":0},{"$f":"Results!D66","v":0},{"$f":"Results!G66","v":0},"- vs -",{"$f":"VLOOKUP(B63,Results!$A$8:$AG$60,16,FALSE)","v":{"$error":"#N/A"}},{"$f":"VLOOKUP(H63,Results!A$8:$G$60,3,FALSE)","v":{"$error":"#N/A"}},{"$f":"VLOOKUP(H63,Results!$A$8:$G$60,2,FALSE)","v":{"$error":"#N/A"}},{"$f":"VLOOKUP(H63,Results!$A$8:$G$60,4,FALSE)","v":{"$error":"#N/A"}},{"$f":"VLOOKUP(H63,Results!$A$8:$G$60,7,FALSE)","v":{"$error":"#N/A"}},{"$f":"VLOOKUP(H63,$B$4:B63,1,FALSE)","v":{"$error":"#N/A"}}]
[]
[]
[]
[]
[null,751,"Steven","Hacker","Clevedon","Alexander the Great","- vs -",110,"Rob","James",0,"Huns"]
[null,752,"Mark","Clarke","Alumwell","Mithriditic","- vs -",111,"Ralph","Ashdown","SSWG","Triumvirate Roman"]
[null,754,"Colin","Cavanagh","SSWG","Triumvirate Roman","- vs -",112,"Gareth","Evans",0,"Triumvirate Roman"]
[null,768,"David","Allen","CLWC","Later Aechemneid Persian","- vs -",113,"David","Handley","Warlords",""]
[null,770,"Christopher","Ager","SOA","Classical Indian","- vs -",254,"Bender","Ostap","FRONTON","Later Carthaginian"]
[null,771,"Patrick","Dale","SOA","Dacians and Carpi","- vs -",273,"Lionel","Martinez","ACLEB","Patrician Roman"]
[null,800,"Ian","Mackay","CLWC","Bactrians & Indo-Greek","- vs -",488,"Andrew","Unwin","Berkeley","Classical Indian"]
[null,904,"Tony","Horobin","SSWG","","- vs -",750,"Chris","Jackson","Cardiff",""]

{"sheet":"Round 3","index":11,"n_rows":75,"n_cols":13,"rows_kept":75,"cut":false,"hidden":false,"merged":[]}
[]
["Round 3 Draw",null,{"$f":"Results!B3","v":0}]
[null,null,{"$f":"Results!B4","v":"Open Theme"}]
[null,null,null,null,null,null,null,null,null,null,null,null,"VALID?"]
[null,{"$f":"Results!A8","v":0},{"$f":"Results!C8","v":0},{"$f":"Results!B8","v":0},{"$f":"Results!D8","v":0},{"$f":"Results!G8","v":""},"- vs -",{"$f":"VLOOKUP(B5,Results!$A$8:$AG$60,23,FALSE)","v":{"$error":"#N/A"}},{"$f":"VLOOKUP(H5,Results!A$8:$G$60,3,FALSE)","v":{"$error":"#N/A"}},{"$f":"VLOOKUP(H5,Results!$A$8:$G$60,2,FALSE)","v":{"$error":"#N/A"}},{"$f":"VLOOKUP(H5,Results!$A$8:$G$60,4,FALSE)","v":{"$error":"#N/A"}},{"$f":"VLOOKUP(H5,Results!$A$8:$G$60,7,FALSE)","v":{"$error":"#N/A"}},{"$f":"VLOOKUP(H5,$B$4:B5,1,FALSE)","v":{"$error":"#N/A"}}]
[null,{"$f":"Results!A9","v":0},{"$f":"Results!C9","v":0},{"$f":"Results!B9","v":0},{"$f":"Results!D9","v":0},{"$f":"Results!G9","v":""},"- vs -",{"$f":"VLOOKUP(B6,Results!$A$8:$AG$60,23,FALSE)","v":{"$error":"#N/A"}},{"$f":"VLOOKUP(H6,Results!A$8:$G$60,3,FALSE)","v":{"$error":"#N/A"}},{"$f":"VLOOKUP(H6,Results!$A$8:$G$60,2,FALSE)","v":{"$error":"#N/A"}},{"$f":"VLOOKUP(H6,Results!$A$8:$G$60,4,FALSE)","v":{"$error":"#N/A"}},{"$f":"VLOOKUP(H6,Results!$A$8:$G$60,7,FALSE)","v":{"$error":"#N/A"}},{"$f":"VLOOKUP(H6,$B$4:B6,1,FALSE)","v":{"$error":"#N/A"}}]
[null,{"$f":"Results!A10","v":0},{"$f":"Results!C10","v":0},{"$f":"Results!B10","v":0},{"$f":"Results!D10","v":0},{"$f":"Results!G10","v":""},"- vs -",{"$f":"VLOOKUP(B7,Results!$A$8:$AG$60,23,FALSE)","v":{"$error":"#N/A"}},{"$f":"VLOOKUP(H7,Results!A$8:$G$60,3,FALSE)","v":{"$error":"#N/A"}},{"$f":"VLOOKUP(H7,Results!$A$8:$G$60,2,FALSE)","v":{"$error":"#N/A"}},{"$f":"VLOOKUP(H7,Results!$A$8:$G$60,4,FALSE)","v":{"$error":"#N/A"}},{"$f":"VLOOKUP(H7,Results!$A$8:$G$60,7,FALSE)","v":{"$error":"#N/A"}},{"$f":"VLOOKUP(H7,$B$4:B7,1,FALSE)","v":{"$error":"#N/A"}}]
[null,{"$f":"Results!A11","v":0},{"$f":"Results!C11","v":0},{"$f":"Results!B11","v":0},{"$f":"Results!D11","v":0},{"$f":"Results!G11","v":""},"- vs -",{"$f":"VLOOKUP(B8,Results!$A$8:$AG$60,23,FALSE)","v":{"$error":"#N/A"}},{"$f":"VLOOKUP(H8,Results!A$8:$G$60,3,FALSE)","v":{"$error":"#N/A"}},{"$f":"VLOOKUP(H8,Results!$A$8:$G$60,2,FALSE)","v":{"$error":"#N/A"}},{"$f":"VLOOKUP(H8,Results!$A$8:$G$60,4,FALSE)","v":{"$error":"#N/A"}},{"$f":"VLOOKUP(H8,Results!$A$8:$G$60,7,FALSE)","v":{"$error":"#N/A"}},{"$f":"VLOOKUP(H8,$B$4:B8,1,FALSE)","v":{"$error":"#N/A"}}]
[null,{"$f":"Results!A12","v":0},{"$f":"Results!C12","v":0},{"$f":"Results!B12","v":0},{"$f":"Results!D12","v":0},{"$f":"Results!G12","v":""},"- vs -",{"$f":"VLOOKUP(B9,Results!$A$8:$AG$60,23,FALSE)","v":{"$error":"#N/A"}},{"$f":"VLOOKUP(H9,Results!A$8:$G$60,3,FALSE)","v":{"$error":"#N/A"}},{"$f":"VLOOKUP(H9,Results!$A$8:$G$60,2,FALSE)","v":{"$error":"#N/A"}},{"$f":"VLOOKUP(H9,Results!$A$8:$G$60,4,FALSE)","v":{"$error":"#N/A"}},{"$f":"VLOOKUP(H9,Results!$A$8:$G$60,7,FALSE)","v":{"$error":"#N/A"}},{"$f":"VLOOKUP(H9,$B$4:B9,1,FALSE)","v":{"$error":"#N/A"}}]
[null,{"$f":"Results!A13","v":0},{"$f":"Results!C13","v":0},{"$f":"Results!B13","v":0},{"$f":"Results!D13","v":0},{"$f":"Results!G13","v":""},"- vs -",{"$f":"VLOOKUP(B10,Results!$A$8:$AG$60,23,FALSE)","v":{"$error":"#N/A"}},{"$f":"VLOOKUP(H10,Results!A$8:$G$60,3,FALSE)","v":{"$error":"#N/A"}},{"$f":"VLOOKUP(H10,Results!$A$8:$G$60,2,FALSE)","v":{"$error":"#N/A"}},{"$f":"VLOOKUP(H10,Results!$A$8:$G$60,4,FALSE)","v":{"$error":"#N/A"}},{"$f":"VLOOKUP(H10,Results!$A$8:$G$60,7,FALSE)","v":{"$error":"#N/A"}},{"$f":"VLOOKUP(H10,$B$4:B10,1,FALSE)","v":{"$error":"#N/A"}}]
[null,{"$f":"Results!A14","v":0},{"$f":"Results!C14","v":0},{"$f":"Results!B14","v":0},{"$f":"Results!D14","v":0},{"$f":"Results!G14","v":""},"- vs -",{"$f":"VLOOKUP(B11,Results!$A$8:$AG$60,23,FALSE)","v":{"$error":"#N/A"}},{"$f":"VLOOKUP(H11,Results!A$8:$G$60,3,FALSE)","v":{"$error":"#N/A"}},{"$f":"VLOOKUP(H11,Results!$A$8:$G$60,2,FALSE)","v":{"$error":"#N/A"}},{"$f":"VLOOKUP(H11,Results!$A$8:$G$60,4,FALSE)","v":{"$error":"#N/A"}},{"$f":"VLOOKUP(H11,Results!$A$8:$G$60,7,FALSE)","v":{"$error":"#N/A"}},{"$f":"VLOOKUP(H11,$B$4:B11,1,FALSE)","v":{"$error":"#N/A"}}]
[null,{"$f":"Results!A15","v":0},{"$f":"Results!C15","v":0},{"$f":"Results!B15","v":0},{"$f":"Results!D15","v":0},{"$f":"Results!G15","v":""},"- vs -",{"$f":"VLOOKUP(B12,Results!$A$8:$AG$60,23,FALSE)","v":{"$error":"#N/A"}},{"$f":"VLOOKUP(H12,Results!A$8:$G$60,3,FALSE)","v":{"$error":"#N/A"}},{"$f":"VLOOKUP(H12,Results!$A$8:$G$60,2,FALSE)","v":{"$error":"#N/A"}},{"$f":"VLOOKUP(H12,Results!$A$8:$G$60,4,FALSE)","v":{"$error":"#N/A"}},{"$f":"VLOOKUP(H12,Results!$A$8:$G$60,7,FALSE)","v":{"$error":"#N/A"}},{"$f":"VLOOKUP(H12,$B$4:B12,1,FALSE)","v":{"$error":"#N/A"}}]
[null,{"$f":"Results!A16","v":0},{"$f":"Results!C16","v":0},{"$f":"Results!B16","v":0},{"$f":"Results!D16","v":0},{"$f":"Results!G16","v":""},"- vs -",{"$f":"VLOOKUP(B13,Results!$A$8:$AG$60,23,FALSE)","v":{"$error":"#N/A"}},{"$f":"VLOOKUP(H13,Results!A$8:$G$60,3,FALSE)","v":{"$error":"#N/A"}},{"$f":"VLOOKUP(H13,Results!$A$8:$G$60,2,FALSE)","v":{"$error":"#N/A"}},{"$f":"VLOOKUP(H13,Results!$A$8:$G$60,4,FALSE)","v":{"$error":"#N/A"}},{"$f":"VLOOKUP(H13,Results!$A$8:$G$60,7,FALSE)","v":{"$error":"#N/A"}},{"$f":"VLOOKUP(H13,$B$4:B13,1,FALSE)","v":{"$error":"#N/A"}}]
[null,{"$f":"Results!A17","v":0},{"$f":"Results!C17","v":0},{"$f":"Results!B17","v":0},{"$f":"Results!D17","v":0},{"$f":"Results!G17","v":""},"- vs -",{"$f":"VLOOKUP(B14,Results!$A$8:$AG$60,23,FALSE)","v":{"$error":"#N/A"}},{"$f":"VLOOKUP(H14,Results!A$8:$G$60,3,FALSE)","v":{"$error":"#N/A"}},{"$f":"VLOOKUP(H14,Results!$A$8:$G$60,2,FALSE)","v":{"$error":"#N/A"}},{"$f":"VLOOKUP(H14,Results!$A$8:$G$60,4,FALSE)","v":{"$error":"#N/A"}},{"$f":"VLOOKUP(H14,Results!$A$8:$G$60,7,FALSE)","v":{"$error":"#N/A"}},{"$f":"VLOOKUP(H14,$B$4:B14,1,FALSE)","v":{"$error":"#N/A"}}]
[null,{"$f":"Results!A18","v":0},{"$f":"Results!C18","v":0},{"$f":"Results!B18","v":0},{"$f":"Results!D18","v":0},{"$f":"Results!G18","v":""},"- vs -",{"$f":"VLOOKUP(B15,Results!$A$8:$AG$60,23,FALSE)","v":{"$error":"#N/A"}},{"$f":"VLOOKUP(H15,Results!A$8:$G$60,3,FALSE)","v":{"$error":"#N/A"}},{"$f":"VLOOKUP(H15,Results!$A$8:$G$60,2,FALSE)","v":{"$error":"#N/A"}},{"$f":"VLOOKUP(H15,Results!$A$8:$G$60,4,FALSE)","v":{"$error":"#N/A"}},{"$f":"VLOOKUP(H15,Results!$A$8:$G$60,7,FALSE)","v":{"$error":"#N/A"}},{"$f":"VLOOKUP(H15,$B$4:B15,1,FALSE)","v":{"$error":"#N/A"}}]
[null,{"$f":"Results!A19","v":0},{"$f":"Results!C19","v":0},{"$f":"Results!B19","v":0},{"$f":"Results!D19","v":0},{"$f":"Results!G19","v":""},"- vs -",{"$f":"VLOOKUP(B16,Results!$A$8:$AG$60,23,FALSE)","v":{"$error":"#N/A"}},{"$f":"VLOOKUP(H16,Results!A$8:$G$60,3,FALSE)","v":{"$error":"#N/A"}},{"$f":"VLOOKUP(H16,Results!$A$8:$G$60,2,FALSE)","v":{"$error":"#N/A"}},{"$f":"VLOOKUP(H16,Results!$A$8:$G$60,4,FALSE)","v":{"$error":"#N/A"}},{"$f":"VLOOKUP(H16,Results!$A$8:$G$60,7,FALSE)","v":{"$error":"#N/A"}},{"$f":"VLOOKUP(H16,$B$4:B16,1,FALSE)","v":{"$error":"#N/A"}}]
[null,{"$f":"Results!A20","v":0},{"$f":"Results!C20","v":0},{"$f":"Results!B20","v":0},{"$f":"Results!D20","v":0},{"$f":"Results!G20","v":""},"- vs -",{"$f":"VLOOKUP(B17,Results!$A$8:$AG$60,23,FALSE)","v":{"$error":"#N/A"}},{"$f":"VLOOKUP(H17,Results!A$8:$G$60,3,FALSE)","v":{"$error":"#N/A"}},{"$f":"VLOOKUP(H17,Results!$A$8:$G$60,2,FALSE)","v":{"$error":"#N/A"}},{"$f":"VLOOKUP(H17,Results!$A$8:$G$60,4,FALSE)","v":{"$error":"#N/A"}},{"$f":"VLOOKUP(H17,Results!$A$8:$G$60,7,FALSE)","v":{"$error":"#N/A"}},{"$f":"VLOOKUP(H17,$B$4:B17,1,FALSE)","v":{"$error":"#N/A"}}]
[null,{"$f":"Results!A21","v":0},{"$f":"Results!C21","v":0},{"$f":"Results!B21","v":0},{"$f":"Results!D21","v":0},{"$f":"Results!G21","v":""},"- vs -",{"$f":"VLOOKUP(B18,Results!$A$8:$AG$60,23,FALSE)","v":{"$error":"#N/A"}},{"$f":"VLOOKUP(H18,Results!A$8:$G$60,3,FALSE)","v":{"$error":"#N/A"}},{"$f":"VLOOKUP(H18,Results!$A$8:$G$60,2,FALSE)","v":{"$error":"#N/A"}},{"$f":"VLOOKUP(H18,Results!$A$8:$G$60,4,FALSE)","v":{"$error":"#N/A"}},{"$f":"VLOOKUP(H18,Results!$A$8:$G$60,7,FALSE)","v":{"$error":"#N/A"}},{"$f":"VLOOKUP(H18,$B$4:B18,1,FALSE)","v":{"$error":"#N/A"}}]
[null,{"$f":"Results!A22","v":0},{"$f":"Results!C22","v":0},{"$f":"Results!B22","v":0},{"$f":"Results!D22","v":0},{"$f":"Results!G22","v":""},"- vs -",{"$f":"VLOOKUP(B19,Results!$A$8:$AG$60,23,FALSE)","v":{"$error":"#N/A"}},{"$f":"VLOOKUP(H19,Results!A$8:$G$60,3,FALSE)","v":{"$error":"#N/A"}},{"$f":"VLOOKUP(H19,Results!$A$8:$G$60,2,FALSE)","v":{"$error":"#N/A"}},{"$f":"VLOOKUP(H19,Results!$A$8:$G$60,4,FALSE)","v":{"$error":"#N/A"}},{"$f":"VLOOKUP(H19,Results!$A$8:$G$60,7,FALSE)","v":{"$error":"#N/A"}},{"$f":"VLOOKUP(H19,$B$4:B19,1,FALSE)","v":{"$error":"#N/A"}}]
[null,{"$f":"Results!A23","v":0},{"$f":"Results!C23","v":0},{"$f":"Results!B23","v":0},{"$f":"Results!D23","v":0},{"$f":"Results!G23","v":""},"- vs -",{"$f":"VLOOKUP(B20,Results!$A$8:$AG$60,23,FALSE)","v":{"$error":"#N/A"}},{"$f":"VLOOKUP(H20,Results!A$8:$G$60,3,FALSE)","v":{"$error":"#N/A"}},{"$f":"VLOOKUP(H20,Results!$A$8:$G$60,2,FALSE)","v":{"$error":"#N/A"}},{"$f":"VLOOKUP(H20,Results!$A$8:$G$60,4,FALSE)","v":{"$error":"#N/A"}},{"$f":"VLOOKUP(H20,Results!$A$8:$G$60,7,FALSE)","v":{"$error":"#N/A"}},{"$f":"VLOOKUP(H20,$B$4:B20,1,FALSE)","v":{"$error":"#N/A"}}]
[null,{"$f":"Results!A24","v":0},{"$f":"Results!C24","v":0},{"$f":"Results!B24","v":0},{"$f":"Results!D24","v":0},{"$f":"Results!G24","v":""},"- vs -",{"$f":"VLOOKUP(B21,Results!$A$8:$AG$60,23,FALSE)","v":{"$error":"#N/A"}},{"$f":"VLOOKUP(H21,Results!A$8:$G$60,3,FALSE)","v":{"$error":"#N/A"}},{"$f":"VLOOKUP(H21,Results!$A$8:$G$60,2,FALSE)","v":{"$error":"#N/A"}},{"$f":"VLOOKUP(H21,Results!$A$8:$G$60,4,FALSE)","v":{"$error":"#N/A"}},{"$f":"VLOOKUP(H21,Results!$A$8:$G$60,7,FALSE)","v":{"$error":"#N/A"}},{"$f":"VLOOKUP(H21,$B$4:B21,1,FALSE)","v":{"$error":"#N/A"}}]
[null,{"$f":"Results!A25","v":0},{"$f":"Results!C25","v":0},{"$f":"Results!B25","v":0},{"$f":"Results!D25","v":0},{"$f":"Results!G25","v":""},"- vs -",{"$f":"VLOOKUP(B22,Results!$A$8:$AG$60,23,FALSE)","v":{"$error":"#N/A"}},{"$f":"VLOOKUP(H22,Results!A$8:$G$60,3,FALSE)","v":{"$error":"#N/A"}},{"$f":"VLOOKUP(H22,Results!$A$8:$G$60,2,FALSE)","v":{"$error":"#N/A"}},{"$f":"VLOOKUP(H22,Results!$A$8:$G$60,4,FALSE)","v":{"$error":"#N/A"}},{"$f":"VLOOKUP(H22,Results!$A$8:$G$60,7,FALSE)","v":{"$error":"#N/A"}},{"$f":"VLOOKUP(H22,$B$4:B22,1,FALSE)","v":{"$error":"#N/A"}}]
[null,{"$f":"Results!A26","v":0},{"$f":"Results!C26","v":0},{"$f":"Results!B26","v":0},{"$f":"Results!D26","v":0},{"$f":"Results!G26","v":""},"- vs -",{"$f":"VLOOKUP(B23,Results!$A$8:$AG$60,23,FALSE)","v":{"$error":"#N/A"}},{"$f":"VLOOKUP(H23,Results!A$8:$G$60,3,FALSE)","v":{"$error":"#N/A"}},{"$f":"VLOOKUP(H23,Results!$A$8:$G$60,2,FALSE)","v":{"$error":"#N/A"}},{"$f":"VLOOKUP(H23,Results!$A$8:$G$60,4,FALSE)","v":{"$error":"#N/A"}},{"$f":"VLOOKUP(H23,Results!$A$8:$G$60,7,FALSE)","v":{"$error":"#N/A"}},{"$f":"VLOOKUP(H23,$B$4:B23,1,FALSE)","v":{"$error":"#N/A"}}]
[null,{"$f":"Results!A27","v":0},{"$f":"Results!C27","v":0},{"$f":"Results!B27","v":0},{"$f":"Results!D27","v":0},{"$f":"Results!G27","v":""},"- vs -",{"$f":"VLOOKUP(B24,Results!$A$8:$AG$60,23,FALSE)","v":{"$error":"#N/A"}},{"$f":"VLOOKUP(H24,Results!A$8:$G$60,3,FALSE)","v":{"$error":"#N/A"}},{"$f":"VLOOKUP(H24,Results!$A$8:$G$60,2,FALSE)","v":{"$error":"#N/A"}},{"$f":"VLOOKUP(H24,Results!$A$8:$G$60,4,FALSE)","v":{"$error":"#N/A"}},{"$f":"VLOOKUP(H24,Results!$A$8:$G$60,7,FALSE)","v":{"$error":"#N/A"}},{"$f":"VLOOKUP(H24,$B$4:B24,1,FALSE)","v":{"$error":"#N/A"}}]
[null,{"$f":"Results!A28","v":0},{"$f":"Results!C28","v":0},{"$f":"Results!B28","v":0},{"$f":"Results!D28","v":0},{"$f":"Results!G28","v":""},"- vs -",{"$f":"VLOOKUP(B25,Results!$A$8:$AG$60,23,FALSE)","v":{"$error":"#N/A"}},{"$f":"VLOOKUP(H25,Results!A$8:$G$60,3,FALSE)","v":{"$error":"#N/A"}},{"$f":"VLOOKUP(H25,Results!$A$8:$G$60,2,FALSE)","v":{"$error":"#N/A"}},{"$f":"VLOOKUP(H25,Results!$A$8:$G$60,4,FALSE)","v":{"$error":"#N/A"}},{"$f":"VLOOKUP(H25,Results!$A$8:$G$60,7,FALSE)","v":{"$error":"#N/A"}},{"$f":"VLOOKUP(H25,$B$4:B25,1,FALSE)","v":{"$error":"#N/A"}}]
[null,{"$f":"Results!A29","v":0},{"$f":"Results!C29","v":0},{"$f":"Results!B29","v":0},{"$f":"Results!D29","v":0},{"$f":"Results!G29","v":""},"- vs -",{"$f":"VLOOKUP(B26,Results!$A$8:$AG$60,23,FALSE)","v":{"$error":"#N/A"}},{"$f":"VLOOKUP(H26,Results!A$8:$G$60,3,FALSE)","v":{"$error":"#N/A"}},{"$f":"VLOOKUP(H26,Results!$A$8:$G$60,2,FALSE)","v":{"$error":"#N/A"}},{"$f":"VLOOKUP(H26,Results!$A$8:$G$60,4,FALSE)","v":{"$error":"#N/A"}},{"$f":"VLOOKUP(H26,Results!$A$8:$G$60,7,FALSE)","v":{"$error":"#N/A"}},{"$f":"VLOOKUP(H26,$B$4:B26,1,FALSE)","v":{"$error":"#N/A"}}]
[null,{"$f":"Results!A30","v":0},{"$f":"Results!C30","v":0},{"$f":"Results!B30","v":0},{"$f":"Results!D30","v":0},{"$f":"Results!G30","v":""},"- vs -",{"$f":"VLOOKUP(B27,Results!$A$8:$AG$60,23,FALSE)","v":{"$error":"#N/A"}},{"$f":"VLOOKUP(H27,Results!A$8:$G$60,3,FALSE)","v":{"$error":"#N/A"}},{"$f":"VLOOKUP(H27,Results!$A$8:$G$60,2,FALSE)","v":{"$error":"#N/A"}},{"$f":"VLOOKUP(H27,Results!$A$8:$G$60,4,FALSE)","v":{"$error":"#N/A"}},{"$f":"VLOOKUP(H27,Results!$A$8:$G$60,7,FALSE)","v":{"$error":"#N/A"}},{"$f":"VLOOKUP(H27,$B$4:B27,1,FALSE)","v":{"$error":"#N/A"}}]
[null,{"$f":"Results!A31","v":0},{"$f":"Results!C31","v":0},{"$f":"Results!B31","v":0},{"$f":"Results!D31","v":0},{"$f":"Results!G31","v":""},"- vs -",{"$f":"VLOOKUP(B28,Results!$A$8:$AG$60,23,FALSE)","v":{"$error":"#N/A"}},{"$f":"VLOOKUP(H28,Results!A$8:$G$60,3,FALSE)","v":{"$error":"#N/A"}},{"$f":"VLOOKUP(H28,Results!$A$8:$G$60,2,FALSE)","v":{"$error":"#N/A"}},{"$f":"VLOOKUP(H28,Results!$A$8:$G$60,4,FALSE)","v":{"$error":"#N/A"}},{"$f":"VLOOKUP(H28,Results!$A$8:$G$60,7,FALSE)","v":{"$error":"#N/A"}},{"$f":"VLOOKUP(H28,$B$4:B28,1,FALSE)","v":{"$error":"#N/A"}}]
[null,{"$f":"Results!A32","v":0},{"$f":"Results!C32","v":0},{"$f":"Results!B32","v":0},{"$f":"Results!D32","v":0},{"$f":"Results!G32","v":""},"- vs -",{"$f":"VLOOKUP(B29,Results!$A$8:$AG$60,23,FALSE)","v":{"$error":"#N/A"}},{"$f":"VLOOKUP(H29,Results!A$8:$G$60,3,FALSE)","v":{"$error":"#N/A"}},{"$f":"VLOOKUP(H29,Results!$A$8:$G$60,2,FALSE)","v":{"$error":"#N/A"}},{"$f":"VLOOKUP(H29,Results!$A$8:$G$60,4,FALSE)","v":{"$error":"#N/A"}},{"$f":"VLOOKUP(H29,Results!$A$8:$G$60,7,FALSE)","v":{"$error":"#N/A"}},{"$f":"VLOOKUP(H29,$B$4:B29,1,FALSE)","v":{"$error":"#N/A"}}]
[null,{"$f":"Results!A33","v":0},{"$f":"Results!C33","v":0},{"$f":"Results!B33","v":0},{"$f":"Results!D33","v":0},{"$f":"Results!G33","v":""},"- vs -",{"$f":"VLOOKUP(B30,Results!$A$8:$AG$60,23,FALSE)","v":{"$error":"#N/A"}},{"$f":"VLOOKUP(H30,Results!A$8:$G$60,3,FALSE)","v":{"$error":"#N/A"}},{"$f":"VLOOKUP(H30,Results!$A$8:$G$60,2,FALSE)","v":{"$error":"#N/A"}},{"$f":"VLOOKUP(H30,Results!$A$8:$G$60,4,FALSE)","v":{"$error":"#N/A"}},{"$f":"VLOOKUP(H30,Results!$A$8:$G$60,7,FALSE)","v":{"$error":"#N/A"}},{"$f":"VLOOKUP(H30,$B$4:B30,1,FALSE)","v":{"$error":"#N/A"}}]
[null,{"$f":"Results!A34","v":0},{"$f":"Results!C34","v":0},{"$f":"Results!B34","v":0},{"$f":"Results!D34","v":0},{"$f":"Results!G34","v":""},"- vs -",{"$f":"VLOOKUP(B31,Results!$A$8:$AG$60,23,FALSE)","v":{"$error":"#N/A"}},{"$f":"VLOOKUP(H31,Results!A$8:$G$60,3,FALSE)","v":{"$error":"#N/A"}},{"$f":"VLOOKUP(H31,Results!$A$8:$G$60,2,FALSE)","v":{"$error":"#N/A"}},{"$f":"VLOOKUP(H31,Results!$A$8:$G$60,4,FALSE)","v":{"$error":"#N/A"}},{"$f":"VLOOKUP(H31,Results!$A$8:$G$60,7,FALSE)","v":{"$error":"#N/A"}},{"$f":"VLOOKUP(H31,$B$4:B31,1,FALSE)","v":{"$error":"#N/A"}}]
[null,{"$f":"Results!A35","v":0},{"$f":"Results!C35","v":0},{"$f":"Results!B35","v":0},{"$f":"Results!D35","v":0},{"$f":"Results!G35","v":""},"- vs -",{"$f":"VLOOKUP(B32,Results!$A$8:$AG$60,23,FALSE)","v":{"$error":"#N/A"}},{"$f":"VLOOKUP(H32,Results!A$8:$G$60,3,FALSE)","v":{"$error":"#N/A"}},{"$f":"VLOOKUP(H32,Results!$A$8:$G$60,2,FALSE)","v":{"$error":"#N/A"}},{"$f":"VLOOKUP(H32,Results!$A$8:$G$60,4,FALSE)","v":{"$error":"#N/A"}},{"$f":"VLOOKUP(H32,Results!$A$8:$G$60,7,FALSE)","v":{"$error":"#N/A"}},{"$f":"VLOOKUP(H32,$B$4:B32,1,FALSE)","v":{"$error":"#N/A"}}]
[null,{"$f":"Results!A36","v":0},{"$f":"Results!C36","v":0},{"$f":"Results!B36","v":0},{"$f":"Results!D36","v":0},{"$f":"Results!G36","v":""},"- vs -",{"$f":"VLOOKUP(B33,Results!$A$8:$AG$60,23,FALSE)","v":{"$error":"#N/A"}},{"$f":"VLOOKUP(H33,Results!A$8:$G$60,3,FALSE)","v":{"$error":"#N/A"}},{"$f":"VLOOKUP(H33,Results!$A$8:$G$60,2,FALSE)","v":{"$error":"#N/A"}},{"$f":"VLOOKUP(H33,Results!$A$8:$G$60,4,FALSE)","v":{"$error":"#N/A"}},{"$f":"VLOOKUP(H33,Results!$A$8:$G$60,7,FALSE)","v":{"$error":"#N/A"}},{"$f":"VLOOKUP(H33,$B$4:B33,1,FALSE)","v":{"$error":"#N/A"}}]
[null,{"$f":"Results!A37","v":0},{"$f":"Results!C37","v":0},{"$f":"Results!B37","v":0},{"$f":"Results!D37","v":0},{"$f":"Results!G37","v":""},"- vs -",{"$f":"VLOOKUP(B34,Results!$A$8:$AG$60,23,FALSE)","v":{"$error":"#N/A"}},{"$f":"VLOOKUP(H34,Results!A$8:$G$60,3,FALSE)","v":{"$error":"#N/A"}},{"$f":"VLOOKUP(H34,Results!$A$8:$G$60,2,FALSE)","v":{"$error":"#N/A"}},{"$f":"VLOOKUP(H34,Results!$A$8:$G$60,4,FALSE)","v":{"$error":"#N/A"}},{"$f":"VLOOKUP(H34,Results!$A$8:$G$60,7,FALSE)","v":{"$error":"#N/A"}},{"$f":"VLOOKUP(H34,$B$4:B34,1,FALSE)","v":{"$error":"#N/A"}}]
[null,{"$f":"Results!A38","v":0},{"$f":"Results!C38","v":0},{"$f":"Results!B38","v":0},{"$f":"Results!D38","v":0},{"$f":"Results!G38","v":""},"- vs -",{"$f":"VLOOKUP(B35,Results!$A$8:$AG$60,23,FALSE)","v":{"$error":"#N/A"}},{"$f":"VLOOKUP(H35,Results!A$8:$G$60,3,FALSE)","v":{"$error":"#N/A"}},{"$f":"VLOOKUP(H35,Results!$A$8:$G$60,2,FALSE)","v":{"$error":"#N/A"}},{"$f":"VLOOKUP(H35,Results!$A$8:$G$60,4,FALSE)","v":{"$error":"#N/A"}},{"$f":"VLOOKUP(H35,Results!$A$8:$G$60,7,FALSE)","v":{"$error":"#N/A"}},{"$f":"VLOOKUP(H35,$B$4:B35,1,FALSE)","v":{"$error":"#N/A"}}]
[null,{"$f":"Results!A39","v":0},{"$f":"Results!C39","v":0},{"$f":"Results!B39","v":0},{"$f":"Results!D39","v":0},{"$f":"Results!G39","v":""},"- vs -",{"$f":"VLOOKUP(B36,Results!$A$8:$AG$60,23,FALSE)","v":{"$error":"#N/A"}},{"$f":"VLOOKUP(H36,Results!A$8:$G$60,3,FALSE)","v":{"$error":"#N/A"}},{"$f":"VLOOKUP(H36,Results!$A$8:$G$60,2,FALSE)","v":{"$error":"#N/A"}},{"$f":"VLOOKUP(H36,Results!$A$8:$G$60,4,FALSE)","v":{"$error":"#N/A"}},{"$f":"VLOOKUP(H36,Results!$A$8:$G$60,7,FALSE)","v":{"$error":"#N/A"}},{"$f":"VLOOKUP(H36,$B$4:B36,1,FALSE)","v":{"$error":"#N/A"}}]
[null,{"$f":"Results!A40","v":0},{"$f":"Results!C40","v":0},{"$f":"Results!B40","v":0},{"$f":"Results!D40","v":0},{"$f":"Results!G40","v":""},"- vs -",{"$f":"VLOOKUP(B37,Results!$A$8:$AG$60,23,FALSE)","v":{"$error":"#N/A"}},{"$f":"VLOOKUP(H37,Results!A$8:$G$60,3,FALSE)","v":{"$error":"#N/A"}},{"$f":"VLOOKUP(H37,Results!$A$8:$G$60,2,FALSE)","v":{"$error":"#N/A"}},{"$f":"VLOOKUP(H37,Results!$A$8:$G$60,4,FALSE)","v":{"$error":"#N/A"}},{"$f":"VLOOKUP(H37,Results!$A$8:$G$60,7,FALSE)","v":{"$error":"#N/A"}},{"$f":"VLOOKUP(H37,$B$4:B37,1,FALSE)","v":{"$error":"#N/A"}}]
[null,{"$f":"Results!A41","v":0},{"$f":"Results!C41","v":0},{"$f":"Results!B41","v":0},{"$f":"Results!D41","v":0},{"$f":"Results!G41","v":""},"- vs -",{"$f":"VLOOKUP(B38,Results!$A$8:$AG$60,23,FALSE)","v":{"$error":"#N/A"}},{"$f":"VLOOKUP(H38,Results!A$8:$G$60,3,FALSE)","v":{"$error":"#N/A"}},{"$f":"VLOOKUP(H38,Results!$A$8:$G$60,2,FALSE)","v":{"$error":"#N/A"}},{"$f":"VLOOKUP(H38,Results!$A$8:$G$60,4,FALSE)","v":{"$error":"#N/A"}},{"$f":"VLOOKUP(H38,Results!$A$8:$G$60,7,FALSE)","v":{"$error":"#N/A"}},{"$f":"VLOOKUP(H38,$B$4:B38,1,FALSE)","v":{"$error":"#N/A"}}]
[null,{"$f":"Results!A42","v":0},{"$f":"Results!C42","v":0},{"$f":"Results!B42","v":0},{"$f":"Results!D42","v":0},{"$f":"Results!G42","v":""},"- vs -",{"$f":"VLOOKUP(B39,Results!$A$8:$AG$60,23,FALSE)","v":{"$error":"#N/A"}},{"$f":"VLOOKUP(H39,Results!A$8:$G$60,3,FALSE)","v":{"$error":"#N/A"}},{"$f":"VLOOKUP(H39,Results!$A$8:$G$60,2,FALSE)","v":{"$error":"#N/A"}},{"$f":"VLOOKUP(H39,Results!$A$8:$G$60,4,FALSE)","v":{"$error":"#N/A"}},{"$f":"VLOOKUP(H39,Results!$A$8:$G$60,7,FALSE)","v":{"$error":"#N/A"}},{"$f":"VLOOKUP(H39,$B$4:B39,1,FALSE)","v":{"$error":"#N/A"}}]
[null,{"$f":"Results!A43","v":0},{"$f":"Results!C43","v":0},{"$f":"Results!B43","v":0},{"$f":"Results!D43","v":0},{"$f":"Results!G43","v":""},"- vs -",{"$f":"VLOOKUP(B40,Results!$A$8:$AG$60,23,FALSE)","v":{"$error":"#N/A"}},{"$f":"VLOOKUP(H40,Results!A$8:$G$60,3,FALSE)","v":{"$error":"#N/A"}},{"$f":"VLOOKUP(H40,Results!$A$8:$G$60,2,FALSE)","v":{"$error":"#N/A"}},{"$f":"VLOOKUP(H40,Results!$A$8:$G$60,4,FALSE)","v":{"$error":"#N/A"}},{"$f":"VLOOKUP(H40,Results!$A$8:$G$60,7,FALSE)","v":{"$error":"#N/A"}},{"$f":"VLOOKUP(H40,$B$4:B40,1,FALSE)","v":{"$error":"#N/A"}}]
[null,{"$f":"Results!A44","v":0},{"$f":"Results!C44","v":0},{"$f":"Results!B44","v":0},{"$f":"Results!D44","v":0},{"$f":"Results!G44","v":""},"- vs -",{"$f":"VLOOKUP(B41,Results!$A$8:$AG$60,23,FALSE)","v":{"$error":"#N/A"}},{"$f":"VLOOKUP(H41,Results!A$8:$G$60,3,FALSE)","v":{"$error":"#N/A"}},{"$f":"VLOOKUP(H41,Results!$A$8:$G$60,2,FALSE)","v":{"$error":"#N/A"}},{"$f":"VLOOKUP(H41,Results!$A$8:$G$60,4,FALSE)","v":{"$error":"#N/A"}},{"$f":"VLOOKUP(H41,Results!$A$8:$G$60,7,FALSE)","v":{"$error":"#N/A"}},{"$f":"VLOOKUP(H41,$B$4:B41,1,FALSE)","v":{"$error":"#N/A"}}]
[null,{"$f":"Results!A45","v":0},{"$f":"Results!C45","v":0},{"$f":"Results!B45","v":0},{"$f":"Results!D45","v":0},{"$f":"Results!G45","v":""},"- vs -",{"$f":"VLOOKUP(B42,Results!$A$8:$AG$60,23,FALSE)","v":{"$error":"#N/A"}},{"$f":"VLOOKUP(H42,Results!A$8:$G$60,3,FALSE)","v":{"$error":"#N/A"}},{"$f":"VLOOKUP(H42,Results!$A$8:$G$60,2,FALSE)","v":{"$error":"#N/A"}},{"$f":"VLOOKUP(H42,Results!$A$8:$G$60,4,FALSE)","v":{"$error":"#N/A"}},{"$f":"VLOOKUP(H42,Results!$A$8:$G$60,7,FALSE)","v":{"$error":"#N/A"}},{"$f":"VLOOKUP(H42,$B$4:B42,1,FALSE)","v":{"$error":"#N/A"}}]
[null,{"$f":"Results!A46","v":0},{"$f":"Results!C46","v":0},{"$f":"Results!B46","v":0},{"$f":"Results!D46","v":0},{"$f":"Results!G46","v":""},"- vs -",{"$f":"VLOOKUP(B43,Results!$A$8:$AG$60,23,FALSE)","v":{"$error":"#N/A"}},{"$f":"VLOOKUP(H43,Results!A$8:$G$60,3,FALSE)","v":{"$error":"#N/A"}},{"$f":"VLOOKUP(H43,Results!$A$8:$G$60,2,FALSE)","v":{"$error":"#N/A"}},{"$f":"VLOOKUP(H43,Results!$A$8:$G$60,4,FALSE)","v":{"$error":"#N/A"}},{"$f":"VLOOKUP(H43,Results!$A$8:$G$60,7,FALSE)","v":{"$error":"#N/A"}},{"$f":"VLOOKUP(H43,$B$4:B43,1,FALSE)","v":{"$error":"#N/A"}}]
[null,{"$f":"Results!A47","v":0},{"$f":"Results!C47","v":0},{"$f":"Results!B47","v":0},{"$f":"Results!D47","v":0},{"$f":"Results!G47","v":""},"- vs -",{"$f":"VLOOKUP(B44,Results!$A$8:$AG$60,23,FALSE)","v":{"$error":"#N/A"}},{"$f":"VLOOKUP(H44,Results!A$8:$G$60,3,FALSE)","v":{"$error":"#N/A"}},{"$f":"VLOOKUP(H44,Results!$A$8:$G$60,2,FALSE)","v":{"$error":"#N/A"}},{"$f":"VLOOKUP(H44,Results!$A$8:$G$60,4,FALSE)","v":{"$error":"#N/A"}},{"$f":"VLOOKUP(H44,Results!$A$8:$G$60,7,FALSE)","v":{"$error":"#N/A"}},{"$f":"VLOOKUP(H44,$B$4:B44,1,FALSE)","v":{"$error":"#N/A"}}]
[null,{"$f":"Results!A48","v":0},{"$f":"Results!C48","v":0},{"$f":"Results!B48","v":0},{"$f":"Results!D48","v":0},{"$f":"Results!G48","v":""},"- vs -",{"$f":"VLOOKUP(B45,Results!$A$8:$AG$60,23,FALSE)","v":{"$error":"#N/A"}},{"$f":"VLOOKUP(H45,Results!A$8:$G$60,3,FALSE)","v":{"$error":"#N/A"}},{"$f":"VLOOKUP(H45,Results!$A$8:$G$60,2,FALSE)","v":{"$error":"#N/A"}},{"$f":"VLOOKUP(H45,Results!$A$8:$G$60,4,FALSE)","v":{"$error":"#N/A"}},{"$f":"VLOOKUP(H45,Results!$A$8:$G$60,7,FALSE)","v":{"$error":"#N/A"}},{"$f":"VLOOKUP(H45,$B$4:B45,1,FALSE)","v":{"$error":"#N/A"}}]
[null,{"$f":"Results!A49","v":0},{"$f":"Results!C49","v":0},{"$f":"Results!B49","v":0},{"$f":"Results!D49","v":0},{"$f":"Results!G49","v":""},"- vs -",{"$f":"VLOOKUP(B46,Results!$A$8:$AG$60,23,FALSE)","v":{"$error":"#N/A"}},{"$f":"VLOOKUP(H46,Results!A$8:$G$60,3,FALSE)","v":{"$error":"#N/A"}},{"$f":"VLOOKUP(H46,Results!$A$8:$G$60,2,FALSE)","v":{"$error":"#N/A"}},{"$f":"VLOOKUP(H46,Results!$A$8:$G$60,4,FALSE)","v":{"$error":"#N/A"}},{"$f":"VLOOKUP(H46,Results!$A$8:$G$60,7,FALSE)","v":{"$error":"#N/A"}},{"$f":"VLOOKUP(H46,$B$4:B46,1,FALSE)","v":{"$error":"#N/A"}}]
[null,{"$f":"Results!A50","v":0},{"$f":"Results!C50","v":0},{"$f":"Results!B50","v":0},{"$f":"Results!D50","v":0},{"$f":"Results!G50","v":""},"- vs -",{"$f":"VLOOKUP(B47,Results!$A$8:$AG$60,23,FALSE)","v":{"$error":"#N/A"}},{"$f":"VLOOKUP(H47,Results!A$8:$G$60,3,FALSE)","v":{"$error":"#N/A"}},{"$f":"VLOOKUP(H47,Results!$A$8:$G$60,2,FALSE)","v":{"$error":"#N/A"}},{"$f":"VLOOKUP(H47,Results!$A$8:$G$60,4,FALSE)","v":{"$error":"#N/A"}},{"$f":"VLOOKUP(H47,Results!$A$8:$G$60,7,FALSE)","v":{"$error":"#N/A"}},{"$f":"VLOOKUP(H47,$B$4:B47,1,FALSE)","v":{"$error":"#N/A"}}]
[null,{"$f":"Results!A51","v":0},{"$f":"Results!C51","v":0},{"$f":"Results!B51","v":0},{"$f":"Results!D51","v":0},{"$f":"Results!G51","v":""},"- vs -",{"$f":"VLOOKUP(B48,Results!$A$8:$AG$60,23,FALSE)","v":{"$error":"#N/A"}},{"$f":"VLOOKUP(H48,Results!A$8:$G$60,3,FALSE)","v":{"$error":"#N/A"}},{"$f":"VLOOKUP(H48,Results!$A$8:$G$60,2,FALSE)","v":{"$error":"#N/A"}},{"$f":"VLOOKUP(H48,Results!$A$8:$G$60,4,FALSE)","v":{"$error":"#N/A"}},{"$f":"VLOOKUP(H48,Results!$A$8:$G$60,7,FALSE)","v":{"$error":"#N/A"}},{"$f":"VLOOKUP(H48,$B$4:B48,1,FALSE)","v":{"$error":"#N/A"}}]
[null,{"$f":"Results!A52","v":0},{"$f":"Results!C52","v":0},{"$f":"Results!B52","v":0},{"$f":"Results!D52","v":0},{"$f":"Results!G52","v":""},"- vs -",{"$f":"VLOOKUP(B49,Results!$A$8:$AG$60,23,FALSE)","v":{"$error":"#N/A"}},{"$f":"VLOOKUP(H49,Results!A$8:$G$60,3,FALSE)","v":{"$error":"#N/A"}},{"$f":"VLOOKUP(H49,Results!$A$8:$G$60,2,FALSE)","v":{"$error":"#N/A"}},{"$f":"VLOOKUP(H49,Results!$A$8:$G$60,4,FALSE)","v":{"$error":"#N/A"}},{"$f":"VLOOKUP(H49,Results!$A$8:$G$60,7,FALSE)","v":{"$error":"#N/A"}},{"$f":"VLOOKUP(H49,$B$4:B49,1,FALSE)","v":{"$error":"#N/A"}}]
[null,{"$f":"Results!A53","v":0},{"$f":"Results!C53","v":0},{"$f":"Results!B53","v":0},{"$f":"Results!D53","v":0},{"$f":"Results!G53","v":""},"- vs -",{"$f":"VLOOKUP(B50,Results!$A$8:$AG$60,23,FALSE)","v":{"$error":"#N/A"}},{"$f":"VLOOKUP(H50,Results!A$8:$G$60,3,FALSE)","v":{"$error":"#N/A"}},{"$f":"VLOOKUP(H50,Results!$A$8:$G$60,2,FALSE)","v":{"$error":"#N/A"}},{"$f":"VLOOKUP(H50,Results!$A$8:$G$60,4,FALSE)","v":{"$error":"#N/A"}},{"$f":"VLOOKUP(H50,Results!$A$8:$G$60,7,FALSE)","v":{"$error":"#N/A"}},{"$f":"VLOOKUP(H50,$B$4:B50,1,FALSE)","v":{"$error":"#N/A"}}]
[null,{"$f":"Results!A54","v":0},{"$f":"Results!C54","v":0},{"$f":"Results!B54","v":0},{"$f":"Results!D54","v":0},{"$f":"Results!G54","v":""},"- vs -",{"$f":"VLOOKUP(B51,Results!$A$8:$AG$60,23,FALSE)","v":{"$error":"#N/A"}},{"$f":"VLOOKUP(H51,Results!A$8:$G$60,3,FALSE)","v":{"$error":"#N/A"}},{"$f":"VLOOKUP(H51,Results!$A$8:$G$60,2,FALSE)","v":{"$error":"#N/A"}},{"$f":"VLOOKUP(H51,Results!$A$8:$G$60,4,FALSE)","v":{"$error":"#N/A"}},{"$f":"VLOOKUP(H51,Results!$A$8:$G$60,7,FALSE)","v":{"$error":"#N/A"}},{"$f":"VLOOKUP(H51,$B$4:B51,1,FALSE)","v":{"$error":"#N/A"}}]
[null,{"$f":"Results!A55","v":0},{"$f":"Results!C55","v":0},{"$f":"Results!B55","v":0},{"$f":"Results!D55","v":0},{"$f":"Results!G55","v":""},"- vs -",{"$f":"VLOOKUP(B52,Results!$A$8:$AG$60,23,FALSE)","v":{"$error":"#N/A"}},{"$f":"VLOOKUP(H52,Results!A$8:$G$60,3,FALSE)","v":{"$error":"#N/A"}},{"$f":"VLOOKUP(H52,Results!$A$8:$G$60,2,FALSE)","v":{"$error":"#N/A"}},{"$f":"VLOOKUP(H52,Results!$A$8:$G$60,4,FALSE)","v":{"$error":"#N/A"}},{"$f":"VLOOKUP(H52,Results!$A$8:$G$60,7,FALSE)","v":{"$error":"#N/A"}},{"$f":"VLOOKUP(H52,$B$4:B52,1,FALSE)","v":{"$error":"#N/A"}}]
[null,{"$f":"Results!A56","v":0},{"$f":"Results!C56","v":0},{"$f":"Results!B56","v":0},{"$f":"Results!D56","v":0},{"$f":"Results!G56","v":""},"- vs -",{"$f":"VLOOKUP(B53,Results!$A$8:$AG$60,23,FALSE)","v":{"$error":"#N/A"}},{"$f":"VLOOKUP(H53,Results!A$8:$G$60,3,FALSE)","v":{"$error":"#N/A"}},{"$f":"VLOOKUP(H53,Results!$A$8:$G$60,2,FALSE)","v":{"$error":"#N/A"}},{"$f":"VLOOKUP(H53,Results!$A$8:$G$60,4,FALSE)","v":{"$error":"#N/A"}},{"$f":"VLOOKUP(H53,Results!$A$8:$G$60,7,FALSE)","v":{"$error":"#N/A"}},{"$f":"VLOOKUP(H53,$B$4:B53,1,FALSE)","v":{"$error":"#N/A"}}]
[null,{"$f":"Results!A57","v":0},{"$f":"Results!C57","v":0},{"$f":"Results!B57","v":0},{"$f":"Results!D57","v":0},{"$f":"Results!G57","v":""},"- vs -",{"$f":"VLOOKUP(B54,Results!$A$8:$AG$60,23,FALSE)","v":{"$error":"#N/A"}},{"$f":"VLOOKUP(H54,Results!A$8:$G$60,3,FALSE)","v":{"$error":"#N/A"}},{"$f":"VLOOKUP(H54,Results!$A$8:$G$60,2,FALSE)","v":{"$error":"#N/A"}},{"$f":"VLOOKUP(H54,Results!$A$8:$G$60,4,FALSE)","v":{"$error":"#N/A"}},{"$f":"VLOOKUP(H54,Results!$A$8:$G$60,7,FALSE)","v":{"$error":"#N/A"}},{"$f":"VLOOKUP(H54,$B$4:B54,1,FALSE)","v":{"$error":"#N/A"}}]
[null,{"$f":"Results!A58","v":0},{"$f":"Results!C58","v":0},{"$f":"Results!B58","v":0},{"$f":"Results!D58","v":0},{"$f":"Results!G58","v":""},"- vs -",{"$f":"VLOOKUP(B55,Results!$A$8:$AG$60,23,FALSE)","v":{"$error":"#N/A"}},{"$f":"VLOOKUP(H55,Results!A$8:$G$60,3,FALSE)","v":{"$error":"#N/A"}},{"$f":"VLOOKUP(H55,Results!$A$8:$G$60,2,FALSE)","v":{"$error":"#N/A"}},{"$f":"VLOOKUP(H55,Results!$A$8:$G$60,4,FALSE)","v":{"$error":"#N/A"}},{"$f":"VLOOKUP(H55,Results!$A$8:$G$60,7,FALSE)","v":{"$error":"#N/A"}},{"$f":"VLOOKUP(H55,$B$4:B55,1,FALSE)","v":{"$error":"#N/A"}}]
[null,{"$f":"Results!A59","v":0},{"$f":"Results!C59","v":0},{"$f":"Results!B59","v":0},{"$f":"Results!D59","v":0},{"$f":"Results!G59","v":""},"- vs -",{"$f":"VLOOKUP(B56,Results!$A$8:$AG$60,23,FALSE)","v":{"$error":"#N/A"}},{"$f":"VLOOKUP(H56,Results!A$8:$G$60,3,FALSE)","v":{"$error":"#N/A"}},{"$f":"VLOOKUP(H56,Results!$A$8:$G$60,2,FALSE)","v":{"$error":"#N/A"}},{"$f":"VLOOKUP(H56,Results!$A$8:$G$60,4,FALSE)","v":{"$error":"#N/A"}},{"$f":"VLOOKUP(H56,Results!$A$8:$G$60,7,FALSE)","v":{"$error":"#N/A"}},{"$f":"VLOOKUP(H56,$B$4:B56,1,FALSE)","v":{"$error":"#N/A"}}]
[null,{"$f":"Results!A60","v":0},{"$f":"Results!C60","v":0},{"$f":"Results!B60","v":0},{"$f":"Results!D60","v":0},{"$f":"Results!G60","v":""},"- vs -",{"$f":"VLOOKUP(B57,Results!$A$8:$AG$60,23,FALSE)","v":{"$error":"#N/A"}},{"$f":"VLOOKUP(H57,Results!A$8:$G$60,3,FALSE)","v":{"$error":"#N/A"}},{"$f":"VLOOKUP(H57,Results!$A$8:$G$60,2,FALSE)","v":{"$error":"#N/A"}},{"$f":"VLOOKUP(H57,Results!$A$8:$G$60,4,FALSE)","v":{"$error":"#N/A"}},{"$f":"VLOOKUP(H57,Results!$A$8:$G$60,7,FALSE)","v":{"$error":"#N/A"}},{"$f":"VLOOKUP(H57,$B$4:B57,1,FALSE)","v":{"$error":"#N/A"}}]
[null,{"$f":"Results!A61","v":0},{"$f":"Results!C61","v":0},{"$f":"Results!B61","v":0},{"$f":"Results!D61","v":0},{"$f":"Results!G61","v":0},"- vs -",{"$f":"VLOOKUP(B58,Results!$A$8:$AG$60,23,FALSE)","v":{"$error":"#N/A"}},{"$f":"VLOOKUP(H58,Results!A$8:$G$60,3,FALSE)","v":{"$error":"#N/A"}},{"$f":"VLOOKUP(H58,Results!$A$8:$G$60,2,FALSE)","v":{"$error":"#N/A"}},{"$f":"VLOOKUP(H58,Results!$A$8:$G$60,4,FALSE)","v":{"$error":"#N/A"}},{"$f":"VLOOKUP(H58,Results!$A$8:$G$60,7,FALSE)","v":{"$error":"#N/A"}},{"$f":"VLOOKUP(H58,$B$4:B58,1,FALSE)","v":{"$error":"#N/A"}}]
[null,{"$f":"Results!A62","v":0},{"$f":"Results!C62","v":0},{"$f":"Results!B62","v":0},{"$f":"Results!D62","v":0},{"$f":"Results!G62","v":0},"- vs -",{"$f":"VLOOKUP(B59,Results!$A$8:$AG$60,23,FALSE)","v":{"$error":"#N/A"}},{"$f":"VLOOKUP(H59,Results!A$8:$G$60,3,FALSE)","v":{"$error":"#N/A"}},{"$f":"VLOOKUP(H59,Results!$A$8:$G$60,2,FALSE)","v":{"$error":"#N/A"}},{"$f":"VLOOKUP(H59,Results!$A$8:$G$60,4,FALSE)","v":{"$error":"#N/A"}},{"$f":"VLOOKUP(H59,Results!$A$8:$G$60,7,FALSE)","v":{"$error":"#N/A"}},{"$f":"VLOOKUP(H59,$B$4:B59,1,FALSE)","v":{"$error":"#N/A"}}]
[null,{"$f":"Results!A63","v":0},{"$f":"Results!C63","v":0},{"$f":"Results!B63","v":0},{"$f":"Results!D63","v":0},{"$f":"Results!G63","v":0},"- vs -",{"$f":"VLOOKUP(B60,Results!$A$8:$AG$60,23,FALSE)","v":{"$error":"#N/A"}},{"$f":"VLOOKUP(H60,Results!A$8:$G$60,3,FALSE)","v":{"$error":"#N/A"}},{"$f":"VLOOKUP(H60,Results!$A$8:$G$60,2,FALSE)","v":{"$error":"#N/A"}},{"$f":"VLOOKUP(H60,Results!$A$8:$G$60,4,FALSE)","v":{"$error":"#N/A"}},{"$f":"VLOOKUP(H60,Results!$A$8:$G$60,7,FALSE)","v":{"$error":"#N/A"}},{"$f":"VLOOKUP(H60,$B$4:B60,1,FALSE)","v":{"$error":"#N/A"}}]
[null,{"$f":"Results!A64","v":0},{"$f":"Results!C64","v":0},{"$f":"Results!B64","v":0},{"$f":"Results!D64","v":0},{"$f":"Results!G64","v":0},"- vs -",{"$f":"VLOOKUP(B61,Results!$A$8:$AG$60,23,FALSE)","v":{"$error":"#N/A"}},{"$f":"VLOOKUP(H61,Results!A$8:$G$60,3,FALSE)","v":{"$error":"#N/A"}},{"$f":"VLOOKUP(H61,Results!$A$8:$G$60,2,FALSE)","v":{"$error":"#N/A"}},{"$f":"VLOOKUP(H61,Results!$A$8:$G$60,4,FALSE)","v":{"$error":"#N/A"}},{"$f":"VLOOKUP(H61,Results!$A$8:$G$60,7,FALSE)","v":{"$error":"#N/A"}},{"$f":"VLOOKUP(H61,$B$4:B61,1,FALSE)","v":{"$error":"#N/A"}}]
[null,{"$f":"Results!A65","v":0},{"$f":"Results!C65","v":0},{"$f":"Results!B65","v":0},{"$f":"Results!D65","v":0},{"$f":"Results!G65","v":0},"- vs -",{"$f":"VLOOKUP(B62,Results!$A$8:$AG$60,23,FALSE)","v":{"$error":"#N/A"}},{"$f":"VLOOKUP(H62,Results!A$8:$G$60,3,FALSE)","v":{"$error":"#N/A"}},{"$f":"VLOOKUP(H62,Results!$A$8:$G$60,2,FALSE)","v":{"$error":"#N/A"}},{"$f":"VLOOKUP(H62,Results!$A$8:$G$60,4,FALSE)","v":{"$error":"#N/A"}},{"$f":"VLOOKUP(H62,Results!$A$8:$G$60,7,FALSE)","v":{"$error":"#N/A"}},{"$f":"VLOOKUP(H62,$B$4:B62,1,FALSE)","v":{"$error":"#N/A"}}]
[null,{"$f":"Results!A66","v":0},{"$f":"Results!C66","v":0},{"$f":"Results!B66","v":0},{"$f":"Results!D66","v":0},{"$f":"Results!G66","v":0},"- vs -",{"$f":"VLOOKUP(B63,Results!$A$8:$AG$60,23,FALSE)","v":{"$error":"#N/A"}},{"$f":"VLOOKUP(H63,Results!A$8:$G$60,3,FALSE)","v":{"$error":"#N/A"}},{"$f":"VLOOKUP(H63,Results!$A$8:$G$60,2,FALSE)","v":{"$error":"#N/A"}},{"$f":"VLOOKUP(H63,Results!$A$8:$G$60,4,FALSE)","v":{"$error":"#N/A"}},{"$f":"VLOOKUP(H63,Results!$A$8:$G$60,7,FALSE)","v":{"$error":"#N/A"}},{"$f":"VLOOKUP(H63,$B$4:B63,1,FALSE)","v":{"$error":"#N/A"}}]
[]
[]
[]
[]
[null,254,"Bender","Ostap","FRONTON","Later Carthaginian","- vs -",110,"Rob","James",0,"Huns"]
[null,751,"Steven","Hacker","Clevedon","Alexander the Great","- vs -",488,"Andrew","Unwin","Berkeley","Classical Indian"]
[null,754,"Colin","Cavanagh","SSWG","Triumvirate Roman","- vs -",273,"Lionel","Martinez","ACLEB","Patrician Roman"]
[null,768,"David","Allen","CLWC","Later Aechemneid Persian","- vs -",110,"Rob","James",0,"Huns"]
[null,770,"Christopher","Ager","SOA","Classical Indian","- vs -",112,"Gareth","Evans",0,"Triumvirate Roman"]
[null,771,"Patrick","Dale","SOA","Dacians and Carpi","- vs -",750,"Chris","Jackson","Cardiff",""]
[null,800,"Ian","Mackay","CLWC","Bactrians & Indo-Greek","- vs -",111,"Ralph","Ashdown","SSWG","Triumvirate Roman"]
[null,904,"Tony","Horobin","SSWG","","- vs -",113,"David","Handley","Warlords",""]

{"sheet":"Round 4","index":12,"n_rows":63,"n_cols":13,"rows_kept":63,"cut":false,"hidden":false,"merged":[]}
[]
["Round 4 Draw",null,{"$f":"Results!B3","v":0}]
[null,null,{"$f":"Results!B4","v":"Open Theme"}]
[null,null,null,null,null,null,null,null,null,null,null,null,"VALID?"]
[null,{"$f":"Results!A8","v":0},{"$f":"Results!C8","v":0},{"$f":"Results!B8","v":0},{"$f":"Results!D8","v":0},{"$f":"Results!G8","v":""},"- vs -",{"$f":"VLOOKUP(B5,Results!$A$8:$AG$60,30,FALSE)","v":{"$error":"#N/A"}},{"$f":"VLOOKUP(H5,Results!A$8:$G$60,3,FALSE)","v":{"$error":"#N/A"}},{"$f":"VLOOKUP(H5,Results!$A$8:$G$60,2,FALSE)","v":{"$error":"#N/A"}},{"$f":"VLOOKUP(H5,Results!$A$8:$G$60,4,FALSE)","v":{"$error":"#N/A"}},{"$f":"VLOOKUP(H5,Results!$A$8:$G$60,7,FALSE)","v":{"$error":"#N/A"}},{"$f":"VLOOKUP(H5,$B$4:B5,1,FALSE)","v":{"$error":"#N/A"}}]
[null,{"$f":"Results!A9","v":0},{"$f":"Results!C9","v":0},{"$f":"Results!B9","v":0},{"$f":"Results!D9","v":0},{"$f":"Results!G9","v":""},"- vs -",{"$f":"VLOOKUP(B6,Results!$A$8:$AG$60,30,FALSE)","v":{"$error":"#N/A"}},{"$f":"VLOOKUP(H6,Results!A$8:$G$60,3,FALSE)","v":{"$error":"#N/A"}},{"$f":"VLOOKUP(H6,Results!$A$8:$G$60,2,FALSE)","v":{"$error":"#N/A"}},{"$f":"VLOOKUP(H6,Results!$A$8:$G$60,4,FALSE)","v":{"$error":"#N/A"}},{"$f":"VLOOKUP(H6,Results!$A$8:$G$60,7,FALSE)","v":{"$error":"#N/A"}},{"$f":"VLOOKUP(H6,$B$4:B6,1,FALSE)","v":{"$error":"#N/A"}}]
[null,{"$f":"Results!A10","v":0},{"$f":"Results!C10","v":0},{"$f":"Results!B10","v":0},{"$f":"Results!D10","v":0},{"$f":"Results!G10","v":""},"- vs -",{"$f":"VLOOKUP(B7,Results!$A$8:$AG$60,30,FALSE)","v":{"$error":"#N/A"}},{"$f":"VLOOKUP(H7,Results!A$8:$G$60,3,FALSE)","v":{"$error":"#N/A"}},{"$f":"VLOOKUP(H7,Results!$A$8:$G$60,2,FALSE)","v":{"$error":"#N/A"}},{"$f":"VLOOKUP(H7,Results!$A$8:$G$60,4,FALSE)","v":{"$error":"#N/A"}},{"$f":"VLOOKUP(H7,Results!$A$8:$G$60,7,FALSE)","v":{"$error":"#N/A"}},{"$f":"VLOOKUP(H7,$B$4:B7,1,FALSE)","v":{"$error":"#N/A"}}]
[null,{"$f":"Results!A11","v":0},{"$f":"Results!C11","v":0},{"$f":"Results!B11","v":0},{"$f":"Results!D11","v":0},{"$f":"Results!G11","v":""},"- vs -",{"$f":"VLOOKUP(B8,Results!$A$8:$AG$60,30,FALSE)","v":{"$error":"#N/A"}},{"$f":"VLOOKUP(H8,Results!A$8:$G$60,3,FALSE)","v":{"$error":"#N/A"}},{"$f":"VLOOKUP(H8,Results!$A$8:$G$60,2,FALSE)","v":{"$error":"#N/A"}},{"$f":"VLOOKUP(H8,Results!$A$8:$G$60,4,FALSE)","v":{"$error":"#N/A"}},{"$f":"VLOOKUP(H8,Results!$A$8:$G$60,7,FALSE)","v":{"$error":"#N/A"}},{"$f":"VLOOKUP(H8,$B$4:B8,1,FALSE)","v":{"$error":"#N/A"}}]
[null,{"$f":"Results!A12","v":0},{"$f":"Results!C12","v":0},{"$f":"Results!B12","v":0},{"$f":"Results!D12","v":0},{"$f":"Results!G12","v":""},"- vs -",{"$f":"VLOOKUP(B9,Results!$A$8:$AG$60,30,FALSE)","v":{"$error":"#N/A"}},{"$f":"VLOOKUP(H9,Results!A$8:$G$60,3,FALSE)","v":{"$error":"#N/A"}},{"$f":"VLOOKUP(H9,Results!$A$8:$G$60,2,FALSE)","v":{"$error":"#N/A"}},{"$f":"VLOOKUP(H9,Results!$A$8:$G$60,4,FALSE)","v":{"$error":"#N/A"}},{"$f":"VLOOKUP(H9,Results!$A$8:$G$60,7,FALSE)","v":{"$error":"#N/A"}},{"$f":"VLOOKUP(H9,$B$4:B9,1,FALSE)","v":{"$error":"#N/A"}}]
[null,{"$f":"Results!A13","v":0},{"$f":"Results!C13","v":0},{"$f":"Results!B13","v":0},{"$f":"Results!D13","v":0},{"$f":"Results!G13","v":""},"- vs -",{"$f":"VLOOKUP(B10,Results!$A$8:$AG$60,30,FALSE)","v":{"$error":"#N/A"}},{"$f":"VLOOKUP(H10,Results!A$8:$G$60,3,FALSE)","v":{"$error":"#N/A"}},{"$f":"VLOOKUP(H10,Results!$A$8:$G$60,2,FALSE)","v":{"$error":"#N/A"}},{"$f":"VLOOKUP(H10,Results!$A$8:$G$60,4,FALSE)","v":{"$error":"#N/A"}},{"$f":"VLOOKUP(H10,Results!$A$8:$G$60,7,FALSE)","v":{"$error":"#N/A"}},{"$f":"VLOOKUP(H10,$B$4:B10,1,FALSE)","v":{"$error":"#N/A"}}]
[null,{"$f":"Results!A14","v":0},{"$f":"Results!C14","v":0},{"$f":"Results!B14","v":0},{"$f":"Results!D14","v":0},{"$f":"Results!G14","v":""},"- vs -",{"$f":"VLOOKUP(B11,Results!$A$8:$AG$60,30,FALSE)","v":{"$error":"#N/A"}},{"$f":"VLOOKUP(H11,Results!A$8:$G$60,3,FALSE)","v":{"$error":"#N/A"}},{"$f":"VLOOKUP(H11,Results!$A$8:$G$60,2,FALSE)","v":{"$error":"#N/A"}},{"$f":"VLOOKUP(H11,Results!$A$8:$G$60,4,FALSE)","v":{"$error":"#N/A"}},{"$f":"VLOOKUP(H11,Results!$A$8:$G$60,7,FALSE)","v":{"$error":"#N/A"}},{"$f":"VLOOKUP(H11,$B$4:B11,1,FALSE)","v":{"$error":"#N/A"}}]
[null,{"$f":"Results!A15","v":0},{"$f":"Results!C15","v":0},{"$f":"Results!B15","v":0},{"$f":"Results!D15","v":0},{"$f":"Results!G15","v":""},"- vs -",{"$f":"VLOOKUP(B12,Results!$A$8:$AG$60,30,FALSE)","v":{"$error":"#N/A"}},{"$f":"VLOOKUP(H12,Results!A$8:$G$60,3,FALSE)","v":{"$error":"#N/A"}},{"$f":"VLOOKUP(H12,Results!$A$8:$G$60,2,FALSE)","v":{"$error":"#N/A"}},{"$f":"VLOOKUP(H12,Results!$A$8:$G$60,4,FALSE)","v":{"$error":"#N/A"}},{"$f":"VLOOKUP(H12,Results!$A$8:$G$60,7,FALSE)","v":{"$error":"#N/A"}},{"$f":"VLOOKUP(H12,$B$4:B12,1,FALSE)","v":{"$error":"#N/A"}}]
[null,{"$f":"Results!A16","v":0},{"$f":"Results!C16","v":0},{"$f":"Results!B16","v":0},{"$f":"Results!D16","v":0},{"$f":"Results!G16","v":""},"- vs -",{"$f":"VLOOKUP(B13,Results!$A$8:$AG$60,30,FALSE)","v":{"$error":"#N/A"}},{"$f":"VLOOKUP(H13,Results!A$8:$G$60,3,FALSE)","v":{"$error":"#N/A"}},{"$f":"VLOOKUP(H13,Results!$A$8:$G$60,2,FALSE)","v":{"$error":"#N/A"}},{"$f":"VLOOKUP(H13,Results!$A$8:$G$60,4,FALSE)","v":{"$error":"#N/A"}},{"$f":"VLOOKUP(H13,Results!$A$8:$G$60,7,FALSE)","v":{"$error":"#N/A"}},{"$f":"VLOOKUP(H13,$B$4:B13,1,FALSE)","v":{"$error":"#N/A"}}]
[null,{"$f":"Results!A17","v":0},{"$f":"Results!C17","v":0},{"$f":"Results!B17","v":0},{"$f":"Results!D17","v":0},{"$f":"Results!G17","v":""},"- vs -",{"$f":"VLOOKUP(B14,Results!$A$8:$AG$60,30,FALSE)","v":{"$error":"#N/A"}},{"$f":"VLOOKUP(H14,Results!A$8:$G$60,3,FALSE)","v":{"$error":"#N/A"}},{"$f":"VLOOKUP(H14,Results!$A$8:$G$60,2,FALSE)","v":{"$error":"#N/A"}},{"$f":"VLOOKUP(H14,Results!$A$8:$G$60,4,FALSE)","v":{"$error":"#N/A"}},{"$f":"VLOOKUP(H14,Results!$A$8:$G$60,7,FALSE)","v":{"$error":"#N/A"}},{"$f":"VLOOKUP(H14,$B$4:B14,1,FALSE)","v":{"$error":"#N/A"}}]
[null,{"$f":"Results!A18","v":0},{"$f":"Results!C18","v":0},{"$f":"Results!B18","v":0},{"$f":"Results!D18","v":0},{"$f":"Results!G18","v":""},"- vs -",{"$f":"VLOOKUP(B15,Results!$A$8:$AG$60,30,FALSE)","v":{"$error":"#N/A"}},{"$f":"VLOOKUP(H15,Results!A$8:$G$60,3,FALSE)","v":{"$error":"#N/A"}},{"$f":"VLOOKUP(H15,Results!$A$8:$G$60,2,FALSE)","v":{"$error":"#N/A"}},{"$f":"VLOOKUP(H15,Results!$A$8:$G$60,4,FALSE)","v":{"$error":"#N/A"}},{"$f":"VLOOKUP(H15,Results!$A$8:$G$60,7,FALSE)","v":{"$error":"#N/A"}},{"$f":"VLOOKUP(H15,$B$4:B15,1,FALSE)","v":{"$error":"#N/A"}}]
[null,{"$f":"Results!A19","v":0},{"$f":"Results!C19","v":0},{"$f":"Results!B19","v":0},{"$f":"Results!D19","v":0},{"$f":"Results!G19","v":""},"- vs -",{"$f":"VLOOKUP(B16,Results!$A$8:$AG$60,30,FALSE)","v":{"$error":"#N/A"}},{"$f":"VLOOKUP(H16,Results!A$8:$G$60,3,FALSE)","v":{"$error":"#N/A"}},{"$f":"VLOOKUP(H16,Results!$A$8:$G$60,2,FALSE)","v":{"$error":"#N/A"}},{"$f":"VLOOKUP(H16,Results!$A$8:$G$60,4,FALSE)","v":{"$error":"#N/A"}},{"$f":"VLOOKUP(H16,Results!$A$8:$G$60,7,FALSE)","v":{"$error":"#N/A"}},{"$f":"VLOOKUP(H16,$B$4:B16,1,FALSE)","v":{"$error":"#N/A"}}]
[null,{"$f":"Results!A20","v":0},{"$f":"Results!C20","v":0},{"$f":"Results!B20","v":0},{"$f":"Results!D20","v":0},{"$f":"Results!G20","v":""},"- vs -",{"$f":"VLOOKUP(B17,Results!$A$8:$AG$60,30,FALSE)","v":{"$error":"#N/A"}},{"$f":"VLOOKUP(H17,Results!A$8:$G$60,3,FALSE)","v":{"$error":"#N/A"}},{"$f":"VLOOKUP(H17,Results!$A$8:$G$60,2,FALSE)","v":{"$error":"#N/A"}},{"$f":"VLOOKUP(H17,Results!$A$8:$G$60,4,FALSE)","v":{"$error":"#N/A"}},{"$f":"VLOOKUP(H17,Results!$A$8:$G$60,7,FALSE)","v":{"$error":"#N/A"}},{"$f":"VLOOKUP(H17,$B$4:B17,1,FALSE)","v":{"$error":"#N/A"}}]
[null,{"$f":"Results!A21","v":0},{"$f":"Results!C21","v":0},{"$f":"Results!B21","v":0},{"$f":"Results!D21","v":0},{"$f":"Results!G21","v":""},"- vs -",{"$f":"VLOOKUP(B18,Results!$A$8:$AG$60,30,FALSE)","v":{"$error":"#N/A"}},{"$f":"VLOOKUP(H18,Results!A$8:$G$60,3,FALSE)","v":{"$error":"#N/A"}},{"$f":"VLOOKUP(H18,Results!$A$8:$G$60,2,FALSE)","v":{"$error":"#N/A"}},{"$f":"VLOOKUP(H18,Results!$A$8:$G$60,4,FALSE)","v":{"$error":"#N/A"}},{"$f":"VLOOKUP(H18,Results!$A$8:$G$60,7,FALSE)","v":{"$error":"#N/A"}},{"$f":"VLOOKUP(H18,$B$4:B18,1,FALSE)","v":{"$error":"#N/A"}}]
[null,{"$f":"Results!A22","v":0},{"$f":"Results!C22","v":0},{"$f":"Results!B22","v":0},{"$f":"Results!D22","v":0},{"$f":"Results!G22","v":""},"- vs -",{"$f":"VLOOKUP(B19,Results!$A$8:$AG$60,30,FALSE)","v":{"$error":"#N/A"}},{"$f":"VLOOKUP(H19,Results!A$8:$G$60,3,FALSE)","v":{"$error":"#N/A"}},{"$f":"VLOOKUP(H19,Results!$A$8:$G$60,2,FALSE)","v":{"$error":"#N/A"}},{"$f":"VLOOKUP(H19,Results!$A$8:$G$60,4,FALSE)","v":{"$error":"#N/A"}},{"$f":"VLOOKUP(H19,Results!$A$8:$G$60,7,FALSE)","v":{"$error":"#N/A"}},{"$f":"VLOOKUP(H19,$B$4:B19,1,FALSE)","v":{"$error":"#N/A"}}]
[null,{"$f":"Results!A23","v":0},{"$f":"Results!C23","v":0},{"$f":"Results!B23","v":0},{"$f":"Results!D23","v":0},{"$f":"Results!G23","v":""},"- vs -",{"$f":"VLOOKUP(B20,Results!$A$8:$AG$60,30,FALSE)","v":{"$error":"#N/A"}},{"$f":"VLOOKUP(H20,Results!A$8:$G$60,3,FALSE)","v":{"$error":"#N/A"}},{"$f":"VLOOKUP(H20,Results!$A$8:$G$60,2,FALSE)","v":{"$error":"#N/A"}},{"$f":"VLOOKUP(H20,Results!$A$8:$G$60,4,FALSE)","v":{"$error":"#N/A"}},{"$f":"VLOOKUP(H20,Results!$A$8:$G$60,7,FALSE)","v":{"$error":"#N/A"}},{"$f":"VLOOKUP(H20,$B$4:B20,1,FALSE)","v":{"$error":"#N/A"}}]
[null,{"$f":"Results!A24","v":0},{"$f":"Results!C24","v":0},{"$f":"Results!B24","v":0},{"$f":"Results!D24","v":0},{"$f":"Results!G24","v":""},"- vs -",{"$f":"VLOOKUP(B21,Results!$A$8:$AG$60,30,FALSE)","v":{"$error":"#N/A"}},{"$f":"VLOOKUP(H21,Results!A$8:$G$60,3,FALSE)","v":{"$error":"#N/A"}},{"$f":"VLOOKUP(H21,Results!$A$8:$G$60,2,FALSE)","v":{"$error":"#N/A"}},{"$f":"VLOOKUP(H21,Results!$A$8:$G$60,4,FALSE)","v":{"$error":"#N/A"}},{"$f":"VLOOKUP(H21,Results!$A$8:$G$60,7,FALSE)","v":{"$error":"#N/A"}},{"$f":"VLOOKUP(H21,$B$4:B21,1,FALSE)","v":{"$error":"#N/A"}}]
[null,{"$f":"Results!A25","v":0},{"$f":"Results!C25","v":0},{"$f":"Results!B25","v":0},{"$f":"Results!D25","v":0},{"$f":"Results!G25","v":""},"- vs -",{"$f":"VLOOKUP(B22,Results!$A$8:$AG$60,30,FALSE)","v":{"$error":"#N/A"}},{"$f":"VLOOKUP(H22,Results!A$8:$G$60,3,FALSE)","v":{"$error":"#N/A"}},{"$f":"VLOOKUP(H22,Results!$A$8:$G$60,2,FALSE)","v":{"$error":"#N/A"}},{"$f":"VLOOKUP(H22,Results!$A$8:$G$60,4,FALSE)","v":{"$error":"#N/A"}},{"$f":"VLOOKUP(H22,Results!$A$8:$G$60,7,FALSE)","v":{"$error":"#N/A"}},{"$f":"VLOOKUP(H22,$B$4:B22,1,FALSE)","v":{"$error":"#N/A"}}]
[null,{"$f":"Results!A26","v":0},{"$f":"Results!C26","v":0},{"$f":"Results!B26","v":0},{"$f":"Results!D26","v":0},{"$f":"Results!G26","v":""},"- vs -",{"$f":"VLOOKUP(B23,Results!$A$8:$AG$60,30,FALSE)","v":{"$error":"#N/A"}},{"$f":"VLOOKUP(H23,Results!A$8:$G$60,3,FALSE)","v":{"$error":"#N/A"}},{"$f":"VLOOKUP(H23,Results!$A$8:$G$60,2,FALSE)","v":{"$error":"#N/A"}},{"$f":"VLOOKUP(H23,Results!$A$8:$G$60,4,FALSE)","v":{"$error":"#N/A"}},{"$f":"VLOOKUP(H23,Results!$A$8:$G$60,7,FALSE)","v":{"$error":"#N/A"}},{"$f":"VLOOKUP(H23,$B$4:B23,1,FALSE)","v":{"$error":"#N/A"}}]
[null,{"$f":"Results!A27","v":0},{"$f":"Results!C27","v":0},{"$f":"Results!B27","v":0},{"$f":"Results!D27","v":0},{"$f":"Results!G27","v":""},"- vs -",{"$f":"VLOOKUP(B24,Results!$A$8:$AG$60,30,FALSE)","v":{"$error":"#N/A"}},{"$f":"VLOOKUP(H24,Results!A$8:$G$60,3,FALSE)","v":{"$error":"#N/A"}},{"$f":"VLOOKUP(H24,Results!$A$8:$G$60,2,FALSE)","v":{"$error":"#N/A"}},{"$f":"VLOOKUP(H24,Results!$A$8:$G$60,4,FALSE)","v":{"$error":"#N/A"}},{"$f":"VLOOKUP(H24,Results!$A$8:$G$60,7,FALSE)","v":{"$error":"#N/A"}},{"$f":"VLOOKUP(H24,$B$4:B24,1,FALSE)","v":{"$error":"#N/A"}}]
[null,{"$f":"Results!A28","v":0},{"$f":"Results!C28","v":0},{"$f":"Results!B28","v":0},{"$f":"Results!D28","v":0},{"$f":"Results!G28","v":""},"- vs -",{"$f":"VLOOKUP(B25,Results!$A$8:$AG$60,30,FALSE)","v":{"$error":"#N/A"}},{"$f":"VLOOKUP(H25,Results!A$8:$G$60,3,FALSE)","v":{"$error":"#N/A"}},{"$f":"VLOOKUP(H25,Results!$A$8:$G$60,2,FALSE)","v":{"$error":"#N/A"}},{"$f":"VLOOKUP(H25,Results!$A$8:$G$60,4,FALSE)","v":{"$error":"#N/A"}},{"$f":"VLOOKUP(H25,Results!$A$8:$G$60,7,FALSE)","v":{"$error":"#N/A"}},{"$f":"VLOOKUP(H25,$B$4:B25,1,FALSE)","v":{"$error":"#N/A"}}]
[null,{"$f":"Results!A29","v":0},{"$f":"Results!C29","v":0},{"$f":"Results!B29","v":0},{"$f":"Results!D29","v":0},{"$f":"Results!G29","v":""},"- vs -",{"$f":"VLOOKUP(B26,Results!$A$8:$AG$60,30,FALSE)","v":{"$error":"#N/A"}},{"$f":"VLOOKUP(H26,Results!A$8:$G$60,3,FALSE)","v":{"$error":"#N/A"}},{"$f":"VLOOKUP(H26,Results!$A$8:$G$60,2,FALSE)","v":{"$error":"#N/A"}},{"$f":"VLOOKUP(H26,Results!$A$8:$G$60,4,FALSE)","v":{"$error":"#N/A"}},{"$f":"VLOOKUP(H26,Results!$A$8:$G$60,7,FALSE)","v":{"$error":"#N/A"}},{"$f":"VLOOKUP(H26,$B$4:B26,1,FALSE)","v":{"$error":"#N/A"}}]
[null,{"$f":"Results!A30","v":0},{"$f":"Results!C30","v":0},{"$f":"Results!B30","v":0},{"$f":"Results!D30","v":0},{"$f":"Results!G30","v":""},"- vs -",{"$f":"VLOOKUP(B27,Results!$A$8:$AG$60,30,FALSE)","v":{"$error":"#N/A"}},{"$f":"VLOOKUP(H27,Results!A$8:$G$60,3,FALSE)","v":{"$error":"#N/A"}},{"$f":"VLOOKUP(H27,Results!$A$8:$G$60,2,FALSE)","v":{"$error":"#N/A"}},{"$f":"VLOOKUP(H27,Results!$A$8:$G$60,4,FALSE)","v":{"$error":"#N/A"}},{"$f":"VLOOKUP(H27,Results!$A$8:$G$60,7,FALSE)","v":{"$error":"#N/A"}},{"$f":"VLOOKUP(H27,$B$4:B27,1,FALSE)","v":{"$error":"#N/A"}}]
[null,{"$f":"Results!A31","v":0},{"$f":"Results!C31","v":0},{"$f":"Results!B31","v":0},{"$f":"Results!D31","v":0},{"$f":"Results!G31","v":""},"- vs -",{"$f":"VLOOKUP(B28,Results!$A$8:$AG$60,30,FALSE)","v":{"$error":"#N/A"}},{"$f":"VLOOKUP(H28,Results!A$8:$G$60,3,FALSE)","v":{"$error":"#N/A"}},{"$f":"VLOOKUP(H28,Results!$A$8:$G$60,2,FALSE)","v":{"$error":"#N/A"}},{"$f":"VLOOKUP(H28,Results!$A$8:$G$60,4,FALSE)","v":{"$error":"#N/A"}},{"$f":"VLOOKUP(H28,Results!$A$8:$G$60,7,FALSE)","v":{"$error":"#N/A"}},{"$f":"VLOOKUP(H28,$B$4:B28,1,FALSE)","v":{"$error":"#N/A"}}]
[null,{"$f":"Results!A32","v":0},{"$f":"Results!C32","v":0},{"$f":"Results!B32","v":0},{"$f":"Results!D32","v":0},{"$f":"Results!G32","v":""},"- vs -",{"$f":"VLOOKUP(B29,Results!$A$8:$AG$60,30,FALSE)","v":{"$error":"#N/A"}},{"$f":"VLOOKUP(H29,Results!A$8:$G$60,3,FALSE)","v":{"$error":"#N/A"}},{"$f":"VLOOKUP(H29,Results!$A$8:$G$60,2,FALSE)","v":{"$error":"#N/A"}},{"$f":"VLOOKUP(H29,Results!$A$8:$G$60,4,FALSE)","v":{"$error":"#N/A"}},{"$f":"VLOOKUP(H29,Results!$A$8:$G$60,7,FALSE)","v":{"$error":"#N/A"}},{"$f":"VLOOKUP(H29,$B$4:B29,1,FALSE)","v":{"$error":"#N/A"}}]
[null,{"$f":"Results!A33","v":0},{"$f":"Results!C33","v":0},{"$f":"Results!B33","v":0},{"$f":"Results!D33","v":0},{"$f":"Results!G33","v":""},"- vs -",{"$f":"VLOOKUP(B30,Results!$A$8:$AG$60,30,FALSE)","v":{"$error":"#N/A"}},{"$f":"VLOOKUP(H30,Results!A$8:$G$60,3,FALSE)","v":{"$error":"#N/A"}},{"$f":"VLOOKUP(H30,Results!$A$8:$G$60,2,FALSE)","v":{"$error":"#N/A"}},{"$f":"VLOOKUP(H30,Results!$A$8:$G$60,4,FALSE)","v":{"$error":"#N/A"}},{"$f":"VLOOKUP(H30,Results!$A$8:$G$60,7,FALSE)","v":{"$error":"#N/A"}},{"$f":"VLOOKUP(H30,$B$4:B30,1,FALSE)","v":{"$error":"#N/A"}}]
[null,{"$f":"Results!A34","v":0},{"$f":"Results!C34","v":0},{"$f":"Results!B34","v":0},{"$f":"Results!D34","v":0},{"$f":"Results!G34","v":""},"- vs -",{"$f":"VLOOKUP(B31,Results!$A$8:$AG$60,30,FALSE)","v":{"$error":"#N/A"}},{"$f":"VLOOKUP(H31,Results!A$8:$G$60,3,FALSE)","v":{"$error":"#N/A"}},{"$f":"VLOOKUP(H31,Results!$A$8:$G$60,2,FALSE)","v":{"$error":"#N/A"}},{"$f":"VLOOKUP(H31,Results!$A$8:$G$60,4,FALSE)","v":{"$error":"#N/A"}},{"$f":"VLOOKUP(H31,Results!$A$8:$G$60,7,FALSE)","v":{"$error":"#N/A"}},{"$f":"VLOOKUP(H31,$B$4:B31,1,FALSE)","v":{"$error":"#N/A"}}]
[null,{"$f":"Results!A35","v":0},{"$f":"Results!C35","v":0},{"$f":"Results!B35","v":0},{"$f":"Results!D35","v":0},{"$f":"Results!G35","v":""},"- vs -",{"$f":"VLOOKUP(B32,Results!$A$8:$AG$60,30,FALSE)","v":{"$error":"#N/A"}},{"$f":"VLOOKUP(H32,Results!A$8:$G$60,3,FALSE)","v":{"$error":"#N/A"}},{"$f":"VLOOKUP(H32,Results!$A$8:$G$60,2,FALSE)","v":{"$error":"#N/A"}},{"$f":"VLOOKUP(H32,Results!$A$8:$G$60,4,FALSE)","v":{"$error":"#N/A"}},{"$f":"VLOOKUP(H32,Results!$A$8:$G$60,7,FALSE)","v":{"$error":"#N/A"}},{"$f":"VLOOKUP(H32,$B$4:B32,1,FALSE)","v":{"$error":"#N/A"}}]
[null,{"$f":"Results!A36","v":0},{"$f":"Results!C36","v":0},{"$f":"Results!B36","v":0},{"$f":"Results!D36","v":0},{"$f":"Results!G36","v":""},"- vs -",{"$f":"VLOOKUP(B33,Results!$A$8:$AG$60,30,FALSE)","v":{"$error":"#N/A"}},{"$f":"VLOOKUP(H33,Results!A$8:$G$60,3,FALSE)","v":{"$error":"#N/A"}},{"$f":"VLOOKUP(H33,Results!$A$8:$G$60,2,FALSE)","v":{"$error":"#N/A"}},{"$f":"VLOOKUP(H33,Results!$A$8:$G$60,4,FALSE)","v":{"$error":"#N/A"}},{"$f":"VLOOKUP(H33,Results!$A$8:$G$60,7,FALSE)","v":{"$error":"#N/A"}},{"$f":"VLOOKUP(H33,$B$4:B33,1,FALSE)","v":{"$error":"#N/A"}}]
[null,{"$f":"Results!A37","v":0},{"$f":"Results!C37","v":0},{"$f":"Results!B37","v":0},{"$f":"Results!D37","v":0},{"$f":"Results!G37","v":""},"- vs -",{"$f":"VLOOKUP(B34,Results!$A$8:$AG$60,30,FALSE)","v":{"$error":"#N/A"}},{"$f":"VLOOKUP(H34,Results!A$8:$G$60,3,FALSE)","v":{"$error":"#N/A"}},{"$f":"VLOOKUP(H34,Results!$A$8:$G$60,2,FALSE)","v":{"$error":"#N/A"}},{"$f":"VLOOKUP(H34,Results!$A$8:$G$60,4,FALSE)","v":{"$error":"#N/A"}},{"$f":"VLOOKUP(H34,Results!$A$8:$G$60,7,FALSE)","v":{"$error":"#N/A"}},{"$f":"VLOOKUP(H34,$B$4:B34,1,FALSE)","v":{"$error":"#N/A"}}]
[null,{"$f":"Results!A38","v":0},{"$f":"Results!C38","v":0},{"$f":"Results!B38","v":0},{"$f":"Results!D38","v":0},{"$f":"Results!G38","v":""},"- vs -",{"$f":"VLOOKUP(B35,Results!$A$8:$AG$60,30,FALSE)","v":{"$error":"#N/A"}},{"$f":"VLOOKUP(H35,Results!A$8:$G$60,3,FALSE)","v":{"$error":"#N/A"}},{"$f":"VLOOKUP(H35,Results!$A$8:$G$60,2,FALSE)","v":{"$error":"#N/A"}},{"$f":"VLOOKUP(H35,Results!$A$8:$G$60,4,FALSE)","v":{"$error":"#N/A"}},{"$f":"VLOOKUP(H35,Results!$A$8:$G$60,7,FALSE)","v":{"$error":"#N/A"}},{"$f":"VLOOKUP(H35,$B$4:B35,1,FALSE)","v":{"$error":"#N/A"}}]
[null,{"$f":"Results!A39","v":0},{"$f":"Results!C39","v":0},{"$f":"Results!B39","v":0},{"$f":"Results!D39","v":0},{"$f":"Results!G39","v":""},"- vs -",{"$f":"VLOOKUP(B36,Results!$A$8:$AG$60,30,FALSE)","v":{"$error":"#N/A"}},{"$f":"VLOOKUP(H36,Results!A$8:$G$60,3,FALSE)","v":{"$error":"#N/A"}},{"$f":"VLOOKUP(H36,Results!$A$8:$G$60,2,FALSE)","v":{"$error":"#N/A"}},{"$f":"VLOOKUP(H36,Results!$A$8:$G$60,4,FALSE)","v":{"$error":"#N/A"}},{"$f":"VLOOKUP(H36,Results!$A$8:$G$60,7,FALSE)","v":{"$error":"#N/A"}},{"$f":"VLOOKUP(H36,$B$4:B36,1,FALSE)","v":{"$error":"#N/A"}}]
[null,{"$f":"Results!A40","v":0},{"$f":"Results!C40","v":0},{"$f":"Results!B40","v":0},{"$f":"Results!D40","v":0},{"$f":"Results!G40","v":""},"- vs -",{"$f":"VLOOKUP(B37,Results!$A$8:$AG$60,30,FALSE)","v":{"$error":"#N/A"}},{"$f":"VLOOKUP(H37,Results!A$8:$G$60,3,FALSE)","v":{"$error":"#N/A"}},{"$f":"VLOOKUP(H37,Results!$A$8:$G$60,2,FALSE)","v":{"$error":"#N/A"}},{"$f":"VLOOKUP(H37,Results!$A$8:$G$60,4,FALSE)","v":{"$error":"#N/A"}},{"$f":"VLOOKUP(H37,Results!$A$8:$G$60,7,FALSE)","v":{"$error":"#N/A"}},{"$f":"VLOOKUP(H37,$B$4:B37,1,FALSE)","v":{"$error":"#N/A"}}]
[null,{"$f":"Results!A41","v":0},{"$f":"Results!C41","v":0},{"$f":"Results!B41","v":0},{"$f":"Results!D41","v":0},{"$f":"Results!G41","v":""},"- vs -",{"$f":"VLOOKUP(B38,Results!$A$8:$AG$60,30,FALSE)","v":{"$error":"#N/A"}},{"$f":"VLOOKUP(H38,Results!A$8:$G$60,3,FALSE)","v":{"$error":"#N/A"}},{"$f":"VLOOKUP(H38,Results!$A$8:$G$60,2,FALSE)","v":{"$error":"#N/A"}},{"$f":"VLOOKUP(H38,Results!$A$8:$G$60,4,FALSE)","v":{"$error":"#N/A"}},{"$f":"VLOOKUP(H38,Results!$A$8:$G$60,7,FALSE)","v":{"$error":"#N/A"}},{"$f":"VLOOKUP(H38,$B$4:B38,1,FALSE)","v":{"$error":"#N/A"}}]
[null,{"$f":"Results!A42","v":0},{"$f":"Results!C42","v":0},{"$f":"Results!B42","v":0},{"$f":"Results!D42","v":0},{"$f":"Results!G42","v":""},"- vs -",{"$f":"VLOOKUP(B39,Results!$A$8:$AG$60,30,FALSE)","v":{"$error":"#N/A"}},{"$f":"VLOOKUP(H39,Results!A$8:$G$60,3,FALSE)","v":{"$error":"#N/A"}},{"$f":"VLOOKUP(H39,Results!$A$8:$G$60,2,FALSE)","v":{"$error":"#N/A"}},{"$f":"VLOOKUP(H39,Results!$A$8:$G$60,4,FALSE)","v":{"$error":"#N/A"}},{"$f":"VLOOKUP(H39,Results!$A$8:$G$60,7,FALSE)","v":{"$error":"#N/A"}},{"$f":"VLOOKUP(H39,$B$4:B39,1,FALSE)","v":{"$error":"#N/A"}}]
[null,{"$f":"Results!A43","v":0},{"$f":"Results!C43","v":0},{"$f":"Results!B43","v":0},{"$f":"Results!D43","v":0},{"$f":"Results!G43","v":""},"- vs -",{"$f":"VLOOKUP(B40,Results!$A$8:$AG$60,30,FALSE)","v":{"$error":"#N/A"}},{"$f":"VLOOKUP(H40,Results!A$8:$G$60,3,FALSE)","v":{"$error":"#N/A"}},{"$f":"VLOOKUP(H40,Results!$A$8:$G$60,2,FALSE)","v":{"$error":"#N/A"}},{"$f":"VLOOKUP(H40,Results!$A$8:$G$60,4,FALSE)","v":{"$error":"#N/A"}},{"$f":"VLOOKUP(H40,Results!$A$8:$G$60,7,FALSE)","v":{"$error":"#N/A"}},{"$f":"VLOOKUP(H40,$B$4:B40,1,FALSE)","v":{"$error":"#N/A"}}]
[null,{"$f":"Results!A44","v":0},{"$f":"Results!C44","v":0},{"$f":"Results!B44","v":0},{"$f":"Results!D44","v":0},{"$f":"Results!G44","v":""},"- vs -",{"$f":"VLOOKUP(B41,Results!$A$8:$AG$60,30,FALSE)","v":{"$error":"#N/A"}},{"$f":"VLOOKUP(H41,Results!A$8:$G$60,3,FALSE)","v":{"$error":"#N/A"}},{"$f":"VLOOKUP(H41,Results!$A$8:$G$60,2,FALSE)","v":{"$error":"#N/A"}},{"$f":"VLOOKUP(H41,Results!$A$8:$G$60,4,FALSE)","v":{"$error":"#N/A"}},{"$f":"VLOOKUP(H41,Results!$A$8:$G$60,7,FALSE)","v":{"$error":"#N/A"}},{"$f":"VLOOKUP(H41,$B$4:B41,1,FALSE)","v":{"$error":"#N/A"}}]
[null,{"$f":"Results!A45","v":0},{"$f":"Results!C45","v":0},{"$f":"Results!B45","v":0},{"$f":"Results!D45","v":0},{"$f":"Results!G45","v":""},"- vs -",{"$f":"VLOOKUP(B42,Results!$A$8:$AG$60,30,FALSE)","v":{"$error":"#N/A"}},{"$f":"VLOOKUP(H42,Results!A$8:$G$60,3,FALSE)","v":{"$error":"#N/A"}},{"$f":"VLOOKUP(H42,Results!$A$8:$G$60,2,FALSE)","v":{"$error":"#N/A"}},{"$f":"VLOOKUP(H42,Results!$A$8:$G$60,4,FALSE)","v":{"$error":"#N/A"}},{"$f":"VLOOKUP(H42,Results!$A$8:$G$60,7,FALSE)","v":{"$error":"#N/A"}},{"$f":"VLOOKUP(H42,$B$4:B42,1,FALSE)","v":{"$error":"#N/A"}}]
[null,{"$f":"Results!A46","v":0},{"$f":"Results!C46","v":0},{"$f":"Results!B46","v":0},{"$f":"Results!D46","v":0},{"$f":"Results!G46","v":""},"- vs -",{"$f":"VLOOKUP(B43,Results!$A$8:$AG$60,30,FALSE)","v":{"$error":"#N/A"}},{"$f":"VLOOKUP(H43,Results!A$8:$G$60,3,FALSE)","v":{"$error":"#N/A"}},{"$f":"VLOOKUP(H43,Results!$A$8:$G$60,2,FALSE)","v":{"$error":"#N/A"}},{"$f":"VLOOKUP(H43,Results!$A$8:$G$60,4,FALSE)","v":{"$error":"#N/A"}},{"$f":"VLOOKUP(H43,Results!$A$8:$G$60,7,FALSE)","v":{"$error":"#N/A"}},{"$f":"VLOOKUP(H43,$B$4:B43,1,FALSE)","v":{"$error":"#N/A"}}]
[null,{"$f":"Results!A47","v":0},{"$f":"Results!C47","v":0},{"$f":"Results!B47","v":0},{"$f":"Results!D47","v":0},{"$f":"Results!G47","v":""},"- vs -",{"$f":"VLOOKUP(B44,Results!$A$8:$AG$60,30,FALSE)","v":{"$error":"#N/A"}},{"$f":"VLOOKUP(H44,Results!A$8:$G$60,3,FALSE)","v":{"$error":"#N/A"}},{"$f":"VLOOKUP(H44,Results!$A$8:$G$60,2,FALSE)","v":{"$error":"#N/A"}},{"$f":"VLOOKUP(H44,Results!$A$8:$G$60,4,FALSE)","v":{"$error":"#N/A"}},{"$f":"VLOOKUP(H44,Results!$A$8:$G$60,7,FALSE)","v":{"$error":"#N/A"}},{"$f":"VLOOKUP(H44,$B$4:B44,1,FALSE)","v":{"$error":"#N/A"}}]
[null,{"$f":"Results!A48","v":0},{"$f":"Results!C48","v":0},{"$f":"Results!B48","v":0},{"$f":"Results!D48","v":0},{"$f":"Results!G48","v":""},"- vs -",{"$f":"VLOOKUP(B45,Results!$A$8:$AG$60,30,FALSE)","v":{"$error":"#N/A"}},{"$f":"VLOOKUP(H45,Results!A$8:$G$60,3,FALSE)","v":{"$error":"#N/A"}},{"$f":"VLOOKUP(H45,Results!$A$8:$G$60,2,FALSE)","v":{"$error":"#N/A"}},{"$f":"VLOOKUP(H45,Results!$A$8:$G$60,4,FALSE)","v":{"$error":"#N/A"}},{"$f":"VLOOKUP(H45,Results!$A$8:$G$60,7,FALSE)","v":{"$error":"#N/A"}},{"$f":"VLOOKUP(H45,$B$4:B45,1,FALSE)","v":{"$error":"#N/A"}}]
[null,{"$f":"Results!A49","v":0},{"$f":"Results!C49","v":0},{"$f":"Results!B49","v":0},{"$f":"Results!D49","v":0},{"$f":"Results!G49","v":""},"- vs -",{"$f":"VLOOKUP(B46,Results!$A$8:$AG$60,30,FALSE)","v":{"$error":"#N/A"}},{"$f":"VLOOKUP(H46,Results!A$8:$G$60,3,FALSE)","v":{"$error":"#N/A"}},{"$f":"VLOOKUP(H46,Results!$A$8:$G$60,2,FALSE)","v":{"$error":"#N/A"}},{"$f":"VLOOKUP(H46,Results!$A$8:$G$60,4,FALSE)","v":{"$error":"#N/A"}},{"$f":"VLOOKUP(H46,Results!$A$8:$G$60,7,FALSE)","v":{"$error":"#N/A"}},{"$f":"VLOOKUP(H46,$B$4:B46,1,FALSE)","v":{"$error":"#N/A"}}]
[null,{"$f":"Results!A50","v":0},{"$f":"Results!C50","v":0},{"$f":"Results!B50","v":0},{"$f":"Results!D50","v":0},{"$f":"Results!G50","v":""},"- vs -",{"$f":"VLOOKUP(B47,Results!$A$8:$AG$60,30,FALSE)","v":{"$error":"#N/A"}},{"$f":"VLOOKUP(H47,Results!A$8:$G$60,3,FALSE)","v":{"$error":"#N/A"}},{"$f":"VLOOKUP(H47,Results!$A$8:$G$60,2,FALSE)","v":{"$error":"#N/A"}},{"$f":"VLOOKUP(H47,Results!$A$8:$G$60,4,FALSE)","v":{"$error":"#N/A"}},{"$f":"VLOOKUP(H47,Results!$A$8:$G$60,7,FALSE)","v":{"$error":"#N/A"}},{"$f":"VLOOKUP(H47,$B$4:B47,1,FALSE)","v":{"$error":"#N/A"}}]
[null,{"$f":"Results!A51","v":0},{"$f":"Results!C51","v":0},{"$f":"Results!B51","v":0},{"$f":"Results!D51","v":0},{"$f":"Results!G51","v":""},"- vs -",{"$f":"VLOOKUP(B48,Results!$A$8:$AG$60,30,FALSE)","v":{"$error":"#N/A"}},{"$f":"VLOOKUP(H48,Results!A$8:$G$60,3,FALSE)","v":{"$error":"#N/A"}},{"$f":"VLOOKUP(H48,Results!$A$8:$G$60,2,FALSE)","v":{"$error":"#N/A"}},{"$f":"VLOOKUP(H48,Results!$A$8:$G$60,4,FALSE)","v":{"$error":"#N/A"}},{"$f":"VLOOKUP(H48,Results!$A$8:$G$60,7,FALSE)","v":{"$error":"#N/A"}},{"$f":"VLOOKUP(H48,$B$4:B48,1,FALSE)","v":{"$error":"#N/A"}}]
[null,{"$f":"Results!A52","v":0},{"$f":"Results!C52","v":0},{"$f":"Results!B52","v":0},{"$f":"Results!D52","v":0},{"$f":"Results!G52","v":""},"- vs -",{"$f":"VLOOKUP(B49,Results!$A$8:$AG$60,30,FALSE)","v":{"$error":"#N/A"}},{"$f":"VLOOKUP(H49,Results!A$8:$G$60,3,FALSE)","v":{"$error":"#N/A"}},{"$f":"VLOOKUP(H49,Results!$A$8:$G$60,2,FALSE)","v":{"$error":"#N/A"}},{"$f":"VLOOKUP(H49,Results!$A$8:$G$60,4,FALSE)","v":{"$error":"#N/A"}},{"$f":"VLOOKUP(H49,Results!$A$8:$G$60,7,FALSE)","v":{"$error":"#N/A"}},{"$f":"VLOOKUP(H49,$B$4:B49,1,FALSE)","v":{"$error":"#N/A"}}]
[null,{"$f":"Results!A53","v":0},{"$f":"Results!C53","v":0},{"$f":"Results!B53","v":0},{"$f":"Results!D53","v":0},{"$f":"Results!G53","v":""},"- vs -",{"$f":"VLOOKUP(B50,Results!$A$8:$AG$60,30,FALSE)","v":{"$error":"#N/A"}},{"$f":"VLOOKUP(H50,Results!A$8:$G$60,3,FALSE)","v":{"$error":"#N/A"}},{"$f":"VLOOKUP(H50,Results!$A$8:$G$60,2,FALSE)","v":{"$error":"#N/A"}},{"$f":"VLOOKUP(H50,Results!$A$8:$G$60,4,FALSE)","v":{"$error":"#N/A"}},{"$f":"VLOOKUP(H50,Results!$A$8:$G$60,7,FALSE)","v":{"$error":"#N/A"}},{"$f":"VLOOKUP(H50,$B$4:B50,1,FALSE)","v":{"$error":"#N/A"}}]
[null,{"$f":"Results!A54","v":0},{"$f":"Results!C54","v":0},{"$f":"Results!B54","v":0},{"$f":"Results!D54","v":0},{"$f":"Results!G54","v":""},"- vs -",{"$f":"VLOOKUP(B51,Results!$A$8:$AG$60,30,FALSE)","v":{"$error":"#N/A"}},{"$f":"VLOOKUP(H51,Results!A$8:$G$60,3,FALSE)","v":{"$error":"#N/A"}},{"$f":"VLOOKUP(H51,Results!$A$8:$G$60,2,FALSE)","v":{"$error":"#N/A"}},{"$f":"VLOOKUP(H51,Results!$A$8:$G$60,4,FALSE)","v":{"$error":"#N/A"}},{"$f":"VLOOKUP(H51,Results!$A$8:$G$60,7,FALSE)","v":{"$error":"#N/A"}},{"$f":"VLOOKUP(H51,$B$4:B51,1,FALSE)","v":{"$error":"#N/A"}}]
[null,{"$f":"Results!A55","v":0},{"$f":"Results!C55","v":0},{"$f":"Results!B55","v":0},{"$f":"Results!D55","v":0},{"$f":"Results!G55","v":""},"- vs -",{"$f":"VLOOKUP(B52,Results!$A$8:$AG$60,30,FALSE)","v":{"$error":"#N/A"}},{"$f":"VLOOKUP(H52,Results!A$8:$G$60,3,FALSE)","v":{"$error":"#N/A"}},{"$f":"VLOOKUP(H52,Results!$A$8:$G$60,2,FALSE)","v":{"$error":"#N/A"}},{"$f":"VLOOKUP(H52,Results!$A$8:$G$60,4,FALSE)","v":{"$error":"#N/A"}},{"$f":"VLOOKUP(H52,Results!$A$8:$G$60,7,FALSE)","v":{"$error":"#N/A"}},{"$f":"VLOOKUP(H52,$B$4:B52,1,FALSE)","v":{"$error":"#N/A"}}]
[null,{"$f":"Results!A56","v":0},{"$f":"Results!C56","v":0},{"$f":"Results!B56","v":0},{"$f":"Results!D56","v":0},{"$f":"Results!G56","v":""},"- vs -",{"$f":"VLOOKUP(B53,Results!$A$8:$AG$60,30,FALSE)","v":{"$error":"#N/A"}},{"$f":"VLOOKUP(H53,Results!A$8:$G$60,3,FALSE)","v":{"$error":"#N/A"}},{"$f":"VLOOKUP(H53,Results!$A$8:$G$60,2,FALSE)","v":{"$error":"#N/A"}},{"$f":"VLOOKUP(H53,Results!$A$8:$G$60,4,FALSE)","v":{"$error":"#N/A"}},{"$f":"VLOOKUP(H53,Results!$A$8:$G$60,7,FALSE)","v":{"$error":"#N/A"}},{"$f":"VLOOKUP(H53,$B$4:B53,1,FALSE)","v":{"$error":"#N/A"}}]
[null,{"$f":"Results!A57","v":0},{"$f":"Results!C57","v":0},{"$f":"Results!B57","v":0},{"$f":"Results!D57","v":0},{"$f":"Results!G57","v":""},"- vs -",{"$f":"VLOOKUP(B54,Results!$A$8:$AG$60,30,FALSE)","v":{"$error":"#N/A"}},{"$f":"VLOOKUP(H54,Results!A$8:$G$60,3,FALSE)","v":{"$error":"#N/A"}},{"$f":"VLOOKUP(H54,Results!$A$8:$G$60,2,FALSE)","v":{"$error":"#N/A"}},{"$f":"VLOOKUP(H54,Results!$A$8:$G$60,4,FALSE)","v":{"$error":"#N/A"}},{"$f":"VLOOKUP(H54,Results!$A$8:$G$60,7,FALSE)","v":{"$error":"#N/A"}},{"$f":"VLOOKUP(H54,$B$4:B54,1,FALSE)","v":{"$error":"#N/A"}}]
[null,{"$f":"Results!A58","v":0},{"$f":"Results!C58","v":0},{"$f":"Results!B58","v":0},{"$f":"Results!D58","v":0},{"$f":"Results!G58","v":""},"- vs -",{"$f":"VLOOKUP(B55,Results!$A$8:$AG$60,30,FALSE)","v":{"$error":"#N/A"}},{"$f":"VLOOKUP(H55,Results!A$8:$G$60,3,FALSE)","v":{"$error":"#N/A"}},{"$f":"VLOOKUP(H55,Results!$A$8:$G$60,2,FALSE)","v":{"$error":"#N/A"}},{"$f":"VLOOKUP(H55,Results!$A$8:$G$60,4,FALSE)","v":{"$error":"#N/A"}},{"$f":"VLOOKUP(H55,Results!$A$8:$G$60,7,FALSE)","v":{"$error":"#N/A"}},{"$f":"VLOOKUP(H55,$B$4:B55,1,FALSE)","v":{"$error":"#N/A"}}]
[null,{"$f":"Results!A59","v":0},{"$f":"Results!C59","v":0},{"$f":"Results!B59","v":0},{"$f":"Results!D59","v":0},{"$f":"Results!G59","v":""},"- vs -",{"$f":"VLOOKUP(B56,Results!$A$8:$AG$60,30,FALSE)","v":{"$error":"#N/A"}},{"$f":"VLOOKUP(H56,Results!A$8:$G$60,3,FALSE)","v":{"$error":"#N/A"}},{"$f":"VLOOKUP(H56,Results!$A$8:$G$60,2,FALSE)","v":{"$error":"#N/A"}},{"$f":"VLOOKUP(H56,Results!$A$8:$G$60,4,FALSE)","v":{"$error":"#N/A"}},{"$f":"VLOOKUP(H56,Results!$A$8:$G$60,7,FALSE)","v":{"$error":"#N/A"}},{"$f":"VLOOKUP(H56,$B$4:B56,1,FALSE)","v":{"$error":"#N/A"}}]
[null,{"$f":"Results!A60","v":0},{"$f":"Results!C60","v":0},{"$f":"Results!B60","v":0},{"$f":"Results!D60","v":0},{"$f":"Results!G60","v":""},"- vs -",{"$f":"VLOOKUP(B57,Results!$A$8:$AG$60,30,FALSE)","v":{"$error":"#N/A"}},{"$f":"VLOOKUP(H57,Results!A$8:$G$60,3,FALSE)","v":{"$error":"#N/A"}},{"$f":"VLOOKUP(H57,Results!$A$8:$G$60,2,FALSE)","v":{"$error":"#N/A"}},{"$f":"VLOOKUP(H57,Results!$A$8:$G$60,4,FALSE)","v":{"$error":"#N/A"}},{"$f":"VLOOKUP(H57,Results!$A$8:$G$60,7,FALSE)","v":{"$error":"#N/A"}},{"$f":"VLOOKUP(H57,$B$4:B57,1,FALSE)","v":{"$error":"#N/A"}}]
[null,{"$f":"Results!A61","v":0},{"$f":"Results!C61","v":0},{"$f":"Results!B61","v":0},{"$f":"Results!D61","v":0},{"$f":"Results!G61","v":0},"- vs -",{"$f":"VLOOKUP(B58,Results!$A$8:$AG$60,30,FALSE)","v":{"$error":"#N/A"}},{"$f":"VLOOKUP(H58,Results!A$8:$G$60,3,FALSE)","v":{"$error":"#N/A"}},{"$f":"VLOOKUP(H58,Results!$A$8:$G$60,2,FALSE)","v":{"$error":"#N/A"}},{"$f":"VLOOKUP(H58,Results!$A$8:$G$60,4,FALSE)","v":{"$error":"#N/A"}},{"$f":"VLOOKUP(H58,Results!$A$8:$G$60,7,FALSE)","v":{"$error":"#N/A"}},{"$f":"VLOOKUP(H58,$B$4:B58,1,FALSE)","v":{"$error":"#N/A"}}]
[null,{"$f":"Results!A62","v":0},{"$f":"Results!C62","v":0},{"$f":"Results!B62","v":0},{"$f":"Results!D62","v":0},{"$f":"Results!G62","v":0},"- vs -",{"$f":"VLOOKUP(B59,Results!$A$8:$AG$60,30,FALSE)","v":{"$error":"#N/A"}},{"$f":"VLOOKUP(H59,Results!A$8:$G$60,3,FALSE)","v":{"$error":"#N/A"}},{"$f":"VLOOKUP(H59,Results!$A$8:$G$60,2,FALSE)","v":{"$error":"#N/A"}},{"$f":"VLOOKUP(H59,Results!$A$8:$G$60,4,FALSE)","v":{"$error":"#N/A"}},{"$f":"VLOOKUP(H59,Results!$A$8:$G$60,7,FALSE)","v":{"$error":"#N/A"}},{"$f":"VLOOKUP(H59,$B$4:B59,1,FALSE)","v":{"$error":"#N/A"}}]
[null,{"$f":"Results!A63","v":0},{"$f":"Results!C63","v":0},{"$f":"Results!B63","v":0},{"$f":"Results!D63","v":0},{"$f":"Results!G63","v":0},"- vs -",{"$f":"VLOOKUP(B60,Results!$A$8:$AG$60,30,FALSE)","v":{"$error":"#N/A"}},{"$f":"VLOOKUP(H60,Results!A$8:$G$60,3,FALSE)","v":{"$error":"#N/A"}},{"$f":"VLOOKUP(H60,Results!$A$8:$G$60,2,FALSE)","v":{"$error":"#N/A"}},{"$f":"VLOOKUP(H60,Results!$A$8:$G$60,4,FALSE)","v":{"$error":"#N/A"}},{"$f":"VLOOKUP(H60,Results!$A$8:$G$60,7,FALSE)","v":{"$error":"#N/A"}},{"$f":"VLOOKUP(H60,$B$4:B60,1,FALSE)","v":{"$error":"#N/A"}}]
[null,{"$f":"Results!A64","v":0},{"$f":"Results!C64","v":0},{"$f":"Results!B64","v":0},{"$f":"Results!D64","v":0},{"$f":"Results!G64","v":0},"- vs -",{"$f":"VLOOKUP(B61,Results!$A$8:$AG$60,30,FALSE)","v":{"$error":"#N/A"}},{"$f":"VLOOKUP(H61,Results!A$8:$G$60,3,FALSE)","v":{"$error":"#N/A"}},{"$f":"VLOOKUP(H61,Results!$A$8:$G$60,2,FALSE)","v":{"$error":"#N/A"}},{"$f":"VLOOKUP(H61,Results!$A$8:$G$60,4,FALSE)","v":{"$error":"#N/A"}},{"$f":"VLOOKUP(H61,Results!$A$8:$G$60,7,FALSE)","v":{"$error":"#N/A"}},{"$f":"VLOOKUP(H61,$B$4:B61,1,FALSE)","v":{"$error":"#N/A"}}]
[null,{"$f":"Results!A65","v":0},{"$f":"Results!C65","v":0},{"$f":"Results!B65","v":0},{"$f":"Results!D65","v":0},{"$f":"Results!G65","v":0},"- vs -",{"$f":"VLOOKUP(B62,Results!$A$8:$AG$60,30,FALSE)","v":{"$error":"#N/A"}},{"$f":"VLOOKUP(H62,Results!A$8:$G$60,3,FALSE)","v":{"$error":"#N/A"}},{"$f":"VLOOKUP(H62,Results!$A$8:$G$60,2,FALSE)","v":{"$error":"#N/A"}},{"$f":"VLOOKUP(H62,Results!$A$8:$G$60,4,FALSE)","v":{"$error":"#N/A"}},{"$f":"VLOOKUP(H62,Results!$A$8:$G$60,7,FALSE)","v":{"$error":"#N/A"}},{"$f":"VLOOKUP(H62,$B$4:B62,1,FALSE)","v":{"$error":"#N/A"}}]
[null,{"$f":"Results!A66","v":0},{"$f":"Results!C66","v":0},{"$f":"Results!B66","v":0},{"$f":"Results!D66","v":0},{"$f":"Results!G66","v":0},"- vs -",{"$f":"VLOOKUP(B63,Results!$A$8:$AG$60,30,FALSE)","v":{"$error":"#N/A"}},{"$f":"VLOOKUP(H63,Results!A$8:$G$60,3,FALSE)","v":{"$error":"#N/A"}},{"$f":"VLOOKUP(H63,Results!$A$8:$G$60,2,FALSE)","v":{"$error":"#N/A"}},{"$f":"VLOOKUP(H63,Results!$A$8:$G$60,4,FALSE)","v":{"$error":"#N/A"}},{"$f":"VLOOKUP(H63,Results!$A$8:$G$60,7,FALSE)","v":{"$error":"#N/A"}},{"$f":"VLOOKUP(H63,$B$4:B63,1,FALSE)","v":{"$error":"#N/A"}}]

{"sheet":"Round 5","index":13,"n_rows":63,"n_cols":13,"rows_kept":63,"cut":false,"hidden":false,"merged":[]}
[]
["Round 5 Draw",null,{"$f":"Results!B3","v":0}]
[null,null,{"$f":"Results!B4","v":"Open Theme"}]
[null,null,null,null,null,null,null,null,null,null,null,null,"VALID?"]
[null,{"$f":"Results!A8","v":0},{"$f":"Results!C8","v":0},{"$f":"Results!B8","v":0},{"$f":"Results!D8","v":0},{"$f":"Results!G8","v":""},"- vs -",{"$f":"VLOOKUP(B5,Results!$A$8:AK59,37,FALSE)","v":{"$error":"#N/A"}},{"$f":"VLOOKUP(H5,Results!A$8:G60,3,FALSE)","v":{"$error":"#N/A"}},{"$f":"VLOOKUP(H5,Results!$A$8:G60,2,FALSE)","v":{"$error":"#N/A"}},{"$f":"VLOOKUP(H5,Results!$A$8:G60,4,FALSE)","v":{"$error":"#N/A"}},{"$f":"VLOOKUP(H5,Results!$A$8:G60,7,FALSE)","v":{"$error":"#N/A"}},{"$f":"VLOOKUP(H5,$B$4:B5,1,FALSE)","v":{"$error":"#N/A"}}]
[null,{"$f":"Results!A9","v":0},{"$f":"Results!C9","v":0},{"$f":"Results!B9","v":0},{"$f":"Results!D9","v":0},{"$f":"Results!G9","v":""},"- vs -",{"$f":"VLOOKUP(B6,Results!$A$8:AK60,37,FALSE)","v":{"$error":"#N/A"}},{"$f":"VLOOKUP(H6,Results!A$8:G61,3,FALSE)","v":{"$error":"#N/A"}},{"$f":"VLOOKUP(H6,Results!$A$8:G61,2,FALSE)","v":{"$error":"#N/A"}},{"$f":"VLOOKUP(H6,Results!$A$8:G61,4,FALSE)","v":{"$error":"#N/A"}},{"$f":"VLOOKUP(H6,Results!$A$8:G61,7,FALSE)","v":{"$error":"#N/A"}},{"$f":"VLOOKUP(H6,$B$4:B6,1,FALSE)","v":{"$error":"#N/A"}}]
[null,{"$f":"Results!A10","v":0},{"$f":"Results!C10","v":0},{"$f":"Results!B10","v":0},{"$f":"Results!D10","v":0},{"$f":"Results!G10","v":""},"- vs -",{"$f":"VLOOKUP(B7,Results!$A$8:AK61,37,FALSE)","v":{"$error":"#N/A"}},{"$f":"VLOOKUP(H7,Results!A$8:G62,3,FALSE)","v":{"$error":"#N/A"}},{"$f":"VLOOKUP(H7,Results!$A$8:G62,2,FALSE)","v":{"$error":"#N/A"}},{"$f":"VLOOKUP(H7,Results!$A$8:G62,4,FALSE)","v":{"$error":"#N/A"}},{"$f":"VLOOKUP(H7,Results!$A$8:G62,7,FALSE)","v":{"$error":"#N/A"}},{"$f":"VLOOKUP(H7,$B$4:B7,1,FALSE)","v":{"$error":"#N/A"}}]
[null,{"$f":"Results!A11","v":0},{"$f":"Results!C11","v":0},{"$f":"Results!B11","v":0},{"$f":"Results!D11","v":0},{"$f":"Results!G11","v":""},"- vs -",{"$f":"VLOOKUP(B8,Results!$A$8:AK62,37,FALSE)","v":{"$error":"#N/A"}},{"$f":"VLOOKUP(H8,Results!A$8:G63,3,FALSE)","v":{"$error":"#N/A"}},{"$f":"VLOOKUP(H8,Results!$A$8:G63,2,FALSE)","v":{"$error":"#N/A"}},{"$f":"VLOOKUP(H8,Results!$A$8:G63,4,FALSE)","v":{"$error":"#N/A"}},{"$f":"VLOOKUP(H8,Results!$A$8:G63,7,FALSE)","v":{"$error":"#N/A"}},{"$f":"VLOOKUP(H8,$B$4:B8,1,FALSE)","v":{"$error":"#N/A"}}]
[null,{"$f":"Results!A12","v":0},{"$f":"Results!C12","v":0},{"$f":"Results!B12","v":0},{"$f":"Results!D12","v":0},{"$f":"Results!G12","v":""},"- vs -",{"$f":"VLOOKUP(B9,Results!$A$8:AK63,37,FALSE)","v":{"$error":"#N/A"}},{"$f":"VLOOKUP(H9,Results!A$8:G64,3,FALSE)","v":{"$error":"#N/A"}},{"$f":"VLOOKUP(H9,Results!$A$8:G64,2,FALSE)","v":{"$error":"#N/A"}},{"$f":"VLOOKUP(H9,Results!$A$8:G64,4,FALSE)","v":{"$error":"#N/A"}},{"$f":"VLOOKUP(H9,Results!$A$8:G64,7,FALSE)","v":{"$error":"#N/A"}},{"$f":"VLOOKUP(H9,$B$4:B9,1,FALSE)","v":{"$error":"#N/A"}}]
[null,{"$f":"Results!A13","v":0},{"$f":"Results!C13","v":0},{"$f":"Results!B13","v":0},{"$f":"Results!D13","v":0},{"$f":"Results!G13","v":""},"- vs -",{"$f":"VLOOKUP(B10,Results!$A$8:AK64,37,FALSE)","v":{"$error":"#N/A"}},{"$f":"VLOOKUP(H10,Results!A$8:G65,3,FALSE)","v":{"$error":"#N/A"}},{"$f":"VLOOKUP(H10,Results!$A$8:G65,2,FALSE)","v":{"$error":"#N/A"}},{"$f":"VLOOKUP(H10,Results!$A$8:G65,4,FALSE)","v":{"$error":"#N/A"}},{"$f":"VLOOKUP(H10,Results!$A$8:G65,7,FALSE)","v":{"$error":"#N/A"}},{"$f":"VLOOKUP(H10,$B$4:B10,1,FALSE)","v":{"$error":"#N/A"}}]
[null,{"$f":"Results!A14","v":0},{"$f":"Results!C14","v":0},{"$f":"Results!B14","v":0},{"$f":"Results!D14","v":0},{"$f":"Results!G14","v":""},"- vs -",{"$f":"VLOOKUP(B11,Results!$A$8:AK65,37,FALSE)","v":{"$error":"#N/A"}},{"$f":"VLOOKUP(H11,Results!A$8:G66,3,FALSE)","v":{"$error":"#N/A"}},{"$f":"VLOOKUP(H11,Results!$A$8:G66,2,FALSE)","v":{"$error":"#N/A"}},{"$f":"VLOOKUP(H11,Results!$A$8:G66,4,FALSE)","v":{"$error":"#N/A"}},{"$f":"VLOOKUP(H11,Results!$A$8:G66,7,FALSE)","v":{"$error":"#N/A"}},{"$f":"VLOOKUP(H11,$B$4:B11,1,FALSE)","v":{"$error":"#N/A"}}]
[null,{"$f":"Results!A15","v":0},{"$f":"Results!C15","v":0},{"$f":"Results!B15","v":0},{"$f":"Results!D15","v":0},{"$f":"Results!G15","v":""},"- vs -",{"$f":"VLOOKUP(B12,Results!$A$8:AK66,37,FALSE)","v":{"$error":"#N/A"}},{"$f":"VLOOKUP(H12,Results!A$8:G67,3,FALSE)","v":{"$error":"#N/A"}},{"$f":"VLOOKUP(H12,Results!$A$8:G67,2,FALSE)","v":{"$error":"#N/A"}},{"$f":"VLOOKUP(H12,Results!$A$8:G67,4,FALSE)","v":{"$error":"#N/A"}},{"$f":"VLOOKUP(H12,Results!$A$8:G67,7,FALSE)","v":{"$error":"#N/A"}},{"$f":"VLOOKUP(H12,$B$4:B12,1,FALSE)","v":{"$error":"#N/A"}}]
[null,{"$f":"Results!A16","v":0},{"$f":"Results!C16","v":0},{"$f":"Results!B16","v":0},{"$f":"Results!D16","v":0},{"$f":"Results!G16","v":""},"- vs -",{"$f":"VLOOKUP(B13,Results!$A$8:AK67,37,FALSE)","v":{"$error":"#N/A"}},{"$f":"VLOOKUP(H13,Results!A$8:G68,3,FALSE)","v":{"$error":"#N/A"}},{"$f":"VLOOKUP(H13,Results!$A$8:G68,2,FALSE)","v":{"$error":"#N/A"}},{"$f":"VLOOKUP(H13,Results!$A$8:G68,4,FALSE)","v":{"$error":"#N/A"}},{"$f":"VLOOKUP(H13,Results!$A$8:G68,7,FALSE)","v":{"$error":"#N/A"}},{"$f":"VLOOKUP(H13,$B$4:B13,1,FALSE)","v":{"$error":"#N/A"}}]
[null,{"$f":"Results!A17","v":0},{"$f":"Results!C17","v":0},{"$f":"Results!B17","v":0},{"$f":"Results!D17","v":0},{"$f":"Results!G17","v":""},"- vs -",{"$f":"VLOOKUP(B14,Results!$A$8:AK68,37,FALSE)","v":{"$error":"#N/A"}},{"$f":"VLOOKUP(H14,Results!A$8:G69,3,FALSE)","v":{"$error":"#N/A"}},{"$f":"VLOOKUP(H14,Results!$A$8:G69,2,FALSE)","v":{"$error":"#N/A"}},{"$f":"VLOOKUP(H14,Results!$A$8:G69,4,FALSE)","v":{"$error":"#N/A"}},{"$f":"VLOOKUP(H14,Results!$A$8:G69,7,FALSE)","v":{"$error":"#N/A"}},{"$f":"VLOOKUP(H14,$B$4:B14,1,FALSE)","v":{"$error":"#N/A"}}]
[null,{"$f":"Results!A18","v":0},{"$f":"Results!C18","v":0},{"$f":"Results!B18","v":0},{"$f":"Results!D18","v":0},{"$f":"Results!G18","v":""},"- vs -",{"$f":"VLOOKUP(B15,Results!$A$8:AK69,37,FALSE)","v":{"$error":"#N/A"}},{"$f":"VLOOKUP(H15,Results!A$8:G70,3,FALSE)","v":{"$error":"#N/A"}},{"$f":"VLOOKUP(H15,Results!$A$8:G70,2,FALSE)","v":{"$error":"#N/A"}},{"$f":"VLOOKUP(H15,Results!$A$8:G70,4,FALSE)","v":{"$error":"#N/A"}},{"$f":"VLOOKUP(H15,Results!$A$8:G70,7,FALSE)","v":{"$error":"#N/A"}},{"$f":"VLOOKUP(H15,$B$4:B15,1,FALSE)","v":{"$error":"#N/A"}}]
[null,{"$f":"Results!A19","v":0},{"$f":"Results!C19","v":0},{"$f":"Results!B19","v":0},{"$f":"Results!D19","v":0},{"$f":"Results!G19","v":""},"- vs -",{"$f":"VLOOKUP(B16,Results!$A$8:AK70,37,FALSE)","v":{"$error":"#N/A"}},{"$f":"VLOOKUP(H16,Results!A$8:G71,3,FALSE)","v":{"$error":"#N/A"}},{"$f":"VLOOKUP(H16,Results!$A$8:G71,2,FALSE)","v":{"$error":"#N/A"}},{"$f":"VLOOKUP(H16,Results!$A$8:G71,4,FALSE)","v":{"$error":"#N/A"}},{"$f":"VLOOKUP(H16,Results!$A$8:G71,7,FALSE)","v":{"$error":"#N/A"}},{"$f":"VLOOKUP(H16,$B$4:B16,1,FALSE)","v":{"$error":"#N/A"}}]
[null,{"$f":"Results!A20","v":0},{"$f":"Results!C20","v":0},{"$f":"Results!B20","v":0},{"$f":"Results!D20","v":0},{"$f":"Results!G20","v":""},"- vs -",{"$f":"VLOOKUP(B17,Results!$A$8:AK71,37,FALSE)","v":{"$error":"#N/A"}},{"$f":"VLOOKUP(H17,Results!A$8:G72,3,FALSE)","v":{"$error":"#N/A"}},{"$f":"VLOOKUP(H17,Results!$A$8:G72,2,FALSE)","v":{"$error":"#N/A"}},{"$f":"VLOOKUP(H17,Results!$A$8:G72,4,FALSE)","v":{"$error":"#N/A"}},{"$f":"VLOOKUP(H17,Results!$A$8:G72,7,FALSE)","v":{"$error":"#N/A"}},{"$f":"VLOOKUP(H17,$B$4:B17,1,FALSE)","v":{"$error":"#N/A"}}]
[null,{"$f":"Results!A21","v":0},{"$f":"Results!C21","v":0},{"$f":"Results!B21","v":0},{"$f":"Results!D21","v":0},{"$f":"Results!G21","v":""},"- vs -",{"$f":"VLOOKUP(B18,Results!$A$8:AK72,37,FALSE)","v":{"$error":"#N/A"}},{"$f":"VLOOKUP(H18,Results!A$8:G73,3,FALSE)","v":{"$error":"#N/A"}},{"$f":"VLOOKUP(H18,Results!$A$8:G73,2,FALSE)","v":{"$error":"#N/A"}},{"$f":"VLOOKUP(H18,Results!$A$8:G73,4,FALSE)","v":{"$error":"#N/A"}},{"$f":"VLOOKUP(H18,Results!$A$8:G73,7,FALSE)","v":{"$error":"#N/A"}},{"$f":"VLOOKUP(H18,$B$4:B18,1,FALSE)","v":{"$error":"#N/A"}}]
[null,{"$f":"Results!A22","v":0},{"$f":"Results!C22","v":0},{"$f":"Results!B22","v":0},{"$f":"Results!D22","v":0},{"$f":"Results!G22","v":""},"- vs -",{"$f":"VLOOKUP(B19,Results!$A$8:AK73,37,FALSE)","v":{"$error":"#N/A"}},{"$f":"VLOOKUP(H19,Results!A$8:G74,3,FALSE)","v":{"$error":"#N/A"}},{"$f":"VLOOKUP(H19,Results!$A$8:G74,2,FALSE)","v":{"$error":"#N/A"}},{"$f":"VLOOKUP(H19,Results!$A$8:G74,4,FALSE)","v":{"$error":"#N/A"}},{"$f":"VLOOKUP(H19,Results!$A$8:G74,7,FALSE)","v":{"$error":"#N/A"}},{"$f":"VLOOKUP(H19,$B$4:B19,1,FALSE)","v":{"$error":"#N/A"}}]
[null,{"$f":"Results!A23","v":0},{"$f":"Results!C23","v":0},{"$f":"Results!B23","v":0},{"$f":"Results!D23","v":0},{"$f":"Results!G23","v":""},"- vs -",{"$f":"VLOOKUP(B20,Results!$A$8:AK74,37,FALSE)","v":{"$error":"#N/A"}},{"$f":"VLOOKUP(H20,Results!A$8:G75,3,FALSE)","v":{"$error":"#N/A"}},{"$f":"VLOOKUP(H20,Results!$A$8:G75,2,FALSE)","v":{"$error":"#N/A"}},{"$f":"VLOOKUP(H20,Results!$A$8:G75,4,FALSE)","v":{"$error":"#N/A"}},{"$f":"VLOOKUP(H20,Results!$A$8:G75,7,FALSE)","v":{"$error":"#N/A"}},{"$f":"VLOOKUP(H20,$B$4:B20,1,FALSE)","v":{"$error":"#N/A"}}]
[null,{"$f":"Results!A24","v":0},{"$f":"Results!C24","v":0},{"$f":"Results!B24","v":0},{"$f":"Results!D24","v":0},{"$f":"Results!G24","v":""},"- vs -",{"$f":"VLOOKUP(B21,Results!$A$8:AK75,37,FALSE)","v":{"$error":"#N/A"}},{"$f":"VLOOKUP(H21,Results!A$8:G76,3,FALSE)","v":{"$error":"#N/A"}},{"$f":"VLOOKUP(H21,Results!$A$8:G76,2,FALSE)","v":{"$error":"#N/A"}},{"$f":"VLOOKUP(H21,Results!$A$8:G76,4,FALSE)","v":{"$error":"#N/A"}},{"$f":"VLOOKUP(H21,Results!$A$8:G76,7,FALSE)","v":{"$error":"#N/A"}},{"$f":"VLOOKUP(H21,$B$4:B21,1,FALSE)","v":{"$error":"#N/A"}}]
[null,{"$f":"Results!A25","v":0},{"$f":"Results!C25","v":0},{"$f":"Results!B25","v":0},{"$f":"Results!D25","v":0},{"$f":"Results!G25","v":""},"- vs -",{"$f":"VLOOKUP(B22,Results!$A$8:AK76,37,FALSE)","v":{"$error":"#N/A"}},{"$f":"VLOOKUP(H22,Results!A$8:G77,3,FALSE)","v":{"$error":"#N/A"}},{"$f":"VLOOKUP(H22,Results!$A$8:G77,2,FALSE)","v":{"$error":"#N/A"}},{"$f":"VLOOKUP(H22,Results!$A$8:G77,4,FALSE)","v":{"$error":"#N/A"}},{"$f":"VLOOKUP(H22,Results!$A$8:G77,7,FALSE)","v":{"$error":"#N/A"}},{"$f":"VLOOKUP(H22,$B$4:B22,1,FALSE)","v":{"$error":"#N/A"}}]
[null,{"$f":"Results!A26","v":0},{"$f":"Results!C26","v":0},{"$f":"Results!B26","v":0},{"$f":"Results!D26","v":0},{"$f":"Results!G26","v":""},"- vs -",{"$f":"VLOOKUP(B23,Results!$A$8:AK77,37,FALSE)","v":{"$error":"#N/A"}},{"$f":"VLOOKUP(H23,Results!A$8:G78,3,FALSE)","v":{"$error":"#N/A"}},{"$f":"VLOOKUP(H23,Results!$A$8:G78,2,FALSE)","v":{"$error":"#N/A"}},{"$f":"VLOOKUP(H23,Results!$A$8:G78,4,FALSE)","v":{"$error":"#N/A"}},{"$f":"VLOOKUP(H23,Results!$A$8:G78,7,FALSE)","v":{"$error":"#N/A"}},{"$f":"VLOOKUP(H23,$B$4:B23,1,FALSE)","v":{"$error":"#N/A"}}]
[null,{"$f":"Results!A27","v":0},{"$f":"Results!C27","v":0},{"$f":"Results!B27","v":0},{"$f":"Results!D27","v":0},{"$f":"Results!G27","v":""},"- vs -",{"$f":"VLOOKUP(B24,Results!$A$8:AK78,37,FALSE)","v":{"$error":"#N/A"}},{"$f":"VLOOKUP(H24,Results!A$8:G79,3,FALSE)","v":{"$error":"#N/A"}},{"$f":"VLOOKUP(H24,Results!$A$8:G79,2,FALSE)","v":{"$error":"#N/A"}},{"$f":"VLOOKUP(H24,Results!$A$8:G79,4,FALSE)","v":{"$error":"#N/A"}},{"$f":"VLOOKUP(H24,Results!$A$8:G79,7,FALSE)","v":{"$error":"#N/A"}},{"$f":"VLOOKUP(H24,$B$4:B24,1,FALSE)","v":{"$error":"#N/A"}}]
[null,{"$f":"Results!A28","v":0},{"$f":"Results!C28","v":0},{"$f":"Results!B28","v":0},{"$f":"Results!D28","v":0},{"$f":"Results!G28","v":""},"- vs -",{"$f":"VLOOKUP(B25,Results!$A$8:AK79,37,FALSE)","v":{"$error":"#N/A"}},{"$f":"VLOOKUP(H25,Results!A$8:G80,3,FALSE)","v":{"$error":"#N/A"}},{"$f":"VLOOKUP(H25,Results!$A$8:G80,2,FALSE)","v":{"$error":"#N/A"}},{"$f":"VLOOKUP(H25,Results!$A$8:G80,4,FALSE)","v":{"$error":"#N/A"}},{"$f":"VLOOKUP(H25,Results!$A$8:G80,7,FALSE)","v":{"$error":"#N/A"}},{"$f":"VLOOKUP(H25,$B$4:B25,1,FALSE)","v":{"$error":"#N/A"}}]
[null,{"$f":"Results!A29","v":0},{"$f":"Results!C29","v":0},{"$f":"Results!B29","v":0},{"$f":"Results!D29","v":0},{"$f":"Results!G29","v":""},"- vs -",{"$f":"VLOOKUP(B26,Results!$A$8:AK80,37,FALSE)","v":{"$error":"#N/A"}},{"$f":"VLOOKUP(H26,Results!A$8:G81,3,FALSE)","v":{"$error":"#N/A"}},{"$f":"VLOOKUP(H26,Results!$A$8:G81,2,FALSE)","v":{"$error":"#N/A"}},{"$f":"VLOOKUP(H26,Results!$A$8:G81,4,FALSE)","v":{"$error":"#N/A"}},{"$f":"VLOOKUP(H26,Results!$A$8:G81,7,FALSE)","v":{"$error":"#N/A"}},{"$f":"VLOOKUP(H26,$B$4:B26,1,FALSE)","v":{"$error":"#N/A"}}]
[null,{"$f":"Results!A30","v":0},{"$f":"Results!C30","v":0},{"$f":"Results!B30","v":0},{"$f":"Results!D30","v":0},{"$f":"Results!G30","v":""},"- vs -",{"$f":"VLOOKUP(B27,Results!$A$8:AK81,37,FALSE)","v":{"$error":"#N/A"}},{"$f":"VLOOKUP(H27,Results!A$8:G82,3,FALSE)","v":{"$error":"#N/A"}},{"$f":"VLOOKUP(H27,Results!$A$8:G82,2,FALSE)","v":{"$error":"#N/A"}},{"$f":"VLOOKUP(H27,Results!$A$8:G82,4,FALSE)","v":{"$error":"#N/A"}},{"$f":"VLOOKUP(H27,Results!$A$8:G82,7,FALSE)","v":{"$error":"#N/A"}},{"$f":"VLOOKUP(H27,$B$4:B27,1,FALSE)","v":{"$error":"#N/A"}}]
[null,{"$f":"Results!A31","v":0},{"$f":"Results!C31","v":0},{"$f":"Results!B31","v":0},{"$f":"Results!D31","v":0},{"$f":"Results!G31","v":""},"- vs -",{"$f":"VLOOKUP(B28,Results!$A$8:AK82,37,FALSE)","v":{"$error":"#N/A"}},{"$f":"VLOOKUP(H28,Results!A$8:G83,3,FALSE)","v":{"$error":"#N/A"}},{"$f":"VLOOKUP(H28,Results!$A$8:G83,2,FALSE)","v":{"$error":"#N/A"}},{"$f":"VLOOKUP(H28,Results!$A$8:G83,4,FALSE)","v":{"$error":"#N/A"}},{"$f":"VLOOKUP(H28,Results!$A$8:G83,7,FALSE)","v":{"$error":"#N/A"}},{"$f":"VLOOKUP(H28,$B$4:B28,1,FALSE)","v":{"$error":"#N/A"}}]
[null,{"$f":"Results!A32","v":0},{"$f":"Results!C32","v":0},{"$f":"Results!B32","v":0},{"$f":"Results!D32","v":0},{"$f":"Results!G32","v":""},"- vs -",{"$f":"VLOOKUP(B29,Results!$A$8:AK83,37,FALSE)","v":{"$error":"#N/A"}},{"$f":"VLOOKUP(H29,Results!A$8:G84,3,FALSE)","v":{"$error":"#N/A"}},{"$f":"VLOOKUP(H29,Results!$A$8:G84,2,FALSE)","v":{"$error":"#N/A"}},{"$f":"VLOOKUP(H29,Results!$A$8:G84,4,FALSE)","v":{"$error":"#N/A"}},{"$f":"VLOOKUP(H29,Results!$A$8:G84,7,FALSE)","v":{"$error":"#N/A"}},{"$f":"VLOOKUP(H29,$B$4:B29,1,FALSE)","v":{"$error":"#N/A"}}]
[null,{"$f":"Results!A33","v":0},{"$f":"Results!C33","v":0},{"$f":"Results!B33","v":0},{"$f":"Results!D33","v":0},{"$f":"Results!G33","v":""},"- vs -",{"$f":"VLOOKUP(B30,Results!$A$8:AK84,37,FALSE)","v":{"$error":"#N/A"}},{"$f":"VLOOKUP(H30,Results!A$8:G85,3,FALSE)","v":{"$error":"#N/A"}},{"$f":"VLOOKUP(H30,Results!$A$8:G85,2,FALSE)","v":{"$error":"#N/A"}},{"$f":"VLOOKUP(H30,Results!$A$8:G85,4,FALSE)","v":{"$error":"#N/A"}},{"$f":"VLOOKUP(H30,Results!$A$8:G85,7,FALSE)","v":{"$error":"#N/A"}},{"$f":"VLOOKUP(H30,$B$4:B30,1,FALSE)","v":{"$error":"#N/A"}}]
[null,{"$f":"Results!A34","v":0},{"$f":"Results!C34","v":0},{"$f":"Results!B34","v":0},{"$f":"Results!D34","v":0},{"$f":"Results!G34","v":""},"- vs -",{"$f":"VLOOKUP(B31,Results!$A$8:AK85,37,FALSE)","v":{"$error":"#N/A"}},{"$f":"VLOOKUP(H31,Results!A$8:G86,3,FALSE)","v":{"$error":"#N/A"}},{"$f":"VLOOKUP(H31,Results!$A$8:G86,2,FALSE)","v":{"$error":"#N/A"}},{"$f":"VLOOKUP(H31,Results!$A$8:G86,4,FALSE)","v":{"$error":"#N/A"}},{"$f":"VLOOKUP(H31,Results!$A$8:G86,7,FALSE)","v":{"$error":"#N/A"}},{"$f":"VLOOKUP(H31,$B$4:B31,1,FALSE)","v":{"$error":"#N/A"}}]
[null,{"$f":"Results!A35","v":0},{"$f":"Results!C35","v":0},{"$f":"Results!B35","v":0},{"$f":"Results!D35","v":0},{"$f":"Results!G35","v":""},"- vs -",{"$f":"VLOOKUP(B32,Results!$A$8:AK86,37,FALSE)","v":{"$error":"#N/A"}},{"$f":"VLOOKUP(H32,Results!A$8:G87,3,FALSE)","v":{"$error":"#N/A"}},{"$f":"VLOOKUP(H32,Results!$A$8:G87,2,FALSE)","v":{"$error":"#N/A"}},{"$f":"VLOOKUP(H32,Results!$A$8:G87,4,FALSE)","v":{"$error":"#N/A"}},{"$f":"VLOOKUP(H32,Results!$A$8:G87,7,FALSE)","v":{"$error":"#N/A"}},{"$f":"VLOOKUP(H32,$B$4:B32,1,FALSE)","v":{"$error":"#N/A"}}]
[null,{"$f":"Results!A36","v":0},{"$f":"Results!C36","v":0},{"$f":"Results!B36","v":0},{"$f":"Results!D36","v":0},{"$f":"Results!G36","v":""},"- vs -",{"$f":"VLOOKUP(B33,Results!$A$8:AK87,37,FALSE)","v":{"$error":"#N/A"}},{"$f":"VLOOKUP(H33,Results!A$8:G88,3,FALSE)","v":{"$error":"#N/A"}},{"$f":"VLOOKUP(H33,Results!$A$8:G88,2,FALSE)","v":{"$error":"#N/A"}},{"$f":"VLOOKUP(H33,Results!$A$8:G88,4,FALSE)","v":{"$error":"#N/A"}},{"$f":"VLOOKUP(H33,Results!$A$8:G88,7,FALSE)","v":{"$error":"#N/A"}},{"$f":"VLOOKUP(H33,$B$4:B33,1,FALSE)","v":{"$error":"#N/A"}}]
[null,{"$f":"Results!A37","v":0},{"$f":"Results!C37","v":0},{"$f":"Results!B37","v":0},{"$f":"Results!D37","v":0},{"$f":"Results!G37","v":""},"- vs -",{"$f":"VLOOKUP(B34,Results!$A$8:AK88,37,FALSE)","v":{"$error":"#N/A"}},{"$f":"VLOOKUP(H34,Results!A$8:G89,3,FALSE)","v":{"$error":"#N/A"}},{"$f":"VLOOKUP(H34,Results!$A$8:G89,2,FALSE)","v":{"$error":"#N/A"}},{"$f":"VLOOKUP(H34,Results!$A$8:G89,4,FALSE)","v":{"$error":"#N/A"}},{"$f":"VLOOKUP(H34,Results!$A$8:G89,7,FALSE)","v":{"$error":"#N/A"}},{"$f":"VLOOKUP(H34,$B$4:B34,1,FALSE)","v":{"$error":"#N/A"}}]
[null,{"$f":"Results!A38","v":0},{"$f":"Results!C38","v":0},{"$f":"Results!B38","v":0},{"$f":"Results!D38","v":0},{"$f":"Results!G38","v":""},"- vs -",{"$f":"VLOOKUP(B35,Results!$A$8:AK89,37,FALSE)","v":{"$error":"#N/A"}},{"$f":"VLOOKUP(H35,Results!A$8:G90,3,FALSE)","v":{"$error":"#N/A"}},{"$f":"VLOOKUP(H35,Results!$A$8:G90,2,FALSE)","v":{"$error":"#N/A"}},{"$f":"VLOOKUP(H35,Results!$A$8:G90,4,FALSE)","v":{"$error":"#N/A"}},{"$f":"VLOOKUP(H35,Results!$A$8:G90,7,FALSE)","v":{"$error":"#N/A"}},{"$f":"VLOOKUP(H35,$B$4:B35,1,FALSE)","v":{"$error":"#N/A"}}]
[null,{"$f":"Results!A39","v":0},{"$f":"Results!C39","v":0},{"$f":"Results!B39","v":0},{"$f":"Results!D39","v":0},{"$f":"Results!G39","v":""},"- vs -",{"$f":"VLOOKUP(B36,Results!$A$8:AK90,37,FALSE)","v":{"$error":"#N/A"}},{"$f":"VLOOKUP(H36,Results!A$8:G91,3,FALSE)","v":{"$error":"#N/A"}},{"$f":"VLOOKUP(H36,Results!$A$8:G91,2,FALSE)","v":{"$error":"#N/A"}},{"$f":"VLOOKUP(H36,Results!$A$8:G91,4,FALSE)","v":{"$error":"#N/A"}},{"$f":"VLOOKUP(H36,Results!$A$8:G91,7,FALSE)","v":{"$error":"#N/A"}},{"$f":"VLOOKUP(H36,$B$4:B36,1,FALSE)","v":{"$error":"#N/A"}}]
[null,{"$f":"Results!A40","v":0},{"$f":"Results!C40","v":0},{"$f":"Results!B40","v":0},{"$f":"Results!D40","v":0},{"$f":"Results!G40","v":""},"- vs -",{"$f":"VLOOKUP(B37,Results!$A$8:AK91,37,FALSE)","v":{"$error":"#N/A"}},{"$f":"VLOOKUP(H37,Results!A$8:G92,3,FALSE)","v":{"$error":"#N/A"}},{"$f":"VLOOKUP(H37,Results!$A$8:G92,2,FALSE)","v":{"$error":"#N/A"}},{"$f":"VLOOKUP(H37,Results!$A$8:G92,4,FALSE)","v":{"$error":"#N/A"}},{"$f":"VLOOKUP(H37,Results!$A$8:G92,7,FALSE)","v":{"$error":"#N/A"}},{"$f":"VLOOKUP(H37,$B$4:B37,1,FALSE)","v":{"$error":"#N/A"}}]
[null,{"$f":"Results!A41","v":0},{"$f":"Results!C41","v":0},{"$f":"Results!B41","v":0},{"$f":"Results!D41","v":0},{"$f":"Results!G41","v":""},"- vs -",{"$f":"VLOOKUP(B38,Results!$A$8:AK92,37,FALSE)","v":{"$error":"#N/A"}},{"$f":"VLOOKUP(H38,Results!A$8:G93,3,FALSE)","v":{"$error":"#N/A"}},{"$f":"VLOOKUP(H38,Results!$A$8:G93,2,FALSE)","v":{"$error":"#N/A"}},{"$f":"VLOOKUP(H38,Results!$A$8:G93,4,FALSE)","v":{"$error":"#N/A"}},{"$f":"VLOOKUP(H38,Results!$A$8:G93,7,FALSE)","v":{"$error":"#N/A"}},{"$f":"VLOOKUP(H38,$B$4:B38,1,FALSE)","v":{"$error":"#N/A"}}]
[null,{"$f":"Results!A42","v":0},{"$f":"Results!C42","v":0},{"$f":"Results!B42","v":0},{"$f":"Results!D42","v":0},{"$f":"Results!G42","v":""},"- vs -",{"$f":"VLOOKUP(B39,Results!$A$8:AK93,37,FALSE)","v":{"$error":"#N/A"}},{"$f":"VLOOKUP(H39,Results!A$8:G94,3,FALSE)","v":{"$error":"#N/A"}},{"$f":"VLOOKUP(H39,Results!$A$8:G94,2,FALSE)","v":{"$error":"#N/A"}},{"$f":"VLOOKUP(H39,Results!$A$8:G94,4,FALSE)","v":{"$error":"#N/A"}},{"$f":"VLOOKUP(H39,Results!$A$8:G94,7,FALSE)","v":{"$error":"#N/A"}},{"$f":"VLOOKUP(H39,$B$4:B39,1,FALSE)","v":{"$error":"#N/A"}}]
[null,{"$f":"Results!A43","v":0},{"$f":"Results!C43","v":0},{"$f":"Results!B43","v":0},{"$f":"Results!D43","v":0},{"$f":"Results!G43","v":""},"- vs -",{"$f":"VLOOKUP(B40,Results!$A$8:AK94,37,FALSE)","v":{"$error":"#N/A"}},{"$f":"VLOOKUP(H40,Results!A$8:G95,3,FALSE)","v":{"$error":"#N/A"}},{"$f":"VLOOKUP(H40,Results!$A$8:G95,2,FALSE)","v":{"$error":"#N/A"}},{"$f":"VLOOKUP(H40,Results!$A$8:G95,4,FALSE)","v":{"$error":"#N/A"}},{"$f":"VLOOKUP(H40,Results!$A$8:G95,7,FALSE)","v":{"$error":"#N/A"}},{"$f":"VLOOKUP(H40,$B$4:B40,1,FALSE)","v":{"$error":"#N/A"}}]
[null,{"$f":"Results!A44","v":0},{"$f":"Results!C44","v":0},{"$f":"Results!B44","v":0},{"$f":"Results!D44","v":0},{"$f":"Results!G44","v":""},"- vs -",{"$f":"VLOOKUP(B41,Results!$A$8:AK95,37,FALSE)","v":{"$error":"#N/A"}},{"$f":"VLOOKUP(H41,Results!A$8:G96,3,FALSE)","v":{"$error":"#N/A"}},{"$f":"VLOOKUP(H41,Results!$A$8:G96,2,FALSE)","v":{"$error":"#N/A"}},{"$f":"VLOOKUP(H41,Results!$A$8:G96,4,FALSE)","v":{"$error":"#N/A"}},{"$f":"VLOOKUP(H41,Results!$A$8:G96,7,FALSE)","v":{"$error":"#N/A"}},{"$f":"VLOOKUP(H41,$B$4:B41,1,FALSE)","v":{"$error":"#N/A"}}]
[null,{"$f":"Results!A45","v":0},{"$f":"Results!C45","v":0},{"$f":"Results!B45","v":0},{"$f":"Results!D45","v":0},{"$f":"Results!G45","v":""},"- vs -",{"$f":"VLOOKUP(B42,Results!$A$8:AK96,37,FALSE)","v":{"$error":"#N/A"}},{"$f":"VLOOKUP(H42,Results!A$8:G97,3,FALSE)","v":{"$error":"#N/A"}},{"$f":"VLOOKUP(H42,Results!$A$8:G97,2,FALSE)","v":{"$error":"#N/A"}},{"$f":"VLOOKUP(H42,Results!$A$8:G97,4,FALSE)","v":{"$error":"#N/A"}},{"$f":"VLOOKUP(H42,Results!$A$8:G97,7,FALSE)","v":{"$error":"#N/A"}},{"$f":"VLOOKUP(H42,$B$4:B42,1,FALSE)","v":{"$error":"#N/A"}}]
[null,{"$f":"Results!A46","v":0},{"$f":"Results!C46","v":0},{"$f":"Results!B46","v":0},{"$f":"Results!D46","v":0},{"$f":"Results!G46","v":""},"- vs -",{"$f":"VLOOKUP(B43,Results!$A$8:AK97,37,FALSE)","v":{"$error":"#N/A"}},{"$f":"VLOOKUP(H43,Results!A$8:G98,3,FALSE)","v":{"$error":"#N/A"}},{"$f":"VLOOKUP(H43,Results!$A$8:G98,2,FALSE)","v":{"$error":"#N/A"}},{"$f":"VLOOKUP(H43,Results!$A$8:G98,4,FALSE)","v":{"$error":"#N/A"}},{"$f":"VLOOKUP(H43,Results!$A$8:G98,7,FALSE)","v":{"$error":"#N/A"}},{"$f":"VLOOKUP(H43,$B$4:B43,1,FALSE)","v":{"$error":"#N/A"}}]
[null,{"$f":"Results!A47","v":0},{"$f":"Results!C47","v":0},{"$f":"Results!B47","v":0},{"$f":"Results!D47","v":0},{"$f":"Results!G47","v":""},"- vs -",{"$f":"VLOOKUP(B44,Results!$A$8:AK98,37,FALSE)","v":{"$error":"#N/A"}},{"$f":"VLOOKUP(H44,Results!A$8:G99,3,FALSE)","v":{"$error":"#N/A"}},{"$f":"VLOOKUP(H44,Results!$A$8:G99,2,FALSE)","v":{"$error":"#N/A"}},{"$f":"VLOOKUP(H44,Results!$A$8:G99,4,FALSE)","v":{"$error":"#N/A"}},{"$f":"VLOOKUP(H44,Results!$A$8:G99,7,FALSE)","v":{"$error":"#N/A"}},{"$f":"VLOOKUP(H44,$B$4:B44,1,FALSE)","v":{"$error":"#N/A"}}]
[null,{"$f":"Results!A48","v":0},{"$f":"Results!C48","v":0},{"$f":"Results!B48","v":0},{"$f":"Results!D48","v":0},{"$f":"Results!G48","v":""},"- vs -",{"$f":"VLOOKUP(B45,Results!$A$8:AK99,37,FALSE)","v":{"$error":"#N/A"}},{"$f":"VLOOKUP(H45,Results!A$8:G100,3,FALSE)","v":{"$error":"#N/A"}},{"$f":"VLOOKUP(H45,Results!$A$8:G100,2,FALSE)","v":{"$error":"#N/A"}},{"$f":"VLOOKUP(H45,Results!$A$8:G100,4,FALSE)","v":{"$error":"#N/A"}},{"$f":"VLOOKUP(H45,Results!$A$8:G100,7,FALSE)","v":{"$error":"#N/A"}},{"$f":"VLOOKUP(H45,$B$4:B45,1,FALSE)","v":{"$error":"#N/A"}}]
[null,{"$f":"Results!A49","v":0},{"$f":"Results!C49","v":0},{"$f":"Results!B49","v":0},{"$f":"Results!D49","v":0},{"$f":"Results!G49","v":""},"- vs -",{"$f":"VLOOKUP(B46,Results!$A$8:AK100,37,FALSE)","v":{"$error":"#N/A"}},{"$f":"VLOOKUP(H46,Results!A$8:G101,3,FALSE)","v":{"$error":"#N/A"}},{"$f":"VLOOKUP(H46,Results!$A$8:G101,2,FALSE)","v":{"$error":"#N/A"}},{"$f":"VLOOKUP(H46,Results!$A$8:G101,4,FALSE)","v":{"$error":"#N/A"}},{"$f":"VLOOKUP(H46,Results!$A$8:G101,7,FALSE)","v":{"$error":"#N/A"}},{"$f":"VLOOKUP(H46,$B$4:B46,1,FALSE)","v":{"$error":"#N/A"}}]
[null,{"$f":"Results!A50","v":0},{"$f":"Results!C50","v":0},{"$f":"Results!B50","v":0},{"$f":"Results!D50","v":0},{"$f":"Results!G50","v":""},"- vs -",{"$f":"VLOOKUP(B47,Results!$A$8:AK101,37,FALSE)","v":{"$error":"#N/A"}},{"$f":"VLOOKUP(H47,Results!A$8:G102,3,FALSE)","v":{"$error":"#N/A"}},{"$f":"VLOOKUP(H47,Results!$A$8:G102,2,FALSE)","v":{"$error":"#N/A"}},{"$f":"VLOOKUP(H47,Results!$A$8:G102,4,FALSE)","v":{"$error":"#N/A"}},{"$f":"VLOOKUP(H47,Results!$A$8:G102,7,FALSE)","v":{"$error":"#N/A"}},{"$f":"VLOOKUP(H47,$B$4:B47,1,FALSE)","v":{"$error":"#N/A"}}]
[null,{"$f":"Results!A51","v":0},{"$f":"Results!C51","v":0},{"$f":"Results!B51","v":0},{"$f":"Results!D51","v":0},{"$f":"Results!G51","v":""},"- vs -",{"$f":"VLOOKUP(B48,Results!$A$8:AK102,37,FALSE)","v":{"$error":"#N/A"}},{"$f":"VLOOKUP(H48,Results!A$8:G103,3,FALSE)","v":{"$error":"#N/A"}},{"$f":"VLOOKUP(H48,Results!$A$8:G103,2,FALSE)","v":{"$error":"#N/A"}},{"$f":"VLOOKUP(H48,Results!$A$8:G103,4,FALSE)","v":{"$error":"#N/A"}},{"$f":"VLOOKUP(H48,Results!$A$8:G103,7,FALSE)","v":{"$error":"#N/A"}},{"$f":"VLOOKUP(H48,$B$4:B48,1,FALSE)","v":{"$error":"#N/A"}}]
[null,{"$f":"Results!A52","v":0},{"$f":"Results!C52","v":0},{"$f":"Results!B52","v":0},{"$f":"Results!D52","v":0},{"$f":"Results!G52","v":""},"- vs -",{"$f":"VLOOKUP(B49,Results!$A$8:AK103,37,FALSE)","v":{"$error":"#N/A"}},{"$f":"VLOOKUP(H49,Results!A$8:G104,3,FALSE)","v":{"$error":"#N/A"}},{"$f":"VLOOKUP(H49,Results!$A$8:G104,2,FALSE)","v":{"$error":"#N/A"}},{"$f":"VLOOKUP(H49,Results!$A$8:G104,4,FALSE)","v":{"$error":"#N/A"}},{"$f":"VLOOKUP(H49,Results!$A$8:G104,7,FALSE)","v":{"$error":"#N/A"}},{"$f":"VLOOKUP(H49,$B$4:B49,1,FALSE)","v":{"$error":"#N/A"}}]
[null,{"$f":"Results!A53","v":0},{"$f":"Results!C53","v":0},{"$f":"Results!B53","v":0},{"$f":"Results!D53","v":0},{"$f":"Results!G53","v":""},"- vs -",{"$f":"VLOOKUP(B50,Results!$A$8:AK104,37,FALSE)","v":{"$error":"#N/A"}},{"$f":"VLOOKUP(H50,Results!A$8:G105,3,FALSE)","v":{"$error":"#N/A"}},{"$f":"VLOOKUP(H50,Results!$A$8:G105,2,FALSE)","v":{"$error":"#N/A"}},{"$f":"VLOOKUP(H50,Results!$A$8:G105,4,FALSE)","v":{"$error":"#N/A"}},{"$f":"VLOOKUP(H50,Results!$A$8:G105,7,FALSE)","v":{"$error":"#N/A"}},{"$f":"VLOOKUP(H50,$B$4:B50,1,FALSE)","v":{"$error":"#N/A"}}]
[null,{"$f":"Results!A54","v":0},{"$f":"Results!C54","v":0},{"$f":"Results!B54","v":0},{"$f":"Results!D54","v":0},{"$f":"Results!G54","v":""},"- vs -",{"$f":"VLOOKUP(B51,Results!$A$8:AK105,37,FALSE)","v":{"$error":"#N/A"}},{"$f":"VLOOKUP(H51,Results!A$8:G106,3,FALSE)","v":{"$error":"#N/A"}},{"$f":"VLOOKUP(H51,Results!$A$8:G106,2,FALSE)","v":{"$error":"#N/A"}},{"$f":"VLOOKUP(H51,Results!$A$8:G106,4,FALSE)","v":{"$error":"#N/A"}},{"$f":"VLOOKUP(H51,Results!$A$8:G106,7,FALSE)","v":{"$error":"#N/A"}},{"$f":"VLOOKUP(H51,$B$4:B51,1,FALSE)","v":{"$error":"#N/A"}}]
[null,{"$f":"Results!A55","v":0},{"$f":"Results!C55","v":0},{"$f":"Results!B55","v":0},{"$f":"Results!D55","v":0},{"$f":"Results!G55","v":""},"- vs -",{"$f":"VLOOKUP(B52,Results!$A$8:AK106,37,FALSE)","v":{"$error":"#N/A"}},{"$f":"VLOOKUP(H52,Results!A$8:G107,3,FALSE)","v":{"$error":"#N/A"}},{"$f":"VLOOKUP(H52,Results!$A$8:G107,2,FALSE)","v":{"$error":"#N/A"}},{"$f":"VLOOKUP(H52,Results!$A$8:G107,4,FALSE)","v":{"$error":"#N/A"}},{"$f":"VLOOKUP(H52,Results!$A$8:G107,7,FALSE)","v":{"$error":"#N/A"}},{"$f":"VLOOKUP(H52,$B$4:B52,1,FALSE)","v":{"$error":"#N/A"}}]
[null,{"$f":"Results!A56","v":0},{"$f":"Results!C56","v":0},{"$f":"Results!B56","v":0},{"$f":"Results!D56","v":0},{"$f":"Results!G56","v":""},"- vs -",{"$f":"VLOOKUP(B53,Results!$A$8:AK107,37,FALSE)","v":{"$error":"#N/A"}},{"$f":"VLOOKUP(H53,Results!A$8:G108,3,FALSE)","v":{"$error":"#N/A"}},{"$f":"VLOOKUP(H53,Results!$A$8:G108,2,FALSE)","v":{"$error":"#N/A"}},{"$f":"VLOOKUP(H53,Results!$A$8:G108,4,FALSE)","v":{"$error":"#N/A"}},{"$f":"VLOOKUP(H53,Results!$A$8:G108,7,FALSE)","v":{"$error":"#N/A"}},{"$f":"VLOOKUP(H53,$B$4:B53,1,FALSE)","v":{"$error":"#N/A"}}]
[null,{"$f":"Results!A57","v":0},{"$f":"Results!C57","v":0},{"$f":"Results!B57","v":0},{"$f":"Results!D57","v":0},{"$f":"Results!G57","v":""},"- vs -",{"$f":"VLOOKUP(B54,Results!$A$8:AK108,37,FALSE)","v":{"$error":"#N/A"}},{"$f":"VLOOKUP(H54,Results!A$8:G109,3,FALSE)","v":{"$error":"#N/A"}},{"$f":"VLOOKUP(H54,Results!$A$8:G109,2,FALSE)","v":{"$error":"#N/A"}},{"$f":"VLOOKUP(H54,Results!$A$8:G109,4,FALSE)","v":{"$error":"#N/A"}},{"$f":"VLOOKUP(H54,Results!$A$8:G109,7,FALSE)","v":{"$error":"#N/A"}},{"$f":"VLOOKUP(H54,$B$4:B54,1,FALSE)","v":{"$error":"#N/A"}}]
[null,{"$f":"Results!A58","v":0},{"$f":"Results!C58","v":0},{"$f":"Results!B58","v":0},{"$f":"Results!D58","v":0},{"$f":"Results!G58","v":""},"- vs -",{"$f":"VLOOKUP(B55,Results!$A$8:AK109,37,FALSE)","v":{"$error":"#N/A"}},{"$f":"VLOOKUP(H55,Results!A$8:G110,3,FALSE)","v":{"$error":"#N/A"}},{"$f":"VLOOKUP(H55,Results!$A$8:G110,2,FALSE)","v":{"$error":"#N/A"}},{"$f":"VLOOKUP(H55,Results!$A$8:G110,4,FALSE)","v":{"$error":"#N/A"}},{"$f":"VLOOKUP(H55,Results!$A$8:G110,7,FALSE)","v":{"$error":"#N/A"}},{"$f":"VLOOKUP(H55,$B$4:B55,1,FALSE)","v":{"$error":"#N/A"}}]
[null,{"$f":"Results!A59","v":0},{"$f":"Results!C59","v":0},{"$f":"Results!B59","v":0},{"$f":"Results!D59","v":0},{"$f":"Results!G59","v":""},"- vs -",{"$f":"VLOOKUP(B56,Results!$A$8:AK110,37,FALSE)","v":{"$error":"#N/A"}},{"$f":"VLOOKUP(H56,Results!A$8:G111,3,FALSE)","v":{"$error":"#N/A"}},{"$f":"VLOOKUP(H56,Results!$A$8:G111,2,FALSE)","v":{"$error":"#N/A"}},{"$f":"VLOOKUP(H56,Results!$A$8:G111,4,FALSE)","v":{"$error":"#N/A"}},{"$f":"VLOOKUP(H56,Results!$A$8:G111,7,FALSE)","v":{"$error":"#N/A"}},{"$f":"VLOOKUP(H56,$B$4:B56,1,FALSE)","v":{"$error":"#N/A"}}]
[null,{"$f":"Results!A60","v":0},{"$f":"Results!C60","v":0},{"$f":"Results!B60","v":0},{"$f":"Results!D60","v":0},{"$f":"Results!G60","v":""},"- vs -",{"$f":"VLOOKUP(B57,Results!$A$8:AK111,37,FALSE)","v":{"$error":"#N/A"}},{"$f":"VLOOKUP(H57,Results!A$8:G112,3,FALSE)","v":{"$error":"#N/A"}},{"$f":"VLOOKUP(H57,Results!$A$8:G112,2,FALSE)","v":{"$error":"#N/A"}},{"$f":"VLOOKUP(H57,Results!$A$8:G112,4,FALSE)","v":{"$error":"#N/A"}},{"$f":"VLOOKUP(H57,Results!$A$8:G112,7,FALSE)","v":{"$error":"#N/A"}},{"$f":"VLOOKUP(H57,$B$4:B57,1,FALSE)","v":{"$error":"#N/A"}}]
[null,{"$f":"Results!A61","v":0},{"$f":"Results!C61","v":0},{"$f":"Results!B61","v":0},{"$f":"Results!D61","v":0},{"$f":"Results!G61","v":0},"- vs -",{"$f":"VLOOKUP(B58,Results!$A$8:AK112,37,FALSE)","v":{"$error":"#N/A"}},{"$f":"VLOOKUP(H58,Results!A$8:G113,3,FALSE)","v":{"$error":"#N/A"}},{"$f":"VLOOKUP(H58,Results!$A$8:G113,2,FALSE)","v":{"$error":"#N/A"}},{"$f":"VLOOKUP(H58,Results!$A$8:G113,4,FALSE)","v":{"$error":"#N/A"}},{"$f":"VLOOKUP(H58,Results!$A$8:G113,7,FALSE)","v":{"$error":"#N/A"}},{"$f":"VLOOKUP(H58,$B$4:B58,1,FALSE)","v":{"$error":"#N/A"}}]
[null,{"$f":"Results!A62","v":0},{"$f":"Results!C62","v":0},{"$f":"Results!B62","v":0},{"$f":"Results!D62","v":0},{"$f":"Results!G62","v":0},"- vs -",{"$f":"VLOOKUP(B59,Results!$A$8:AK113,37,FALSE)","v":{"$error":"#N/A"}},{"$f":"VLOOKUP(H59,Results!A$8:G114,3,FALSE)","v":{"$error":"#N/A"}},{"$f":"VLOOKUP(H59,Results!$A$8:G114,2,FALSE)","v":{"$error":"#N/A"}},{"$f":"VLOOKUP(H59,Results!$A$8:G114,4,FALSE)","v":{"$error":"#N/A"}},{"$f":"VLOOKUP(H59,Results!$A$8:G114,7,FALSE)","v":{"$error":"#N/A"}},{"$f":"VLOOKUP(H59,$B$4:B59,1,FALSE)","v":{"$error":"#N/A"}}]
[null,{"$f":"Results!A63","v":0},{"$f":"Results!C63","v":0},{"$f":"Results!B63","v":0},{"$f":"Results!D63","v":0},{"$f":"Results!G63","v":0},"- vs -",{"$f":"VLOOKUP(B60,Results!$A$8:AK114,37,FALSE)","v":{"$error":"#N/A"}},{"$f":"VLOOKUP(H60,Results!A$8:G115,3,FALSE)","v":{"$error":"#N/A"}},{"$f":"VLOOKUP(H60,Results!$A$8:G115,2,FALSE)","v":{"$error":"#N/A"}},{"$f":"VLOOKUP(H60,Results!$A$8:G115,4,FALSE)","v":{"$error":"#N/A"}},{"$f":"VLOOKUP(H60,Results!$A$8:G115,7,FALSE)","v":{"$error":"#N/A"}},{"$f":"VLOOKUP(H60,$B$4:B60,1,FALSE)","v":{"$error":"#N/A"}}]
[null,{"$f":"Results!A64","v":0},{"$f":"Results!C64","v":0},{"$f":"Results!B64","v":0},{"$f":"Results!D64","v":0},{"$f":"Results!G64","v":0},"- vs -",{"$f":"VLOOKUP(B61,Results!$A$8:AK115,37,FALSE)","v":{"$error":"#N/A"}},{"$f":"VLOOKUP(H61,Results!A$8:G116,3,FALSE)","v":{"$error":"#N/A"}},{"$f":"VLOOKUP(H61,Results!$A$8:G116,2,FALSE)","v":{"$error":"#N/A"}},{"$f":"VLOOKUP(H61,Results!$A$8:G116,4,FALSE)","v":{"$error":"#N/A"}},{"$f":"VLOOKUP(H61,Results!$A$8:G116,7,FALSE)","v":{"$error":"#N/A"}},{"$f":"VLOOKUP(H61,$B$4:B61,1,FALSE)","v":{"$error":"#N/A"}}]
[null,{"$f":"Results!A65","v":0},{"$f":"Results!C65","v":0},{"$f":"Results!B65","v":0},{"$f":"Results!D65","v":0},{"$f":"Results!G65","v":0},"- vs -",{"$f":"VLOOKUP(B62,Results!$A$8:AK116,37,FALSE)","v":{"$error":"#N/A"}},{"$f":"VLOOKUP(H62,Results!A$8:G117,3,FALSE)","v":{"$error":"#N/A"}},{"$f":"VLOOKUP(H62,Results!$A$8:G117,2,FALSE)","v":{"$error":"#N/A"}},{"$f":"VLOOKUP(H62,Results!$A$8:G117,4,FALSE)","v":{"$error":"#N/A"}},{"$f":"VLOOKUP(H62,Results!$A$8:G117,7,FALSE)","v":{"$error":"#N/A"}},{"$f":"VLOOKUP(H62,$B$4:B62,1,FALSE)","v":{"$error":"#N/A"}}]
[null,{"$f":"Results!A66","v":0},{"$f":"Results!C66","v":0},{"$f":"Results!B66","v":0},{"$f":"Results!D66","v":0},{"$f":"Results!G66","v":0},"- vs -",{"$f":"VLOOKUP(B63,Results!$A$8:AK117,37,FALSE)","v":{"$error":"#N/A"}},{"$f":"VLOOKUP(H63,Results!A$8:G118,3,FALSE)","v":{"$error":"#N/A"}},{"$f":"VLOOKUP(H63,Results!$A$8:G118,2,FALSE)","v":{"$error":"#N/A"}},{"$f":"VLOOKUP(H63,Results!$A$8:G118,4,FALSE)","v":{"$error":"#N/A"}},{"$f":"VLOOKUP(H63,Results!$A$8:G118,7,FALSE)","v":{"$error":"#N/A"}},{"$f":"VLOOKUP(H63,$B$4:B63,1,FALSE)","v":{"$error":"#N/A"}}]

{"sheet":"Round 6","index":14,"n_rows":63,"n_cols":13,"rows_kept":63,"cut":false,"hidden":false,"merged":[]}
[]
["Round 5 Draw",null,{"$f":"Results!B3","v":0}]
[null,null,{"$f":"Results!B4","v":"Open Theme"}]
[null,null,null,null,null,null,null,null,null,null,null,null,"VALID?"]
[null,{"$f":"Results!A8","v":0},{"$f":"Results!C8","v":0},{"$f":"Results!B8","v":0},{"$f":"Results!D8","v":0},{"$f":"Results!G8","v":""},"- vs -",{"$f":"VLOOKUP(B5,Results!$A$8:AR59,44,FALSE)","v":{"$error":"#N/A"}},{"$f":"VLOOKUP(H5,Results!A$8:G60,3,FALSE)","v":{"$error":"#N/A"}},{"$f":"VLOOKUP(H5,Results!$A$8:G60,2,FALSE)","v":{"$error":"#N/A"}},{"$f":"VLOOKUP(H5,Results!$A$8:G60,4,FALSE)","v":{"$error":"#N/A"}},{"$f":"VLOOKUP(H5,Results!$A$8:G60,7,FALSE)","v":{"$error":"#N/A"}},{"$f":"VLOOKUP(H5,$B$4:B5,1,FALSE)","v":{"$error":"#N/A"}}]
[null,{"$f":"Results!A9","v":0},{"$f":"Results!C9","v":0},{"$f":"Results!B9","v":0},{"$f":"Results!D9","v":0},{"$f":"Results!G9","v":""},"- vs -",{"$f":"VLOOKUP(B6,Results!$A$8:AR60,44,FALSE)","v":{"$error":"#N/A"}},{"$f":"VLOOKUP(H6,Results!A$8:G61,3,FALSE)","v":{"$error":"#N/A"}},{"$f":"VLOOKUP(H6,Results!$A$8:G61,2,FALSE)","v":{"$error":"#N/A"}},{"$f":"VLOOKUP(H6,Results!$A$8:G61,4,FALSE)","v":{"$error":"#N/A"}},{"$f":"VLOOKUP(H6,Results!$A$8:G61,7,FALSE)","v":{"$error":"#N/A"}},{"$f":"VLOOKUP(H6,$B$4:B6,1,FALSE)","v":{"$error":"#N/A"}}]
[null,{"$f":"Results!A10","v":0},{"$f":"Results!C10","v":0},{"$f":"Results!B10","v":0},{"$f":"Results!D10","v":0},{"$f":"Results!G10","v":""},"- vs -",{"$f":"VLOOKUP(B7,Results!$A$8:AR61,44,FALSE)","v":{"$error":"#N/A"}},{"$f":"VLOOKUP(H7,Results!A$8:G62,3,FALSE)","v":{"$error":"#N/A"}},{"$f":"VLOOKUP(H7,Results!$A$8:G62,2,FALSE)","v":{"$error":"#N/A"}},{"$f":"VLOOKUP(H7,Results!$A$8:G62,4,FALSE)","v":{"$error":"#N/A"}},{"$f":"VLOOKUP(H7,Results!$A$8:G62,7,FALSE)","v":{"$error":"#N/A"}},{"$f":"VLOOKUP(H7,$B$4:B7,1,FALSE)","v":{"$error":"#N/A"}}]
[null,{"$f":"Results!A11","v":0},{"$f":"Results!C11","v":0},{"$f":"Results!B11","v":0},{"$f":"Results!D11","v":0},{"$f":"Results!G11","v":""},"- vs -",{"$f":"VLOOKUP(B8,Results!$A$8:AR62,44,FALSE)","v":{"$error":"#N/A"}},{"$f":"VLOOKUP(H8,Results!A$8:G63,3,FALSE)","v":{"$error":"#N/A"}},{"$f":"VLOOKUP(H8,Results!$A$8:G63,2,FALSE)","v":{"$error":"#N/A"}},{"$f":"VLOOKUP(H8,Results!$A$8:G63,4,FALSE)","v":{"$error":"#N/A"}},{"$f":"VLOOKUP(H8,Results!$A$8:G63,7,FALSE)","v":{"$error":"#N/A"}},{"$f":"VLOOKUP(H8,$B$4:B8,1,FALSE)","v":{"$error":"#N/A"}}]
[null,{"$f":"Results!A12","v":0},{"$f":"Results!C12","v":0},{"$f":"Results!B12","v":0},{"$f":"Results!D12","v":0},{"$f":"Results!G12","v":""},"- vs -",{"$f":"VLOOKUP(B9,Results!$A$8:AR63,44,FALSE)","v":{"$error":"#N/A"}},{"$f":"VLOOKUP(H9,Results!A$8:G64,3,FALSE)","v":{"$error":"#N/A"}},{"$f":"VLOOKUP(H9,Results!$A$8:G64,2,FALSE)","v":{"$error":"#N/A"}},{"$f":"VLOOKUP(H9,Results!$A$8:G64,4,FALSE)","v":{"$error":"#N/A"}},{"$f":"VLOOKUP(H9,Results!$A$8:G64,7,FALSE)","v":{"$error":"#N/A"}},{"$f":"VLOOKUP(H9,$B$4:B9,1,FALSE)","v":{"$error":"#N/A"}}]
[null,{"$f":"Results!A13","v":0},{"$f":"Results!C13","v":0},{"$f":"Results!B13","v":0},{"$f":"Results!D13","v":0},{"$f":"Results!G13","v":""},"- vs -",{"$f":"VLOOKUP(B10,Results!$A$8:AR64,44,FALSE)","v":{"$error":"#N/A"}},{"$f":"VLOOKUP(H10,Results!A$8:G65,3,FALSE)","v":{"$error":"#N/A"}},{"$f":"VLOOKUP(H10,Results!$A$8:G65,2,FALSE)","v":{"$error":"#N/A"}},{"$f":"VLOOKUP(H10,Results!$A$8:G65,4,FALSE)","v":{"$error":"#N/A"}},{"$f":"VLOOKUP(H10,Results!$A$8:G65,7,FALSE)","v":{"$error":"#N/A"}},{"$f":"VLOOKUP(H10,$B$4:B10,1,FALSE)","v":{"$error":"#N/A"}}]
[null,{"$f":"Results!A14","v":0},{"$f":"Results!C14","v":0},{"$f":"Results!B14","v":0},{"$f":"Results!D14","v":0},{"$f":"Results!G14","v":""},"- vs -",{"$f":"VLOOKUP(B11,Results!$A$8:AR65,44,FALSE)","v":{"$error":"#N/A"}},{"$f":"VLOOKUP(H11,Results!A$8:G66,3,FALSE)","v":{"$error":"#N/A"}},{"$f":"VLOOKUP(H11,Results!$A$8:G66,2,FALSE)","v":{"$error":"#N/A"}},{"$f":"VLOOKUP(H11,Results!$A$8:G66,4,FALSE)","v":{"$error":"#N/A"}},{"$f":"VLOOKUP(H11,Results!$A$8:G66,7,FALSE)","v":{"$error":"#N/A"}},{"$f":"VLOOKUP(H11,$B$4:B11,1,FALSE)","v":{"$error":"#N/A"}}]
[null,{"$f":"Results!A15","v":0},{"$f":"Results!C15","v":0},{"$f":"Results!B15","v":0},{"$f":"Results!D15","v":0},{"$f":"Results!G15","v":""},"- vs -",{"$f":"VLOOKUP(B12,Results!$A$8:AR66,44,FALSE)","v":{"$error":"#N/A"}},{"$f":"VLOOKUP(H12,Results!A$8:G67,3,FALSE)","v":{"$error":"#N/A"}},{"$f":"VLOOKUP(H12,Results!$A$8:G67,2,FALSE)","v":{"$error":"#N/A"}},{"$f":"VLOOKUP(H12,Results!$A$8:G67,4,FALSE)","v":{"$error":"#N/A"}},{"$f":"VLOOKUP(H12,Results!$A$8:G67,7,FALSE)","v":{"$error":"#N/A"}},{"$f":"VLOOKUP(H12,$B$4:B12,1,FALSE)","v":{"$error":"#N/A"}}]
[null,{"$f":"Results!A16","v":0},{"$f":"Results!C16","v":0},{"$f":"Results!B16","v":0},{"$f":"Results!D16","v":0},{"$f":"Results!G16","v":""},"- vs -",{"$f":"VLOOKUP(B13,Results!$A$8:AR67,44,FALSE)","v":{"$error":"#N/A"}},{"$f":"VLOOKUP(H13,Results!A$8:G68,3,FALSE)","v":{"$error":"#N/A"}},{"$f":"VLOOKUP(H13,Results!$A$8:G68,2,FALSE)","v":{"$error":"#N/A"}},{"$f":"VLOOKUP(H13,Results!$A$8:G68,4,FALSE)","v":{"$error":"#N/A"}},{"$f":"VLOOKUP(H13,Results!$A$8:G68,7,FALSE)","v":{"$error":"#N/A"}},{"$f":"VLOOKUP(H13,$B$4:B13,1,FALSE)","v":{"$error":"#N/A"}}]
[null,{"$f":"Results!A17","v":0},{"$f":"Results!C17","v":0},{"$f":"Results!B17","v":0},{"$f":"Results!D17","v":0},{"$f":"Results!G17","v":""},"- vs -",{"$f":"VLOOKUP(B14,Results!$A$8:AR68,44,FALSE)","v":{"$error":"#N/A"}},{"$f":"VLOOKUP(H14,Results!A$8:G69,3,FALSE)","v":{"$error":"#N/A"}},{"$f":"VLOOKUP(H14,Results!$A$8:G69,2,FALSE)","v":{"$error":"#N/A"}},{"$f":"VLOOKUP(H14,Results!$A$8:G69,4,FALSE)","v":{"$error":"#N/A"}},{"$f":"VLOOKUP(H14,Results!$A$8:G69,7,FALSE)","v":{"$error":"#N/A"}},{"$f":"VLOOKUP(H14,$B$4:B14,1,FALSE)","v":{"$error":"#N/A"}}]
[null,{"$f":"Results!A18","v":0},{"$f":"Results!C18","v":0},{"$f":"Results!B18","v":0},{"$f":"Results!D18","v":0},{"$f":"Results!G18","v":""},"- vs -",{"$f":"VLOOKUP(B15,Results!$A$8:AR69,44,FALSE)","v":{"$error":"#N/A"}},{"$f":"VLOOKUP(H15,Results!A$8:G70,3,FALSE)","v":{"$error":"#N/A"}},{"$f":"VLOOKUP(H15,Results!$A$8:G70,2,FALSE)","v":{"$error":"#N/A"}},{"$f":"VLOOKUP(H15,Results!$A$8:G70,4,FALSE)","v":{"$error":"#N/A"}},{"$f":"VLOOKUP(H15,Results!$A$8:G70,7,FALSE)","v":{"$error":"#N/A"}},{"$f":"VLOOKUP(H15,$B$4:B15,1,FALSE)","v":{"$error":"#N/A"}}]
[null,{"$f":"Results!A19","v":0},{"$f":"Results!C19","v":0},{"$f":"Results!B19","v":0},{"$f":"Results!D19","v":0},{"$f":"Results!G19","v":""},"- vs -",{"$f":"VLOOKUP(B16,Results!$A$8:AR70,44,FALSE)","v":{"$error":"#N/A"}},{"$f":"VLOOKUP(H16,Results!A$8:G71,3,FALSE)","v":{"$error":"#N/A"}},{"$f":"VLOOKUP(H16,Results!$A$8:G71,2,FALSE)","v":{"$error":"#N/A"}},{"$f":"VLOOKUP(H16,Results!$A$8:G71,4,FALSE)","v":{"$error":"#N/A"}},{"$f":"VLOOKUP(H16,Results!$A$8:G71,7,FALSE)","v":{"$error":"#N/A"}},{"$f":"VLOOKUP(H16,$B$4:B16,1,FALSE)","v":{"$error":"#N/A"}}]
[null,{"$f":"Results!A20","v":0},{"$f":"Results!C20","v":0},{"$f":"Results!B20","v":0},{"$f":"Results!D20","v":0},{"$f":"Results!G20","v":""},"- vs -",{"$f":"VLOOKUP(B17,Results!$A$8:AR71,44,FALSE)","v":{"$error":"#N/A"}},{"$f":"VLOOKUP(H17,Results!A$8:G72,3,FALSE)","v":{"$error":"#N/A"}},{"$f":"VLOOKUP(H17,Results!$A$8:G72,2,FALSE)","v":{"$error":"#N/A"}},{"$f":"VLOOKUP(H17,Results!$A$8:G72,4,FALSE)","v":{"$error":"#N/A"}},{"$f":"VLOOKUP(H17,Results!$A$8:G72,7,FALSE)","v":{"$error":"#N/A"}},{"$f":"VLOOKUP(H17,$B$4:B17,1,FALSE)","v":{"$error":"#N/A"}}]
[null,{"$f":"Results!A21","v":0},{"$f":"Results!C21","v":0},{"$f":"Results!B21","v":0},{"$f":"Results!D21","v":0},{"$f":"Results!G21","v":""},"- vs -",{"$f":"VLOOKUP(B18,Results!$A$8:AR72,44,FALSE)","v":{"$error":"#N/A"}},{"$f":"VLOOKUP(H18,Results!A$8:G73,3,FALSE)","v":{"$error":"#N/A"}},{"$f":"VLOOKUP(H18,Results!$A$8:G73,2,FALSE)","v":{"$error":"#N/A"}},{"$f":"VLOOKUP(H18,Results!$A$8:G73,4,FALSE)","v":{"$error":"#N/A"}},{"$f":"VLOOKUP(H18,Results!$A$8:G73,7,FALSE)","v":{"$error":"#N/A"}},{"$f":"VLOOKUP(H18,$B$4:B18,1,FALSE)","v":{"$error":"#N/A"}}]
[null,{"$f":"Results!A22","v":0},{"$f":"Results!C22","v":0},{"$f":"Results!B22","v":0},{"$f":"Results!D22","v":0},{"$f":"Results!G22","v":""},"- vs -",{"$f":"VLOOKUP(B19,Results!$A$8:AR73,44,FALSE)","v":{"$error":"#N/A"}},{"$f":"VLOOKUP(H19,Results!A$8:G74,3,FALSE)","v":{"$error":"#N/A"}},{"$f":"VLOOKUP(H19,Results!$A$8:G74,2,FALSE)","v":{"$error":"#N/A"}},{"$f":"VLOOKUP(H19,Results!$A$8:G74,4,FALSE)","v":{"$error":"#N/A"}},{"$f":"VLOOKUP(H19,Results!$A$8:G74,7,FALSE)","v":{"$error":"#N/A"}},{"$f":"VLOOKUP(H19,$B$4:B19,1,FALSE)","v":{"$error":"#N/A"}}]
[null,{"$f":"Results!A23","v":0},{"$f":"Results!C23","v":0},{"$f":"Results!B23","v":0},{"$f":"Results!D23","v":0},{"$f":"Results!G23","v":""},"- vs -",{"$f":"VLOOKUP(B20,Results!$A$8:AR74,44,FALSE)","v":{"$error":"#N/A"}},{"$f":"VLOOKUP(H20,Results!A$8:G75,3,FALSE)","v":{"$error":"#N/A"}},{"$f":"VLOOKUP(H20,Results!$A$8:G75,2,FALSE)","v":{"$error":"#N/A"}},{"$f":"VLOOKUP(H20,Results!$A$8:G75,4,FALSE)","v":{"$error":"#N/A"}},{"$f":"VLOOKUP(H20,Results!$A$8:G75,7,FALSE)","v":{"$error":"#N/A"}},{"$f":"VLOOKUP(H20,$B$4:B20,1,FALSE)","v":{"$error":"#N/A"}}]
[null,{"$f":"Results!A24","v":0},{"$f":"Results!C24","v":0},{"$f":"Results!B24","v":0},{"$f":"Results!D24","v":0},{"$f":"Results!G24","v":""},"- vs -",{"$f":"VLOOKUP(B21,Results!$A$8:AR75,44,FALSE)","v":{"$error":"#N/A"}},{"$f":"VLOOKUP(H21,Results!A$8:G76,3,FALSE)","v":{"$error":"#N/A"}},{"$f":"VLOOKUP(H21,Results!$A$8:G76,2,FALSE)","v":{"$error":"#N/A"}},{"$f":"VLOOKUP(H21,Results!$A$8:G76,4,FALSE)","v":{"$error":"#N/A"}},{"$f":"VLOOKUP(H21,Results!$A$8:G76,7,FALSE)","v":{"$error":"#N/A"}},{"$f":"VLOOKUP(H21,$B$4:B21,1,FALSE)","v":{"$error":"#N/A"}}]
[null,{"$f":"Results!A25","v":0},{"$f":"Results!C25","v":0},{"$f":"Results!B25","v":0},{"$f":"Results!D25","v":0},{"$f":"Results!G25","v":""},"- vs -",{"$f":"VLOOKUP(B22,Results!$A$8:AR76,44,FALSE)","v":{"$error":"#N/A"}},{"$f":"VLOOKUP(H22,Results!A$8:G77,3,FALSE)","v":{"$error":"#N/A"}},{"$f":"VLOOKUP(H22,Results!$A$8:G77,2,FALSE)","v":{"$error":"#N/A"}},{"$f":"VLOOKUP(H22,Results!$A$8:G77,4,FALSE)","v":{"$error":"#N/A"}},{"$f":"VLOOKUP(H22,Results!$A$8:G77,7,FALSE)","v":{"$error":"#N/A"}},{"$f":"VLOOKUP(H22,$B$4:B22,1,FALSE)","v":{"$error":"#N/A"}}]
[null,{"$f":"Results!A26","v":0},{"$f":"Results!C26","v":0},{"$f":"Results!B26","v":0},{"$f":"Results!D26","v":0},{"$f":"Results!G26","v":""},"- vs -",{"$f":"VLOOKUP(B23,Results!$A$8:AR77,44,FALSE)","v":{"$error":"#N/A"}},{"$f":"VLOOKUP(H23,Results!A$8:G78,3,FALSE)","v":{"$error":"#N/A"}},{"$f":"VLOOKUP(H23,Results!$A$8:G78,2,FALSE)","v":{"$error":"#N/A"}},{"$f":"VLOOKUP(H23,Results!$A$8:G78,4,FALSE)","v":{"$error":"#N/A"}},{"$f":"VLOOKUP(H23,Results!$A$8:G78,7,FALSE)","v":{"$error":"#N/A"}},{"$f":"VLOOKUP(H23,$B$4:B23,1,FALSE)","v":{"$error":"#N/A"}}]
[null,{"$f":"Results!A27","v":0},{"$f":"Results!C27","v":0},{"$f":"Results!B27","v":0},{"$f":"Results!D27","v":0},{"$f":"Results!G27","v":""},"- vs -",{"$f":"VLOOKUP(B24,Results!$A$8:AR78,44,FALSE)","v":{"$error":"#N/A"}},{"$f":"VLOOKUP(H24,Results!A$8:G79,3,FALSE)","v":{"$error":"#N/A"}},{"$f":"VLOOKUP(H24,Results!$A$8:G79,2,FALSE)","v":{"$error":"#N/A"}},{"$f":"VLOOKUP(H24,Results!$A$8:G79,4,FALSE)","v":{"$error":"#N/A"}},{"$f":"VLOOKUP(H24,Results!$A$8:G79,7,FALSE)","v":{"$error":"#N/A"}},{"$f":"VLOOKUP(H24,$B$4:B24,1,FALSE)","v":{"$error":"#N/A"}}]
[null,{"$f":"Results!A28","v":0},{"$f":"Results!C28","v":0},{"$f":"Results!B28","v":0},{"$f":"Results!D28","v":0},{"$f":"Results!G28","v":""},"- vs -",{"$f":"VLOOKUP(B25,Results!$A$8:AR79,44,FALSE)","v":{"$error":"#N/A"}},{"$f":"VLOOKUP(H25,Results!A$8:G80,3,FALSE)","v":{"$error":"#N/A"}},{"$f":"VLOOKUP(H25,Results!$A$8:G80,2,FALSE)","v":{"$error":"#N/A"}},{"$f":"VLOOKUP(H25,Results!$A$8:G80,4,FALSE)","v":{"$error":"#N/A"}},{"$f":"VLOOKUP(H25,Results!$A$8:G80,7,FALSE)","v":{"$error":"#N/A"}},{"$f":"VLOOKUP(H25,$B$4:B25,1,FALSE)","v":{"$error":"#N/A"}}]
[null,{"$f":"Results!A29","v":0},{"$f":"Results!C29","v":0},{"$f":"Results!B29","v":0},{"$f":"Results!D29","v":0},{"$f":"Results!G29","v":""},"- vs -",{"$f":"VLOOKUP(B26,Results!$A$8:AR80,44,FALSE)","v":{"$error":"#N/A"}},{"$f":"VLOOKUP(H26,Results!A$8:G81,3,FALSE)","v":{"$error":"#N/A"}},{"$f":"VLOOKUP(H26,Results!$A$8:G81,2,FALSE)","v":{"$error":"#N/A"}},{"$f":"VLOOKUP(H26,Results!$A$8:G81,4,FALSE)","v":{"$error":"#N/A"}},{"$f":"VLOOKUP(H26,Results!$A$8:G81,7,FALSE)","v":{"$error":"#N/A"}},{"$f":"VLOOKUP(H26,$B$4:B26,1,FALSE)","v":{"$error":"#N/A"}}]
[null,{"$f":"Results!A30","v":0},{"$f":"Results!C30","v":0},{"$f":"Results!B30","v":0},{"$f":"Results!D30","v":0},{"$f":"Results!G30","v":""},"- vs -",{"$f":"VLOOKUP(B27,Results!$A$8:AR81,44,FALSE)","v":{"$error":"#N/A"}},{"$f":"VLOOKUP(H27,Results!A$8:G82,3,FALSE)","v":{"$error":"#N/A"}},{"$f":"VLOOKUP(H27,Results!$A$8:G82,2,FALSE)","v":{"$error":"#N/A"}},{"$f":"VLOOKUP(H27,Results!$A$8:G82,4,FALSE)","v":{"$error":"#N/A"}},{"$f":"VLOOKUP(H27,Results!$A$8:G82,7,FALSE)","v":{"$error":"#N/A"}},{"$f":"VLOOKUP(H27,$B$4:B27,1,FALSE)","v":{"$error":"#N/A"}}]
[null,{"$f":"Results!A31","v":0},{"$f":"Results!C31","v":0},{"$f":"Results!B31","v":0},{"$f":"Results!D31","v":0},{"$f":"Results!G31","v":""},"- vs -",{"$f":"VLOOKUP(B28,Results!$A$8:AR82,44,FALSE)","v":{"$error":"#N/A"}},{"$f":"VLOOKUP(H28,Results!A$8:G83,3,FALSE)","v":{"$error":"#N/A"}},{"$f":"VLOOKUP(H28,Results!$A$8:G83,2,FALSE)","v":{"$error":"#N/A"}},{"$f":"VLOOKUP(H28,Results!$A$8:G83,4,FALSE)","v":{"$error":"#N/A"}},{"$f":"VLOOKUP(H28,Results!$A$8:G83,7,FALSE)","v":{"$error":"#N/A"}},{"$f":"VLOOKUP(H28,$B$4:B28,1,FALSE)","v":{"$error":"#N/A"}}]
[null,{"$f":"Results!A32","v":0},{"$f":"Results!C32","v":0},{"$f":"Results!B32","v":0},{"$f":"Results!D32","v":0},{"$f":"Results!G32","v":""},"- vs -",{"$f":"VLOOKUP(B29,Results!$A$8:AR83,44,FALSE)","v":{"$error":"#N/A"}},{"$f":"VLOOKUP(H29,Results!A$8:G84,3,FALSE)","v":{"$error":"#N/A"}},{"$f":"VLOOKUP(H29,Results!$A$8:G84,2,FALSE)","v":{"$error":"#N/A"}},{"$f":"VLOOKUP(H29,Results!$A$8:G84,4,FALSE)","v":{"$error":"#N/A"}},{"$f":"VLOOKUP(H29,Results!$A$8:G84,7,FALSE)","v":{"$error":"#N/A"}},{"$f":"VLOOKUP(H29,$B$4:B29,1,FALSE)","v":{"$error":"#N/A"}}]
[null,{"$f":"Results!A33","v":0},{"$f":"Results!C33","v":0},{"$f":"Results!B33","v":0},{"$f":"Results!D33","v":0},{"$f":"Results!G33","v":""},"- vs -",{"$f":"VLOOKUP(B30,Results!$A$8:AR84,44,FALSE)","v":{"$error":"#N/A"}},{"$f":"VLOOKUP(H30,Results!A$8:G85,3,FALSE)","v":{"$error":"#N/A"}},{"$f":"VLOOKUP(H30,Results!$A$8:G85,2,FALSE)","v":{"$error":"#N/A"}},{"$f":"VLOOKUP(H30,Results!$A$8:G85,4,FALSE)","v":{"$error":"#N/A"}},{"$f":"VLOOKUP(H30,Results!$A$8:G85,7,FALSE)","v":{"$error":"#N/A"}},{"$f":"VLOOKUP(H30,$B$4:B30,1,FALSE)","v":{"$error":"#N/A"}}]
[null,{"$f":"Results!A34","v":0},{"$f":"Results!C34","v":0},{"$f":"Results!B34","v":0},{"$f":"Results!D34","v":0},{"$f":"Results!G34","v":""},"- vs -",{"$f":"VLOOKUP(B31,Results!$A$8:AR85,44,FALSE)","v":{"$error":"#N/A"}},{"$f":"VLOOKUP(H31,Results!A$8:G86,3,FALSE)","v":{"$error":"#N/A"}},{"$f":"VLOOKUP(H31,Results!$A$8:G86,2,FALSE)","v":{"$error":"#N/A"}},{"$f":"VLOOKUP(H31,Results!$A$8:G86,4,FALSE)","v":{"$error":"#N/A"}},{"$f":"VLOOKUP(H31,Results!$A$8:G86,7,FALSE)","v":{"$error":"#N/A"}},{"$f":"VLOOKUP(H31,$B$4:B31,1,FALSE)","v":{"$error":"#N/A"}}]
[null,{"$f":"Results!A35","v":0},{"$f":"Results!C35","v":0},{"$f":"Results!B35","v":0},{"$f":"Results!D35","v":0},{"$f":"Results!G35","v":""},"- vs -",{"$f":"VLOOKUP(B32,Results!$A$8:AR86,44,FALSE)","v":{"$error":"#N/A"}},{"$f":"VLOOKUP(H32,Results!A$8:G87,3,FALSE)","v":{"$error":"#N/A"}},{"$f":"VLOOKUP(H32,Results!$A$8:G87,2,FALSE)","v":{"$error":"#N/A"}},{"$f":"VLOOKUP(H32,Results!$A$8:G87,4,FALSE)","v":{"$error":"#N/A"}},{"$f":"VLOOKUP(H32,Results!$A$8:G87,7,FALSE)","v":{"$error":"#N/A"}},{"$f":"VLOOKUP(H32,$B$4:B32,1,FALSE)","v":{"$error":"#N/A"}}]
[null,{"$f":"Results!A36","v":0},{"$f":"Results!C36","v":0},{"$f":"Results!B36","v":0},{"$f":"Results!D36","v":0},{"$f":"Results!G36","v":""},"- vs -",{"$f":"VLOOKUP(B33,Results!$A$8:AR87,44,FALSE)","v":{"$error":"#N/A"}},{"$f":"VLOOKUP(H33,Results!A$8:G88,3,FALSE)","v":{"$error":"#N/A"}},{"$f":"VLOOKUP(H33,Results!$A$8:G88,2,FALSE)","v":{"$error":"#N/A"}},{"$f":"VLOOKUP(H33,Results!$A$8:G88,4,FALSE)","v":{"$error":"#N/A"}},{"$f":"VLOOKUP(H33,Results!$A$8:G88,7,FALSE)","v":{"$error":"#N/A"}},{"$f":"VLOOKUP(H33,$B$4:B33,1,FALSE)","v":{"$error":"#N/A"}}]
[null,{"$f":"Results!A37","v":0},{"$f":"Results!C37","v":0},{"$f":"Results!B37","v":0},{"$f":"Results!D37","v":0},{"$f":"Results!G37","v":""},"- vs -",{"$f":"VLOOKUP(B34,Results!$A$8:AR88,44,FALSE)","v":{"$error":"#N/A"}},{"$f":"VLOOKUP(H34,Results!A$8:G89,3,FALSE)","v":{"$error":"#N/A"}},{"$f":"VLOOKUP(H34,Results!$A$8:G89,2,FALSE)","v":{"$error":"#N/A"}},{"$f":"VLOOKUP(H34,Results!$A$8:G89,4,FALSE)","v":{"$error":"#N/A"}},{"$f":"VLOOKUP(H34,Results!$A$8:G89,7,FALSE)","v":{"$error":"#N/A"}},{"$f":"VLOOKUP(H34,$B$4:B34,1,FALSE)","v":{"$error":"#N/A"}}]
[null,{"$f":"Results!A38","v":0},{"$f":"Results!C38","v":0},{"$f":"Results!B38","v":0},{"$f":"Results!D38","v":0},{"$f":"Results!G38","v":""},"- vs -",{"$f":"VLOOKUP(B35,Results!$A$8:AR89,44,FALSE)","v":{"$error":"#N/A"}},{"$f":"VLOOKUP(H35,Results!A$8:G90,3,FALSE)","v":{"$error":"#N/A"}},{"$f":"VLOOKUP(H35,Results!$A$8:G90,2,FALSE)","v":{"$error":"#N/A"}},{"$f":"VLOOKUP(H35,Results!$A$8:G90,4,FALSE)","v":{"$error":"#N/A"}},{"$f":"VLOOKUP(H35,Results!$A$8:G90,7,FALSE)","v":{"$error":"#N/A"}},{"$f":"VLOOKUP(H35,$B$4:B35,1,FALSE)","v":{"$error":"#N/A"}}]
[null,{"$f":"Results!A39","v":0},{"$f":"Results!C39","v":0},{"$f":"Results!B39","v":0},{"$f":"Results!D39","v":0},{"$f":"Results!G39","v":""},"- vs -",{"$f":"VLOOKUP(B36,Results!$A$8:AR90,44,FALSE)","v":{"$error":"#N/A"}},{"$f":"VLOOKUP(H36,Results!A$8:G91,3,FALSE)","v":{"$error":"#N/A"}},{"$f":"VLOOKUP(H36,Results!$A$8:G91,2,FALSE)","v":{"$error":"#N/A"}},{"$f":"VLOOKUP(H36,Results!$A$8:G91,4,FALSE)","v":{"$error":"#N/A"}},{"$f":"VLOOKUP(H36,Results!$A$8:G91,7,FALSE)","v":{"$error":"#N/A"}},{"$f":"VLOOKUP(H36,$B$4:B36,1,FALSE)","v":{"$error":"#N/A"}}]
[null,{"$f":"Results!A40","v":0},{"$f":"Results!C40","v":0},{"$f":"Results!B40","v":0},{"$f":"Results!D40","v":0},{"$f":"Results!G40","v":""},"- vs -",{"$f":"VLOOKUP(B37,Results!$A$8:AR91,44,FALSE)","v":{"$error":"#N/A"}},{"$f":"VLOOKUP(H37,Results!A$8:G92,3,FALSE)","v":{"$error":"#N/A"}},{"$f":"VLOOKUP(H37,Results!$A$8:G92,2,FALSE)","v":{"$error":"#N/A"}},{"$f":"VLOOKUP(H37,Results!$A$8:G92,4,FALSE)","v":{"$error":"#N/A"}},{"$f":"VLOOKUP(H37,Results!$A$8:G92,7,FALSE)","v":{"$error":"#N/A"}},{"$f":"VLOOKUP(H37,$B$4:B37,1,FALSE)","v":{"$error":"#N/A"}}]
[null,{"$f":"Results!A41","v":0},{"$f":"Results!C41","v":0},{"$f":"Results!B41","v":0},{"$f":"Results!D41","v":0},{"$f":"Results!G41","v":""},"- vs -",{"$f":"VLOOKUP(B38,Results!$A$8:AR92,44,FALSE)","v":{"$error":"#N/A"}},{"$f":"VLOOKUP(H38,Results!A$8:G93,3,FALSE)","v":{"$error":"#N/A"}},{"$f":"VLOOKUP(H38,Results!$A$8:G93,2,FALSE)","v":{"$error":"#N/A"}},{"$f":"VLOOKUP(H38,Results!$A$8:G93,4,FALSE)","v":{"$error":"#N/A"}},{"$f":"VLOOKUP(H38,Results!$A$8:G93,7,FALSE)","v":{"$error":"#N/A"}},{"$f":"VLOOKUP(H38,$B$4:B38,1,FALSE)","v":{"$error":"#N/A"}}]
[null,{"$f":"Results!A42","v":0},{"$f":"Results!C42","v":0},{"$f":"Results!B42","v":0},{"$f":"Results!D42","v":0},{"$f":"Results!G42","v":""},"- vs -",{"$f":"VLOOKUP(B39,Results!$A$8:AR93,44,FALSE)","v":{"$error":"#N/A"}},{"$f":"VLOOKUP(H39,Results!A$8:G94,3,FALSE)","v":{"$error":"#N/A"}},{"$f":"VLOOKUP(H39,Results!$A$8:G94,2,FALSE)","v":{"$error":"#N/A"}},{"$f":"VLOOKUP(H39,Results!$A$8:G94,4,FALSE)","v":{"$error":"#N/A"}},{"$f":"VLOOKUP(H39,Results!$A$8:G94,7,FALSE)","v":{"$error":"#N/A"}},{"$f":"VLOOKUP(H39,$B$4:B39,1,FALSE)","v":{"$error":"#N/A"}}]
[null,{"$f":"Results!A43","v":0},{"$f":"Results!C43","v":0},{"$f":"Results!B43","v":0},{"$f":"Results!D43","v":0},{"$f":"Results!G43","v":""},"- vs -",{"$f":"VLOOKUP(B40,Results!$A$8:AR94,44,FALSE)","v":{"$error":"#N/A"}},{"$f":"VLOOKUP(H40,Results!A$8:G95,3,FALSE)","v":{"$error":"#N/A"}},{"$f":"VLOOKUP(H40,Results!$A$8:G95,2,FALSE)","v":{"$error":"#N/A"}},{"$f":"VLOOKUP(H40,Results!$A$8:G95,4,FALSE)","v":{"$error":"#N/A"}},{"$f":"VLOOKUP(H40,Results!$A$8:G95,7,FALSE)","v":{"$error":"#N/A"}},{"$f":"VLOOKUP(H40,$B$4:B40,1,FALSE)","v":{"$error":"#N/A"}}]
[null,{"$f":"Results!A44","v":0},{"$f":"Results!C44","v":0},{"$f":"Results!B44","v":0},{"$f":"Results!D44","v":0},{"$f":"Results!G44","v":""},"- vs -",{"$f":"VLOOKUP(B41,Results!$A$8:AR95,44,FALSE)","v":{"$error":"#N/A"}},{"$f":"VLOOKUP(H41,Results!A$8:G96,3,FALSE)","v":{"$error":"#N/A"}},{"$f":"VLOOKUP(H41,Results!$A$8:G96,2,FALSE)","v":{"$error":"#N/A"}},{"$f":"VLOOKUP(H41,Results!$A$8:G96,4,FALSE)","v":{"$error":"#N/A"}},{"$f":"VLOOKUP(H41,Results!$A$8:G96,7,FALSE)","v":{"$error":"#N/A"}},{"$f":"VLOOKUP(H41,$B$4:B41,1,FALSE)","v":{"$error":"#N/A"}}]
[null,{"$f":"Results!A45","v":0},{"$f":"Results!C45","v":0},{"$f":"Results!B45","v":0},{"$f":"Results!D45","v":0},{"$f":"Results!G45","v":""},"- vs -",{"$f":"VLOOKUP(B42,Results!$A$8:AR96,44,FALSE)","v":{"$error":"#N/A"}},{"$f":"VLOOKUP(H42,Results!A$8:G97,3,FALSE)","v":{"$error":"#N/A"}},{"$f":"VLOOKUP(H42,Results!$A$8:G97,2,FALSE)","v":{"$error":"#N/A"}},{"$f":"VLOOKUP(H42,Results!$A$8:G97,4,FALSE)","v":{"$error":"#N/A"}},{"$f":"VLOOKUP(H42,Results!$A$8:G97,7,FALSE)","v":{"$error":"#N/A"}},{"$f":"VLOOKUP(H42,$B$4:B42,1,FALSE)","v":{"$error":"#N/A"}}]
[null,{"$f":"Results!A46","v":0},{"$f":"Results!C46","v":0},{"$f":"Results!B46","v":0},{"$f":"Results!D46","v":0},{"$f":"Results!G46","v":""},"- vs -",{"$f":"VLOOKUP(B43,Results!$A$8:AR97,44,FALSE)","v":{"$error":"#N/A"}},{"$f":"VLOOKUP(H43,Results!A$8:G98,3,FALSE)","v":{"$error":"#N/A"}},{"$f":"VLOOKUP(H43,Results!$A$8:G98,2,FALSE)","v":{"$error":"#N/A"}},{"$f":"VLOOKUP(H43,Results!$A$8:G98,4,FALSE)","v":{"$error":"#N/A"}},{"$f":"VLOOKUP(H43,Results!$A$8:G98,7,FALSE)","v":{"$error":"#N/A"}},{"$f":"VLOOKUP(H43,$B$4:B43,1,FALSE)","v":{"$error":"#N/A"}}]
[null,{"$f":"Results!A47","v":0},{"$f":"Results!C47","v":0},{"$f":"Results!B47","v":0},{"$f":"Results!D47","v":0},{"$f":"Results!G47","v":""},"- vs -",{"$f":"VLOOKUP(B44,Results!$A$8:AR98,44,FALSE)","v":{"$error":"#N/A"}},{"$f":"VLOOKUP(H44,Results!A$8:G99,3,FALSE)","v":{"$error":"#N/A"}},{"$f":"VLOOKUP(H44,Results!$A$8:G99,2,FALSE)","v":{"$error":"#N/A"}},{"$f":"VLOOKUP(H44,Results!$A$8:G99,4,FALSE)","v":{"$error":"#N/A"}},{"$f":"VLOOKUP(H44,Results!$A$8:G99,7,FALSE)","v":{"$error":"#N/A"}},{"$f":"VLOOKUP(H44,$B$4:B44,1,FALSE)","v":{"$error":"#N/A"}}]
[null,{"$f":"Results!A48","v":0},{"$f":"Results!C48","v":0},{"$f":"Results!B48","v":0},{"$f":"Results!D48","v":0},{"$f":"Results!G48","v":""},"- vs -",{"$f":"VLOOKUP(B45,Results!$A$8:AR99,44,FALSE)","v":{"$error":"#N/A"}},{"$f":"VLOOKUP(H45,Results!A$8:G100,3,FALSE)","v":{"$error":"#N/A"}},{"$f":"VLOOKUP(H45,Results!$A$8:G100,2,FALSE)","v":{"$error":"#N/A"}},{"$f":"VLOOKUP(H45,Results!$A$8:G100,4,FALSE)","v":{"$error":"#N/A"}},{"$f":"VLOOKUP(H45,Results!$A$8:G100,7,FALSE)","v":{"$error":"#N/A"}},{"$f":"VLOOKUP(H45,$B$4:B45,1,FALSE)","v":{"$error":"#N/A"}}]
[null,{"$f":"Results!A49","v":0},{"$f":"Results!C49","v":0},{"$f":"Results!B49","v":0},{"$f":"Results!D49","v":0},{"$f":"Results!G49","v":""},"- vs -",{"$f":"VLOOKUP(B46,Results!$A$8:AR100,44,FALSE)","v":{"$error":"#N/A"}},{"$f":"VLOOKUP(H46,Results!A$8:G101,3,FALSE)","v":{"$error":"#N/A"}},{"$f":"VLOOKUP(H46,Results!$A$8:G101,2,FALSE)","v":{"$error":"#N/A"}},{"$f":"VLOOKUP(H46,Results!$A$8:G101,4,FALSE)","v":{"$error":"#N/A"}},{"$f":"VLOOKUP(H46,Results!$A$8:G101,7,FALSE)","v":{"$error":"#N/A"}},{"$f":"VLOOKUP(H46,$B$4:B46,1,FALSE)","v":{"$error":"#N/A"}}]
[null,{"$f":"Results!A50","v":0},{"$f":"Results!C50","v":0},{"$f":"Results!B50","v":0},{"$f":"Results!D50","v":0},{"$f":"Results!G50","v":""},"- vs -",{"$f":"VLOOKUP(B47,Results!$A$8:AR101,44,FALSE)","v":{"$error":"#N/A"}},{"$f":"VLOOKUP(H47,Results!A$8:G102,3,FALSE)","v":{"$error":"#N/A"}},{"$f":"VLOOKUP(H47,Results!$A$8:G102,2,FALSE)","v":{"$error":"#N/A"}},{"$f":"VLOOKUP(H47,Results!$A$8:G102,4,FALSE)","v":{"$error":"#N/A"}},{"$f":"VLOOKUP(H47,Results!$A$8:G102,7,FALSE)","v":{"$error":"#N/A"}},{"$f":"VLOOKUP(H47,$B$4:B47,1,FALSE)","v":{"$error":"#N/A"}}]
[null,{"$f":"Results!A51","v":0},{"$f":"Results!C51","v":0},{"$f":"Results!B51","v":0},{"$f":"Results!D51","v":0},{"$f":"Results!G51","v":""},"- vs -",{"$f":"VLOOKUP(B48,Results!$A$8:AR102,44,FALSE)","v":{"$error":"#N/A"}},{"$f":"VLOOKUP(H48,Results!A$8:G103,3,FALSE)","v":{"$error":"#N/A"}},{"$f":"VLOOKUP(H48,Results!$A$8:G103,2,FALSE)","v":{"$error":"#N/A"}},{"$f":"VLOOKUP(H48,Results!$A$8:G103,4,FALSE)","v":{"$error":"#N/A"}},{"$f":"VLOOKUP(H48,Results!$A$8:G103,7,FALSE)","v":{"$error":"#N/A"}},{"$f":"VLOOKUP(H48,$B$4:B48,1,FALSE)","v":{"$error":"#N/A"}}]
[null,{"$f":"Results!A52","v":0},{"$f":"Results!C52","v":0},{"$f":"Results!B52","v":0},{"$f":"Results!D52","v":0},{"$f":"Results!G52","v":""},"- vs -",{"$f":"VLOOKUP(B49,Results!$A$8:AR103,44,FALSE)","v":{"$error":"#N/A"}},{"$f":"VLOOKUP(H49,Results!A$8:G104,3,FALSE)","v":{"$error":"#N/A"}},{"$f":"VLOOKUP(H49,Results!$A$8:G104,2,FALSE)","v":{"$error":"#N/A"}},{"$f":"VLOOKUP(H49,Results!$A$8:G104,4,FALSE)","v":{"$error":"#N/A"}},{"$f":"VLOOKUP(H49,Results!$A$8:G104,7,FALSE)","v":{"$error":"#N/A"}},{"$f":"VLOOKUP(H49,$B$4:B49,1,FALSE)","v":{"$error":"#N/A"}}]
[null,{"$f":"Results!A53","v":0},{"$f":"Results!C53","v":0},{"$f":"Results!B53","v":0},{"$f":"Results!D53","v":0},{"$f":"Results!G53","v":""},"- vs -",{"$f":"VLOOKUP(B50,Results!$A$8:AR104,44,FALSE)","v":{"$error":"#N/A"}},{"$f":"VLOOKUP(H50,Results!A$8:G105,3,FALSE)","v":{"$error":"#N/A"}},{"$f":"VLOOKUP(H50,Results!$A$8:G105,2,FALSE)","v":{"$error":"#N/A"}},{"$f":"VLOOKUP(H50,Results!$A$8:G105,4,FALSE)","v":{"$error":"#N/A"}},{"$f":"VLOOKUP(H50,Results!$A$8:G105,7,FALSE)","v":{"$error":"#N/A"}},{"$f":"VLOOKUP(H50,$B$4:B50,1,FALSE)","v":{"$error":"#N/A"}}]
[null,{"$f":"Results!A54","v":0},{"$f":"Results!C54","v":0},{"$f":"Results!B54","v":0},{"$f":"Results!D54","v":0},{"$f":"Results!G54","v":""},"- vs -",{"$f":"VLOOKUP(B51,Results!$A$8:AR105,44,FALSE)","v":{"$error":"#N/A"}},{"$f":"VLOOKUP(H51,Results!A$8:G106,3,FALSE)","v":{"$error":"#N/A"}},{"$f":"VLOOKUP(H51,Results!$A$8:G106,2,FALSE)","v":{"$error":"#N/A"}},{"$f":"VLOOKUP(H51,Results!$A$8:G106,4,FALSE)","v":{"$error":"#N/A"}},{"$f":"VLOOKUP(H51,Results!$A$8:G106,7,FALSE)","v":{"$error":"#N/A"}},{"$f":"VLOOKUP(H51,$B$4:B51,1,FALSE)","v":{"$error":"#N/A"}}]
[null,{"$f":"Results!A55","v":0},{"$f":"Results!C55","v":0},{"$f":"Results!B55","v":0},{"$f":"Results!D55","v":0},{"$f":"Results!G55","v":""},"- vs -",{"$f":"VLOOKUP(B52,Results!$A$8:AR106,44,FALSE)","v":{"$error":"#N/A"}},{"$f":"VLOOKUP(H52,Results!A$8:G107,3,FALSE)","v":{"$error":"#N/A"}},{"$f":"VLOOKUP(H52,Results!$A$8:G107,2,FALSE)","v":{"$error":"#N/A"}},{"$f":"VLOOKUP(H52,Results!$A$8:G107,4,FALSE)","v":{"$error":"#N/A"}},{"$f":"VLOOKUP(H52,Results!$A$8:G107,7,FALSE)","v":{"$error":"#N/A"}},{"$f":"VLOOKUP(H52,$B$4:B52,1,FALSE)","v":{"$error":"#N/A"}}]
[null,{"$f":"Results!A56","v":0},{"$f":"Results!C56","v":0},{"$f":"Results!B56","v":0},{"$f":"Results!D56","v":0},{"$f":"Results!G56","v":""},"- vs -",{"$f":"VLOOKUP(B53,Results!$A$8:AR107,44,FALSE)","v":{"$error":"#N/A"}},{"$f":"VLOOKUP(H53,Results!A$8:G108,3,FALSE)","v":{"$error":"#N/A"}},{"$f":"VLOOKUP(H53,Results!$A$8:G108,2,FALSE)","v":{"$error":"#N/A"}},{"$f":"VLOOKUP(H53,Results!$A$8:G108,4,FALSE)","v":{"$error":"#N/A"}},{"$f":"VLOOKUP(H53,Results!$A$8:G108,7,FALSE)","v":{"$error":"#N/A"}},{"$f":"VLOOKUP(H53,$B$4:B53,1,FALSE)","v":{"$error":"#N/A"}}]
[null,{"$f":"Results!A57","v":0},{"$f":"Results!C57","v":0},{"$f":"Results!B57","v":0},{"$f":"Results!D57","v":0},{"$f":"Results!G57","v":""},"- vs -",{"$f":"VLOOKUP(B54,Results!$A$8:AR108,44,FALSE)","v":{"$error":"#N/A"}},{"$f":"VLOOKUP(H54,Results!A$8:G109,3,FALSE)","v":{"$error":"#N/A"}},{"$f":"VLOOKUP(H54,Results!$A$8:G109,2,FALSE)","v":{"$error":"#N/A"}},{"$f":"VLOOKUP(H54,Results!$A$8:G109,4,FALSE)","v":{"$error":"#N/A"}},{"$f":"VLOOKUP(H54,Results!$A$8:G109,7,FALSE)","v":{"$error":"#N/A"}},{"$f":"VLOOKUP(H54,$B$4:B54,1,FALSE)","v":{"$error":"#N/A"}}]
[null,{"$f":"Results!A58","v":0},{"$f":"Results!C58","v":0},{"$f":"Results!B58","v":0},{"$f":"Results!D58","v":0},{"$f":"Results!G58","v":""},"- vs -",{"$f":"VLOOKUP(B55,Results!$A$8:AR109,44,FALSE)","v":{"$error":"#N/A"}},{"$f":"VLOOKUP(H55,Results!A$8:G110,3,FALSE)","v":{"$error":"#N/A"}},{"$f":"VLOOKUP(H55,Results!$A$8:G110,2,FALSE)","v":{"$error":"#N/A"}},{"$f":"VLOOKUP(H55,Results!$A$8:G110,4,FALSE)","v":{"$error":"#N/A"}},{"$f":"VLOOKUP(H55,Results!$A$8:G110,7,FALSE)","v":{"$error":"#N/A"}},{"$f":"VLOOKUP(H55,$B$4:B55,1,FALSE)","v":{"$error":"#N/A"}}]
[null,{"$f":"Results!A59","v":0},{"$f":"Results!C59","v":0},{"$f":"Results!B59","v":0},{"$f":"Results!D59","v":0},{"$f":"Results!G59","v":""},"- vs -",{"$f":"VLOOKUP(B56,Results!$A$8:AR110,44,FALSE)","v":{"$error":"#N/A"}},{"$f":"VLOOKUP(H56,Results!A$8:G111,3,FALSE)","v":{"$error":"#N/A"}},{"$f":"VLOOKUP(H56,Results!$A$8:G111,2,FALSE)","v":{"$error":"#N/A"}},{"$f":"VLOOKUP(H56,Results!$A$8:G111,4,FALSE)","v":{"$error":"#N/A"}},{"$f":"VLOOKUP(H56,Results!$A$8:G111,7,FALSE)","v":{"$error":"#N/A"}},{"$f":"VLOOKUP(H56,$B$4:B56,1,FALSE)","v":{"$error":"#N/A"}}]
[null,{"$f":"Results!A60","v":0},{"$f":"Results!C60","v":0},{"$f":"Results!B60","v":0},{"$f":"Results!D60","v":0},{"$f":"Results!G60","v":""},"- vs -",{"$f":"VLOOKUP(B57,Results!$A$8:AR111,44,FALSE)","v":{"$error":"#N/A"}},{"$f":"VLOOKUP(H57,Results!A$8:G112,3,FALSE)","v":{"$error":"#N/A"}},{"$f":"VLOOKUP(H57,Results!$A$8:G112,2,FALSE)","v":{"$error":"#N/A"}},{"$f":"VLOOKUP(H57,Results!$A$8:G112,4,FALSE)","v":{"$error":"#N/A"}},{"$f":"VLOOKUP(H57,Results!$A$8:G112,7,FALSE)","v":{"$error":"#N/A"}},{"$f":"VLOOKUP(H57,$B$4:B57,1,FALSE)","v":{"$error":"#N/A"}}]
[null,{"$f":"Results!A61","v":0},{"$f":"Results!C61","v":0},{"$f":"Results!B61","v":0},{"$f":"Results!D61","v":0},{"$f":"Results!G61","v":0},"- vs -",{"$f":"VLOOKUP(B58,Results!$A$8:AR112,44,FALSE)","v":{"$error":"#N/A"}},{"$f":"VLOOKUP(H58,Results!A$8:G113,3,FALSE)","v":{"$error":"#N/A"}},{"$f":"VLOOKUP(H58,Results!$A$8:G113,2,FALSE)","v":{"$error":"#N/A"}},{"$f":"VLOOKUP(H58,Results!$A$8:G113,4,FALSE)","v":{"$error":"#N/A"}},{"$f":"VLOOKUP(H58,Results!$A$8:G113,7,FALSE)","v":{"$error":"#N/A"}},{"$f":"VLOOKUP(H58,$B$4:B58,1,FALSE)","v":{"$error":"#N/A"}}]
[null,{"$f":"Results!A62","v":0},{"$f":"Results!C62","v":0},{"$f":"Results!B62","v":0},{"$f":"Results!D62","v":0},{"$f":"Results!G62","v":0},"- vs -",{"$f":"VLOOKUP(B59,Results!$A$8:AR113,44,FALSE)","v":{"$error":"#N/A"}},{"$f":"VLOOKUP(H59,Results!A$8:G114,3,FALSE)","v":{"$error":"#N/A"}},{"$f":"VLOOKUP(H59,Results!$A$8:G114,2,FALSE)","v":{"$error":"#N/A"}},{"$f":"VLOOKUP(H59,Results!$A$8:G114,4,FALSE)","v":{"$error":"#N/A"}},{"$f":"VLOOKUP(H59,Results!$A$8:G114,7,FALSE)","v":{"$error":"#N/A"}},{"$f":"VLOOKUP(H59,$B$4:B59,1,FALSE)","v":{"$error":"#N/A"}}]
[null,{"$f":"Results!A63","v":0},{"$f":"Results!C63","v":0},{"$f":"Results!B63","v":0},{"$f":"Results!D63","v":0},{"$f":"Results!G63","v":0},"- vs -",{"$f":"VLOOKUP(B60,Results!$A$8:AR114,44,FALSE)","v":{"$error":"#N/A"}},{"$f":"VLOOKUP(H60,Results!A$8:G115,3,FALSE)","v":{"$error":"#N/A"}},{"$f":"VLOOKUP(H60,Results!$A$8:G115,2,FALSE)","v":{"$error":"#N/A"}},{"$f":"VLOOKUP(H60,Results!$A$8:G115,4,FALSE)","v":{"$error":"#N/A"}},{"$f":"VLOOKUP(H60,Results!$A$8:G115,7,FALSE)","v":{"$error":"#N/A"}},{"$f":"VLOOKUP(H60,$B$4:B60,1,FALSE)","v":{"$error":"#N/A"}}]
[null,{"$f":"Results!A64","v":0},{"$f":"Results!C64","v":0},{"$f":"Results!B64","v":0},{"$f":"Results!D64","v":0},{"$f":"Results!G64","v":0},"- vs -",{"$f":"VLOOKUP(B61,Results!$A$8:AR115,44,FALSE)","v":{"$error":"#N/A"}},{"$f":"VLOOKUP(H61,Results!A$8:G116,3,FALSE)","v":{"$error":"#N/A"}},{"$f":"VLOOKUP(H61,Results!$A$8:G116,2,FALSE)","v":{"$error":"#N/A"}},{"$f":"VLOOKUP(H61,Results!$A$8:G116,4,FALSE)","v":{"$error":"#N/A"}},{"$f":"VLOOKUP(H61,Results!$A$8:G116,7,FALSE)","v":{"$error":"#N/A"}},{"$f":"VLOOKUP(H61,$B$4:B61,1,FALSE)","v":{"$error":"#N/A"}}]
[null,{"$f":"Results!A65","v":0},{"$f":"Results!C65","v":0},{"$f":"Results!B65","v":0},{"$f":"Results!D65","v":0},{"$f":"Results!G65","v":0},"- vs -",{"$f":"VLOOKUP(B62,Results!$A$8:AR116,44,FALSE)","v":{"$error":"#N/A"}},{"$f":"VLOOKUP(H62,Results!A$8:G117,3,FALSE)","v":{"$error":"#N/A"}},{"$f":"VLOOKUP(H62,Results!$A$8:G117,2,FALSE)","v":{"$error":"#N/A"}},{"$f":"VLOOKUP(H62,Results!$A$8:G117,4,FALSE)","v":{"$error":"#N/A"}},{"$f":"VLOOKUP(H62,Results!$A$8:G117,7,FALSE)","v":{"$error":"#N/A"}},{"$f":"VLOOKUP(H62,$B$4:B62,1,FALSE)","v":{"$error":"#N/A"}}]
[null,{"$f":"Results!A66","v":0},{"$f":"Results!C66","v":0},{"$f":"Results!B66","v":0},{"$f":"Results!D66","v":0},{"$f":"Results!G66","v":0},"- vs -",{"$f":"VLOOKUP(B63,Results!$A$8:AR117,44,FALSE)","v":{"$error":"#N/A"}},{"$f":"VLOOKUP(H63,Results!A$8:G118,3,FALSE)","v":{"$error":"#N/A"}},{"$f":"VLOOKUP(H63,Results!$A$8:G118,2,FALSE)","v":{"$error":"#N/A"}},{"$f":"VLOOKUP(H63,Results!$A$8:G118,4,FALSE)","v":{"$error":"#N/A"}},{"$f":"VLOOKUP(H63,Results!$A$8:G118,7,FALSE)","v":{"$error":"#N/A"}},{"$f":"VLOOKUP(H63,$B$4:B63,1,FALSE)","v":{"$error":"#N/A"}}]

{"sheet":"Round 7","index":15,"n_rows":63,"n_cols":13,"rows_kept":63,"cut":false,"hidden":false,"merged":[]}
[]
["Round 5 Draw",null,{"$f":"Results!B3","v":0}]
[null,null,{"$f":"Results!B4","v":"Open Theme"}]
[null,null,null,null,null,null,null,null,null,null,null,null,"VALID?"]
[null,{"$f":"Results!A8","v":0},{"$f":"Results!C8","v":0},{"$f":"Results!B8","v":0},{"$f":"Results!D8","v":0},{"$f":"Results!G8","v":""},"- vs -",{"$f":"VLOOKUP(B5,Results!$A$8:AY59,51,FALSE)","v":{"$error":"#N/A"}},{"$f":"VLOOKUP(H5,Results!A$8:G60,3,FALSE)","v":{"$error":"#N/A"}},{"$f":"VLOOKUP(H5,Results!$A$8:G60,2,FALSE)","v":{"$error":"#N/A"}},{"$f":"VLOOKUP(H5,Results!$A$8:G60,4,FALSE)","v":{"$error":"#N/A"}},{"$f":"VLOOKUP(H5,Results!$A$8:G60,7,FALSE)","v":{"$error":"#N/A"}},{"$f":"VLOOKUP(H5,$B$4:B5,1,FALSE)","v":{"$error":"#N/A"}}]
[null,{"$f":"Results!A9","v":0},{"$f":"Results!C9","v":0},{"$f":"Results!B9","v":0},{"$f":"Results!D9","v":0},{"$f":"Results!G9","v":""},"- vs -",{"$f":"VLOOKUP(B6,Results!$A$8:AY60,51,FALSE)","v":{"$error":"#N/A"}},{"$f":"VLOOKUP(H6,Results!A$8:G61,3,FALSE)","v":{"$error":"#N/A"}},{"$f":"VLOOKUP(H6,Results!$A$8:G61,2,FALSE)","v":{"$error":"#N/A"}},{"$f":"VLOOKUP(H6,Results!$A$8:G61,4,FALSE)","v":{"$error":"#N/A"}},{"$f":"VLOOKUP(H6,Results!$A$8:G61,7,FALSE)","v":{"$error":"#N/A"}},{"$f":"VLOOKUP(H6,$B$4:B6,1,FALSE)","v":{"$error":"#N/A"}}]
[null,{"$f":"Results!A10","v":0},{"$f":"Results!C10","v":0},{"$f":"Results!B10","v":0},{"$f":"Results!D10","v":0},{"$f":"Results!G10","v":""},"- vs -",{"$f":"VLOOKUP(B7,Results!$A$8:AY61,51,FALSE)","v":{"$error":"#N/A"}},{"$f":"VLOOKUP(H7,Results!A$8:G62,3,FALSE)","v":{"$error":"#N/A"}},{"$f":"VLOOKUP(H7,Results!$A$8:G62,2,FALSE)","v":{"$error":"#N/A"}},{"$f":"VLOOKUP(H7,Results!$A$8:G62,4,FALSE)","v":{"$error":"#N/A"}},{"$f":"VLOOKUP(H7,Results!$A$8:G62,7,FALSE)","v":{"$error":"#N/A"}},{"$f":"VLOOKUP(H7,$B$4:B7,1,FALSE)","v":{"$error":"#N/A"}}]
[null,{"$f":"Results!A11","v":0},{"$f":"Results!C11","v":0},{"$f":"Results!B11","v":0},{"$f":"Results!D11","v":0},{"$f":"Results!G11","v":""},"- vs -",{"$f":"VLOOKUP(B8,Results!$A$8:AY62,51,FALSE)","v":{"$error":"#N/A"}},{"$f":"VLOOKUP(H8,Results!A$8:G63,3,FALSE)","v":{"$error":"#N/A"}},{"$f":"VLOOKUP(H8,Results!$A$8:G63,2,FALSE)","v":{"$error":"#N/A"}},{"$f":"VLOOKUP(H8,Results!$A$8:G63,4,FALSE)","v":{"$error":"#N/A"}},{"$f":"VLOOKUP(H8,Results!$A$8:G63,7,FALSE)","v":{"$error":"#N/A"}},{"$f":"VLOOKUP(H8,$B$4:B8,1,FALSE)","v":{"$error":"#N/A"}}]
[null,{"$f":"Results!A12","v":0},{"$f":"Results!C12","v":0},{"$f":"Results!B12","v":0},{"$f":"Results!D12","v":0},{"$f":"Results!G12","v":""},"- vs -",{"$f":"VLOOKUP(B9,Results!$A$8:AY63,51,FALSE)","v":{"$error":"#N/A"}},{"$f":"VLOOKUP(H9,Results!A$8:G64,3,FALSE)","v":{"$error":"#N/A"}},{"$f":"VLOOKUP(H9,Results!$A$8:G64,2,FALSE)","v":{"$error":"#N/A"}},{"$f":"VLOOKUP(H9,Results!$A$8:G64,4,FALSE)","v":{"$error":"#N/A"}},{"$f":"VLOOKUP(H9,Results!$A$8:G64,7,FALSE)","v":{"$error":"#N/A"}},{"$f":"VLOOKUP(H9,$B$4:B9,1,FALSE)","v":{"$error":"#N/A"}}]
[null,{"$f":"Results!A13","v":0},{"$f":"Results!C13","v":0},{"$f":"Results!B13","v":0},{"$f":"Results!D13","v":0},{"$f":"Results!G13","v":""},"- vs -",{"$f":"VLOOKUP(B10,Results!$A$8:AY64,51,FALSE)","v":{"$error":"#N/A"}},{"$f":"VLOOKUP(H10,Results!A$8:G65,3,FALSE)","v":{"$error":"#N/A"}},{"$f":"VLOOKUP(H10,Results!$A$8:G65,2,FALSE)","v":{"$error":"#N/A"}},{"$f":"VLOOKUP(H10,Results!$A$8:G65,4,FALSE)","v":{"$error":"#N/A"}},{"$f":"VLOOKUP(H10,Results!$A$8:G65,7,FALSE)","v":{"$error":"#N/A"}},{"$f":"VLOOKUP(H10,$B$4:B10,1,FALSE)","v":{"$error":"#N/A"}}]
[null,{"$f":"Results!A14","v":0},{"$f":"Results!C14","v":0},{"$f":"Results!B14","v":0},{"$f":"Results!D14","v":0},{"$f":"Results!G14","v":""},"- vs -",{"$f":"VLOOKUP(B11,Results!$A$8:AY65,51,FALSE)","v":{"$error":"#N/A"}},{"$f":"VLOOKUP(H11,Results!A$8:G66,3,FALSE)","v":{"$error":"#N/A"}},{"$f":"VLOOKUP(H11,Results!$A$8:G66,2,FALSE)","v":{"$error":"#N/A"}},{"$f":"VLOOKUP(H11,Results!$A$8:G66,4,FALSE)","v":{"$error":"#N/A"}},{"$f":"VLOOKUP(H11,Results!$A$8:G66,7,FALSE)","v":{"$error":"#N/A"}},{"$f":"VLOOKUP(H11,$B$4:B11,1,FALSE)","v":{"$error":"#N/A"}}]
[null,{"$f":"Results!A15","v":0},{"$f":"Results!C15","v":0},{"$f":"Results!B15","v":0},{"$f":"Results!D15","v":0},{"$f":"Results!G15","v":""},"- vs -",{"$f":"VLOOKUP(B12,Results!$A$8:AY66,51,FALSE)","v":{"$error":"#N/A"}},{"$f":"VLOOKUP(H12,Results!A$8:G67,3,FALSE)","v":{"$error":"#N/A"}},{"$f":"VLOOKUP(H12,Results!$A$8:G67,2,FALSE)","v":{"$error":"#N/A"}},{"$f":"VLOOKUP(H12,Results!$A$8:G67,4,FALSE)","v":{"$error":"#N/A"}},{"$f":"VLOOKUP(H12,Results!$A$8:G67,7,FALSE)","v":{"$error":"#N/A"}},{"$f":"VLOOKUP(H12,$B$4:B12,1,FALSE)","v":{"$error":"#N/A"}}]
[null,{"$f":"Results!A16","v":0},{"$f":"Results!C16","v":0},{"$f":"Results!B16","v":0},{"$f":"Results!D16","v":0},{"$f":"Results!G16","v":""},"- vs -",{"$f":"VLOOKUP(B13,Results!$A$8:AY67,51,FALSE)","v":{"$error":"#N/A"}},{"$f":"VLOOKUP(H13,Results!A$8:G68,3,FALSE)","v":{"$error":"#N/A"}},{"$f":"VLOOKUP(H13,Results!$A$8:G68,2,FALSE)","v":{"$error":"#N/A"}},{"$f":"VLOOKUP(H13,Results!$A$8:G68,4,FALSE)","v":{"$error":"#N/A"}},{"$f":"VLOOKUP(H13,Results!$A$8:G68,7,FALSE)","v":{"$error":"#N/A"}},{"$f":"VLOOKUP(H13,$B$4:B13,1,FALSE)","v":{"$error":"#N/A"}}]
[null,{"$f":"Results!A17","v":0},{"$f":"Results!C17","v":0},{"$f":"Results!B17","v":0},{"$f":"Results!D17","v":0},{"$f":"Results!G17","v":""},"- vs -",{"$f":"VLOOKUP(B14,Results!$A$8:AY68,51,FALSE)","v":{"$error":"#N/A"}},{"$f":"VLOOKUP(H14,Results!A$8:G69,3,FALSE)","v":{"$error":"#N/A"}},{"$f":"VLOOKUP(H14,Results!$A$8:G69,2,FALSE)","v":{"$error":"#N/A"}},{"$f":"VLOOKUP(H14,Results!$A$8:G69,4,FALSE)","v":{"$error":"#N/A"}},{"$f":"VLOOKUP(H14,Results!$A$8:G69,7,FALSE)","v":{"$error":"#N/A"}},{"$f":"VLOOKUP(H14,$B$4:B14,1,FALSE)","v":{"$error":"#N/A"}}]
[null,{"$f":"Results!A18","v":0},{"$f":"Results!C18","v":0},{"$f":"Results!B18","v":0},{"$f":"Results!D18","v":0},{"$f":"Results!G18","v":""},"- vs -",{"$f":"VLOOKUP(B15,Results!$A$8:AY69,51,FALSE)","v":{"$error":"#N/A"}},{"$f":"VLOOKUP(H15,Results!A$8:G70,3,FALSE)","v":{"$error":"#N/A"}},{"$f":"VLOOKUP(H15,Results!$A$8:G70,2,FALSE)","v":{"$error":"#N/A"}},{"$f":"VLOOKUP(H15,Results!$A$8:G70,4,FALSE)","v":{"$error":"#N/A"}},{"$f":"VLOOKUP(H15,Results!$A$8:G70,7,FALSE)","v":{"$error":"#N/A"}},{"$f":"VLOOKUP(H15,$B$4:B15,1,FALSE)","v":{"$error":"#N/A"}}]
[null,{"$f":"Results!A19","v":0},{"$f":"Results!C19","v":0},{"$f":"Results!B19","v":0},{"$f":"Results!D19","v":0},{"$f":"Results!G19","v":""},"- vs -",{"$f":"VLOOKUP(B16,Results!$A$8:AY70,51,FALSE)","v":{"$error":"#N/A"}},{"$f":"VLOOKUP(H16,Results!A$8:G71,3,FALSE)","v":{"$error":"#N/A"}},{"$f":"VLOOKUP(H16,Results!$A$8:G71,2,FALSE)","v":{"$error":"#N/A"}},{"$f":"VLOOKUP(H16,Results!$A$8:G71,4,FALSE)","v":{"$error":"#N/A"}},{"$f":"VLOOKUP(H16,Results!$A$8:G71,7,FALSE)","v":{"$error":"#N/A"}},{"$f":"VLOOKUP(H16,$B$4:B16,1,FALSE)","v":{"$error":"#N/A"}}]
[null,{"$f":"Results!A20","v":0},{"$f":"Results!C20","v":0},{"$f":"Results!B20","v":0},{"$f":"Results!D20","v":0},{"$f":"Results!G20","v":""},"- vs -",{"$f":"VLOOKUP(B17,Results!$A$8:AY71,51,FALSE)","v":{"$error":"#N/A"}},{"$f":"VLOOKUP(H17,Results!A$8:G72,3,FALSE)","v":{"$error":"#N/A"}},{"$f":"VLOOKUP(H17,Results!$A$8:G72,2,FALSE)","v":{"$error":"#N/A"}},{"$f":"VLOOKUP(H17,Results!$A$8:G72,4,FALSE)","v":{"$error":"#N/A"}},{"$f":"VLOOKUP(H17,Results!$A$8:G72,7,FALSE)","v":{"$error":"#N/A"}},{"$f":"VLOOKUP(H17,$B$4:B17,1,FALSE)","v":{"$error":"#N/A"}}]
[null,{"$f":"Results!A21","v":0},{"$f":"Results!C21","v":0},{"$f":"Results!B21","v":0},{"$f":"Results!D21","v":0},{"$f":"Results!G21","v":""},"- vs -",{"$f":"VLOOKUP(B18,Results!$A$8:AY72,51,FALSE)","v":{"$error":"#N/A"}},{"$f":"VLOOKUP(H18,Results!A$8:G73,3,FALSE)","v":{"$error":"#N/A"}},{"$f":"VLOOKUP(H18,Results!$A$8:G73,2,FALSE)","v":{"$error":"#N/A"}},{"$f":"VLOOKUP(H18,Results!$A$8:G73,4,FALSE)","v":{"$error":"#N/A"}},{"$f":"VLOOKUP(H18,Results!$A$8:G73,7,FALSE)","v":{"$error":"#N/A"}},{"$f":"VLOOKUP(H18,$B$4:B18,1,FALSE)","v":{"$error":"#N/A"}}]
[null,{"$f":"Results!A22","v":0},{"$f":"Results!C22","v":0},{"$f":"Results!B22","v":0},{"$f":"Results!D22","v":0},{"$f":"Results!G22","v":""},"- vs -",{"$f":"VLOOKUP(B19,Results!$A$8:AY73,51,FALSE)","v":{"$error":"#N/A"}},{"$f":"VLOOKUP(H19,Results!A$8:G74,3,FALSE)","v":{"$error":"#N/A"}},{"$f":"VLOOKUP(H19,Results!$A$8:G74,2,FALSE)","v":{"$error":"#N/A"}},{"$f":"VLOOKUP(H19,Results!$A$8:G74,4,FALSE)","v":{"$error":"#N/A"}},{"$f":"VLOOKUP(H19,Results!$A$8:G74,7,FALSE)","v":{"$error":"#N/A"}},{"$f":"VLOOKUP(H19,$B$4:B19,1,FALSE)","v":{"$error":"#N/A"}}]
[null,{"$f":"Results!A23","v":0},{"$f":"Results!C23","v":0},{"$f":"Results!B23","v":0},{"$f":"Results!D23","v":0},{"$f":"Results!G23","v":""},"- vs -",{"$f":"VLOOKUP(B20,Results!$A$8:AY74,51,FALSE)","v":{"$error":"#N/A"}},{"$f":"VLOOKUP(H20,Results!A$8:G75,3,FALSE)","v":{"$error":"#N/A"}},{"$f":"VLOOKUP(H20,Results!$A$8:G75,2,FALSE)","v":{"$error":"#N/A"}},{"$f":"VLOOKUP(H20,Results!$A$8:G75,4,FALSE)","v":{"$error":"#N/A"}},{"$f":"VLOOKUP(H20,Results!$A$8:G75,7,FALSE)","v":{"$error":"#N/A"}},{"$f":"VLOOKUP(H20,$B$4:B20,1,FALSE)","v":{"$error":"#N/A"}}]
[null,{"$f":"Results!A24","v":0},{"$f":"Results!C24","v":0},{"$f":"Results!B24","v":0},{"$f":"Results!D24","v":0},{"$f":"Results!G24","v":""},"- vs -",{"$f":"VLOOKUP(B21,Results!$A$8:AY75,51,FALSE)","v":{"$error":"#N/A"}},{"$f":"VLOOKUP(H21,Results!A$8:G76,3,FALSE)","v":{"$error":"#N/A"}},{"$f":"VLOOKUP(H21,Results!$A$8:G76,2,FALSE)","v":{"$error":"#N/A"}},{"$f":"VLOOKUP(H21,Results!$A$8:G76,4,FALSE)","v":{"$error":"#N/A"}},{"$f":"VLOOKUP(H21,Results!$A$8:G76,7,FALSE)","v":{"$error":"#N/A"}},{"$f":"VLOOKUP(H21,$B$4:B21,1,FALSE)","v":{"$error":"#N/A"}}]
[null,{"$f":"Results!A25","v":0},{"$f":"Results!C25","v":0},{"$f":"Results!B25","v":0},{"$f":"Results!D25","v":0},{"$f":"Results!G25","v":""},"- vs -",{"$f":"VLOOKUP(B22,Results!$A$8:AY76,51,FALSE)","v":{"$error":"#N/A"}},{"$f":"VLOOKUP(H22,Results!A$8:G77,3,FALSE)","v":{"$error":"#N/A"}},{"$f":"VLOOKUP(H22,Results!$A$8:G77,2,FALSE)","v":{"$error":"#N/A"}},{"$f":"VLOOKUP(H22,Results!$A$8:G77,4,FALSE)","v":{"$error":"#N/A"}},{"$f":"VLOOKUP(H22,Results!$A$8:G77,7,FALSE)","v":{"$error":"#N/A"}},{"$f":"VLOOKUP(H22,$B$4:B22,1,FALSE)","v":{"$error":"#N/A"}}]
[null,{"$f":"Results!A26","v":0},{"$f":"Results!C26","v":0},{"$f":"Results!B26","v":0},{"$f":"Results!D26","v":0},{"$f":"Results!G26","v":""},"- vs -",{"$f":"VLOOKUP(B23,Results!$A$8:AY77,51,FALSE)","v":{"$error":"#N/A"}},{"$f":"VLOOKUP(H23,Results!A$8:G78,3,FALSE)","v":{"$error":"#N/A"}},{"$f":"VLOOKUP(H23,Results!$A$8:G78,2,FALSE)","v":{"$error":"#N/A"}},{"$f":"VLOOKUP(H23,Results!$A$8:G78,4,FALSE)","v":{"$error":"#N/A"}},{"$f":"VLOOKUP(H23,Results!$A$8:G78,7,FALSE)","v":{"$error":"#N/A"}},{"$f":"VLOOKUP(H23,$B$4:B23,1,FALSE)","v":{"$error":"#N/A"}}]
[null,{"$f":"Results!A27","v":0},{"$f":"Results!C27","v":0},{"$f":"Results!B27","v":0},{"$f":"Results!D27","v":0},{"$f":"Results!G27","v":""},"- vs -",{"$f":"VLOOKUP(B24,Results!$A$8:AY78,51,FALSE)","v":{"$error":"#N/A"}},{"$f":"VLOOKUP(H24,Results!A$8:G79,3,FALSE)","v":{"$error":"#N/A"}},{"$f":"VLOOKUP(H24,Results!$A$8:G79,2,FALSE)","v":{"$error":"#N/A"}},{"$f":"VLOOKUP(H24,Results!$A$8:G79,4,FALSE)","v":{"$error":"#N/A"}},{"$f":"VLOOKUP(H24,Results!$A$8:G79,7,FALSE)","v":{"$error":"#N/A"}},{"$f":"VLOOKUP(H24,$B$4:B24,1,FALSE)","v":{"$error":"#N/A"}}]
[null,{"$f":"Results!A28","v":0},{"$f":"Results!C28","v":0},{"$f":"Results!B28","v":0},{"$f":"Results!D28","v":0},{"$f":"Results!G28","v":""},"- vs -",{"$f":"VLOOKUP(B25,Results!$A$8:AY79,51,FALSE)","v":{"$error":"#N/A"}},{"$f":"VLOOKUP(H25,Results!A$8:G80,3,FALSE)","v":{"$error":"#N/A"}},{"$f":"VLOOKUP(H25,Results!$A$8:G80,2,FALSE)","v":{"$error":"#N/A"}},{"$f":"VLOOKUP(H25,Results!$A$8:G80,4,FALSE)","v":{"$error":"#N/A"}},{"$f":"VLOOKUP(H25,Results!$A$8:G80,7,FALSE)","v":{"$error":"#N/A"}},{"$f":"VLOOKUP(H25,$B$4:B25,1,FALSE)","v":{"$error":"#N/A"}}]
[null,{"$f":"Results!A29","v":0},{"$f":"Results!C29","v":0},{"$f":"Results!B29","v":0},{"$f":"Results!D29","v":0},{"$f":"Results!G29","v":""},"- vs -",{"$f":"VLOOKUP(B26,Results!$A$8:AY80,51,FALSE)","v":{"$error":"#N/A"}},{"$f":"VLOOKUP(H26,Results!A$8:G81,3,FALSE)","v":{"$error":"#N/A"}},{"$f":"VLOOKUP(H26,Results!$A$8:G81,2,FALSE)","v":{"$error":"#N/A"}},{"$f":"VLOOKUP(H26,Results!$A$8:G81,4,FALSE)","v":{"$error":"#N/A"}},{"$f":"VLOOKUP(H26,Results!$A$8:G81,7,FALSE)","v":{"$error":"#N/A"}},{"$f":"VLOOKUP(H26,$B$4:B26,1,FALSE)","v":{"$error":"#N/A"}}]
[null,{"$f":"Results!A30","v":0},{"$f":"Results!C30","v":0},{"$f":"Results!B30","v":0},{"$f":"Results!D30","v":0},{"$f":"Results!G30","v":""},"- vs -",{"$f":"VLOOKUP(B27,Results!$A$8:AY81,51,FALSE)","v":{"$error":"#N/A"}},{"$f":"VLOOKUP(H27,Results!A$8:G82,3,FALSE)","v":{"$error":"#N/A"}},{"$f":"VLOOKUP(H27,Results!$A$8:G82,2,FALSE)","v":{"$error":"#N/A"}},{"$f":"VLOOKUP(H27,Results!$A$8:G82,4,FALSE)","v":{"$error":"#N/A"}},{"$f":"VLOOKUP(H27,Results!$A$8:G82,7,FALSE)","v":{"$error":"#N/A"}},{"$f":"VLOOKUP(H27,$B$4:B27,1,FALSE)","v":{"$error":"#N/A"}}]
[null,{"$f":"Results!A31","v":0},{"$f":"Results!C31","v":0},{"$f":"Results!B31","v":0},{"$f":"Results!D31","v":0},{"$f":"Results!G31","v":""},"- vs -",{"$f":"VLOOKUP(B28,Results!$A$8:AY82,51,FALSE)","v":{"$error":"#N/A"}},{"$f":"VLOOKUP(H28,Results!A$8:G83,3,FALSE)","v":{"$error":"#N/A"}},{"$f":"VLOOKUP(H28,Results!$A$8:G83,2,FALSE)","v":{"$error":"#N/A"}},{"$f":"VLOOKUP(H28,Results!$A$8:G83,4,FALSE)","v":{"$error":"#N/A"}},{"$f":"VLOOKUP(H28,Results!$A$8:G83,7,FALSE)","v":{"$error":"#N/A"}},{"$f":"VLOOKUP(H28,$B$4:B28,1,FALSE)","v":{"$error":"#N/A"}}]
[null,{"$f":"Results!A32","v":0},{"$f":"Results!C32","v":0},{"$f":"Results!B32","v":0},{"$f":"Results!D32","v":0},{"$f":"Results!G32","v":""},"- vs -",{"$f":"VLOOKUP(B29,Results!$A$8:AY83,51,FALSE)","v":{"$error":"#N/A"}},{"$f":"VLOOKUP(H29,Results!A$8:G84,3,FALSE)","v":{"$error":"#N/A"}},{"$f":"VLOOKUP(H29,Results!$A$8:G84,2,FALSE)","v":{"$error":"#N/A"}},{"$f":"VLOOKUP(H29,Results!$A$8:G84,4,FALSE)","v":{"$error":"#N/A"}},{"$f":"VLOOKUP(H29,Results!$A$8:G84,7,FALSE)","v":{"$error":"#N/A"}},{"$f":"VLOOKUP(H29,$B$4:B29,1,FALSE)","v":{"$error":"#N/A"}}]
[null,{"$f":"Results!A33","v":0},{"$f":"Results!C33","v":0},{"$f":"Results!B33","v":0},{"$f":"Results!D33","v":0},{"$f":"Results!G33","v":""},"- vs -",{"$f":"VLOOKUP(B30,Results!$A$8:AY84,51,FALSE)","v":{"$error":"#N/A"}},{"$f":"VLOOKUP(H30,Results!A$8:G85,3,FALSE)","v":{"$error":"#N/A"}},{"$f":"VLOOKUP(H30,Results!$A$8:G85,2,FALSE)","v":{"$error":"#N/A"}},{"$f":"VLOOKUP(H30,Results!$A$8:G85,4,FALSE)","v":{"$error":"#N/A"}},{"$f":"VLOOKUP(H30,Results!$A$8:G85,7,FALSE)","v":{"$error":"#N/A"}},{"$f":"VLOOKUP(H30,$B$4:B30,1,FALSE)","v":{"$error":"#N/A"}}]
[null,{"$f":"Results!A34","v":0},{"$f":"Results!C34","v":0},{"$f":"Results!B34","v":0},{"$f":"Results!D34","v":0},{"$f":"Results!G34","v":""},"- vs -",{"$f":"VLOOKUP(B31,Results!$A$8:AY85,51,FALSE)","v":{"$error":"#N/A"}},{"$f":"VLOOKUP(H31,Results!A$8:G86,3,FALSE)","v":{"$error":"#N/A"}},{"$f":"VLOOKUP(H31,Results!$A$8:G86,2,FALSE)","v":{"$error":"#N/A"}},{"$f":"VLOOKUP(H31,Results!$A$8:G86,4,FALSE)","v":{"$error":"#N/A"}},{"$f":"VLOOKUP(H31,Results!$A$8:G86,7,FALSE)","v":{"$error":"#N/A"}},{"$f":"VLOOKUP(H31,$B$4:B31,1,FALSE)","v":{"$error":"#N/A"}}]
[null,{"$f":"Results!A35","v":0},{"$f":"Results!C35","v":0},{"$f":"Results!B35","v":0},{"$f":"Results!D35","v":0},{"$f":"Results!G35","v":""},"- vs -",{"$f":"VLOOKUP(B32,Results!$A$8:AY86,51,FALSE)","v":{"$error":"#N/A"}},{"$f":"VLOOKUP(H32,Results!A$8:G87,3,FALSE)","v":{"$error":"#N/A"}},{"$f":"VLOOKUP(H32,Results!$A$8:G87,2,FALSE)","v":{"$error":"#N/A"}},{"$f":"VLOOKUP(H32,Results!$A$8:G87,4,FALSE)","v":{"$error":"#N/A"}},{"$f":"VLOOKUP(H32,Results!$A$8:G87,7,FALSE)","v":{"$error":"#N/A"}},{"$f":"VLOOKUP(H32,$B$4:B32,1,FALSE)","v":{"$error":"#N/A"}}]
[null,{"$f":"Results!A36","v":0},{"$f":"Results!C36","v":0},{"$f":"Results!B36","v":0},{"$f":"Results!D36","v":0},{"$f":"Results!G36","v":""},"- vs -",{"$f":"VLOOKUP(B33,Results!$A$8:AY87,51,FALSE)","v":{"$error":"#N/A"}},{"$f":"VLOOKUP(H33,Results!A$8:G88,3,FALSE)","v":{"$error":"#N/A"}},{"$f":"VLOOKUP(H33,Results!$A$8:G88,2,FALSE)","v":{"$error":"#N/A"}},{"$f":"VLOOKUP(H33,Results!$A$8:G88,4,FALSE)","v":{"$error":"#N/A"}},{"$f":"VLOOKUP(H33,Results!$A$8:G88,7,FALSE)","v":{"$error":"#N/A"}},{"$f":"VLOOKUP(H33,$B$4:B33,1,FALSE)","v":{"$error":"#N/A"}}]
[null,{"$f":"Results!A37","v":0},{"$f":"Results!C37","v":0},{"$f":"Results!B37","v":0},{"$f":"Results!D37","v":0},{"$f":"Results!G37","v":""},"- vs -",{"$f":"VLOOKUP(B34,Results!$A$8:AY88,51,FALSE)","v":{"$error":"#N/A"}},{"$f":"VLOOKUP(H34,Results!A$8:G89,3,FALSE)","v":{"$error":"#N/A"}},{"$f":"VLOOKUP(H34,Results!$A$8:G89,2,FALSE)","v":{"$error":"#N/A"}},{"$f":"VLOOKUP(H34,Results!$A$8:G89,4,FALSE)","v":{"$error":"#N/A"}},{"$f":"VLOOKUP(H34,Results!$A$8:G89,7,FALSE)","v":{"$error":"#N/A"}},{"$f":"VLOOKUP(H34,$B$4:B34,1,FALSE)","v":{"$error":"#N/A"}}]
[null,{"$f":"Results!A38","v":0},{"$f":"Results!C38","v":0},{"$f":"Results!B38","v":0},{"$f":"Results!D38","v":0},{"$f":"Results!G38","v":""},"- vs -",{"$f":"VLOOKUP(B35,Results!$A$8:AY89,51,FALSE)","v":{"$error":"#N/A"}},{"$f":"VLOOKUP(H35,Results!A$8:G90,3,FALSE)","v":{"$error":"#N/A"}},{"$f":"VLOOKUP(H35,Results!$A$8:G90,2,FALSE)","v":{"$error":"#N/A"}},{"$f":"VLOOKUP(H35,Results!$A$8:G90,4,FALSE)","v":{"$error":"#N/A"}},{"$f":"VLOOKUP(H35,Results!$A$8:G90,7,FALSE)","v":{"$error":"#N/A"}},{"$f":"VLOOKUP(H35,$B$4:B35,1,FALSE)","v":{"$error":"#N/A"}}]
[null,{"$f":"Results!A39","v":0},{"$f":"Results!C39","v":0},{"$f":"Results!B39","v":0},{"$f":"Results!D39","v":0},{"$f":"Results!G39","v":""},"- vs -",{"$f":"VLOOKUP(B36,Results!$A$8:AY90,51,FALSE)","v":{"$error":"#N/A"}},{"$f":"VLOOKUP(H36,Results!A$8:G91,3,FALSE)","v":{"$error":"#N/A"}},{"$f":"VLOOKUP(H36,Results!$A$8:G91,2,FALSE)","v":{"$error":"#N/A"}},{"$f":"VLOOKUP(H36,Results!$A$8:G91,4,FALSE)","v":{"$error":"#N/A"}},{"$f":"VLOOKUP(H36,Results!$A$8:G91,7,FALSE)","v":{"$error":"#N/A"}},{"$f":"VLOOKUP(H36,$B$4:B36,1,FALSE)","v":{"$error":"#N/A"}}]
[null,{"$f":"Results!A40","v":0},{"$f":"Results!C40","v":0},{"$f":"Results!B40","v":0},{"$f":"Results!D40","v":0},{"$f":"Results!G40","v":""},"- vs -",{"$f":"VLOOKUP(B37,Results!$A$8:AY91,51,FALSE)","v":{"$error":"#N/A"}},{"$f":"VLOOKUP(H37,Results!A$8:G92,3,FALSE)","v":{"$error":"#N/A"}},{"$f":"VLOOKUP(H37,Results!$A$8:G92,2,FALSE)","v":{"$error":"#N/A"}},{"$f":"VLOOKUP(H37,Results!$A$8:G92,4,FALSE)","v":{"$error":"#N/A"}},{"$f":"VLOOKUP(H37,Results!$A$8:G92,7,FALSE)","v":{"$error":"#N/A"}},{"$f":"VLOOKUP(H37,$B$4:B37,1,FALSE)","v":{"$error":"#N/A"}}]
[null,{"$f":"Results!A41","v":0},{"$f":"Results!C41","v":0},{"$f":"Results!B41","v":0},{"$f":"Results!D41","v":0},{"$f":"Results!G41","v":""},"- vs -",{"$f":"VLOOKUP(B38,Results!$A$8:AY92,51,FALSE)","v":{"$error":"#N/A"}},{"$f":"VLOOKUP(H38,Results!A$8:G93,3,FALSE)","v":{"$error":"#N/A"}},{"$f":"VLOOKUP(H38,Results!$A$8:G93,2,FALSE)","v":{"$error":"#N/A"}},{"$f":"VLOOKUP(H38,Results!$A$8:G93,4,FALSE)","v":{"$error":"#N/A"}},{"$f":"VLOOKUP(H38,Results!$A$8:G93,7,FALSE)","v":{"$error":"#N/A"}},{"$f":"VLOOKUP(H38,$B$4:B38,1,FALSE)","v":{"$error":"#N/A"}}]
[null,{"$f":"Results!A42","v":0},{"$f":"Results!C42","v":0},{"$f":"Results!B42","v":0},{"$f":"Results!D42","v":0},{"$f":"Results!G42","v":""},"- vs -",{"$f":"VLOOKUP(B39,Results!$A$8:AY93,51,FALSE)","v":{"$error":"#N/A"}},{"$f":"VLOOKUP(H39,Results!A$8:G94,3,FALSE)","v":{"$error":"#N/A"}},{"$f":"VLOOKUP(H39,Results!$A$8:G94,2,FALSE)","v":{"$error":"#N/A"}},{"$f":"VLOOKUP(H39,Results!$A$8:G94,4,FALSE)","v":{"$error":"#N/A"}},{"$f":"VLOOKUP(H39,Results!$A$8:G94,7,FALSE)","v":{"$error":"#N/A"}},{"$f":"VLOOKUP(H39,$B$4:B39,1,FALSE)","v":{"$error":"#N/A"}}]
[null,{"$f":"Results!A43","v":0},{"$f":"Results!C43","v":0},{"$f":"Results!B43","v":0},{"$f":"Results!D43","v":0},{"$f":"Results!G43","v":""},"- vs -",{"$f":"VLOOKUP(B40,Results!$A$8:AY94,51,FALSE)","v":{"$error":"#N/A"}},{"$f":"VLOOKUP(H40,Results!A$8:G95,3,FALSE)","v":{"$error":"#N/A"}},{"$f":"VLOOKUP(H40,Results!$A$8:G95,2,FALSE)","v":{"$error":"#N/A"}},{"$f":"VLOOKUP(H40,Results!$A$8:G95,4,FALSE)","v":{"$error":"#N/A"}},{"$f":"VLOOKUP(H40,Results!$A$8:G95,7,FALSE)","v":{"$error":"#N/A"}},{"$f":"VLOOKUP(H40,$B$4:B40,1,FALSE)","v":{"$error":"#N/A"}}]
[null,{"$f":"Results!A44","v":0},{"$f":"Results!C44","v":0},{"$f":"Results!B44","v":0},{"$f":"Results!D44","v":0},{"$f":"Results!G44","v":""},"- vs -",{"$f":"VLOOKUP(B41,Results!$A$8:AY95,51,FALSE)","v":{"$error":"#N/A"}},{"$f":"VLOOKUP(H41,Results!A$8:G96,3,FALSE)","v":{"$error":"#N/A"}},{"$f":"VLOOKUP(H41,Results!$A$8:G96,2,FALSE)","v":{"$error":"#N/A"}},{"$f":"VLOOKUP(H41,Results!$A$8:G96,4,FALSE)","v":{"$error":"#N/A"}},{"$f":"VLOOKUP(H41,Results!$A$8:G96,7,FALSE)","v":{"$error":"#N/A"}},{"$f":"VLOOKUP(H41,$B$4:B41,1,FALSE)","v":{"$error":"#N/A"}}]
[null,{"$f":"Results!A45","v":0},{"$f":"Results!C45","v":0},{"$f":"Results!B45","v":0},{"$f":"Results!D45","v":0},{"$f":"Results!G45","v":""},"- vs -",{"$f":"VLOOKUP(B42,Results!$A$8:AY96,51,FALSE)","v":{"$error":"#N/A"}},{"$f":"VLOOKUP(H42,Results!A$8:G97,3,FALSE)","v":{"$error":"#N/A"}},{"$f":"VLOOKUP(H42,Results!$A$8:G97,2,FALSE)","v":{"$error":"#N/A"}},{"$f":"VLOOKUP(H42,Results!$A$8:G97,4,FALSE)","v":{"$error":"#N/A"}},{"$f":"VLOOKUP(H42,Results!$A$8:G97,7,FALSE)","v":{"$error":"#N/A"}},{"$f":"VLOOKUP(H42,$B$4:B42,1,FALSE)","v":{"$error":"#N/A"}}]
[null,{"$f":"Results!A46","v":0},{"$f":"Results!C46","v":0},{"$f":"Results!B46","v":0},{"$f":"Results!D46","v":0},{"$f":"Results!G46","v":""},"- vs -",{"$f":"VLOOKUP(B43,Results!$A$8:AY97,51,FALSE)","v":{"$error":"#N/A"}},{"$f":"VLOOKUP(H43,Results!A$8:G98,3,FALSE)","v":{"$error":"#N/A"}},{"$f":"VLOOKUP(H43,Results!$A$8:G98,2,FALSE)","v":{"$error":"#N/A"}},{"$f":"VLOOKUP(H43,Results!$A$8:G98,4,FALSE)","v":{"$error":"#N/A"}},{"$f":"VLOOKUP(H43,Results!$A$8:G98,7,FALSE)","v":{"$error":"#N/A"}},{"$f":"VLOOKUP(H43,$B$4:B43,1,FALSE)","v":{"$error":"#N/A"}}]
[null,{"$f":"Results!A47","v":0},{"$f":"Results!C47","v":0},{"$f":"Results!B47","v":0},{"$f":"Results!D47","v":0},{"$f":"Results!G47","v":""},"- vs -",{"$f":"VLOOKUP(B44,Results!$A$8:AY98,51,FALSE)","v":{"$error":"#N/A"}},{"$f":"VLOOKUP(H44,Results!A$8:G99,3,FALSE)","v":{"$error":"#N/A"}},{"$f":"VLOOKUP(H44,Results!$A$8:G99,2,FALSE)","v":{"$error":"#N/A"}},{"$f":"VLOOKUP(H44,Results!$A$8:G99,4,FALSE)","v":{"$error":"#N/A"}},{"$f":"VLOOKUP(H44,Results!$A$8:G99,7,FALSE)","v":{"$error":"#N/A"}},{"$f":"VLOOKUP(H44,$B$4:B44,1,FALSE)","v":{"$error":"#N/A"}}]
[null,{"$f":"Results!A48","v":0},{"$f":"Results!C48","v":0},{"$f":"Results!B48","v":0},{"$f":"Results!D48","v":0},{"$f":"Results!G48","v":""},"- vs -",{"$f":"VLOOKUP(B45,Results!$A$8:AY99,51,FALSE)","v":{"$error":"#N/A"}},{"$f":"VLOOKUP(H45,Results!A$8:G100,3,FALSE)","v":{"$error":"#N/A"}},{"$f":"VLOOKUP(H45,Results!$A$8:G100,2,FALSE)","v":{"$error":"#N/A"}},{"$f":"VLOOKUP(H45,Results!$A$8:G100,4,FALSE)","v":{"$error":"#N/A"}},{"$f":"VLOOKUP(H45,Results!$A$8:G100,7,FALSE)","v":{"$error":"#N/A"}},{"$f":"VLOOKUP(H45,$B$4:B45,1,FALSE)","v":{"$error":"#N/A"}}]
[null,{"$f":"Results!A49","v":0},{"$f":"Results!C49","v":0},{"$f":"Results!B49","v":0},{"$f":"Results!D49","v":0},{"$f":"Results!G49","v":""},"- vs -",{"$f":"VLOOKUP(B46,Results!$A$8:AY100,51,FALSE)","v":{"$error":"#N/A"}},{"$f":"VLOOKUP(H46,Results!A$8:G101,3,FALSE)","v":{"$error":"#N/A"}},{"$f":"VLOOKUP(H46,Results!$A$8:G101,2,FALSE)","v":{"$error":"#N/A"}},{"$f":"VLOOKUP(H46,Results!$A$8:G101,4,FALSE)","v":{"$error":"#N/A"}},{"$f":"VLOOKUP(H46,Results!$A$8:G101,7,FALSE)","v":{"$error":"#N/A"}},{"$f":"VLOOKUP(H46,$B$4:B46,1,FALSE)","v":{"$error":"#N/A"}}]
[null,{"$f":"Results!A50","v":0},{"$f":"Results!C50","v":0},{"$f":"Results!B50","v":0},{"$f":"Results!D50","v":0},{"$f":"Results!G50","v":""},"- vs -",{"$f":"VLOOKUP(B47,Results!$A$8:AY101,51,FALSE)","v":{"$error":"#N/A"}},{"$f":"VLOOKUP(H47,Results!A$8:G102,3,FALSE)","v":{"$error":"#N/A"}},{"$f":"VLOOKUP(H47,Results!$A$8:G102,2,FALSE)","v":{"$error":"#N/A"}},{"$f":"VLOOKUP(H47,Results!$A$8:G102,4,FALSE)","v":{"$error":"#N/A"}},{"$f":"VLOOKUP(H47,Results!$A$8:G102,7,FALSE)","v":{"$error":"#N/A"}},{"$f":"VLOOKUP(H47,$B$4:B47,1,FALSE)","v":{"$error":"#N/A"}}]
[null,{"$f":"Results!A51","v":0},{"$f":"Results!C51","v":0},{"$f":"Results!B51","v":0},{"$f":"Results!D51","v":0},{"$f":"Results!G51","v":""},"- vs -",{"$f":"VLOOKUP(B48,Results!$A$8:AY102,51,FALSE)","v":{"$error":"#N/A"}},{"$f":"VLOOKUP(H48,Results!A$8:G103,3,FALSE)","v":{"$error":"#N/A"}},{"$f":"VLOOKUP(H48,Results!$A$8:G103,2,FALSE)","v":{"$error":"#N/A"}},{"$f":"VLOOKUP(H48,Results!$A$8:G103,4,FALSE)","v":{"$error":"#N/A"}},{"$f":"VLOOKUP(H48,Results!$A$8:G103,7,FALSE)","v":{"$error":"#N/A"}},{"$f":"VLOOKUP(H48,$B$4:B48,1,FALSE)","v":{"$error":"#N/A"}}]
[null,{"$f":"Results!A52","v":0},{"$f":"Results!C52","v":0},{"$f":"Results!B52","v":0},{"$f":"Results!D52","v":0},{"$f":"Results!G52","v":""},"- vs -",{"$f":"VLOOKUP(B49,Results!$A$8:AY103,51,FALSE)","v":{"$error":"#N/A"}},{"$f":"VLOOKUP(H49,Results!A$8:G104,3,FALSE)","v":{"$error":"#N/A"}},{"$f":"VLOOKUP(H49,Results!$A$8:G104,2,FALSE)","v":{"$error":"#N/A"}},{"$f":"VLOOKUP(H49,Results!$A$8:G104,4,FALSE)","v":{"$error":"#N/A"}},{"$f":"VLOOKUP(H49,Results!$A$8:G104,7,FALSE)","v":{"$error":"#N/A"}},{"$f":"VLOOKUP(H49,$B$4:B49,1,FALSE)","v":{"$error":"#N/A"}}]
[null,{"$f":"Results!A53","v":0},{"$f":"Results!C53","v":0},{"$f":"Results!B53","v":0},{"$f":"Results!D53","v":0},{"$f":"Results!G53","v":""},"- vs -",{"$f":"VLOOKUP(B50,Results!$A$8:AY104,51,FALSE)","v":{"$error":"#N/A"}},{"$f":"VLOOKUP(H50,Results!A$8:G105,3,FALSE)","v":{"$error":"#N/A"}},{"$f":"VLOOKUP(H50,Results!$A$8:G105,2,FALSE)","v":{"$error":"#N/A"}},{"$f":"VLOOKUP(H50,Results!$A$8:G105,4,FALSE)","v":{"$error":"#N/A"}},{"$f":"VLOOKUP(H50,Results!$A$8:G105,7,FALSE)","v":{"$error":"#N/A"}},{"$f":"VLOOKUP(H50,$B$4:B50,1,FALSE)","v":{"$error":"#N/A"}}]
[null,{"$f":"Results!A54","v":0},{"$f":"Results!C54","v":0},{"$f":"Results!B54","v":0},{"$f":"Results!D54","v":0},{"$f":"Results!G54","v":""},"- vs -",{"$f":"VLOOKUP(B51,Results!$A$8:AY105,51,FALSE)","v":{"$error":"#N/A"}},{"$f":"VLOOKUP(H51,Results!A$8:G106,3,FALSE)","v":{"$error":"#N/A"}},{"$f":"VLOOKUP(H51,Results!$A$8:G106,2,FALSE)","v":{"$error":"#N/A"}},{"$f":"VLOOKUP(H51,Results!$A$8:G106,4,FALSE)","v":{"$error":"#N/A"}},{"$f":"VLOOKUP(H51,Results!$A$8:G106,7,FALSE)","v":{"$error":"#N/A"}},{"$f":"VLOOKUP(H51,$B$4:B51,1,FALSE)","v":{"$error":"#N/A"}}]
[null,{"$f":"Results!A55","v":0},{"$f":"Results!C55","v":0},{"$f":"Results!B55","v":0},{"$f":"Results!D55","v":0},{"$f":"Results!G55","v":""},"- vs -",{"$f":"VLOOKUP(B52,Results!$A$8:AY106,51,FALSE)","v":{"$error":"#N/A"}},{"$f":"VLOOKUP(H52,Results!A$8:G107,3,FALSE)","v":{"$error":"#N/A"}},{"$f":"VLOOKUP(H52,Results!$A$8:G107,2,FALSE)","v":{"$error":"#N/A"}},{"$f":"VLOOKUP(H52,Results!$A$8:G107,4,FALSE)","v":{"$error":"#N/A"}},{"$f":"VLOOKUP(H52,Results!$A$8:G107,7,FALSE)","v":{"$error":"#N/A"}},{"$f":"VLOOKUP(H52,$B$4:B52,1,FALSE)","v":{"$error":"#N/A"}}]
[null,{"$f":"Results!A56","v":0},{"$f":"Results!C56","v":0},{"$f":"Results!B56","v":0},{"$f":"Results!D56","v":0},{"$f":"Results!G56","v":""},"- vs -",{"$f":"VLOOKUP(B53,Results!$A$8:AY107,51,FALSE)","v":{"$error":"#N/A"}},{"$f":"VLOOKUP(H53,Results!A$8:G108,3,FALSE)","v":{"$error":"#N/A"}},{"$f":"VLOOKUP(H53,Results!$A$8:G108,2,FALSE)","v":{"$error":"#N/A"}},{"$f":"VLOOKUP(H53,Results!$A$8:G108,4,FALSE)","v":{"$error":"#N/A"}},{"$f":"VLOOKUP(H53,Results!$A$8:G108,7,FALSE)","v":{"$error":"#N/A"}},{"$f":"VLOOKUP(H53,$B$4:B53,1,FALSE)","v":{"$error":"#N/A"}}]
[null,{"$f":"Results!A57","v":0},{"$f":"Results!C57","v":0},{"$f":"Results!B57","v":0},{"$f":"Results!D57","v":0},{"$f":"Results!G57","v":""},"- vs -",{"$f":"VLOOKUP(B54,Results!$A$8:AY108,51,FALSE)","v":{"$error":"#N/A"}},{"$f":"VLOOKUP(H54,Results!A$8:G109,3,FALSE)","v":{"$error":"#N/A"}},{"$f":"VLOOKUP(H54,Results!$A$8:G109,2,FALSE)","v":{"$error":"#N/A"}},{"$f":"VLOOKUP(H54,Results!$A$8:G109,4,FALSE)","v":{"$error":"#N/A"}},{"$f":"VLOOKUP(H54,Results!$A$8:G109,7,FALSE)","v":{"$error":"#N/A"}},{"$f":"VLOOKUP(H54,$B$4:B54,1,FALSE)","v":{"$error":"#N/A"}}]
[null,{"$f":"Results!A58","v":0},{"$f":"Results!C58","v":0},{"$f":"Results!B58","v":0},{"$f":"Results!D58","v":0},{"$f":"Results!G58","v":""},"- vs -",{"$f":"VLOOKUP(B55,Results!$A$8:AY109,51,FALSE)","v":{"$error":"#N/A"}},{"$f":"VLOOKUP(H55,Results!A$8:G110,3,FALSE)","v":{"$error":"#N/A"}},{"$f":"VLOOKUP(H55,Results!$A$8:G110,2,FALSE)","v":{"$error":"#N/A"}},{"$f":"VLOOKUP(H55,Results!$A$8:G110,4,FALSE)","v":{"$error":"#N/A"}},{"$f":"VLOOKUP(H55,Results!$A$8:G110,7,FALSE)","v":{"$error":"#N/A"}},{"$f":"VLOOKUP(H55,$B$4:B55,1,FALSE)","v":{"$error":"#N/A"}}]
[null,{"$f":"Results!A59","v":0},{"$f":"Results!C59","v":0},{"$f":"Results!B59","v":0},{"$f":"Results!D59","v":0},{"$f":"Results!G59","v":""},"- vs -",{"$f":"VLOOKUP(B56,Results!$A$8:AY110,51,FALSE)","v":{"$error":"#N/A"}},{"$f":"VLOOKUP(H56,Results!A$8:G111,3,FALSE)","v":{"$error":"#N/A"}},{"$f":"VLOOKUP(H56,Results!$A$8:G111,2,FALSE)","v":{"$error":"#N/A"}},{"$f":"VLOOKUP(H56,Results!$A$8:G111,4,FALSE)","v":{"$error":"#N/A"}},{"$f":"VLOOKUP(H56,Results!$A$8:G111,7,FALSE)","v":{"$error":"#N/A"}},{"$f":"VLOOKUP(H56,$B$4:B56,1,FALSE)","v":{"$error":"#N/A"}}]
[null,{"$f":"Results!A60","v":0},{"$f":"Results!C60","v":0},{"$f":"Results!B60","v":0},{"$f":"Results!D60","v":0},{"$f":"Results!G60","v":""},"- vs -",{"$f":"VLOOKUP(B57,Results!$A$8:AY111,51,FALSE)","v":{"$error":"#N/A"}},{"$f":"VLOOKUP(H57,Results!A$8:G112,3,FALSE)","v":{"$error":"#N/A"}},{"$f":"VLOOKUP(H57,Results!$A$8:G112,2,FALSE)","v":{"$error":"#N/A"}},{"$f":"VLOOKUP(H57,Results!$A$8:G112,4,FALSE)","v":{"$error":"#N/A"}},{"$f":"VLOOKUP(H57,Results!$A$8:G112,7,FALSE)","v":{"$error":"#N/A"}},{"$f":"VLOOKUP(H57,$B$4:B57,1,FALSE)","v":{"$error":"#N/A"}}]
[null,{"$f":"Results!A61","v":0},{"$f":"Results!C61","v":0},{"$f":"Results!B61","v":0},{"$f":"Results!D61","v":0},{"$f":"Results!G61","v":0},"- vs -",{"$f":"VLOOKUP(B58,Results!$A$8:AY112,51,FALSE)","v":{"$error":"#N/A"}},{"$f":"VLOOKUP(H58,Results!A$8:G113,3,FALSE)","v":{"$error":"#N/A"}},{"$f":"VLOOKUP(H58,Results!$A$8:G113,2,FALSE)","v":{"$error":"#N/A"}},{"$f":"VLOOKUP(H58,Results!$A$8:G113,4,FALSE)","v":{"$error":"#N/A"}},{"$f":"VLOOKUP(H58,Results!$A$8:G113,7,FALSE)","v":{"$error":"#N/A"}},{"$f":"VLOOKUP(H58,$B$4:B58,1,FALSE)","v":{"$error":"#N/A"}}]
[null,{"$f":"Results!A62","v":0},{"$f":"Results!C62","v":0},{"$f":"Results!B62","v":0},{"$f":"Results!D62","v":0},{"$f":"Results!G62","v":0},"- vs -",{"$f":"VLOOKUP(B59,Results!$A$8:AY113,51,FALSE)","v":{"$error":"#N/A"}},{"$f":"VLOOKUP(H59,Results!A$8:G114,3,FALSE)","v":{"$error":"#N/A"}},{"$f":"VLOOKUP(H59,Results!$A$8:G114,2,FALSE)","v":{"$error":"#N/A"}},{"$f":"VLOOKUP(H59,Results!$A$8:G114,4,FALSE)","v":{"$error":"#N/A"}},{"$f":"VLOOKUP(H59,Results!$A$8:G114,7,FALSE)","v":{"$error":"#N/A"}},{"$f":"VLOOKUP(H59,$B$4:B59,1,FALSE)","v":{"$error":"#N/A"}}]
[null,{"$f":"Results!A63","v":0},{"$f":"Results!C63","v":0},{"$f":"Results!B63","v":0},{"$f":"Results!D63","v":0},{"$f":"Results!G63","v":0},"- vs -",{"$f":"VLOOKUP(B60,Results!$A$8:AY114,51,FALSE)","v":{"$error":"#N/A"}},{"$f":"VLOOKUP(H60,Results!A$8:G115,3,FALSE)","v":{"$error":"#N/A"}},{"$f":"VLOOKUP(H60,Results!$A$8:G115,2,FALSE)","v":{"$error":"#N/A"}},{"$f":"VLOOKUP(H60,Results!$A$8:G115,4,FALSE)","v":{"$error":"#N/A"}},{"$f":"VLOOKUP(H60,Results!$A$8:G115,7,FALSE)","v":{"$error":"#N/A"}},{"$f":"VLOOKUP(H60,$B$4:B60,1,FALSE)","v":{"$error":"#N/A"}}]
[null,{"$f":"Results!A64","v":0},{"$f":"Results!C64","v":0},{"$f":"Results!B64","v":0},{"$f":"Results!D64","v":0},{"$f":"Results!G64","v":0},"- vs -",{"$f":"VLOOKUP(B61,Results!$A$8:AY115,51,FALSE)","v":{"$error":"#N/A"}},{"$f":"VLOOKUP(H61,Results!A$8:G116,3,FALSE)","v":{"$error":"#N/A"}},{"$f":"VLOOKUP(H61,Results!$A$8:G116,2,FALSE)","v":{"$error":"#N/A"}},{"$f":"VLOOKUP(H61,Results!$A$8:G116,4,FALSE)","v":{"$error":"#N/A"}},{"$f":"VLOOKUP(H61,Results!$A$8:G116,7,FALSE)","v":{"$error":"#N/A"}},{"$f":"VLOOKUP(H61,$B$4:B61,1,FALSE)","v":{"$error":"#N/A"}}]
[null,{"$f":"Results!A65","v":0},{"$f":"Results!C65","v":0},{"$f":"Results!B65","v":0},{"$f":"Results!D65","v":0},{"$f":"Results!G65","v":0},"- vs -",{"$f":"VLOOKUP(B62,Results!$A$8:AY116,51,FALSE)","v":{"$error":"#N/A"}},{"$f":"VLOOKUP(H62,Results!A$8:G117,3,FALSE)","v":{"$error":"#N/A"}},{"$f":"VLOOKUP(H62,Results!$A$8:G117,2,FALSE)","v":{"$error":"#N/A"}},{"$f":"VLOOKUP(H62,Results!$A$8:G117,4,FALSE)","v":{"$error":"#N/A"}},{"$f":"VLOOKUP(H62,Results!$A$8:G117,7,FALSE)","v":{"$error":"#N/A"}},{"$f":"VLOOKUP(H62,$B$4:B62,1,FALSE)","v":{"$error":"#N/A"}}]
[null,{"$f":"Results!A66","v":0},{"$f":"Results!C66","v":0},{"$f":"Results!B66","v":0},{"$f":"Results!D66","v":0},{"$f":"Results!G66","v":0},"- vs -",{"$f":"VLOOKUP(B63,Results!$A$8:AY117,51,FALSE)","v":{"$error":"#N/A"}},{"$f":"VLOOKUP(H63,Results!A$8:G118,3,FALSE)","v":{"$error":"#N/A"}},{"$f":"VLOOKUP(H63,Results!$A$8:G118,2,FALSE)","v":{"$error":"#N/A"}},{"$f":"VLOOKUP(H63,Results!$A$8:G118,4,FALSE)","v":{"$error":"#N/A"}},{"$f":"VLOOKUP(H63,Results!$A$8:G118,7,FALSE)","v":{"$error":"#N/A"}},{"$f":"VLOOKUP(H63,$B$4:B63,1,FALSE)","v":{"$error":"#N/A"}}]

{"sheet":"Round 8","index":16,"n_rows":63,"n_cols":13,"rows_kept":63,"cut":false,"hidden":false,"merged":[]}
[]
["Round 5 Draw",null,{"$f":"Results!B3","v":0}]
[null,null,{"$f":"Results!B4","v":"Open Theme"}]
[null,null,null,null,null,null,null,null,null,null,null,null,"VALID?"]
[null,{"$f":"Results!A8","v":0},{"$f":"Results!C8","v":0},{"$f":"Results!B8","v":0},{"$f":"Results!D8","v":0},{"$f":"Results!G8","v":""},"- vs -",{"$f":"VLOOKUP(B5,Results!$A$8:BF59,58,FALSE)","v":{"$error":"#N/A"}},{"$f":"VLOOKUP(H5,Results!A$8:G60,3,FALSE)","v":{"$error":"#N/A"}},{"$f":"VLOOKUP(H5,Results!$A$8:G60,2,FALSE)","v":{"$error":"#N/A"}},{"$f":"VLOOKUP(H5,Results!$A$8:G60,4,FALSE)","v":{"$error":"#N/A"}},{"$f":"VLOOKUP(H5,Results!$A$8:G60,7,FALSE)","v":{"$error":"#N/A"}},{"$f":"VLOOKUP(H5,$B$4:B5,1,FALSE)","v":{"$error":"#N/A"}}]
[null,{"$f":"Results!A9","v":0},{"$f":"Results!C9","v":0},{"$f":"Results!B9","v":0},{"$f":"Results!D9","v":0},{"$f":"Results!G9","v":""},"- vs -",{"$f":"VLOOKUP(B6,Results!$A$8:BF60,58,FALSE)","v":{"$error":"#N/A"}},{"$f":"VLOOKUP(H6,Results!A$8:G61,3,FALSE)","v":{"$error":"#N/A"}},{"$f":"VLOOKUP(H6,Results!$A$8:G61,2,FALSE)","v":{"$error":"#N/A"}},{"$f":"VLOOKUP(H6,Results!$A$8:G61,4,FALSE)","v":{"$error":"#N/A"}},{"$f":"VLOOKUP(H6,Results!$A$8:G61,7,FALSE)","v":{"$error":"#N/A"}},{"$f":"VLOOKUP(H6,$B$4:B6,1,FALSE)","v":{"$error":"#N/A"}}]
[null,{"$f":"Results!A10","v":0},{"$f":"Results!C10","v":0},{"$f":"Results!B10","v":0},{"$f":"Results!D10","v":0},{"$f":"Results!G10","v":""},"- vs -",{"$f":"VLOOKUP(B7,Results!$A$8:BF61,58,FALSE)","v":{"$error":"#N/A"}},{"$f":"VLOOKUP(H7,Results!A$8:G62,3,FALSE)","v":{"$error":"#N/A"}},{"$f":"VLOOKUP(H7,Results!$A$8:G62,2,FALSE)","v":{"$error":"#N/A"}},{"$f":"VLOOKUP(H7,Results!$A$8:G62,4,FALSE)","v":{"$error":"#N/A"}},{"$f":"VLOOKUP(H7,Results!$A$8:G62,7,FALSE)","v":{"$error":"#N/A"}},{"$f":"VLOOKUP(H7,$B$4:B7,1,FALSE)","v":{"$error":"#N/A"}}]
[null,{"$f":"Results!A11","v":0},{"$f":"Results!C11","v":0},{"$f":"Results!B11","v":0},{"$f":"Results!D11","v":0},{"$f":"Results!G11","v":""},"- vs -",{"$f":"VLOOKUP(B8,Results!$A$8:BF62,58,FALSE)","v":{"$error":"#N/A"}},{"$f":"VLOOKUP(H8,Results!A$8:G63,3,FALSE)","v":{"$error":"#N/A"}},{"$f":"VLOOKUP(H8,Results!$A$8:G63,2,FALSE)","v":{"$error":"#N/A"}},{"$f":"VLOOKUP(H8,Results!$A$8:G63,4,FALSE)","v":{"$error":"#N/A"}},{"$f":"VLOOKUP(H8,Results!$A$8:G63,7,FALSE)","v":{"$error":"#N/A"}},{"$f":"VLOOKUP(H8,$B$4:B8,1,FALSE)","v":{"$error":"#N/A"}}]
[null,{"$f":"Results!A12","v":0},{"$f":"Results!C12","v":0},{"$f":"Results!B12","v":0},{"$f":"Results!D12","v":0},{"$f":"Results!G12","v":""},"- vs -",{"$f":"VLOOKUP(B9,Results!$A$8:BF63,58,FALSE)","v":{"$error":"#N/A"}},{"$f":"VLOOKUP(H9,Results!A$8:G64,3,FALSE)","v":{"$error":"#N/A"}},{"$f":"VLOOKUP(H9,Results!$A$8:G64,2,FALSE)","v":{"$error":"#N/A"}},{"$f":"VLOOKUP(H9,Results!$A$8:G64,4,FALSE)","v":{"$error":"#N/A"}},{"$f":"VLOOKUP(H9,Results!$A$8:G64,7,FALSE)","v":{"$error":"#N/A"}},{"$f":"VLOOKUP(H9,$B$4:B9,1,FALSE)","v":{"$error":"#N/A"}}]
[null,{"$f":"Results!A13","v":0},{"$f":"Results!C13","v":0},{"$f":"Results!B13","v":0},{"$f":"Results!D13","v":0},{"$f":"Results!G13","v":""},"- vs -",{"$f":"VLOOKUP(B10,Results!$A$8:BF64,58,FALSE)","v":{"$error":"#N/A"}},{"$f":"VLOOKUP(H10,Results!A$8:G65,3,FALSE)","v":{"$error":"#N/A"}},{"$f":"VLOOKUP(H10,Results!$A$8:G65,2,FALSE)","v":{"$error":"#N/A"}},{"$f":"VLOOKUP(H10,Results!$A$8:G65,4,FALSE)","v":{"$error":"#N/A"}},{"$f":"VLOOKUP(H10,Results!$A$8:G65,7,FALSE)","v":{"$error":"#N/A"}},{"$f":"VLOOKUP(H10,$B$4:B10,1,FALSE)","v":{"$error":"#N/A"}}]
[null,{"$f":"Results!A14","v":0},{"$f":"Results!C14","v":0},{"$f":"Results!B14","v":0},{"$f":"Results!D14","v":0},{"$f":"Results!G14","v":""},"- vs -",{"$f":"VLOOKUP(B11,Results!$A$8:BF65,58,FALSE)","v":{"$error":"#N/A"}},{"$f":"VLOOKUP(H11,Results!A$8:G66,3,FALSE)","v":{"$error":"#N/A"}},{"$f":"VLOOKUP(H11,Results!$A$8:G66,2,FALSE)","v":{"$error":"#N/A"}},{"$f":"VLOOKUP(H11,Results!$A$8:G66,4,FALSE)","v":{"$error":"#N/A"}},{"$f":"VLOOKUP(H11,Results!$A$8:G66,7,FALSE)","v":{"$error":"#N/A"}},{"$f":"VLOOKUP(H11,$B$4:B11,1,FALSE)","v":{"$error":"#N/A"}}]
[null,{"$f":"Results!A15","v":0},{"$f":"Results!C15","v":0},{"$f":"Results!B15","v":0},{"$f":"Results!D15","v":0},{"$f":"Results!G15","v":""},"- vs -",{"$f":"VLOOKUP(B12,Results!$A$8:BF66,58,FALSE)","v":{"$error":"#N/A"}},{"$f":"VLOOKUP(H12,Results!A$8:G67,3,FALSE)","v":{"$error":"#N/A"}},{"$f":"VLOOKUP(H12,Results!$A$8:G67,2,FALSE)","v":{"$error":"#N/A"}},{"$f":"VLOOKUP(H12,Results!$A$8:G67,4,FALSE)","v":{"$error":"#N/A"}},{"$f":"VLOOKUP(H12,Results!$A$8:G67,7,FALSE)","v":{"$error":"#N/A"}},{"$f":"VLOOKUP(H12,$B$4:B12,1,FALSE)","v":{"$error":"#N/A"}}]
[null,{"$f":"Results!A16","v":0},{"$f":"Results!C16","v":0},{"$f":"Results!B16","v":0},{"$f":"Results!D16","v":0},{"$f":"Results!G16","v":""},"- vs -",{"$f":"VLOOKUP(B13,Results!$A$8:BF67,58,FALSE)","v":{"$error":"#N/A"}},{"$f":"VLOOKUP(H13,Results!A$8:G68,3,FALSE)","v":{"$error":"#N/A"}},{"$f":"VLOOKUP(H13,Results!$A$8:G68,2,FALSE)","v":{"$error":"#N/A"}},{"$f":"VLOOKUP(H13,Results!$A$8:G68,4,FALSE)","v":{"$error":"#N/A"}},{"$f":"VLOOKUP(H13,Results!$A$8:G68,7,FALSE)","v":{"$error":"#N/A"}},{"$f":"VLOOKUP(H13,$B$4:B13,1,FALSE)","v":{"$error":"#N/A"}}]
[null,{"$f":"Results!A17","v":0},{"$f":"Results!C17","v":0},{"$f":"Results!B17","v":0},{"$f":"Results!D17","v":0},{"$f":"Results!G17","v":""},"- vs -",{"$f":"VLOOKUP(B14,Results!$A$8:BF68,58,FALSE)","v":{"$error":"#N/A"}},{"$f":"VLOOKUP(H14,Results!A$8:G69,3,FALSE)","v":{"$error":"#N/A"}},{"$f":"VLOOKUP(H14,Results!$A$8:G69,2,FALSE)","v":{"$error":"#N/A"}},{"$f":"VLOOKUP(H14,Results!$A$8:G69,4,FALSE)","v":{"$error":"#N/A"}},{"$f":"VLOOKUP(H14,Results!$A$8:G69,7,FALSE)","v":{"$error":"#N/A"}},{"$f":"VLOOKUP(H14,$B$4:B14,1,FALSE)","v":{"$error":"#N/A"}}]
[null,{"$f":"Results!A18","v":0},{"$f":"Results!C18","v":0},{"$f":"Results!B18","v":0},{"$f":"Results!D18","v":0},{"$f":"Results!G18","v":""},"- vs -",{"$f":"VLOOKUP(B15,Results!$A$8:BF69,58,FALSE)","v":{"$error":"#N/A"}},{"$f":"VLOOKUP(H15,Results!A$8:G70,3,FALSE)","v":{"$error":"#N/A"}},{"$f":"VLOOKUP(H15,Results!$A$8:G70,2,FALSE)","v":{"$error":"#N/A"}},{"$f":"VLOOKUP(H15,Results!$A$8:G70,4,FALSE)","v":{"$error":"#N/A"}},{"$f":"VLOOKUP(H15,Results!$A$8:G70,7,FALSE)","v":{"$error":"#N/A"}},{"$f":"VLOOKUP(H15,$B$4:B15,1,FALSE)","v":{"$error":"#N/A"}}]
[null,{"$f":"Results!A19","v":0},{"$f":"Results!C19","v":0},{"$f":"Results!B19","v":0},{"$f":"Results!D19","v":0},{"$f":"Results!G19","v":""},"- vs -",{"$f":"VLOOKUP(B16,Results!$A$8:BF70,58,FALSE)","v":{"$error":"#N/A"}},{"$f":"VLOOKUP(H16,Results!A$8:G71,3,FALSE)","v":{"$error":"#N/A"}},{"$f":"VLOOKUP(H16,Results!$A$8:G71,2,FALSE)","v":{"$error":"#N/A"}},{"$f":"VLOOKUP(H16,Results!$A$8:G71,4,FALSE)","v":{"$error":"#N/A"}},{"$f":"VLOOKUP(H16,Results!$A$8:G71,7,FALSE)","v":{"$error":"#N/A"}},{"$f":"VLOOKUP(H16,$B$4:B16,1,FALSE)","v":{"$error":"#N/A"}}]
[null,{"$f":"Results!A20","v":0},{"$f":"Results!C20","v":0},{"$f":"Results!B20","v":0},{"$f":"Results!D20","v":0},{"$f":"Results!G20","v":""},"- vs -",{"$f":"VLOOKUP(B17,Results!$A$8:BF71,58,FALSE)","v":{"$error":"#N/A"}},{"$f":"VLOOKUP(H17,Results!A$8:G72,3,FALSE)","v":{"$error":"#N/A"}},{"$f":"VLOOKUP(H17,Results!$A$8:G72,2,FALSE)","v":{"$error":"#N/A"}},{"$f":"VLOOKUP(H17,Results!$A$8:G72,4,FALSE)","v":{"$error":"#N/A"}},{"$f":"VLOOKUP(H17,Results!$A$8:G72,7,FALSE)","v":{"$error":"#N/A"}},{"$f":"VLOOKUP(H17,$B$4:B17,1,FALSE)","v":{"$error":"#N/A"}}]
[null,{"$f":"Results!A21","v":0},{"$f":"Results!C21","v":0},{"$f":"Results!B21","v":0},{"$f":"Results!D21","v":0},{"$f":"Results!G21","v":""},"- vs -",{"$f":"VLOOKUP(B18,Results!$A$8:BF72,58,FALSE)","v":{"$error":"#N/A"}},{"$f":"VLOOKUP(H18,Results!A$8:G73,3,FALSE)","v":{"$error":"#N/A"}},{"$f":"VLOOKUP(H18,Results!$A$8:G73,2,FALSE)","v":{"$error":"#N/A"}},{"$f":"VLOOKUP(H18,Results!$A$8:G73,4,FALSE)","v":{"$error":"#N/A"}},{"$f":"VLOOKUP(H18,Results!$A$8:G73,7,FALSE)","v":{"$error":"#N/A"}},{"$f":"VLOOKUP(H18,$B$4:B18,1,FALSE)","v":{"$error":"#N/A"}}]
[null,{"$f":"Results!A22","v":0},{"$f":"Results!C22","v":0},{"$f":"Results!B22","v":0},{"$f":"Results!D22","v":0},{"$f":"Results!G22","v":""},"- vs -",{"$f":"VLOOKUP(B19,Results!$A$8:BF73,58,FALSE)","v":{"$error":"#N/A"}},{"$f":"VLOOKUP(H19,Results!A$8:G74,3,FALSE)","v":{"$error":"#N/A"}},{"$f":"VLOOKUP(H19,Results!$A$8:G74,2,FALSE)","v":{"$error":"#N/A"}},{"$f":"VLOOKUP(H19,Results!$A$8:G74,4,FALSE)","v":{"$error":"#N/A"}},{"$f":"VLOOKUP(H19,Results!$A$8:G74,7,FALSE)","v":{"$error":"#N/A"}},{"$f":"VLOOKUP(H19,$B$4:B19,1,FALSE)","v":{"$error":"#N/A"}}]
[null,{"$f":"Results!A23","v":0},{"$f":"Results!C23","v":0},{"$f":"Results!B23","v":0},{"$f":"Results!D23","v":0},{"$f":"Results!G23","v":""},"- vs -",{"$f":"VLOOKUP(B20,Results!$A$8:BF74,58,FALSE)","v":{"$error":"#N/A"}},{"$f":"VLOOKUP(H20,Results!A$8:G75,3,FALSE)","v":{"$error":"#N/A"}},{"$f":"VLOOKUP(H20,Results!$A$8:G75,2,FALSE)","v":{"$error":"#N/A"}},{"$f":"VLOOKUP(H20,Results!$A$8:G75,4,FALSE)","v":{"$error":"#N/A"}},{"$f":"VLOOKUP(H20,Results!$A$8:G75,7,FALSE)","v":{"$error":"#N/A"}},{"$f":"VLOOKUP(H20,$B$4:B20,1,FALSE)","v":{"$error":"#N/A"}}]
[null,{"$f":"Results!A24","v":0},{"$f":"Results!C24","v":0},{"$f":"Results!B24","v":0},{"$f":"Results!D24","v":0},{"$f":"Results!G24","v":""},"- vs -",{"$f":"VLOOKUP(B21,Results!$A$8:BF75,58,FALSE)","v":{"$error":"#N/A"}},{"$f":"VLOOKUP(H21,Results!A$8:G76,3,FALSE)","v":{"$error":"#N/A"}},{"$f":"VLOOKUP(H21,Results!$A$8:G76,2,FALSE)","v":{"$error":"#N/A"}},{"$f":"VLOOKUP(H21,Results!$A$8:G76,4,FALSE)","v":{"$error":"#N/A"}},{"$f":"VLOOKUP(H21,Results!$A$8:G76,7,FALSE)","v":{"$error":"#N/A"}},{"$f":"VLOOKUP(H21,$B$4:B21,1,FALSE)","v":{"$error":"#N/A"}}]
[null,{"$f":"Results!A25","v":0},{"$f":"Results!C25","v":0},{"$f":"Results!B25","v":0},{"$f":"Results!D25","v":0},{"$f":"Results!G25","v":""},"- vs -",{"$f":"VLOOKUP(B22,Results!$A$8:BF76,58,FALSE)","v":{"$error":"#N/A"}},{"$f":"VLOOKUP(H22,Results!A$8:G77,3,FALSE)","v":{"$error":"#N/A"}},{"$f":"VLOOKUP(H22,Results!$A$8:G77,2,FALSE)","v":{"$error":"#N/A"}},{"$f":"VLOOKUP(H22,Results!$A$8:G77,4,FALSE)","v":{"$error":"#N/A"}},{"$f":"VLOOKUP(H22,Results!$A$8:G77,7,FALSE)","v":{"$error":"#N/A"}},{"$f":"VLOOKUP(H22,$B$4:B22,1,FALSE)","v":{"$error":"#N/A"}}]
[null,{"$f":"Results!A26","v":0},{"$f":"Results!C26","v":0},{"$f":"Results!B26","v":0},{"$f":"Results!D26","v":0},{"$f":"Results!G26","v":""},"- vs -",{"$f":"VLOOKUP(B23,Results!$A$8:BF77,58,FALSE)","v":{"$error":"#N/A"}},{"$f":"VLOOKUP(H23,Results!A$8:G78,3,FALSE)","v":{"$error":"#N/A"}},{"$f":"VLOOKUP(H23,Results!$A$8:G78,2,FALSE)","v":{"$error":"#N/A"}},{"$f":"VLOOKUP(H23,Results!$A$8:G78,4,FALSE)","v":{"$error":"#N/A"}},{"$f":"VLOOKUP(H23,Results!$A$8:G78,7,FALSE)","v":{"$error":"#N/A"}},{"$f":"VLOOKUP(H23,$B$4:B23,1,FALSE)","v":{"$error":"#N/A"}}]
[null,{"$f":"Results!A27","v":0},{"$f":"Results!C27","v":0},{"$f":"Results!B27","v":0},{"$f":"Results!D27","v":0},{"$f":"Results!G27","v":""},"- vs -",{"$f":"VLOOKUP(B24,Results!$A$8:BF78,58,FALSE)","v":{"$error":"#N/A"}},{"$f":"VLOOKUP(H24,Results!A$8:G79,3,FALSE)","v":{"$error":"#N/A"}},{"$f":"VLOOKUP(H24,Results!$A$8:G79,2,FALSE)","v":{"$error":"#N/A"}},{"$f":"VLOOKUP(H24,Results!$A$8:G79,4,FALSE)","v":{"$error":"#N/A"}},{"$f":"VLOOKUP(H24,Results!$A$8:G79,7,FALSE)","v":{"$error":"#N/A"}},{"$f":"VLOOKUP(H24,$B$4:B24,1,FALSE)","v":{"$error":"#N/A"}}]
[null,{"$f":"Results!A28","v":0},{"$f":"Results!C28","v":0},{"$f":"Results!B28","v":0},{"$f":"Results!D28","v":0},{"$f":"Results!G28","v":""},"- vs -",{"$f":"VLOOKUP(B25,Results!$A$8:BF79,58,FALSE)","v":{"$error":"#N/A"}},{"$f":"VLOOKUP(H25,Results!A$8:G80,3,FALSE)","v":{"$error":"#N/A"}},{"$f":"VLOOKUP(H25,Results!$A$8:G80,2,FALSE)","v":{"$error":"#N/A"}},{"$f":"VLOOKUP(H25,Results!$A$8:G80,4,FALSE)","v":{"$error":"#N/A"}},{"$f":"VLOOKUP(H25,Results!$A$8:G80,7,FALSE)","v":{"$error":"#N/A"}},{"$f":"VLOOKUP(H25,$B$4:B25,1,FALSE)","v":{"$error":"#N/A"}}]
[null,{"$f":"Results!A29","v":0},{"$f":"Results!C29","v":0},{"$f":"Results!B29","v":0},{"$f":"Results!D29","v":0},{"$f":"Results!G29","v":""},"- vs -",{"$f":"VLOOKUP(B26,Results!$A$8:BF80,58,FALSE)","v":{"$error":"#N/A"}},{"$f":"VLOOKUP(H26,Results!A$8:G81,3,FALSE)","v":{"$error":"#N/A"}},{"$f":"VLOOKUP(H26,Results!$A$8:G81,2,FALSE)","v":{"$error":"#N/A"}},{"$f":"VLOOKUP(H26,Results!$A$8:G81,4,FALSE)","v":{"$error":"#N/A"}},{"$f":"VLOOKUP(H26,Results!$A$8:G81,7,FALSE)","v":{"$error":"#N/A"}},{"$f":"VLOOKUP(H26,$B$4:B26,1,FALSE)","v":{"$error":"#N/A"}}]
[null,{"$f":"Results!A30","v":0},{"$f":"Results!C30","v":0},{"$f":"Results!B30","v":0},{"$f":"Results!D30","v":0},{"$f":"Results!G30","v":""},"- vs -",{"$f":"VLOOKUP(B27,Results!$A$8:BF81,58,FALSE)","v":{"$error":"#N/A"}},{"$f":"VLOOKUP(H27,Results!A$8:G82,3,FALSE)","v":{"$error":"#N/A"}},{"$f":"VLOOKUP(H27,Results!$A$8:G82,2,FALSE)","v":{"$error":"#N/A"}},{"$f":"VLOOKUP(H27,Results!$A$8:G82,4,FALSE)","v":{"$error":"#N/A"}},{"$f":"VLOOKUP(H27,Results!$A$8:G82,7,FALSE)","v":{"$error":"#N/A"}},{"$f":"VLOOKUP(H27,$B$4:B27,1,FALSE)","v":{"$error":"#N/A"}}]
[null,{"$f":"Results!A31","v":0},{"$f":"Results!C31","v":0},{"$f":"Results!B31","v":0},{"$f":"Results!D31","v":0},{"$f":"Results!G31","v":""},"- vs -",{"$f":"VLOOKUP(B28,Results!$A$8:BF82,58,FALSE)","v":{"$error":"#N/A"}},{"$f":"VLOOKUP(H28,Results!A$8:G83,3,FALSE)","v":{"$error":"#N/A"}},{"$f":"VLOOKUP(H28,Results!$A$8:G83,2,FALSE)","v":{"$error":"#N/A"}},{"$f":"VLOOKUP(H28,Results!$A$8:G83,4,FALSE)","v":{"$error":"#N/A"}},{"$f":"VLOOKUP(H28,Results!$A$8:G83,7,FALSE)","v":{"$error":"#N/A"}},{"$f":"VLOOKUP(H28,$B$4:B28,1,FALSE)","v":{"$error":"#N/A"}}]
[null,{"$f":"Results!A32","v":0},{"$f":"Results!C32","v":0},{"$f":"Results!B32","v":0},{"$f":"Results!D32","v":0},{"$f":"Results!G32","v":""},"- vs -",{"$f":"VLOOKUP(B29,Results!$A$8:BF83,58,FALSE)","v":{"$error":"#N/A"}},{"$f":"VLOOKUP(H29,Results!A$8:G84,3,FALSE)","v":{"$error":"#N/A"}},{"$f":"VLOOKUP(H29,Results!$A$8:G84,2,FALSE)","v":{"$error":"#N/A"}},{"$f":"VLOOKUP(H29,Results!$A$8:G84,4,FALSE)","v":{"$error":"#N/A"}},{"$f":"VLOOKUP(H29,Results!$A$8:G84,7,FALSE)","v":{"$error":"#N/A"}},{"$f":"VLOOKUP(H29,$B$4:B29,1,FALSE)","v":{"$error":"#N/A"}}]
[null,{"$f":"Results!A33","v":0},{"$f":"Results!C33","v":0},{"$f":"Results!B33","v":0},{"$f":"Results!D33","v":0},{"$f":"Results!G33","v":""},"- vs -",{"$f":"VLOOKUP(B30,Results!$A$8:BF84,58,FALSE)","v":{"$error":"#N/A"}},{"$f":"VLOOKUP(H30,Results!A$8:G85,3,FALSE)","v":{"$error":"#N/A"}},{"$f":"VLOOKUP(H30,Results!$A$8:G85,2,FALSE)","v":{"$error":"#N/A"}},{"$f":"VLOOKUP(H30,Results!$A$8:G85,4,FALSE)","v":{"$error":"#N/A"}},{"$f":"VLOOKUP(H30,Results!$A$8:G85,7,FALSE)","v":{"$error":"#N/A"}},{"$f":"VLOOKUP(H30,$B$4:B30,1,FALSE)","v":{"$error":"#N/A"}}]
[null,{"$f":"Results!A34","v":0},{"$f":"Results!C34","v":0},{"$f":"Results!B34","v":0},{"$f":"Results!D34","v":0},{"$f":"Results!G34","v":""},"- vs -",{"$f":"VLOOKUP(B31,Results!$A$8:BF85,58,FALSE)","v":{"$error":"#N/A"}},{"$f":"VLOOKUP(H31,Results!A$8:G86,3,FALSE)","v":{"$error":"#N/A"}},{"$f":"VLOOKUP(H31,Results!$A$8:G86,2,FALSE)","v":{"$error":"#N/A"}},{"$f":"VLOOKUP(H31,Results!$A$8:G86,4,FALSE)","v":{"$error":"#N/A"}},{"$f":"VLOOKUP(H31,Results!$A$8:G86,7,FALSE)","v":{"$error":"#N/A"}},{"$f":"VLOOKUP(H31,$B$4:B31,1,FALSE)","v":{"$error":"#N/A"}}]
[null,{"$f":"Results!A35","v":0},{"$f":"Results!C35","v":0},{"$f":"Results!B35","v":0},{"$f":"Results!D35","v":0},{"$f":"Results!G35","v":""},"- vs -",{"$f":"VLOOKUP(B32,Results!$A$8:BF86,58,FALSE)","v":{"$error":"#N/A"}},{"$f":"VLOOKUP(H32,Results!A$8:G87,3,FALSE)","v":{"$error":"#N/A"}},{"$f":"VLOOKUP(H32,Results!$A$8:G87,2,FALSE)","v":{"$error":"#N/A"}},{"$f":"VLOOKUP(H32,Results!$A$8:G87,4,FALSE)","v":{"$error":"#N/A"}},{"$f":"VLOOKUP(H32,Results!$A$8:G87,7,FALSE)","v":{"$error":"#N/A"}},{"$f":"VLOOKUP(H32,$B$4:B32,1,FALSE)","v":{"$error":"#N/A"}}]
[null,{"$f":"Results!A36","v":0},{"$f":"Results!C36","v":0},{"$f":"Results!B36","v":0},{"$f":"Results!D36","v":0},{"$f":"Results!G36","v":""},"- vs -",{"$f":"VLOOKUP(B33,Results!$A$8:BF87,58,FALSE)","v":{"$error":"#N/A"}},{"$f":"VLOOKUP(H33,Results!A$8:G88,3,FALSE)","v":{"$error":"#N/A"}},{"$f":"VLOOKUP(H33,Results!$A$8:G88,2,FALSE)","v":{"$error":"#N/A"}},{"$f":"VLOOKUP(H33,Results!$A$8:G88,4,FALSE)","v":{"$error":"#N/A"}},{"$f":"VLOOKUP(H33,Results!$A$8:G88,7,FALSE)","v":{"$error":"#N/A"}},{"$f":"VLOOKUP(H33,$B$4:B33,1,FALSE)","v":{"$error":"#N/A"}}]
[null,{"$f":"Results!A37","v":0},{"$f":"Results!C37","v":0},{"$f":"Results!B37","v":0},{"$f":"Results!D37","v":0},{"$f":"Results!G37","v":""},"- vs -",{"$f":"VLOOKUP(B34,Results!$A$8:BF88,58,FALSE)","v":{"$error":"#N/A"}},{"$f":"VLOOKUP(H34,Results!A$8:G89,3,FALSE)","v":{"$error":"#N/A"}},{"$f":"VLOOKUP(H34,Results!$A$8:G89,2,FALSE)","v":{"$error":"#N/A"}},{"$f":"VLOOKUP(H34,Results!$A$8:G89,4,FALSE)","v":{"$error":"#N/A"}},{"$f":"VLOOKUP(H34,Results!$A$8:G89,7,FALSE)","v":{"$error":"#N/A"}},{"$f":"VLOOKUP(H34,$B$4:B34,1,FALSE)","v":{"$error":"#N/A"}}]
[null,{"$f":"Results!A38","v":0},{"$f":"Results!C38","v":0},{"$f":"Results!B38","v":0},{"$f":"Results!D38","v":0},{"$f":"Results!G38","v":""},"- vs -",{"$f":"VLOOKUP(B35,Results!$A$8:BF89,58,FALSE)","v":{"$error":"#N/A"}},{"$f":"VLOOKUP(H35,Results!A$8:G90,3,FALSE)","v":{"$error":"#N/A"}},{"$f":"VLOOKUP(H35,Results!$A$8:G90,2,FALSE)","v":{"$error":"#N/A"}},{"$f":"VLOOKUP(H35,Results!$A$8:G90,4,FALSE)","v":{"$error":"#N/A"}},{"$f":"VLOOKUP(H35,Results!$A$8:G90,7,FALSE)","v":{"$error":"#N/A"}},{"$f":"VLOOKUP(H35,$B$4:B35,1,FALSE)","v":{"$error":"#N/A"}}]
[null,{"$f":"Results!A39","v":0},{"$f":"Results!C39","v":0},{"$f":"Results!B39","v":0},{"$f":"Results!D39","v":0},{"$f":"Results!G39","v":""},"- vs -",{"$f":"VLOOKUP(B36,Results!$A$8:BF90,58,FALSE)","v":{"$error":"#N/A"}},{"$f":"VLOOKUP(H36,Results!A$8:G91,3,FALSE)","v":{"$error":"#N/A"}},{"$f":"VLOOKUP(H36,Results!$A$8:G91,2,FALSE)","v":{"$error":"#N/A"}},{"$f":"VLOOKUP(H36,Results!$A$8:G91,4,FALSE)","v":{"$error":"#N/A"}},{"$f":"VLOOKUP(H36,Results!$A$8:G91,7,FALSE)","v":{"$error":"#N/A"}},{"$f":"VLOOKUP(H36,$B$4:B36,1,FALSE)","v":{"$error":"#N/A"}}]
[null,{"$f":"Results!A40","v":0},{"$f":"Results!C40","v":0},{"$f":"Results!B40","v":0},{"$f":"Results!D40","v":0},{"$f":"Results!G40","v":""},"- vs -",{"$f":"VLOOKUP(B37,Results!$A$8:BF91,58,FALSE)","v":{"$error":"#N/A"}},{"$f":"VLOOKUP(H37,Results!A$8:G92,3,FALSE)","v":{"$error":"#N/A"}},{"$f":"VLOOKUP(H37,Results!$A$8:G92,2,FALSE)","v":{"$error":"#N/A"}},{"$f":"VLOOKUP(H37,Results!$A$8:G92,4,FALSE)","v":{"$error":"#N/A"}},{"$f":"VLOOKUP(H37,Results!$A$8:G92,7,FALSE)","v":{"$error":"#N/A"}},{"$f":"VLOOKUP(H37,$B$4:B37,1,FALSE)","v":{"$error":"#N/A"}}]
[null,{"$f":"Results!A41","v":0},{"$f":"Results!C41","v":0},{"$f":"Results!B41","v":0},{"$f":"Results!D41","v":0},{"$f":"Results!G41","v":""},"- vs -",{"$f":"VLOOKUP(B38,Results!$A$8:BF92,58,FALSE)","v":{"$error":"#N/A"}},{"$f":"VLOOKUP(H38,Results!A$8:G93,3,FALSE)","v":{"$error":"#N/A"}},{"$f":"VLOOKUP(H38,Results!$A$8:G93,2,FALSE)","v":{"$error":"#N/A"}},{"$f":"VLOOKUP(H38,Results!$A$8:G93,4,FALSE)","v":{"$error":"#N/A"}},{"$f":"VLOOKUP(H38,Results!$A$8:G93,7,FALSE)","v":{"$error":"#N/A"}},{"$f":"VLOOKUP(H38,$B$4:B38,1,FALSE)","v":{"$error":"#N/A"}}]
[null,{"$f":"Results!A42","v":0},{"$f":"Results!C42","v":0},{"$f":"Results!B42","v":0},{"$f":"Results!D42","v":0},{"$f":"Results!G42","v":""},"- vs -",{"$f":"VLOOKUP(B39,Results!$A$8:BF93,58,FALSE)","v":{"$error":"#N/A"}},{"$f":"VLOOKUP(H39,Results!A$8:G94,3,FALSE)","v":{"$error":"#N/A"}},{"$f":"VLOOKUP(H39,Results!$A$8:G94,2,FALSE)","v":{"$error":"#N/A"}},{"$f":"VLOOKUP(H39,Results!$A$8:G94,4,FALSE)","v":{"$error":"#N/A"}},{"$f":"VLOOKUP(H39,Results!$A$8:G94,7,FALSE)","v":{"$error":"#N/A"}},{"$f":"VLOOKUP(H39,$B$4:B39,1,FALSE)","v":{"$error":"#N/A"}}]
[null,{"$f":"Results!A43","v":0},{"$f":"Results!C43","v":0},{"$f":"Results!B43","v":0},{"$f":"Results!D43","v":0},{"$f":"Results!G43","v":""},"- vs -",{"$f":"VLOOKUP(B40,Results!$A$8:BF94,58,FALSE)","v":{"$error":"#N/A"}},{"$f":"VLOOKUP(H40,Results!A$8:G95,3,FALSE)","v":{"$error":"#N/A"}},{"$f":"VLOOKUP(H40,Results!$A$8:G95,2,FALSE)","v":{"$error":"#N/A"}},{"$f":"VLOOKUP(H40,Results!$A$8:G95,4,FALSE)","v":{"$error":"#N/A"}},{"$f":"VLOOKUP(H40,Results!$A$8:G95,7,FALSE)","v":{"$error":"#N/A"}},{"$f":"VLOOKUP(H40,$B$4:B40,1,FALSE)","v":{"$error":"#N/A"}}]
[null,{"$f":"Results!A44","v":0},{"$f":"Results!C44","v":0},{"$f":"Results!B44","v":0},{"$f":"Results!D44","v":0},{"$f":"Results!G44","v":""},"- vs -",{"$f":"VLOOKUP(B41,Results!$A$8:BF95,58,FALSE)","v":{"$error":"#N/A"}},{"$f":"VLOOKUP(H41,Results!A$8:G96,3,FALSE)","v":{"$error":"#N/A"}},{"$f":"VLOOKUP(H41,Results!$A$8:G96,2,FALSE)","v":{"$error":"#N/A"}},{"$f":"VLOOKUP(H41,Results!$A$8:G96,4,FALSE)","v":{"$error":"#N/A"}},{"$f":"VLOOKUP(H41,Results!$A$8:G96,7,FALSE)","v":{"$error":"#N/A"}},{"$f":"VLOOKUP(H41,$B$4:B41,1,FALSE)","v":{"$error":"#N/A"}}]
[null,{"$f":"Results!A45","v":0},{"$f":"Results!C45","v":0},{"$f":"Results!B45","v":0},{"$f":"Results!D45","v":0},{"$f":"Results!G45","v":""},"- vs -",{"$f":"VLOOKUP(B42,Results!$A$8:BF96,58,FALSE)","v":{"$error":"#N/A"}},{"$f":"VLOOKUP(H42,Results!A$8:G97,3,FALSE)","v":{"$error":"#N/A"}},{"$f":"VLOOKUP(H42,Results!$A$8:G97,2,FALSE)","v":{"$error":"#N/A"}},{"$f":"VLOOKUP(H42,Results!$A$8:G97,4,FALSE)","v":{"$error":"#N/A"}},{"$f":"VLOOKUP(H42,Results!$A$8:G97,7,FALSE)","v":{"$error":"#N/A"}},{"$f":"VLOOKUP(H42,$B$4:B42,1,FALSE)","v":{"$error":"#N/A"}}]
[null,{"$f":"Results!A46","v":0},{"$f":"Results!C46","v":0},{"$f":"Results!B46","v":0},{"$f":"Results!D46","v":0},{"$f":"Results!G46","v":""},"- vs -",{"$f":"VLOOKUP(B43,Results!$A$8:BF97,58,FALSE)","v":{"$error":"#N/A"}},{"$f":"VLOOKUP(H43,Results!A$8:G98,3,FALSE)","v":{"$error":"#N/A"}},{"$f":"VLOOKUP(H43,Results!$A$8:G98,2,FALSE)","v":{"$error":"#N/A"}},{"$f":"VLOOKUP(H43,Results!$A$8:G98,4,FALSE)","v":{"$error":"#N/A"}},{"$f":"VLOOKUP(H43,Results!$A$8:G98,7,FALSE)","v":{"$error":"#N/A"}},{"$f":"VLOOKUP(H43,$B$4:B43,1,FALSE)","v":{"$error":"#N/A"}}]
[null,{"$f":"Results!A47","v":0},{"$f":"Results!C47","v":0},{"$f":"Results!B47","v":0},{"$f":"Results!D47","v":0},{"$f":"Results!G47","v":""},"- vs -",{"$f":"VLOOKUP(B44,Results!$A$8:BF98,58,FALSE)","v":{"$error":"#N/A"}},{"$f":"VLOOKUP(H44,Results!A$8:G99,3,FALSE)","v":{"$error":"#N/A"}},{"$f":"VLOOKUP(H44,Results!$A$8:G99,2,FALSE)","v":{"$error":"#N/A"}},{"$f":"VLOOKUP(H44,Results!$A$8:G99,4,FALSE)","v":{"$error":"#N/A"}},{"$f":"VLOOKUP(H44,Results!$A$8:G99,7,FALSE)","v":{"$error":"#N/A"}},{"$f":"VLOOKUP(H44,$B$4:B44,1,FALSE)","v":{"$error":"#N/A"}}]
[null,{"$f":"Results!A48","v":0},{"$f":"Results!C48","v":0},{"$f":"Results!B48","v":0},{"$f":"Results!D48","v":0},{"$f":"Results!G48","v":""},"- vs -",{"$f":"VLOOKUP(B45,Results!$A$8:BF99,58,FALSE)","v":{"$error":"#N/A"}},{"$f":"VLOOKUP(H45,Results!A$8:G100,3,FALSE)","v":{"$error":"#N/A"}},{"$f":"VLOOKUP(H45,Results!$A$8:G100,2,FALSE)","v":{"$error":"#N/A"}},{"$f":"VLOOKUP(H45,Results!$A$8:G100,4,FALSE)","v":{"$error":"#N/A"}},{"$f":"VLOOKUP(H45,Results!$A$8:G100,7,FALSE)","v":{"$error":"#N/A"}},{"$f":"VLOOKUP(H45,$B$4:B45,1,FALSE)","v":{"$error":"#N/A"}}]
[null,{"$f":"Results!A49","v":0},{"$f":"Results!C49","v":0},{"$f":"Results!B49","v":0},{"$f":"Results!D49","v":0},{"$f":"Results!G49","v":""},"- vs -",{"$f":"VLOOKUP(B46,Results!$A$8:BF100,58,FALSE)","v":{"$error":"#N/A"}},{"$f":"VLOOKUP(H46,Results!A$8:G101,3,FALSE)","v":{"$error":"#N/A"}},{"$f":"VLOOKUP(H46,Results!$A$8:G101,2,FALSE)","v":{"$error":"#N/A"}},{"$f":"VLOOKUP(H46,Results!$A$8:G101,4,FALSE)","v":{"$error":"#N/A"}},{"$f":"VLOOKUP(H46,Results!$A$8:G101,7,FALSE)","v":{"$error":"#N/A"}},{"$f":"VLOOKUP(H46,$B$4:B46,1,FALSE)","v":{"$error":"#N/A"}}]
[null,{"$f":"Results!A50","v":0},{"$f":"Results!C50","v":0},{"$f":"Results!B50","v":0},{"$f":"Results!D50","v":0},{"$f":"Results!G50","v":""},"- vs -",{"$f":"VLOOKUP(B47,Results!$A$8:BF101,58,FALSE)","v":{"$error":"#N/A"}},{"$f":"VLOOKUP(H47,Results!A$8:G102,3,FALSE)","v":{"$error":"#N/A"}},{"$f":"VLOOKUP(H47,Results!$A$8:G102,2,FALSE)","v":{"$error":"#N/A"}},{"$f":"VLOOKUP(H47,Results!$A$8:G102,4,FALSE)","v":{"$error":"#N/A"}},{"$f":"VLOOKUP(H47,Results!$A$8:G102,7,FALSE)","v":{"$error":"#N/A"}},{"$f":"VLOOKUP(H47,$B$4:B47,1,FALSE)","v":{"$error":"#N/A"}}]
[null,{"$f":"Results!A51","v":0},{"$f":"Results!C51","v":0},{"$f":"Results!B51","v":0},{"$f":"Results!D51","v":0},{"$f":"Results!G51","v":""},"- vs -",{"$f":"VLOOKUP(B48,Results!$A$8:BF102,58,FALSE)","v":{"$error":"#N/A"}},{"$f":"VLOOKUP(H48,Results!A$8:G103,3,FALSE)","v":{"$error":"#N/A"}},{"$f":"VLOOKUP(H48,Results!$A$8:G103,2,FALSE)","v":{"$error":"#N/A"}},{"$f":"VLOOKUP(H48,Results!$A$8:G103,4,FALSE)","v":{"$error":"#N/A"}},{"$f":"VLOOKUP(H48,Results!$A$8:G103,7,FALSE)","v":{"$error":"#N/A"}},{"$f":"VLOOKUP(H48,$B$4:B48,1,FALSE)","v":{"$error":"#N/A"}}]
[null,{"$f":"Results!A52","v":0},{"$f":"Results!C52","v":0},{"$f":"Results!B52","v":0},{"$f":"Results!D52","v":0},{"$f":"Results!G52","v":""},"- vs -",{"$f":"VLOOKUP(B49,Results!$A$8:BF103,58,FALSE)","v":{"$error":"#N/A"}},{"$f":"VLOOKUP(H49,Results!A$8:G104,3,FALSE)","v":{"$error":"#N/A"}},{"$f":"VLOOKUP(H49,Results!$A$8:G104,2,FALSE)","v":{"$error":"#N/A"}},{"$f":"VLOOKUP(H49,Results!$A$8:G104,4,FALSE)","v":{"$error":"#N/A"}},{"$f":"VLOOKUP(H49,Results!$A$8:G104,7,FALSE)","v":{"$error":"#N/A"}},{"$f":"VLOOKUP(H49,$B$4:B49,1,FALSE)","v":{"$error":"#N/A"}}]
[null,{"$f":"Results!A53","v":0},{"$f":"Results!C53","v":0},{"$f":"Results!B53","v":0},{"$f":"Results!D53","v":0},{"$f":"Results!G53","v":""},"- vs -",{"$f":"VLOOKUP(B50,Results!$A$8:BF104,58,FALSE)","v":{"$error":"#N/A"}},{"$f":"VLOOKUP(H50,Results!A$8:G105,3,FALSE)","v":{"$error":"#N/A"}},{"$f":"VLOOKUP(H50,Results!$A$8:G105,2,FALSE)","v":{"$error":"#N/A"}},{"$f":"VLOOKUP(H50,Results!$A$8:G105,4,FALSE)","v":{"$error":"#N/A"}},{"$f":"VLOOKUP(H50,Results!$A$8:G105,7,FALSE)","v":{"$error":"#N/A"}},{"$f":"VLOOKUP(H50,$B$4:B50,1,FALSE)","v":{"$error":"#N/A"}}]
[null,{"$f":"Results!A54","v":0},{"$f":"Results!C54","v":0},{"$f":"Results!B54","v":0},{"$f":"Results!D54","v":0},{"$f":"Results!G54","v":""},"- vs -",{"$f":"VLOOKUP(B51,Results!$A$8:BF105,58,FALSE)","v":{"$error":"#N/A"}},{"$f":"VLOOKUP(H51,Results!A$8:G106,3,FALSE)","v":{"$error":"#N/A"}},{"$f":"VLOOKUP(H51,Results!$A$8:G106,2,FALSE)","v":{"$error":"#N/A"}},{"$f":"VLOOKUP(H51,Results!$A$8:G106,4,FALSE)","v":{"$error":"#N/A"}},{"$f":"VLOOKUP(H51,Results!$A$8:G106,7,FALSE)","v":{"$error":"#N/A"}},{"$f":"VLOOKUP(H51,$B$4:B51,1,FALSE)","v":{"$error":"#N/A"}}]
[null,{"$f":"Results!A55","v":0},{"$f":"Results!C55","v":0},{"$f":"Results!B55","v":0},{"$f":"Results!D55","v":0},{"$f":"Results!G55","v":""},"- vs -",{"$f":"VLOOKUP(B52,Results!$A$8:BF106,58,FALSE)","v":{"$error":"#N/A"}},{"$f":"VLOOKUP(H52,Results!A$8:G107,3,FALSE)","v":{"$error":"#N/A"}},{"$f":"VLOOKUP(H52,Results!$A$8:G107,2,FALSE)","v":{"$error":"#N/A"}},{"$f":"VLOOKUP(H52,Results!$A$8:G107,4,FALSE)","v":{"$error":"#N/A"}},{"$f":"VLOOKUP(H52,Results!$A$8:G107,7,FALSE)","v":{"$error":"#N/A"}},{"$f":"VLOOKUP(H52,$B$4:B52,1,FALSE)","v":{"$error":"#N/A"}}]
[null,{"$f":"Results!A56","v":0},{"$f":"Results!C56","v":0},{"$f":"Results!B56","v":0},{"$f":"Results!D56","v":0},{"$f":"Results!G56","v":""},"- vs -",{"$f":"VLOOKUP(B53,Results!$A$8:BF107,58,FALSE)","v":{"$error":"#N/A"}},{"$f":"VLOOKUP(H53,Results!A$8:G108,3,FALSE)","v":{"$error":"#N/A"}},{"$f":"VLOOKUP(H53,Results!$A$8:G108,2,FALSE)","v":{"$error":"#N/A"}},{"$f":"VLOOKUP(H53,Results!$A$8:G108,4,FALSE)","v":{"$error":"#N/A"}},{"$f":"VLOOKUP(H53,Results!$A$8:G108,7,FALSE)","v":{"$error":"#N/A"}},{"$f":"VLOOKUP(H53,$B$4:B53,1,FALSE)","v":{"$error":"#N/A"}}]
[null,{"$f":"Results!A57","v":0},{"$f":"Results!C57","v":0},{"$f":"Results!B57","v":0},{"$f":"Results!D57","v":0},{"$f":"Results!G57","v":""},"- vs -",{"$f":"VLOOKUP(B54,Results!$A$8:BF108,58,FALSE)","v":{"$error":"#N/A"}},{"$f":"VLOOKUP(H54,Results!A$8:G109,3,FALSE)","v":{"$error":"#N/A"}},{"$f":"VLOOKUP(H54,Results!$A$8:G109,2,FALSE)","v":{"$error":"#N/A"}},{"$f":"VLOOKUP(H54,Results!$A$8:G109,4,FALSE)","v":{"$error":"#N/A"}},{"$f":"VLOOKUP(H54,Results!$A$8:G109,7,FALSE)","v":{"$error":"#N/A"}},{"$f":"VLOOKUP(H54,$B$4:B54,1,FALSE)","v":{"$error":"#N/A"}}]
[null,{"$f":"Results!A58","v":0},{"$f":"Results!C58","v":0},{"$f":"Results!B58","v":0},{"$f":"Results!D58","v":0},{"$f":"Results!G58","v":""},"- vs -",{"$f":"VLOOKUP(B55,Results!$A$8:BF109,58,FALSE)","v":{"$error":"#N/A"}},{"$f":"VLOOKUP(H55,Results!A$8:G110,3,FALSE)","v":{"$error":"#N/A"}},{"$f":"VLOOKUP(H55,Results!$A$8:G110,2,FALSE)","v":{"$error":"#N/A"}},{"$f":"VLOOKUP(H55,Results!$A$8:G110,4,FALSE)","v":{"$error":"#N/A"}},{"$f":"VLOOKUP(H55,Results!$A$8:G110,7,FALSE)","v":{"$error":"#N/A"}},{"$f":"VLOOKUP(H55,$B$4:B55,1,FALSE)","v":{"$error":"#N/A"}}]
[null,{"$f":"Results!A59","v":0},{"$f":"Results!C59","v":0},{"$f":"Results!B59","v":0},{"$f":"Results!D59","v":0},{"$f":"Results!G59","v":""},"- vs -",{"$f":"VLOOKUP(B56,Results!$A$8:BF110,58,FALSE)","v":{"$error":"#N/A"}},{"$f":"VLOOKUP(H56,Results!A$8:G111,3,FALSE)","v":{"$error":"#N/A"}},{"$f":"VLOOKUP(H56,Results!$A$8:G111,2,FALSE)","v":{"$error":"#N/A"}},{"$f":"VLOOKUP(H56,Results!$A$8:G111,4,FALSE)","v":{"$error":"#N/A"}},{"$f":"VLOOKUP(H56,Results!$A$8:G111,7,FALSE)","v":{"$error":"#N/A"}},{"$f":"VLOOKUP(H56,$B$4:B56,1,FALSE)","v":{"$error":"#N/A"}}]
[null,{"$f":"Results!A60","v":0},{"$f":"Results!C60","v":0},{"$f":"Results!B60","v":0},{"$f":"Results!D60","v":0},{"$f":"Results!G60","v":""},"- vs -",{"$f":"VLOOKUP(B57,Results!$A$8:BF111,58,FALSE)","v":{"$error":"#N/A"}},{"$f":"VLOOKUP(H57,Results!A$8:G112,3,FALSE)","v":{"$error":"#N/A"}},{"$f":"VLOOKUP(H57,Results!$A$8:G112,2,FALSE)","v":{"$error":"#N/A"}},{"$f":"VLOOKUP(H57,Results!$A$8:G112,4,FALSE)","v":{"$error":"#N/A"}},{"$f":"VLOOKUP(H57,Results!$A$8:G112,7,FALSE)","v":{"$error":"#N/A"}},{"$f":"VLOOKUP(H57,$B$4:B57,1,FALSE)","v":{"$error":"#N/A"}}]
[null,{"$f":"Results!A61","v":0},{"$f":"Results!C61","v":0},{"$f":"Results!B61","v":0},{"$f":"Results!D61","v":0},{"$f":"Results!G61","v":0},"- vs -",{"$f":"VLOOKUP(B58,Results!$A$8:BF112,58,FALSE)","v":{"$error":"#N/A"}},{"$f":"VLOOKUP(H58,Results!A$8:G113,3,FALSE)","v":{"$error":"#N/A"}},{"$f":"VLOOKUP(H58,Results!$A$8:G113,2,FALSE)","v":{"$error":"#N/A"}},{"$f":"VLOOKUP(H58,Results!$A$8:G113,4,FALSE)","v":{"$error":"#N/A"}},{"$f":"VLOOKUP(H58,Results!$A$8:G113,7,FALSE)","v":{"$error":"#N/A"}},{"$f":"VLOOKUP(H58,$B$4:B58,1,FALSE)","v":{"$error":"#N/A"}}]
[null,{"$f":"Results!A62","v":0},{"$f":"Results!C62","v":0},{"$f":"Results!B62","v":0},{"$f":"Results!D62","v":0},{"$f":"Results!G62","v":0},"- vs -",{"$f":"VLOOKUP(B59,Results!$A$8:BF113,58,FALSE)","v":{"$error":"#N/A"}},{"$f":"VLOOKUP(H59,Results!A$8:G114,3,FALSE)","v":{"$error":"#N/A"}},{"$f":"VLOOKUP(H59,Results!$A$8:G114,2,FALSE)","v":{"$error":"#N/A"}},{"$f":"VLOOKUP(H59,Results!$A$8:G114,4,FALSE)","v":{"$error":"#N/A"}},{"$f":"VLOOKUP(H59,Results!$A$8:G114,7,FALSE)","v":{"$error":"#N/A"}},{"$f":"VLOOKUP(H59,$B$4:B59,1,FALSE)","v":{"$error":"#N/A"}}]
[null,{"$f":"Results!A63","v":0},{"$f":"Results!C63","v":0},{"$f":"Results!B63","v":0},{"$f":"Results!D63","v":0},{"$f":"Results!G63","v":0},"- vs -",{"$f":"VLOOKUP(B60,Results!$A$8:BF114,58,FALSE)","v":{"$error":"#N/A"}},{"$f":"VLOOKUP(H60,Results!A$8:G115,3,FALSE)","v":{"$error":"#N/A"}},{"$f":"VLOOKUP(H60,Results!$A$8:G115,2,FALSE)","v":{"$error":"#N/A"}},{"$f":"VLOOKUP(H60,Results!$A$8:G115,4,FALSE)","v":{"$error":"#N/A"}},{"$f":"VLOOKUP(H60,Results!$A$8:G115,7,FALSE)","v":{"$error":"#N/A"}},{"$f":"VLOOKUP(H60,$B$4:B60,1,FALSE)","v":{"$error":"#N/A"}}]
[null,{"$f":"Results!A64","v":0},{"$f":"Results!C64","v":0},{"$f":"Results!B64","v":0},{"$f":"Results!D64","v":0},{"$f":"Results!G64","v":0},"- vs -",{"$f":"VLOOKUP(B61,Results!$A$8:BF115,58,FALSE)","v":{"$error":"#N/A"}},{"$f":"VLOOKUP(H61,Results!A$8:G116,3,FALSE)","v":{"$error":"#N/A"}},{"$f":"VLOOKUP(H61,Results!$A$8:G116,2,FALSE)","v":{"$error":"#N/A"}},{"$f":"VLOOKUP(H61,Results!$A$8:G116,4,FALSE)","v":{"$error":"#N/A"}},{"$f":"VLOOKUP(H61,Results!$A$8:G116,7,FALSE)","v":{"$error":"#N/A"}},{"$f":"VLOOKUP(H61,$B$4:B61,1,FALSE)","v":{"$error":"#N/A"}}]
[null,{"$f":"Results!A65","v":0},{"$f":"Results!C65","v":0},{"$f":"Results!B65","v":0},{"$f":"Results!D65","v":0},{"$f":"Results!G65","v":0},"- vs -",{"$f":"VLOOKUP(B62,Results!$A$8:BF116,58,FALSE)","v":{"$error":"#N/A"}},{"$f":"VLOOKUP(H62,Results!A$8:G117,3,FALSE)","v":{"$error":"#N/A"}},{"$f":"VLOOKUP(H62,Results!$A$8:G117,2,FALSE)","v":{"$error":"#N/A"}},{"$f":"VLOOKUP(H62,Results!$A$8:G117,4,FALSE)","v":{"$error":"#N/A"}},{"$f":"VLOOKUP(H62,Results!$A$8:G117,7,FALSE)","v":{"$error":"#N/A"}},{"$f":"VLOOKUP(H62,$B$4:B62,1,FALSE)","v":{"$error":"#N/A"}}]
[null,{"$f":"Results!A66","v":0},{"$f":"Results!C66","v":0},{"$f":"Results!B66","v":0},{"$f":"Results!D66","v":0},{"$f":"Results!G66","v":0},"- vs -",{"$f":"VLOOKUP(B63,Results!$A$8:BF117,58,FALSE)","v":{"$error":"#N/A"}},{"$f":"VLOOKUP(H63,Results!A$8:G118,3,FALSE)","v":{"$error":"#N/A"}},{"$f":"VLOOKUP(H63,Results!$A$8:G118,2,FALSE)","v":{"$error":"#N/A"}},{"$f":"VLOOKUP(H63,Results!$A$8:G118,4,FALSE)","v":{"$error":"#N/A"}},{"$f":"VLOOKUP(H63,Results!$A$8:G118,7,FALSE)","v":{"$error":"#N/A"}},{"$f":"VLOOKUP(H63,$B$4:B63,1,FALSE)","v":{"$error":"#N/A"}}]

{"sheet":"Standings","index":17,"n_rows":56,"n_cols":15,"rows_kept":56,"cut":false,"hidden":false,"merged":[[2,8,2,9],[2,11,2,13],[2,1,2,4]]}
[]
[]
[null,{"$f":"Results!B3","v":0},null,null,null,null,{"$f":"Results!E3","v":"00:00:00"},null,{"$f":"Results!B4","v":"Open Theme"},null,null,"Final Standings"]
[]
[null,"Position","Name",null,"Club","Points","Army","Round 1","Round 2","Round 3","Round 4","Round 5","Round 6","Round 7","Round 8"]
[null,1,{"$f":"Results!C8","v":0},{"$f":"Results!B8","v":0},{"$f":"Results!D8","v":0},{"$f":"Results!E8","v":0},{"$f":"Results!G8","v":""},{"$f":"Results!L8","v":0},{"$f":"Results!S8","v":0},{"$f":"Results!Z8","v":0},{"$f":"Results!AG8","v":0},{"$f":"Results!AN8","v":0},{"$f":"Results!AU8","v":0},{"$f":"Results!BB8","v":0},{"$f":"Results!BI8","v":0}]
[null,{"$f":"IF(F7>0,B6+1,\"\")","v":""},{"$f":"Results!C9","v":0},{"$f":"Results!B9","v":0},{"$f":"Results!D9","v":0},{"$f":"Results!E9","v":0},{"$f":"Results!G9","v":""},{"$f":"Results!L9","v":0},{"$f":"Results!S9","v":0},{"$f":"Results!Z9","v":0},{"$f":"Results!AG9","v":0},{"$f":"Results!AN9","v":0},{"$f":"Results!AU9","v":0},{"$f":"Results!BB9","v":0},{"$f":"Results!BI9","v":0}]
[null,{"$f":"IF(F8>0,B7+1,\"\")","v":""},{"$f":"Results!C10","v":0},{"$f":"Results!B10","v":0},{"$f":"Results!D10","v":0},{"$f":"Results!E10","v":0},{"$f":"Results!G10","v":""},{"$f":"Results!L10","v":0},{"$f":"Results!S10","v":0},{"$f":"Results!Z10","v":0},{"$f":"Results!AG10","v":0},{"$f":"Results!AN10","v":0},{"$f":"Results!AU10","v":0},{"$f":"Results!BB10","v":0},{"$f":"Results!BI10","v":0}]
[null,"",{"$f":"Results!C11","v":0},{"$f":"Results!B11","v":0},{"$f":"Results!D11","v":0},{"$f":"Results!E11","v":0},{"$f":"Results!G11","v":""},{"$f":"Results!L11","v":0},{"$f":"Results!S11","v":0},{"$f":"Results!Z11","v":0},{"$f":"Results!AG11","v":0},{"$f":"Results!AN11","v":0},{"$f":"Results!AU11","v":0},{"$f":"Results!BB11","v":0},{"$f":"Results!BI11","v":0}]
[null,"",{"$f":"Results!C12","v":0},{"$f":"Results!B12","v":0},{"$f":"Results!D12","v":0},{"$f":"Results!E12","v":0},{"$f":"Results!G12","v":""},{"$f":"Results!L12","v":0},{"$f":"Results!S12","v":0},{"$f":"Results!Z12","v":0},{"$f":"Results!AG12","v":0},{"$f":"Results!AN12","v":0},{"$f":"Results!AU12","v":0},{"$f":"Results!BB12","v":0},{"$f":"Results!BI12","v":0}]
[null,"",{"$f":"Results!C13","v":0},{"$f":"Results!B13","v":0},{"$f":"Results!D13","v":0},{"$f":"Results!E13","v":0},{"$f":"Results!G13","v":""},{"$f":"Results!L13","v":0},{"$f":"Results!S13","v":0},{"$f":"Results!Z13","v":0},{"$f":"Results!AG13","v":0},{"$f":"Results!AN13","v":0},{"$f":"Results!AU13","v":0},{"$f":"Results!BB13","v":0},{"$f":"Results!BI13","v":0}]
[null,"",{"$f":"Results!C14","v":0},{"$f":"Results!B14","v":0},{"$f":"Results!D14","v":0},{"$f":"Results!E14","v":0},{"$f":"Results!G14","v":""},{"$f":"Results!L14","v":0},{"$f":"Results!S14","v":0},{"$f":"Results!Z14","v":0},{"$f":"Results!AG14","v":0},{"$f":"Results!AN14","v":0},{"$f":"Results!AU14","v":0},{"$f":"Results!BB14","v":0},{"$f":"Results!BI14","v":0}]
[null,"",{"$f":"Results!C15","v":0},{"$f":"Results!B15","v":0},{"$f":"Results!D15","v":0},{"$f":"Results!E15","v":0},{"$f":"Results!G15","v":""},{"$f":"Results!L15","v":0},{"$f":"Results!S15","v":0},{"$f":"Results!Z15","v":0},{"$f":"Results!AG15","v":0},{"$f":"Results!AN15","v":0},{"$f":"Results!AU15","v":0},{"$f":"Results!BB15","v":0},{"$f":"Results!BI15","v":0}]
[null,"",{"$f":"Results!C16","v":0},{"$f":"Results!B16","v":0},{"$f":"Results!D16","v":0},{"$f":"Results!E16","v":0},{"$f":"Results!G16","v":""},{"$f":"Results!L16","v":0},{"$f":"Results!S16","v":0},{"$f":"Results!Z16","v":0},{"$f":"Results!AG16","v":0},{"$f":"Results!AN16","v":0},{"$f":"Results!AU16","v":0},{"$f":"Results!BB16","v":0},{"$f":"Results!BI16","v":0}]
[null,"",{"$f":"Results!C17","v":0},{"$f":"Results!B17","v":0},{"$f":"Results!D17","v":0},{"$f":"Results!E17","v":0},{"$f":"Results!G17","v":""},{"$f":"Results!L17","v":0},{"$f":"Results!S17","v":0},{"$f":"Results!Z17","v":0},{"$f":"Results!AG17","v":0},{"$f":"Results!AN17","v":0},{"$f":"Results!AU17","v":0},{"$f":"Results!BB17","v":0},{"$f":"Results!BI17","v":0}]
[null,"",{"$f":"Results!C18","v":0},{"$f":"Results!B18","v":0},{"$f":"Results!D18","v":0},{"$f":"Results!E18","v":0},{"$f":"Results!G18","v":""},{"$f":"Results!L18","v":0},{"$f":"Results!S18","v":0},{"$f":"Results!Z18","v":0},{"$f":"Results!AG18","v":0},{"$f":"Results!AN18","v":0},{"$f":"Results!AU18","v":0},{"$f":"Results!BB18","v":0},{"$f":"Results!BI18","v":0}]
[null,"",{"$f":"Results!C19","v":0},{"$f":"Results!B19","v":0},{"$f":"Results!D19","v":0},{"$f":"Results!E19","v":0},{"$f":"Results!G19","v":""},{"$f":"Results!L19","v":0},{"$f":"Results!S19","v":0},{"$f":"Results!Z19","v":0},{"$f":"Results!AG19","v":0},{"$f":"Results!AN19","v":0},{"$f":"Results!AU19","v":0},{"$f":"Results!BB19","v":0},{"$f":"Results!BI19","v":0}]
[null,"",{"$f":"Results!C20","v":0},{"$f":"Results!B20","v":0},{"$f":"Results!D20","v":0},{"$f":"Results!E20","v":0},{"$f":"Results!G20","v":""},{"$f":"Results!L20","v":0},{"$f":"Results!S20","v":0},{"$f":"Results!Z20","v":0},{"$f":"Results!AG20","v":0},{"$f":"Results!AN20","v":0},{"$f":"Results!AU20","v":0},{"$f":"Results!BB20","v":0},{"$f":"Results!BI20","v":0}]
[null,"",{"$f":"Results!C21","v":0},{"$f":"Results!B21","v":0},{"$f":"Results!D21","v":0},{"$f":"Results!E21","v":0},{"$f":"Results!G21","v":""},{"$f":"Results!L21","v":0},{"$f":"Results!S21","v":0},{"$f":"Results!Z21","v":0},{"$f":"Results!AG21","v":0},{"$f":"Results!AN21","v":0},{"$f":"Results!AU21","v":0},{"$f":"Results!BB21","v":0},{"$f":"Results!BI21","v":0}]
[null,"",{"$f":"Results!C22","v":0},{"$f":"Results!B22","v":0},{"$f":"Results!D22","v":0},{"$f":"Results!E22","v":0},{"$f":"Results!G22","v":""},{"$f":"Results!L22","v":0},{"$f":"Results!S22","v":0},{"$f":"Results!Z22","v":0},{"$f":"Results!AG22","v":0},{"$f":"Results!AN22","v":0},{"$f":"Results!AU22","v":0},{"$f":"Results!BB22","v":0},{"$f":"Results!BI22","v":0}]
[null,"",{"$f":"Results!C23","v":0},{"$f":"Results!B23","v":0},{"$f":"Results!D23","v":0},{"$f":"Results!E23","v":0},{"$f":"Results!G23","v":""},{"$f":"Results!L23","v":0},{"$f":"Results!S23","v":0},{"$f":"Results!Z23","v":0},{"$f":"Results!AG23","v":0},{"$f":"Results!AN23","v":0},{"$f":"Results!AU23","v":0},{"$f":"Results!BB23","v":0},{"$f":"Results!BI23","v":0}]
[null,"",{"$f":"Results!C24","v":0},{"$f":"Results!B24","v":0},{"$f":"Results!D24","v":0},{"$f":"Results!E24","v":0},{"$f":"Results!G24","v":""},{"$f":"Results!L24","v":0},{"$f":"Results!S24","v":0},{"$f":"Results!Z24","v":0},{"$f":"Results!AG24","v":0},{"$f":"Results!AN24","v":0},{"$f":"Results!AU24","v":0},{"$f":"Results!BB24","v":0},{"$f":"Results!BI24","v":0}]
[null,"",{"$f":"Results!C25","v":0},{"$f":"Results!B25","v":0},{"$f":"Results!D25","v":0},{"$f":"Results!E25","v":0},{"$f":"Results!G25","v":""},{"$f":"Results!L25","v":0},{"$f":"Results!S25","v":0},{"$f":"Results!Z25","v":0},{"$f":"Results!AG25","v":0},{"$f":"Results!AN25","v":0},{"$f":"Results!AU25","v":0},{"$f":"Results!BB25","v":0},{"$f":"Results!BI25","v":0}]
[null,"",{"$f":"Results!C26","v":0},{"$f":"Results!B26","v":0},{"$f":"Results!D26","v":0},{"$f":"Results!E26","v":0},{"$f":"Results!G26","v":""},{"$f":"Results!L26","v":0},{"$f":"Results!S26","v":0},{"$f":"Results!Z26","v":0},{"$f":"Results!AG26","v":0},{"$f":"Results!AN26","v":0},{"$f":"Results!AU26","v":0},{"$f":"Results!BB26","v":0},{"$f":"Results!BI26","v":0}]
[null,"",{"$f":"Results!C27","v":0},{"$f":"Results!B27","v":0},{"$f":"Results!D27","v":0},{"$f":"Results!E27","v":0},{"$f":"Results!G27","v":""},{"$f":"Results!L27","v":0},{"$f":"Results!S27","v":0},{"$f":"Results!Z27","v":0},{"$f":"Results!AG27","v":0},{"$f":"Results!AN27","v":0},{"$f":"Results!AU27","v":0},{"$f":"Results!BB27","v":0},{"$f":"Results!BI27","v":0}]
[null,"",{"$f":"Results!C28","v":0},{"$f":"Results!B28","v":0},{"$f":"Results!D28","v":0},{"$f":"Results!E28","v":0},{"$f":"Results!G28","v":""},{"$f":"Results!L28","v":0},{"$f":"Results!S28","v":0},{"$f":"Results!Z28","v":0},{"$f":"Results!AG28","v":0},{"$f":"Results!AN28","v":0},{"$f":"Results!AU28","v":0},{"$f":"Results!BB28","v":0},{"$f":"Results!BI28","v":0}]
[null,"",{"$f":"Results!C29","v":0},{"$f":"Results!B29","v":0},{"$f":"Results!D29","v":0},{"$f":"Results!E29","v":0},{"$f":"Results!G29","v":""},{"$f":"Results!L29","v":0},{"$f":"Results!S29","v":0},{"$f":"Results!Z29","v":0},{"$f":"Results!AG29","v":0},{"$f":"Results!AN29","v":0},{"$f":"Results!AU29","v":0},{"$f":"Results!BB29","v":0},{"$f":"Results!BI29","v":0}]
[null,"",{"$f":"Results!C30","v":0},{"$f":"Results!B30","v":0},{"$f":"Results!D30","v":0},{"$f":"Results!E30","v":0},{"$f":"Results!G30","v":""},{"$f":"Results!L30","v":0},{"$f":"Results!S30","v":0},{"$f":"Results!Z30","v":0},{"$f":"Results!AG30","v":0},{"$f":"Results!AN30","v":0},{"$f":"Results!AU30","v":0},{"$f":"Results!BB30","v":0},{"$f":"Results!BI30","v":0}]
[null,"",{"$f":"Results!C31","v":0},{"$f":"Results!B31","v":0},{"$f":"Results!D31","v":0},{"$f":"Results!E31","v":0},{"$f":"Results!G31","v":""},{"$f":"Results!L31","v":0},{"$f":"Results!S31","v":0},{"$f":"Results!Z31","v":0},{"$f":"Results!AG31","v":0},{"$f":"Results!AN31","v":0},{"$f":"Results!AU31","v":0},{"$f":"Results!BB31","v":0},{"$f":"Results!BI31","v":0}]
[null,"",{"$f":"Results!C32","v":0},{"$f":"Results!B32","v":0},{"$f":"Results!D32","v":0},{"$f":"Results!E32","v":0},{"$f":"Results!G32","v":""},{"$f":"Results!L32","v":0},{"$f":"Results!S32","v":0},{"$f":"Results!Z32","v":0},{"$f":"Results!AG32","v":0},{"$f":"Results!AN32","v":0},{"$f":"Results!AU32","v":0},{"$f":"Results!BB32","v":0},{"$f":"Results!BI32","v":0}]
[null,"",{"$f":"Results!C33","v":0},{"$f":"Results!B33","v":0},{"$f":"Results!D33","v":0},{"$f":"Results!E33","v":0},{"$f":"Results!G33","v":""},{"$f":"Results!L33","v":0},{"$f":"Results!S33","v":0},{"$f":"Results!Z33","v":0},{"$f":"Results!AG33","v":0},{"$f":"Results!AN33","v":0},{"$f":"Results!AU33","v":0},{"$f":"Results!BB33","v":0},{"$f":"Results!BI33","v":0}]
[null,"",{"$f":"Results!C34","v":0},{"$f":"Results!B34","v":0},{"$f":"Results!D34","v":0},{"$f":"Results!E34","v":0},{"$f":"Results!G34","v":""},{"$f":"Results!L34","v":0},{"$f":"Results!S34","v":0},{"$f":"Results!Z34","v":0},{"$f":"Results!AG34","v":0},{"$f":"Results!AN34","v":0},{"$f":"Results!AU34","v":0},{"$f":"Results!BB34","v":0},{"$f":"Results!BI34","v":0}]
[null,"",{"$f":"Results!C35","v":0},{"$f":"Results!B35","v":0},{"$f":"Results!D35","v":0},{"$f":"Results!E35","v":0},{"$f":"Results!G35","v":""},{"$f":"Results!L35","v":0},{"$f":"Results!S35","v":0},{"$f":"Results!Z35","v":0},{"$f":"Results!AG35","v":0},{"$f":"Results!AN35","v":0},{"$f":"Results!AU35","v":0},{"$f":"Results!BB35","v":0},{"$f":"Results!BI35","v":0}]
[null,"",{"$f":"Results!C36","v":0},{"$f":"Results!B36","v":0},{"$f":"Results!D36","v":0},{"$f":"Results!E36","v":0},{"$f":"Results!G36","v":""},{"$f":"Results!L36","v":0},{"$f":"Results!S36","v":0},{"$f":"Results!Z36","v":0},{"$f":"Results!AG36","v":0},{"$f":"Results!AN36","v":0},{"$f":"Results!AU36","v":0},{"$f":"Results!BB36","v":0},{"$f":"Results!BI36","v":0}]
[null,"",{"$f":"Results!C37","v":0},{"$f":"Results!B37","v":0},{"$f":"Results!D37","v":0},{"$f":"Results!E37","v":0},{"$f":"Results!G37","v":""},{"$f":"Results!L37","v":0},{"$f":"Results!S37","v":0},{"$f":"Results!Z37","v":0},{"$f":"Results!AG37","v":0},{"$f":"Results!AN37","v":0},{"$f":"Results!AU37","v":0},{"$f":"Results!BB37","v":0},{"$f":"Results!BI37","v":0}]
[null,"",{"$f":"Results!C38","v":0},{"$f":"Results!B38","v":0},{"$f":"Results!D38","v":0},{"$f":"Results!E38","v":0},{"$f":"Results!G38","v":""},{"$f":"Results!L38","v":0},{"$f":"Results!S38","v":0},{"$f":"Results!Z38","v":0},{"$f":"Results!AG38","v":0},{"$f":"Results!AN38","v":0},{"$f":"Results!AU38","v":0},{"$f":"Results!BB38","v":0},{"$f":"Results!BI38","v":0}]
[null,"",{"$f":"Results!C39","v":0},{"$f":"Results!B39","v":0},{"$f":"Results!D39","v":0},{"$f":"Results!E39","v":0},{"$f":"Results!G39","v":""},{"$f":"Results!L39","v":0},{"$f":"Results!S39","v":0},{"$f":"Results!Z39","v":0},{"$f":"Results!AG39","v":0},{"$f":"Results!AN39","v":0},{"$f":"Results!AU39","v":0},{"$f":"Results!BB39","v":0},{"$f":"Results!BI39","v":0}]
[null,"",{"$f":"Results!C40","v":0},{"$f":"Results!B40","v":0},{"$f":"Results!D40","v":0},{"$f":"Results!E40","v":0},{"$f":"Results!G40","v":""},{"$f":"Results!L40","v":0},{"$f":"Results!S40","v":0},{"$f":"Results!Z40","v":0},{"$f":"Results!AG40","v":0},{"$f":"Results!AN40","v":0},{"$f":"Results!AU40","v":0},{"$f":"Results!BB40","v":0},{"$f":"Results!BI40","v":0}]
[null,"",{"$f":"Results!C41","v":0},{"$f":"Results!B41","v":0},{"$f":"Results!D41","v":0},{"$f":"Results!E41","v":0},{"$f":"Results!G41","v":""},{"$f":"Results!L41","v":0},{"$f":"Results!S41","v":0},{"$f":"Results!Z41","v":0},{"$f":"Results!AG41","v":0},{"$f":"Results!AN41","v":0},{"$f":"Results!AU41","v":0},{"$f":"Results!BB41","v":0},{"$f":"Results!BI41","v":0}]
[null,"",{"$f":"Results!C42","v":0},{"$f":"Results!B42","v":0},{"$f":"Results!D42","v":0},{"$f":"Results!E42","v":0},{"$f":"Results!G42","v":""},{"$f":"Results!L42","v":0},{"$f":"Results!S42","v":0},{"$f":"Results!Z42","v":0},{"$f":"Results!AG42","v":0},{"$f":"Results!AN42","v":0},{"$f":"Results!AU42","v":0},{"$f":"Results!BB42","v":0},{"$f":"Results!BI42","v":0}]
[null,"",{"$f":"Results!C43","v":0},{"$f":"Results!B43","v":0},{"$f":"Results!D43","v":0},{"$f":"Results!E43","v":0},{"$f":"Results!G43","v":""},{"$f":"Results!L43","v":0},{"$f":"Results!S43","v":0},{"$f":"Results!Z43","v":0},{"$f":"Results!AG43","v":0},{"$f":"Results!AN43","v":0},{"$f":"Results!AU43","v":0},{"$f":"Results!BB43","v":0},{"$f":"Results!BI43","v":0}]
[null,"",{"$f":"Results!C44","v":0},{"$f":"Results!B44","v":0},{"$f":"Results!D44","v":0},{"$f":"Results!E44","v":0},{"$f":"Results!G44","v":""},{"$f":"Results!L44","v":0},{"$f":"Results!S44","v":0},{"$f":"Results!Z44","v":0},{"$f":"Results!AG44","v":0},{"$f":"Results!AN44","v":0},{"$f":"Results!AU44","v":0},{"$f":"Results!BB44","v":0},{"$f":"Results!BI44","v":0}]
[null,"",{"$f":"Results!C45","v":0},{"$f":"Results!B45","v":0},{"$f":"Results!D45","v":0},{"$f":"Results!E45","v":0},{"$f":"Results!G45","v":""},{"$f":"Results!L45","v":0},{"$f":"Results!S45","v":0},{"$f":"Results!Z45","v":0},{"$f":"Results!AG45","v":0},{"$f":"Results!AN45","v":0},{"$f":"Results!AU45","v":0},{"$f":"Results!BB45","v":0},{"$f":"Results!BI45","v":0}]
[null,"",{"$f":"Results!C46","v":0},{"$f":"Results!B46","v":0},{"$f":"Results!D46","v":0},{"$f":"Results!E46","v":0},{"$f":"Results!G46","v":""},{"$f":"Results!L46","v":0},{"$f":"Results!S46","v":0},{"$f":"Results!Z46","v":0},{"$f":"Results!AG46","v":0},{"$f":"Results!AN46","v":0},{"$f":"Results!AU46","v":0},{"$f":"Results!BB46","v":0},{"$f":"Results!BI46","v":0}]
[null,"",{"$f":"Results!C47","v":0},{"$f":"Results!B47","v":0},{"$f":"Results!D47","v":0},{"$f":"Results!E47","v":0},{"$f":"Results!G47","v":""},{"$f":"Results!L47","v":0},{"$f":"Results!S47","v":0},{"$f":"Results!Z47","v":0},{"$f":"Results!AG47","v":0},{"$f":"Results!AN47","v":0},{"$f":"Results!AU47","v":0},{"$f":"Results!BB47","v":0},{"$f":"Results!BI47","v":0}]
[null,"",{"$f":"Results!C48","v":0},{"$f":"Results!B48","v":0},{"$f":"Results!D48","v":0},{"$f":"Results!E48","v":0},{"$f":"Results!G48","v":""},{"$f":"Results!L48","v":0},{"$f":"Results!S48","v":0},{"$f":"Results!Z48","v":0},{"$f":"Results!AG48","v":0},{"$f":"Results!AN48","v":0},{"$f":"Results!AU48","v":0},{"$f":"Results!BB48","v":0},{"$f":"Results!BI48","v":0}]
[null,"",{"$f":"Results!C49","v":0},{"$f":"Results!B49","v":0},{"$f":"Results!D49","v":0},{"$f":"Results!E49","v":0},{"$f":"Results!G49","v":""},{"$f":"Results!L49","v":0},{"$f":"Results!S49","v":0},{"$f":"Results!Z49","v":0},{"$f":"Results!AG49","v":0},{"$f":"Results!AN49","v":0},{"$f":"Results!AU49","v":0},{"$f":"Results!BB49","v":0},{"$f":"Results!BI49","v":0}]
[null,"",{"$f":"Results!C50","v":0},{"$f":"Results!B50","v":0},{"$f":"Results!D50","v":0},{"$f":"Results!E50","v":0},{"$f":"Results!G50","v":""},{"$f":"Results!L50","v":0},{"$f":"Results!S50","v":0},{"$f":"Results!Z50","v":0},{"$f":"Results!AG50","v":0},{"$f":"Results!AN50","v":0},{"$f":"Results!AU50","v":0},{"$f":"Results!BB50","v":0},{"$f":"Results!BI50","v":0}]
[null,"",{"$f":"Results!C51","v":0},{"$f":"Results!B51","v":0},{"$f":"Results!D51","v":0},{"$f":"Results!E51","v":0},{"$f":"Results!G51","v":""},{"$f":"Results!L51","v":0},{"$f":"Results!S51","v":0},{"$f":"Results!Z51","v":0},{"$f":"Results!AG51","v":0},{"$f":"Results!AN51","v":0},{"$f":"Results!AU51","v":0},{"$f":"Results!BB51","v":0},{"$f":"Results!BI51","v":0}]
[null,"",{"$f":"Results!C52","v":0},{"$f":"Results!B52","v":0},{"$f":"Results!D52","v":0},{"$f":"Results!E52","v":0},{"$f":"Results!G52","v":""},{"$f":"Results!L52","v":0},{"$f":"Results!S52","v":0},{"$f":"Results!Z52","v":0},{"$f":"Results!AG52","v":0},{"$f":"Results!AN52","v":0},{"$f":"Results!AU52","v":0},{"$f":"Results!BB52","v":0},{"$f":"Results!BI52","v":0}]
[null,"",{"$f":"Results!C53","v":0},{"$f":"Results!B53","v":0},{"$f":"Results!D53","v":0},{"$f":"Results!E53","v":0},{"$f":"Results!G53","v":""},{"$f":"Results!L53","v":0},{"$f":"Results!S53","v":0},{"$f":"Results!Z53","v":0},{"$f":"Results!AG53","v":0},{"$f":"Results!AN53","v":0},{"$f":"Results!AU53","v":0},{"$f":"Results!BB53","v":0},{"$f":"Results!BI53","v":0}]
[null,"",{"$f":"Results!C54","v":0},{"$f":"Results!B54","v":0},{"$f":"Results!D54","v":0},{"$f":"Results!E54","v":0},{"$f":"Results!G54","v":""},{"$f":"Results!L54","v":0},{"$f":"Results!S54","v":0},{"$f":"Results!Z54","v":0},{"$f":"Results!AG54","v":0},{"$f":"Results!AN54","v":0},{"$f":"Results!AU54","v":0},{"$f":"Results!BB54","v":0},{"$f":"Results!BI54","v":0}]
[null,"",{"$f":"Results!C55","v":0},{"$f":"Results!B55","v":0},{"$f":"Results!D55","v":0},{"$f":"Results!E55","v":0},{"$f":"Results!G55","v":""},{"$f":"Results!L55","v":0},{"$f":"Results!S55","v":0},{"$f":"Results!Z55","v":0},{"$f":"Results!AG55","v":0},{"$f":"Results!AN55","v":0},{"$f":"Results!AU55","v":0},{"$f":"Results!BB55","v":0},{"$f":"Results!BI55","v":0}]
[null,"",{"$f":"Results!C56","v":0},{"$f":"Results!B56","v":0},{"$f":"Results!D56","v":0},{"$f":"Results!E56","v":0},{"$f":"Results!G56","v":""},{"$f":"Results!L56","v":0},{"$f":"Results!S56","v":0},{"$f":"Results!Z56","v":0},{"$f":"Results!AG56","v":0},{"$f":"Results!AN56","v":0},{"$f":"Results!AU56","v":0},{"$f":"Results!BB56","v":0},{"$f":"Results!BI56","v":0}]
[null,"",{"$f":"Results!C57","v":0},{"$f":"Results!B57","v":0},{"$f":"Results!D57","v":0},{"$f":"Results!E57","v":0},{"$f":"Results!G57","v":""},{"$f":"Results!L57","v":0},{"$f":"Results!S57","v":0},{"$f":"Results!Z57","v":0},{"$f":"Results!AG57","v":0},{"$f":"Results!AN57","v":0},{"$f":"Results!AU57","v":0},{"$f":"Results!BB57","v":0},{"$f":"Results!BI57","v":0}]
[null,"",{"$f":"Results!C58","v":0},{"$f":"Results!B58","v":0},{"$f":"Results!D58","v":0},{"$f":"Results!E58","v":0},{"$f":"Results!G58","v":""},{"$f":"Results!L58","v":0},{"$f":"Results!S58","v":0},{"$f":"Results!Z58","v":0},{"$f":"Results!AG58","v":0},{"$f":"Results!AN58","v":0},{"$f":"Results!AU58","v":0},{"$f":"Results!AP58","v":0},{"$f":"Results!AQ58","v":0}]